Workbook

Sheet Kopsavilkums
A1: Sagatavots saskaņā ar Ukrainas civiliedzīvotāju atbalsta likumu | C1: PROF Kopsavilkums Janvāris-Jūnijs
C2: Pārskats par finansējuma pieprasījumu Ukrainas civiliedzīvotāju izglītības nodrošināšanai
A5: Nr.p.k. | B5: Rādītāja nosaukums | C5: Maksimālais iespējamais izdevumu kompensācijas apmērs, euro | D5: Pedagogu darba samaksas un papildus profesionālo izglītības iestāžu izmaksas uz vienu izglītojamo pārskata mēneša vienai dienai* | E5: Faktiskie izdevumi pārskata mēnesī**, euro
E6: Pavisam kopā | F6: Dibinātājs - Izglītības un zinātnes ministrija (IZM)
F7: Kopā IZM | G7: Daugavpis tehnoloģiju un tūrisma tehnikums | H7: Latgales Industriālais tehnikums | I7: Rīgas Valsts tehnikums
A8: Ukrainas civiliedzīvotāji, kuri uz 2023. gada 1. septembri (t.sk. citā izglītības iestādē) ir reģistrēti Valsts izglītības informācijas sistēmā ar apakšstatusu "Ukrainas civiliedzīvotājs"
A9: 1. | B9: Unikālais izglītojamo skaits pārskata mēnesī ar VIIS reģistrēto apakšstatusu "Ukrainas civiliedzīvotājs" | C9: x | D9: x | E9: =F9 -> 42 | F9: =SUM(G9:I9) -> 42 | G9: =Janvaris!G11+Februaris!G11+Marts!G11+Aprilis!G11+Maijs!G11+Junijs!G11 -> 6 | H9: =Janvaris!H11+Februaris!H11+Marts!H11+Aprilis!H11+Maijs!H11+Junijs!H11 -> 6 | I9: =Janvaris!I11+Februaris!I11+Marts!I11+Aprilis!I11+Maijs!I11+Junijs!I11 -> 30
A10: 2. | B10: Kopējais summētais darba dienu skaits pārskata mēnesī | C10: x | D10: x | E10: =F10 -> 867 | F10: =SUM(G10:I10) -> 867 | G10: =Janvaris!G12+Februaris!G12+Marts!G12+Aprilis!G12+Maijs!G12+Junijs!G12 -> 124 | H10: =Janvaris!H12+Februaris!H12+Marts!H12+Aprilis!H12+Maijs!H12+Junijs!H12 -> 124 | I10: =Janvaris!I12+Februaris!I12+Marts!I12+Aprilis!I12+Maijs!I12+Junijs!I12 -> 619
A11: 3. | B11: Pedagogu darba samaksa profesionālās izglītības iestādes | C11: =257/2 -> 128.5 | D11: x | E11: =F11 -> 2389 | F11: =SUM(G11:I11) -> 2389 | G11: =ROUNDUP(Janvaris!G13+Februaris!G13+Marts!G13+Aprilis!G13+Maijs!G13+Junijs!G13,0) -> 0 | H11: =ROUNDUP(Janvaris!H13+Februaris!H13+Marts!H13+Aprilis!H13+Maijs!H13+Junijs!H13,0) -> 322 | I11: =ROUNDUP(Janvaris!I13+Februaris!I13+Marts!I13+Aprilis!I13+Maijs!I13+Junijs!I13,0) -> 2067
A12: Ukrainas civiliedzīvotāji septembrī, kuri pēc 2023. gada 1. septembra ir reģistrēti Valsts izglītības informācijas sistēmā ar apakšstatusu "Ukrainas civiliedzīvotājs"
A13: 4. | B13: Unikālais izglītojamo skaits pārskata mēnesī ar VIIS reģistrēto apakšstatusu "Ukrainas civiliedzīvotājs" | C13: x | D13: x | E13: =F13 -> 0 | F13: =SUM(G13:I13) -> 0 | G13: =Janvaris!G15+Februaris!G15+Marts!G15+Aprilis!G15+Maijs!G15+Junijs!G15 -> 0 | H13: =Janvaris!H15+Februaris!H15+Marts!H15+Aprilis!H15+Maijs!H15+Junijs!H15 -> 0 | I13: =Janvaris!I15+Februaris!I15+Marts!I15+Aprilis!I15+Maijs!I15+Junijs!I15 -> 0
A14: 5. | B14: Pirmreizēji VIIS reģistrēto izglītojamo skaits pārskata mēnesī ar apakšstatusu "Ukrainas civiliedzīvotājs" | C14: x | D14: x | E14: =F14 -> 0 | F14: =SUM(G14:I14) -> 0 | G14: =Janvaris!G16+Februaris!G16+Marts!G16+Aprilis!G16+Maijs!G16+Junijs!G16 -> 0 | H14: =Janvaris!H16+Februaris!H16+Marts!H16+Aprilis!H16+Maijs!H16+Junijs!H16 -> 0 | I14: =Janvaris!I16+Februaris!I16+Marts!I16+Aprilis!I16+Maijs!I16+Junijs!I16 -> 0
A15: 6. | B15: Kopējais summētais kalendāro dienu skaits pārskata mēnesī | C15: x | D15: x | E15: =F15 -> 0 | F15: =SUM(G15:I15) -> 0 | G15: =Janvaris!G17+Februaris!G17+Marts!G17+Aprilis!G17+Maijs!G17+Junijs!G17 -> 0 | H15: =Janvaris!H17+Februaris!H17+Marts!H17+Aprilis!H17+Maijs!H17+Junijs!H17 -> 0 | I15: =Janvaris!I17+Februaris!I17+Marts!I17+Aprilis!I17+Maijs!I17+Junijs!I17 -> 0
A16: 7. | B16: Kopējais summētais darba dienu skaits pārskata mēnesī | C16: x | D16: x | E16: =F16 -> 0 | F16: =SUM(G16:I16) -> 0 | G16: =Janvaris!G18+Februaris!G18+Marts!G18+Aprilis!G18+Maijs!G18+Junijs!G18 -> 0 | H16: =Janvaris!H18+Februaris!H18+Marts!H18+Aprilis!H18+Maijs!H18+Junijs!H18 -> 0 | I16: =Janvaris!I18+Februaris!I18+Marts!I18+Aprilis!I18+Maijs!I18+Junijs!I18 -> 0
A17: 8. | B17: Pedagogu darba samaksa profesionālās izglītības iestādes | C17: 257 | D17: x | E17: =F17 -> 0 | F17: =SUM(G17:I17) -> 0 | G17: =ROUNDUP(Janvaris!G19+Februaris!G19+Marts!G19+Aprilis!G19+Maijs!G19+Junijs!G19,0) -> 0 | H17: =ROUNDUP(Janvaris!H19+Februaris!H19+Marts!H19+Aprilis!H19+Maijs!H19+Junijs!H19,0) -> 0 | I17: =ROUNDUP(Janvaris!I19+Februaris!I19+Marts!I19+Aprilis!I19+Maijs!I19+Junijs!I19,0) -> 0
A18: 9. | B18: Vienreizēja palīdzība mācību līdzekļu nodrošināšanai VIIS unikāli pirmreizēji reģistrētam izglītojamajam | C18: 50 | D18: x | E18: =F18 -> 0 | F18: =SUM(G18:I18) -> 0 | G18: =ROUNDUP(Janvaris!G20+Februaris!G20+Marts!G20+Aprilis!G20+Maijs!G20+Junijs!G20,0) -> 0 | H18: =ROUNDUP(Janvaris!H20+Februaris!H20+Marts!H20+Aprilis!H20+Maijs!H20+Junijs!H20,0) -> 0 | I18: =ROUNDUP(Janvaris!I20+Februaris!I20+Marts!I20+Aprilis!I20+Maijs!I20+Junijs!I20,0) -> 0
A19: 10. | B19: Stipendija (mēnesī) | C19: 15 | D19: x | E19: =F19 -> 0 | F19: =SUM(G19:I19) -> 0 | G19: =ROUNDUP(Janvaris!G21+Februaris!G21+Marts!G21+Aprilis!G21+Maijs!G21+Junijs!G21,0) -> 0 | H19: =ROUNDUP(Janvaris!H21+Februaris!H21+Marts!H21+Aprilis!H21+Maijs!H21+Junijs!H21,0) -> 0 | I19: =ROUNDUP(Janvaris!I21+Februaris!I21+Marts!I21+Aprilis!I21+Maijs!I21+Junijs!I21,0) -> 0
A20: 11. | B20: Uzturēšanas izmaksas (vidējās izmaksas uz vienu izglītojamo): | C20: =SUM(C21:C22) -> 184.4 | D20: x | E20: =F20 -> 0 | F20: =SUM(G20:I20) -> 0 | G20: =G21+G22 -> 0 | H20: =H21+H22 -> 0 | I20: =I21+I22 -> 0
A21: 11.1. | B21: Profesionālās vidējās izglītības programmas īstenošanai | C21: 76.08 | D21: x | E21: =F21 -> 0 | F21: =SUM(G21:I21) -> 0 | G21: =ROUNDUP(Janvaris!G23+Februaris!G23+Marts!G23+Aprilis!G23+Maijs!G23+Junijs!G23,0) -> 0 | H21: =ROUNDUP(Janvaris!H23+Februaris!H23+Marts!H23+Aprilis!H23+Maijs!H23+Junijs!H23,0) -> 0 | I21: =ROUNDUP(Janvaris!I23+Februaris!I23+Marts!I23+Aprilis!I23+Maijs!I23+Junijs!I23,0) -> 0
A22: 11.2. | B22: Izglītības tematiskā joma "Mākslas" | C22: 108.32 | D22: x | E22: =F22 -> 0 | F22: =SUM(G22:I22) -> 0 | G22: =ROUNDUP(Janvaris!G24+Februaris!G24+Marts!G24+Aprilis!G24+Maijs!G24+Junijs!G24,0) -> 0 | H22: =ROUNDUP(Janvaris!H24+Februaris!H24+Marts!H24+Aprilis!H24+Maijs!H24+Junijs!H24,0) -> 0 | I22: =ROUNDUP(Janvaris!I24+Februaris!I24+Marts!I24+Aprilis!I24+Maijs!I24+Junijs!I24,0) -> 0
A23: Kopā | E23: =F23 -> 2389 | F23: =SUM(G23:I23) -> 2389 | G23: =G11+G17+G18+G19+G20 -> 0 | H23: =H11+H17+H18+H19+H20 -> 322 | I23: =I11+I17+I18+I19+I20 -> 2067

Sheet Janvaris
A1: Sagatavots saskaņā ar Ukrainas civiliedzīvotāju atbalsta likumu | C1: PROF Janvāris
C2: Pārskats par finansējuma pieprasījumu Ukrainas civiliedzīvotāju izglītības nodrošināšanai
B4: Kalendāro dienu skaits mēnesī | C4: 31
B5: Darba dienu skaits mēnesī | C5: 22
A7: Nr.p.k. | B7: Rādītāja nosaukums | C7: Maksimālais iespējamais izdevumu kompensācijas apmērs, euro | D7: Pedagogu darba samaksas un papildus profesionālo izglītības iestāžu izmaksas uz vienu izglītojamo pārskata mēneša vienai dienai* | E7: Faktiskie izdevumi pārskata mēnesī**, euro
E8: Kopā | F8: Dibinātājs - Izglītības un zinātnes ministrija
F9: Kopā IZM | G9: =Kopsavilkums!G7 -> Daugavpis tehnoloģiju un tūrisma tehnikums | H9: =Kopsavilkums!H7 -> Latgales Industriālais tehnikums | I9: =Kopsavilkums!I7 -> Rīgas Valsts tehnikums
A10: Ukrainas civiliedzīvotāji, kuri uz 2023. gada 1. septembri (t.sk. citā izglītības iestādē) ir reģistrēti Valsts izglītības informācijas sistēmā ar apakšstatusu "Ukrainas civiliedzīvotājs"
A11: 1. | B11: Unikālais izglītojamo skaits pārskata mēnesī ar VIIS reģistrēto apakšstatusu "Ukrainas civiliedzīvotājs" | C11: x | D11: x | E11: =F11 -> 7 | F11: =SUM(G11:I11) -> 7 | G11: 1 | H11: 1 | I11: 5
A12: 2. | B12: Kopējais summētais darba dienu skaits pārskata mēnesī | C12: x | D12: x | E12: =F12 -> 154 | F12: =SUM(G12:I12) -> 154 | G12: 22 | H12: 22 | I12: 110
A13: 3. | B13: Pedagogu darba samaksa profesionālās izglītības iestādes | C13: =257/2 -> 128.5 | D13: =C13/C5 -> 5.8409091 | E13: =F13 -> 579.22 | F13: =SUM(G13:I13) -> 579.22 | G13: 0 | H13: 75.93 | I13: 503.29
A14: Ukrainas civiliedzīvotāji septembrī, kuri pēc 2023. gada 1. septembra ir reģistrēti Valsts izglītības informācijas sistēmā ar apakšstatusu "Ukrainas civiliedzīvotājs"
A15: 4. | B15: Unikālais izglītojamo skaits pārskata mēnesī ar VIIS reģistrēto apakšstatusu "Ukrainas civiliedzīvotājs" | C15: x | D15: x | E15: =F15 -> 0 | F15: =SUM(G15:I15) -> 0 | G15: 0 | H15: 0 | I15: 0
A16: 5. | B16: Pirmreizēji VIIS reģistrēto izglītojamo skaits pārskata mēnesī ar apakšstatusu "Ukrainas civiliedzīvotājs" | C16: x | D16: x | E16: =F16 -> 0 | F16: =SUM(G16:I16) -> 0 | G16: 0 | H16: 0 | I16: 0
A17: 6. | B17: Kopējais summētais kalendāro dienu skaits pārskata mēnesī | C17: x | D17: x | E17: =F17 -> 0 | F17: =SUM(G17:I17) -> 0 | G17: 0 | H17: 0 | I17: 0
A18: 7. | B18: Kopējais summētais darba dienu skaits pārskata mēnesī | C18: x | D18: x | E18: =F18 -> 0 | F18: =SUM(G18:I18) -> 0 | G18: 0 | H18: 0 | I18: 0
A19: 8. | B19: Pedagogu darba samaksa profesionālās izglītības iestādes | C19: 257 | D19: =C19/C5 -> 11.681818 | E19: =F19 -> 0 | F19: =SUM(G19:I19) -> 0 | G19: 0 | H19: 0 | I19: 0
A20: 9. | B20: Vienreizēja palīdzība mācību līdzekļu nodrošināšanai VIIS unikāli pirmreizēji reģistrētam izglītojamajam | C20: 50 | D20: x | E20: =F20 -> 0 | F20: =SUM(G20:I20) -> 0 | G20: 0 | H20: 0 | I20: 0
A21: 10. | B21: Stipendija (mēnesī) | C21: 15 | D21: =C21/C4 -> 0.48387097 | E21: =F21 -> 0 | F21: =SUM(G21:I21) -> 0 | G21: 0 | H21: 0 | I21: 0
A22: 11. | B22: Uzturēšanas izmaksas (vidējās izmaksas uz vienu izglītojamo): | C22: =SUM(C23:C24) -> 184.4 | D22: x | E22: =F22 -> 0 | F22: =SUM(G22:I22) -> 0 | G22: =G23+G24 -> 0 | H22: =H23+H24 -> 0 | I22: =I23+I24 -> 0
A23: 11.1. | B23: Profesionālās vidējās izglītības programmas īstenošanai | C23: 76.08 | D23: =C23/C4 -> 2.4541935 | E23: =F23 -> 0 | F23: =SUM(G23:I23) -> 0 | G23: 0 | H23: 0 | I23: 0
A24: 11.2. | B24: Izglītības tematiskā joma "Mākslas" | C24: 108.32 | D24: =C24/C4 -> 3.4941935 | E24: =F24 -> 0 | F24: =SUM(G24:I24) -> 0 | G24: 0 | H24: 0 | I24: 0
A25: Kopā | E25: =F25 -> 579.22 | F25: =SUM(G25:I25) -> 579.22 | G25: =G13+G19+G20+G21+G22 -> 0 | H25: =H13+H19+H20+H21+H22 -> 75.93 | I25: =I13+I19+I20+I21+I22 -> 503.29
A27: * Izdevumu pozīcijai "Pedagogu darba samaksa profesionālās izglītības iestādes" - vienas darba dienas izmaksa, izdevumu pozīcijām "Stipedijas" un "Uzturēšanas izmaksas"- vienas kalendārās dienas izmaksa.
A28: ** Ja izglītības iestādes norādītie faktiskie izdevumi pārsniedz maksimālo iespējamo izdevumu kompensācijas apmēru, norādīts maksimālais iespējamais izdevumu kompensācijas apmērs.

Sheet Februaris
A1: Sagatavots saskaņā ar Ukrainas civiliedzīvotāju atbalsta likumu | C1: PROF Februāŗis
C2: Pārskats par finansējuma pieprasījumu Ukrainas civiliedzīvotāju izglītības nodrošināšanai
B4: Kalendāro dienu skaits mēnesī | C4: 29
B5: Darba dienu skaits mēnesī | C5: 21
A7: Nr.p.k. | B7: Rādītāja nosaukums | C7: Maksimālais iespējamais izdevumu kompensācijas apmērs, euro | D7: Pedagogu darba samaksas un papildus profesionālo izglītības iestāžu izmaksas uz vienu izglītojamo pārskata mēneša vienai dienai* | E7: Faktiskie izdevumi pārskata mēnesī**, euro
E8: Kopā | F8: Dibinātājs - Izglītības un zinātnes ministrija
F9: Kopā IZM | G9: =Kopsavilkums!G7 -> Daugavpis tehnoloģiju un tūrisma tehnikums | H9: =Kopsavilkums!H7 -> Latgales Industriālais tehnikums | I9: =Kopsavilkums!I7 -> Rīgas Valsts tehnikums
A10: Ukrainas civiliedzīvotāji, kuri uz 2023. gada 1. septembri (t.sk. citā izglītības iestādē) ir reģistrēti Valsts izglītības informācijas sistēmā ar apakšstatusu "Ukrainas civiliedzīvotājs"
A11: 1. | B11: Unikālais izglītojamo skaits pārskata mēnesī ar VIIS reģistrēto apakšstatusu "Ukrainas civiliedzīvotājs" | C11: x | D11: x | E11: =F11 -> 7 | F11: =SUM(G11:I11) -> 7 | G11: 1 | H11: 1 | I11: 5
A12: 2. | B12: Kopējais summētais darba dienu skaits pārskata mēnesī | C12: x | D12: x | E12: =F12 -> 147 | F12: =SUM(G12:I12) -> 147 | G12: 21 | H12: 21 | I12: 105
A13: 3. | B13: Pedagogu darba samaksa profesionālās izglītības iestādes | C13: =257/2 -> 128.5 | D13: =C13/C5 -> 6.1190476 | E13: =F13 -> 549.21 | F13: =SUM(G13:I13) -> 549.21 | G13: 0 | H13: 67.31 | I13: 481.9
A14: Ukrainas civiliedzīvotāji septembrī, kuri pēc 2023. gada 1. septembra ir reģistrēti Valsts izglītības informācijas sistēmā ar apakšstatusu "Ukrainas civiliedzīvotājs"
A15: 4. | B15: Unikālais izglītojamo skaits pārskata mēnesī ar VIIS reģistrēto apakšstatusu "Ukrainas civiliedzīvotājs" | C15: x | D15: x | E15: =F15 -> 0 | F15: =SUM(G15:I15) -> 0 | G15: 0 | H15: 0 | I15: 0
A16: 5. | B16: Pirmreizēji VIIS reģistrēto izglītojamo skaits pārskata mēnesī ar apakšstatusu "Ukrainas civiliedzīvotājs" | C16: x | D16: x | E16: =F16 -> 0 | F16: =SUM(G16:I16) -> 0 | G16: 0 | H16: 0 | I16: 0
A17: 6. | B17: Kopējais summētais kalendāro dienu skaits pārskata mēnesī | C17: x | D17: x | E17: =F17 -> 0 | F17: =SUM(G17:I17) -> 0 | G17: 0 | H17: 0 | I17: 0
A18: 7. | B18: Kopējais summētais darba dienu skaits pārskata mēnesī | C18: x | D18: x | E18: =F18 -> 0 | F18: =SUM(G18:I18) -> 0 | G18: 0 | H18: 0 | I18: 0
A19: 8. | B19: Pedagogu darba samaksa profesionālās izglītības iestādes | C19: 257 | D19: =C19/C5 -> 12.238095 | E19: =F19 -> 0 | F19: =SUM(G19:I19) -> 0 | G19: 0 | H19: 0 | I19: 0
A20: 9. | B20: Vienreizēja palīdzība mācību līdzekļu nodrošināšanai VIIS unikāli pirmreizēji reģistrētam izglītojamajam | C20: 50 | D20: x | E20: =F20 -> 0 | F20: =SUM(G20:I20) -> 0 | G20: 0 | H20: 0 | I20: 0
A21: 10. | B21: Stipendija (mēnesī) | C21: 15 | D21: =C21/C4 -> 0.51724138 | E21: =F21 -> 0 | F21: =SUM(G21:I21) -> 0 | G21: 0 | H21: 0 | I21: 0
A22: 11. | B22: Uzturēšanas izmaksas (vidējās izmaksas uz vienu izglītojamo): | C22: =SUM(C23:C24) -> 184.4 | D22: x | E22: =F22 -> 0 | F22: =SUM(G22:I22) -> 0 | G22: =G23+G24 -> 0 | H22: =H23+H24 -> 0 | I22: =I23+I24 -> 0
A23: 11.1. | B23: Profesionālās vidējās izglītības programmas īstenošanai | C23: 76.08 | D23: =C23/C4 -> 2.6234483 | E23: =F23 -> 0 | F23: =SUM(G23:I23) -> 0 | G23: 0 | H23: 0 | I23: 0
A24: 11.2. | B24: Izglītības tematiskā joma "Mākslas" | C24: 108.32 | D24: =C24/C4 -> 3.7351724 | E24: =F24 -> 0 | F24: =SUM(G24:I24) -> 0 | G24: 0 | H24: 0 | I24: 0
A25: Kopā | E25: =F25 -> 549.21 | F25: =SUM(G25:I25) -> 549.21 | G25: =G13+G19+G20+G21+G22 -> 0 | H25: =H13+H19+H20+H21+H22 -> 67.31 | I25: =I13+I19+I20+I21+I22 -> 481.9
A27: * Izdevumu pozīcijai "Pedagogu darba samaksa profesionālās izglītības iestādes" - vienas darba dienas izmaksa, izdevumu pozīcijām "Stipedijas" un "Uzturēšanas izmaksas"- vienas kalendārās dienas izmaksa.
A28: ** Ja izglītības iestādes norādītie faktiskie izdevumi pārsniedz maksimālo iespējamo izdevumu kompensācijas apmēru, norādīts maksimālais iespējamais izdevumu kompensācijas apmērs.

Sheet Marts
A1: Sagatavots saskaņā ar Ukrainas civiliedzīvotāju atbalsta likumu | C1: PROF Marts
C2: Pārskats par finansējuma pieprasījumu Ukrainas civiliedzīvotāju izglītības nodrošināšanai
B4: Kalendāro dienu skaits mēnesī | C4: 31
B5: Darba dienu skaits mēnesī | C5: 20
A7: Nr.p.k. | B7: Rādītāja nosaukums | C7: Maksimālais iespējamais izdevumu kompensācijas apmērs, euro | D7: Pedagogu darba samaksas un papildus profesionālo izglītības iestāžu izmaksas uz vienu izglītojamo pārskata mēneša vienai dienai* | E7: Faktiskie izdevumi pārskata mēnesī**, euro
E8: Kopā | F8: Dibinātājs - Izglītības un zinātnes ministrija
F9: Kopā IZM | G9: =Kopsavilkums!G7 -> Daugavpis tehnoloģiju un tūrisma tehnikums | H9: =Kopsavilkums!H7 -> Latgales Industriālais tehnikums | I9: =Kopsavilkums!I7 -> Rīgas Valsts tehnikums
A10: Ukrainas civiliedzīvotāji, kuri uz 2023. gada 1. septembri (t.sk. citā izglītības iestādē) ir reģistrēti Valsts izglītības informācijas sistēmā ar apakšstatusu "Ukrainas civiliedzīvotājs"
A11: 1. | B11: Unikālais izglītojamo skaits pārskata mēnesī ar VIIS reģistrēto apakšstatusu "Ukrainas civiliedzīvotājs" | C11: x | D11: x | E11: =F11 -> 7 | F11: =SUM(G11:I11) -> 7 | G11: 1 | H11: 1 | I11: 5
A12: 2. | B12: Kopējais summētais darba dienu skaits pārskata mēnesī | C12: x | D12: x | E12: =F12 -> 140 | F12: =SUM(G12:I12) -> 140 | G12: 20 | H12: 20 | I12: 100
A13: 3. | B13: Pedagogu darba samaksa profesionālās izglītības iestādes | C13: =257/2 -> 128.5 | D13: =C13/C5 -> 6.425 | E13: =F13 -> 570.45 | F13: =SUM(G13:I13) -> 570.45 | G13: 0 | H13: 44.98 | I13: 525.47
A14: Ukrainas civiliedzīvotāji septembrī, kuri pēc 2023. gada 1. septembra ir reģistrēti Valsts izglītības informācijas sistēmā ar apakšstatusu "Ukrainas civiliedzīvotājs"
A15: 4. | B15: Unikālais izglītojamo skaits pārskata mēnesī ar VIIS reģistrēto apakšstatusu "Ukrainas civiliedzīvotājs" | C15: x | D15: x | E15: =F15 -> 0 | F15: =SUM(G15:I15) -> 0 | G15: 0 | H15: 0 | I15: 0
A16: 5. | B16: Pirmreizēji VIIS reģistrēto izglītojamo skaits pārskata mēnesī ar apakšstatusu "Ukrainas civiliedzīvotājs" | C16: x | D16: x | E16: =F16 -> 0 | F16: =SUM(G16:I16) -> 0 | G16: 0 | H16: 0 | I16: 0
A17: 6. | B17: Kopējais summētais kalendāro dienu skaits pārskata mēnesī | C17: x | D17: x | E17: =F17 -> 0 | F17: =SUM(G17:I17) -> 0 | G17: 0 | H17: 0 | I17: 0
A18: 7. | B18: Kopējais summētais darba dienu skaits pārskata mēnesī | C18: x | D18: x | E18: =F18 -> 0 | F18: =SUM(G18:I18) -> 0 | G18: 0 | H18: 0 | I18: 0
A19: 8. | B19: Pedagogu darba samaksa profesionālās izglītības iestādes | C19: 257 | D19: =C19/C5 -> 12.85 | E19: =F19 -> 0 | F19: =SUM(G19:I19) -> 0 | G19: 0 | H19: 0 | I19: 0
A20: 9. | B20: Vienreizēja palīdzība mācību līdzekļu nodrošināšanai VIIS unikāli pirmreizēji reģistrētam izglītojamajam | C20: 50 | D20: x | E20: =F20 -> 0 | F20: =SUM(G20:I20) -> 0 | G20: 0 | H20: 0 | I20: 0
A21: 10. | B21: Stipendija (mēnesī) | C21: 15 | D21: =C21/C4 -> 0.48387097 | E21: =F21 -> 0 | F21: =SUM(G21:I21) -> 0 | G21: 0 | H21: 0 | I21: 0
A22: 11. | B22: Uzturēšanas izmaksas (vidējās izmaksas uz vienu izglītojamo): | C22: =SUM(C23:C24) -> 184.4 | D22: x | E22: =F22 -> 0 | F22: =SUM(G22:I22) -> 0 | G22: =G23+G24 -> 0 | H22: =H23+H24 -> 0 | I22: =I23+I24 -> 0
A23: 11.1. | B23: Profesionālās vidējās izglītības programmas īstenošanai | C23: 76.08 | D23: =C23/C4 -> 2.4541935 | E23: =F23 -> 0 | F23: =SUM(G23:I23) -> 0 | G23: 0 | H23: 0 | I23: 0
A24: 11.2. | B24: Izglītības tematiskā joma "Mākslas" | C24: 108.32 | D24: =C24/C4 -> 3.4941935 | E24: =F24 -> 0 | F24: =SUM(G24:I24) -> 0 | G24: 0 | H24: 0 | I24: 0
A25: Kopā | E25: =F25 -> 570.45 | F25: =SUM(G25:I25) -> 570.45 | G25: =G13+G19+G20+G21+G22 -> 0 | H25: =H13+H19+H20+H21+H22 -> 44.98 | I25: =I13+I19+I20+I21+I22 -> 525.47
A27: * Izdevumu pozīcijai "Pedagogu darba samaksa profesionālās izglītības iestādes" - vienas darba dienas izmaksa, izdevumu pozīcijām "Stipedijas" un "Uzturēšanas izmaksas"- vienas kalendārās dienas izmaksa.
A28: ** Ja izglītības iestādes norādītie faktiskie izdevumi pārsniedz maksimālo iespējamo izdevumu kompensācijas apmēru, norādīts maksimālais iespējamais izdevumu kompensācijas apmērs.

Sheet Aprilis
A1: Sagatavots saskaņā ar Ukrainas civiliedzīvotāju atbalsta likumu | C1: PROF Aprīlis
C2: Pārskats par finansējuma pieprasījumu Ukrainas civiliedzīvotāju izglītības nodrošināšanai
B4: Kalendāro dienu skaits mēnesī | C4: 30
B5: Darba dienu skaits mēnesī | C5: 21
A7: Nr.p.k. | B7: Rādītāja nosaukums | C7: Maksimālais iespējamais izdevumu kompensācijas apmērs, euro | D7: Pedagogu darba samaksas un papildus profesionālo izglītības iestāžu izmaksas uz vienu izglītojamo pārskata mēneša vienai dienai* | E7: Faktiskie izdevumi pārskata mēnesī**, euro
E8: Kopā | F8: Dibinātājs - Izglītības un zinātnes ministrija
F9: Kopā IZM | G9: =Kopsavilkums!G7 -> Daugavpis tehnoloģiju un tūrisma tehnikums | H9: =Kopsavilkums!H7 -> Latgales Industriālais tehnikums | I9: =Kopsavilkums!I7 -> Rīgas Valsts tehnikums
A10: Ukrainas civiliedzīvotāji, kuri uz 2023. gada 1. septembri (t.sk. citā izglītības iestādē) ir reģistrēti Valsts izglītības informācijas sistēmā ar apakšstatusu "Ukrainas civiliedzīvotājs"
A11: 1. | B11: Unikālais izglītojamo skaits pārskata mēnesī ar VIIS reģistrēto apakšstatusu "Ukrainas civiliedzīvotājs" | C11: x | D11: x | E11: =F11 -> 7 | F11: =SUM(G11:I11) -> 7 | G11: 1 | H11: 1 | I11: 5
A12: 2. | B12: Kopējais summētais darba dienu skaits pārskata mēnesī | C12: x | D12: x | E12: =F12 -> 147 | F12: =SUM(G12:I12) -> 147 | G12: 21 | H12: 21 | I12: 105
A13: 3. | B13: Pedagogu darba samaksa profesionālās izglītības iestādes | C13: =257/2 -> 128.5 | D13: =C13/C5 -> 6.1190476 | E13: =F13 -> 350.79 | F13: =SUM(G13:I13) -> 350.79 | G13: 0 | H13: 42.83 | I13: 307.96
A14: Ukrainas civiliedzīvotāji septembrī, kuri pēc 2023. gada 1. septembra ir reģistrēti Valsts izglītības informācijas sistēmā ar apakšstatusu "Ukrainas civiliedzīvotājs"
A15: 4. | B15: Unikālais izglītojamo skaits pārskata mēnesī ar VIIS reģistrēto apakšstatusu "Ukrainas civiliedzīvotājs" | C15: x | D15: x | E15: =F15 -> 0 | F15: =SUM(G15:I15) -> 0 | G15: 0 | H15: 0 | I15: 0
A16: 5. | B16: Pirmreizēji VIIS reģistrēto izglītojamo skaits pārskata mēnesī ar apakšstatusu "Ukrainas civiliedzīvotājs" | C16: x | D16: x | E16: =F16 -> 0 | F16: =SUM(G16:I16) -> 0 | G16: 0 | H16: 0 | I16: 0
A17: 6. | B17: Kopējais summētais kalendāro dienu skaits pārskata mēnesī | C17: x | D17: x | E17: =F17 -> 0 | F17: =SUM(G17:I17) -> 0 | G17: 0 | H17: 0 | I17: 0
A18: 7. | B18: Kopējais summētais darba dienu skaits pārskata mēnesī | C18: x | D18: x | E18: =F18 -> 0 | F18: =SUM(G18:I18) -> 0 | G18: 0 | H18: 0 | I18: 0
A19: 8. | B19: Pedagogu darba samaksa profesionālās izglītības iestādes | C19: 257 | D19: =C19/C5 -> 12.238095 | E19: =F19 -> 0 | F19: =SUM(G19:I19) -> 0 | G19: 0 | H19: 0 | I19: 0
A20: 9. | B20: Vienreizēja palīdzība mācību līdzekļu nodrošināšanai VIIS unikāli pirmreizēji reģistrētam izglītojamajam | C20: 50 | D20: x | E20: =F20 -> 0 | F20: =SUM(G20:I20) -> 0 | G20: 0 | H20: 0 | I20: 0
A21: 10. | B21: Stipendija (mēnesī) | C21: 15 | D21: =C21/C4 -> 0.5 | E21: =F21 -> 0 | F21: =SUM(G21:I21) -> 0 | G21: 0 | H21: 0 | I21: 0
A22: 11. | B22: Uzturēšanas izmaksas (vidējās izmaksas uz vienu izglītojamo): | C22: =SUM(C23:C24) -> 184.4 | D22: x | E22: =F22 -> 0 | F22: =SUM(G22:I22) -> 0 | G22: =G23+G24 -> 0 | H22: =H23+H24 -> 0 | I22: =I23+I24 -> 0
A23: 11.1. | B23: Profesionālās vidējās izglītības programmas īstenošanai | C23: 76.08 | D23: =C23/C4 -> 2.536 | E23: =F23 -> 0 | F23: =SUM(G23:I23) -> 0 | G23: 0 | H23: 0 | I23: 0
A24: 11.2. | B24: Izglītības tematiskā joma "Mākslas" | C24: 108.32 | D24: =C24/C4 -> 3.6106667 | E24: =F24 -> 0 | F24: =SUM(G24:I24) -> 0 | G24: 0 | H24: 0 | I24: 0
A25: Kopā | E25: =F25 -> 350.79 | F25: =SUM(G25:I25) -> 350.79 | G25: =G13+G19+G20+G21+G22 -> 0 | H25: =H13+H19+H20+H21+H22 -> 42.83 | I25: =I13+I19+I20+I21+I22 -> 307.96
A27: * Izdevumu pozīcijai "Pedagogu darba samaksa profesionālās izglītības iestādes" - vienas darba dienas izmaksa, izdevumu pozīcijām "Stipedijas" un "Uzturēšanas izmaksas"- vienas kalendārās dienas izmaksa.
A28: ** Ja izglītības iestādes norādītie faktiskie izdevumi pārsniedz maksimālo iespējamo izdevumu kompensācijas apmēru, norādīts maksimālais iespējamais izdevumu kompensācijas apmērs.

Sheet Maijs
A1: Sagatavots saskaņā ar Ukrainas civiliedzīvotāju atbalsta likumu | C1: PROF Maijs
C2: Pārskats par finansējuma pieprasījumu Ukrainas civiliedzīvotāju izglītības nodrošināšanai
B4: Kalendāro dienu skaits mēnesī | C4: 31
B5: Darba dienu skaits mēnesī | C5: 21
A7: Nr.p.k. | B7: Rādītāja nosaukums | C7: Maksimālais iespējamais izdevumu kompensācijas apmērs, euro | D7: Pedagogu darba samaksas un papildus profesionālo izglītības iestāžu izmaksas uz vienu izglītojamo pārskata mēneša vienai dienai* | E7: Faktiskie izdevumi pārskata mēnesī**, euro
E8: Kopā | F8: Dibinātājs - Izglītības un zinātnes ministrija
F9: Kopā IZM | G9: =Kopsavilkums!G7 -> Daugavpis tehnoloģiju un tūrisma tehnikums | H9: =Kopsavilkums!H7 -> Latgales Industriālais tehnikums | I9: =Kopsavilkums!I7 -> Rīgas Valsts tehnikums
A10: Ukrainas civiliedzīvotāji, kuri uz 2023. gada 1. septembri (t.sk. citā izglītības iestādē) ir reģistrēti Valsts izglītības informācijas sistēmā ar apakšstatusu "Ukrainas civiliedzīvotājs"
A11: 1. | B11: Unikālais izglītojamo skaits pārskata mēnesī ar VIIS reģistrēto apakšstatusu "Ukrainas civiliedzīvotājs" | C11: x | D11: x | E11: =F11 -> 7 | F11: =SUM(G11:I11) -> 7 | G11: 1 | H11: 1 | I11: 5
A12: 2. | B12: Kopējais summētais darba dienu skaits pārskata mēnesī | C12: x | D12: x | E12: =F12 -> 147 | F12: =SUM(G12:I12) -> 147 | G12: 21 | H12: 21 | I12: 105
A13: 3. | B13: Pedagogu darba samaksa profesionālās izglītības iestādes | C13: =257/2 -> 128.5 | D13: =C13/C5 -> 6.1190476 | E13: =F13 -> 42.83 | F13: =SUM(G13:I13) -> 42.83 | G13: 0 | H13: 42.83 | I13: 0
A14: Ukrainas civiliedzīvotāji septembrī, kuri pēc 2023. gada 1. septembra ir reģistrēti Valsts izglītības informācijas sistēmā ar apakšstatusu "Ukrainas civiliedzīvotājs"
A15: 4. | B15: Unikālais izglītojamo skaits pārskata mēnesī ar VIIS reģistrēto apakšstatusu "Ukrainas civiliedzīvotājs" | C15: x | D15: x | E15: =F15 -> 0 | F15: =SUM(G15:I15) -> 0 | G15: 0 | H15: 0 | I15: 0
A16: 5. | B16: Pirmreizēji VIIS reģistrēto izglītojamo skaits pārskata mēnesī ar apakšstatusu "Ukrainas civiliedzīvotājs" | C16: x | D16: x | E16: =F16 -> 0 | F16: =SUM(G16:I16) -> 0 | G16: 0 | H16: 0 | I16: 0
A17: 6. | B17: Kopējais summētais kalendāro dienu skaits pārskata mēnesī | C17: x | D17: x | E17: =F17 -> 0 | F17: =SUM(G17:I17) -> 0 | G17: 0 | H17: 0 | I17: 0
A18: 7. | B18: Kopējais summētais darba dienu skaits pārskata mēnesī | C18: x | D18: x | E18: =F18 -> 0 | F18: =SUM(G18:I18) -> 0 | G18: 0 | H18: 0 | I18: 0
A19: 8. | B19: Pedagogu darba samaksa profesionālās izglītības iestādes | C19: 257 | D19: =C19/C5 -> 12.238095 | E19: =F19 -> 0 | F19: =SUM(G19:I19) -> 0 | G19: 0 | H19: 0 | I19: 0
A20: 9. | B20: Vienreizēja palīdzība mācību līdzekļu nodrošināšanai VIIS unikāli pirmreizēji reģistrētam izglītojamajam | C20: 50 | D20: x | E20: =F20 -> 0 | F20: =SUM(G20:I20) -> 0 | G20: 0 | H20: 0 | I20: 0
A21: 10. | B21: Stipendija (mēnesī) | C21: 15 | D21: =C21/C4 -> 0.48387097 | E21: =F21 -> 0 | F21: =SUM(G21:I21) -> 0 | G21: 0 | H21: 0 | I21: 0
A22: 11. | B22: Uzturēšanas izmaksas (vidējās izmaksas uz vienu izglītojamo): | C22: =SUM(C23:C24) -> 184.4 | D22: x | E22: =F22 -> 0 | F22: =SUM(G22:I22) -> 0 | G22: =G23+G24 -> 0 | H22: =H23+H24 -> 0 | I22: =I23+I24 -> 0
A23: 11.1. | B23: Profesionālās vidējās izglītības programmas īstenošanai | C23: 76.08 | D23: =C23/C4 -> 2.4541935 | E23: =F23 -> 0 | F23: =SUM(G23:I23) -> 0 | G23: 0 | H23: 0 | I23: 0
A24: 11.2. | B24: Izglītības tematiskā joma "Mākslas" | C24: 108.32 | D24: =C24/C4 -> 3.4941935 | E24: =F24 -> 0 | F24: =SUM(G24:I24) -> 0 | G24: 0 | H24: 0 | I24: 0
A25: Kopā | E25: =F25 -> 42.83 | F25: =SUM(G25:I25) -> 42.83 | G25: =G13+G19+G20+G21+G22 -> 0 | H25: =H13+H19+H20+H21+H22 -> 42.83 | I25: =I13+I19+I20+I21+I22 -> 0
A27: * Izdevumu pozīcijai "Pedagogu darba samaksa profesionālās izglītības iestādes" - vienas darba dienas izmaksa, izdevumu pozīcijām "Stipedijas" un "Uzturēšanas izmaksas"- vienas kalendārās dienas izmaksa.
A28: ** Ja izglītības iestādes norādītie faktiskie izdevumi pārsniedz maksimālo iespējamo izdevumu kompensācijas apmēru, norādīts maksimālais iespējamais izdevumu kompensācijas apmērs.

Sheet Junijs
A1: Sagatavots saskaņā ar Ukrainas civiliedzīvotāju atbalsta likumu | C1: PROF Jūnijs
C2: Pārskats par finansējuma pieprasījumu Ukrainas civiliedzīvotāju izglītības nodrošināšanai
B4: Kalendāro dienu skaits mēnesī | C4: 30
B5: Darba dienu skaits mēnesī | C5: 19
A7: Nr.p.k. | B7: Rādītāja nosaukums | C7: Maksimālais iespējamais izdevumu kompensācijas apmērs, euro | D7: Pedagogu darba samaksas un papildus profesionālo izglītības iestāžu izmaksas uz vienu izglītojamo pārskata mēneša vienai dienai* | E7: Faktiskie izdevumi pārskata mēnesī**, euro
E8: Kopā | F8: Dibinātājs - Izglītības un zinātnes ministrija
F9: Kopā IZM | G9: =Kopsavilkums!G7 -> Daugavpis tehnoloģiju un tūrisma tehnikums | H9: =Kopsavilkums!H7 -> Latgales Industriālais tehnikums | I9: =Kopsavilkums!I7 -> Rīgas Valsts tehnikums
A10: Ukrainas civiliedzīvotāji, kuri uz 2023. gada 1. septembri (t.sk. citā izglītības iestādē) ir reģistrēti Valsts izglītības informācijas sistēmā ar apakšstatusu "Ukrainas civiliedzīvotājs"
A11: 1. | B11: Unikālais izglītojamo skaits pārskata mēnesī ar VIIS reģistrēto apakšstatusu "Ukrainas civiliedzīvotājs" | C11: x | D11: x | E11: =F11 -> 7 | F11: =SUM(G11:I11) -> 7 | G11: 1 | H11: 1 | I11: 5
A12: 2. | B12: Kopējais summētais darba dienu skaits pārskata mēnesī | C12: x | D12: x | E12: =F12 -> 132 | F12: =SUM(G12:I12) -> 132 | G12: 19 | H12: 19 | I12: 94
A13: 3. | B13: Pedagogu darba samaksa profesionālās izglītības iestādes | C13: =257/2 -> 128.5 | D13: =C13/C5 -> 6.7631579 | E13: =F13 -> 295.61 | F13: =SUM(G13:I13) -> 295.61 | G13: 0 | H13: 47.34 | I13: 248.27
A14: Ukrainas civiliedzīvotāji septembrī, kuri pēc 2023. gada 1. septembra ir reģistrēti Valsts izglītības informācijas sistēmā ar apakšstatusu "Ukrainas civiliedzīvotājs"
A15: 4. | B15: Unikālais izglītojamo skaits pārskata mēnesī ar VIIS reģistrēto apakšstatusu "Ukrainas civiliedzīvotājs" | C15: x | D15: x | E15: =F15 -> 0 | F15: =SUM(G15:I15) -> 0 | G15: 0 | H15: 0 | I15: 0
A16: 5. | B16: Pirmreizēji VIIS reģistrēto izglītojamo skaits pārskata mēnesī ar apakšstatusu "Ukrainas civiliedzīvotājs" | C16: x | D16: x | E16: =F16 -> 0 | F16: =SUM(G16:I16) -> 0 | G16: 0 | H16: 0 | I16: 0
A17: 6. | B17: Kopējais summētais kalendāro dienu skaits pārskata mēnesī | C17: x | D17: x | E17: =F17 -> 0 | F17: =SUM(G17:I17) -> 0 | G17: 0 | H17: 0 | I17: 0
A18: 7. | B18: Kopējais summētais darba dienu skaits pārskata mēnesī | C18: x | D18: x | E18: =F18 -> 0 | F18: =SUM(G18:I18) -> 0 | G18: 0 | H18: 0 | I18: 0
A19: 8. | B19: Pedagogu darba samaksa profesionālās izglītības iestādes | C19: 257 | D19: =C19/C5 -> 13.526316 | E19: =F19 -> 0 | F19: =SUM(G19:I19) -> 0 | G19: 0 | H19: 0 | I19: 0
A20: 9. | B20: Vienreizēja palīdzība mācību līdzekļu nodrošināšanai VIIS unikāli pirmreizēji reģistrētam izglītojamajam | C20: 50 | D20: x | E20: =F20 -> 0 | F20: =SUM(G20:I20) -> 0 | G20: 0 | H20: 0 | I20: 0
A21: 10. | B21: Stipendija (mēnesī)*** | C21: 15 | D21: =C21/C4 -> 0.5 | E21: =F21 -> 0 | F21: =SUM(G21:I21) -> 0 | G21: 0 | H21: 0 | I21: 0
A22: 11. | B22: Uzturēšanas izmaksas (vidējās izmaksas uz vienu izglītojamo): | C22: =SUM(C23:C24) -> 184.4 | D22: x | E22: =F22 -> 0 | F22: =SUM(G22:I22) -> 0 | G22: =G23+G24 -> 0 | H22: =H23+H24 -> 0 | I22: =I23+I24 -> 0
A23: 11.1. | B23: Profesionālās vidējās izglītības programmas īstenošanai | C23: 76.08 | D23: =C23/C4 -> 2.536 | E23: =F23 -> 0 | F23: =SUM(G23:I23) -> 0 | G23: 0 | H23: 0 | I23: 0
A24: 11.2. | B24: Izglītības tematiskā joma "Mākslas" | C24: 108.32 | D24: =C24/C4 -> 3.6106667 | E24: =F24 -> 0 | F24: =SUM(G24:I24) -> 0 | G24: 0 | H24: 0 | I24: 0
A25: Kopā | E25: =F25 -> 295.61 | F25: =SUM(G25:I25) -> 295.61 | G25: =G13+G19+G20+G21+G22 -> 0 | H25: =H13+H19+H20+H21+H22 -> 47.34 | I25: =I13+I19+I20+I21+I22 -> 248.27
A27: * Izdevumu pozīcijai "Pedagogu darba samaksa profesionālās izglītības iestādes" - vienas darba dienas izmaksa, izdevumu pozīcijām "Stipedijas" un "Uzturēšanas izmaksas"- vienas kalendārās dienas izmaksa.
A28: ** Ja izglītības iestādes norādītie faktiskie izdevumi pārsniedz maksimālo iespējamo izdevumu kompensācijas apmēru, norādīts maksimālais iespējamais izdevumu kompensācijas apmērs.
A29: ***Ņemot vērā, ka par jūliju un augustu aprēķinātās un izmaksātās stipendijas jūnijā jānorāda izdevumos par jūnija mēnesi, maksimālais iespējamais izdevumu kompensācijas apmērs = 15 * 3=45 EUR. Savukārt, ailē "Kopējais summētais kalendāro dienu skaits pārskata mēnesī" kalendāro dienu skaits par jūliju un augustu nav iekļauts.
