Workbook
Name _1_2_d_NMP_lim: #REF!
Name _1_2_d_NMP_lim: #REF!
Name _1_2_d_NMP_lim: #REF!
Name _1_2_d_NMP_lim: #REF!
Name _1_2_d_NMP_lim: #REF!
Name _1_2_d_NMP_lim: #REF!
Name _1_2_d_NMP_lim: #REF!
Name _1_2_d_NMP_lim: #REF!
Name _1_2_d_NMP_lim: #REF!
Name _1_2_d_NMP_lim: #REF!
Name _ftn1: '4.7.EPIDEM_infrastruktura'!#REF!
Name _ftnref1: '4.7.EPIDEM_infrastruktura'!$A$27
Name aa: #REF!
Name aa: #REF!
Name aa: #REF!
Name aa: #REF!
Name aa: #REF!
Name aa: #REF!
Name aa: #REF!
Name aa: #REF!
Name aa: #REF!
Name b: #REF!
Name b: #REF!
Name b: #REF!
Name b: #REF!
Name b: #REF!
Name b: #REF!
Name b: #REF!
Name b: #REF!
Name b: #REF!
Name bt: #REF!
Name bt: #REF!
Name bt: #REF!
Name bt: #REF!
Name bt: #REF!
Name bt: #REF!
Name bt: #REF!
Name bt: #REF!
Name bt: #REF!
Name bt: #REF!
Name BX: #REF!
Name BX: #REF!
Name BX: #REF!
Name BX: #REF!
Name BX: #REF!
Name BX: #REF!
Name BX: #REF!
Name BX: #REF!
Name BX: #REF!
Name CalendarYear: #REF!
Name CalendarYear: #REF!
Name CalendarYear: #REF!
Name CalendarYear: #REF!
Name CalendarYear: #REF!
Name CalendarYear: #REF!
Name CalendarYear: #REF!
Name CalendarYear: #REF!
Name CalendarYear: #REF!
Name ccc: #REF!
Name d: #REF!

Sheet Kopsavilkums
E1: Pielikums Nr.2 Ministru kabineta rīkojuma projekts “Par finanšu līdzekļu apropriācijas pārdali no budžeta resora "74. Gadskārtējā valsts budžeta izpildes procesā pārdalāmais finansējums" 20.00.00 programmas "Veselības aprūpes pasākumu īstenošana"” sākotnējās ietekmes novērtējuma ziņojumam (anotācijai)
A3: N.P.K. | B3: Pasākuma nosaukums | C3: Programma/apakšprogramma | D3: 2024.g. | E3: 2025.g | F3: 2026.g | G3: Turpmāk ik gadu (ja pasākums nav terminēts)
B4: KOPĀ: | D4: =D17+D27+D9+D14 -> 5129009.8 | E4: =E17+E27+E9+E14 -> 2309069 | F4: =F17+F27+F9+F14 -> 2309069 | G4: =G17+G27+G9+G14 -> 2309069
B5: EKK1000 | D5: =D38 -> 83570.075 | E5: =E38 -> 113882.75 | F5: =F38 -> 113882.75 | G5: =G38 -> 113882.75
B6: EKK2000 | D6: =D26+D22+D24+D19+D29+D36+D40 -> 2540898.3 | E6: =E26+E22+E24+E19+E29+E36 -> 1498879.6 | F6: =F26+F22+F24+F19+F29+F36 -> 1498879.6 | G6: =G26+G22+G24+G19+G29+G36 -> 1498879.6
B7: EKK3000 | D7: =D16+D13 -> 822554 | E7: =E16+E13 -> 497554 | F7: =F16+F13 -> 497554 | G7: =G16+G13 -> 497554
B8: EKK5000 | D8: =D30+D32+D34+D42 -> 1681987.4 | E8: =E30+E32+E34+E42 -> 198752 | F8: =F30+F32+F34+F42 -> 198752 | G8: =G30+G32+G34+G42 -> 198752
A9: 1 | B9: RPNC pakalpojumu nepārtrauktības nodrošināšanai, kā arī to stratēģisko mērķu sasniegšanai | D9: =D10+D11+D12 -> 325000 | E9: =E10+E11+E12 -> 0 | F9: =F10+F11+F12 -> 0 | G9: =G10+G11+G12 -> 0
A10: 1.1. | B10: Nodrošināt un attīstīt sniegtos RPNC pakalpojumus atbilstoši augsti specializētas slimnīcas standartiem, kā arī pielāgotu slimnīcas telpas jaunajām epidemioloģiskajām prasībām, nepieciešams modernizēt un paplašināt RPNC infrastruktūru | C10: 33.17.00. | D10: ='1.1.RNPC_aprīk'!E18 -> 250000 | E10: 0 | F10: 0 | G10: 0
A11: 1.2. | B11: Automašīnu iegāde | D11: ='1.2.RNPC_auto_ieg'!G10 -> 50000 | E11: 0 | F11: 0 | G11: 0
A12: 1.3. | B12: Gāzes hromatogrāfa iegādei | D12: ='1.3.RNPC_gāzes_iekr'!G10 -> 25000 | E12: 0 | F12: 0 | G12: 0
B13: EKK3000 | D13: =325000 -> 325000 | E13: 0 | F13: 0 | G13: 0
A14: 2 | B14: Jaunu manipulāciju iekļaušana valsts apmaksāto pakalpojumu klāstā | D14: =D15 -> 497554 | E14: =E15 -> 497554 | F14: =F15 -> 497554 | G14: =G15 -> 497554
A15: 2.1. | B15: Intraoperatīvās monitorēšanas manipulāciju iekļaušanu no valsts budžeta apmaksājamo pakalpojumu klāstā | C15: 33.18.00. | D15: =D16 -> 497554 | E15: =E16 -> 497554 | F15: =F16 -> 497554 | G15: =G16 -> 497554
B16: EKK3000 | D16: ='2.1.NVD_FI'!F12 -> 497554 | E16: =D16 -> 497554 | F16: =E16 -> 497554 | G16: =F16 -> 497554
A17: 3 | B17: Nozares kapacitātes veicināšana (VTMEC pakalpojumi, NMPD pasākumi) | D17: =D18+D20+D25 -> 1617615 | E17: =E18+E20+E25 -> 508993 | F17: =F18+F20+F25 -> 508993 | G17: =G18+G20+G25 -> 508993
A18: 3.1. | B18: VADC plazmas preparāta nodrošināšana | C18: 39.03.00. | D18: =D19 -> 806400 | E18: =E19 -> 0 | F18: =F19 -> 0 | G18: =G19 -> 0
B19: EKK2000 | D19: ='3.1.VADC'!D7 -> 806400 | E19: 0 | F19: 0 | G19: 0
A20: 3.2. | B20: NMPD pasākumu īstenošanai | D20: =D21+D23 -> 622068 | E20: =E21+E23 -> 300838 | F20: =F21+F23 -> 300838 | G20: =G21+G23 -> 300838
A21: 3.2.1. | B21: NMPD nepārtrauktības nodrošināšanai | C21: 39.04.00. | D21: =D22 -> 300838 | E21: =E22 -> 300838 | F21: =F22 -> 300838 | G21: =G22 -> 300838
B22: EKK2000 | D22: ='3.2.1.NMPD_rehab'!D22+'3.2.1.NMPD_OMT_apmāc'!C10+'3.2.1.NMPD_apsardz'!E12 -> 300838 | E22: =D22 -> 300838 | F22: =E22 -> 300838 | G22: =F22 -> 300838
A23: 3.2.2. | B23: NMPD brigāžu personāla drošības nodrošināšanai izsaukumu laikā | C23: 39.04.00. | D23: =D24 -> 321230 | E23: =E24 -> 0 | F23: =F24 -> 0 | G23: =G24 -> 0
B24: EKK2000 | D24: ='3.2.2.NMPD_balon'!E12+'3.2.2.NMPD_body_cam'!G17 -> 321230 | E24: 0 | F24: 0 | G24: 0
A25: 3.3. | B25: VTMEC nepārtrauktības nodrošināšanai | C25: 39.06.00. | D25: =D26 -> 189147 | E25: =E26 -> 208155 | F25: =F26 -> 208155 | G25: =G26 -> 208155
B26: EKK2000 | D26: ='3.3.VTMEC_pap_niepc'!C23 -> 189147 | E26: ='3.3.VTMEC_pap_niepc'!D23 -> 208155 | F26: =E26 -> 208155 | G26: =F26 -> 208155
A27: 4 | B27: Informācijas komunikācijas tehnoloģiju un vienotās veselības nozares elektroniskās informācijas sistēmas (e-veselības) uzturēšana un nepārtrauktas darbības nodrošināšana | D27: =D28+D31+D33+D35+D37+D39+D41 -> 2688840.8 | E27: =ROUNDUP(E28+E31+E33+E35+E37+E39+E41,0) -> 1302522 | F27: =ROUNDUP(F28+F31+F33+F35+F37+F39+F41,0) -> 1302522 | G27: =ROUNDUP(G28+G31+G33+G35+G37+G39+G41,0) -> 1302522
A28: 4.1. | B28: SPOLIS 2 papildu funkciju ieviešanai+Laboratorisko izmeklējumu pārvaldības moduļa un Vēža pacienta kartes darbību | C28: 45.01.00. | D28: =D29+D30 -> 617201.7 | E28: =E29+E30 -> 606558.6 | F28: =F29+F30 -> 606558.6 | G28: =G29+G30 -> 606558.6
B29: EKK2000 | D29: ='4.1. NVD_papild_uztur'!H10+'4.1.NVD_TPL'!H20 -> 604327.3 | E29: ='4.1. NVD_papild_uztur'!H10+'4.1.NVD_TPL'!I20 -> 606558.6 | F29: =E29 -> 606558.6 | G29: =F29 -> 606558.6
B30: EKK5000 | D30: ='4.1.NVD_TPL'!H8 -> 12874.4 | E30: 0 | F30: 0 | G30: 0
A31: 4.2. | B31: Vispārējo nosūtījumu funkcionalitātes pilnveide e-veselībā | C31: 45.01.00. | D31: =D32 -> 798600 | E31: 0 | F31: 0 | G31: 0
B32: EKK5000 | D32: ='4.2.NVD_DigiVes_jauna_funk'!F9 -> 798600 | E32: 0 | F32: 0 | G32: 0
A33: 4.3. | B33: Nacionālā veselības dienesta informācijas sistēmas "Vienotā veselības nozares infor-mācijas sistēma (VVIS)", "Veselības aprūpes pakalpojumu apmaksas norēķinu sistēma "Vadības informācijas sistēma" (VIS)" un "Kompensējamo zāļu reģistrācijas un uzskaites informācijas sistēma (KZRU)" pielāgošana | C33: 45.01.00. | D33: ='4.3.IKT ZZ'!C8 -> 800000 | E33: ='4.3.IKT ZZ'!D8 -> 128000 | F33: =E33 -> 128000 | G33: =E33 -> 128000
B34: EKK5000 | D34: ='4.3.IKT ZZ'!C8 -> 800000 | E34: ='4.3.IKT ZZ'!D8 -> 128000 | F34: =E34 -> 128000 | G34: =F34 -> 128000
A35: 4.4. | B35: Kvalitātes pakalpojuma uzlabošana | D35: =D36 -> 287496 | E35: =E36 -> 383328 | F35: =F36 -> 383328 | G35: =G36 -> 383328
B36: EKK2000 | D36: ='4.4. NVD_papild_eksperti'!G8 -> 287496 | E36: ='4.4. NVD_papild_eksperti'!H8 -> 383328 | F36: =E36 -> 383328 | G36: =F36 -> 383328
A37: 4.5. | B37: E-veselības kontaktpunktu datu pārrobežu nodrošināšana | D37: =D38 -> 83570.075 | E37: =E38 -> 113882.75 | F37: =F38 -> 113882.75 | G37: =G38 -> 113882.75
B38: EKK1000 | D38: ='4.5.NVD_CEF_atlīdzība'!O8 -> 83570.075 | E38: ='4.5.NVD_CEF_atlīdzība'!O19 -> 113882.75 | F38: =E38 -> 113882.75 | G38: =F38 -> 113882.75
A39: 4.6. | B39: Mākslīgā intelekta tehnoloģiju attīstība ģimenes ārstu praksēs (pilotprojekts) | D39: =D40 -> 31460 | E39: =E40 -> 0 | F39: =F40 -> 0 | G39: =G40 -> 0
B40: EKK2000 | D40: ='4.6. NVD_MI'!E10 -> 31460 | E40: ='4.5.NVD_CEF_atlīdzība'!O21 -> 0 | F40: =E40 -> 0 | G40: =F40 -> 0
A41: 4.7. | B41: EPIDEM uzturēšana | D41: =D42 -> 70513 | E41: =E42 -> 70752 | F41: =F42 -> 70752 | G41: =G42 -> 70752
B42: EKK5000 | D42: ='4.7.EPIDEM_infrastruktura'!C43 -> 70513 | E42: ='4.7.EPIDEM_infrastruktura'!C90 -> 70752 | F42: ='4.7.EPIDEM_infrastruktura'!C137 -> 70752 | G42: =F42 -> 70752

Sheet 1.1.RNPC_aprīk
C1: Pielikums Nr.3 Ministru kabineta rīkojuma projekts “Par finanšu līdzekļu apropriācijas pārdali no budžeta resora "74. Gadskārtējā valsts budžeta izpildes procesā pārdalāmais finansējums" 20.00.00 programmas "Veselības aprūpes pasākumu īstenošana"” sākotnējās ietekmes novērtējuma ziņojumam (anotācijai)
A2: Papildus nepieciešamais finansējums RNPC papildu aprīkojuma iegādes nodrošināšanai 2024. gadam
A3: Apraksts | B3: Nodaļa | C3: Vienības cenas ieskaitot PVN | D3: Skaits | E3: Summa ieskaitot PVN
A4: Funkcionālās gultas nodaļām | B4: Stacionāra nodaļas | C4: 2000 | D4: 35 | E4: =+C4*D4 -> 70000
A5: Transkraniālā magnētiskās stimulācijas iekārta (neinvazīva psihisku un neiroloģisku saslimšanu ārstēšanas metode) | B5: Stacionārs | C5: 50000 | D5: 1 | E5: =+C5*D5 -> 50000
A6: Trenažieri rehabilitācijas nodrošināšanai | B6: Rehabilitācijas nodaļa | C6: 2000 | D6: 15 | E6: =+C6*D6 -> 30000
A7: Informatīvie tablo klientu apkalpošanai jaunajā ambulatorā centrā un vienas pieturas aģentūrā | B7: Jaunais ambulatorais centrs, renovētie vēsturiskie korpusi | C7: 10000 | D7: 2 | E7: =+C7*D7 -> 20000
A8: Planšetes darbas ar slimnīcas informācijas sistēmu (digitalizācijas procesa ietvaros), rehabilitācijai pacientiem | B8: Stacionāra nodaļas | C8: 800 | D8: 25 | E8: =+C8*D8 -> 20000
A9: Multifunkcionālie procedūru galdi | B9: Stacionāra nodaļas | C9: 2875 | D9: 4 | E9: =+C9*D9 -> 11500
A10: Elektriskie sēdrati | B10: Uzņemšana (pacientu ar kustības traucējumiem transportēšana uz nodaļām) | C10: 3500 | D10: 3 | E10: =+C10*D10 -> 10500
A11: Mobilie baktericīdie caurplūdes gaisa recirkulātori | B11: Stacionāra nodaļas | C11: 500 | D11: 20 | E11: =+C11*D11 -> 10000
A12: Pacēlāji geriatrijas pacientiem | B12: Geriatrija | C12: 2250 | D12: 4 | E12: =+C12*D12 -> 9000
A13: Rehabilitācijas iekārta, multisensorā relaksācija | B13: Rehabilitācijas nodaļa | C13: 7000 | D13: 1 | E13: 7000
A14: Dezinfekcijas iekārtas pacientu aprūpes iekārtām (pīles, urīntrauki, šīberi) | B14: Geriatrija | C14: 2500 | D14: 2 | E14: =+C14*D14 -> 5000
A15: Kardiogrāfs uzņemšanas nodaļai | B15: Uzņemšana | C15: 3000 | D15: 1 | E15: =+C15*D15 -> 3000
A16: Alkometri | B16: Uzņemšana | C16: 1000 | D16: 2 | E16: =+C16*D16 -> 2000
A17: Konteineri izlietotajām autiņbiksēm geriatrijas nodaļās | B17: Geriatrija | C17: 1000 | D17: 2 | E17: 2000
A18: KOPĀ | E18: =SUM(E4:E17) -> 250000

Sheet 1.2.RNPC_auto_ieg
E1: Pielikums Nr.4 Ministru kabineta rīkojuma projekts “Par finanšu līdzekļu apropriācijas pārdali no budžeta resora "74. Gadskārtējā valsts budžeta izpildes procesā pārdalāmais finansējums" 20.00.00 programmas "Veselības aprūpes pasākumu īstenošana"” sākotnējās ietekmes novērtējuma ziņojumam (anotācijai)
B3: Papildus nepieciešamais finnasējums RNPC mikroautobusa iegādei, lai nodrošinātu mobilās komandas - pacientu ambulatorās ārstēšanas īstenošanu dzīves vietā 2024. gadā
C5: Pozīcijas nosaukums | D5: Vienības cena | E5: Daudzums | F5: Cena ar PVN | G5: Kopā
C6: Mikroautobusa iegāde | D6: 50000 | E6: 1 | F6: 50000 | G6: 50000
F8: Kopā izdevumi | G8: 2024.gadam
F9: Preces un pakalpojumi | G9: =G6 -> 50000
F10: Kopā (EUR) | G10: =G9 -> 50000

Sheet 1.3.RNPC_gāzes_iekr
E1: Pielikums Nr.5 Ministru kabineta rīkojuma projekts “Par finanšu līdzekļu apropriācijas pārdali no budžeta resora "74. Gadskārtējā valsts budžeta izpildes procesā pārdalāmais finansējums" 20.00.00 programmas "Veselības aprūpes pasākumu īstenošana"” sākotnējās ietekmes novērtējuma ziņojumam (anotācijai)
B3: Papildus nepieciešamasi finansējums RNPC pilnīgu gāzes hromatogrāfa iekārtas iegādes nodrošināšanai 2024. gadā
C5: Pozīcijas nosaukums | D5: Vienības cena | E5: Daudzums | F5: Cena ar PVN | G5: Kopā
C6: 7697A Headspace Sampler, 12 Vial | D6: 25000 | E6: 1 | F6: 25000 | G6: 25000
F8: Kopā izdevumi | G8: 2024.gadam
F9: Preces un pakalpojumi | G9: =G6 -> 25000
F10: Kopā (EUR) | G10: =G9 -> 25000

Sheet 2.1.NVD_FI
D1: Pielikums Nr.6 Ministru kabineta rīkojuma projekts “Par finanšu līdzekļu apropriācijas pārdali no budžeta resora "74. Gadskārtējā valsts budžeta izpildes procesā pārdalāmais finansējums" 20.00.00 programmas "Veselības aprūpes pasākumu īstenošana"” sākotnējās ietekmes novērtējuma ziņojumam (anotācijai)
B3: Papildus nepieciešamais finnasējums intraoperatīvās monitorēšanas manipulāciju iekļaušanai no valsts budžeta apmaksājamo pakalpojumu klāstā 2024. gadam un turpmāk ik gadu
B5: Manipulācijas kods | C5: Manipulācijas nosaukums | D5: Tarifs | E5: Pacientu skaits | F5: FI (stacionāri) papildu nepieciešams 2024.gadam un turpmāk ik gadu, euro
B6: ='2.1.NVD_Man_tarifs'!A11 -> JAUNS | C6: ='2.1.NVD_Man_tarifs'!B11 -> Piemaksa par spinālas deformācijas intraoperatīvu monitorēšanu | D6: ='2.1.NVD_Man_tarifs'!S11 -> 163.17 | E6: 200 | F6: =D6*E6 -> 32634
B7: ='2.1.NVD_Man_tarifs'!A12 -> JAUNS | C7: ='2.1.NVD_Man_tarifs'!B12 -> Piemaksa par skrūvju ievietošanas intraoperatīvo monitorēšanu | D7: ='2.1.NVD_Man_tarifs'!S12 -> 163.17 | E7: 200 | F7: =D7*E7 -> 32634
B8: ='2.1.NVD_Man_tarifs'!A13 -> JAUNS | C8: ='2.1.NVD_Man_tarifs'!B13 -> Piemaksa par kraniālo nervu monitorēšanu | D8: ='2.1.NVD_Man_tarifs'!S13 -> 464.46 | E8: 200 | F8: =D8*E8 -> 92892
B9: ='2.1.NVD_Man_tarifs'!A14 -> JAUNS | C9: ='2.1.NVD_Man_tarifs'!B14 -> Piemaksa par introoperatīvo kontrastvielu un tās ievadīšanu | D9: ='2.1.NVD_Man_tarifs'!S14 -> 1194.16 | E9: 50 | F9: =D9*E9 -> 59708
B10: ='2.1.NVD_Man_tarifs'!A15 -> JAUNS | C10: ='2.1.NVD_Man_tarifs'!B15 -> Piemaksa par intraoperatīvo motoro mapēšanu | D10: ='2.1.NVD_Man_tarifs'!S15 -> 817.66 | E10: 200 | F10: =D10*E10 -> 163532
B11: ='2.1.NVD_Man_tarifs'!A16 -> JAUNS | C11: ='2.1.NVD_Man_tarifs'!B16 -> Piemaksa par intramodulārā tumora monitorēšanu | D11: ='2.1.NVD_Man_tarifs'!S16 -> 580.77 | E11: 200 | F11: =D11*E11 -> 116154
E12: KOPĀ: | F12: =SUM(F6:F11) -> 497554

Sheet 2.1.NVD_Man_tarifs
Q1: Pielikums Nr.7 Ministru kabineta rīkojuma projekts “Par finanšu līdzekļu apropriācijas pārdali no budžeta resora "74. Gadskārtējā valsts budžeta izpildes procesā pārdalāmais finansējums" 20.00.00 programmas "Veselības aprūpes pasākumu īstenošana"” sākotnējās ietekmes novērtējuma ziņojumam (anotācijai)
F3: Ārsts | G3: Māsa | H3: Palīgpersonāls | I3: Soc.nodoklis | N3: Pieskaitāmās un netiešās ražošanas izmaksas | O3: Administratīvās izmaksas | P3: Pārējo pamatlīdzekļu amortizācija
E4: Mēneša darba samaksa | F4: 2304 | G4: 1388 | H4: 925
E5: 1 minūtes vērtība darba samaksai | F5: =ROUND(F4/9600,4) -> 0.24 | G5: =ROUND(G4/9600,4) -> 0.1446 | H5: =ROUND(H4/9600,4) -> 0.0964 | I5: 0.2359 | M5: Koeficienti | N5: 0.2857 | O5: 0.0202 | P5: 0.0322
A7: Manipulācijas kods | B7: Manipulācijas nosaukums | C7: Mainīgās izmaksas | Q7: Kopējās izmaksas, euro | R7: Pacienta līdzmaksājums, euro | S7: Tarifs, euro
C8: Darba laiks (minūtes) | F8: Darba samaksa D, euro | I8: Valsts sociālās apdrošināšanas obligātās iemaksas S, euro | J8: Ārstniecības līdzekļi M, euro | M8: Iekārtu amortizācija N, euro | N8: Pieskaitāmās un netiešās ražošanas izmaksas U, euro | O8: Administratīvās izmaksas A, euro | P8: Pārējo pamatlīdzekļu amortizācija n, euro
C9: ārstam | D9: māsai | E9: jaunākajam personālām | F9: ārstam | G9: māsai | H9: jaunākajam personālam | I9: ārstam, māsai un jaunākajam personālām kopā | J9: M kopā | K9: Medikamenti | L9: Materiāli | T9: D | U9: S | V9: M | W9: E | X9: U | Y9: A | Z9: N | AA9: P | AB9: Kopējās izmaksas | AC9: Pacienta līdzmaksājums | AD9: Tarifs
A10: 1 | B10: 2 | C10: 3 | D10: 4 | E10: 5 | F10: 6 | G10: 7 | H10: 8 | I10: 9 | J10: 10 = 11 + 12 | K10: 11 | L10: 12 | M10: 13 | N10: 14 | O10: 15 | P10: 16 | Q10: 17 | R10: 18 | S10: 19 | T10: 20 | U10: 21 | V10: 22 | W10: 23 | X10: 24 | Y10: 25 | Z10: 26 | AA10: 27 | AB10: 28 | AC10: 29 | AD10: 30
A11: JAUNS | B11: Piemaksa par spinālas deformācijas intraoperatīvu monitorēšanu | C11: 175 | D11: 0 | E11: 0 | F11: =ROUND((C11*$F$5),2) -> 42 | G11: =ROUND((D11*$G$5),2) -> 0 | H11: =ROUND((E11*$H$5),2) -> 0 | I11: =ROUND(((F11+G11+H11)*$I$5),2) -> 9.91 | J11: =K11+L11 -> 83.18 | K11: 0.26 | L11: 82.92 | M11: 13.88 | N11: =ROUND((F11+G11+H11)*$N$5,2) -> 12 | O11: =ROUND((F11+G11+H11)*$O$5,2) -> 0.85 | P11: =ROUND((F11+G11+H11)*$P$5,2) -> 1.35 | Q11: =ROUND((F11+G11+H11+I11+J11+M11+N11+O11+P11),2) -> 163.17 | R11: 0 | S11: =Q11-R11 -> 163.17 | T11: =F11+G11+H11 -> 42 | U11: =I11 -> 9.91 | V11: =J11 -> 83.18 | X11: =N11 -> 12 | Y11: =O11 -> 0.85 | Z11: =M11+P11 -> 15.23 | AB11: =SUM(T11:AA11) -> 163.17 | AC11: =R11 -> 0 | AD11: =AB11-AC11 -> 163.17
A12: JAUNS | B12: Piemaksa par skrūvju ievietošanas intraoperatīvo monitorēšanu | C12: 175 | D12: 0 | E12: 0 | F12: =ROUND((C12*$F$5),2) -> 42 | G12: =ROUND((D12*$G$5),2) -> 0 | H12: =ROUND((E12*$H$5),2) -> 0 | I12: =ROUND(((F12+G12+H12)*$I$5),2) -> 9.91 | J12: =K12+L12 -> 83.18 | K12: 0.26 | L12: 82.92 | M12: 13.88 | N12: =ROUND((F12+G12+H12)*$N$5,2) -> 12 | O12: =ROUND((F12+G12+H12)*$O$5,2) -> 0.85 | P12: =ROUND((F12+G12+H12)*$P$5,2) -> 1.35 | Q12: =ROUND((F12+G12+H12+I12+J12+M12+N12+O12+P12),2) -> 163.17 | R12: 0 | S12: =Q12-R12 -> 163.17 | T12: =F12+G12+H12 -> 42 | U12: =I12 -> 9.91 | V12: =J12 -> 83.18 | X12: =N12 -> 12 | Y12: =O12 -> 0.85 | Z12: =M12+P12 -> 15.23 | AB12: =SUM(T12:AA12) -> 163.17 | AC12: =R12 -> 0 | AD12: =AB12-AC12 -> 163.17
A13: JAUNS | B13: Piemaksa par kraniālo nervu monitorēšanu | C13: 175 | D13: 0 | E13: 0 | F13: =ROUND((C13*$F$5),2) -> 42 | G13: =ROUND((D13*$G$5),2) -> 0 | H13: =ROUND((E13*$H$5),2) -> 0 | I13: =ROUND(((F13+G13+H13)*$I$5),2) -> 9.91 | J13: =K13+L13 -> 384.47 | K13: 0.26 | L13: 384.21 | M13: 13.88 | N13: =ROUND((F13+G13+H13)*$N$5,2) -> 12 | O13: =ROUND((F13+G13+H13)*$O$5,2) -> 0.85 | P13: =ROUND((F13+G13+H13)*$P$5,2) -> 1.35 | Q13: =ROUND((F13+G13+H13+I13+J13+M13+N13+O13+P13),2) -> 464.46 | R13: 0 | S13: =Q13-R13 -> 464.46 | T13: =F13+G13+H13 -> 42 | U13: =I13 -> 9.91 | V13: =J13 -> 384.47 | X13: =N13 -> 12 | Y13: =O13 -> 0.85 | Z13: =M13+P13 -> 15.23 | AB13: =SUM(T13:AA13) -> 464.46 | AC13: =R13 -> 0 | AD13: =AB13-AC13 -> 464.46
A14: JAUNS | B14: Piemaksa par introoperatīvo kontrastvielu un tās ievadīšanu | C14: 30 | D14: 30 | E14: 0 | F14: =ROUND((C14*$F$5),2) -> 7.2 | G14: =ROUND((D14*$G$5),2) -> 4.34 | H14: =ROUND((E14*$H$5),2) -> 0 | I14: =ROUND(((F14+G14+H14)*$I$5),2) -> 2.72 | J14: =K14+L14 -> 1176 | K14: ='[11]Ārstn.līdz.'!$G$11 -> 1176 | L14: 0 | M14: 0 | N14: =ROUND((F14+G14+H14)*$N$5,2) -> 3.3 | O14: =ROUND((F14+G14+H14)*$O$5,2) -> 0.23 | P14: =ROUND((F14+G14+H14)*$P$5,2) -> 0.37 | Q14: =ROUND((F14+G14+H14+I14+J14+M14+N14+O14+P14),2) -> 1194.16 | R14: 0 | S14: =Q14-R14 -> 1194.16 | T14: =F14+G14+H14 -> 11.54 | U14: =I14 -> 2.72 | V14: =J14 -> 1176 | X14: =N14 -> 3.3 | Y14: =O14 -> 0.23 | Z14: =M14+P14 -> 0.37 | AB14: =SUM(T14:AA14) -> 1194.16 | AC14: =R14 -> 0 | AD14: =AB14-AC14 -> 1194.16
A15: JAUNS | B15: Piemaksa par intraoperatīvo motoro mapēšanu | C15: 175 | D15: 0 | E15: 0 | F15: =ROUND((C15*$F$5),2) -> 42 | G15: =ROUND((D15*$G$5),2) -> 0 | H15: =ROUND((E15*$H$5),2) -> 0 | I15: =ROUND(((F15+G15+H15)*$I$5),2) -> 9.91 | J15: =K15+L15 -> 737.79 | K15: 0.26 | L15: 737.53 | M15: 13.76 | N15: =ROUND((F15+G15+H15)*$N$5,2) -> 12 | O15: =ROUND((F15+G15+H15)*$O$5,2) -> 0.85 | P15: =ROUND((F15+G15+H15)*$P$5,2) -> 1.35 | Q15: =ROUND((F15+G15+H15+I15+J15+M15+N15+O15+P15),2) -> 817.66 | R15: 0 | S15: =Q15-R15 -> 817.66 | T15: =F15+G15+H15 -> 42 | U15: =I15 -> 9.91 | V15: =J15 -> 737.79 | X15: =N15 -> 12 | Y15: =O15 -> 0.85 | Z15: =M15+P15 -> 15.11 | AB15: =SUM(T15:AA15) -> 817.66 | AC15: =R15 -> 0 | AD15: =AB15-AC15 -> 817.66
A16: JAUNS | B16: Piemaksa par intramodulārā tumora monitorēšanu | C16: 175 | D16: 0 | E16: 0 | F16: =ROUND((C16*$F$5),2) -> 42 | G16: =ROUND((D16*$G$5),2) -> 0 | H16: =ROUND((E16*$H$5),2) -> 0 | I16: =ROUND(((F16+G16+H16)*$I$5),2) -> 9.91 | J16: =K16+L16 -> 503.05 | K16: 0.26 | L16: 502.79 | M16: 11.61 | N16: =ROUND((F16+G16+H16)*$N$5,2) -> 12 | O16: =ROUND((F16+G16+H16)*$O$5,2) -> 0.85 | P16: =ROUND((F16+G16+H16)*$P$5,2) -> 1.35 | Q16: =ROUND((F16+G16+H16+I16+J16+M16+N16+O16+P16),2) -> 580.77 | R16: 0 | S16: =Q16-R16 -> 580.77 | T16: =F16+G16+H16 -> 42 | U16: =I16 -> 9.91 | V16: =J16 -> 503.05 | X16: =N16 -> 12 | Y16: =O16 -> 0.85 | Z16: =M16+P16 -> 12.96 | AB16: =SUM(T16:AA16) -> 580.77 | AC16: =R16 -> 0 | AD16: =AB16-AC16 -> 580.77

Sheet 3.1.VADC
D1: Pielikums Nr.8 Ministru kabineta rīkojuma projekts “Par finanšu līdzekļu apropriācijas pārdali no budžeta resora "74. Gadskārtējā valsts budžeta izpildes procesā pārdalāmais finansējums" 20.00.00 programmas "Veselības aprūpes pasākumu īstenošana"” sākotnējās ietekmes novērtējuma ziņojumam (anotācijai)
B2: VADC plazmas preparāta nodrošināšanai papildus nepieciešamais finansējums 2024. gadam
A4: Preparāta nosaukums | B4: Apjoms gadā | E4: Cena eiro par litru ( bez PVN) | F4: Cena eiro par litru (ar PVN)
B5: Garantētais (esošais) apjoms gadā, litri | C5: Minimālais nepieciešamais apjoms gadā, litri | D5: Starpība starp esošo un minimāli nepieciešamo daudzumu
A6: Cilvēka imūnglobulīns 5% | B6: 187 | C6: 487 | D6: =C6-B6 -> 300 | E6: 2400 | F6: 2688
A7: Kopējā cena eiro (ar PVN) | B7: 502656 | C7: =C6*F6 -> 1309056 | D7: =C7-B7 -> 806400

Sheet 3.2.1.NMPD_rehab
C1: Pielikums Nr.9 Ministru kabineta rīkojuma projekts “Par finanšu līdzekļu apropriācijas pārdali no budžeta resora "74. Gadskārtējā valsts budžeta izpildes procesā pārdalāmais finansējums" 20.00.00 programmas "Veselības aprūpes pasākumu īstenošana"” sākotnējās ietekmes novērtējuma ziņojumam (anotācijai)
B3: Izmaksas NMPD darbinieku psiholoģiskās rehabilitācijas nodrošināšanai
D4: 2024 | E4: 2025 | F4: 2026 un turpmāk ik gadu
B5: Ceļa izdevumi | C5: Darbinieku skaits | D5: 150 | E5: 150 | F5: 150
C6: Autobusa biļešu cena 1 virzienam (līdz Dzintariem) EUR (ar PVN) | D6: 15.55 | E6: 15.55 | F6: 15.55
C7: Kopā, EUR | D7: =D5*D6*2 -> 4665 | E7: =E5*E6*2 -> 4665 | F7: =F5*F6*2 -> 4665
B8: Dienas nauda LV | C8: Dienu skaits | D8: =D5*5 -> 750 | E8: =E5*5 -> 750 | F8: =F5*5 -> 750
C9: Dienas nauda par vienu dienu EUR | D9: 8 | E9: 8 | F9: 8
C10: Kopā EUR | D10: =D8*D9 -> 6000 | E10: =E8*E9 -> 6000 | F10: =F8*F9 -> 6000
B11: Viesnīcas izmaksas divistabu numuriņā | C11: Izmaksas vienai diennaktij vienam cilvēkam, EUR (ar 12%PVN) | D11: 26.4 | E11: 26.4 | F11: 26.4
C12: Par 5 diennaktīm vienam cilvēkam, EUR | D12: =D11*5 -> 132 | E12: =E11*5 -> 132 | F12: =F11*5 -> 132
C13: Kopā, EUR | D13: =D5*D12 -> 19800 | E13: =E5*E12 -> 19800 | F13: =F5*F12 -> 19800
B14: Izmaksas par Psiholoģiskā atbalsta kursa apmācībām | C14: Vienam cilvēkam par 1dienu, EUR | D14: 62.3 | E14: 62.3 | F14: 62.3
C15: Par 5 dienām vienam cilvēkam, EUR | D15: =D14*5 -> 311.5 | E15: =E14*5 -> 311.5 | F15: =F14*5 -> 311.5
C16: Kopā, EUR | D16: =D15*D5 -> 46725 | E16: =E15*E5 -> 46725 | F16: =F15*F5 -> 46725
C18: Visas izmaksas kopā, EUR | D18: =D7+D10+D13+D16 -> 77190 | E18: =E7+E10+E13+E16 -> 77190 | F18: =F7+F10+F13+F16 -> 77190
C20: Kopā izdevumi | D20: 2024 | E20: 2025 | F20: 2026 un turpmāk ik gadu
C21: Preces un pakalpojumi | D21: =D18 -> 77190 | E21: =E18 -> 77190 | F21: =F18 -> 77190
C22: Kopā (EUR) | D22: =D21 -> 77190 | E22: =E21 -> 77190 | F22: =F21 -> 77190

Sheet 3.2.1.NMPD_OMT_apmāc
E1: Pielikums Nr.10 Ministru kabineta rīkojuma projekts “Par finanšu līdzekļu apropriācijas pārdali no budžeta resora "74. Gadskārtējā valsts budžeta izpildes procesā pārdalāmais finansējums" 20.00.00 programmas "Veselības aprūpes pasākumu īstenošana"” sākotnējās ietekmes novērtējuma ziņojumam (anotācijai)
B3: Papildus apmācība OMT vadītājiem drošā transportlīdzekļu vadīšanā
B5: Apmācības kursa cena 1 cilvēkam, EUR t.sk. PVN* | C5: Apmācāmo darbinieku skaits 2024. gadā | D5: Kopā 2024. gadā ar PVN, EUR | E5: Apmācāmo darbinieku skaits 2025. gadā | F5: Kopā 2025. gadā ar PVN, EUR | G5: Apmācāmo darbinieku skaits 2026. gadā | H5: Kopā 2026. gadā ar PVN, EUR
B6: 293.06 | C6: 80 | D6: =ROUNDUP(C6*B6,0) -> 23445 | E6: 80 | F6: =ROUNDUP(E6*B6,0) -> 23445 | G6: 80 | H6: =ROUNDUP(G6*B6,0) -> 23445
B8: Kopā izdevumi | C8: 2024 | D8: 2025 | E8: 2026 un turpmāk ik gadu
B9: Preces un pakalpojumi | C9: =D6 -> 23445 | D9: =F6 -> 23445 | E9: =H6 -> 23445
B10: Kopā (EUR) | C10: =C9 -> 23445 | D10: =D9 -> 23445 | E10: =E9 -> 23445
B11: *indikatīva cena

Sheet 3.2.1.NMPD_apsardz
E1: Pielikums Nr.11 Ministru kabineta rīkojuma projekts “Par finanšu līdzekļu apropriācijas pārdali no budžeta resora "74. Gadskārtējā valsts budžeta izpildes procesā pārdalāmais finansējums" 20.00.00 programmas "Veselības aprūpes pasākumu īstenošana"” sākotnējās ietekmes novērtējuma ziņojumam (anotācijai)
B3: NMPD Sevišķās lietvedības un kritiskās infrastruktūras objektu fiziskās apsardzes nodrošināšana
B5: N.p.k. | C5: Adrese | D5: Apsardzes pakalpojuma veids | E5: 2024* | F5: 2025 | G5: 2026 un turpmāk ik gadu
B6: 1 | C6: Rīga, Laktas iela 8 OVC ēka | D6: Fiziskās apsardzes sadārdzinājums (2 apsargi x 24 st.) | E6: =53899+4212 -> 58111 | F6: =53899+4212 -> 58111 | G6: =53899+4212 -> 58111
B7: 2 | C7: OVC ēka Daugavpils, Siguldas iela 16A | D7: Fiziskā apsardze (2 apsargi x 24 st.) | E7: 142092 | F7: 142092 | G7: 142092
C8: Kopā (EUR): | E8: =SUM(E6:E7) -> 200203 | F8: =SUM(F6:F7) -> 200203 | G8: =SUM(G6:G7) -> 200203
D10: Kopā izdevumi | E10: 2024 | F10: 2025 | G10: 2026 un turpmāk ik gadu
D11: Preces un pakalpojumi | E11: =E8 -> 200203 | F11: =F8 -> 200203 | G11: =G8 -> 200203
D12: Kopā (EUR) | E12: =E11 -> 200203 | F12: =F11 -> 200203 | G12: =G11 -> 200203
B14: * summas ir atbilstoši noslēgtajiem līgumiem

Sheet 3.2.2.NMPD_balon
D1: Pielikums Nr.12 Ministru kabineta rīkojuma projekts “Par finanšu līdzekļu apropriācijas pārdali no budžeta resora "74. Gadskārtējā valsts budžeta izpildes procesā pārdalāmais finansējums" 20.00.00 programmas "Veselības aprūpes pasākumu īstenošana"” sākotnējās ietekmes novērtējuma ziņojumam (anotācijai)
B3: NMPD darbinieku baloniņa nodrošināšana
B5: Brigāžu skaits | C5: Darbinieku skaits | D5: Strūklas vai gēla tipa piparu baloniņš, cena Euro/gab. | E5: Kopā, Euro
B6: 196 | C6: 540 | D6: 30 | E6: 16200
D7: Izlietoto baloniņu aizvietošana 2 gadu laikā, 20% | E7: 3240
D8: Kopā: | E8: 19440
D10: Kopā izdevumi | E10: 2024.gadam
D11: Preces un pakalpojumi | E11: =E8 -> 19440
D12: Kopā (EUR) | E12: =E11 -> 19440

Sheet 3.2.2.NMPD_body_cam
E1: Pielikums Nr.13 Ministru kabineta rīkojuma projekts “Par finanšu līdzekļu apropriācijas pārdali no budžeta resora "74. Gadskārtējā valsts budžeta izpildes procesā pārdalāmais finansējums" 20.00.00 programmas "Veselības aprūpes pasākumu īstenošana"” sākotnējās ietekmes novērtējuma ziņojumam (anotācijai)
B3: NMPD darbinieku body kameras nodrošināšana
C5: Nosaukums | D5: skaits | E5: cena bez PVN, EUR | F5: cena ar PVN, EUR | G5: Izmaksas kopā, EUR
C6: Ieviešanas izmaksas kopā*: | G6: =ROUNDUP(SUM(G7:G13),0) -> 301790
C7: Body kameras | D7: 200 | E7: 800 | F7: =E7*1.21 -> 968 | G7: =F7*D7 -> 193600
C8: Straumēšanas programma | D8: 1 | E8: 503 | F8: =E8*1.21 -> 608.63 | G8: =F8*D8 -> 608.63
C9: Body kameras straumēšanas serviss | D9: 200 | E9: 62 | F9: =E9*1.21 -> 75.02 | G9: =F9*D9 -> 15004
C10: Magnēta turētājs | D10: 200 | E10: 78 | F10: =E10*1.21 -> 94.38 | G10: =F10*D10 -> 18876
C11: Dokstacija | D11: 15 | E11: 314 | F11: =E11*1.21 -> 379.94 | G11: =F11*D11 -> 5699.1
C12: Disku masīvs video ieraktiem | D12: 1 | E12: 40000 | F12: =E12*1.21 -> 48400 | G12: =F12*D12 -> 48400
C13: Mobilie sakari | D13: 1 mēn.maksa | E13: 1800 | F13: =E13*1.21 -> 2178 | G13: =F13*9 -> 19602
F15: Kopā izdevumi | G15: 2024.gadam
F16: Preces un pakalpojumi | G16: =G6 -> 301790
B17: *indikatīvas cenas | F17: Kopā (EUR) | G17: =G16 -> 301790

Sheet 3.3.VTMEC_pap_niepc
I1: Pielikums Nr.14 Ministru kabineta rīkojuma projekts “Par finanšu līdzekļu apropriācijas pārdali no budžeta resora "74. Gadskārtējā valsts budžeta izpildes procesā pārdalāmais finansējums" 20.00.00 programmas "Veselības aprūpes pasākumu īstenošana"” sākotnējās ietekmes novērtējuma ziņojumam (anotācijai)
A2: Papildus nepieciešamais finansējums 2024.gadam un turpmāk katru gadu
A3: Nr.p.k. | B3: Pozīcijas nosaukums | C3: 2024.gadam EUR | D3: 2025.gadam un turpmāk ik gadu | E3: EKK | F3: Pamatojums nepieciešamībai
A4: 1 | B4: Kritiski nepieciešamie pasākumi pamatfunkcijas uzturēšanai esošajā līmenī | C4: =C5+C12 -> 189146.38 | D4: =D5+D12 -> 208154.6 | E4: 2000
A5: 1.1. | B5: Laboratoriju un nodaļu tehnoloģiju uzturēšanai, lai nodrošinātu pamatfunkciju nepārtrauktību un ilgtspēju | C5: =SUM(C6:C11) -> 89941.062 | D5: =SUM(D6:D11) -> 106045.28 | E5: 2000
A6: 1.1.3 | B6: Izdevumi reģionu infrastruktūras uzturēšanai, lai izvairītos no ārkārtas avārijas stāvokļa iestāšanās | C6: =64416.87/12*9 -> 48312.653 | D6: 64416.87 | E6: 2241 | F6: Finansējums nepieciešams 7 reģionu infrastruktūras uzturēšanai (avārījas sistuāciju novēršanai, nolietotas aukstuma saldēšanas sistēmas, bojāto sanitāro mezglu labošanai, apgaismojuma nomaiņai, nolietoto mēbeļu (krēslu, u.c.) u.c.), lai nodrošinātu funkciju nepārtrauktību, ~ 9 202.32 EUR gadā katrai struktūrvienībai, kas vidēji mēnesī ir ~ 766, 86 EUR ar PVN, tādā veidā arī nodrošinot darba aizsardzības prasību ievērošanu.
A7: 1.1.4 | B7: Izmeklējuma veikšana nāves cēloņa precizēšanai | C7: 14286 | D7: 14286 | E7: 2239 | F7: 1) Papildus laboratoriskie izmeklējumi virusoloģiskai diagnostikai 3456 EUR. Izmeklējumi nepieciešami akūtu respiratoru vīrusu infekciju, t.sk. COVID-19 infekcijas, gripas, adenovīrusu u.c. diagnostikai, precīzākai nāves cēloņa noteikšanai un diagnostiskai algoritma (nāves gadījumu pēc vakcinācijas pret COVID-19 izmeklēšanai) izpildei saskaņā ar vadlīnijās "Dzīvo personu un mirušo tiesu medicīniskā ekspertīze ietvaros" noteikto. 2) Autosiju materiāla imūnhistoķīmija (ar 6 stikliņiem) 9 000 EUR, aptuveni 100 gadījumi gadā. Mirušo cilvēku tiesu medicīniskās ekspertīzēs aksonālo bojājumu diagnostikai galvas traumu gadījumos (aptuveni 100 gadījumi gadā) nepieciešams izmantot papildizmeklējumu metodi – imūnhistoķīmisko morfoloģiskās izmeklēšanas metodi. 3) Mirušo cilvēku tiesu medicīniskās ekspertīzēs šautu ievainojumu, sprādziena traumas gadījumos, bojājumu un svešķermeņu identifikācijai mirušajiem ar vēlīnām pēcnāves un augstas temperatūras radītām pārmaiņām nepieciešams pielietot radioloģiskās izmeklēšanas metodes 1830 EUR. Aptuveni 20-30 gadījumos gadā RTG izmeklējumus, no tiem aptuveni 15 gadījumos datortomogrāfijas izmeklējums.
A8: 1.1.5 | B8: Dokumentu arhivēšanas pakalpojumi | C8: 1350 | D8: 1350 | E8: 2239 | F8: Dokumentu arhīvu pakalpojumu nodrošināšana, lai katru gadu varētu nodrošināt pastāvīgi un ilgstoši glabājamo dokumentu sakārtošana atbilstoši MK 06.11.2012. noteikumos Nr.748 “Dokumentu un arhīvu pārvaldības” 4.nodaļā noteiktām prasībām.
A9: 1.1.6 | B9: Starplaboratoriju salīdzinošā testēšana atbilstoši akreditācijas standarta prasībām, GEDNAP 54.starptautiskais pārbaudes tests | C9: 807.41 | D9: 807.41 | E9: 2239 | F9: Divu starptautisko pārbaudes testu veikšana, atbilstoši standarta LVS EN ISO/IEC 17025:2017 „Testēšanas un kalibrēšanas laboratoriju kompetences vispārīgās prasības” prasībām, lai veiksmīgi izietu ikgadējo Latvijas Nacionālā akreditācijas biroja uzraudzību
A10: 1.1.7 | B10: Latvijas audu bankas nodaļas atbilstības novērtēšana | C10: 520 | D10: 520 | E10: 2239 | F10: Atbilstoši MK 22.10.2013. noteikumos Nr. 1176 "Cilvēka audu un šūnu izmantošanas kārtība" noteiktajam Zāļu valsts aģentūra, kā audu centru un ieguves organizāciju uzraugošā iestāde veic Latvijas audu bankas nodaļas atbilstības novērtēšana un darbības atbilstības uzraudzības pārbaudi, lai novērtētu tās atbilstību noteikumos noteiktajām prasībām. Izmaksas atbilstoši Zāļu valsts aģentūras maksas pakalpojumu cenrādim
A11: 1.1.8 | B11: Pamatfunkcijas uzturēšanai - reaģentu iegādes ekspertīžu un izpēšu nodrošināšanai | C11: 24665 | D11: 24665 | E11: 2341 | F11: Ekspertīžu un izpēšu funkcijas nodrošināšanai nepeiciešamo reaģentu iegādes, t.sk.laboratorijas instrumenti un laboratorijas trauki.
A12: 1.2. | B12: Informācijas tehnoloģiju pakalpojumiem, sekmējot ekspertīžu izpildes operativitāti un uzlabojot darba efektivitāti, kā arī Centra informācijas tehnoloģijas uzlabošanai | C12: =SUM(C13:C22) -> 99205.32 | D12: =SUM(D13:D22) -> 102109.32 | E12: 2250
A13: 1.2.1 | B13: Serveru infrastruktūrai pakalpojuma īre LRVTC | C13: 8917.7 | D13: 8917.7 | E13: 2250 | F13: Atbilstoši VARAM izstrādātajam informatīvajam ziņojumam „Par valsts informācijas un komunikācijas tehnoloģiju resursu un kompetenču konsolidāciju” 5. punktu, nepieciešams Valsts tiesu medicīnas ekspertīzes informācijas sistēmu “Tiesu medicīnas ekspertīžu informācijas sistēma” iekļaut Valsts elektronisko sakaru pakalpojumu centra pakalpojumu izmantotāju sarakstā. Tāpēc tos, neatkarīgi no pārvaldes nozaru piederības, var nodrošināt specializēti kompetenču centri, un viens no šādiem kompetenču centriem ir Latvijas Valsts radio un televīzijas centrs, kurš valsts elektronisko sakaru pakalpojumu centra pakalpojumu ietvaros nodrošina arī rezerves kopiju glabāšanas pakalpojumu. Papildus ņemot vērā, ka tiesu medicīniskās ekspertīzes un izpētes dati ir ierobežotas pieejamības dati, kuriem ir jānodrošinās pret datu nozaudēšanu un vai pat pilnīgu izslēgšanu.
A14: 1.2.2 | B14: IT drošības pārvaldnieka pakalpojumi | C14: 7260 | D14: 7260 | E14: 2250 | F14: Lai nodrošinātu MK 28.07.2015 noteikumu Nr. 442 "Kārtība, kādā tiek nodrošināta informācijas un komunikācijas tehnoloģiju sistēmu atbilstība minimālajām drošības prasībām" izpildi - paaugstinātas drošības sistēmām. IT drošības nodrošināšanai, IT sistēmu analīzei (t.sk.kiberdrošības risinājumu nodrošināšanai).
A15: 1.2.3 | B15: ugunsmūra uzturēšana | C15: 4508.46 | D15: 4508.46 | E15: 2250 | F15: VTMEC drošības un datu tīkla nodrošināšana
A16: 1.2.4 | B16: Konsultācijas IT jautājumos | C16: =11616/12*9 -> 8712 | D16: 11616 | E16: 2250 | F16: 16 stundas mēnesī, 1 stundas likme apmēram 60.50 EUR, gadā 11 616 EUR. Centram ir tikai 1 darbinieks, kas nodrošina IT funkciju. Lai pēc iespējas operatīvāk nodrošinātu IT funkcijas nepārtrauktību, VTMEC plāno piesaistīt ārpakalpojumu.
A17: 1.2.5 | B17: Divfaktoru autentifikācijas risinājuma (vai analoga) ieviešana | C17: 26000 | D17: 26000 | E17: 2250 | F17: Nodrošināt modernus un galvenais drošus autetifikācijas mehānismus VTMEC. MK 442 ITK noteikumi paaugstinātas drošības IS šadu pieprasa. Kā arī vieksmīgi izveidots šāds risinājums dos ne tikai papildus drošību, bet arī vienkāršos lietotāju ikdienas darbu.
A18: 1.2.6 | B18: SOC SIEM (Datu drošības pārvaldnieks utt.) | C18: 30850 | D18: 30850 | E18: 2250 | F18: Lai nodrošinātu MK noteikumu Nr. 442 izpildi - paaugstinātas drošības sistēmām. VTMEC nepieciešams SOC/SIEM rīks un licences, kā arī IT drošības pārvaldnieks (plānots piesaistīt ārpakalpojumu, kuru organizē NVD centralizētu iepirkumu).
A19: 1.2.7 | B19: ESET Endpoint Antivīruss, ESET Endpoint Proptection, Licence | C19: 1210 | D19: 1210 | E19: 2250 | F19: Datu aizsardzības nodrošināšanai
A20: 1.2.8 | B20: Teamviewer u.c. | C20: 277.16 | D20: 277.16 | E20: 2250 | F20: VTMEC IT darbinieka attālinātā atbalsta sniegšana pārējiem darbinikiem saistībā ar VTMEC funkciju darbības nepārtrauktības nodrošināšanu.
A21: 1.2.9 | B21: Veem rezerves kopēšanas risinājums | C21: 3000 | D21: 3000 | E21: 2250 | F21: Darba drošibāi/uzlabošanai - pasargā gan no nejaušas, gan tīšas datu izdzēšanas, iekšējiem un ārējiem drošības draudiem, ļauj ērti atgriezt zudušos datus, nodrošina atbilstību juridiskajām prasībām, hibrīdu e-pasta pārvaldību, izvietošanu un migrēšanu .
A22: 1.2.10 | B22: IT drošības audits TMEIS | C22: 8470 | D22: 8470 | E22: 2250 | F22: Paaugstinātas drošības sistēmām nepieciešams katru gadu veikt drošības auditu - MK 442 ITK noteikumi.
A23: Pavisam kopā | C23: =ROUNDUP(C4,0) -> 189147 | D23: =ROUNDUP(D4,0) -> 208155 | E23: 2000
B68: Izdevumi reģionu infrastruktūras uzturēšanai, lai izvairītos no ārkārtas avārijas stāvokļa iestāšanās

Sheet 4.1. NVD_papild_uztur
E1: Pielikums Nr.15 Ministru kabineta rīkojuma projekts “Par finanšu līdzekļu apropriācijas pārdali no budžeta resora "74. Gadskārtējā valsts budžeta izpildes procesā pārdalāmais finansējums" 20.00.00 programmas "Veselības aprūpes pasākumu īstenošana"” sākotnējās ietekmes novērtējuma ziņojumam (anotācijai)
A3: Papildus nepieciešamais finansējums Laboratorisko izmeklējumu pārvaldības moduļa un Vēža pacienta kartes darbības nodrošināšanai
A4: Nr.p.k. | B4: Nosaukums | C4: Precizēts apraksts | D4: Vienību skaits | E4: Vienību nosaukums | F4: Vienības cena (bez PVN) * | G4: EKK | H4: Papildu nepieciešamais finansējums 2024.gadamun turpmāk ik gadu, EUR
A5: 1 | B5: Ekspertu pakalpojumi | C5: Ekspertiem jānodrošina sekojošais: 1.1. koordinēt un uzraudzīt pacientu pamatdatu un laboratorisko izmeklējumu datu elektronisko apmaiņu ar ārstniecības iestāžu un laboratoriju informācijas sistēmām (turpmāk – IS); 1.2. nodrošināt savietojamību ar ārstniecības iestāžu un laboratoriju IS; 1.3. nodrošināt izmaiņu vadību un sadarbību ar ārstniecības iestāžu un laboratoriju IS izstrādātājiem un ārstniecības iestāžu pilnvarotajām personām par plānotajām un ieviestajām izmaiņām un risinājumu funkcionalitātēm; 1.4. nodrošināt un organizēt medicīnas laboratoriju novērojumu identificēšanas nosaukumu un kodu klasifikatoru (turpmāk – LOINC klasifikators) karšu izmaiņu realizāciju un atjaunošanu saskaņā ar HL7 FHIR standartu; 1.5. vadīt un veikt problēmu risināšanu, kas saistīta ar datu apmaiņas nodrošināšanu; 1.6. vadīt uzturēšanu, papildināšanu un izmaiņu veikšanu; 1.7. sniegt lietotājiem pirmā līmeņa konsultatīvo un tehnisko atbalstu; 1.8. pārraudzīt jaunu integrācijas risinājumu pieslēgšanu, nodrošinot testēšanu un pakalpojuma juridisko atšķirību salāgošanu; 1.9 koordinēt starpresoru jautājumu risināšanu, kas attiecas uz nepieciešamo klasifikatoru un klasifikāciju uzturēšanu; 1.10. koordinēt ārstniecības iestāžu/laboratoriju IS izstrādātāju atbalstu integrāciju nodrošināšanai; 1.11 koordinēt LOINC klasifikatoru standartizēšanu un kartēšanas rezultātu saskaņošanu; 1.12 nodrošināt IS un IKT infrastruktūras pārraudzību, administrēšanu un darbību. | D5: =6220 -> 6220 | E5: Stundas | F5: 80 | G5: 2000 | H5: =D5*F5 -> 497600
A6: Kopā: | C6: KOPĀ: | H6: =SUM(H5:H5) -> 497600
A7: PVN | H7: =H6*0.21 -> 104496
A8: Kopā ar PVN | H8: =H6+H7 -> 602096
B9: t.sk., pa EKK
A10: EKK 2000 | H10: =H8 -> 602096
A12: * cena ir atbilstoši esošajai tirgus situācijai, kā arī atbilstoša noslēgtajiem līgumiem par informācijas sistēmas attīstību un uzturēšanu

Sheet 4.1.NVD_TPL
G1: Pielikums Nr.16 Ministru kabineta rīkojuma projekts “Par finanšu līdzekļu apropriācijas pārdali no budžeta resora "74. Gadskārtējā valsts budžeta izpildes procesā pārdalāmais finansējums" 20.00.00 programmas "Veselības aprūpes pasākumu īstenošana"” sākotnējās ietekmes novērtējuma ziņojumam (anotācijai)
A2: Papildu nepieciešamais finansējums atzinuma tehniskā palīglīdzekļa saņemšanas pilnveidošanai
A3: Nr.p.k. | B3: Nosaukums | C3: Precizēts apraksts | D3: Vienību skaits | E3: Vienību nosaukums | F3: Vienības cena (bez PVN)* | G3: EKK | H3: Papildu nepieciešamais finansējums 2024.gadam EUR
A4: 1 | B4: Pielāgošanas/ izstrādes izmaksas | C4: Atzinuma tehniskā palīglīdzekļa saņemšanai pilnveidošana - papildināšana ar diviem laukiem: izskatīšanas steidzamība un steidzamības iemesls. Novērtējumā iekļauts: izmaiņu izstrāde e-veselības sistēmā, t.sk., portālā un atbalsts ĀI IS integrācijām, risinājuma dokumentēšana | D4: 133 | E4: Cilvēkstunda | F4: 80 | G4: 5000 | H4: =D4*F4 -> 10640
A5: Kopā bez PVN: | H5: =SUM(H4:H4) -> 10640
B6: Kopā ar PVN: | H6: =SUM(H5:H5)*1.21 -> 12874.4
C7: t.sk., pa EKK
A8: EKK 5000 | H8: =SUM(H6) -> 12874.4
A10: * cena ir atbilstoši esošajai tirgus situācijai, kā arī atbilstoša noslēgtajiem līgumiem par informācijas sistēmas attīstību un uzturēšanu
A13: Papildu nepieciešamais finansējums atzinuma tehniskā palīglīdzekļa saņemšanas uzturēšanai
A14: Nr.p.k. | B14: Nosaukums | C14: Precizēts apraksts | D14: Vienību skaits | E14: Vienību nosaukums | F14: Vienības cena (bez PVN) | G14: EKK | H14: Papildu nepieciešamais finansējums 2024.gadam, EUR | I14: Papildu nepieciešamais finansējums 2025.gadam un turpmāk ik gadu, EUR
A15: 1 | B15: Uzturēšanas izmaksas | C15: Atzinuma tehniskā palīglīdzekļa uzturēšanas nodrošināšanai 2024 gada sešiem mēnešiem | D15: 6 | E15: Mēneša uzturēšanas izmaksas | F15: 307.34134 | G15: 2000 | H15: =D15*F15 -> 1844.048 | I15: -
A16: 2 | B16: Uzturēšanas izmaksas | C16: Atzinuma tehniskā palīglīdzekļa uzturēšanas nodrošināšanai 2025 gada un turpmākajiem gadiem | D16: 12 | E16: Mēneša uzturēšanas izmaksas | F16: 307.34134 | G16: 2000 | H16: - | I16: =(D16*F16) -> 3688.0961
A17: Kopā: | H17: =SUM(H15:H15) -> 1844.048 | I17: =I16 -> 3688.0961
A18: Kopā ar PVN | H18: =H17*1.21 -> 2231.2981 | I18: =I17*1.21 -> 4462.5962
C19: t.sk., pa EKK
A20: EKK 2000 | H20: =H18 -> 2231.2981 | I20: =I18 -> 4462.5962

Sheet 4.2.NVD_DigiVes_jauna_funk
D1: Pielikums Nr.17 Ministru kabineta rīkojuma projekts “Par finanšu līdzekļu apropriācijas pārdali no budžeta resora "74. Gadskārtējā valsts budžeta izpildes procesā pārdalāmais finansējums" 20.00.00 programmas "Veselības aprūpes pasākumu īstenošana"” sākotnējās ietekmes novērtējuma ziņojumam (anotācijai)
A3: Papildu nepieciešamais finansējuma apjoms jaunas DigiVes funkcionalitātes ieviešanai 2024.gadā
A5: Nosaukums | B5: Vienību skaits | C5: Vienību nosaukums | D5: Vienības cena (bez PVN) * | E5: EKK | F5: Papildu nepieciešamais finansējums 2024.gadam
A6: E-nosūtījumu (amb. un stac.) funkcionalitātes izstrāde un ieviešana | B6: 8250 | C6: cilvēkstundas | D6: 80 | E6: 5000 | F6: =(B6*D6)*1.21 -> 798600
A7: Kopā: | F7: =SUM(F6:F6) -> 798600
B8: t.sk., pa EKK
A9: EKK 5000 | F9: =F7 -> 798600
A12: * cena ir atbilstoši esošajai tirgus situācijai, kā arī atbilstoša noslēgtajiem līgumiem par informācijas sistēmas attīstību un uzturēšanu

Sheet 4.3.IKT ZZ
D1: Pielikums Nr.18 Ministru kabineta rīkojuma projekts “Par finanšu līdzekļu apropriācijas pārdali no budžeta resora "74. Gadskārtējā valsts budžeta izpildes procesā pārdalāmais finansējums" 20.00.00 programmas "Veselības aprūpes pasākumu īstenošana"” sākotnējās ietekmes novērtējuma ziņojumam (anotācijai)
B3: Paildus nepieciešamais finansējums, lai pielāgotu Nacionālā veselības dienesta informācijas sistēmas "Vienotā veselības nozares in-formācijas sistēma (VVIS)", "Veselības aprūpes pakalpojumu apmaksas norēķinu sistēma "Vadības informācijas sistēma" (VIS)" un "Kompensējamo zāļu reģistrācijas un uzskaites informācijas sistēma (KZRU)" 2024. gadam un turpmāk ik gadu
B7: Pasākums | C7: 2024.gads, euro | D7: 2025.gad, euro
B8: Nacionālā veselības dienesta informācijas sistēmās "Vienotā veselības nozares informācijas sistēma (VVIS)", "Veselības aprūpes pakalpojumu apmaksas norēķinu sistēma „Vadības informācijas sistēma” (VIS)" un "Kompensējamo zāļu reģistrācijas un uzskaites informācijas sistēma (KZRU)" izmaiņu izstrāde, ieviešana un uzturēšana | C8: =ROUNDUP(1032.257*775,0) -> 800000 | D8: 128000
B9: NVD Informācijas sistēmās "Vienotā veselības nozares informācijas sistēma (VVIS)", "Veselības aprūpes pakalpojumu apmaksas norēķinu sistēma „Vadības informācijas sistēma” (VIS)" un "Kompensējamo zāļu reģistrācijas un uzskaites informācijas sistēma (KZRU)" izmaiņu izstrādei un ieviešanai 2024.gadā nepieciešams papildus finansējums 800 000 euro (ar PVN), jeb 1 032 cilvēkdienas (vienas cilvēkdienas izmaksas 775 euro), ietverot pozīcijas: 1. M saraksta elektronizēšana VIS, VVIS, KZRU; 2. klasifikatoru izveidošana, servisu un algoritmu izstrāde VIS, VVIS, KZRU; 3. datu apmaiņas risinājuma ar ĀI IS izstrāde; 4. datu apmaiņu starp NVD IS (VVIS, VIS) izstrāde un automatizācija. Izmaksu aprēķinā nav iekļauti izdevumi, lai šīm izmaiņām pielagotu ārstniecības iestāžu izmantotās informācijas sistēmas. 2025.gadā un turpmākos gados informācijas sistēmu uzturēšanai papildus ir nepieciešami 128 000 euro ik gadu.

Sheet 4.4. NVD_papild_eksperti
D1: Pielikums Nr.19 Ministru kabineta rīkojuma projekts “Par finanšu līdzekļu apropriācijas pārdali no budžeta resora "74. Gadskārtējā valsts budžeta izpildes procesā pārdalāmais finansējums" 20.00.00 programmas "Veselības aprūpes pasākumu īstenošana"” sākotnējās ietekmes novērtējuma ziņojumam (anotācijai)
A2: Aprēķins kvalitātes pakalpojuma uzlabošanai
A4: Izdevumu pozīcija | B4: Piesaistām ekspertu skaits | C4: Stundas izmaksa, euro* | D4: Stundu skaits mēnesī | E4: Izmaksas mēnesī vienam ekspertam, euro | F4: Izmaksas gadā vienam ekspertam, euro | G4: Papildus nepieciešams finansējums 2024.gadā, euro | H4: Papildus nepieciešams finansējums 2025.gadā un turpmāk ik gadu, euro
A5: Vadlīniju izstrāde katrai diagnozei kompensējamo zāļu sarakstā iekļautajiem medikamentiem | B5: 2 | C5: =55*1.21 -> 66.55 | D5: 80 | E5: =SUM(C5)*D5 -> 5324 | F5: =SUM(E5)*12 -> 63888 | G5: =SUM(F5*B5)/12*9 -> 95832 | H5: =F5*B5 -> 127776
A6: Kritēriju izstrāde (nenoklātās vajadzības, jauni medikamenti, jaunas diagnozes, kādi medikamenti kur trūkst, kādas līnijas nav noklātas ar terapiju) | B6: 2 | C6: =55*1.21 -> 66.55 | D6: 80 | E6: =SUM(C6)*D6 -> 5324 | F6: =SUM(E6)*12 -> 63888 | G6: =SUM(F6*B6)/12*9 -> 95832 | H6: =F6*B6 -> 127776
A7: DRG eksperts (esošās sistēmas audits stacionāro ārstniecības veselības aprūpes iestāžu sniegto pakalpojumu uzskaitei) | B7: 2 | C7: =55*1.21 -> 66.55 | D7: 80 | E7: =SUM(C7)*D7 -> 5324 | F7: =SUM(E7)*12 -> 63888 | G7: =SUM(F7*B7)/12*9 -> 95832 | H7: =F7*B7 -> 127776
A8: KOPĀ: | G8: =ROUND(SUM(G5:G7),0) -> 287496 | H8: =ROUND(SUM(H5:H7),0) -> 383328
A10: *stundas likme ārpakalpojumu ekspertiem tika noteikta pēc iepriekšējā gada NVD noslēgtā līguma “Par projekta vadības atbalsta pakalpojumu iegādi”, kā arī prognozētais izmaksu pieaugums 10% apmērā.

Sheet 4.5.NVD_CEF_atlīdzība
H1: Pielikums Nr.20 Ministru kabineta rīkojuma projekts “Par finanšu līdzekļu apropriācijas pārdali no budžeta resora "74. Gadskārtējā valsts budžeta izpildes procesā pārdalāmais finansējums" 20.00.00 programmas "Veselības aprūpes pasākumu īstenošana"” sākotnējās ietekmes novērtējuma ziņojumam (anotācijai)
A2: Nepieciešamā finansējuma aprēķins atlīdzībai 2024.gadam
A3: Amats | B3: Slodžu skaits | C3: Saime (apakšsaime) | D3: Līmenis | E3: Mēnešalgu grupa | F3: Amata vietai plānotā mēnešalga* | G3: Piemaksa (5%) | H3: Prēmijas un naudas balvas 10% | I3: Sociālā garantija 5% | J3: Valsts sociālās apdrošināšanas obligātās iemaksas, 23.59% | K3: Kopā mēnesī | L3: Kopā 9 mēnešiem | M3: Kopā 9 mēnešiem (1100) | N3: Kopā 9 mēnešiem (1200) | O3: KOPĀ atlīdzībai
A4: 1 | B4: 2 | C4: 3 | D4: 4 | E4: 5 | F4: 6 | G4: 7=6*5% | H4: 8=6*10% | I4: 9=6*5% | J4: 10=(6+7+8+9)*23.59% | K4: 11=6+7+8+10+11 | L4: 12=11*9 mēn. | M4: 13=(6+7+8)*9 mēn | N4: 14=(9+10)* 9 mēn | O4: 16=13+14+15
A5: Projektu vadītājs | B5: 1 | C5: 39.1 | D5: IV B | E5: 11 | F5: 2304 | G5: =SUM(F5*0.05) -> 115.2 | H5: =SUM(F5)*0.1 -> 230.4 | I5: =(SUM(F5)*0.05) -> 115.2 | J5: =SUM(F5:I5)*0.2359 -> 652.21632 | K5: =SUM(F5:J5) -> 3417.0163 | L5: =K5*9 -> 30753.147 | M5: =(F5+G5+H5)*9 -> 23846.4 | N5: =(I5+J5)*9 -> 6906.7469 | O5: =SUM(K5)*9 -> 30753.147
A6: Vecākais informācijas sistēmu administrators | B6: 1 | C6: 21.5 | D6: V | E6: 12 | F6: 2304 | G6: =SUM(F6*0.05) -> 115.2 | H6: =SUM(F6)*0.1 -> 230.4 | I6: =(SUM(F6)*0.05) -> 115.2 | J6: =SUM(F6:I6)*0.2359 -> 652.21632 | K6: =SUM(F6:J6) -> 3417.0163 | L6: =K6*9 -> 30753.147 | M6: =(F6+G6+H6)*9 -> 23846.4 | N6: =(I6+J6)*9 -> 6906.7469 | O6: =SUM(K6)*9 -> 30753.147
A7: Vecākais eksperts | B7: 1 | C7: 21.6 | D7: III | E7: 10 | F7: 1653 | G7: =SUM(F7*0.05) -> 82.65 | H7: =SUM(F7)*0.1 -> 165.3 | I7: =(SUM(F7)*0.05) -> 82.65 | J7: =SUM(F7:I7)*0.2359 -> 467.93124 | K7: =SUM(F7:J7) -> 2451.5312 | L7: =K7*9 -> 22063.781 | M7: =(F7+G7+H7)*9 -> 17108.55 | N7: =(I7+J7)*9 -> 4955.2312 | O7: =SUM(K7)*9 -> 22063.781
A8: KOPÄ: | B8: 3 | F8: =SUM(F5:F7) -> 6261 | G8: =SUM(G5:G7) -> 313.05 | H8: =SUM(H5:H7) -> 626.1 | I8: =SUM(I5:I7) -> 313.05 | J8: =SUM(J5:J7) -> 1772.3639 | K8: =SUM(K5:K7) -> 9285.5639 | L8: =SUM(L5:L7) -> 83570.075 | M8: =SUM(M5:M7) -> 64801.35 | ... O8: =SUM(O5:O7) -> 83570.075
A11: * par pamatu tika ņemta bāzes alga 2024.gadam
A14: Nepieciešamā finansējuma aprēķins atlīdzībai 2025.gadam un turpmāk ik gadu
A15: Amats | B15: Slodžu skaits | C15: Saime (apakšsaime) | D15: Līmenis | E15: Mēnešalgu grupa | F15: Amata vietai plānotā mēnešalga** | G15: Piemaksa (5%) | H15: Prēmijas un naudas balvas 10% | I15: Sociālā garantija 5% | J15: Valsts sociālās apdrošināšanas obligātās iemaksas, 23.59% | K15: Kopā mēnesī | L15: Kopā 12 mēnešiem | M15: Kopā 12 mēnešiem (1100) | N15: Kopā 12 mēnešiem (1200) | O15: KOPĀ atlīdzībai
A16: Projektu vadītājs | B16: 1 | C16: 39.1 | D16: IV B | E16: 11 | F16: 2304 | G16: =SUM(F16*0.05) -> 115.2 | H16: =SUM(F16)*0.1 -> 230.4 | I16: =(SUM(F16)*0.05) -> 115.2 | J16: =SUM(F16:I16)*0.2359 -> 652.21632 | K16: =SUM(F16:J16) -> 3417.0163 | L16: 39215.6 | M16: 30888 | N16: 8327.6 | O16: =SUM(K16)*12 -> 41004.196
A17: Vecākais informācijas sistēmu administrators | B17: 1 | C17: 21.5 | D17: V | E17: 12 | F17: 2442 | G17: =SUM(F17*0.05) -> 122.1 | H17: =SUM(F17)*0.1 -> 244.2 | I17: =(SUM(F17)*0.05) -> 122.1 | J17: =SUM(F17:I17)*0.2359 -> 691.28136 | K17: =SUM(F17:J17) -> 3621.6814 | L17: 36433.64 | M17: 28696.8 | N17: 7736.84 | O17: =SUM(K17)*12 -> 43460.176
A18: Vecākais eksperts | B18: 1 | C18: 21.6 | D18: III | E18: 10 | F18: 1653 | G18: =SUM(F18*0.05) -> 82.65 | H18: =SUM(F18)*0.1 -> 165.3 | I18: =(SUM(F18)*0.05) -> 82.65 | J18: =SUM(F18:I18)*0.2359 -> 467.93124 | K18: =SUM(F18:J18) -> 2451.5312 | L18: 27702.3 | M18: 21819.6 | N18: 5882.7 | O18: =SUM(K18)*12 -> 29418.375
A19: KOPÄ: | B19: 3 | F19: =SUM(F16:F18) -> 6399 | G19: =SUM(G16:G18) -> 319.95 | H19: =SUM(H16:H18) -> 639.9 | I19: =SUM(I16:I18) -> 319.95 | J19: =SUM(J16:J18) -> 1811.4289 | K19: =SUM(K16:K18) -> 9490.2289 | L19: =SUM(L16:L18) -> 103351.54 | M19: =SUM(M16:M18) -> 81404.4 | ... O19: =SUM(O16:O18) -> 113882.75
A21: ** par pamatu tika ņemta bāzes alga 2025.gadam

Sheet 4.6. NVD_MI
D1: Pielikums Nr.21 Ministru kabineta rīkojuma projekts “Par finanšu līdzekļu apropriācijas pārdali no budžeta resora "74. Gadskārtējā valsts budžeta izpildes procesā pārdalāmais finansējums" 20.00.00 programmas "Veselības aprūpes pasākumu īstenošana"” sākotnējās ietekmes novērtējuma ziņojumam (anotācijai)
A2: Pilotprojekta mākslīgā intelekta tehnoloģiju attīstībai nepieciešamais finansējums
A4: Izdevumu pozīcija | B4: Mērvienība | C4: Skaits | D4: Cena par vienu vienību (bez PVN) | E4: Papildus nepieciešams finansējums 2024.gadā, euro
A5: Maksājums ģimenes ārstiem par piedalīšanos projektā | B5: skaits | C5: 20 | D5: 800 | E5: =C5*D5 -> 16000
A6: Analīžu datu sagatavošana un apstrāde ar MI rīkiem | B6: Gab | C6: 4000 | D6: 1.5 | E6: =C6*D6 -> 6000
A7: Funkcionalitātes pielāgošana pilotprojekta vajadzībām | B7: Cilvēkstundas | C7: 50 | D7: 80 | E7: =C7*D7 -> 4000
A8: KOPĀ: | E8: =E5+E6+E7 -> 26000
A9: PVN: | E9: =E8*0.21 -> 5460
A10: KOPĀ ar PVN: | E10: =E8+E9 -> 31460

Sheet 4.7.EPIDEM_infrastruktura
D1: Pielikums Nr.22 Ministru kabineta rīkojuma projekts “Par finanšu līdzekļu apropriācijas pārdali no budžeta resora "74. Gadskārtējā valsts budžeta izpildes procesā pārdalāmais finansējums" 20.00.00 programmas "Veselības aprūpes pasākumu īstenošana"” sākotnējās ietekmes novērtējuma ziņojumam (anotācijai)
A2: EPIDEM infrastruktūras uzturēšana un funkcionalitātes paplašināšanai papildu nepieciešamais finansējums
A4: EPIDEM infrastruktūras uzturēšana 2024.gadā
A5: DC pakalpojums: | B5: Mērvienība | C5: Cena par vienību, bez PVN | D5: Daudzums | E5: Ikmēneša abonēšanas maksa, bez PVN | F5: Ikmēneša abonēšanas maksa, ar PVN
A6: Virtuālo serveru jaudu pakalpojums, kodoli (PROD) | B6: vCPU, gab | C6: 2.39 | D6: 10 | E6: =C6*D6 -> 23.9 | F6: =E6*1.21 -> 28.919
A7: Virtuālo serveru jaudu pakalpojums, operatīvā atmiņa (PROD) | B7: RAM, 1GB | C7: 0.43 | D7: 16 | E7: =C7*D7 -> 6.88 | F7: =E7*1.21 -> 8.3248
A8: Virtuālo serveru jaudu pakalpojums, diska vieta (PROD) | B8: SSD, 1TB | C8: 25.16 | D8: 0.7 | E8: =C8*D8 -> 17.612 | F8: =E8*1.21 -> 21.31052
A9: Virtuālo serveru jaudu pakalpojums, kodoli (TEST) | B9: vCPU, gab | C9: 2.39 | D9: 10 | E9: =C9*D9 -> 23.9 | F9: =E9*1.21 -> 28.919
A10: Virtuālo serveru jaudu pakalpojums, operatīvā atmiņa (TEST) | B10: RAM, 1GB | C10: 0.43 | D10: 16 | E10: =C10*D10 -> 6.88 | F10: =E10*1.21 -> 8.3248
A11: Virtuālo serveru jaudu pakalpojums, diska vieta (TEST) | B11: SSD, 1TB | C11: 25.16 | D11: 0.7 | E11: =C11*D11 -> 17.612 | F11: =E11*1.21 -> 21.31052
D12: Kopā: | E12: =SUM(E6:E11) -> 96.784 | F12: =E12*1.21 -> 117.10864
A14: Rezerves kopēšana: | B14: Mārvienība | C14: Cena par vienību, bez PVN | D14: Daudzums | E14: Cena EUR kopā mēnesī, bez PVN | F14: Cena EUR kopā mēnesī, ar PVN
A15: Datubāzes/aplikācijas rezerves kopēšanas aģents | B15: gab | C15: 50 | D15: 4 | E15: =D15*C15 -> 200 | F15: =E15*1.21 -> 242
A16: Operētājsistēmas/Failsistēmas rezerves kopēšanas aģents | B16: gab | C16: 30 | D16: 4 | E16: =D16*C16 -> 120 | F16: =E16*1.21 -> 145.2
A17: Virtuālā servera rezerves kopēšana aģents | B17: gab | C17: 10 | D17: 4 | E17: =D17*C17 -> 40 | F17: =E17*1.21 -> 48.4
A18: Datu glabātuve | B18: 1TB | C18: 20 | D18: 1.5 | E18: =D18*C18 -> 30 | F18: =E18*1.21 -> 36.3
A19: Kiberdrošības pakalpojuma “Vairogs+” abonēšana | B19: 1 | C19: 1089.67 | D19: 0 | E19: =D19*C19 -> 0 | F19: =E19*1.21 -> 0
D20: Kopā: | E20: =SUM(E15:E19) -> 390 | F20: =E20*1.21 -> 471.9
D21: Viss kopā eur bez PVN mēnesī: | E21: =E12+E20 -> 486.784 | F21: =E21*1.21 -> 589.00864
D22: 2024. gadā: | F22: =F21*9 -> 5301.0778
A24: EPIDEM infrastruktūras uzturēšana un funkcionalitātes paplašināšana 2024.gadā
A26: Izmaiņas raksturojums | B26: Izmaksas 2024,gadam, EUR | C26: Darbietilpība, stundas | D26: Stundas izmaksu likme, EUR
A27: NVD pilna piekļuve noliktavu datiem | B27: =ROUND(63444.9+1767.03,0) -> 65212 | C27: 1078 | D27: 60.4935
A28: Datu sinhronizācija ar ārstniecības iestāžu reģistru – likvidēto iestāžu automātiska statusa nomaiņa EPIDEM sistēmā.
A29: Pasūtījumu konsolidācijas procesa papildināšana ar iespēju izslēgt atsevišķus ĀI iestāžu pasūtījumus no konkrētā apstrādes cikla (atgriezt pasūtījumu sagatavošanas stadijā iestādei vai SPKC)
A30: Pārskats par konkrētās iestādes vakcinācijas faktu automātiskās ielādes procesa rezultātu (ielādētie CDA dokumenti, ielādes statuss). Pārskats nepieciešams gan kā pārskats lietotāju saskarnē gan arī kā API attēlošanai e-veselības portālā un ārstniecības iestāžu informācijas sistēmās.
A31: Papildināt ārstniecības iestāžu API (pasūtījuma nolasīšana), lieltirgotavu API (transakciju atskaite) un lietotāja saskarni ar informāciju par pasūtījumam attiecinātajiem konkrētajiem piegādes dokumentiem.
A32: EPIDEM integrācija ar SFTP klasifikatoru failu publicēšanas mehānismu (pēc SFTP ieviešanas ražošanā).
A33: EPIDEM integrācija ar MS365 e-pastu izsūtīšanas mehānismu (aizvietojot esošo SMTP izsūtīšanas mehānismu)
A34: Ziņojumu moduļa šablonu izstrādes un korekcijas, ziņojumu moduļa ieviešana pasūtījumiem un vakcinācijas iestāžu apziņošanai.
A35: Papildus pasūtījumu pārbaužu (validāciju) izstrāde un ieviešana. Pārbaudes balstās uz iepriekšējo iestādes pasūtījumu un atlikumu vēsturi.
A36: Mehānisma izstrāde testa vides datu (produktu un sēriju klasifikatoru) aktualizācijai no ražošanas vides testēšanas vajadzībām (lieltirgotavu un ārstniecības iestāžu integratoru testi)
A37: Automātiska papildmateriālu pasūtījuma veidošana. Pasūtot noteikta veida vakcīnas sistēma pēc noteikta veida likumiem pievieno pasūtījumam dažādus nepieciešamos papildus materiālus (šļirces, šķīdinātāju un tml.)
A38: Atbalsts un konsultācijas integratoriem
A39: Konsultācijas SPKC, NVD, ZVA EPIDEM lietotājiem
A40: Izpētes rezultātā konstatēto uzlabojumu veikšana
A41: Kopā: | B41: =SUM(B27) -> 65212
A43: EPIDEM infrastruktūras uzturēšana un funkcionalitātes paplašināšana 2024.gadā kopā: | C43: =ROUND(SUM(B41+F22),0) -> 70513
A45: EPIDEM infrastruktūras uzturēšana un funkcionalitātes paplašināšana 2025.gadā
A47: EPIDEM infrastruktūras uzturēšana 2025.gadā
A48: DC pakalpojums: | B48: Mērvienība | C48: Cena par vienību, bez PVN | D48: Daudzums | E48: Ikmēneša abonēšanas maksa, bez PVN | F48: Ikmēneša abonēšanas maksa, ar PVN
A49: Virtuālo serveru jaudu pakalpojums, kodoli (PROD) | B49: vCPU, gab | C49: 2.39 | D49: 12 | E49: =C49*D49 -> 28.68 | F49: =E49*1.21 -> 34.7028
A50: Virtuālo serveru jaudu pakalpojums, operatīvā atmiņa (PROD) | B50: RAM, 1GB | C50: 0.43 | D50: 20 | E50: =C50*D50 -> 8.6 | F50: =E50*1.21 -> 10.406
A51: Virtuālo serveru jaudu pakalpojums, diska vieta (PROD) | B51: SSD, 1TB | C51: 25.16 | D51: 1 | E51: =C51*D51 -> 25.16 | F51: =E51*1.21 -> 30.4436
A52: Virtuālo serveru jaudu pakalpojums, kodoli (TEST) | B52: vCPU, gab | C52: 2.39 | D52: 10 | E52: =C52*D52 -> 23.9 | F52: =E52*1.21 -> 28.919
A53: Virtuālo serveru jaudu pakalpojums, operatīvā atmiņa (TEST) | B53: RAM, 1GB | C53: 0.43 | D53: 16 | E53: =C53*D53 -> 6.88 | F53: =E53*1.21 -> 8.3248
A54: Virtuālo serveru jaudu pakalpojums, diska vieta (TEST) | B54: SSD, 1TB | C54: 25.16 | D54: 0.7 | E54: =C54*D54 -> 17.612 | F54: =E54*1.21 -> 21.31052
D55: Kopā: | E55: =SUM(E49:E54) -> 110.832 | F55: =E55*1.21 -> 134.10672
A57: Oracle licences + 1 gada uzturēšana | B57: Mērvienība | C57: Cena par vienību, bez PVN | D57: Daudzums | E57: Gada maksa, bez PVN | F57: Gada maksa, ar PVN
A58: Oracle Database Standard Edition - Processor Perpetual | B58: gab | C58: 2431 | D58: =3+2 -> 5 | E58: =D58*C58 -> 12155 | F58: =E58*1.21 -> 14707.55
D59: Kopā: | E59: =SUM(E58:E58) -> 12155 | F59: =E59*1.21 -> 14707.55
A61: Rezerves kopēšana : | B61: Mārvienība | C61: Cena par vienību, bez PVN | D61: Daudzums | E61: Cena EUR kopā mēnesī, bez PVN | F61: Cena EUR kopā mēnesī, ar PVN
A62: Datubāzes/aplikācijas rezerves kopēšanas aģents | B62: gab | C62: 50 | D62: 4 | E62: =D62*C62 -> 200 | F62: =E62*1.21 -> 242
A63: Operētājsistēmas/Failsistēmas rezerves kopēšanas aģents | B63: gab | C63: 30 | D63: 4 | E63: =D63*C63 -> 120 | F63: =E63*1.21 -> 145.2
A64: Virtuālā servera rezerves kopēšana aģents | B64: gab | C64: 10 | D64: 4 | E64: =D64*C64 -> 40 | F64: =E64*1.21 -> 48.4
A65: Datu glabātuve | B65: 1TB | C65: 20 | D65: 2 | E65: =D65*C65 -> 40 | F65: =E65*1.21 -> 48.4
A66: Kiberdrošības pakalpojuma “Vairogs+” abonēšana | B66: 1 | C66: 1089.67 | D66: 0 | E66: =D66*C66 -> 0 | F66: =E66*1.21 -> 0
D67: Kopā: | E67: =SUM(E62:E66) -> 400 | F67: =E67*1.21 -> 484
D68: Viss kopā eur bez PVN mēnesī: | E68: =E55+E67 -> 510.832 | F68: =E68*1.21 -> 618.10672
D69: 2025. gadā: | F69: =F68*12+F59 -> 22124.831
A71: EPIDEM infrastruktūras uzturēšana un funkcionalitātes paplašināšana 2025.gadā
A73: Izmaiņas raksturojums | B73: Izmaksas 2025,gadam, EUR | C73: Darbietilpība, stundas | D73: Sutndas izmaksu likme, EUR
A74: NVD pilna piekļuve noliktavu datiem | B74: =ROUND(48200.17+427,0) -> 48627 | C74: 804 | D74: 60.4815
A75: Datu sinhronizācija ar ārstniecības iestāžu reģistru – likvidēto iestāžu automātiska statusa nomaiņa EPIDEM sistēmā.
A76: Pasūtījumu konsolidācijas procesa papildināšana ar iespēju izslēgt atsevišķus ĀI iestāžu pasūtījumus no konkrētā apstrādes cikla (atgriezt pasūtījumu sagatavošanas stadijā iestādei vai SPKC)
A77: Pārskats par konkrētās iestādes vakcinācijas faktu automātiskās ielādes procesa rezultātu (ielādētie CDA dokumenti, ielādes statuss). Pārskats nepieciešams gan kā pārskats lietotāju saskarnē gan arī kā API attēlošanai e-veselības portālā un ārstniecības iestāžu informācijas sistēmās.
A78: Papildināt ārstniecības iestāžu API (pasūtījuma nolasīšana), lieltirgotavu API (transakciju atskaite) un lietotāja saskarni ar informāciju par pasūtījumam attiecinātajiem konkrētajiem piegādes dokumentiem.
A79: EPIDEM integrācija ar SFTP klasifikatoru failu publicēšanas mehānismu (pēc SFTP ieviešanas ražošanā).
A80: EPIDEM integrācija ar MS365 e-pastu izsūtīšanas mehānismu (aizvietojot esošo SMTP izsūtīšanas mehānismu)
A81: Ziņojumu moduļa šablonu izstrādes un korekcijas, ziņojumu moduļa ieviešana pasūtījumiem un vakcinācijas iestāžu apziņošanai.
A82: Papildus pasūtījumu pārbaužu (validāciju) izstrāde un ieviešana. Pārbaudes balstās uz iepriekšējo iestādes pasūtījumu un atlikumu vēsturi.
A83: Mehānisma izstrāde testa vides datu (produktu un sēriju klasifikatoru) aktualizācijai no ražošanas vides testēšanas vajadzībām (lieltirgotavu un ārstniecības iestāžu integratoru testi)
A84: Automātiska papildmateriālu pasūtījuma veidošana. Pasūtot noteikta veida vakcīnas sistēma pēc noteikta veida likumiem pievieno pasūtījumam dažādus nepieciešamos papildus materiālus (šļirces, šķīdinātāju un tml.)
A85: Atbalsts un konsultācijas integratoriem
A86: Konsultācijas SPKC, NVD, ZVA EPIDEM lietotājiem
A87: Izpētes rezultātā konstatēto uzlabojumu veikšana
A88: Kopā: | B88: =SUM(B74) -> 48627
A90: EPIDEM infrastruktūras uzturēšana un funkcionalitātes paplašināšana 2025.gadā kopā: | C90: =ROUND(SUM(B88+F69),0) -> 70752
A92: EPIDEM infrastruktūras uzturēšana un funkcionalitātes paplašināšana 2026.gadā un turpmāk ik gadu
A94: EPIDEM infrastruktūras uzturēšana 2026.gadā un turpmāk ik gadu
A95: DC pakalpojums: | B95: Mērvienība | C95: Cena par vienību, bez PVN | D95: Daudzums | E95: Ikmēneša abonēšanas maksa, bez PVN | F95: Ikmēneša abonēšanas maksa, ar PVN
A96: Virtuālo serveru jaudu pakalpojums, kodoli (PROD) | B96: vCPU, gab | C96: 2.39 | D96: 15 | E96: =C96*D96 -> 35.85 | F96: =E96*1.21 -> 43.3785
A97: Virtuālo serveru jaudu pakalpojums, operatīvā atmiņa (PROD) | B97: RAM, 1GB | C97: 0.43 | D97: 24 | E97: =C97*D97 -> 10.32 | F97: =E97*1.21 -> 12.4872
A98: Virtuālo serveru jaudu pakalpojums, diska vieta (PROD) | B98: SSD, 1TB | C98: 25.16 | D98: 1.2 | E98: =C98*D98 -> 30.192 | F98: =E98*1.21 -> 36.53232
A99: Virtuālo serveru jaudu pakalpojums, kodoli (TEST) | B99: vCPU, gab | C99: 2.39 | D99: 10 | E99: =C99*D99 -> 23.9 | F99: =E99*1.21 -> 28.919
A100: Virtuālo serveru jaudu pakalpojums, operatīvā atmiņa (TEST) | B100: RAM, 1GB | C100: 0.43 | D100: 16 | E100: =C100*D100 -> 6.88 | F100: =E100*1.21 -> 8.3248
A101: Virtuālo serveru jaudu pakalpojums, diska vieta (TEST) | B101: SSD, 1TB | C101: 25.16 | D101: 0.7 | E101: =C101*D101 -> 17.612 | F101: =E101*1.21 -> 21.31052
D102: Kopā: | E102: =SUM(E96:E101) -> 124.754 | F102: =E102*1.21 -> 150.95234
A104: Oracle licences | B104: Mērvienība | C104: Cena par vienību, bez PVN | D104: Daudzums | E104: Gada maksa, bez PVN | F104: Gada maksa, ar PVN
A105: Oracle Database Standard Edition - Processor Perpetual | B105: gab | C105: 486.18 | D105: =3+2 -> 5 | E105: =C105*D105 -> 2430.9 | F105: =E105*1.21 -> 2941.389
D106: Kopā: | E106: =SUM(E105:E105) -> 2430.9 | F106: =E106*1.21 -> 2941.389
A108: Rezerves kopēšana : | B108: Mārvienība | C108: Cena par vienību, bez PVN | D108: Daudzums | E108: Cena EUR kopā mēnesī, bez PVN | F108: Cena EUR kopā mēnesī, ar PVN
A109: Datubāzes/aplikācijas rezerves kopēšanas aģents | B109: gab | C109: 50 | D109: 4 | E109: =D109*C109 -> 200 | F109: =E109*1.21 -> 242
A110: Operētājsistēmas/Failsistēmas rezerves kopēšanas aģents | B110: gab | C110: 30 | D110: 4 | E110: =D110*C110 -> 120 | F110: =E110*1.21 -> 145.2
A111: Virtuālā servera rezerves kopēšana aģents | B111: gab | C111: 10 | D111: 4 | E111: =D111*C111 -> 40 | F111: =E111*1.21 -> 48.4
A112: Datu glabātuve | B112: 1TB | C112: 20 | D112: 2 | E112: =D112*C112 -> 40 | F112: =E112*1.21 -> 48.4
A113: Kiberdrošības pakalpojuma “Vairogs+” abonēšana | B113: 1 | C113: 1089.67 | D113: 0 | E113: =D113*C113 -> 0 | F113: =E113*1.21 -> 0
D114: Kopā: | E114: =SUM(E109:E113) -> 400 | F114: =E114*1.21 -> 484
D115: Viss kopā eur bez PVN mēnesī: | E115: =E102+E114 -> 524.754 | F115: =E115*1.21 -> 634.95234
D116: 2026. gadā un turpmāk ik gadu: | F116: =F115*12+F106 -> 10560.817
...
