Workbook

Sheet 1.1(1)
A1: Maksas pakalpojumu izcenojuma aprēķins
A3: 1. Atkārtota pārbaudījuma kārtošana
A4: 1.1. noslēguma pārbaudījums, kārtējais pārbaudījums, referāts
A5: Maksas pakalpojuma mērvienība – viens pārbaudījums
A9: Izdevumu klasifikācijas kods | B9: Rādītājs (materiāla/izejvielas nosaukums, atlīdzība un citi izmaksu veidi) | C9: Izmaksu apjoms gadā viena makasa pakalpojuma veida nodrošināšanai
A10: 1 | B10: 2 | C10: 3 | E10: MK vidējais 1191
A11: Tiešās izmaksas
A12: 1000 | B12: Atlīdzība | D12: =D13+D29 -> 11.3 | E12: =E13+E29 -> 11.86
A13: 1100 | B13: Atalgojums | D13: =D14+D18+D27+D28 -> 8.81 | E13: =E14+E18+E27+E28 -> 9.24
A14: 1110 | B14: Mēnešalga | D14: =SUM(D15:D17) -> 6.73 | E14: =SUM(E15:E17) -> 7.09
A15: 1114 | B15: Valsts civildienesta ierēdņu mēnešalga
A16: 1116 | B16: Mēnešalga amatpersonām ar speciālajām dienesta pakāpēm | C16: Lektora ar speciālo dienesta pakāpi mēnešalga (9 mēnešalgu grupa): EUR 1130 Vidējais darba stundu skaits mēnesī: 168 st. Izmaksas maksas pakalpojuma nodrošināšanai: EUR 1 130 : 168 st. = EUR 6,73 | D16: =ROUNDUP((1130/168),2) -> 6.73 | E16: =ROUNDUP((1191/168),2) -> 7.09
A17: 1119 | B17: Pārējo darbinieku mēnešalga (darba alga)
A18: 1140 | B18: Piemaksas, prēmijas un naudas balvas | D18: =SUM(D19:D26) -> 2.08 | E18: =SUM(E19:E26) -> 2.15
A19: 1141 | B19: Piemaksa par nakts darbu
A20: 1142 | B20: Samaksa par virsstundu darbu un darbu svētku dienās
A21: 1143 | B21: Piemaksa par speciālo dienesta pakāpi un diplomātisko rangu | C21: Piemaksas apmērs vienai iesaistītai amatpersonai mēnesī (pulkvežleitnants) - EUR 120; Vidējais darba stundu skaits mēnesī: 168 st. Izmaksas maksas pakalpojuma nodrošināšanai: EUR 120 : 168 st. = EUR 0,71 | D21: =ROUNDUP((120/168),2) -> 0.72 | E21: =ROUNDUP((120/168),2) -> 0.72
A22: 1145 | B22: Piemaksa par darbu īpašos apstākļos, speciālās piemaksas
A23: 1146 | B23: Piemaksa par personisko darba ieguldījumu un darba kvalitāti | C23: Piemaksa par personisko darba ieguldījumu un darba kvalitāti 5% no mēnešalgas: EUR 1 130 x 5% : 168 st. = EUR 0,34 | D23: =ROUNDUP(1130*5%/168,2) -> 0.34 | E23: =ROUNDUP(1191*5%/168,2) -> 0.36
A24: 1147 | B24: Piemaksa par papildu darbu | C24: Piemaksa par papildu darbu 5% no mēnešalgas EUR 1 130 x 5% : 168 st. = EUR 0,34 | D24: =ROUNDUP(1130*5%/168,2) -> 0.34 | E24: =ROUNDUP(1191*5%/168,2) -> 0.36
A25: 1148 | B25: Prēmijas un naudas balvas | C25: Prēmijas un naudas balvas 10% no mēnešalgas EUR 1 130 x 10% : 168 st. = EUR 0,67 | D25: =ROUNDUP(1130*10%/168,2) -> 0.68 | E25: =ROUNDUP(1191*10%/168,2) -> 0.71
A26: 1149 | B26: Citas normatīvajos aktos noteiktās piemaksas, kas nav iepriekš klasificētas
A27: 1150 | B27: Atalgojums fiziskajām personām uz tiesiskās attiecības regulējošu dokumentu pamata
A28: 1170 | B28: Darba devēja piešķirtie labumi un maksājumi
A29: 1200 | B29: Darba devēja valsts sociālās apdrošināšanas obligātās iemaksas, pabalsti un kompensācijas | D29: =D30+D31 -> 2.49 | E29: =E30+E31 -> 2.62
A30: 1210 | B30: Darba devēja valsts sociālās apdrošināšanas obligātās iemaksas | C30: 23,59 % no 1100. un 1221.IEKK | D30: =ROUNDUP((D13+D32)*0.2359,2) -> 2.15 | E30: =ROUNDUP((E13+E32)*0.2359,2) -> 2.25
A31: 1220 | B31: Darba devēja pabalsti, kompensācijas un citi maksājumi | D31: =SUM(D32:D38) -> 0.34 | E31: =SUM(E32:E38) -> 0.37
A32: 1221 | B32: Darba devēja pabalsti un kompensācijas, no kuriem aprēķina iedzīvotāju ienākuma nodokli un valsts sociālās apdrošināšanas obligātās iemaksas | C32: Pabalsti un kompensācijas, no kuriem aprēķina iedzīvotāju ienākuma nodokli un valsts sociālās apdrošināšanas obligātās iemaksas EUR 1 130 x 4% : 168 st. = EUR 0,27 | D32: =ROUNDUP(1130*4%/168,2) -> 0.27 | E32: =ROUNDUP(1191*4%/168,2) -> 0.29
A33: 1223 | B33: Mācību maksas kompensācija
A34: 1224 | B34: Ārvalstīs nodarbināto amatpersonu (darbinieku) pabalsti un kompensācijas
A35: 1225 | B35: Uzturdevas kompensācija
A36: 1226 | B36: Dienesta pienākumu izpildei nepieciešamā apģērba iegādes kompensācija
A37: 1227 | B37: Darba devēja izdevumi veselības, dzīvības un nelaimes gadījumu apdrošināšanai
A38: 1228 | B38: Darba devēja pabalsti un kompensācijas, no kā neaprēķina iedzīvotāju ienākuma nodokli un valsts sociālās apdrošināšanas obligātās iemaksas | C38: Pabalsti un kompensācijas, no kā neaprēķina iedzīvotāju ienākuma nodokli un valsts sociālās apdrošināšanas obligātās iemaksas EUR 1 130 x 1% : 168 st. = EUR 0,07 | D38: =ROUNDUP(1130*1%/168,2) -> 0.07 | E38: =ROUNDUP(1191*1%/168,2) -> 0.08
A39: 2000 | B39: Preces un pakalpojumi | D39: =D40+D45 -> 0
A40: 2200 | B40: Pakalpojumi | D40: =D41+D43 -> 0
A41: 2220 | B41: Izdevumi par komunālajiem pakalpojumiem | D41: =D42 -> 0
A42: 2223 | B42: Izdevumi par elektroenerģiju
A43: 2240 | B43: Remontdarbi un iestāžu uzturēšanas pakalpojumi (izņemot kapitālo remontu) | D43: =D44 -> 0
A44: 2242 | B44: Transportlīdzekļu uzturēšana un remonts
A45: 2300 | B45: Krājumi, materiāli, energoresursi, prece, biroja preces un inventārs, kurus neuzskaita kodā 5000 | D45: =D46+D48+D51+D52+D54 -> 0
A46: 2310 | B46: Izdevumi par precēm iestādes darbības nodrošināšanai | D46: =D47 -> 0
A47: 2311 | B47: Biroja preces
A48: 2320 | B48: Kurināmais un enerģētiskie materiāli | D48: =D49+D50 -> 0
A49: 2322 | B49: Degviela
A50: 2329 | B50: Pārējie enerģētiskie materiāli
A51: 2350 | B51: Kārtējā remonta un iestāžu uzturēšanas materiāli
A52: 2360 | B52: Valsts un pašvaldību aprūpē un apgādē esošo personu uzturēšana | D52: =D53 -> 0
A53: 2364 | B53: Formas tērpi un speciālais apģērbs
A54: 2380 | B54: Specifiskie materiāli un inventārs | D54: =D55 -> 0
A55: 2389 | B55: Pārējie specifiskas lietošanas materiāli un inventārs
A56: 5000 | B56: Pamatkapitāla veidošana | D56: =D57 -> 0
A57: 5200 | B57: Pamatlīdzekļi | D57: =D58+D59 -> 0
A58: 5220 | B58: Tehnoloģiskās iekārtas un mašīnas
A59: 5230 | B59: Pārējie pamatlīdzekļi | D59: =D60+D61+D62 -> 0
A60: 5231 | B60: Transportlīdzekļi
A61: 5238 | B61: Datortehnika, sakaru un cita biroja tehnika
A62: 5239 | B62: Pārējie iepriekš neklasificētie pamatlīdzekļi
A63: Tiešās izmaksas kopā: | D63: =D12+D39+D56 -> 11.3 | E63: =E12+E39+E56 -> 11.86
A65: Netiešās izmaksas
A66: 1000 | B66: Atlīdzība | D66: =D67+D83 -> 1.14 | E66: =E67+E83 -> 1.14
A67: 1100 | B67: Atalgojums | D67: =D68+D72+D81+D82 -> 0.87 | E67: =E68+E72+E81+E82 -> 0.87
A68: 1110 | B68: Mēnešalga | D68: =SUM(D69:D71) -> 0.79 | E68: =SUM(E69:E71) -> 0.79
A69: 1114 | B69: Valsts civildienesta ierēdņu mēnešalga
A70: 1116 | B70: Mēnešalga amatpersonām ar speciālajām dienesta pakāpēm
A71: 1119 | B71: Pārējo darbinieku mēnešalga (darba alga) | C71: Izglītības koordinācijas nodaļas vecākā speciālista mēnešalga (10 mēnešalgu grupa) EUR 830 Individuālā pārbaudījuma veidlapas noformēšana, izsniegšana (5 min): EUR 830 : 168 st. x 0,08 st. = EUR 0,40 Grāmatvedības darbinieka mēnešalga (9 mēnešalgu grupa) EUR 820 Ienākošo maksājumu uzdevumu ievadīšana, grāmatošana un printēšana (5 min.): EUR 820 : 168 st. x 0,08 st. = EUR 0,39 Kopā: EUR 0,40 + EUR 0,39 = EUR 0,79 | D71: =ROUNDUP((830/168)*0.08,2)+ROUND((820/168)*0.08,2) -> 0.79 | E71: =ROUNDUP((844/168)*0.08,2)+ROUND((790/168)*0.08,2) -> 0.79
A72: 1140 | B72: Piemaksas, prēmijas un naudas balvas | D72: =SUM(D73:D80) -> 0.08 | E72: =SUM(E73:E80) -> 0.08
A73: 1141 | B73: Piemaksa par nakts darbu
A74: 1142 | B74: Samaksa par virsstundu darbu un darbu svētku dienās
A75: 1143 | B75: Piemaksa par speciālo dienesta pakāpi un diplomātisko rangu
A76: 1145 | B76: Piemaksa par darbu īpašos apstākļos, speciālās piemaksas
A77: 1146 | B77: Piemaksa par personisko darba ieguldījumu un darba kvalitāti | C77: Piemaksa par personisko darba ieguldījumu un darba kvalitāti 5% no mēnešalgas: EUR (830 + 820) x 5% : 168 st. x 0,08 st. = EUR 0,04 | D77: =ROUNDUP((830+820)*5%/168*0.08,2) -> 0.04 | E77: =ROUNDUP((844+790)*5%/168*0.08,2) -> 0.04
A78: 1147 | B78: Piemaksa par papildu darbu | C78: Piemaksa par papildu darbu 5% no mēnešalgas EUR (830 + 820) x 5% : 168 st. x 0,08 st. = EUR 0,04 | D78: =ROUNDUP((830+820)*5%/168*0.08,2) -> 0.04 | E78: =ROUNDUP((844+790)*5%/168*0.08,2) -> 0.04
A79: 1148 | B79: Prēmijas un naudas balvas
A80: 1149 | B80: Citas normatīvajos aktos noteiktās piemaksas, kas nav iepriekš klasificētas
A81: 1150 | B81: Atalgojums fiziskajām personām uz tiesiskās attiecības regulējošu dokumentu pamata
A82: 1170 | B82: Darba devēja piešķirtie labumi un maksājumi
A83: 1200 | B83: Darba devēja valsts sociālās apdrošināšanas obligātās iemaksas, pabalsti un kompensācijas | D83: =D84+D85 -> 0.27 | E83: =E84+E85 -> 0.27
A84: 1210 | B84: Darba devēja valsts sociālās apdrošināšanas obligātās iemaksas | C84: 23,59 % no 1100. un 1221.IEKK | D84: =ROUNDUP((D67+D86)*0.2359,2) -> 0.22 | E84: =ROUNDUP((E67+E86)*0.2359,2) -> 0.22
A85: 1220 | B85: Darba devēja pabalsti, kompensācijas un citi maksājumi | D85: =SUM(D86:D92) -> 0.05 | E85: =SUM(E86:E92) -> 0.05
A86: 1221 | B86: Darba devēja pabalsti un kompensācijas, no kuriem aprēķina iedzīvotāju ienākuma nodokli un valsts sociālās apdrošināšanas obligātās iemaksas | C86: Pabalsti un kompensācijas, no kuriem aprēķina iedzīvotāju ienākuma nodokli un valsts sociālās apdrošināšanas obligātās iemaksas EUR (830 + 820) x 4% : 168 st. x 0,08 = EUR 0,03 | D86: =ROUNDUP((830+820)*4%/168*0.08,2) -> 0.04 | E86: =ROUNDUP((844+790)*4%/168*0.08,2) -> 0.04
A87: 1223 | B87: Mācību maksas kompensācija
A88: 1224 | B88: Ārvalstīs nodarbināto amatpersonu (darbinieku) pabalsti un kompensācijas
A89: 1225 | B89: Uzturdevas kompensācija
A90: 1226 | B90: Dienesta pienākumu izpildei nepieciešamā apģērba iegādes kompensācija
A91: 1227 | B91: Darba devēja izdevumi veselības, dzīvības un nelaimes gadījumu apdrošināšanai
A92: 1228 | B92: Darba devēja pabalsti un kompensācijas, no kā neaprēķina iedzīvotāju ienākuma nodokli un valsts sociālās apdrošināšanas obligātās iemaksas | C92: Pabalsti un kompensācijas, no kā neaprēķina iedzīvotāju ienākuma nodokli un valsts sociālās apdrošināšanas obligātās iemaksas EUR (830 + 820) x 1% : 168 st.x 0,08 = EUR 0,01 | D92: =ROUNDUP((830+820)*1%/168*0.08,2) -> 0.01 | E92: =ROUNDUP((830+820)*1%/168*0.08,2) -> 0.01
A93: 2000 | B93: Preces un pakalpojumi | D93: =D94+D99 -> 0.4 | E93: =E94+E99 -> 0.4
A94: 2200 | B94: Pakalpojumi | D94: =D95+D97 -> 0 | E94: =E95+E97 -> 0
A95: 2220 | B95: Izdevumi par komunālajiem pakalpojumiem | D95: =D96 -> 0 | E95: =E96 -> 0
A96: 2223 | B96: Izdevumi par elektroenerģiju
A97: 2240 | B97: Remontdarbi un iestāžu uzturēšanas pakalpojumi (izņemot kapitālo remontu) | D97: =D98 -> 0 | E97: =E98 -> 0
A98: 2242 | B98: Transportlīdzekļu uzturēšana un remonts
A99: 2300 | B99: Krājumi, materiāli, energoresursi, prece, biroja preces un inventārs, kurus neuzskaita kodā 5000 | D99: =D100+D102+D105+D106+D108 -> 0.4 | E99: =E100+E102+E105+E106+E108 -> 0.4
A100: 2310 | B100: Izdevumi par precēm iestādes darbības nodrošināšanai | D100: =D101 -> 0.4 | E100: =E101 -> 0.4
A101: 2311 | B101: Biroja preces | C101: Papīrs rēķina sagatavošanai EUR 0,01, tonera izmaksas EUR 0,04. Izmaksas rēķina sagatavošanai: (0,01+0,04) × 2 loksnes = EUR 0,10 Papīrs līgums sagatavošanai EUR 0,01, tonera izmaksas EUR 0,04. Izmaksas līguma sagatavošanai: (0,01+0,04) × 6 loksnes = EUR 0,30 Izmaksas maksas pakalpojuma nodrošināšanai: EUR 0,10 + EUR 0,30 = EUR 0,40 | D101: =ROUND((0.01+0.04)*2,2)+ROUND((0.01+0.04)*6,2) -> 0.4 | E101: =ROUND((0.01+0.04)*2,2)+ROUND((0.01+0.04)*6,2) -> 0.4
A102: 2320 | B102: Kurināmais un enerģētiskie materiāli | D102: =D103+D104 -> 0 | E102: =E103+E104 -> 0
A103: 2322 | B103: Degviela
A104: 2329 | B104: Pārējie enerģētiskie materiāli
A105: 2350 | B105: Kārtējā remonta un iestāžu uzturēšanas materiāli
...

Sheet 1.1 
D2: 3.pielikums
D3: Ministru kabineta noteikumu projekta
D4: „Grozījums Ministru kabineta 2018.gada 3.maija
D5: noteikumos Nr.256“Valsts policijas koledžas
D6: maksas pakalpojumu cenrādis””
D7: sākotnējās ietekmes novērtējuma ziņojumam (anotācijai)
A8: Maksas pakalpojumu izcenojumu aprēķins
A10: 1. Atkārtota pārbaudījuma kārtošana:
A11: 1.1. noslēguma pārbaudījums, kārtējais pārbaudījums, referāts
A12: Maksas pakalpojuma mērvienība – viens pārbaudījums
A16: EKK kods | B16: Rādītājs (materiāla/izejvielas nosaukums, atlīdzība un citi izmaksu veidi) | C16: Izmaksu apjoms gadā viena makasa pakalpojuma veida nodrošināšanai | I16: Piezīmes, komentāri
A17: 1 | B17: 2 | C17: 3
A18: Tiešās izmaksas
A19: 1000 | B19: Atlīdzība | H19: =H20+H117 -> 10.3
A20: 1100 | B20: Atalgojums | H20: =SUM(H21,H32,H43,H54,H75,H96) -> 8.03
A21: 1116 | B21: Mēnešalga amatpersonām ar speciālajām dienesta pakāpēm | C21: Ieņemamais amats | E21: M.a. grupa | F21: Mēnešalga | G21: Patērētais laiks (h) | H21: =SUM(H22:H31) -> 7.49
C22: Lektors (ar SDP) | E22: 9 | F22: 1677 | G22: 0.75 | H22: =ROUNDUP((F22/168*G22),2) -> 7.49
H23: =ROUNDUP((F23/168*G23),2) -> 0
H24: =ROUNDUP((F24/168*G24),2) -> 0
H25: =ROUNDUP((F25/168*G25),2) -> 0
H26: =ROUNDUP((F26/168*G26),2) -> 0
H27: =ROUNDUP((F27/168*G27),2) -> 0
H28: =ROUNDUP((F28/168*G28),2) -> 0
H29: =ROUNDUP((F29/168*G29),2) -> 0
H30: =ROUNDUP((F30/168*G30),2) -> 0
H31: =ROUNDUP((F31/168*G31),2) -> 0
A32: 1119 | B32: Pārējo darbinieku mēnešalga (darba alga) | C32: Ieņememais amats | E32: M.a. grupa | F32: Mēnešalga | G32: Patērētais laiks (h) | H32: =SUM(H34:H42) -> 0
H33: =ROUNDUP((F33/168*G33),2) -> 0
H34: =ROUNDUP((F34/168*G34),2) -> 0
H35: =ROUNDUP((F35/168*G35),2) -> 0
H36: =ROUNDUP((F36/168*G36),2) -> 0
H37: =ROUNDUP((F37/168*G37),2) -> 0
H38: =ROUNDUP((F38/168*G38),2) -> 0
H39: =ROUNDUP((F39/168*G39),2) -> 0
H40: =ROUNDUP((F40/168*G40),2) -> 0
H41: =ROUNDUP((F41/168*G41),2) -> 0
H42: =ROUNDUP((F42/168*G42),2) -> 0
A43: 1143 | B43: Piemaksa par speciālo dienesta pakāpi un diplomātisko rangu | C43: Speciālā dienesta pakāpe | F43: Piemaksa mēnesī | G43: Patērētais laiks (h) | H43: =SUM(H44:H53) -> 0.54
C44: Pulkvežleitnants | F44: 120 | G44: =G22 -> 0.75 | H44: =ROUNDUP((F44/168*G44),2) -> 0.54
G45: =G23 -> 0 | H45: =ROUNDUP((F45/168*G45),2) -> 0
G46: =G24 -> 0 | H46: =ROUNDUP((F46/168*G46),2) -> 0
G47: =G25 -> 0 | H47: =ROUNDUP((F47/168*G47),2) -> 0
G48: =G26 -> 0 | H48: =ROUNDUP((F48/168*G48),2) -> 0
G49: =G27 -> 0 | H49: =ROUNDUP((F49/168*G49),2) -> 0
G50: =G28 -> 0 | H50: =ROUNDUP((F50/168*G50),2) -> 0
G51: =G29 -> 0 | H51: =ROUNDUP((F51/168*G51),2) -> 0
G52: =G30 -> 0 | H52: =ROUNDUP((F52/168*G52),2) -> 0
G53: =G31 -> 0 | H53: =ROUNDUP((F53/168*G53),2) -> 0
A54: 1146 | B54: Piemaksa par personisko darba ieguldījumu un darba kvalitāti | C54: Ieņemamais amats | E54: Piemaksa % | F54: Mēnešalga | G54: Patērētais laiks (h) | H54: =SUM(H55:H74) -> 0
C55: =C22 -> Lektors (ar SDP) | E55: 5 | F55: =F22 -> 1677 | H55: =ROUNDUP((F55*$E$55%)/168*G55,2) -> 0
C56: =C23 -> 0 | F56: =F23 -> 0 | G56: =G23 -> 0 | H56: =ROUNDUP((F56*$E$55%)/168*G56,2) -> 0
C57: =C24 -> 0 | F57: =F24 -> 0 | G57: =G24 -> 0 | H57: =ROUNDUP((F57*$E$55%)/168*G57,2) -> 0
C58: =C25 -> 0 | F58: =F25 -> 0 | G58: =G25 -> 0 | H58: =ROUNDUP((F58*$E$55%)/168*G58,2) -> 0
C59: =C26 -> 0 | F59: =F26 -> 0 | G59: =G26 -> 0 | H59: =ROUNDUP((F59*$E$55%)/168*G59,2) -> 0
C60: =C27 -> 0 | F60: =F27 -> 0 | G60: =G27 -> 0 | H60: =ROUNDUP((F60*$E$55%)/168*G60,2) -> 0
C61: =C28 -> 0 | F61: =F28 -> 0 | G61: =G28 -> 0 | H61: =ROUNDUP((F61*$E$55%)/168*G61,2) -> 0
C62: =C29 -> 0 | F62: =F29 -> 0 | G62: =G29 -> 0 | H62: =ROUNDUP((F62*$E$55%)/168*G62,2) -> 0
C63: =C30 -> 0 | F63: =F30 -> 0 | G63: =G30 -> 0 | H63: =ROUNDUP((F63*$E$55%)/168*G63,2) -> 0
C64: =C31 -> 0 | F64: =F31 -> 0 | G64: =G31 -> 0 | H64: =ROUNDUP((F64*$E$55%)/168*G64,2) -> 0
C65: =C33 -> 0 | F65: =F33 -> 0 | G65: =G33 -> 0 | H65: =ROUNDUP((F65*$E$55%)/168*G65,2) -> 0
C66: =C34 -> 0 | F66: =F34 -> 0 | G66: =G34 -> 0 | H66: =ROUNDUP((F66*$E$55%)/168*G66,2) -> 0
C67: =C35 -> 0 | F67: =F35 -> 0 | G67: =G35 -> 0 | H67: =ROUNDUP((F67*$E$55%)/168*G67,2) -> 0
C68: =C36 -> 0 | F68: =F36 -> 0 | G68: =G36 -> 0 | H68: =ROUNDUP((F68*$E$55%)/168*G68,2) -> 0
C69: =C37 -> 0 | F69: =F37 -> 0 | G69: =G37 -> 0 | H69: =ROUNDUP((F69*$E$55%)/168*G69,2) -> 0
C70: =C38 -> 0 | F70: =F38 -> 0 | G70: =G38 -> 0 | H70: =ROUNDUP((F70*$E$55%)/168*G70,2) -> 0
C71: =C39 -> 0 | F71: =F39 -> 0 | G71: =G39 -> 0 | H71: =ROUNDUP((F71*$E$55%)/168*G71,2) -> 0
C72: =C40 -> 0 | F72: =F40 -> 0 | G72: =G40 -> 0 | H72: =ROUNDUP((F72*$E$55%)/168*G72,2) -> 0
C73: =C41 -> 0 | F73: =F41 -> 0 | G73: =G41 -> 0 | H73: =ROUNDUP((F73*$E$55%)/168*G73,2) -> 0
C74: =C42 -> 0 | F74: =F42 -> 0 | G74: =G42 -> 0 | H74: =ROUNDUP((F74*$E$55%)/168*G74,2) -> 0
A75: 1147 | B75: Piemaksa par papildu darbu | C75: Ieņemamais amats | E75: Piemaksa % | F75: Mēnešalga | G75: Patērētais laiks (h) | H75: =SUM(H76:H95) -> 0
C76: =C22 -> Lektors (ar SDP) | E76: 5 | F76: =F22 -> 1677 | H76: =ROUNDUP((F76*$E$76%)/168*G76,2) -> 0
C77: =C24 -> 0 | F77: =F24 -> 0 | G77: =G24 -> 0 | H77: =ROUNDUP((F77*$E$76%)/168*G77,2) -> 0
C78: =C25 -> 0 | F78: =F25 -> 0 | G78: =G25 -> 0 | H78: =ROUNDUP((F78*$E$76%)/168*G78,2) -> 0
C79: =C26 -> 0 | F79: =F26 -> 0 | G79: =G26 -> 0 | H79: =ROUNDUP((F79*$E$76%)/168*G79,2) -> 0
C80: =C27 -> 0 | F80: =F27 -> 0 | G80: =G27 -> 0 | H80: =ROUNDUP((F80*$E$76%)/168*G80,2) -> 0
C81: =C28 -> 0 | F81: =F28 -> 0 | G81: =G28 -> 0 | H81: =ROUNDUP((F81*$E$76%)/168*G81,2) -> 0
C82: =C29 -> 0 | F82: =F29 -> 0 | G82: =G29 -> 0 | H82: =ROUNDUP((F82*$E$76%)/168*G82,2) -> 0
C83: =C30 -> 0 | F83: =F30 -> 0 | G83: =G30 -> 0 | H83: =ROUNDUP((F83*$E$76%)/168*G83,2) -> 0
C84: =C31 -> 0 | F84: =F31 -> 0 | G84: =G31 -> 0 | H84: =ROUNDUP((F84*$E$76%)/168*G84,2) -> 0
C85: =C33 -> 0 | F85: =F33 -> 0 | G85: =G33 -> 0 | H85: =ROUNDUP((F85*$E$76%)/168*G85,2) -> 0
C86: =C34 -> 0 | F86: =F34 -> 0 | G86: =G34 -> 0 | H86: =ROUNDUP((F86*$E$76%)/168*G86,2) -> 0
C87: =C35 -> 0 | F87: =F35 -> 0 | G87: =G35 -> 0 | H87: =ROUNDUP((F87*$E$76%)/168*G87,2) -> 0
C88: =C36 -> 0 | F88: =F36 -> 0 | G88: =G36 -> 0 | H88: =ROUNDUP((F88*$E$76%)/168*G88,2) -> 0
F89: =F37 -> 0 | G89: =G37 -> 0 | H89: =ROUNDUP((F89*$E$76%)/168*G89,2) -> 0
C90: =C37 -> 0 | F90: =F38 -> 0 | G90: =G38 -> 0 | H90: =ROUNDUP((F90*$E$76%)/168*G90,2) -> 0
C91: =C38 -> 0 | F91: =F38 -> 0 | G91: =G38 -> 0 | H91: =ROUNDUP((F91*$E$76%)/168*G91,2) -> 0
C92: =C39 -> 0 | F92: =F39 -> 0 | G92: =G39 -> 0 | H92: =ROUNDUP((F92*$E$76%)/168*G92,2) -> 0
C93: =C40 -> 0 | F93: =F40 -> 0 | G93: =G40 -> 0 | H93: =ROUNDUP((F93*$E$76%)/168*G93,2) -> 0
C94: =C41 -> 0 | F94: =F41 -> 0 | G94: =G41 -> 0 | H94: =ROUNDUP((F94*$E$76%)/168*G94,2) -> 0
C95: =C42 -> 0 | F95: =F42 -> 0 | G95: =G42 -> 0 | H95: =ROUNDUP((F95*$E$76%)/168*G95,2) -> 0
A96: 1148 | B96: Prēmijas un naudas balvas | C96: Ieņemamais amats | E96: Piemaksa % | F96: Mēnešalga | G96: Patērētais laiks (h) | H96: =SUM(H97:H116) -> 0
C97: =C22 -> Lektors (ar SDP) | E97: 10 | F97: =F22 -> 1677 | H97: =ROUNDUP((F97*$E$97%)/168*$G$97,2) -> 0
C98: =C23 -> 0 | F98: =F23 -> 0 | G98: =G23 -> 0 | H98: =ROUNDUP((F98*$E$97%)/168*$G$97,2) -> 0
C99: =C24 -> 0 | F99: =F24 -> 0 | G99: =G24 -> 0 | H99: =ROUNDUP((F99*$E$97%)/168*$G$97,2) -> 0
C100: =C25 -> 0 | F100: =F25 -> 0 | G100: =G25 -> 0 | H100: =ROUNDUP((F100*$E$97%)/168*$G$97,2) -> 0
C101: =C26 -> 0 | F101: =F26 -> 0 | G101: =G26 -> 0 | H101: =ROUNDUP((F101*$E$97%)/168*$G$97,2) -> 0
C102: =C27 -> 0 | F102: =F27 -> 0 | G102: =G27 -> 0 | H102: =ROUNDUP((F102*$E$97%)/168*$G$97,2) -> 0
C103: =C28 -> 0 | F103: =F28 -> 0 | G103: =G28 -> 0 | H103: =ROUNDUP((F103*$E$97%)/168*$G$97,2) -> 0
C104: =C29 -> 0 | F104: =F29 -> 0 | G104: =G29 -> 0 | H104: =ROUNDUP((F104*$E$97%)/168*$G$97,2) -> 0
C105: =C30 -> 0 | F105: =F30 -> 0 | G105: =G30 -> 0 | H105: =ROUNDUP((F105*$E$97%)/168*$G$97,2) -> 0
...

Sheet 1.2(1)
A1: Maksas pakalpojumu izcenojuma aprēķins
A3: 1. Atkārtota pārbaudījuma kārtošana
A4: 1.2. kvalifikācijas darba recenzēšana
A5: Maksas pakalpojuma mērvienība – viena recenzija
A9: Izdevumu klasifikācijas kods | B9: Rādītājs (materiāla/izejvielas nosaukums, atlīdzība un citi izmaksu veidi) | C9: Izmaksu apjoms gadā viena makasa pakalpojuma veida nodrošināšanai
A10: 1 | B10: 2 | C10: 3 | E10: MK vidējais 1191
A11: Tiešās izmaksas
A12: 1000 | B12: Atlīdzība | D12: =D13+D29 -> 45.08 | E12: =E13+E29 -> 47.31
A13: 1100 | B13: Atalgojums | D13: =D14+D18+D27+D28 -> 35.17 | E13: =E14+E18+E27+E28 -> 36.9
A14: 1110 | B14: Mēnešalga | D14: =SUM(D15:D17) -> 26.91 | E14: =SUM(E15:E17) -> 28.36
A15: 1114 | B15: Valsts civildienesta ierēdņu mēnešalga
A16: 1116 | B16: Mēnešalga amatpersonām ar speciālajām dienesta pakāpēm | C16: Lektora ar speciālo dienesta pakāpi mēnešalga (9 mēnešalgu grupa): EUR 1130 Vidējais darba stundu skaits mēnesī: 168 st. Izmaksas maksas pakalpojuma nodrošināšanai: EUR 1 130 : 168 st. x 4 st. = EUR 26,91 | D16: =ROUNDUP((1130/168*4),2) -> 26.91 | E16: =ROUNDUP((1191/168*4),2) -> 28.36
A17: 1119 | B17: Pārējo darbinieku mēnešalga (darba alga)
A18: 1140 | B18: Piemaksas, prēmijas un naudas balvas | D18: =SUM(D19:D26) -> 8.26 | E18: =SUM(E19:E26) -> 8.54
A19: 1141 | B19: Piemaksa par nakts darbu
A20: 1142 | B20: Samaksa par virsstundu darbu un darbu svētku dienās
A21: 1143 | B21: Piemaksa par speciālo dienesta pakāpi un diplomātisko rangu | C21: Piemaksas apmērs vienai iesaistītai amatpersonai mēnesī (pulkvežleitnants) - EUR 120; Vidējais darba stundu skaits mēnesī: 168 st. Izmaksas maksas pakalpojuma nodrošināšanai: EUR 120 : 168 st. x 4 st. = EUR 2,86 | D21: =ROUNDUP((120/168*4),2) -> 2.86 | E21: =ROUNDUP((120/168*4),2) -> 2.86
A22: 1145 | B22: Piemaksa par darbu īpašos apstākļos, speciālās piemaksas
A23: 1146 | B23: Piemaksa par personisko darba ieguldījumu un darba kvalitāti | C23: Piemaksa par personisko darba ieguldījumu un darba kvalitāti 5% no mēnešalgas: EUR 1 130 x 5% : 168 st. x 4 st. = EUR 1,35 | D23: =ROUNDUP(1130*5%/168*4,2) -> 1.35 | E23: =ROUNDUP(1191*5%/168*4,2) -> 1.42
A24: 1147 | B24: Piemaksa par papildu darbu | C24: Piemaksa par papildu darbu 5% no mēnešalgas EUR 1 130 x 5% : 168 st. x 4 st. = EUR 1,35 | D24: =ROUNDUP(1130*5%/168*4,2) -> 1.35 | E24: =ROUNDUP(1191*5%/168*4,2) -> 1.42
A25: 1148 | B25: Prēmijas un naudas balvas | C25: Prēmijas un naudas balvas 10% no mēnešalgas EUR 1 130 x 10% : 168 st. x 4 st. = EUR 2,70 | D25: =ROUNDUP(1130*10%/168*4,2) -> 2.7 | E25: =ROUNDUP(1191*10%/168*4,2) -> 2.84
A26: 1149 | B26: Citas normatīvajos aktos noteiktās piemaksas, kas nav iepriekš klasificētas
A27: 1150 | B27: Atalgojums fiziskajām personām uz tiesiskās attiecības regulējošu dokumentu pamata
A28: 1170 | B28: Darba devēja piešķirtie labumi un maksājumi
A29: 1200 | B29: Darba devēja valsts sociālās apdrošināšanas obligātās iemaksas, pabalsti un kompensācijas | D29: =D30+D31 -> 9.91 | E29: =E30+E31 -> 10.41
A30: 1210 | B30: Darba devēja valsts sociālās apdrošināšanas obligātās iemaksas | C30: 23,59 % no 1100. un 1221.IEKK | D30: =ROUNDUP((D13+D32)*0.2359,2) -> 8.56 | E30: =ROUNDUP((E13+E32)*0.2359,2) -> 8.98
A31: 1220 | B31: Darba devēja pabalsti, kompensācijas un citi maksājumi | D31: =SUM(D32:D38) -> 1.35 | E31: =SUM(E32:E38) -> 1.43
A32: 1221 | B32: Darba devēja pabalsti un kompensācijas, no kuriem aprēķina iedzīvotāju ienākuma nodokli un valsts sociālās apdrošināšanas obligātās iemaksas | C32: Pabalsti un kompensācijas, no kuriem aprēķina iedzīvotāju ienākuma nodokli un valsts sociālās apdrošināšanas obligātās iemaksas EUR 1 130 x 4% : 168 st. x 4 st. = EUR 1,08 | D32: =ROUNDUP(1130*4%/168*4,2) -> 1.08 | E32: =ROUNDUP(1191*4%/168*4,2) -> 1.14
A33: 1223 | B33: Mācību maksas kompensācija
A34: 1224 | B34: Ārvalstīs nodarbināto amatpersonu (darbinieku) pabalsti un kompensācijas
A35: 1225 | B35: Uzturdevas kompensācija
A36: 1226 | B36: Dienesta pienākumu izpildei nepieciešamā apģērba iegādes kompensācija
A37: 1227 | B37: Darba devēja izdevumi veselības, dzīvības un nelaimes gadījumu apdrošināšanai
A38: 1228 | B38: Darba devēja pabalsti un kompensācijas, no kā neaprēķina iedzīvotāju ienākuma nodokli un valsts sociālās apdrošināšanas obligātās iemaksas | C38: Pabalsti un kompensācijas, no kā neaprēķina iedzīvotāju ienākuma nodokli un valsts sociālās apdrošināšanas obligātās iemaksas EUR 1 130 x 1% : 168 st. x 4 st. = EUR 0,27 | D38: =ROUNDUP(1130*1%/168*4,2) -> 0.27 | E38: =ROUNDUP(1191*1%/168*4,2) -> 0.29
A39: 2000 | B39: Preces un pakalpojumi | D39: =D40+D45 -> 0
A40: 2200 | B40: Pakalpojumi | D40: =D41+D43 -> 0
A41: 2220 | B41: Izdevumi par komunālajiem pakalpojumiem | D41: =D42 -> 0
A42: 2223 | B42: Izdevumi par elektroenerģiju
A43: 2240 | B43: Remontdarbi un iestāžu uzturēšanas pakalpojumi (izņemot kapitālo remontu) | D43: =D44 -> 0
A44: 2242 | B44: Transportlīdzekļu uzturēšana un remonts
A45: 2300 | B45: Krājumi, materiāli, energoresursi, prece, biroja preces un inventārs, kurus neuzskaita kodā 5000 | D45: =D46+D48+D51+D52+D54 -> 0
A46: 2310 | B46: Izdevumi par precēm iestādes darbības nodrošināšanai | D46: =D47 -> 0
A47: 2311 | B47: Biroja preces
A48: 2320 | B48: Kurināmais un enerģētiskie materiāli | D48: =D49+D50 -> 0
A49: 2322 | B49: Degviela
A50: 2329 | B50: Pārējie enerģētiskie materiāli
A51: 2350 | B51: Kārtējā remonta un iestāžu uzturēšanas materiāli
A52: 2360 | B52: Valsts un pašvaldību aprūpē un apgādē esošo personu uzturēšana | D52: =D53 -> 0
A53: 2364 | B53: Formas tērpi un speciālais apģērbs
A54: 2380 | B54: Specifiskie materiāli un inventārs | D54: =D55 -> 0
A55: 2389 | B55: Pārējie specifiskas lietošanas materiāli un inventārs
A56: 5000 | B56: Pamatkapitāla veidošana | D56: =D57 -> 0
A57: 5200 | B57: Pamatlīdzekļi | D57: =D58+D59 -> 0
A58: 5220 | B58: Tehnoloģiskās iekārtas un mašīnas
A59: 5230 | B59: Pārējie pamatlīdzekļi | D59: =D60+D61+D62 -> 0
A60: 5231 | B60: Transportlīdzekļi
A61: 5238 | B61: Datortehnika, sakaru un cita biroja tehnika
A62: 5239 | B62: Pārējie iepriekš neklasificētie pamatlīdzekļi
A63: Tiešās izmaksas kopā: | D63: =D12+D39+D56 -> 45.08 | E63: =E12+E39+E56 -> 47.31
A65: Netiešās izmaksas
A66: 1000 | B66: Atlīdzība | D66: =D67+D83 -> 1.14 | E66: =E67+E83 -> 1.14
A67: 1100 | B67: Atalgojums | D67: =D68+D72+D81+D82 -> 0.87 | E67: =E68+E72+E81+E82 -> 0.87
A68: 1110 | B68: Mēnešalga | D68: =SUM(D69:D71) -> 0.79 | E68: =SUM(E69:E71) -> 0.79
A69: 1114 | B69: Valsts civildienesta ierēdņu mēnešalga
A70: 1116 | B70: Mēnešalga amatpersonām ar speciālajām dienesta pakāpēm
A71: 1119 | B71: Pārējo darbinieku mēnešalga (darba alga) | C71: Izglītības koordinācijas nodaļas vecākā speciālista mēnešalga (10 mēnešalgu grupa) EUR 830 Individuālā pārbaudījuma veidlapas noformēšana, izsniegšana (5 min): EUR 830 : 168 st. x 0,08 st. = EUR 0,40 Grāmatvedības darbinieka mēnešalga (9 mēnešalgu grupa) EUR 820 Ienākošo maksājumu uzdevumu ievadīšana, grāmatošana un printēšana (5 min.): EUR 820 : 168 st. x 0,08 st. = EUR 0,39 Kopā: EUR 0,40 + EUR 0,39 = EUR 0,79 | D71: =ROUNDUP((830/168)*0.08,2)+ROUND((820/168)*0.08,2) -> 0.79 | E71: =ROUNDUP((844/168)*0.08,2)+ROUND((790/168)*0.08,2) -> 0.79
A72: 1140 | B72: Piemaksas, prēmijas un naudas balvas | D72: =SUM(D73:D80) -> 0.08 | E72: =SUM(E73:E80) -> 0.08
A73: 1141 | B73: Piemaksa par nakts darbu
A74: 1142 | B74: Samaksa par virsstundu darbu un darbu svētku dienās
A75: 1143 | B75: Piemaksa par speciālo dienesta pakāpi un diplomātisko rangu
A76: 1145 | B76: Piemaksa par darbu īpašos apstākļos, speciālās piemaksas
A77: 1146 | B77: Piemaksa par personisko darba ieguldījumu un darba kvalitāti | C77: Piemaksa par personisko darba ieguldījumu un darba kvalitāti 5% no mēnešalgas: EUR (830 + 820) x 5% : 168 st. x 0,08 st. = EUR 0,04 | D77: =ROUNDUP((830+820)*5%/168*0.08,2) -> 0.04 | E77: =ROUNDUP((844+790)*5%/168*0.08,2) -> 0.04
A78: 1147 | B78: Piemaksa par papildu darbu | C78: Piemaksa par papildu darbu 5% no mēnešalgas EUR (830 + 820) x 5% : 168 st. x 0,08 st. = EUR 0,04 | D78: =ROUNDUP((830+820)*5%/168*0.08,2) -> 0.04 | E78: =ROUNDUP((844+790)*5%/168*0.08,2) -> 0.04
A79: 1148 | B79: Prēmijas un naudas balvas
A80: 1149 | B80: Citas normatīvajos aktos noteiktās piemaksas, kas nav iepriekš klasificētas
A81: 1150 | B81: Atalgojums fiziskajām personām uz tiesiskās attiecības regulējošu dokumentu pamata
A82: 1170 | B82: Darba devēja piešķirtie labumi un maksājumi
A83: 1200 | B83: Darba devēja valsts sociālās apdrošināšanas obligātās iemaksas, pabalsti un kompensācijas | D83: =D84+D85 -> 0.27 | E83: =E84+E85 -> 0.27
A84: 1210 | B84: Darba devēja valsts sociālās apdrošināšanas obligātās iemaksas | C84: 23,59 % no 1100. un 1221.IEKK | D84: =ROUNDUP((D67+D86)*0.2359,2) -> 0.22 | E84: =ROUNDUP((E67+E86)*0.2359,2) -> 0.22
A85: 1220 | B85: Darba devēja pabalsti, kompensācijas un citi maksājumi | D85: =SUM(D86:D92) -> 0.05 | E85: =SUM(E86:E92) -> 0.05
A86: 1221 | B86: Darba devēja pabalsti un kompensācijas, no kuriem aprēķina iedzīvotāju ienākuma nodokli un valsts sociālās apdrošināšanas obligātās iemaksas | C86: Pabalsti un kompensācijas, no kuriem aprēķina iedzīvotāju ienākuma nodokli un valsts sociālās apdrošināšanas obligātās iemaksas EUR (830 + 820) x 4% : 168 st. x 0,08 = EUR 0,03 | D86: =ROUNDUP((830+820)*4%/168*0.08,2) -> 0.04 | E86: =ROUNDUP((844+790)*4%/168*0.08,2) -> 0.04
A87: 1223 | B87: Mācību maksas kompensācija
A88: 1224 | B88: Ārvalstīs nodarbināto amatpersonu (darbinieku) pabalsti un kompensācijas
A89: 1225 | B89: Uzturdevas kompensācija
A90: 1226 | B90: Dienesta pienākumu izpildei nepieciešamā apģērba iegādes kompensācija
A91: 1227 | B91: Darba devēja izdevumi veselības, dzīvības un nelaimes gadījumu apdrošināšanai
A92: 1228 | B92: Darba devēja pabalsti un kompensācijas, no kā neaprēķina iedzīvotāju ienākuma nodokli un valsts sociālās apdrošināšanas obligātās iemaksas | C92: Pabalsti un kompensācijas, no kā neaprēķina iedzīvotāju ienākuma nodokli un valsts sociālās apdrošināšanas obligātās iemaksas EUR (830 + 820) x 1% : 168 st.x 0,08 = EUR 0,01 | D92: =ROUNDUP((830+820)*1%/168*0.08,2) -> 0.01 | E92: =ROUNDUP((830+820)*1%/168*0.08,2) -> 0.01
A93: 2000 | B93: Preces un pakalpojumi | D93: =D94+D99 -> 0.4 | E93: =E94+E99 -> 0.4
A94: 2200 | B94: Pakalpojumi | D94: =D95+D97 -> 0 | E94: =E95+E97 -> 0
A95: 2220 | B95: Izdevumi par komunālajiem pakalpojumiem | D95: =D96 -> 0 | E95: =E96 -> 0
A96: 2223 | B96: Izdevumi par elektroenerģiju
A97: 2240 | B97: Remontdarbi un iestāžu uzturēšanas pakalpojumi (izņemot kapitālo remontu) | D97: =D98 -> 0 | E97: =E98 -> 0
A98: 2242 | B98: Transportlīdzekļu uzturēšana un remonts
A99: 2300 | B99: Krājumi, materiāli, energoresursi, prece, biroja preces un inventārs, kurus neuzskaita kodā 5000 | D99: =D100+D102+D105+D106+D108 -> 0.4 | E99: =E100+E102+E105+E106+E108 -> 0.4
A100: 2310 | B100: Izdevumi par precēm iestādes darbības nodrošināšanai | D100: =D101 -> 0.4 | E100: =E101 -> 0.4
A101: 2311 | B101: Biroja preces | C101: Papīrs rēķina sagatavošanai EUR 0,01, tonera izmaksas EUR 0,04. Izmaksas rēķina sagatavošanai: (0,01+0,04) × 2 loksnes = EUR 0,10 Papīrs līgums sagatavošanai EUR 0,01, tonera izmaksas EUR 0,04. Izmaksas līguma sagatavošanai: (0,01+0,04) × 6 loksnes = EUR 0,30 Izmaksas maksas pakalpojuma nodrošināšanai: EUR 0,10 + EUR 0,30 = EUR 0,40 | D101: =ROUND((0.01+0.04)*2,2)+ROUND((0.01+0.04)*6,2) -> 0.4 | E101: =ROUND((0.01+0.04)*2,2)+ROUND((0.01+0.04)*6,2) -> 0.4
A102: 2320 | B102: Kurināmais un enerģētiskie materiāli | D102: =D103+D104 -> 0 | E102: =E103+E104 -> 0
A103: 2322 | B103: Degviela
A104: 2329 | B104: Pārējie enerģētiskie materiāli
A105: 2350 | B105: Kārtējā remonta un iestāžu uzturēšanas materiāli
...

Sheet 1.2
A1: Maksas pakalpojumu izcenojuma aprēķins
A3: 1. Atkārtota pārbaudījuma kārtošana:
A4: 1.2. kvalifikācijas darba recenzēšana
A5: Maksas pakalpojuma mērvienība – viena recenzija
A9: EKK kods | B9: Rādītājs (materiāla/izejvielas nosaukums, atlīdzība un citi izmaksu veidi) | C9: Izmaksu apjoms gadā viena makasa pakalpojuma veida nodrošināšanai | I9: Piezīmes, komentāri
A10: 1 | B10: 2 | C10: 3
A11: Tiešās izmaksas
A12: 1000 | B12: Atlīdzība | H12: =SUM(H13,H110) -> 54.87
A13: 1100 | B13: Atalgojums | H13: =SUM(H14,H25,H36,H47,H68,H89) -> 42.79
A14: 1116 | B14: Mēnešalga amatpersonām ar speciālajām dienesta pakāpēm | C14: Ieņemamais amats | E14: M.a. grupa | F14: Mēnešalga | G14: Patērētais laiks (h) | H14: =SUM(H15:H24) -> 39.93
C15: Lektors (ar SDP) | E15: 9 | F15: 1677 | G15: 4 | H15: =ROUNDUP((F15/168*G15),2) -> 39.93
H16: =ROUNDUP((F16/168*G16),2) -> 0
H17: =ROUNDUP((F17/168*G17),2) -> 0
H18: =ROUNDUP((F18/168*G18),2) -> 0
H19: =ROUNDUP((F19/168*G19),2) -> 0
H20: =ROUNDUP((F20/168*G20),2) -> 0
H21: =ROUNDUP((F21/168*G21),2) -> 0
H22: =ROUNDUP((F22/168*G22),2) -> 0
H23: =ROUNDUP((F23/168*G23),2) -> 0
H24: =ROUNDUP((F24/168*G24),2) -> 0
A25: 1119 | B25: Pārējo darbinieku mēnešalga (darba alga) | C25: Ieņememais amats | E25: M.a. grupa | F25: Mēnešalga | G25: Patērētais laiks (h) | H25: =SUM(H26:H35) -> 0
H26: =ROUNDUP((F26/168*G26),2) -> 0
H27: =ROUNDUP((F27/168*G27),2) -> 0
H28: =ROUNDUP((F28/168*G28),2) -> 0
H29: =ROUNDUP((F29/168*G29),2) -> 0
H30: =ROUNDUP((F30/168*G30),2) -> 0
H31: =ROUNDUP((F31/168*G31),2) -> 0
H32: =ROUNDUP((F32/168*G32),2) -> 0
H33: =ROUNDUP((F33/168*G33),2) -> 0
H34: =ROUNDUP((F34/168*G34),2) -> 0
H35: =ROUNDUP((F35/168*G35),2) -> 0
A36: 1143 | B36: Piemaksa par speciālo dienesta pakāpi un diplomātisko rangu | C36: Speciālā dienesta pakāpe | F36: Piemaksa mēnesī | G36: Patērētais laiks (h) | H36: =SUM(H37:H46) -> 2.86
C37: Pulkvežleitnants | F37: 120 | G37: =G15 -> 4 | H37: =ROUNDUP((F37/168*G37),2) -> 2.86
G38: =G16 -> 0 | H38: =ROUNDUP((F38/168*G38),2) -> 0
G39: =G17 -> 0 | H39: =ROUNDUP((F39/168*G39),2) -> 0
G40: =G18 -> 0 | H40: =ROUNDUP((F40/168*G40),2) -> 0
G41: =G19 -> 0 | H41: =ROUNDUP((F41/168*G41),2) -> 0
G42: =G20 -> 0 | H42: =ROUNDUP((F42/168*G42),2) -> 0
G43: =G21 -> 0 | H43: =ROUNDUP((F43/168*G43),2) -> 0
G44: =G22 -> 0 | H44: =ROUNDUP((F44/168*G44),2) -> 0
G45: =G23 -> 0 | H45: =ROUNDUP((F45/168*G45),2) -> 0
G46: =G24 -> 0 | H46: =ROUNDUP((F46/168*G46),2) -> 0
A47: 1146 | B47: Piemaksa par personisko darba ieguldījumu un darba kvalitāti | C47: Ieņemamais amats | E47: Piemaksa % | F47: Mēnešalga | G47: Patērētais laiks (h) | H47: =SUM(H48:H67) -> 0
C48: =C15 -> Lektors (ar SDP) | E48: 5 | F48: =F15 -> 1677 | H48: =ROUNDUP((F48*$E$48%)/168*G48,2) -> 0
C49: =C16 -> 0 | F49: =F16 -> 0 | G49: =G16 -> 0 | H49: =ROUNDUP((F49*$E$48%)/168*G49,2) -> 0
C50: =C17 -> 0 | F50: =F17 -> 0 | G50: =G17 -> 0 | H50: =ROUNDUP((F50*$E$48%)/168*G50,2) -> 0
C51: =C18 -> 0 | F51: =F18 -> 0 | G51: =G18 -> 0 | H51: =ROUNDUP((F51*$E$48%)/168*G51,2) -> 0
C52: =C19 -> 0 | F52: =F19 -> 0 | G52: =G19 -> 0 | H52: =ROUNDUP((F52*$E$48%)/168*G52,2) -> 0
C53: =C20 -> 0 | F53: =F20 -> 0 | G53: =G20 -> 0 | H53: =ROUNDUP((F53*$E$48%)/168*G53,2) -> 0
C54: =C21 -> 0 | F54: =F21 -> 0 | G54: =G21 -> 0 | H54: =ROUNDUP((F54*$E$48%)/168*G54,2) -> 0
C55: =C22 -> 0 | F55: =F22 -> 0 | G55: =G22 -> 0 | H55: =ROUNDUP((F55*$E$48%)/168*G55,2) -> 0
C56: =C23 -> 0 | F56: =F23 -> 0 | G56: =G23 -> 0 | H56: =ROUNDUP((F56*$E$48%)/168*G56,2) -> 0
C57: =C24 -> 0 | F57: =F24 -> 0 | G57: =G24 -> 0 | H57: =ROUNDUP((F57*$E$48%)/168*G57,2) -> 0
C58: =C26 -> 0 | F58: =F26 -> 0 | G58: =G26 -> 0 | H58: =ROUNDUP((F58*$E$48%)/168*G58,2) -> 0
C59: =C27 -> 0 | F59: =F27 -> 0 | G59: =G27 -> 0 | H59: =ROUNDUP((F59*$E$48%)/168*G59,2) -> 0
C60: =C28 -> 0 | F60: =F28 -> 0 | G60: =G28 -> 0 | H60: =ROUNDUP((F60*$E$48%)/168*G60,2) -> 0
C61: =C29 -> 0 | F61: =F29 -> 0 | G61: =G29 -> 0 | H61: =ROUNDUP((F61*$E$48%)/168*G61,2) -> 0
C62: =C30 -> 0 | F62: =F30 -> 0 | G62: =G30 -> 0 | H62: =ROUNDUP((F62*$E$48%)/168*G62,2) -> 0
C63: =C31 -> 0 | F63: =F31 -> 0 | G63: =G31 -> 0 | H63: =ROUNDUP((F63*$E$48%)/168*G63,2) -> 0
C64: =C32 -> 0 | F64: =F32 -> 0 | G64: =G32 -> 0 | H64: =ROUNDUP((F64*$E$48%)/168*G64,2) -> 0
C65: =C33 -> 0 | F65: =F33 -> 0 | G65: =G33 -> 0 | H65: =ROUNDUP((F65*$E$48%)/168*G65,2) -> 0
C66: =C34 -> 0 | F66: =F34 -> 0 | G66: =G34 -> 0 | H66: =ROUNDUP((F66*$E$48%)/168*G66,2) -> 0
C67: =C35 -> 0 | F67: =F35 -> 0 | G67: =G35 -> 0 | H67: =ROUNDUP((F67*$E$48%)/168*G67,2) -> 0
A68: 1147 | B68: Piemaksa par papildu darbu | C68: Ieņemamais amats | E68: Piemaksa % | F68: Mēnešalga | G68: Patērētais laiks (h) | H68: =SUM(H69:H88) -> 0
C69: =C15 -> Lektors (ar SDP) | E69: 5 | F69: =F15 -> 1677 | H69: =ROUNDUP((F69*$E$69%)/168*G69,2) -> 0
C70: =C17 -> 0 | F70: =F17 -> 0 | G70: =G17 -> 0 | H70: =ROUNDUP((F70*$E$69%)/168*G70,2) -> 0
C71: =C18 -> 0 | F71: =F18 -> 0 | G71: =G18 -> 0 | H71: =ROUNDUP((F71*$E$69%)/168*G71,2) -> 0
C72: =C19 -> 0 | F72: =F19 -> 0 | G72: =G19 -> 0 | H72: =ROUNDUP((F72*$E$69%)/168*G72,2) -> 0
C73: =C20 -> 0 | F73: =F20 -> 0 | G73: =G20 -> 0 | H73: =ROUNDUP((F73*$E$69%)/168*G73,2) -> 0
C74: =C21 -> 0 | F74: =F21 -> 0 | G74: =G21 -> 0 | H74: =ROUNDUP((F74*$E$69%)/168*G74,2) -> 0
C75: =C22 -> 0 | F75: =F22 -> 0 | G75: =G22 -> 0 | H75: =ROUNDUP((F75*$E$69%)/168*G75,2) -> 0
C76: =C23 -> 0 | F76: =F23 -> 0 | G76: =G23 -> 0 | H76: =ROUNDUP((F76*$E$69%)/168*G76,2) -> 0
C77: =C24 -> 0 | F77: =F24 -> 0 | G77: =G24 -> 0 | H77: =ROUNDUP((F77*$E$69%)/168*G77,2) -> 0
C78: =C26 -> 0 | F78: =F26 -> 0 | G78: =G26 -> 0 | H78: =ROUNDUP((F78*$E$69%)/168*G78,2) -> 0
C79: =C27 -> 0 | F79: =F27 -> 0 | G79: =G27 -> 0 | H79: =ROUNDUP((F79*$E$69%)/168*G79,2) -> 0
C80: =C28 -> 0 | F80: =F28 -> 0 | G80: =G28 -> 0 | H80: =ROUNDUP((F80*$E$69%)/168*G80,2) -> 0
F81: =F29 -> 0 | G81: =G29 -> 0 | H81: =ROUNDUP((F81*$E$69%)/168*G81,2) -> 0
C82: =C29 -> 0 | F82: =F30 -> 0 | G82: =G30 -> 0 | H82: =ROUNDUP((F82*$E$69%)/168*G82,2) -> 0
C83: =C30 -> 0 | F83: =F31 -> 0 | G83: =G31 -> 0 | H83: =ROUNDUP((F83*$E$69%)/168*G83,2) -> 0
C84: =C31 -> 0 | F84: =F31 -> 0 | G84: =G31 -> 0 | H84: =ROUNDUP((F84*$E$69%)/168*G84,2) -> 0
C85: =C32 -> 0 | F85: =F32 -> 0 | G85: =G32 -> 0 | H85: =ROUNDUP((F85*$E$69%)/168*G85,2) -> 0
C86: =C33 -> 0 | F86: =F33 -> 0 | G86: =G33 -> 0 | H86: =ROUNDUP((F86*$E$69%)/168*G86,2) -> 0
C87: =C34 -> 0 | F87: =F34 -> 0 | G87: =G34 -> 0 | H87: =ROUNDUP((F87*$E$69%)/168*G87,2) -> 0
C88: =C35 -> 0 | F88: =F35 -> 0 | G88: =G35 -> 0 | H88: =ROUNDUP((F88*$E$69%)/168*G88,2) -> 0
A89: 1148 | B89: Prēmijas un naudas balvas | C89: Ieņemamais amats | E89: Piemaksa % | F89: Mēnešalga | G89: Patērētais laiks (h) | H89: =SUM(H90:H109) -> 0
C90: =C15 -> Lektors (ar SDP) | E90: 10 | F90: =F15 -> 1677 | H90: =ROUNDUP((F90*$E$90%)/168*$G$90,2) -> 0
C91: =C16 -> 0 | F91: =F16 -> 0 | G91: =G16 -> 0 | H91: =ROUNDUP((F91*$E$90%)/168*$G$90,2) -> 0
C92: =C17 -> 0 | F92: =F17 -> 0 | G92: =G17 -> 0 | H92: =ROUNDUP((F92*$E$90%)/168*$G$90,2) -> 0
C93: =C18 -> 0 | F93: =F18 -> 0 | G93: =G18 -> 0 | H93: =ROUNDUP((F93*$E$90%)/168*$G$90,2) -> 0
C94: =C19 -> 0 | F94: =F19 -> 0 | G94: =G19 -> 0 | H94: =ROUNDUP((F94*$E$90%)/168*$G$90,2) -> 0
C95: =C20 -> 0 | F95: =F20 -> 0 | G95: =G20 -> 0 | H95: =ROUNDUP((F95*$E$90%)/168*$G$90,2) -> 0
C96: =C21 -> 0 | F96: =F21 -> 0 | G96: =G21 -> 0 | H96: =ROUNDUP((F96*$E$90%)/168*$G$90,2) -> 0
C97: =C22 -> 0 | F97: =F22 -> 0 | G97: =G22 -> 0 | H97: =ROUNDUP((F97*$E$90%)/168*$G$90,2) -> 0
C98: =C23 -> 0 | F98: =F23 -> 0 | G98: =G23 -> 0 | H98: =ROUNDUP((F98*$E$90%)/168*$G$90,2) -> 0
C99: =C24 -> 0 | F99: =F24 -> 0 | G99: =G24 -> 0 | H99: =ROUNDUP((F99*$E$90%)/168*$G$90,2) -> 0
C100: =C26 -> 0 | F100: =F26 -> 0 | G100: =G26 -> 0 | H100: =ROUNDUP((F100*$E$90%)/168*$G$90,2) -> 0
C101: =C27 -> 0 | F101: =F27 -> 0 | G101: =G27 -> 0 | H101: =ROUNDUP((F101*$E$90%)/168*$G$90,2) -> 0
C102: =C28 -> 0 | F102: =F28 -> 0 | G102: =G28 -> 0 | H102: =ROUNDUP((F102*$E$90%)/168*$G$90,2) -> 0
C103: =C29 -> 0 | F103: =F29 -> 0 | G103: =G29 -> 0 | H103: =ROUNDUP((F103*$E$90%)/168*$G$90,2) -> 0
C104: =C30 -> 0 | F104: =F30 -> 0 | G104: =G30 -> 0 | H104: =ROUNDUP((F104*$E$90%)/168*$G$90,2) -> 0
...

Sheet 1.3(1)
A1: Maksas pakalpojumu izcenojuma aprēķins
A3: 1. Atkārtota pārbaudījuma kārtošana
A4: 1.2. kvalifikācijas darba aizstāvēšana
A5: Maksas pakalpojuma mērvienība – viena recenzija
A9: Izdevumu klasifikācijas kods | B9: Rādītājs (materiāla/izejvielas nosaukums, atlīdzība un citi izmaksu veidi) | C9: Izmaksu apjoms gadā viena makasa pakalpojuma veida nodrošināšanai
A10: 1 | B10: 2 | C10: 3 | E10: MK vidējais 1191
A11: Tiešās izmaksas
A12: 1000 | B12: Atlīdzība | D12: =D13+D29 -> 45.08 | E12: =E13+E29 -> 47.31
A13: 1100 | B13: Atalgojums | D13: =D14+D18+D27+D28 -> 35.17 | E13: =E14+E18+E27+E28 -> 36.9
A14: 1110 | B14: Mēnešalga | D14: =SUM(D15:D17) -> 26.91 | E14: =SUM(E15:E17) -> 28.36
A15: 1114 | B15: Valsts civildienesta ierēdņu mēnešalga
A16: 1116 | B16: Mēnešalga amatpersonām ar speciālajām dienesta pakāpēm | C16: Lektora ar speciālo dienesta pakāpi mēnešalga (9 mēnešalgu grupa): EUR 1 130 Vidējais darba stundu skaits mēnesī: 168 st. Izmaksas maksas pakalpojuma nodrošināšanai: EUR 1 130 : 168 st. x 4 st. = EUR 26,91 | D16: =ROUNDUP((1130/168*4),2) -> 26.91 | E16: =ROUNDUP((1191/168*4),2) -> 28.36
A17: 1119 | B17: Pārējo darbinieku mēnešalga (darba alga)
A18: 1140 | B18: Piemaksas, prēmijas un naudas balvas | D18: =SUM(D19:D26) -> 8.26 | E18: =SUM(E19:E26) -> 8.54
A19: 1141 | B19: Piemaksa par nakts darbu
A20: 1142 | B20: Samaksa par virsstundu darbu un darbu svētku dienās
A21: 1143 | B21: Piemaksa par speciālo dienesta pakāpi un diplomātisko rangu | C21: Piemaksas apmērs vienai iesaistītai amatpersonai mēnesī (pulkvežleitnants) - EUR 120; Vidējais darba stundu skaits mēnesī: 168 st. Izmaksas maksas pakalpojuma nodrošināšanai: EUR 120 : 168 st. x 4 st. = EUR 2,86 | D21: =ROUNDUP((120/168*4),2) -> 2.86 | E21: =ROUNDUP((120/168*4),2) -> 2.86
A22: 1145 | B22: Piemaksa par darbu īpašos apstākļos, speciālās piemaksas
A23: 1146 | B23: Piemaksa par personisko darba ieguldījumu un darba kvalitāti | C23: Piemaksa par personisko darba ieguldījumu un darba kvalitāti 5% no mēnešalgas: EUR 1 130 x 5% : 168 st. x 4 st. = EUR 1,35 | D23: =ROUNDUP(1130*5%/168*4,2) -> 1.35 | E23: =ROUNDUP(1191*5%/168*4,2) -> 1.42
A24: 1147 | B24: Piemaksa par papildu darbu | C24: Piemaksa par papildu darbu 5% no mēnešalgas EUR 1 130 x 5% : 168 st. x 4 st. = EUR 1,35 | D24: =ROUNDUP(1130*5%/168*4,2) -> 1.35 | E24: =ROUNDUP(1191*5%/168*4,2) -> 1.42
A25: 1148 | B25: Prēmijas un naudas balvas | C25: Prēmijas un naudas balvas 10% no mēnešalgas EUR 1 130 x 10% : 168 st. x 4 st. = EUR 2,70 | D25: =ROUNDUP(1130*10%/168*4,2) -> 2.7 | E25: =ROUNDUP(1191*10%/168*4,2) -> 2.84
A26: 1149 | B26: Citas normatīvajos aktos noteiktās piemaksas, kas nav iepriekš klasificētas
A27: 1150 | B27: Atalgojums fiziskajām personām uz tiesiskās attiecības regulējošu dokumentu pamata
A28: 1170 | B28: Darba devēja piešķirtie labumi un maksājumi
A29: 1200 | B29: Darba devēja valsts sociālās apdrošināšanas obligātās iemaksas, pabalsti un kompensācijas | D29: =D30+D31 -> 9.91 | E29: =E30+E31 -> 10.41
A30: 1210 | B30: Darba devēja valsts sociālās apdrošināšanas obligātās iemaksas | C30: 23,59 % no 1100. un 1221.IEKK | D30: =ROUNDUP((D13+D32)*0.2359,2) -> 8.56 | E30: =ROUNDUP((E13+E32)*0.2359,2) -> 8.98
A31: 1220 | B31: Darba devēja pabalsti, kompensācijas un citi maksājumi | D31: =SUM(D32:D38) -> 1.35 | E31: =SUM(E32:E38) -> 1.43
A32: 1221 | B32: Darba devēja pabalsti un kompensācijas, no kuriem aprēķina iedzīvotāju ienākuma nodokli un valsts sociālās apdrošināšanas obligātās iemaksas | C32: Pabalsti un kompensācijas, no kuriem aprēķina iedzīvotāju ienākuma nodokli un valsts sociālās apdrošināšanas obligātās iemaksas EUR 1 130 x 4% : 168 st. x 4 st. = EUR 1,08 | D32: =ROUNDUP(1130*4%/168*4,2) -> 1.08 | E32: =ROUNDUP(1191*4%/168*4,2) -> 1.14
A33: 1223 | B33: Mācību maksas kompensācija
A34: 1224 | B34: Ārvalstīs nodarbināto amatpersonu (darbinieku) pabalsti un kompensācijas
A35: 1225 | B35: Uzturdevas kompensācija
A36: 1226 | B36: Dienesta pienākumu izpildei nepieciešamā apģērba iegādes kompensācija
A37: 1227 | B37: Darba devēja izdevumi veselības, dzīvības un nelaimes gadījumu apdrošināšanai
A38: 1228 | B38: Darba devēja pabalsti un kompensācijas, no kā neaprēķina iedzīvotāju ienākuma nodokli un valsts sociālās apdrošināšanas obligātās iemaksas | C38: Pabalsti un kompensācijas, no kā neaprēķina iedzīvotāju ienākuma nodokli un valsts sociālās apdrošināšanas obligātās iemaksas EUR 1 130 x 1% : 168 st. x 4 st. = EUR 0,27 | D38: =ROUNDUP(1130*1%/168*4,2) -> 0.27 | E38: =ROUNDUP(1191*1%/168*4,2) -> 0.29
A39: 2000 | B39: Preces un pakalpojumi | D39: =D40+D45 -> 0
A40: 2200 | B40: Pakalpojumi | D40: =D41+D43 -> 0
A41: 2220 | B41: Izdevumi par komunālajiem pakalpojumiem | D41: =D42 -> 0
A42: 2223 | B42: Izdevumi par elektroenerģiju
A43: 2240 | B43: Remontdarbi un iestāžu uzturēšanas pakalpojumi (izņemot kapitālo remontu) | D43: =D44 -> 0
A44: 2242 | B44: Transportlīdzekļu uzturēšana un remonts
A45: 2300 | B45: Krājumi, materiāli, energoresursi, prece, biroja preces un inventārs, kurus neuzskaita kodā 5000 | D45: =D46+D48+D51+D52+D54 -> 0
A46: 2310 | B46: Izdevumi par precēm iestādes darbības nodrošināšanai | D46: =D47 -> 0
A47: 2311 | B47: Biroja preces
A48: 2320 | B48: Kurināmais un enerģētiskie materiāli | D48: =D49+D50 -> 0
A49: 2322 | B49: Degviela
A50: 2329 | B50: Pārējie enerģētiskie materiāli
A51: 2350 | B51: Kārtējā remonta un iestāžu uzturēšanas materiāli
A52: 2360 | B52: Valsts un pašvaldību aprūpē un apgādē esošo personu uzturēšana | D52: =D53 -> 0
A53: 2364 | B53: Formas tērpi un speciālais apģērbs
A54: 2380 | B54: Specifiskie materiāli un inventārs | D54: =D55 -> 0
A55: 2389 | B55: Pārējie specifiskas lietošanas materiāli un inventārs
A56: 5000 | B56: Pamatkapitāla veidošana | D56: =D57 -> 0
A57: 5200 | B57: Pamatlīdzekļi | D57: =D58+D59 -> 0
A58: 5220 | B58: Tehnoloģiskās iekārtas un mašīnas
A59: 5230 | B59: Pārējie pamatlīdzekļi | D59: =D60+D61+D62 -> 0
A60: 5231 | B60: Transportlīdzekļi
A61: 5238 | B61: Datortehnika, sakaru un cita biroja tehnika
A62: 5239 | B62: Pārējie iepriekš neklasificētie pamatlīdzekļi
A63: Tiešās izmaksas kopā: | D63: =D12+D39+D56 -> 45.08 | E63: =E12+E39+E56 -> 47.31
A65: Netiešās izmaksas
A66: 1000 | B66: Atlīdzība | D66: =D67+D83 -> 1.14 | E66: =E67+E83 -> 1.14
A67: 1100 | B67: Atalgojums | D67: =D68+D72+D81+D82 -> 0.87 | E67: =E68+E72+E81+E82 -> 0.87
A68: 1110 | B68: Mēnešalga | D68: =SUM(D69:D71) -> 0.79 | E68: =SUM(E69:E71) -> 0.79
A69: 1114 | B69: Valsts civildienesta ierēdņu mēnešalga
A70: 1116 | B70: Mēnešalga amatpersonām ar speciālajām dienesta pakāpēm
A71: 1119 | B71: Pārējo darbinieku mēnešalga (darba alga) | C71: Izglītības koordinācijas nodaļas vecākā speciālista mēnešalga (10 mēnešalgu grupa) EUR 830 Individuālā pārbaudījuma veidlapas noformēšana, izsniegšana (5 min): EUR 830 : 168 st. x 0,08 st. = EUR 0,40 Grāmatvedības darbinieka mēnešalga (9 mēnešalgu grupa) EUR 820 Ienākošo maksājumu uzdevumu ievadīšana, grāmatošana un printēšana (5 min.): EUR 820 : 168 st. x 0,08 st. = EUR 0,39 Kopā: EUR 0,40 + EUR 0,39 = EUR 0,79 | D71: =ROUNDUP((830/168)*0.08,2)+ROUND((820/168)*0.08,2) -> 0.79 | E71: =ROUNDUP((844/168)*0.08,2)+ROUND((790/168)*0.08,2) -> 0.79
A72: 1140 | B72: Piemaksas, prēmijas un naudas balvas | D72: =SUM(D73:D80) -> 0.08 | E72: =SUM(E73:E80) -> 0.08
A73: 1141 | B73: Piemaksa par nakts darbu
A74: 1142 | B74: Samaksa par virsstundu darbu un darbu svētku dienās
A75: 1143 | B75: Piemaksa par speciālo dienesta pakāpi un diplomātisko rangu
A76: 1145 | B76: Piemaksa par darbu īpašos apstākļos, speciālās piemaksas
A77: 1146 | B77: Piemaksa par personisko darba ieguldījumu un darba kvalitāti | C77: Piemaksa par personisko darba ieguldījumu un darba kvalitāti 5% no mēnešalgas: EUR (830 + 820) x 5% : 168 st. x 0,08 st. = EUR 0,04 | D77: =ROUNDUP((830+820)*5%/168*0.08,2) -> 0.04 | E77: =ROUNDUP((844+790)*5%/168*0.08,2) -> 0.04
A78: 1147 | B78: Piemaksa par papildu darbu | C78: Piemaksa par papildu darbu 5% no mēnešalgas EUR (830 + 820) x 5% : 168 st. x 0,08 st. = EUR 0,04 | D78: =ROUNDUP((830+820)*5%/168*0.08,2) -> 0.04 | E78: =ROUNDUP((844+790)*5%/168*0.08,2) -> 0.04
A79: 1148 | B79: Prēmijas un naudas balvas
A80: 1149 | B80: Citas normatīvajos aktos noteiktās piemaksas, kas nav iepriekš klasificētas
A81: 1150 | B81: Atalgojums fiziskajām personām uz tiesiskās attiecības regulējošu dokumentu pamata
A82: 1170 | B82: Darba devēja piešķirtie labumi un maksājumi
A83: 1200 | B83: Darba devēja valsts sociālās apdrošināšanas obligātās iemaksas, pabalsti un kompensācijas | D83: =D84+D85 -> 0.27 | E83: =E84+E85 -> 0.27
A84: 1210 | B84: Darba devēja valsts sociālās apdrošināšanas obligātās iemaksas | C84: 23,59 % no 1100. un 1221.IEKK | D84: =ROUNDUP((D67+D86)*0.2359,2) -> 0.22 | E84: =ROUNDUP((E67+E86)*0.2359,2) -> 0.22
A85: 1220 | B85: Darba devēja pabalsti, kompensācijas un citi maksājumi | D85: =SUM(D86:D92) -> 0.05 | E85: =SUM(E86:E92) -> 0.05
A86: 1221 | B86: Darba devēja pabalsti un kompensācijas, no kuriem aprēķina iedzīvotāju ienākuma nodokli un valsts sociālās apdrošināšanas obligātās iemaksas | C86: Pabalsti un kompensācijas, no kuriem aprēķina iedzīvotāju ienākuma nodokli un valsts sociālās apdrošināšanas obligātās iemaksas EUR (830 + 820) x 4% : 168 st. x 0,08 = EUR 0,03 | D86: =ROUNDUP((830+820)*4%/168*0.08,2) -> 0.04 | E86: =ROUNDUP((844+790)*4%/168*0.08,2) -> 0.04
A87: 1223 | B87: Mācību maksas kompensācija
A88: 1224 | B88: Ārvalstīs nodarbināto amatpersonu (darbinieku) pabalsti un kompensācijas
A89: 1225 | B89: Uzturdevas kompensācija
A90: 1226 | B90: Dienesta pienākumu izpildei nepieciešamā apģērba iegādes kompensācija
A91: 1227 | B91: Darba devēja izdevumi veselības, dzīvības un nelaimes gadījumu apdrošināšanai
A92: 1228 | B92: Darba devēja pabalsti un kompensācijas, no kā neaprēķina iedzīvotāju ienākuma nodokli un valsts sociālās apdrošināšanas obligātās iemaksas | C92: Pabalsti un kompensācijas, no kā neaprēķina iedzīvotāju ienākuma nodokli un valsts sociālās apdrošināšanas obligātās iemaksas EUR (830 + 820) x 1% : 168 st.x 0,08 = EUR 0,01 | D92: =ROUNDUP((830+820)*1%/168*0.08,2) -> 0.01 | E92: =ROUNDUP((830+820)*1%/168*0.08,2) -> 0.01
A93: 2000 | B93: Preces un pakalpojumi | D93: =D94+D99 -> 0.4 | E93: =E94+E99 -> 0.4
A94: 2200 | B94: Pakalpojumi | D94: =D95+D97 -> 0 | E94: =E95+E97 -> 0
A95: 2220 | B95: Izdevumi par komunālajiem pakalpojumiem | D95: =D96 -> 0 | E95: =E96 -> 0
A96: 2223 | B96: Izdevumi par elektroenerģiju
A97: 2240 | B97: Remontdarbi un iestāžu uzturēšanas pakalpojumi (izņemot kapitālo remontu) | D97: =D98 -> 0 | E97: =E98 -> 0
A98: 2242 | B98: Transportlīdzekļu uzturēšana un remonts
A99: 2300 | B99: Krājumi, materiāli, energoresursi, prece, biroja preces un inventārs, kurus neuzskaita kodā 5000 | D99: =D100+D102+D105+D106+D108 -> 0.4 | E99: =E100+E102+E105+E106+E108 -> 0.4
A100: 2310 | B100: Izdevumi par precēm iestādes darbības nodrošināšanai | D100: =D101 -> 0.4 | E100: =E101 -> 0.4
A101: 2311 | B101: Biroja preces | C101: Papīrs rēķina sagatavošanai EUR 0,01, tonera izmaksas EUR 0,04. Izmaksas rēķina sagatavošanai: (0,01+0,04) × 2 loksnes = EUR 0,10 Papīrs līgums sagatavošanai EUR 0,01, tonera izmaksas EUR 0,04. Izmaksas līguma sagatavošanai: (0,01+0,04) × 6 loksnes = EUR 0,30 Izmaksas maksas pakalpojuma nodrošināšanai: EUR 0,10 + EUR 0,30 = EUR 0,40 | D101: =ROUND((0.01+0.04)*2,2)+ROUND((0.01+0.04)*6,2) -> 0.4 | E101: =ROUND((0.01+0.04)*2,2)+ROUND((0.01+0.04)*6,2) -> 0.4
A102: 2320 | B102: Kurināmais un enerģētiskie materiāli | D102: =D103+D104 -> 0 | E102: =E103+E104 -> 0
A103: 2322 | B103: Degviela
A104: 2329 | B104: Pārējie enerģētiskie materiāli
A105: 2350 | B105: Kārtējā remonta un iestāžu uzturēšanas materiāli
...

Sheet 1.4(1)
A1: Maksas pakalpojumu izcenojuma aprēķins
A3: 1. Atkārtota pārbaudījuma kārtošana
A4: 1.4. kvalifikācijas eksāmens
A5: Maksas pakalpojuma mērvienība – viena recenzija
A9: Izdevumu klasifikācijas kods | B9: Rādītājs (materiāla/izejvielas nosaukums, atlīdzība un citi izmaksu veidi) | C9: Izmaksu apjoms gadā viena makasa pakalpojuma veida nodrošināšanai
A10: 1 | B10: 2 | C10: 3 | E10: MK vidējais 1191
A11: Tiešās izmaksas
A12: 1000 | B12: Atlīdzība | D12: =D13+D29 -> 45.08 | E12: =E13+E29 -> 47.31
A13: 1100 | B13: Atalgojums | D13: =D14+D18+D27+D28 -> 35.17 | E13: =E14+E18+E27+E28 -> 36.9
A14: 1110 | B14: Mēnešalga | D14: =SUM(D15:D17) -> 26.91 | E14: =SUM(E15:E17) -> 28.36
A15: 1114 | B15: Valsts civildienesta ierēdņu mēnešalga
A16: 1116 | B16: Mēnešalga amatpersonām ar speciālajām dienesta pakāpēm | C16: Valsts policijas priekšnieka vietnieka ar speciālo dienesta pakāpi mēnešalga (27.12.2012. Valsts policijas pavēle Nr.2569 12A amata kategorija) Ls 1749.00 / 166,25 vidējais darba stundu skaits mēnesī= Ls 10.52 x 2 st. (kvalifikācijas eksāmenu komisijas darbs) = Ls 21.04. Valsts policijas Galvenās pārvaldes priekšnieka vietnieka ar speciālo dienesta pakāpi mēnešalga (27.12.2012. Valsts policijas pavēle Nr.2570 12B amata kategorija) Ls 1104.00 / 166,25 vidējais darba stundu skaits mēnesī= Ls 6.64 x 2 st. (kvalifikācijas eksāmenu komisijas darbs).= Ls 13.28. Trīs docētāju ar speciālo dienesta pakāpi mēnešalga (27.12.2012. Valsts policijas pavēle Nr.2569 10B amata kategorija) Ls 600.00 / 166,25 vidējais darba stundu skaits mēnesī= Ls 3.61 x 2 st. (kvalifikācijas eksāmenu komisijas darbs) x 3 cilv. = Ls 21.66. Kopā: Ls 21.04 + 13.28 + 21.66 = Ls 55.98 | D16: =ROUNDUP((1130/168*4),2) -> 26.91 | E16: =ROUNDUP((1191/168*4),2) -> 28.36
A17: 1119 | B17: Pārējo darbinieku mēnešalga (darba alga)
A18: 1140 | B18: Piemaksas, prēmijas un naudas balvas | D18: =SUM(D19:D26) -> 8.26 | E18: =SUM(E19:E26) -> 8.54
A19: 1141 | B19: Piemaksa par nakts darbu
A20: 1142 | B20: Samaksa par virsstundu darbu un darbu svētku dienās
A21: 1143 | B21: Piemaksa par speciālo dienesta pakāpi un diplomātisko rangu | C21: Piemaksas apmērs vienai iesaistītai amatpersonai mēnesī (pulkvežleitnants) - EUR 120; Vidējais darba stundu skaits mēnesī: 168 st. Izmaksas maksas pakalpojuma nodrošināšanai: EUR 120 : 168 st. x 4 st. = EUR 2,86 | D21: =ROUNDUP((120/168*4),2) -> 2.86 | E21: =ROUNDUP((120/168*4),2) -> 2.86
A22: 1145 | B22: Piemaksa par darbu īpašos apstākļos, speciālās piemaksas
A23: 1146 | B23: Piemaksa par personisko darba ieguldījumu un darba kvalitāti | C23: Piemaksa par personisko darba ieguldījumu un darba kvalitāti 5% no mēnešalgas: EUR 1 130 x 5% : 168 st. x 4 st. = EUR 1,35 | D23: =ROUNDUP(1130*5%/168*4,2) -> 1.35 | E23: =ROUNDUP(1191*5%/168*4,2) -> 1.42
A24: 1147 | B24: Piemaksa par papildu darbu | C24: Piemaksa par papildu darbu 5% no mēnešalgas EUR 1 130 x 5% : 168 st. x 4 st. = EUR 1,35 | D24: =ROUNDUP(1130*5%/168*4,2) -> 1.35 | E24: =ROUNDUP(1191*5%/168*4,2) -> 1.42
A25: 1148 | B25: Prēmijas un naudas balvas | C25: Prēmijas un naudas balvas 10% no mēnešalgas EUR 1 130 x 10% : 168 st. x 4 st. = EUR 2,70 | D25: =ROUNDUP(1130*10%/168*4,2) -> 2.7 | E25: =ROUNDUP(1191*10%/168*4,2) -> 2.84
A26: 1149 | B26: Citas normatīvajos aktos noteiktās piemaksas, kas nav iepriekš klasificētas
A27: 1150 | B27: Atalgojums fiziskajām personām uz tiesiskās attiecības regulējošu dokumentu pamata
A28: 1170 | B28: Darba devēja piešķirtie labumi un maksājumi
A29: 1200 | B29: Darba devēja valsts sociālās apdrošināšanas obligātās iemaksas, pabalsti un kompensācijas | D29: =D30+D31 -> 9.91 | E29: =E30+E31 -> 10.41
A30: 1210 | B30: Darba devēja valsts sociālās apdrošināšanas obligātās iemaksas | C30: 23,59 % no 1100. un 1221.IEKK | D30: =ROUNDUP((D13+D32)*0.2359,2) -> 8.56 | E30: =ROUNDUP((E13+E32)*0.2359,2) -> 8.98
A31: 1220 | B31: Darba devēja pabalsti, kompensācijas un citi maksājumi | D31: =SUM(D32:D38) -> 1.35 | E31: =SUM(E32:E38) -> 1.43
A32: 1221 | B32: Darba devēja pabalsti un kompensācijas, no kuriem aprēķina iedzīvotāju ienākuma nodokli un valsts sociālās apdrošināšanas obligātās iemaksas | C32: Pabalsti un kompensācijas, no kuriem aprēķina iedzīvotāju ienākuma nodokli un valsts sociālās apdrošināšanas obligātās iemaksas EUR 1 130 x 4% : 168 st. x 4 st. = EUR 1,08 | D32: =ROUNDUP(1130*4%/168*4,2) -> 1.08 | E32: =ROUNDUP(1191*4%/168*4,2) -> 1.14
A33: 1223 | B33: Mācību maksas kompensācija
A34: 1224 | B34: Ārvalstīs nodarbināto amatpersonu (darbinieku) pabalsti un kompensācijas
A35: 1225 | B35: Uzturdevas kompensācija
A36: 1226 | B36: Dienesta pienākumu izpildei nepieciešamā apģērba iegādes kompensācija
A37: 1227 | B37: Darba devēja izdevumi veselības, dzīvības un nelaimes gadījumu apdrošināšanai
A38: 1228 | B38: Darba devēja pabalsti un kompensācijas, no kā neaprēķina iedzīvotāju ienākuma nodokli un valsts sociālās apdrošināšanas obligātās iemaksas | C38: Pabalsti un kompensācijas, no kā neaprēķina iedzīvotāju ienākuma nodokli un valsts sociālās apdrošināšanas obligātās iemaksas EUR 1 130 x 1% : 168 st. x 4 st. = EUR 0,27 | D38: =ROUNDUP(1130*1%/168*4,2) -> 0.27 | E38: =ROUNDUP(1191*1%/168*4,2) -> 0.29
A39: 2000 | B39: Preces un pakalpojumi | D39: =D40+D45 -> 0
A40: 2200 | B40: Pakalpojumi | D40: =D41+D43 -> 0
A41: 2220 | B41: Izdevumi par komunālajiem pakalpojumiem | D41: =D42 -> 0
A42: 2223 | B42: Izdevumi par elektroenerģiju
A43: 2240 | B43: Remontdarbi un iestāžu uzturēšanas pakalpojumi (izņemot kapitālo remontu) | D43: =D44 -> 0
A44: 2242 | B44: Transportlīdzekļu uzturēšana un remonts
A45: 2300 | B45: Krājumi, materiāli, energoresursi, prece, biroja preces un inventārs, kurus neuzskaita kodā 5000 | D45: =D46+D48+D51+D52+D54 -> 0
A46: 2310 | B46: Izdevumi par precēm iestādes darbības nodrošināšanai | D46: =D47 -> 0
A47: 2311 | B47: Biroja preces
A48: 2320 | B48: Kurināmais un enerģētiskie materiāli | D48: =D49+D50 -> 0
A49: 2322 | B49: Degviela
A50: 2329 | B50: Pārējie enerģētiskie materiāli
A51: 2350 | B51: Kārtējā remonta un iestāžu uzturēšanas materiāli
A52: 2360 | B52: Valsts un pašvaldību aprūpē un apgādē esošo personu uzturēšana | D52: =D53 -> 0
A53: 2364 | B53: Formas tērpi un speciālais apģērbs
A54: 2380 | B54: Specifiskie materiāli un inventārs | D54: =D55 -> 0
A55: 2389 | B55: Pārējie specifiskas lietošanas materiāli un inventārs
A56: 5000 | B56: Pamatkapitāla veidošana | D56: =D57 -> 0
A57: 5200 | B57: Pamatlīdzekļi | D57: =D58+D59 -> 0
A58: 5220 | B58: Tehnoloģiskās iekārtas un mašīnas
A59: 5230 | B59: Pārējie pamatlīdzekļi | D59: =D60+D61+D62 -> 0
A60: 5231 | B60: Transportlīdzekļi
A61: 5238 | B61: Datortehnika, sakaru un cita biroja tehnika
A62: 5239 | B62: Pārējie iepriekš neklasificētie pamatlīdzekļi
A63: Tiešās izmaksas kopā: | D63: =D12+D39+D56 -> 45.08 | E63: =E12+E39+E56 -> 47.31
A65: Netiešās izmaksas
A66: 1000 | B66: Atlīdzība | D66: =D67+D83 -> 1.14 | E66: =E67+E83 -> 1.14
A67: 1100 | B67: Atalgojums | D67: =D68+D72+D81+D82 -> 0.87 | E67: =E68+E72+E81+E82 -> 0.87
A68: 1110 | B68: Mēnešalga | D68: =SUM(D69:D71) -> 0.79 | E68: =SUM(E69:E71) -> 0.79
A69: 1114 | B69: Valsts civildienesta ierēdņu mēnešalga
A70: 1116 | B70: Mēnešalga amatpersonām ar speciālajām dienesta pakāpēm
A71: 1119 | B71: Pārējo darbinieku mēnešalga (darba alga) | C71: Izglītības koordinācijas nodaļas vecākā speciālista mēnešalga (10 mēnešalgu grupa) EUR 830 Individuālā pārbaudījuma veidlapas noformēšana, izsniegšana (5 min): EUR 830 : 168 st. x 0,08 st. = EUR 0,40 Grāmatvedības darbinieka mēnešalga (9 mēnešalgu grupa) EUR 820 Ienākošo maksājumu uzdevumu ievadīšana, grāmatošana un printēšana (5 min.): EUR 820 : 168 st. x 0,08 st. = EUR 0,39 Kopā: EUR 0,40 + EUR 0,39 = EUR 0,79 | D71: =ROUNDUP((830/168)*0.08,2)+ROUND((820/168)*0.08,2) -> 0.79 | E71: =ROUNDUP((844/168)*0.08,2)+ROUND((790/168)*0.08,2) -> 0.79
A72: 1140 | B72: Piemaksas, prēmijas un naudas balvas | D72: =SUM(D73:D80) -> 0.08 | E72: =SUM(E73:E80) -> 0.08
A73: 1141 | B73: Piemaksa par nakts darbu
A74: 1142 | B74: Samaksa par virsstundu darbu un darbu svētku dienās
A75: 1143 | B75: Piemaksa par speciālo dienesta pakāpi un diplomātisko rangu
A76: 1145 | B76: Piemaksa par darbu īpašos apstākļos, speciālās piemaksas
A77: 1146 | B77: Piemaksa par personisko darba ieguldījumu un darba kvalitāti | C77: Piemaksa par personisko darba ieguldījumu un darba kvalitāti 5% no mēnešalgas: EUR (830 + 820) x 5% : 168 st. x 0,08 st. = EUR 0,04 | D77: =ROUNDUP((830+820)*5%/168*0.08,2) -> 0.04 | E77: =ROUNDUP((844+790)*5%/168*0.08,2) -> 0.04
A78: 1147 | B78: Piemaksa par papildu darbu | C78: Piemaksa par papildu darbu 5% no mēnešalgas EUR (830 + 820) x 5% : 168 st. x 0,08 st. = EUR 0,04 | D78: =ROUNDUP((830+820)*5%/168*0.08,2) -> 0.04 | E78: =ROUNDUP((844+790)*5%/168*0.08,2) -> 0.04
A79: 1148 | B79: Prēmijas un naudas balvas
A80: 1149 | B80: Citas normatīvajos aktos noteiktās piemaksas, kas nav iepriekš klasificētas
A81: 1150 | B81: Atalgojums fiziskajām personām uz tiesiskās attiecības regulējošu dokumentu pamata
A82: 1170 | B82: Darba devēja piešķirtie labumi un maksājumi
A83: 1200 | B83: Darba devēja valsts sociālās apdrošināšanas obligātās iemaksas, pabalsti un kompensācijas | D83: =D84+D85 -> 0.27 | E83: =E84+E85 -> 0.27
A84: 1210 | B84: Darba devēja valsts sociālās apdrošināšanas obligātās iemaksas | C84: 23,59 % no 1100. un 1221.IEKK | D84: =ROUNDUP((D67+D86)*0.2359,2) -> 0.22 | E84: =ROUNDUP((E67+E86)*0.2359,2) -> 0.22
A85: 1220 | B85: Darba devēja pabalsti, kompensācijas un citi maksājumi | D85: =SUM(D86:D92) -> 0.05 | E85: =SUM(E86:E92) -> 0.05
A86: 1221 | B86: Darba devēja pabalsti un kompensācijas, no kuriem aprēķina iedzīvotāju ienākuma nodokli un valsts sociālās apdrošināšanas obligātās iemaksas | C86: Pabalsti un kompensācijas, no kuriem aprēķina iedzīvotāju ienākuma nodokli un valsts sociālās apdrošināšanas obligātās iemaksas EUR (830 + 820) x 4% : 168 st. x 0,08 = EUR 0,03 | D86: =ROUNDUP((830+820)*4%/168*0.08,2) -> 0.04 | E86: =ROUNDUP((844+790)*4%/168*0.08,2) -> 0.04
A87: 1223 | B87: Mācību maksas kompensācija
A88: 1224 | B88: Ārvalstīs nodarbināto amatpersonu (darbinieku) pabalsti un kompensācijas
A89: 1225 | B89: Uzturdevas kompensācija
A90: 1226 | B90: Dienesta pienākumu izpildei nepieciešamā apģērba iegādes kompensācija
A91: 1227 | B91: Darba devēja izdevumi veselības, dzīvības un nelaimes gadījumu apdrošināšanai
A92: 1228 | B92: Darba devēja pabalsti un kompensācijas, no kā neaprēķina iedzīvotāju ienākuma nodokli un valsts sociālās apdrošināšanas obligātās iemaksas | C92: Pabalsti un kompensācijas, no kā neaprēķina iedzīvotāju ienākuma nodokli un valsts sociālās apdrošināšanas obligātās iemaksas EUR (830 + 820) x 1% : 168 st.x 0,08 = EUR 0,01 | D92: =ROUNDUP((830+820)*1%/168*0.08,2) -> 0.01 | E92: =ROUNDUP((830+820)*1%/168*0.08,2) -> 0.01
A93: 2000 | B93: Preces un pakalpojumi | D93: =D94+D99 -> 0.4 | E93: =E94+E99 -> 0.4
A94: 2200 | B94: Pakalpojumi | D94: =D95+D97 -> 0 | E94: =E95+E97 -> 0
A95: 2220 | B95: Izdevumi par komunālajiem pakalpojumiem | D95: =D96 -> 0 | E95: =E96 -> 0
A96: 2223 | B96: Izdevumi par elektroenerģiju
A97: 2240 | B97: Remontdarbi un iestāžu uzturēšanas pakalpojumi (izņemot kapitālo remontu) | D97: =D98 -> 0 | E97: =E98 -> 0
A98: 2242 | B98: Transportlīdzekļu uzturēšana un remonts
A99: 2300 | B99: Krājumi, materiāli, energoresursi, prece, biroja preces un inventārs, kurus neuzskaita kodā 5000 | D99: =D100+D102+D105+D106+D108 -> 0.4 | E99: =E100+E102+E105+E106+E108 -> 0.4
A100: 2310 | B100: Izdevumi par precēm iestādes darbības nodrošināšanai | D100: =D101 -> 0.4 | E100: =E101 -> 0.4
A101: 2311 | B101: Biroja preces | C101: Papīrs rēķina sagatavošanai EUR 0,01, tonera izmaksas EUR 0,04. Izmaksas rēķina sagatavošanai: (0,01+0,04) × 2 loksnes = EUR 0,10 Papīrs līgums sagatavošanai EUR 0,01, tonera izmaksas EUR 0,04. Izmaksas līguma sagatavošanai: (0,01+0,04) × 6 loksnes = EUR 0,30 Izmaksas maksas pakalpojuma nodrošināšanai: EUR 0,10 + EUR 0,30 = EUR 0,40 | D101: =ROUND((0.01+0.04)*2,2)+ROUND((0.01+0.04)*6,2) -> 0.4 | E101: =ROUND((0.01+0.04)*2,2)+ROUND((0.01+0.04)*6,2) -> 0.4
A102: 2320 | B102: Kurināmais un enerģētiskie materiāli | D102: =D103+D104 -> 0 | E102: =E103+E104 -> 0
A103: 2322 | B103: Degviela
A104: 2329 | B104: Pārējie enerģētiskie materiāli
A105: 2350 | B105: Kārtējā remonta un iestāžu uzturēšanas materiāli
...

Sheet 1.3
A1: Maksas pakalpojumu izcenojuma aprēķins
A3: 1. Atkārtota pārbaudījuma kārtošana:
A4: 1.3. kvalifikācijas darba aizstāvēšana
A5: Maksas pakalpojuma mērvienība – viena aizstāvēšana
A9: EKK kods | B9: Rādītājs (materiāla/izejvielas nosaukums, atlīdzība un citi izmaksu veidi) | C9: Izmaksu apjoms gadā viena makasa pakalpojuma veida nodrošināšanai | I9: Piezīmes, komentāri
A10: 1 | B10: 2 | C10: 3
A11: Tiešās izmaksas
A12: 1000 | B12: Atlīdzība | H12: =SUM(H13,H110) -> 112.29
A13: 1100 | B13: Atalgojums | H13: =SUM(H14,H25,H36,H47,H68,H89) -> 87.49
A14: 1116 | B14: Mēnešalga amatpersonām ar speciālajām dienesta pakāpēm | C14: Ieņemamais amats | E14: M.a. grupa | F14: Mēnešalga | G14: Patērētais laiks (h) | H14: =SUM(H15:H24) -> 75.56
C15: VP priekšnieka vietnieks | E15: 16 | F15: 3125 | G15: 1 | H15: =ROUNDUP((F15/168*G15),2) -> 18.61
C16: VP koledžas direktora vietnieks | E16: 14 | F16: 2253 | G16: 1 | H16: =ROUNDUP((F16/168*G16),2) -> 13.42
C17: VP Galvenās kriminālpolicijas pārvaldes priekšnieka vietnieks | E17: 15 | F17: 2651 | G17: 1 | H17: =ROUNDUP((F17/168*G17),2) -> 15.78
C18: VP Galvenās kārtības policijas pārvaldes priekšnieka vietnieks | E18: 15 | F18: 2651 | G18: 1 | H18: =ROUNDUP((F18/168*G18),2) -> 15.78
C19: VP koledžas katedras vadītājs | E19: 11 | F19: 2010 | G19: 1 | H19: =ROUNDUP((F19/168*G19),2) -> 11.97
H20: =ROUNDUP((F20/168*G20),2) -> 0
H21: =ROUNDUP((F21/168*G21),2) -> 0
H22: =ROUNDUP((F22/168*G22),2) -> 0
H23: =ROUNDUP((F23/168*G23),2) -> 0
H24: =ROUNDUP((F24/168*G24),2) -> 0
A25: 1119 | B25: Pārējo darbinieku mēnešalga (darba alga) | C25: Ieņemamais amats | E25: M.a. grupa | F25: Mēnešalga | G25: Patērētais laiks (h) | H25: =SUM(H26:H35) -> 7.67
C26: Vecākais speciālists Izglītības koordinācijas nodaļā | E26: 10 | F26: 1287 | G26: 1 | H26: =ROUNDUP((F26/168*G26),2) -> 7.67
H27: =ROUNDUP((F27/168*G27),2) -> 0
H28: =ROUNDUP((F28/168*G28),2) -> 0
H29: =ROUNDUP((F29/168*G29),2) -> 0
H30: =ROUNDUP((F30/168*G30),2) -> 0
H31: =ROUNDUP((F31/168*G31),2) -> 0
H32: =ROUNDUP((F32/168*G32),2) -> 0
H33: =ROUNDUP((F33/168*G33),2) -> 0
H34: =ROUNDUP((F34/168*G34),2) -> 0
H35: =ROUNDUP((F35/168*G35),2) -> 0
A36: 1143 | B36: Piemaksa par speciālo dienesta pakāpi un diplomātisko rangu | C36: Speciālā dienesta pakāpe | F36: Piemaksa mēnesī | G36: Patērētais laiks (h) | H36: =SUM(H37:H46) -> 4.26
C37: Ģenerālis | F37: 170 | G37: =G15 -> 1 | H37: =ROUNDUP((F37/168*G37),2) -> 1.02
C38: Pulkvedis | F38: 135 | G38: =G16 -> 1 | H38: =ROUNDUP((F38/168*G38),2) -> 0.81
C39: Pulkvedis | F39: 135 | G39: =G17 -> 1 | H39: =ROUNDUP((F39/168*G39),2) -> 0.81
C40: Pulkvedis | F40: 135 | G40: =G18 -> 1 | H40: =ROUNDUP((F40/168*G40),2) -> 0.81
C41: Pulkvedis | F41: 135 | G41: =G19 -> 1 | H41: =ROUNDUP((F41/168*G41),2) -> 0.81
G42: =G20 -> 0 | H42: =ROUNDUP((F42/168*G42),2) -> 0
G43: =G21 -> 0 | H43: =ROUNDUP((F43/168*G43),2) -> 0
G44: =G22 -> 0 | H44: =ROUNDUP((F44/168*G44),2) -> 0
G45: =G23 -> 0 | H45: =ROUNDUP((F45/168*G45),2) -> 0
G46: =G24 -> 0 | H46: =ROUNDUP((F46/168*G46),2) -> 0
A47: 1146 | B47: Piemaksa par personisko darba ieguldījumu un darba kvalitāti | C47: Ieņemamais amats | E47: Piemaksa % | F47: Mēnešalga | G47: Patērētais laiks (h) | H47: =SUM(H48:H67) -> 0
C48: =C15 -> VP priekšnieka vietnieks | E48: 5 | F48: =F15 -> 3125 | H48: =ROUNDUP((F48*$E$48%)/168*G48,2) -> 0
C49: =C16 -> VP koledžas direktora vietnieks | F49: =F16 -> 2253 | H49: =ROUNDUP((F49*$E$48%)/168*G49,2) -> 0
C50: =C17 -> VP Galvenās kriminālpolicijas pārvaldes priekšnieka vietnieks | F50: =F17 -> 2651 | H50: =ROUNDUP((F50*$E$48%)/168*G50,2) -> 0
C51: =C18 -> VP Galvenās kārtības policijas pārvaldes priekšnieka vietnieks | F51: =F18 -> 2651 | H51: =ROUNDUP((F51*$E$48%)/168*G51,2) -> 0
C52: =C19 -> VP koledžas katedras vadītājs | F52: =F19 -> 2010 | H52: =ROUNDUP((F52*$E$48%)/168*G52,2) -> 0
F53: =F20 -> 0 | H53: =ROUNDUP((F53*$E$48%)/168*G53,2) -> 0
C54: =C21 -> 0 | F54: =F21 -> 0 | H54: =ROUNDUP((F54*$E$48%)/168*G54,2) -> 0
C55: =C22 -> 0 | F55: =F22 -> 0 | H55: =ROUNDUP((F55*$E$48%)/168*G55,2) -> 0
C56: =C23 -> 0 | F56: =F23 -> 0 | H56: =ROUNDUP((F56*$E$48%)/168*G56,2) -> 0
C57: =C24 -> 0 | F57: =F24 -> 0 | H57: =ROUNDUP((F57*$E$48%)/168*G57,2) -> 0
C58: =C26 -> Vecākais speciālists Izglītības koordinācijas nodaļā | F58: =F26 -> 1287 | H58: =ROUNDUP((F58*$E$48%)/168*G58,2) -> 0
C59: =C27 -> 0 | F59: =F27 -> 0 | G59: =G27 -> 0 | H59: =ROUNDUP((F59*$E$48%)/168*G59,2) -> 0
C60: =C28 -> 0 | F60: =F28 -> 0 | G60: =G28 -> 0 | H60: =ROUNDUP((F60*$E$48%)/168*G60,2) -> 0
C61: =C29 -> 0 | F61: =F29 -> 0 | G61: =G29 -> 0 | H61: =ROUNDUP((F61*$E$48%)/168*G61,2) -> 0
C62: =C30 -> 0 | F62: =F30 -> 0 | G62: =G30 -> 0 | H62: =ROUNDUP((F62*$E$48%)/168*G62,2) -> 0
C63: =C31 -> 0 | F63: =F31 -> 0 | G63: =G31 -> 0 | H63: =ROUNDUP((F63*$E$48%)/168*G63,2) -> 0
C64: =C32 -> 0 | F64: =F32 -> 0 | G64: =G32 -> 0 | H64: =ROUNDUP((F64*$E$48%)/168*G64,2) -> 0
C65: =C33 -> 0 | F65: =F33 -> 0 | G65: =G33 -> 0 | H65: =ROUNDUP((F65*$E$48%)/168*G65,2) -> 0
C66: =C34 -> 0 | F66: =F34 -> 0 | G66: =G34 -> 0 | H66: =ROUNDUP((F66*$E$48%)/168*G66,2) -> 0
C67: =C35 -> 0 | F67: =F35 -> 0 | G67: =G35 -> 0 | H67: =ROUNDUP((F67*$E$48%)/168*G67,2) -> 0
A68: 1147 | B68: Piemaksa par papildu darbu | C68: Ieņemamais amats | E68: Piemaksa % | F68: Mēnešalga | G68: Patērētais laiks (h) | H68: =SUM(H69:H88) -> 0
C69: =C15 -> VP priekšnieka vietnieks | E69: 5 | F69: =F15 -> 3125 | H69: =ROUNDUP((F69*$E$69%)/168*G69,2) -> 0
C70: =C16 -> VP koledžas direktora vietnieks | F70: =F16 -> 2253 | H70: =ROUNDUP((F70*$E$69%)/168*G70,2) -> 0
C71: =C17 -> VP Galvenās kriminālpolicijas pārvaldes priekšnieka vietnieks | F71: =F17 -> 2651 | H71: =ROUNDUP((F71*$E$69%)/168*G71,2) -> 0
C72: =C18 -> VP Galvenās kārtības policijas pārvaldes priekšnieka vietnieks | F72: =F18 -> 2651 | H72: =ROUNDUP((F72*$E$69%)/168*G72,2) -> 0
C73: =C19 -> VP koledžas katedras vadītājs | F73: =F19 -> 2010 | H73: =ROUNDUP((F73*$E$69%)/168*G73,2) -> 0
F74: =F20 -> 0 | H74: =ROUNDUP((F74*$E$69%)/168*G74,2) -> 0
C75: =C21 -> 0 | F75: =F21 -> 0 | H75: =ROUNDUP((F75*$E$69%)/168*G75,2) -> 0
C76: =C22 -> 0 | F76: =F22 -> 0 | H76: =ROUNDUP((F76*$E$69%)/168*G76,2) -> 0
C77: =C23 -> 0 | F77: =F23 -> 0 | H77: =ROUNDUP((F77*$E$69%)/168*G77,2) -> 0
C78: =C24 -> 0 | F78: =F24 -> 0 | H78: =ROUNDUP((F78*$E$69%)/168*G78,2) -> 0
C79: =C26 -> Vecākais speciālists Izglītības koordinācijas nodaļā | F79: =F26 -> 1287 | H79: =ROUNDUP((F79*$E$69%)/168*G79,2) -> 0
C80: =C27 -> 0 | F80: =F27 -> 0 | G80: =G27 -> 0 | H80: =ROUNDUP((F80*$E$69%)/168*G80,2) -> 0
C81: =C30 -> 0 | F81: =F28 -> 0 | G81: =G28 -> 0 | H81: =ROUNDUP((F81*$E$69%)/168*G81,2) -> 0
C82: =C31 -> 0 | F82: =F29 -> 0 | G82: =G29 -> 0 | H82: =ROUNDUP((F82*$E$69%)/168*G82,2) -> 0
C83: =C32 -> 0 | F83: =F30 -> 0 | G83: =G30 -> 0 | H83: =ROUNDUP((F83*$E$69%)/168*G83,2) -> 0
C84: =C33 -> 0 | F84: =F31 -> 0 | G84: =G31 -> 0 | H84: =ROUNDUP((F84*$E$69%)/168*G84,2) -> 0
F85: =F32 -> 0 | G85: =G32 -> 0 | H85: =ROUNDUP((F85*$E$69%)/168*G85,2) -> 0
C86: =C34 -> 0 | F86: =F33 -> 0 | G86: =G33 -> 0 | H86: =ROUNDUP((F86*$E$69%)/168*G86,2) -> 0
F87: =F34 -> 0 | G87: =G34 -> 0 | H87: =ROUNDUP((F87*$E$69%)/168*G87,2) -> 0
C88: =C35 -> 0 | F88: =F35 -> 0 | G88: =G35 -> 0 | H88: =ROUNDUP((F88*$E$69%)/168*G88,2) -> 0
A89: 1148 | B89: Prēmijas un naudas balvas | C89: Ieņemamais amats | E89: Piemaksa % | F89: Mēnešalga | G89: Patērētais laiks (h) | H89: =SUM(H90:H109) -> 0
C90: =C15 -> VP priekšnieka vietnieks | E90: 10 | F90: =F15 -> 3125 | H90: =ROUNDUP((F90*$E$90%)/168*$G$90,2) -> 0
C91: =C16 -> VP koledžas direktora vietnieks | F91: =F16 -> 2253 | H91: =ROUNDUP((F91*$E$90%)/168*$G$90,2) -> 0
C92: =C17 -> VP Galvenās kriminālpolicijas pārvaldes priekšnieka vietnieks | F92: =F17 -> 2651 | H92: =ROUNDUP((F92*$E$90%)/168*$G$90,2) -> 0
C93: =C18 -> VP Galvenās kārtības policijas pārvaldes priekšnieka vietnieks | F93: =F18 -> 2651 | H93: =ROUNDUP((F93*$E$90%)/168*$G$90,2) -> 0
C94: =C19 -> VP koledžas katedras vadītājs | F94: =F19 -> 2010 | H94: =ROUNDUP((F94*$E$90%)/168*$G$90,2) -> 0
F95: =F20 -> 0 | H95: =ROUNDUP((F95*$E$90%)/168*$G$90,2) -> 0
C96: =C21 -> 0 | F96: =F21 -> 0 | H96: =ROUNDUP((F96*$E$90%)/168*$G$90,2) -> 0
C97: =C22 -> 0 | F97: =F22 -> 0 | H97: =ROUNDUP((F97*$E$90%)/168*$G$90,2) -> 0
C98: =C23 -> 0 | F98: =F23 -> 0 | H98: =ROUNDUP((F98*$E$90%)/168*$G$90,2) -> 0
C99: =C24 -> 0 | F99: =F24 -> 0 | H99: =ROUNDUP((F99*$E$90%)/168*$G$90,2) -> 0
C100: =C26 -> Vecākais speciālists Izglītības koordinācijas nodaļā | F100: =F26 -> 1287 | H100: =ROUNDUP((F100*$E$90%)/168*$G$90,2) -> 0
C101: =C27 -> 0 | F101: =F27 -> 0 | G101: =G27 -> 0 | H101: =ROUNDUP((F101*$E$90%)/168*$G$90,2) -> 0
C102: =C28 -> 0 | F102: =F28 -> 0 | G102: =G28 -> 0 | H102: =ROUNDUP((F102*$E$90%)/168*$G$90,2) -> 0
C103: =C29 -> 0 | F103: =F29 -> 0 | G103: =G29 -> 0 | H103: =ROUNDUP((F103*$E$90%)/168*$G$90,2) -> 0
C104: =C30 -> 0 | F104: =F30 -> 0 | G104: =G30 -> 0 | H104: =ROUNDUP((F104*$E$90%)/168*$G$90,2) -> 0
...

Sheet 1.4.1
A1: Maksas pakalpojumu izcenojuma aprēķins
A3: 1. Atkārtota pārbaudījuma kārtošana
A4: 1.4. Kvalifikācijas eksāmens
A5: 1.4.1. Kvalifikācijas eksāmens 1.līmeņa profesionālās izglītības studiju programmā "Policijas darbs"
A6: Maksas pakalpojuma mērvienība – viens eksāmens
A10: EKK kods | B10: Rādītājs (materiāla/izejvielas nosaukums, atlīdzība un citi izmaksu veidi) | C10: Izmaksu apjoms gadā viena makasa pakalpojuma veida nodrošināšanai | I10: Piezīmes, komentāri
A11: 1 | B11: 2 | C11: 3
A12: Tiešās izmaksas
A13: 1000 | B13: Atlīdzība | H13: =SUM(H14,H111) -> 224.42
A14: 1100 | B14: Atalgojums | H14: =SUM(H15,H26,H37,H48,H69,H90) -> 174.89
A15: 1116 | B15: Mēnešalga amatpersonām ar speciālajām dienesta pakāpēm | C15: Ieņemamais amats | E15: M.a. grupa | F15: Mēnešalga | G15: Patērētais laiks (h) | H15: =SUM(H16:H25) -> 151.09
C16: VP priekšnieka vietnieks | E16: 16 | F16: 3125 | G16: 2 | H16: =ROUNDUP((F16/168*G16),2) -> 37.21
C17: VP koledžas direktora vietnieks | E17: 14 | F17: 2253 | G17: 2 | H17: =ROUNDUP((F17/168*G17),2) -> 26.83
C18: VP Galvenās kriminālpolicijas pārvaldes priekšnieka vietnieks | E18: 15 | F18: 2651 | G18: 2 | H18: =ROUNDUP((F18/168*G18),2) -> 31.56
C19: VP Galvenās kārtības policijas pārvaldes priekšnieka vietnieks | E19: 15 | F19: 2651 | G19: 2 | H19: =ROUNDUP((F19/168*G19),2) -> 31.56
C20: VP koledžas katedras vadītājs | E20: 11 | F20: 2010 | G20: 2 | H20: =ROUNDUP((F20/168*G20),2) -> 23.93
H21: =ROUNDUP((F21/168*G21),2) -> 0
H22: =ROUNDUP((F22/168*G22),2) -> 0
H23: =ROUNDUP((F23/168*G23),2) -> 0
H24: =ROUNDUP((F24/168*G24),2) -> 0
H25: =ROUNDUP((F25/168*G25),2) -> 0
A26: 1119 | B26: Pārējo darbinieku mēnešalga (darba alga) | C26: Ieņemamais amats | E26: M.a. grupa | F26: Mēnešalga | G26: Patērētais laiks (h) | H26: =SUM(H27:H36) -> 15.33
C27: Vecākais speciālists Izglītības koordinācijas nodaļā | E27: 10 | F27: 1287 | G27: 2 | H27: =ROUNDUP((F27/168*G27),2) -> 15.33
H28: =ROUNDUP((F28/168*G28),2) -> 0
H29: =ROUNDUP((F29/168*G29),2) -> 0
H30: =ROUNDUP((F30/168*G30),2) -> 0
H31: =ROUNDUP((F31/168*G31),2) -> 0
H32: =ROUNDUP((F32/168*G32),2) -> 0
H33: =ROUNDUP((F33/168*G33),2) -> 0
H34: =ROUNDUP((F34/168*G34),2) -> 0
H35: =ROUNDUP((F35/168*G35),2) -> 0
H36: =ROUNDUP((F36/168*G36),2) -> 0
A37: 1143 | B37: Piemaksa par speciālo dienesta pakāpi un diplomātisko rangu | C37: Speciālā dienesta pakāpe | F37: Piemaksa mēnesī | G37: Patērētais laiks (h) | H37: =SUM(H38:H47) -> 8.47
C38: Ģenerālis | F38: 170 | G38: =G16 -> 2 | H38: =ROUNDUP((F38/168*G38),2) -> 2.03
C39: Pulkvedis | F39: 135 | G39: =G17 -> 2 | H39: =ROUNDUP((F39/168*G39),2) -> 1.61
C40: Pulkvedis | F40: 135 | G40: =G18 -> 2 | H40: =ROUNDUP((F40/168*G40),2) -> 1.61
C41: Pulkvedis | F41: 135 | G41: =G19 -> 2 | H41: =ROUNDUP((F41/168*G41),2) -> 1.61
C42: Pulkvedis | F42: 135 | G42: =G20 -> 2 | H42: =ROUNDUP((F42/168*G42),2) -> 1.61
G43: =G21 -> 0 | H43: =ROUNDUP((F43/168*G43),2) -> 0
G44: =G22 -> 0 | H44: =ROUNDUP((F44/168*G44),2) -> 0
G45: =G23 -> 0 | H45: =ROUNDUP((F45/168*G45),2) -> 0
G46: =G24 -> 0 | H46: =ROUNDUP((F46/168*G46),2) -> 0
G47: =G25 -> 0 | H47: =ROUNDUP((F47/168*G47),2) -> 0
A48: 1146 | B48: Piemaksa par personisko darba ieguldījumu un darba kvalitāti | C48: Ieņemamais amats | E48: Piemaksa % | F48: Mēnešalga | G48: Patērētais laiks (h) | H48: =SUM(H49:H68) -> 0
C49: =C16 -> VP priekšnieka vietnieks | E49: 5 | F49: =F16 -> 3125 | H49: =ROUNDUP((F49*$E$49%)/168*G49,2) -> 0
C50: =C17 -> VP koledžas direktora vietnieks | F50: =F17 -> 2253 | H50: =ROUNDUP((F50*$E$49%)/168*G50,2) -> 0
C51: =C18 -> VP Galvenās kriminālpolicijas pārvaldes priekšnieka vietnieks | F51: =F18 -> 2651 | H51: =ROUNDUP((F51*$E$49%)/168*G51,2) -> 0
C52: =C19 -> VP Galvenās kārtības policijas pārvaldes priekšnieka vietnieks | F52: =F19 -> 2651 | H52: =ROUNDUP((F52*$E$49%)/168*G52,2) -> 0
C53: =C20 -> VP koledžas katedras vadītājs | F53: =F20 -> 2010 | H53: =ROUNDUP((F53*$E$49%)/168*G53,2) -> 0
C54: =C21 -> 0 | F54: =F21 -> 0 | H54: =ROUNDUP((F54*$E$49%)/168*G54,2) -> 0
C55: =C22 -> 0 | F55: =F22 -> 0 | H55: =ROUNDUP((F55*$E$49%)/168*G55,2) -> 0
C56: =C23 -> 0 | F56: =F23 -> 0 | H56: =ROUNDUP((F56*$E$49%)/168*G56,2) -> 0
C57: =C24 -> 0 | F57: =F24 -> 0 | H57: =ROUNDUP((F57*$E$49%)/168*G57,2) -> 0
C58: =C25 -> 0 | F58: =F25 -> 0 | H58: =ROUNDUP((F58*$E$49%)/168*G58,2) -> 0
C59: =C27 -> Vecākais speciālists Izglītības koordinācijas nodaļā | F59: =F27 -> 1287 | H59: =ROUNDUP((F59*$E$49%)/168*G59,2) -> 0
C60: =C28 -> 0 | F60: =F28 -> 0 | G60: =G28 -> 0 | H60: =ROUNDUP((F60*$E$49%)/168*G60,2) -> 0
C61: =C29 -> 0 | F61: =F29 -> 0 | G61: =G29 -> 0 | H61: =ROUNDUP((F61*$E$49%)/168*G61,2) -> 0
C62: =C30 -> 0 | F62: =F30 -> 0 | G62: =G30 -> 0 | H62: =ROUNDUP((F62*$E$49%)/168*G62,2) -> 0
C63: =C31 -> 0 | F63: =F31 -> 0 | G63: =G31 -> 0 | H63: =ROUNDUP((F63*$E$49%)/168*G63,2) -> 0
C64: =C32 -> 0 | F64: =F32 -> 0 | G64: =G32 -> 0 | H64: =ROUNDUP((F64*$E$49%)/168*G64,2) -> 0
C65: =C33 -> 0 | F65: =F33 -> 0 | G65: =G33 -> 0 | H65: =ROUNDUP((F65*$E$49%)/168*G65,2) -> 0
C66: =C34 -> 0 | F66: =F34 -> 0 | G66: =G34 -> 0 | H66: =ROUNDUP((F66*$E$49%)/168*G66,2) -> 0
C67: =C35 -> 0 | F67: =F35 -> 0 | G67: =G35 -> 0 | H67: =ROUNDUP((F67*$E$49%)/168*G67,2) -> 0
C68: =C36 -> 0 | F68: =F36 -> 0 | G68: =G36 -> 0 | H68: =ROUNDUP((F68*$E$49%)/168*G68,2) -> 0
A69: 1147 | B69: Piemaksa par papildu darbu | C69: Ieņemamais amats | E69: Piemaksa % | F69: Mēnešalga | G69: Patērētais laiks (h) | H69: =SUM(H70:H89) -> 0
C70: =C16 -> VP priekšnieka vietnieks | E70: 5 | F70: =F16 -> 3125 | H70: =ROUNDUP((F70*$E$70%)/168*G70,2) -> 0
C71: =C17 -> VP koledžas direktora vietnieks | F71: =F17 -> 2253 | H71: =ROUNDUP((F71*$E$70%)/168*G71,2) -> 0
C72: =C18 -> VP Galvenās kriminālpolicijas pārvaldes priekšnieka vietnieks | F72: =F18 -> 2651 | H72: =ROUNDUP((F72*$E$70%)/168*G72,2) -> 0
C73: =C19 -> VP Galvenās kārtības policijas pārvaldes priekšnieka vietnieks | F73: =F19 -> 2651 | H73: =ROUNDUP((F73*$E$70%)/168*G73,2) -> 0
C74: =C20 -> VP koledžas katedras vadītājs | F74: =F20 -> 2010 | H74: =ROUNDUP((F74*$E$70%)/168*G74,2) -> 0
C75: =C21 -> 0 | F75: =F21 -> 0 | H75: =ROUNDUP((F75*$E$70%)/168*G75,2) -> 0
C76: =C22 -> 0 | F76: =F22 -> 0 | H76: =ROUNDUP((F76*$E$70%)/168*G76,2) -> 0
C77: =C23 -> 0 | F77: =F23 -> 0 | H77: =ROUNDUP((F77*$E$70%)/168*G77,2) -> 0
C78: =C24 -> 0 | F78: =F24 -> 0 | H78: =ROUNDUP((F78*$E$70%)/168*G78,2) -> 0
C79: =C25 -> 0 | F79: =F25 -> 0 | H79: =ROUNDUP((F79*$E$70%)/168*G79,2) -> 0
C80: =C27 -> Vecākais speciālists Izglītības koordinācijas nodaļā | F80: =F27 -> 1287 | H80: =ROUNDUP((F80*$E$70%)/168*G80,2) -> 0
F81: =F28 -> 0 | G81: =G28 -> 0 | H81: =ROUNDUP((F81*$E$70%)/168*G81,2) -> 0
C82: =C30 -> 0 | F82: =F29 -> 0 | G82: =G29 -> 0 | H82: =ROUNDUP((F82*$E$70%)/168*G82,2) -> 0
C83: =C31 -> 0 | F83: =F30 -> 0 | G83: =G30 -> 0 | H83: =ROUNDUP((F83*$E$70%)/168*G83,2) -> 0
C84: =C32 -> 0 | F84: =F31 -> 0 | G84: =G31 -> 0 | H84: =ROUNDUP((F84*$E$70%)/168*G84,2) -> 0
C85: =C33 -> 0 | F85: =F32 -> 0 | G85: =G32 -> 0 | H85: =ROUNDUP((F85*$E$70%)/168*G85,2) -> 0
C86: =C34 -> 0 | F86: =F33 -> 0 | G86: =G33 -> 0 | H86: =ROUNDUP((F86*$E$70%)/168*G86,2) -> 0
F87: =F34 -> 0 | G87: =G34 -> 0 | H87: =ROUNDUP((F87*$E$70%)/168*G87,2) -> 0
C88: =C35 -> 0 | F88: =F35 -> 0 | G88: =G35 -> 0 | H88: =ROUNDUP((F88*$E$70%)/168*G88,2) -> 0
C89: =C36 -> 0 | F89: =F36 -> 0 | G89: =G36 -> 0 | H89: =ROUNDUP((F89*$E$70%)/168*G89,2) -> 0
A90: 1148 | B90: Prēmijas un naudas balvas | C90: Ieņemamais amats | E90: Piemaksa % | F90: Mēnešalga | G90: Patērētais laiks (h) | H90: =SUM(H91:H110) -> 0
C91: =C16 -> VP priekšnieka vietnieks | E91: 10 | F91: =F16 -> 3125 | H91: =ROUNDUP((F91*$E$91%)/168*$G$91,2) -> 0
C92: =C17 -> VP koledžas direktora vietnieks | F92: =F17 -> 2253 | H92: =ROUNDUP((F92*$E$91%)/168*$G$91,2) -> 0
C93: =C18 -> VP Galvenās kriminālpolicijas pārvaldes priekšnieka vietnieks | F93: =F18 -> 2651 | H93: =ROUNDUP((F93*$E$91%)/168*$G$91,2) -> 0
C94: =C19 -> VP Galvenās kārtības policijas pārvaldes priekšnieka vietnieks | F94: =F19 -> 2651 | H94: =ROUNDUP((F94*$E$91%)/168*$G$91,2) -> 0
C95: =C20 -> VP koledžas katedras vadītājs | F95: =F20 -> 2010 | H95: =ROUNDUP((F95*$E$91%)/168*$G$91,2) -> 0
C96: =C21 -> 0 | F96: =F21 -> 0 | H96: =ROUNDUP((F96*$E$91%)/168*$G$91,2) -> 0
C97: =C22 -> 0 | F97: =F22 -> 0 | H97: =ROUNDUP((F97*$E$91%)/168*$G$91,2) -> 0
C98: =C23 -> 0 | F98: =F23 -> 0 | H98: =ROUNDUP((F98*$E$91%)/168*$G$91,2) -> 0
C99: =C24 -> 0 | F99: =F24 -> 0 | H99: =ROUNDUP((F99*$E$91%)/168*$G$91,2) -> 0
C100: =C25 -> 0 | F100: =F25 -> 0 | H100: =ROUNDUP((F100*$E$91%)/168*$G$91,2) -> 0
C101: =C27 -> Vecākais speciālists Izglītības koordinācijas nodaļā | F101: =F27 -> 1287 | H101: =ROUNDUP((F101*$E$91%)/168*$G$91,2) -> 0
C102: =C28 -> 0 | F102: =F28 -> 0 | G102: =G28 -> 0 | H102: =ROUNDUP((F102*$E$91%)/168*$G$91,2) -> 0
C103: =C29 -> 0 | F103: =F29 -> 0 | G103: =G29 -> 0 | H103: =ROUNDUP((F103*$E$91%)/168*$G$91,2) -> 0
C104: =C30 -> 0 | F104: =F30 -> 0 | G104: =G30 -> 0 | H104: =ROUNDUP((F104*$E$91%)/168*$G$91,2) -> 0
...

Sheet 1.4.2
A1: Maksas pakalpojumu izcenojuma aprēķins
A3: 1. Atkārtota pārbaudījuma kārtošana
A4: 1.4. Kvalifikācijas eksāmens
A5: 1.4.2. Arodizglītības programmā "Policijas darbs"
A6: Maksas pakalpojuma mērvienība – viens eksāmens
A10: EKK kods | B10: Rādītājs (materiāla/izejvielas nosaukums, atlīdzība un citi izmaksu veidi) | C10: Izmaksu apjoms gadā viena makasa pakalpojuma veida nodrošināšanai | I10: Piezīmes, komentāri
A11: 1 | B11: 2 | C11: 3
A12: Tiešās izmaksas
A13: 1000 | B13: Atlīdzība | H13: =SUM(H14,H111) -> 237.74
A14: 1100 | B14: Atalgojums | H14: =SUM(H15,H26,H37,H48,H69,H90) -> 182.78
A15: 1116 | B15: Mēnešalga amatpersonām ar speciālajām dienesta pakāpēm | C15: Ieņemamais amats | E15: M.a. grupa | F15: Mēnešalga | G15: Patērētais laiks (h) | H15: =SUM(H16:H25) -> 94.68
G16: 2 | H16: =ROUNDUP((F16/168*G16),2) -> 0
H17: =ROUNDUP((F17/168*G17),2) -> 0
C18: VP Galvenās kriminālpolicijas pārvaldes priekšnieka vietnieks | E18: 15 | F18: 2651 | G18: 3 | H18: =ROUNDUP((F18/168*G18),2) -> 47.34
C19: VP Galvenās kārtības policijas pārvaldes priekšnieka vietnieks | E19: 15 | F19: 2651 | G19: 3 | H19: =ROUNDUP((F19/168*G19),2) -> 47.34
H20: =ROUNDUP((F20/168*G20),2) -> 0
H21: =ROUNDUP((F21/168*G21),2) -> 0
H22: =ROUNDUP((F22/168*G22),2) -> 0
H23: =ROUNDUP((F23/168*G23),2) -> 0
H24: =ROUNDUP((F24/168*G24),2) -> 0
H25: =ROUNDUP((F25/168*G25),2) -> 0
A26: 1119 | B26: Pārējo darbinieku mēnešalga (darba alga) | C26: Ieņemamais amats | E26: M.a. grupa | F26: Mēnešalga | G26: Patērētais laiks (h) | H26: =SUM(H27:H36) -> 83.26
C27: Vecākais speciālists Izglītības koordinācijas nodaļā | E27: 10 | F27: 1287 | G27: 3 | H27: =ROUNDUP((F27/168*G27),2) -> 22.99
C28: Lektors | E28: 9 | F28: =ROUND(865*1.3,0) -> 1125 | G28: 3 | H28: =ROUNDUP((F28/168*G28),2) -> 20.09
C29: Lektors | E29: 9 | F29: =ROUND(865*1.3,0) -> 1125 | G29: 3 | H29: =ROUNDUP((F29/168*G29),2) -> 20.09
C30: Lektors | E30: 9 | F30: =ROUND(865*1.3,0) -> 1125 | G30: 3 | H30: =ROUNDUP((F30/168*G30),2) -> 20.09
H31: =ROUNDUP((F31/168*G31),2) -> 0
H32: =ROUNDUP((F32/168*G32),2) -> 0
H33: =ROUNDUP((F33/168*G33),2) -> 0
H34: =ROUNDUP((F34/168*G34),2) -> 0
H35: =ROUNDUP((F35/168*G35),2) -> 0
H36: =ROUNDUP((F36/168*G36),2) -> 0
A37: 1143 | B37: Piemaksa par speciālo dienesta pakāpi un diplomātisko rangu | C37: Speciālā dienesta pakāpe | F37: Piemaksa mēnesī | G37: Patērētais laiks (h) | H37: =SUM(H38:H47) -> 4.84
G38: =G16 -> 2 | H38: =ROUNDUP((F38/168*G38),2) -> 0
C39: Pulkvedis | G39: =G17 -> 0 | H39: =ROUNDUP((F39/168*G39),2) -> 0
C40: Pulkvedis | F40: 135 | G40: =G18 -> 3 | H40: =ROUNDUP((F40/168*G40),2) -> 2.42
C41: Pulkvedis | F41: 135 | G41: =G19 -> 3 | H41: =ROUNDUP((F41/168*G41),2) -> 2.42
C42: Pulkvedis | G42: =G20 -> 0 | H42: =ROUNDUP((F42/168*G42),2) -> 0
G43: =G21 -> 0 | H43: =ROUNDUP((F43/168*G43),2) -> 0
G44: =G22 -> 0 | H44: =ROUNDUP((F44/168*G44),2) -> 0
G45: =G23 -> 0 | H45: =ROUNDUP((F45/168*G45),2) -> 0
G46: =G24 -> 0 | H46: =ROUNDUP((F46/168*G46),2) -> 0
G47: =G25 -> 0 | H47: =ROUNDUP((F47/168*G47),2) -> 0
A48: 1146 | B48: Piemaksa par personisko darba ieguldījumu un darba kvalitāti | C48: Ieņemamais amats | E48: Piemaksa % | F48: Mēnešalga | G48: Patērētais laiks (h)
C49: =C16 -> 0 | E49: 5 | F49: =F16 -> 0 | H49: =ROUNDUP((F49*$E$49%)/168*G49,2) -> 0
C50: =C17 -> 0 | F50: =F17 -> 0 | H50: =ROUNDUP((F50*$E$49%)/168*G50,2) -> 0
C51: =C18 -> VP Galvenās kriminālpolicijas pārvaldes priekšnieka vietnieks | F51: =F18 -> 2651 | H51: =ROUNDUP((F51*$E$49%)/168*G51,2) -> 0
C52: =C19 -> VP Galvenās kārtības policijas pārvaldes priekšnieka vietnieks | F52: =F19 -> 2651 | H52: =ROUNDUP((F52*$E$49%)/168*G52,2) -> 0
C53: =C20 -> 0 | F53: =F20 -> 0 | H53: =ROUNDUP((F53*$E$49%)/168*G53,2) -> 0
C54: =C21 -> 0 | F54: =F21 -> 0 | H54: =ROUNDUP((F54*$E$49%)/168*G54,2) -> 0
C55: =C22 -> 0 | F55: =F22 -> 0 | H55: =ROUNDUP((F55*$E$49%)/168*G55,2) -> 0
C56: =C28 -> Lektors | F56: =F28 -> 1125 | H56: =ROUNDUP((F56*$E$49%)/168*G56,2) -> 0
C57: =C29 -> Lektors | F57: =F29 -> 1125 | H57: =ROUNDUP((F57*$E$49%)/168*G57,2) -> 0
C58: =C30 -> Lektors | F58: =F30 -> 1125 | H58: =ROUNDUP((F58*$E$49%)/168*G58,2) -> 0
C59: =C27 -> Vecākais speciālists Izglītības koordinācijas nodaļā | F59: =F27 -> 1287 | H59: =ROUNDUP((F59*$E$49%)/168*G59,2) -> 0
C60: =C28 -> Lektors | F60: =F28 -> 1125 | G60: =G28 -> 3 | H60: =ROUNDUP((F60*$E$49%)/168*G60,2) -> 1.01
C61: =C29 -> Lektors | F61: =F29 -> 1125 | G61: =G29 -> 3 | H61: =ROUNDUP((F61*$E$49%)/168*G61,2) -> 1.01
C62: =C30 -> Lektors | F62: =F30 -> 1125 | G62: =G30 -> 3 | H62: =ROUNDUP((F62*$E$49%)/168*G62,2) -> 1.01
C63: =C31 -> 0 | F63: =F31 -> 0 | G63: =G31 -> 0 | H63: =ROUNDUP((F63*$E$49%)/168*G63,2) -> 0
C64: =C32 -> 0 | F64: =F32 -> 0 | G64: =G32 -> 0 | H64: =ROUNDUP((F64*$E$49%)/168*G64,2) -> 0
C65: =C33 -> 0 | F65: =F33 -> 0 | G65: =G33 -> 0 | H65: =ROUNDUP((F65*$E$49%)/168*G65,2) -> 0
C66: =C34 -> 0 | F66: =F34 -> 0 | G66: =G34 -> 0 | H66: =ROUNDUP((F66*$E$49%)/168*G66,2) -> 0
C67: =C35 -> 0 | F67: =F35 -> 0 | G67: =G35 -> 0 | H67: =ROUNDUP((F67*$E$49%)/168*G67,2) -> 0
C68: =C36 -> 0 | F68: =F36 -> 0 | G68: =G36 -> 0 | H68: =ROUNDUP((F68*$E$49%)/168*G68,2) -> 0
A69: 1147 | B69: Piemaksa par papildu darbu | C69: Ieņemamais amats | E69: Piemaksa % | F69: Mēnešalga | G69: Patērētais laiks (h)
C70: =C16 -> 0 | E70: 5 | F70: =F16 -> 0 | H70: =ROUNDUP((F70*$E$70%)/168*G70,2) -> 0
C71: =C17 -> 0 | F71: =F17 -> 0 | H71: =ROUNDUP((F71*$E$70%)/168*G71,2) -> 0
C72: =C18 -> VP Galvenās kriminālpolicijas pārvaldes priekšnieka vietnieks | F72: =F18 -> 2651 | H72: =ROUNDUP((F72*$E$70%)/168*G72,2) -> 0
C73: =C19 -> VP Galvenās kārtības policijas pārvaldes priekšnieka vietnieks | F73: =F19 -> 2651 | H73: =ROUNDUP((F73*$E$70%)/168*G73,2) -> 0
C74: =C20 -> 0 | F74: =F20 -> 0 | H74: =ROUNDUP((F74*$E$70%)/168*G74,2) -> 0
C75: =C21 -> 0 | F75: =F21 -> 0 | H75: =ROUNDUP((F75*$E$70%)/168*G75,2) -> 0
C76: =C22 -> 0 | F76: =F22 -> 0 | H76: =ROUNDUP((F76*$E$70%)/168*G76,2) -> 0
C77: =C28 -> Lektors | F77: =F28 -> 1125 | H77: =ROUNDUP((F77*$E$70%)/168*G77,2) -> 0
C78: =C29 -> Lektors | F78: =F29 -> 1125 | H78: =ROUNDUP((F78*$E$70%)/168*G78,2) -> 0
C79: =C30 -> Lektors | F79: =F30 -> 1125 | H79: =ROUNDUP((F79*$E$70%)/168*G79,2) -> 0
C80: =C27 -> Vecākais speciālists Izglītības koordinācijas nodaļā | F80: =F27 -> 1287 | H80: =ROUNDUP((F80*$E$70%)/168*G80,2) -> 0
F81: =F28 -> 1125 | G81: =G28 -> 3 | H81: =ROUNDUP((F81*$E$70%)/168*G81,2) -> 1.01
C82: =C30 -> Lektors | F82: =F29 -> 1125 | G82: =G29 -> 3 | H82: =ROUNDUP((F82*$E$70%)/168*G82,2) -> 1.01
C83: =C31 -> 0 | F83: =F30 -> 1125 | G83: =G30 -> 3 | H83: =ROUNDUP((F83*$E$70%)/168*G83,2) -> 1.01
C84: =C32 -> 0 | F84: =F31 -> 0 | G84: =G31 -> 0 | H84: =ROUNDUP((F84*$E$70%)/168*G84,2) -> 0
C85: =C33 -> 0 | F85: =F32 -> 0 | G85: =G32 -> 0 | H85: =ROUNDUP((F85*$E$70%)/168*G85,2) -> 0
C86: =C34 -> 0 | F86: =F33 -> 0 | G86: =G33 -> 0 | H86: =ROUNDUP((F86*$E$70%)/168*G86,2) -> 0
F87: =F34 -> 0 | G87: =G34 -> 0 | H87: =ROUNDUP((F87*$E$70%)/168*G87,2) -> 0
C88: =C35 -> 0 | F88: =F35 -> 0 | G88: =G35 -> 0 | H88: =ROUNDUP((F88*$E$70%)/168*G88,2) -> 0
C89: =C36 -> 0 | F89: =F36 -> 0 | G89: =G36 -> 0 | H89: =ROUNDUP((F89*$E$70%)/168*G89,2) -> 0
A90: 1148 | B90: Prēmijas un naudas balvas | C90: Ieņemamais amats | E90: Piemaksa % | F90: Mēnešalga | G90: Patērētais laiks (h)
C91: =C16 -> 0 | E91: 10 | F91: =F16 -> 0 | G91: =G16 -> 2 | H91: =ROUNDUP((F91*$E$91%)/168*$G$91,2) -> 0
C92: =C17 -> 0 | F92: =F17 -> 0 | G92: =G17 -> 0 | H92: =ROUNDUP((F92*$E$91%)/168*$G$91,2) -> 0
C93: =C18 -> VP Galvenās kriminālpolicijas pārvaldes priekšnieka vietnieks | F93: =F18 -> 2651
C94: =C19 -> VP Galvenās kārtības policijas pārvaldes priekšnieka vietnieks | F94: =F19 -> 2651
C95: =C20 -> 0 | F95: =F20 -> 0
C96: =C21 -> 0 | F96: =F21 -> 0
C97: =C22 -> 0 | F97: =F22 -> 0
C98: =C28 -> Lektors | F98: =F28 -> 1125
C99: =C29 -> Lektors | F99: =F29 -> 1125
C100: =C30 -> Lektors | F100: =F30 -> 1125
C101: =C27 -> Vecākais speciālists Izglītības koordinācijas nodaļā | F101: =F27 -> 1287
C102: =C28 -> Lektors | F102: =F28 -> 1125 | G102: =G28 -> 3 | H102: =ROUNDUP((F102*$E$91%)/168*$G$91,2) -> 1.34
C103: =C29 -> Lektors | F103: =F29 -> 1125 | G103: =G29 -> 3 | H103: =ROUNDUP((F103*$E$91%)/168*$G$91,2) -> 1.34
C104: =C30 -> Lektors | F104: =F30 -> 1125 | G104: =G30 -> 3 | H104: =ROUNDUP((F104*$E$91%)/168*$G$91,2) -> 1.34
...

Sheet 1.4.3
A1: Maksas pakalpojumu izcenojuma aprēķins
A3: 1. Atkārtota pārbaudījuma kārtošana
A4: 1.4. Kvalifikācijas eksāmens
A5: 1.4.3. noslēguma pārbaudījums profesionālās pilnveides izglītības programmā "Policijas darba pamati"
A6: Maksas pakalpojuma mērvienība – viens eksāmens
A10: EKK kods | B10: Rādītājs (materiāla/izejvielas nosaukums, atlīdzība un citi izmaksu veidi) | C10: Izmaksu apjoms gadā viena makasa pakalpojuma veida nodrošināšanai | I10: Piezīmes, komentāri
A11: 1 | B11: 2 | C11: 3
A12: Tiešās izmaksas
A13: 1000 | B13: Atlīdzība | H13: =SUM(H14,H111) -> 88.25
A14: 1100 | B14: Atalgojums | H14: =SUM(H15,H26,H37,H48,H69,H90) -> 67.65
A15: 1116 | B15: Mēnešalga amatpersonām ar speciālajām dienesta pakāpēm | C15: Ieņemamais amats | E15: M.a. grupa | F15: Mēnešalga | G15: Patērētais laiks (h) | H15: =SUM(H16:H25) -> 31.56
G16: 2 | H16: =ROUNDUP((F16/168*G16),2) -> 0
H17: =ROUNDUP((F17/168*G17),2) -> 0
C18: VP Galvenās kriminālpolicijas pārvaldes priekšnieka vietnieks | E18: 15 | F18: 2651 | G18: 1 | H18: =ROUNDUP((F18/168*G18),2) -> 15.78
C19: VP Galvenās kārtības policijas pārvaldes priekšnieka vietnieks | E19: 15 | F19: 2651 | G19: 1 | H19: =ROUNDUP((F19/168*G19),2) -> 15.78
H20: =ROUNDUP((F20/168*G20),2) -> 0
H21: =ROUNDUP((F21/168*G21),2) -> 0
H22: =ROUNDUP((F22/168*G22),2) -> 0
H23: =ROUNDUP((F23/168*G23),2) -> 0
H24: =ROUNDUP((F24/168*G24),2) -> 0
H25: =ROUNDUP((F25/168*G25),2) -> 0
A26: 1119 | B26: Pārējo darbinieku mēnešalga (darba alga) | C26: Ieņemamais amats | E26: M.a. grupa | F26: Mēnešalga | G26: Patērētais laiks (h) | H26: =SUM(H27:H36) -> 34.47
C27: Vecākais speciālists Izglītības koordinācijas nodaļā | E27: 10 | F27: 1287 | G27: 1 | H27: =ROUNDUP((F27/168*G27),2) -> 7.67
C28: Lektors | E28: 9 | F28: =ROUND(865*1.3,0) -> 1125 | G28: 1 | H28: =ROUNDUP((F28/168*G28),2) -> 6.7
C29: Lektors | E29: 9 | F29: =ROUND(865*1.3,0) -> 1125 | G29: 1 | H29: =ROUNDUP((F29/168*G29),2) -> 6.7
C30: Lektors | E30: 9 | F30: =ROUND(865*1.3,0) -> 1125 | G30: 1 | H30: =ROUNDUP((F30/168*G30),2) -> 6.7
C31: Lektors | E31: 9 | F31: =ROUND(865*1.3,0) -> 1125 | G31: 1 | H31: =ROUNDUP((F31/168*G31),2) -> 6.7
H32: =ROUNDUP((F32/168*G32),2) -> 0
H33: =ROUNDUP((F33/168*G33),2) -> 0
H34: =ROUNDUP((F34/168*G34),2) -> 0
H35: =ROUNDUP((F35/168*G35),2) -> 0
H36: =ROUNDUP((F36/168*G36),2) -> 0
A37: 1143 | B37: Piemaksa par speciālo dienesta pakāpi un diplomātisko rangu | C37: Speciālā dienesta pakāpe | F37: Piemaksa mēnesī | G37: Patērētais laiks (h) | H37: =SUM(H38:H47) -> 1.62
G38: =G16 -> 2 | H38: =ROUNDUP((F38/168*G38),2) -> 0
C39: Pulkvedis | G39: =G17 -> 0 | H39: =ROUNDUP((F39/168*G39),2) -> 0
C40: Pulkvedis | F40: 135 | G40: =G18 -> 1 | H40: =ROUNDUP((F40/168*G40),2) -> 0.81
C41: Pulkvedis | F41: 135 | G41: =G19 -> 1 | H41: =ROUNDUP((F41/168*G41),2) -> 0.81
C42: Pulkvedis | G42: =G20 -> 0 | H42: =ROUNDUP((F42/168*G42),2) -> 0
G43: =G21 -> 0 | H43: =ROUNDUP((F43/168*G43),2) -> 0
G44: =G22 -> 0 | H44: =ROUNDUP((F44/168*G44),2) -> 0
G45: =G23 -> 0 | H45: =ROUNDUP((F45/168*G45),2) -> 0
G46: =G24 -> 0 | H46: =ROUNDUP((F46/168*G46),2) -> 0
G47: =G25 -> 0 | H47: =ROUNDUP((F47/168*G47),2) -> 0
A48: 1146 | B48: Piemaksa par personisko darba ieguldījumu un darba kvalitāti | C48: Ieņemamais amats | E48: Piemaksa % | F48: Mēnešalga | G48: Patērētais laiks (h)
C49: =C16 -> 0 | E49: 5 | F49: =F16 -> 0 | H49: =ROUNDUP((F49*$E$49%)/168*G49,2) -> 0
C50: =C17 -> 0 | F50: =F17 -> 0 | H50: =ROUNDUP((F50*$E$49%)/168*G50,2) -> 0
C51: =C18 -> VP Galvenās kriminālpolicijas pārvaldes priekšnieka vietnieks | F51: =F18 -> 2651 | H51: =ROUNDUP((F51*$E$49%)/168*G51,2) -> 0
C52: =C19 -> VP Galvenās kārtības policijas pārvaldes priekšnieka vietnieks | F52: =F19 -> 2651 | H52: =ROUNDUP((F52*$E$49%)/168*G52,2) -> 0
C53: =C20 -> 0 | F53: =F20 -> 0 | H53: =ROUNDUP((F53*$E$49%)/168*G53,2) -> 0
C54: =C21 -> 0 | F54: =F21 -> 0 | H54: =ROUNDUP((F54*$E$49%)/168*G54,2) -> 0
C55: =C28 -> Lektors | F55: =F28 -> 1125 | H55: =ROUNDUP((F55*$E$49%)/168*G55,2) -> 0
C56: =C29 -> Lektors | F56: =F29 -> 1125 | H56: =ROUNDUP((F56*$E$49%)/168*G56,2) -> 0
C57: =C30 -> Lektors | F57: =F30 -> 1125 | H57: =ROUNDUP((F57*$E$49%)/168*G57,2) -> 0
C58: =C31 -> Lektors | F58: =F31 -> 1125 | H58: =ROUNDUP((F58*$E$49%)/168*G58,2) -> 0
C59: =C27 -> Vecākais speciālists Izglītības koordinācijas nodaļā | F59: =F27 -> 1287 | H59: =ROUNDUP((F59*$E$49%)/168*G59,2) -> 0
C60: =C28 -> Lektors | F60: =F28 -> 1125 | G60: =G28 -> 1 | H60: =ROUNDUP((F60*$E$49%)/168*G60,2) -> 0.34
C61: =C29 -> Lektors | F61: =F29 -> 1125 | G61: =G29 -> 1 | H61: =ROUNDUP((F61*$E$49%)/168*G61,2) -> 0.34
C62: =C30 -> Lektors | F62: =F30 -> 1125 | G62: =G30 -> 1 | H62: =ROUNDUP((F62*$E$49%)/168*G62,2) -> 0.34
C63: =C31 -> Lektors | F63: =F31 -> 1125 | G63: =G31 -> 1 | H63: =ROUNDUP((F63*$E$49%)/168*G63,2) -> 0.34
C64: =C32 -> 0 | F64: =F32 -> 0 | G64: =G32 -> 0 | H64: =ROUNDUP((F64*$E$49%)/168*G64,2) -> 0
C65: =C33 -> 0 | F65: =F33 -> 0 | G65: =G33 -> 0 | H65: =ROUNDUP((F65*$E$49%)/168*G65,2) -> 0
C66: =C34 -> 0 | F66: =F34 -> 0 | G66: =G34 -> 0 | H66: =ROUNDUP((F66*$E$49%)/168*G66,2) -> 0
C67: =C35 -> 0 | F67: =F35 -> 0 | G67: =G35 -> 0 | H67: =ROUNDUP((F67*$E$49%)/168*G67,2) -> 0
C68: =C36 -> 0 | F68: =F36 -> 0 | G68: =G36 -> 0 | H68: =ROUNDUP((F68*$E$49%)/168*G68,2) -> 0
A69: 1147 | B69: Piemaksa par papildu darbu | C69: Ieņemamais amats | E69: Piemaksa % | F69: Mēnešalga | G69: Patērētais laiks (h)
C70: =C16 -> 0 | E70: 5 | F70: =F16 -> 0 | H70: =ROUNDUP((F70*$E$70%)/168*G70,2) -> 0
C71: =C17 -> 0 | F71: =F17 -> 0 | H71: =ROUNDUP((F71*$E$70%)/168*G71,2) -> 0
C72: =C18 -> VP Galvenās kriminālpolicijas pārvaldes priekšnieka vietnieks | F72: =F18 -> 2651 | H72: =ROUNDUP((F72*$E$70%)/168*G72,2) -> 0
C73: =C19 -> VP Galvenās kārtības policijas pārvaldes priekšnieka vietnieks | F73: =F19 -> 2651 | H73: =ROUNDUP((F73*$E$70%)/168*G73,2) -> 0
C74: =C20 -> 0 | F74: =F20 -> 0 | H74: =ROUNDUP((F74*$E$70%)/168*G74,2) -> 0
C75: =C21 -> 0 | F75: =F21 -> 0 | H75: =ROUNDUP((F75*$E$70%)/168*G75,2) -> 0
C76: =C28 -> Lektors | F76: =F28 -> 1125 | H76: =ROUNDUP((F76*$E$70%)/168*G76,2) -> 0
C77: =C29 -> Lektors | F77: =F29 -> 1125 | H77: =ROUNDUP((F77*$E$70%)/168*G77,2) -> 0
C78: =C30 -> Lektors | F78: =F30 -> 1125 | H78: =ROUNDUP((F78*$E$70%)/168*G78,2) -> 0
C79: =C31 -> Lektors | F79: =F31 -> 1125 | H79: =ROUNDUP((F79*$E$70%)/168*G79,2) -> 0
C80: =C27 -> Vecākais speciālists Izglītības koordinācijas nodaļā | F80: =F27 -> 1287 | H80: =ROUNDUP((F80*$E$70%)/168*G80,2) -> 0
F81: =F28 -> 1125 | G81: =G28 -> 1 | H81: =ROUNDUP((F81*$E$70%)/168*G81,2) -> 0.34
C82: =C30 -> Lektors | F82: =F29 -> 1125 | G82: =G29 -> 1 | H82: =ROUNDUP((F82*$E$70%)/168*G82,2) -> 0.34
C83: =C31 -> Lektors | F83: =F30 -> 1125 | G83: =G30 -> 1 | H83: =ROUNDUP((F83*$E$70%)/168*G83,2) -> 0.34
C84: =C32 -> 0 | F84: =F31 -> 1125 | G84: =G31 -> 1 | H84: =ROUNDUP((F84*$E$70%)/168*G84,2) -> 0.34
C85: =C33 -> 0 | F85: =F32 -> 0 | G85: =G32 -> 0 | H85: =ROUNDUP((F85*$E$70%)/168*G85,2) -> 0
C86: =C34 -> 0 | F86: =F33 -> 0 | G86: =G33 -> 0 | H86: =ROUNDUP((F86*$E$70%)/168*G86,2) -> 0
F87: =F34 -> 0 | G87: =G34 -> 0 | H87: =ROUNDUP((F87*$E$70%)/168*G87,2) -> 0
C88: =C35 -> 0 | F88: =F35 -> 0 | G88: =G35 -> 0 | H88: =ROUNDUP((F88*$E$70%)/168*G88,2) -> 0
C89: =C36 -> 0 | F89: =F36 -> 0 | G89: =G36 -> 0 | H89: =ROUNDUP((F89*$E$70%)/168*G89,2) -> 0
A90: 1148 | B90: Prēmijas un naudas balvas | C90: Ieņemamais amats | E90: Piemaksa % | F90: Mēnešalga | G90: Patērētais laiks (h)
C91: =C16 -> 0 | E91: 10 | F91: =F16 -> 0 | G91: =G16 -> 2 | H91: =ROUNDUP((F91*$E$91%)/168*$G$91,2) -> 0
C92: =C17 -> 0 | F92: =F17 -> 0 | G92: =G17 -> 0 | H92: =ROUNDUP((F92*$E$91%)/168*$G$91,2) -> 0
C93: =C18 -> VP Galvenās kriminālpolicijas pārvaldes priekšnieka vietnieks | F93: =F18 -> 2651
C94: =C19 -> VP Galvenās kārtības policijas pārvaldes priekšnieka vietnieks | F94: =F19 -> 2651
C95: =C20 -> 0 | F95: =F20 -> 0
C96: =C21 -> 0 | F96: =F21 -> 0
C97: =C28 -> Lektors | F97: =F28 -> 1125
C98: =C29 -> Lektors | F98: =F29 -> 1125
C99: =C30 -> Lektors | F99: =F30 -> 1125
C100: =C31 -> Lektors | F100: =F31 -> 1125
C101: =C27 -> Vecākais speciālists Izglītības koordinācijas nodaļā | F101: =F27 -> 1287
C102: =C28 -> Lektors | F102: =F28 -> 1125 | G102: =G28 -> 1 | H102: =ROUNDUP((F102*$E$91%)/168*$G$91,2) -> 1.34
C103: =C29 -> Lektors | F103: =F29 -> 1125 | G103: =G29 -> 1 | H103: =ROUNDUP((F103*$E$91%)/168*$G$91,2) -> 1.34
C104: =C30 -> Lektors | F104: =F30 -> 1125 | G104: =G30 -> 1 | H104: =ROUNDUP((F104*$E$91%)/168*$G$91,2) -> 1.34
...

Sheet 2.
A1: Maksas pakalpojumu izcenojuma aprēķins
A3: 2. Atkārtota studiju kursa apguve
A5: Maksas pakalpojuma mērvienība – viens kredītpunkts
A9: EKK kods | B9: Rādītājs (materiāla/izejvielas nosaukums, atlīdzība un citi izmaksu veidi) | C9: Izmaksu apjoms gadā viena makasa pakalpojuma veida nodrošināšanai | I9: Piezīmes, komentāri
A10: 1 | B10: 2 | C10: 3
A11: Tiešās izmaksas
A12: 1000 | B12: Atlīdzība | H12: =SUM(H13,H110) -> 23.33
A13: 1100 | B13: Atalgojums | H13: =SUM(H14,H25,H36,H47,H68,H89) -> 18.19
A14: 1116 | B14: Mēnešalga amatpersonām ar speciālajām dienesta pakāpēm | C14: Ieņemamais amats | E14: M.a. grupa | F14: Mēnešalga | G14: Patērētais laiks (h) | H14: =SUM(H15:H24) -> 16.97
C15: Lektors (ar SDP) vidēji 20 personas mācību grupā | E15: 9 | F15: 1677 | G15: 34 | H15: =ROUNDUP((F15/168*G15/20),2) -> 16.97
H16: =ROUNDUP((F16/168*G16),2) -> 0
H17: =ROUNDUP((F17/168*G17),2) -> 0
H18: =ROUNDUP((F18/168*G18),2) -> 0
H19: =ROUNDUP((F19/168*G19),2) -> 0
H20: =ROUNDUP((F20/168*G20),2) -> 0
H21: =ROUNDUP((F21/168*G21),2) -> 0
H22: =ROUNDUP((F22/168*G22),2) -> 0
H23: =ROUNDUP((F23/168*G23),2) -> 0
H24: =ROUNDUP((F24/168*G24),2) -> 0
A25: 1119 | B25: Pārējo darbinieku mēnešalga (darba alga) | C25: Ieņememais amats | E25: M.a. grupa | F25: Mēnešalga | G25: Patērētais laiks (h) | H25: =SUM(H26:H35) -> 0
H26: =ROUNDUP((F26/168*G26),2) -> 0
H27: =ROUNDUP((F27/168*G27),2) -> 0
H28: =ROUNDUP((F28/168*G28),2) -> 0
H29: =ROUNDUP((F29/168*G29),2) -> 0
H30: =ROUNDUP((F30/168*G30),2) -> 0
H31: =ROUNDUP((F31/168*G31),2) -> 0
H32: =ROUNDUP((F32/168*G32),2) -> 0
H33: =ROUNDUP((F33/168*G33),2) -> 0
H34: =ROUNDUP((F34/168*G34),2) -> 0
H35: =ROUNDUP((F35/168*G35),2) -> 0
A36: 1143 | B36: Piemaksa par speciālo dienesta pakāpi un diplomātisko rangu | C36: Speciālā dienesta pakāpe | F36: Piemaksa mēnesī | G36: Patērētais laiks (h) | H36: =SUM(H37:H46) -> 1.22
C37: Pulkvežleitnants | F37: 120 | G37: =G15 -> 34 | H37: =ROUNDUP((F37/168*G37/20),2) -> 1.22
G38: =G16 -> 0 | H38: =ROUNDUP((F38/168*G38),2) -> 0
G39: =G17 -> 0 | H39: =ROUNDUP((F39/168*G39),2) -> 0
G40: =G18 -> 0 | H40: =ROUNDUP((F40/168*G40),2) -> 0
G41: =G19 -> 0 | H41: =ROUNDUP((F41/168*G41),2) -> 0
G42: =G20 -> 0 | H42: =ROUNDUP((F42/168*G42),2) -> 0
G43: =G21 -> 0 | H43: =ROUNDUP((F43/168*G43),2) -> 0
G44: =G22 -> 0 | H44: =ROUNDUP((F44/168*G44),2) -> 0
G45: =G23 -> 0 | H45: =ROUNDUP((F45/168*G45),2) -> 0
G46: =G24 -> 0 | H46: =ROUNDUP((F46/168*G46),2) -> 0
A47: 1146 | B47: Piemaksa par personisko darba ieguldījumu un darba kvalitāti | C47: Ieņemamais amats | E47: Piemaksa % | F47: Mēnešalga | G47: Patērētais laiks (h) | H47: =SUM(H48:H67) -> 0
C48: =C15 -> Lektors (ar SDP) vidēji 20 personas mācību grupā | E48: 5 | F48: =F15 -> 1677 | H48: =ROUNDUP((F48*$E$48%)/168*G48/20,2) -> 0
C49: =C16 -> 0 | F49: =F16 -> 0 | G49: =G16 -> 0 | H49: =ROUNDUP((F49*$E$48%)/168*G49,2) -> 0
C50: =C17 -> 0 | F50: =F17 -> 0 | G50: =G17 -> 0 | H50: =ROUNDUP((F50*$E$48%)/168*G50,2) -> 0
C51: =C18 -> 0 | F51: =F18 -> 0 | G51: =G18 -> 0 | H51: =ROUNDUP((F51*$E$48%)/168*G51,2) -> 0
C52: =C19 -> 0 | F52: =F19 -> 0 | G52: =G19 -> 0 | H52: =ROUNDUP((F52*$E$48%)/168*G52,2) -> 0
C53: =C20 -> 0 | F53: =F20 -> 0 | G53: =G20 -> 0 | H53: =ROUNDUP((F53*$E$48%)/168*G53,2) -> 0
C54: =C21 -> 0 | F54: =F21 -> 0 | G54: =G21 -> 0 | H54: =ROUNDUP((F54*$E$48%)/168*G54,2) -> 0
C55: =C22 -> 0 | F55: =F22 -> 0 | G55: =G22 -> 0 | H55: =ROUNDUP((F55*$E$48%)/168*G55,2) -> 0
C56: =C23 -> 0 | F56: =F23 -> 0 | G56: =G23 -> 0 | H56: =ROUNDUP((F56*$E$48%)/168*G56,2) -> 0
C57: =C24 -> 0 | F57: =F24 -> 0 | G57: =G24 -> 0 | H57: =ROUNDUP((F57*$E$48%)/168*G57,2) -> 0
C58: =C26 -> 0 | F58: =F26 -> 0 | G58: =G26 -> 0 | H58: =ROUNDUP((F58*$E$48%)/168*G58,2) -> 0
C59: =C27 -> 0 | F59: =F27 -> 0 | G59: =G27 -> 0 | H59: =ROUNDUP((F59*$E$48%)/168*G59,2) -> 0
C60: =C28 -> 0 | F60: =F28 -> 0 | G60: =G28 -> 0 | H60: =ROUNDUP((F60*$E$48%)/168*G60,2) -> 0
C61: =C29 -> 0 | F61: =F29 -> 0 | G61: =G29 -> 0 | H61: =ROUNDUP((F61*$E$48%)/168*G61,2) -> 0
C62: =C30 -> 0 | F62: =F30 -> 0 | G62: =G30 -> 0 | H62: =ROUNDUP((F62*$E$48%)/168*G62,2) -> 0
C63: =C31 -> 0 | F63: =F31 -> 0 | G63: =G31 -> 0 | H63: =ROUNDUP((F63*$E$48%)/168*G63,2) -> 0
C64: =C32 -> 0 | F64: =F32 -> 0 | G64: =G32 -> 0 | H64: =ROUNDUP((F64*$E$48%)/168*G64,2) -> 0
C65: =C33 -> 0 | F65: =F33 -> 0 | G65: =G33 -> 0 | H65: =ROUNDUP((F65*$E$48%)/168*G65,2) -> 0
C66: =C34 -> 0 | F66: =F34 -> 0 | G66: =G34 -> 0 | H66: =ROUNDUP((F66*$E$48%)/168*G66,2) -> 0
C67: =C35 -> 0 | F67: =F35 -> 0 | G67: =G35 -> 0 | H67: =ROUNDUP((F67*$E$48%)/168*G67,2) -> 0
A68: 1147 | B68: Piemaksa par papildu darbu | C68: Ieņemamais amats | E68: Piemaksa % | F68: Mēnešalga | G68: Patērētais laiks (h) | H68: =SUM(H69:H88) -> 0
C69: =C15 -> Lektors (ar SDP) vidēji 20 personas mācību grupā | E69: 5 | F69: =F15 -> 1677 | H69: =ROUNDUP((F69*$E$69%)/168*G69/20,2) -> 0
C70: =C16 -> 0 | F70: =F16 -> 0 | G70: =G16 -> 0 | H70: =ROUNDUP((F70*$E$69%)/168*G70,2) -> 0
C71: =C17 -> 0 | F71: =F17 -> 0 | G71: =G17 -> 0 | H71: =ROUNDUP((F71*$E$69%)/168*G71,2) -> 0
C72: =C18 -> 0 | F72: =F18 -> 0 | G72: =G18 -> 0 | H72: =ROUNDUP((F72*$E$69%)/168*G72,2) -> 0
C73: =C19 -> 0 | F73: =F19 -> 0 | G73: =G19 -> 0 | H73: =ROUNDUP((F73*$E$69%)/168*G73,2) -> 0
C74: =C20 -> 0 | F74: =F20 -> 0 | G74: =G20 -> 0 | H74: =ROUNDUP((F74*$E$69%)/168*G74,2) -> 0
C75: =C21 -> 0 | F75: =F21 -> 0 | G75: =G21 -> 0 | H75: =ROUNDUP((F75*$E$69%)/168*G75,2) -> 0
C76: =C22 -> 0 | F76: =F22 -> 0 | G76: =G22 -> 0 | H76: =ROUNDUP((F76*$E$69%)/168*G76,2) -> 0
C77: =C23 -> 0 | F77: =F23 -> 0 | G77: =G23 -> 0 | H77: =ROUNDUP((F77*$E$69%)/168*G77,2) -> 0
C78: =C24 -> 0 | F78: =F24 -> 0 | G78: =G24 -> 0 | H78: =ROUNDUP((F78*$E$69%)/168*G78,2) -> 0
C79: =C26 -> 0 | F79: =F26 -> 0 | G79: =G26 -> 0 | H79: =ROUNDUP((F79*$E$69%)/168*G79,2) -> 0
C80: =C26 -> 0 | F80: =F27 -> 0 | G80: =G27 -> 0 | H80: =ROUNDUP((F80*$E$69%)/168*G80,2) -> 0
C81: =C29 -> 0 | F81: =F28 -> 0 | G81: =G28 -> 0 | H81: =ROUNDUP((F81*$E$69%)/168*G81,2) -> 0
C82: =C30 -> 0 | F82: =F29 -> 0 | G82: =G29 -> 0 | H82: =ROUNDUP((F82*$E$69%)/168*G82,2) -> 0
C83: =C31 -> 0 | F83: =F30 -> 0 | G83: =G30 -> 0 | H83: =ROUNDUP((F83*$E$69%)/168*G83,2) -> 0
C84: =C32 -> 0 | F84: =F31 -> 0 | G84: =G31 -> 0 | H84: =ROUNDUP((F84*$E$69%)/168*G84,2) -> 0
C85: =C33 -> 0 | F85: =F32 -> 0 | G85: =G32 -> 0 | H85: =ROUNDUP((F85*$E$69%)/168*G85,2) -> 0
F86: =F33 -> 0 | G86: =G33 -> 0 | H86: =ROUNDUP((F86*$E$69%)/168*G86,2) -> 0
C87: =C34 -> 0 | F87: =F34 -> 0 | G87: =G34 -> 0 | H87: =ROUNDUP((F87*$E$69%)/168*G87,2) -> 0
C88: =C35 -> 0 | F88: =F35 -> 0 | G88: =G35 -> 0 | H88: =ROUNDUP((F88*$E$69%)/168*G88,2) -> 0
A89: 1148 | B89: Prēmijas un naudas balvas | C89: Ieņemamais amats | E89: Piemaksa % | F89: Mēnešalga | G89: Patērētais laiks (h) | H89: =SUM(H90:H109) -> 0
C90: =C15 -> Lektors (ar SDP) vidēji 20 personas mācību grupā | E90: 10 | F90: =F15 -> 1677 | H90: =ROUNDUP((F90*$E$90%)/168*$G$90/20,2) -> 0
C91: =C16 -> 0 | F91: =F16 -> 0 | G91: =G16 -> 0 | H91: =ROUNDUP((F91*$E$90%)/168*$G$90,2) -> 0
C92: =C17 -> 0 | F92: =F17 -> 0 | G92: =G17 -> 0 | H92: =ROUNDUP((F92*$E$90%)/168*$G$90,2) -> 0
C93: =C18 -> 0 | F93: =F18 -> 0 | G93: =G18 -> 0 | H93: =ROUNDUP((F93*$E$90%)/168*$G$90,2) -> 0
C94: =C19 -> 0 | F94: =F19 -> 0 | G94: =G19 -> 0 | H94: =ROUNDUP((F94*$E$90%)/168*$G$90,2) -> 0
C95: =C20 -> 0 | F95: =F20 -> 0 | G95: =G20 -> 0 | H95: =ROUNDUP((F95*$E$90%)/168*$G$90,2) -> 0
C96: =C21 -> 0 | F96: =F21 -> 0 | G96: =G21 -> 0 | H96: =ROUNDUP((F96*$E$90%)/168*$G$90,2) -> 0
C97: =C22 -> 0 | F97: =F22 -> 0 | G97: =G22 -> 0 | H97: =ROUNDUP((F97*$E$90%)/168*$G$90,2) -> 0
C98: =C23 -> 0 | F98: =F23 -> 0 | G98: =G23 -> 0 | H98: =ROUNDUP((F98*$E$90%)/168*$G$90,2) -> 0
C99: =C24 -> 0 | F99: =F24 -> 0 | G99: =G24 -> 0 | H99: =ROUNDUP((F99*$E$90%)/168*$G$90,2) -> 0
C100: =C26 -> 0 | F100: =F26 -> 0 | G100: =G26 -> 0 | H100: =ROUNDUP((F100*$E$90%)/168*$G$90,2) -> 0
C101: =C27 -> 0 | F101: =F27 -> 0 | G101: =G27 -> 0 | H101: =ROUNDUP((F101*$E$90%)/168*$G$90,2) -> 0
C102: =C28 -> 0 | F102: =F28 -> 0 | G102: =G28 -> 0 | H102: =ROUNDUP((F102*$E$90%)/168*$G$90,2) -> 0
C103: =C29 -> 0 | F103: =F29 -> 0 | G103: =G29 -> 0 | H103: =ROUNDUP((F103*$E$90%)/168*$G$90,2) -> 0
C104: =C30 -> 0 | F104: =F30 -> 0 | G104: =G30 -> 0 | H104: =ROUNDUP((F104*$E$90%)/168*$G$90,2) -> 0
C105: =C31 -> 0 | F105: =F31 -> 0 | G105: =G31 -> 0 | H105: =ROUNDUP((F105*$E$90%)/168*$G$90,2) -> 0
...

Sheet 3.
A1: Maksas pakalpojumu izcenojuma aprēķins
A3: 3. Pieteikšanās dokumentu pieņemšana un reģistrēšana pilna vai nepilna laika studijām (mācībām)
A5: Maksas pakalpojuma mērvienība – viens reflektants
A9: EKK kods | B9: Rādītājs (materiāla/izejvielas nosaukums, atlīdzība un citi izmaksu veidi) | C9: Izmaksu apjoms gadā viena makasa pakalpojuma veida nodrošināšanai | I9: Piezīmes, komentāri
A10: 1 | B10: 2 | C10: 3
A11: Tiešās izmaksas
A12: 1000 | B12: Atlīdzība | H12: =SUM(H13,H110) -> 13.03
A13: 1100 | B13: Atalgojums | H13: =SUM(H14,H25,H36,H47,H68,H89) -> 10.12
A14: 1116 | B14: Mēnešalga amatpersonām ar speciālajām dienesta pakāpēm | C14: Ieņememais amats | E14: M.a. grupa | F14: Mēnešalga | G14: Patērētais laiks (h) | H14: =SUM(H15:H24) -> 0
H15: =ROUNDUP((F15/168*G15),2) -> 0
H16: =ROUNDUP((F16/168*G16),2) -> 0
H17: =ROUNDUP((F17/168*G17),2) -> 0
H18: =ROUNDUP((F18/168*G18),2) -> 0
H19: =ROUNDUP((F19/168*G19),2) -> 0
H20: =ROUNDUP((F20/168*G20),2) -> 0
H21: =ROUNDUP((F21/168*G21),2) -> 0
H22: =ROUNDUP((F22/168*G22),2) -> 0
H23: =ROUNDUP((F23/168*G23),2) -> 0
H24: =ROUNDUP((F24/168*G24),2) -> 0
A25: 1119 | B25: Pārējo darbinieku mēnešalga (darba alga) | C25: Ieņemamais amats | E25: M.a. grupa | F25: Mēnešalga | G25: Patērētais laiks (h) | H25: =SUM(H26:H35) -> 10.12
C26: Vecākais speciālists Izglītības koordinācijas nodaļā | E26: 10 | F26: 1287 | G26: 0.66 | H26: =ROUNDUP((F26/168*G26),2) -> 5.06
C27: Vecākais speciālists Personāla vadības nodaļā | E27: 10 | F27: 1287 | G27: 0.66 | H27: =ROUNDUP((F27/168*G27),2) -> 5.06
H28: =ROUNDUP((F28/168*G28),2) -> 0
H29: =ROUNDUP((F29/168*G29),2) -> 0
H30: =ROUNDUP((F30/168*G30),2) -> 0
H31: =ROUNDUP((F31/168*G31),2) -> 0
H32: =ROUNDUP((F32/168*G32),2) -> 0
H33: =ROUNDUP((F33/168*G33),2) -> 0
H34: =ROUNDUP((F34/168*G34),2) -> 0
H35: =ROUNDUP((F35/168*G35),2) -> 0
A36: 1143 | B36: Piemaksa par speciālo dienesta pakāpi un diplomātisko rangu | C36: Speciālā dienesta pakāpe | F36: Piemaksa mēnesī | G36: Patērētais laiks (h) | H36: =SUM(H37:H46) -> 0
G37: =G15 -> 0 | H37: =ROUNDUP((F37/168*G37),2) -> 0
G38: =G16 -> 0 | H38: =ROUNDUP((F38/168*G38),2) -> 0
G39: =G17 -> 0 | H39: =ROUNDUP((F39/168*G39),2) -> 0
G40: =G18 -> 0 | H40: =ROUNDUP((F40/168*G40),2) -> 0
G41: =G19 -> 0 | H41: =ROUNDUP((F41/168*G41),2) -> 0
G42: =G20 -> 0 | H42: =ROUNDUP((F42/168*G42),2) -> 0
G43: =G21 -> 0 | H43: =ROUNDUP((F43/168*G43),2) -> 0
G44: =G22 -> 0 | H44: =ROUNDUP((F44/168*G44),2) -> 0
G45: =G23 -> 0 | H45: =ROUNDUP((F45/168*G45),2) -> 0
G46: =G24 -> 0 | H46: =ROUNDUP((F46/168*G46),2) -> 0
A47: 1146 | B47: Piemaksa par personisko darba ieguldījumu un darba kvalitāti | C47: Ieņemamais amats | E47: Piemaksa % | F47: Mēnešalga | G47: Patērētais laiks (h) | H47: =SUM(H48:H67) -> 0
C48: =C15 -> 0 | E48: 5 | F48: =F15 -> 0 | G48: =G15 -> 0 | H48: =ROUNDUP((F48*$E$48%)/168*G48,2) -> 0
C49: =C16 -> 0 | F49: =F16 -> 0 | G49: =G16 -> 0 | H49: =ROUNDUP((F49*$E$48%)/168*G49,2) -> 0
C50: =C17 -> 0 | F50: =F17 -> 0 | G50: =G17 -> 0 | H50: =ROUNDUP((F50*$E$48%)/168*G50,2) -> 0
C51: =C18 -> 0 | F51: =F18 -> 0 | G51: =G18 -> 0 | H51: =ROUNDUP((F51*$E$48%)/168*G51,2) -> 0
C52: =C19 -> 0 | F52: =F19 -> 0 | G52: =G19 -> 0 | H52: =ROUNDUP((F52*$E$48%)/168*G52,2) -> 0
C53: =C20 -> 0 | F53: =F20 -> 0 | G53: =G20 -> 0 | H53: =ROUNDUP((F53*$E$48%)/168*G53,2) -> 0
C54: =C21 -> 0 | F54: =F21 -> 0 | G54: =G21 -> 0 | H54: =ROUNDUP((F54*$E$48%)/168*G54,2) -> 0
C55: =C22 -> 0 | F55: =F22 -> 0 | G55: =G22 -> 0 | H55: =ROUNDUP((F55*$E$48%)/168*G55,2) -> 0
C56: =C23 -> 0 | F56: =F23 -> 0 | G56: =G23 -> 0 | H56: =ROUNDUP((F56*$E$48%)/168*G56,2) -> 0
C57: =C24 -> 0 | F57: =F24 -> 0 | G57: =G24 -> 0 | H57: =ROUNDUP((F57*$E$48%)/168*G57,2) -> 0
C58: =C26 -> Vecākais speciālists Izglītības koordinācijas nodaļā | F58: =F26 -> 1287 | H58: =ROUNDUP((F58*$E$48%)/168*G58,2) -> 0
C59: =C27 -> Vecākais speciālists Personāla vadības nodaļā | F59: =F27 -> 1287 | H59: =ROUNDUP((F59*$E$48%)/168*G59,2) -> 0
C60: =C28 -> 0 | F60: =F28 -> 0 | H60: =ROUNDUP((F60*$E$48%)/168*G60,2) -> 0
C61: =C29 -> 0 | F61: =F29 -> 0 | G61: =G29 -> 0 | H61: =ROUNDUP((F61*$E$48%)/168*G61,2) -> 0
C62: =C30 -> 0 | F62: =F30 -> 0 | G62: =G30 -> 0 | H62: =ROUNDUP((F62*$E$48%)/168*G62,2) -> 0
C63: =C31 -> 0 | F63: =F31 -> 0 | G63: =G31 -> 0 | H63: =ROUNDUP((F63*$E$48%)/168*G63,2) -> 0
C64: =C32 -> 0 | F64: =F32 -> 0 | G64: =G32 -> 0 | H64: =ROUNDUP((F64*$E$48%)/168*G64,2) -> 0
C65: =C33 -> 0 | F65: =F33 -> 0 | G65: =G33 -> 0 | H65: =ROUNDUP((F65*$E$48%)/168*G65,2) -> 0
C66: =C34 -> 0 | F66: =F34 -> 0 | G66: =G34 -> 0 | H66: =ROUNDUP((F66*$E$48%)/168*G66,2) -> 0
C67: =C35 -> 0 | F67: =F35 -> 0 | G67: =G35 -> 0 | H67: =ROUNDUP((F67*$E$48%)/168*G67,2) -> 0
A68: 1147 | B68: Piemaksa par papildu darbu | C68: Ieņemamais amats | E68: Piemaksa % | F68: Mēnešalga | G68: Patērētais laiks (h) | H68: =SUM(H69:H88) -> 0
C69: =C15 -> 0 | E69: 5 | F69: =F15 -> 0 | G69: =G15 -> 0 | H69: =ROUNDUP((F69*$E$69%)/168*G69,2) -> 0
C70: =C16 -> 0 | F70: =F16 -> 0 | G70: =G16 -> 0 | H70: =ROUNDUP((F70*$E$69%)/168*G70,2) -> 0
C71: =C17 -> 0 | F71: =F17 -> 0 | G71: =G17 -> 0 | H71: =ROUNDUP((F71*$E$69%)/168*G71,2) -> 0
C72: =C18 -> 0 | F72: =F18 -> 0 | G72: =G18 -> 0 | H72: =ROUNDUP((F72*$E$69%)/168*G72,2) -> 0
C73: =C19 -> 0 | F73: =F19 -> 0 | G73: =G19 -> 0 | H73: =ROUNDUP((F73*$E$69%)/168*G73,2) -> 0
C74: =C20 -> 0 | F74: =F20 -> 0 | G74: =G20 -> 0 | H74: =ROUNDUP((F74*$E$69%)/168*G74,2) -> 0
C75: =C21 -> 0 | F75: =F21 -> 0 | G75: =G21 -> 0 | H75: =ROUNDUP((F75*$E$69%)/168*G75,2) -> 0
C76: =C22 -> 0 | F76: =F22 -> 0 | G76: =G22 -> 0 | H76: =ROUNDUP((F76*$E$69%)/168*G76,2) -> 0
C77: =C23 -> 0 | F77: =F23 -> 0 | G77: =G23 -> 0 | H77: =ROUNDUP((F77*$E$69%)/168*G77,2) -> 0
C78: =C24 -> 0 | F78: =F24 -> 0 | G78: =G24 -> 0 | H78: =ROUNDUP((F78*$E$69%)/168*G78,2) -> 0
C79: =C26 -> Vecākais speciālists Izglītības koordinācijas nodaļā | F79: =F26 -> 1287 | H79: =ROUNDUP((F79*$E$69%)/168*G79,2) -> 0
C80: =C27 -> Vecākais speciālists Personāla vadības nodaļā | F80: =F27 -> 1287 | H80: =ROUNDUP((F80*$E$69%)/168*G80,2) -> 0
C81: =C28 -> 0 | F81: =F28 -> 0 | H81: =ROUNDUP((F81*$E$69%)/168*G81,2) -> 0
C82: =C30 -> 0 | F82: =F29 -> 0 | G82: =G29 -> 0 | H82: =ROUNDUP((F82*$E$69%)/168*G82,2) -> 0
C83: =C31 -> 0 | F83: =F30 -> 0 | G83: =G30 -> 0 | H83: =ROUNDUP((F83*$E$69%)/168*G83,2) -> 0
C84: =C32 -> 0 | F84: =F31 -> 0 | G84: =G31 -> 0 | H84: =ROUNDUP((F84*$E$69%)/168*G84,2) -> 0
C85: =C33 -> 0 | F85: =F32 -> 0 | G85: =G32 -> 0 | H85: =ROUNDUP((F85*$E$69%)/168*G85,2) -> 0
C86: =C34 -> 0 | F86: =F33 -> 0 | G86: =G33 -> 0 | H86: =ROUNDUP((F86*$E$69%)/168*G86,2) -> 0
F87: =F34 -> 0 | G87: =G34 -> 0 | H87: =ROUNDUP((F87*$E$69%)/168*G87,2) -> 0
C88: =C35 -> 0 | F88: =F35 -> 0 | G88: =G35 -> 0 | H88: =ROUNDUP((F88*$E$69%)/168*G88,2) -> 0
A89: 1148 | B89: Prēmijas un naudas balvas | C89: Ieņemamais amats | E89: Piemaksa % | F89: Mēnešalga | G89: Patērētais laiks (h) | H89: =SUM(H90:H109) -> 0
C90: =C15 -> 0 | E90: 10 | F90: =F15 -> 0 | G90: =G15 -> 0 | H90: =ROUNDUP((F90*$E$90%)/168*$G$90,2) -> 0
C91: =C16 -> 0 | F91: =F16 -> 0 | G91: =G16 -> 0 | H91: =ROUNDUP((F91*$E$90%)/168*$G$90,2) -> 0
C92: =C17 -> 0 | F92: =F17 -> 0 | G92: =G17 -> 0 | H92: =ROUNDUP((F92*$E$90%)/168*$G$90,2) -> 0
C93: =C18 -> 0 | F93: =F18 -> 0 | G93: =G18 -> 0 | H93: =ROUNDUP((F93*$E$90%)/168*$G$90,2) -> 0
C94: =C19 -> 0 | F94: =F19 -> 0 | G94: =G19 -> 0 | H94: =ROUNDUP((F94*$E$90%)/168*$G$90,2) -> 0
C95: =C20 -> 0 | F95: =F20 -> 0 | G95: =G20 -> 0 | H95: =ROUNDUP((F95*$E$90%)/168*$G$90,2) -> 0
C96: =C21 -> 0 | F96: =F21 -> 0 | G96: =G21 -> 0 | H96: =ROUNDUP((F96*$E$90%)/168*$G$90,2) -> 0
C97: =C22 -> 0 | F97: =F22 -> 0 | G97: =G22 -> 0 | H97: =ROUNDUP((F97*$E$90%)/168*$G$90,2) -> 0
C98: =C23 -> 0 | F98: =F23 -> 0 | G98: =G23 -> 0 | H98: =ROUNDUP((F98*$E$90%)/168*$G$90,2) -> 0
C99: =C24 -> 0 | F99: =F24 -> 0 | G99: =G24 -> 0 | H99: =ROUNDUP((F99*$E$90%)/168*$G$90,2) -> 0
C100: =C26 -> Vecākais speciālists Izglītības koordinācijas nodaļā | F100: =F26 -> 1287 | H100: =ROUNDUP((F100*$E$90%)/168*$G$100,2) -> 0
C101: =C27 -> Vecākais speciālists Personāla vadības nodaļā | F101: =F27 -> 1287 | H101: =ROUNDUP((F101*$E$90%)/168*$G$101,2) -> 0
C102: =C28 -> 0 | F102: =F28 -> 0 | G102: =G28 -> 0 | H102: =ROUNDUP((F102*$E$90%)/168*$G$102,2) -> 0
C103: =C29 -> 0 | F103: =F29 -> 0 | G103: =G29 -> 0 | H103: =ROUNDUP((F103*$E$90%)/168*$G$90,2) -> 0
C104: =C30 -> 0 | F104: =F30 -> 0 | G104: =G30 -> 0 | H104: =ROUNDUP((F104*$E$90%)/168*$G$90,2) -> 0
C105: =C31 -> 0 | F105: =F31 -> 0 | G105: =G31 -> 0 | H105: =ROUNDUP((F105*$E$90%)/168*$G$90,2) -> 0
...

Sheet 4.1
A1: Maksas pakalpojumu izcenojuma aprēķins
A3: 4. Izziņas izsniegšana
A4: 4.1. Akadēmiskās izziņas izsniegšana
A5: Maksas pakalpojuma mērvienība – viena izziņa
A9: EKK kods | B9: Rādītājs (materiāla/izejvielas nosaukums, atlīdzība un citi izmaksu veidi) | C9: Izmaksu apjoms gadā viena makasa pakalpojuma veida nodrošināšanai | I9: Piezīmes, komentāri
A10: 1 | B10: 2 | C10: 3
A11: Tiešās izmaksas
A12: 1000 | B12: Atlīdzība | H12: =SUM(H13,H110) -> 15.31
A13: 1100 | B13: Atalgojums | H13: =SUM(H14,H25,H36,H47,H68,H89) -> 11.9
A14: 1116 | B14: Mēnešalga amatpersonām ar speciālajām dienesta pakāpēm | C14: Ieņemamais amats | E14: M.a. grupa | F14: Mēnešalga | G14: Patērētais laiks (h) | H14: =SUM(H15:H24) -> 0.38
H15: =ROUNDUP((F15/168*G15),2) -> 0
C16: VP koledžas direktors | E16: 16 | F16: 3125 | G16: 0.02 | H16: =ROUNDUP((F16/168*G16),2) -> 0.38
H17: =ROUNDUP((F17/168*G17),2) -> 0
H18: =ROUNDUP((F18/168*G18),2) -> 0
H19: =ROUNDUP((F19/168*G19),2) -> 0
H20: =ROUNDUP((F20/168*G20),2) -> 0
H21: =ROUNDUP((F21/168*G21),2) -> 0
H22: =ROUNDUP((F22/168*G22),2) -> 0
H23: =ROUNDUP((F23/168*G23),2) -> 0
H24: =ROUNDUP((F24/168*G24),2) -> 0
A25: 1119 | B25: Pārējo darbinieku mēnešalga (darba alga) | C25: Ieņemamais amats | E25: M.a. grupa | F25: Mēnešalga | G25: Patērētais laiks (h) | H25: =SUM(H26:H35) -> 11.5
C26: Vecākais speciālists Izglītības koordinācijas nodaļā | E26: 10 | F26: 1287 | G26: 1.5 | H26: =ROUNDUP((F26/168*G26),2) -> 11.5
H27: =ROUNDUP((F27/168*G27),2) -> 0
H28: =ROUNDUP((F28/168*G28),2) -> 0
H29: =ROUNDUP((F29/168*G29),2) -> 0
H30: =ROUNDUP((F30/168*G30),2) -> 0
H31: =ROUNDUP((F31/168*G31),2) -> 0
H32: =ROUNDUP((F32/168*G32),2) -> 0
H33: =ROUNDUP((F33/168*G33),2) -> 0
H34: =ROUNDUP((F34/168*G34),2) -> 0
H35: =ROUNDUP((F35/168*G35),2) -> 0
A36: 1143 | B36: Piemaksa par speciālo dienesta pakāpi un diplomātisko rangu | C36: Speciālā dienesta pakāpe | F36: Piemaksa mēnesī | G36: Patērētais laiks (h) | H36: =SUM(H37:H46) -> 0.02
G37: =G15 -> 0 | H37: =ROUNDUP((F37/168*G37),2) -> 0
C38: Pulkvedis | F38: 135 | G38: =G16 -> 0.02 | H38: =ROUNDUP((F38/168*G38),2) -> 0.02
G39: =G17 -> 0 | H39: =ROUNDUP((F39/168*G39),2) -> 0
G40: =G18 -> 0 | H40: =ROUNDUP((F40/168*G40),2) -> 0
G41: =G19 -> 0 | H41: =ROUNDUP((F41/168*G41),2) -> 0
G42: =G20 -> 0 | H42: =ROUNDUP((F42/168*G42),2) -> 0
G43: =G21 -> 0 | H43: =ROUNDUP((F43/168*G43),2) -> 0
G44: =G22 -> 0 | H44: =ROUNDUP((F44/168*G44),2) -> 0
G45: =G23 -> 0 | H45: =ROUNDUP((F45/168*G45),2) -> 0
G46: =G24 -> 0 | H46: =ROUNDUP((F46/168*G46),2) -> 0
A47: 1146 | B47: Piemaksa par personisko darba ieguldījumu un darba kvalitāti | C47: Ieņemamais amats | E47: Piemaksa % | F47: Mēnešalga | G47: Patērētais laiks (h) | H47: =SUM(H48:H67) -> 0
C48: =C15 -> 0 | E48: 5 | F48: =F15 -> 0 | G48: =G15 -> 0 | H48: =ROUNDUP((F48*$E$48%)/168*G48,2) -> 0
C49: =C16 -> VP koledžas direktors | F49: =F16 -> 3125 | H49: =ROUNDUP((F49*$E$48%)/168*G49,2) -> 0
C50: =C17 -> 0 | F50: =F17 -> 0 | H50: =ROUNDUP((F50*$E$48%)/168*G50,2) -> 0
C51: =C18 -> 0 | F51: =F18 -> 0 | H51: =ROUNDUP((F51*$E$48%)/168*G51,2) -> 0
C52: =C19 -> 0 | F52: =F19 -> 0 | H52: =ROUNDUP((F52*$E$48%)/168*G52,2) -> 0
C53: =C20 -> 0 | F53: =F20 -> 0 | H53: =ROUNDUP((F53*$E$48%)/168*G53,2) -> 0
C54: =C21 -> 0 | F54: =F21 -> 0 | H54: =ROUNDUP((F54*$E$48%)/168*G54,2) -> 0
C55: =C22 -> 0 | F55: =F22 -> 0 | H55: =ROUNDUP((F55*$E$48%)/168*G55,2) -> 0
C56: =C23 -> 0 | F56: =F23 -> 0 | H56: =ROUNDUP((F56*$E$48%)/168*G56,2) -> 0
C57: =C24 -> 0 | F57: =F24 -> 0 | H57: =ROUNDUP((F57*$E$48%)/168*G57,2) -> 0
C58: =C26 -> Vecākais speciālists Izglītības koordinācijas nodaļā | F58: =F26 -> 1287 | H58: =ROUNDUP((F58*$E$48%)/168*G58,2) -> 0
C59: =C27 -> 0 | F59: =F27 -> 0 | G59: =G27 -> 0 | H59: =ROUNDUP((F59*$E$48%)/168*G59,2) -> 0
C60: =C28 -> 0 | F60: =F28 -> 0 | G60: =G28 -> 0 | H60: =ROUNDUP((F60*$E$48%)/168*G60,2) -> 0
C61: =C29 -> 0 | F61: =F29 -> 0 | G61: =G29 -> 0 | H61: =ROUNDUP((F61*$E$48%)/168*G61,2) -> 0
C62: =C30 -> 0 | F62: =F30 -> 0 | G62: =G30 -> 0 | H62: =ROUNDUP((F62*$E$48%)/168*G62,2) -> 0
C63: =C31 -> 0 | F63: =F31 -> 0 | G63: =G31 -> 0 | H63: =ROUNDUP((F63*$E$48%)/168*G63,2) -> 0
C64: =C32 -> 0 | F64: =F32 -> 0 | G64: =G32 -> 0 | H64: =ROUNDUP((F64*$E$48%)/168*G64,2) -> 0
C65: =C33 -> 0 | F65: =F33 -> 0 | G65: =G33 -> 0 | H65: =ROUNDUP((F65*$E$48%)/168*G65,2) -> 0
C66: =C34 -> 0 | F66: =F34 -> 0 | G66: =G34 -> 0 | H66: =ROUNDUP((F66*$E$48%)/168*G66,2) -> 0
C67: =C35 -> 0 | F67: =F35 -> 0 | G67: =G35 -> 0 | H67: =ROUNDUP((F67*$E$48%)/168*G67,2) -> 0
A68: 1147 | B68: Piemaksa par papildu darbu | C68: Ieņemamais amats | E68: Piemaksa % | F68: Mēnešalga | G68: Patērētais laiks (h) | H68: =SUM(H69:H88) -> 0
C69: =C15 -> 0 | E69: 5 | F69: =F15 -> 0 | G69: =G15 -> 0 | H69: =ROUNDUP((F69*$E$69%)/168*G69,2) -> 0
C70: =C16 -> VP koledžas direktors | F70: =F16 -> 3125 | H70: =ROUNDUP((F70*$E$69%)/168*G70,2) -> 0
C71: =C17 -> 0 | F71: =F17 -> 0 | H71: =ROUNDUP((F71*$E$69%)/168*G71,2) -> 0
C72: =C18 -> 0 | F72: =F18 -> 0 | H72: =ROUNDUP((F72*$E$69%)/168*G72,2) -> 0
C73: =C19 -> 0 | F73: =F19 -> 0 | H73: =ROUNDUP((F73*$E$69%)/168*G73,2) -> 0
C74: =C20 -> 0 | F74: =F20 -> 0 | H74: =ROUNDUP((F74*$E$69%)/168*G74,2) -> 0
C75: =C21 -> 0 | F75: =F21 -> 0 | H75: =ROUNDUP((F75*$E$69%)/168*G75,2) -> 0
C76: =C22 -> 0 | F76: =F22 -> 0 | H76: =ROUNDUP((F76*$E$69%)/168*G76,2) -> 0
C77: =C23 -> 0 | F77: =F23 -> 0 | H77: =ROUNDUP((F77*$E$69%)/168*G77,2) -> 0
C78: =C24 -> 0 | F78: =F24 -> 0 | H78: =ROUNDUP((F78*$E$69%)/168*G78,2) -> 0
C79: =C26 -> Vecākais speciālists Izglītības koordinācijas nodaļā | F79: =F26 -> 1287 | H79: =ROUNDUP((F79*$E$69%)/168*G79,2) -> 0
C80: =C27 -> 0 | F80: =F27 -> 0 | G80: =G27 -> 0 | H80: =ROUNDUP((F80*$E$69%)/168*G80,2) -> 0
C81: =C27 -> 0 | F81: =F28 -> 0 | G81: =G28 -> 0 | H81: =ROUNDUP((F81*$E$69%)/168*G81,2) -> 0
C82: =C30 -> 0 | F82: =F29 -> 0 | G82: =G29 -> 0 | H82: =ROUNDUP((F82*$E$69%)/168*G82,2) -> 0
C83: =C31 -> 0 | F83: =F30 -> 0 | G83: =G30 -> 0 | H83: =ROUNDUP((F83*$E$69%)/168*G83,2) -> 0
C84: =C32 -> 0 | F84: =F31 -> 0 | G84: =G31 -> 0 | H84: =ROUNDUP((F84*$E$69%)/168*G84,2) -> 0
C85: =C33 -> 0 | F85: =F32 -> 0 | G85: =G32 -> 0 | H85: =ROUNDUP((F85*$E$69%)/168*G85,2) -> 0
C86: =C34 -> 0 | F86: =F33 -> 0 | G86: =G33 -> 0 | H86: =ROUNDUP((F86*$E$69%)/168*G86,2) -> 0
F87: =F34 -> 0 | G87: =G34 -> 0 | H87: =ROUNDUP((F87*$E$69%)/168*G87,2) -> 0
C88: =C35 -> 0 | F88: =F35 -> 0 | G88: =G35 -> 0 | H88: =ROUNDUP((F88*$E$69%)/168*G88,2) -> 0
A89: 1148 | B89: Prēmijas un naudas balvas | C89: Ieņemamais amats | E89: Piemaksa % | F89: Mēnešalga | G89: Patērētais laiks (h) | H89: =SUM(H90:H109) -> 0
C90: =C15 -> 0 | E90: 10 | F90: =F15 -> 0 | G90: =G15 -> 0 | H90: =ROUNDUP((F90*$E$90%)/168*$G$90,2) -> 0
C91: =C16 -> VP koledžas direktors | F91: =F16 -> 3125 | H91: =ROUNDUP((F91*$E$90%)/168*$G$91,2) -> 0
C92: =C17 -> 0 | F92: =F17 -> 0 | H92: =ROUNDUP((F92*$E$90%)/168*$G$90,2) -> 0
C93: =C18 -> 0 | F93: =F18 -> 0 | H93: =ROUNDUP((F93*$E$90%)/168*$G$90,2) -> 0
C94: =C19 -> 0 | F94: =F19 -> 0 | H94: =ROUNDUP((F94*$E$90%)/168*$G$90,2) -> 0
C95: =C20 -> 0 | F95: =F20 -> 0 | H95: =ROUNDUP((F95*$E$90%)/168*$G$90,2) -> 0
C96: =C21 -> 0 | F96: =F21 -> 0 | H96: =ROUNDUP((F96*$E$90%)/168*$G$90,2) -> 0
C97: =C22 -> 0 | F97: =F22 -> 0 | H97: =ROUNDUP((F97*$E$90%)/168*$G$90,2) -> 0
C98: =C23 -> 0 | F98: =F23 -> 0 | H98: =ROUNDUP((F98*$E$90%)/168*$G$90,2) -> 0
C99: =C24 -> 0 | F99: =F24 -> 0 | H99: =ROUNDUP((F99*$E$90%)/168*$G$90,2) -> 0
C100: =C26 -> Vecākais speciālists Izglītības koordinācijas nodaļā | F100: =F26 -> 1287 | H100: =ROUNDUP((F100*$E$90%)/168*$G$100,2) -> 0
C101: =C27 -> 0 | F101: =F27 -> 0 | G101: =G27 -> 0 | H101: =ROUNDUP((F101*$E$90%)/168*$G$90,2) -> 0
C102: =C28 -> 0 | F102: =F28 -> 0 | G102: =G28 -> 0 | H102: =ROUNDUP((F102*$E$90%)/168*$G$90,2) -> 0
C103: =C29 -> 0 | F103: =F29 -> 0 | G103: =G29 -> 0 | H103: =ROUNDUP((F103*$E$90%)/168*$G$90,2) -> 0
C104: =C30 -> 0 | F104: =F30 -> 0 | G104: =G30 -> 0 | H104: =ROUNDUP((F104*$E$90%)/168*$G$90,2) -> 0
...

Sheet 4.2
A1: Maksas pakalpojumu izcenojuma aprēķins
A3: 4. Izziņas izsniegšana
A4: 4.2. Sekmju izziņas par profesionālās izglītības daļēju apguvi izsniegšana
A5: Maksas pakalpojuma mērvienība – viena izziņa
A9: EKK kods | B9: Rādītājs (materiāla/izejvielas nosaukums, atlīdzība un citi izmaksu veidi) | C9: Izmaksu apjoms gadā viena makasa pakalpojuma veida nodrošināšanai | I9: Piezīmes, komentāri
A10: 1 | B10: 2 | C10: 3
A11: Tiešās izmaksas
A12: 1000 | B12: Atlīdzība | H12: =SUM(H13,H110) -> 20.24
A13: 1100 | B13: Atalgojums | H13: =SUM(H14,H25,H36,H47,H68,H89) -> 15.73
A14: 1116 | B14: Mēnešalga amatpersonām ar speciālajām dienesta pakāpēm | C14: Ieņemamais amats | E14: M.a. grupa | F14: Mēnešalga | G14: Patērētais laiks (h) | H14: =SUM(H15:H24) -> 0.38
H15: =ROUNDUP((F15/168*G15),2) -> 0
C16: VP koledžas direktors | E16: 16 | F16: 3125 | G16: 0.02 | H16: =ROUNDUP((F16/168*G16),2) -> 0.38
H17: =ROUNDUP((F17/168*G17),2) -> 0
H18: =ROUNDUP((F18/168*G18),2) -> 0
H19: =ROUNDUP((F19/168*G19),2) -> 0
H20: =ROUNDUP((F20/168*G20),2) -> 0
H21: =ROUNDUP((F21/168*G21),2) -> 0
H22: =ROUNDUP((F22/168*G22),2) -> 0
H23: =ROUNDUP((F23/168*G23),2) -> 0
H24: =ROUNDUP((F24/168*G24),2) -> 0
A25: 1119 | B25: Pārējo darbinieku mēnešalga (darba alga) | C25: Ieņemamais amats | E25: M.a. grupa | F25: Mēnešalga | G25: Patērētais laiks (h) | H25: =SUM(H26:H35) -> 15.33
C26: Vecākais speciālists Izglītības koordinācijas nodaļā | E26: 10 | F26: 1287 | G26: 2 | H26: =ROUNDUP((F26/168*G26),2) -> 15.33
H27: =ROUNDUP((F27/168*G27),2) -> 0
H28: =ROUNDUP((F28/168*G28),2) -> 0
H29: =ROUNDUP((F29/168*G29),2) -> 0
H30: =ROUNDUP((F30/168*G30),2) -> 0
H31: =ROUNDUP((F31/168*G31),2) -> 0
H32: =ROUNDUP((F32/168*G32),2) -> 0
H33: =ROUNDUP((F33/168*G33),2) -> 0
H34: =ROUNDUP((F34/168*G34),2) -> 0
H35: =ROUNDUP((F35/168*G35),2) -> 0
A36: 1143 | B36: Piemaksa par speciālo dienesta pakāpi un diplomātisko rangu | C36: Speciālā dienesta pakāpe | F36: Piemaksa mēnesī | G36: Patērētais laiks (h) | H36: =SUM(H37:H46) -> 0.02
G37: =G15 -> 0 | H37: =ROUNDUP((F37/168*G37),2) -> 0
C38: Pulkvedis | F38: 135 | G38: =G16 -> 0.02 | H38: =ROUNDUP((F38/168*G38),2) -> 0.02
G39: =G17 -> 0 | H39: =ROUNDUP((F39/168*G39),2) -> 0
G40: =G18 -> 0 | H40: =ROUNDUP((F40/168*G40),2) -> 0
G41: =G19 -> 0 | H41: =ROUNDUP((F41/168*G41),2) -> 0
G42: =G20 -> 0 | H42: =ROUNDUP((F42/168*G42),2) -> 0
G43: =G21 -> 0 | H43: =ROUNDUP((F43/168*G43),2) -> 0
G44: =G22 -> 0 | H44: =ROUNDUP((F44/168*G44),2) -> 0
G45: =G23 -> 0 | H45: =ROUNDUP((F45/168*G45),2) -> 0
G46: =G24 -> 0 | H46: =ROUNDUP((F46/168*G46),2) -> 0
A47: 1146 | B47: Piemaksa par personisko darba ieguldījumu un darba kvalitāti | C47: Ieņemamais amats | E47: Piemaksa % | F47: Mēnešalga | G47: Patērētais laiks (h) | H47: =SUM(H48:H67) -> 0
C48: =C15 -> 0 | E48: 5 | F48: =F15 -> 0 | G48: =G15 -> 0 | H48: =ROUNDUP((F48*$E$48%)/168*G48,2) -> 0
C49: =C16 -> VP koledžas direktors | F49: =F16 -> 3125 | H49: =ROUNDUP((F49*$E$48%)/168*G49,2) -> 0
C50: =C17 -> 0 | F50: =F17 -> 0 | H50: =ROUNDUP((F50*$E$48%)/168*G50,2) -> 0
C51: =C18 -> 0 | F51: =F18 -> 0 | H51: =ROUNDUP((F51*$E$48%)/168*G51,2) -> 0
C52: =C19 -> 0 | F52: =F19 -> 0 | H52: =ROUNDUP((F52*$E$48%)/168*G52,2) -> 0
C53: =C20 -> 0 | F53: =F20 -> 0 | H53: =ROUNDUP((F53*$E$48%)/168*G53,2) -> 0
C54: =C21 -> 0 | F54: =F21 -> 0 | H54: =ROUNDUP((F54*$E$48%)/168*G54,2) -> 0
C55: =C22 -> 0 | F55: =F22 -> 0 | H55: =ROUNDUP((F55*$E$48%)/168*G55,2) -> 0
C56: =C23 -> 0 | F56: =F23 -> 0 | H56: =ROUNDUP((F56*$E$48%)/168*G56,2) -> 0
C57: =C24 -> 0 | F57: =F24 -> 0 | H57: =ROUNDUP((F57*$E$48%)/168*G57,2) -> 0
C58: =C26 -> Vecākais speciālists Izglītības koordinācijas nodaļā | F58: =F26 -> 1287 | H58: =ROUNDUP((F58*$E$48%)/168*G58,2) -> 0
C59: =C27 -> 0 | F59: =F27 -> 0 | G59: =G27 -> 0 | H59: =ROUNDUP((F59*$E$48%)/168*G59,2) -> 0
C60: =C28 -> 0 | F60: =F28 -> 0 | G60: =G28 -> 0 | H60: =ROUNDUP((F60*$E$48%)/168*G60,2) -> 0
C61: =C29 -> 0 | F61: =F29 -> 0 | G61: =G29 -> 0 | H61: =ROUNDUP((F61*$E$48%)/168*G61,2) -> 0
C62: =C30 -> 0 | F62: =F30 -> 0 | G62: =G30 -> 0 | H62: =ROUNDUP((F62*$E$48%)/168*G62,2) -> 0
C63: =C31 -> 0 | F63: =F31 -> 0 | G63: =G31 -> 0 | H63: =ROUNDUP((F63*$E$48%)/168*G63,2) -> 0
C64: =C32 -> 0 | F64: =F32 -> 0 | G64: =G32 -> 0 | H64: =ROUNDUP((F64*$E$48%)/168*G64,2) -> 0
C65: =C33 -> 0 | F65: =F33 -> 0 | G65: =G33 -> 0 | H65: =ROUNDUP((F65*$E$48%)/168*G65,2) -> 0
C66: =C34 -> 0 | F66: =F34 -> 0 | G66: =G34 -> 0 | H66: =ROUNDUP((F66*$E$48%)/168*G66,2) -> 0
C67: =C35 -> 0 | F67: =F35 -> 0 | G67: =G35 -> 0 | H67: =ROUNDUP((F67*$E$48%)/168*G67,2) -> 0
A68: 1147 | B68: Piemaksa par papildu darbu | C68: Ieņemamais amats | E68: Piemaksa % | F68: Mēnešalga | G68: Patērētais laiks (h) | H68: =SUM(H69:H88) -> 0
C69: =C15 -> 0 | E69: 5 | F69: =F15 -> 0 | G69: =G15 -> 0 | H69: =ROUNDUP((F69*$E$69%)/168*G69,2) -> 0
C70: =C16 -> VP koledžas direktors | F70: =F16 -> 3125 | H70: =ROUNDUP((F70*$E$69%)/168*G70,2) -> 0
C71: =C17 -> 0 | F71: =F17 -> 0 | H71: =ROUNDUP((F71*$E$69%)/168*G71,2) -> 0
C72: =C18 -> 0 | F72: =F18 -> 0 | H72: =ROUNDUP((F72*$E$69%)/168*G72,2) -> 0
C73: =C19 -> 0 | F73: =F19 -> 0 | H73: =ROUNDUP((F73*$E$69%)/168*G73,2) -> 0
C74: =C20 -> 0 | F74: =F20 -> 0 | H74: =ROUNDUP((F74*$E$69%)/168*G74,2) -> 0
C75: =C21 -> 0 | F75: =F21 -> 0 | H75: =ROUNDUP((F75*$E$69%)/168*G75,2) -> 0
C76: =C22 -> 0 | F76: =F22 -> 0 | H76: =ROUNDUP((F76*$E$69%)/168*G76,2) -> 0
C77: =C23 -> 0 | F77: =F23 -> 0 | H77: =ROUNDUP((F77*$E$69%)/168*G77,2) -> 0
C78: =C24 -> 0 | F78: =F24 -> 0 | H78: =ROUNDUP((F78*$E$69%)/168*G78,2) -> 0
C79: =C26 -> Vecākais speciālists Izglītības koordinācijas nodaļā | F79: =F26 -> 1287 | H79: =ROUNDUP((F79*$E$69%)/168*G79,2) -> 0
C80: =C27 -> 0 | F80: =F27 -> 0 | G80: =G27 -> 0 | H80: =ROUNDUP((F80*$E$69%)/168*G80,2) -> 0
C81: =C27 -> 0 | F81: =F28 -> 0 | G81: =G28 -> 0 | H81: =ROUNDUP((F81*$E$69%)/168*G81,2) -> 0
C82: =C30 -> 0 | F82: =F29 -> 0 | G82: =G29 -> 0 | H82: =ROUNDUP((F82*$E$69%)/168*G82,2) -> 0
C83: =C31 -> 0 | F83: =F30 -> 0 | G83: =G30 -> 0 | H83: =ROUNDUP((F83*$E$69%)/168*G83,2) -> 0
C84: =C32 -> 0 | F84: =F31 -> 0 | G84: =G31 -> 0 | H84: =ROUNDUP((F84*$E$69%)/168*G84,2) -> 0
C85: =C33 -> 0 | F85: =F32 -> 0 | G85: =G32 -> 0 | H85: =ROUNDUP((F85*$E$69%)/168*G85,2) -> 0
C86: =C34 -> 0 | F86: =F33 -> 0 | G86: =G33 -> 0 | H86: =ROUNDUP((F86*$E$69%)/168*G86,2) -> 0
F87: =F34 -> 0 | G87: =G34 -> 0 | H87: =ROUNDUP((F87*$E$69%)/168*G87,2) -> 0
C88: =C35 -> 0 | F88: =F35 -> 0 | G88: =G35 -> 0 | H88: =ROUNDUP((F88*$E$69%)/168*G88,2) -> 0
A89: 1148 | B89: Prēmijas un naudas balvas | C89: Ieņemamais amats | E89: Piemaksa % | F89: Mēnešalga | G89: Patērētais laiks (h) | H89: =SUM(H90:H109) -> 0
C90: =C15 -> 0 | E90: 10 | F90: =F15 -> 0 | G90: =G15 -> 0 | H90: =ROUNDUP((F90*$E$90%)/168*$G$90,2) -> 0
C91: =C16 -> VP koledžas direktors | F91: =F16 -> 3125 | H91: =ROUNDUP((F91*$E$90%)/168*$G$91,2) -> 0
C92: =C17 -> 0 | F92: =F17 -> 0 | H92: =ROUNDUP((F92*$E$90%)/168*$G$90,2) -> 0
C93: =C18 -> 0 | F93: =F18 -> 0 | H93: =ROUNDUP((F93*$E$90%)/168*$G$90,2) -> 0
C94: =C19 -> 0 | F94: =F19 -> 0 | H94: =ROUNDUP((F94*$E$90%)/168*$G$90,2) -> 0
C95: =C20 -> 0 | F95: =F20 -> 0 | H95: =ROUNDUP((F95*$E$90%)/168*$G$90,2) -> 0
C96: =C21 -> 0 | F96: =F21 -> 0 | H96: =ROUNDUP((F96*$E$90%)/168*$G$90,2) -> 0
C97: =C22 -> 0 | F97: =F22 -> 0 | H97: =ROUNDUP((F97*$E$90%)/168*$G$90,2) -> 0
C98: =C23 -> 0 | F98: =F23 -> 0 | H98: =ROUNDUP((F98*$E$90%)/168*$G$90,2) -> 0
C99: =C24 -> 0 | F99: =F24 -> 0 | H99: =ROUNDUP((F99*$E$90%)/168*$G$90,2) -> 0
C100: =C26 -> Vecākais speciālists Izglītības koordinācijas nodaļā | F100: =F26 -> 1287 | H100: =ROUNDUP((F100*$E$90%)/168*$G$100,2) -> 0
C101: =C27 -> 0 | F101: =F27 -> 0 | G101: =G27 -> 0 | H101: =ROUNDUP((F101*$E$90%)/168*$G$90,2) -> 0
C102: =C28 -> 0 | F102: =F28 -> 0 | G102: =G28 -> 0 | H102: =ROUNDUP((F102*$E$90%)/168*$G$90,2) -> 0
C103: =C29 -> 0 | F103: =F29 -> 0 | G103: =G29 -> 0 | H103: =ROUNDUP((F103*$E$90%)/168*$G$90,2) -> 0
C104: =C30 -> 0 | F104: =F30 -> 0 | G104: =G30 -> 0 | H104: =ROUNDUP((F104*$E$90%)/168*$G$90,2) -> 0
...

Sheet 5.
A1: Maksas pakalpojumu izcenojuma aprēķins
A3: 5. Kopēšanas un printēšanas pakalpojumi (A4 formāts)
A5: Maksas pakalpojuma mērvienība – viena lappuse (1 h 1000 lpp)
A9: EKK kods | B9: Rādītājs (materiāla/izejvielas nosaukums, atlīdzība un citi izmaksu veidi) | C9: Izmaksu apjoms gadā viena makasa pakalpojuma veida nodrošināšanai | I9: Piezīmes, komentāri
A10: 1 | B10: 2 | C10: 3
A11: Tiešās izmaksas
A12: 1000 | B12: Atlīdzība | H12: =SUM(H13,H110) -> 8.38
A13: 1100 | B13: Atalgojums | H13: =SUM(H14,H25,H36,H47,H68,H89) -> 6.51
A14: 1116 | B14: Mēnešalga amatpersonām ar speciālajām dienesta pakāpēm | C14: Ieņememais amats | E14: M.a. grupa | F14: Mēnešalga | G14: Patērētais laiks (h) | H14: =SUM(H15:H24) -> 0
H15: =ROUNDUP((F15/168*G15),2) -> 0
H16: =ROUNDUP((F16/168*G16),2) -> 0
H17: =ROUNDUP((F17/168*G17),2) -> 0
H18: =ROUNDUP((F18/168*G18),2) -> 0
H19: =ROUNDUP((F19/168*G19),2) -> 0
H20: =ROUNDUP((F20/168*G20),2) -> 0
H21: =ROUNDUP((F21/168*G21),2) -> 0
H22: =ROUNDUP((F22/168*G22),2) -> 0
H23: =ROUNDUP((F23/168*G23),2) -> 0
H24: =ROUNDUP((F24/168*G24),2) -> 0
A25: 1119 | B25: Pārējo darbinieku mēnešalga (darba alga) | C25: Ieņemamais amats | E25: M.a. grupa | F25: Mēnešalga | G25: Patērētais laiks (h) | H25: =SUM(H26:H35) -> 6.51
C26: Bibliotekārs | E26: 8 | F26: 1093 | G26: 1 | H26: =ROUNDUP((F26/168*G26),2) -> 6.51
H27: =ROUNDUP((F27/168*G27),2) -> 0
H28: =ROUNDUP((F28/168*G28),2) -> 0
H29: =ROUNDUP((F29/168*G29),2) -> 0
H30: =ROUNDUP((F30/168*G30),2) -> 0
H31: =ROUNDUP((F31/168*G31),2) -> 0
H32: =ROUNDUP((F32/168*G32),2) -> 0
H33: =ROUNDUP((F33/168*G33),2) -> 0
H34: =ROUNDUP((F34/168*G34),2) -> 0
H35: =ROUNDUP((F35/168*G35),2) -> 0
A36: 1143 | B36: Piemaksa par speciālo dienesta pakāpi un diplomātisko rangu | C36: Speciālā dienesta pakāpe | F36: Piemaksa mēnesī | G36: Patērētais laiks (h) | H36: =SUM(H37:H46) -> 0
G37: =G15 -> 0 | H37: =ROUNDUP((F37/168*G37),2) -> 0
G38: =G16 -> 0 | H38: =ROUNDUP((F38/168*G38),2) -> 0
G39: =G17 -> 0 | H39: =ROUNDUP((F39/168*G39),2) -> 0
G40: =G18 -> 0 | H40: =ROUNDUP((F40/168*G40),2) -> 0
G41: =G19 -> 0 | H41: =ROUNDUP((F41/168*G41),2) -> 0
G42: =G20 -> 0 | H42: =ROUNDUP((F42/168*G42),2) -> 0
G43: =G21 -> 0 | H43: =ROUNDUP((F43/168*G43),2) -> 0
G44: =G22 -> 0 | H44: =ROUNDUP((F44/168*G44),2) -> 0
G45: =G23 -> 0 | H45: =ROUNDUP((F45/168*G45),2) -> 0
G46: =G24 -> 0 | H46: =ROUNDUP((F46/168*G46),2) -> 0
A47: 1146 | B47: Piemaksa par personisko darba ieguldījumu un darba kvalitāti | C47: Ieņemamais amats | E47: Piemaksa % | F47: Mēnešalga | G47: Patērētais laiks (h) | H47: =SUM(H48:H67) -> 0
C48: =C15 -> 0 | E48: 5 | F48: =F15 -> 0 | G48: =G15 -> 0 | H48: =ROUNDUP((F48*$E$48%)/168*G48,2) -> 0
C49: =C16 -> 0 | F49: =F16 -> 0 | G49: =G16 -> 0 | H49: =ROUNDUP((F49*$E$48%)/168*G49,2) -> 0
C50: =C17 -> 0 | F50: =F17 -> 0 | G50: =G17 -> 0 | H50: =ROUNDUP((F50*$E$48%)/168*G50,2) -> 0
C51: =C18 -> 0 | F51: =F18 -> 0 | G51: =G18 -> 0 | H51: =ROUNDUP((F51*$E$48%)/168*G51,2) -> 0
C52: =C19 -> 0 | F52: =F19 -> 0 | G52: =G19 -> 0 | H52: =ROUNDUP((F52*$E$48%)/168*G52,2) -> 0
C53: =C20 -> 0 | F53: =F20 -> 0 | G53: =G20 -> 0 | H53: =ROUNDUP((F53*$E$48%)/168*G53,2) -> 0
C54: =C21 -> 0 | F54: =F21 -> 0 | G54: =G21 -> 0 | H54: =ROUNDUP((F54*$E$48%)/168*G54,2) -> 0
C55: =C22 -> 0 | F55: =F22 -> 0 | G55: =G22 -> 0 | H55: =ROUNDUP((F55*$E$48%)/168*G55,2) -> 0
C56: =C23 -> 0 | F56: =F23 -> 0 | G56: =G23 -> 0 | H56: =ROUNDUP((F56*$E$48%)/168*G56,2) -> 0
C57: =C24 -> 0 | F57: =F24 -> 0 | G57: =G24 -> 0 | H57: =ROUNDUP((F57*$E$48%)/168*G57,2) -> 0
C58: =C26 -> Bibliotekārs | F58: =F26 -> 1093 | H58: =ROUNDUP((F58*$E$48%)/168*G58,2) -> 0
C59: =C27 -> 0 | F59: =F27 -> 0 | G59: =G27 -> 0 | H59: =ROUNDUP((F59*$E$48%)/168*G59,2) -> 0
C60: =C28 -> 0 | F60: =F28 -> 0 | G60: =G28 -> 0 | H60: =ROUNDUP((F60*$E$48%)/168*G60,2) -> 0
C61: =C29 -> 0 | F61: =F29 -> 0 | G61: =G29 -> 0 | H61: =ROUNDUP((F61*$E$48%)/168*G61,2) -> 0
C62: =C30 -> 0 | F62: =F30 -> 0 | G62: =G30 -> 0 | H62: =ROUNDUP((F62*$E$48%)/168*G62,2) -> 0
C63: =C31 -> 0 | F63: =F31 -> 0 | G63: =G31 -> 0 | H63: =ROUNDUP((F63*$E$48%)/168*G63,2) -> 0
C64: =C32 -> 0 | F64: =F32 -> 0 | G64: =G32 -> 0 | H64: =ROUNDUP((F64*$E$48%)/168*G64,2) -> 0
C65: =C33 -> 0 | F65: =F33 -> 0 | G65: =G33 -> 0 | H65: =ROUNDUP((F65*$E$48%)/168*G65,2) -> 0
C66: =C34 -> 0 | F66: =F34 -> 0 | G66: =G34 -> 0 | H66: =ROUNDUP((F66*$E$48%)/168*G66,2) -> 0
C67: =C35 -> 0 | F67: =F35 -> 0 | G67: =G35 -> 0 | H67: =ROUNDUP((F67*$E$48%)/168*G67,2) -> 0
A68: 1147 | B68: Piemaksa par papildu darbu | C68: Ieņemamais amats | E68: Piemaksa % | F68: Mēnešalga | G68: Patērētais laiks (h) | H68: =SUM(H69:H88) -> 0
C69: =C15 -> 0 | E69: 5 | F69: =F15 -> 0 | G69: =G15 -> 0 | H69: =ROUNDUP((F69*$E$69%)/168*G69,2) -> 0
C70: =C16 -> 0 | F70: =F16 -> 0 | G70: =G16 -> 0 | H70: =ROUNDUP((F70*$E$69%)/168*G70,2) -> 0
C71: =C17 -> 0 | F71: =F17 -> 0 | G71: =G17 -> 0 | H71: =ROUNDUP((F71*$E$69%)/168*G71,2) -> 0
C72: =C18 -> 0 | F72: =F18 -> 0 | G72: =G18 -> 0 | H72: =ROUNDUP((F72*$E$69%)/168*G72,2) -> 0
C73: =C19 -> 0 | F73: =F19 -> 0 | G73: =G19 -> 0 | H73: =ROUNDUP((F73*$E$69%)/168*G73,2) -> 0
C74: =C20 -> 0 | F74: =F20 -> 0 | G74: =G20 -> 0 | H74: =ROUNDUP((F74*$E$69%)/168*G74,2) -> 0
C75: =C21 -> 0 | F75: =F21 -> 0 | G75: =G21 -> 0 | H75: =ROUNDUP((F75*$E$69%)/168*G75,2) -> 0
C76: =C22 -> 0 | F76: =F22 -> 0 | G76: =G22 -> 0 | H76: =ROUNDUP((F76*$E$69%)/168*G76,2) -> 0
C77: =C23 -> 0 | F77: =F23 -> 0 | G77: =G23 -> 0 | H77: =ROUNDUP((F77*$E$69%)/168*G77,2) -> 0
C78: =C24 -> 0 | F78: =F24 -> 0 | G78: =G24 -> 0 | H78: =ROUNDUP((F78*$E$69%)/168*G78,2) -> 0
C79: =C26 -> Bibliotekārs | F79: =F26 -> 1093 | H79: =ROUNDUP((F79*$E$69%)/168*G79,2) -> 0
C80: =C27 -> 0 | F80: =F27 -> 0 | G80: =G27 -> 0 | H80: =ROUNDUP((F80*$E$69%)/168*G80,2) -> 0
C81: =C28 -> 0 | F81: =F28 -> 0 | G81: =G28 -> 0 | H81: =ROUNDUP((F81*$E$69%)/168*G81,2) -> 0
C82: =C29 -> 0 | F82: =F29 -> 0 | G82: =G29 -> 0 | H82: =ROUNDUP((F82*$E$69%)/168*G82,2) -> 0
C83: =C31 -> 0 | F83: =F30 -> 0 | G83: =G30 -> 0 | H83: =ROUNDUP((F83*$E$69%)/168*G83,2) -> 0
C84: =C32 -> 0 | F84: =F31 -> 0 | G84: =G31 -> 0 | H84: =ROUNDUP((F84*$E$69%)/168*G84,2) -> 0
C85: =C33 -> 0 | F85: =F32 -> 0 | G85: =G32 -> 0 | H85: =ROUNDUP((F85*$E$69%)/168*G85,2) -> 0
C86: =C34 -> 0 | F86: =F33 -> 0 | G86: =G33 -> 0 | H86: =ROUNDUP((F86*$E$69%)/168*G86,2) -> 0
F87: =F34 -> 0 | G87: =G34 -> 0 | H87: =ROUNDUP((F87*$E$69%)/168*G87,2) -> 0
C88: =C35 -> 0 | F88: =F35 -> 0 | G88: =G35 -> 0 | H88: =ROUNDUP((F88*$E$69%)/168*G88,2) -> 0
A89: 1148 | B89: Prēmijas un naudas balvas | C89: Ieņemamais amats | E89: Piemaksa % | F89: Mēnešalga | G89: Patērētais laiks (h) | H89: =SUM(H90:H109) -> 0
C90: =C15 -> 0 | F90: =F15 -> 0 | G90: =G15 -> 0 | H90: =ROUNDUP((F90*$E$90%)/168*$G$90,2) -> 0
C91: =C16 -> 0 | F91: =F16 -> 0 | G91: =G16 -> 0 | H91: =ROUNDUP((F91*$E$90%)/168*$G$90,2) -> 0
C92: =C17 -> 0 | F92: =F17 -> 0 | G92: =G17 -> 0 | H92: =ROUNDUP((F92*$E$90%)/168*$G$90,2) -> 0
C93: =C18 -> 0 | F93: =F18 -> 0 | G93: =G18 -> 0 | H93: =ROUNDUP((F93*$E$90%)/168*$G$90,2) -> 0
C94: =C19 -> 0 | F94: =F19 -> 0 | G94: =G19 -> 0 | H94: =ROUNDUP((F94*$E$90%)/168*$G$90,2) -> 0
C95: =C20 -> 0 | F95: =F20 -> 0 | G95: =G20 -> 0 | H95: =ROUNDUP((F95*$E$90%)/168*$G$90,2) -> 0
C96: =C21 -> 0 | F96: =F21 -> 0 | G96: =G21 -> 0 | H96: =ROUNDUP((F96*$E$90%)/168*$G$90,2) -> 0
C97: =C22 -> 0 | F97: =F22 -> 0 | G97: =G22 -> 0 | H97: =ROUNDUP((F97*$E$90%)/168*$G$90,2) -> 0
C98: =C23 -> 0 | F98: =F23 -> 0 | G98: =G23 -> 0 | H98: =ROUNDUP((F98*$E$90%)/168*$G$90,2) -> 0
C99: =C24 -> 0 | F99: =F24 -> 0 | G99: =G24 -> 0 | H99: =ROUNDUP((F99*$E$90%)/168*$G$90,2) -> 0
C100: =C26 -> Bibliotekārs | E100: 10 | F100: =F26 -> 1093 | H100: =ROUNDUP((F100*$E$100%)/168*G100,2) -> 0
C101: =C27 -> 0 | F101: =F27 -> 0 | G101: =G27 -> 0 | H101: =ROUNDUP((F101*$E$90%)/168*$G$90,2) -> 0
C102: =C28 -> 0 | F102: =F28 -> 0 | G102: =G28 -> 0 | H102: =ROUNDUP((F102*$E$90%)/168*$G$90,2) -> 0
C103: =C29 -> 0 | F103: =F29 -> 0 | G103: =G29 -> 0 | H103: =ROUNDUP((F103*$E$90%)/168*$G$90,2) -> 0
C104: =C30 -> 0 | F104: =F30 -> 0 | G104: =G30 -> 0 | H104: =ROUNDUP((F104*$E$90%)/168*$G$90,2) -> 0
C105: =C31 -> 0 | F105: =F31 -> 0 | G105: =G31 -> 0 | H105: =ROUNDUP((F105*$E$90%)/168*$G$90,2) -> 0
...

Sheet 6.1.
A1: Maksas pakalpojumu izcenojuma aprēķins
A3: 6. Profesionālās pilnveides un pieaugušo neformālās izglītības pakalpojumu sniegšana fiziskām un juridiskām personām:
A4: 6.1. profesionālās pilnveides un pieaugušo neformālās izglītības programmu nodarbību vadīšana Rīgā (mācību grupa līdz 20 personām)
A5: Maksas pakalpojuma mērvienība – viena akadēmiskā stunda (45 minūtes)
A9: EKK kods | B9: Rādītājs (materiāla/izejvielas nosaukums, atlīdzība un citi izmaksu veidi) | C9: Izmaksu apjoms gadā viena makasa pakalpojuma veida nodrošināšanai | I9: Piezīmes, komentāri
A10: 1 | B10: 2 | C10: 3
A11: Tiešās izmaksas
A12: 1000 | B12: Atlīdzība | H12: =SUM(H13,H110) -> 13.74
A13: 1100 | B13: Atalgojums | H13: =SUM(H14,H25,H36,H47,H68,H89) -> 10.71
A14: 1116 | B14: Mēnešalga amatpersonām ar speciālajām dienesta pakāpēm | C14: Ieņemamais amats | E14: M.a. grupa | F14: Mēnešalga | G14: Patērētais laiks (h) | H14: =SUM(H15:H24) -> 9.99
C15: Lektors (ar SDP) | E15: 9 | F15: 1677 | G15: 1 | H15: =ROUNDUP((F15/168*G15),2) -> 9.99
H16: =ROUNDUP((F16/168*G16),2) -> 0
H17: =ROUNDUP((F17/168*G17),2) -> 0
H18: =ROUNDUP((F18/168*G18),2) -> 0
H19: =ROUNDUP((F19/168*G19),2) -> 0
H20: =ROUNDUP((F20/168*G20),2) -> 0
H21: =ROUNDUP((F21/168*G21),2) -> 0
H22: =ROUNDUP((F22/168*G22),2) -> 0
H23: =ROUNDUP((F23/168*G23),2) -> 0
H24: =ROUNDUP((F24/168*G24),2) -> 0
A25: 1119 | B25: Pārējo darbinieku mēnešalga (darba alga) | C25: Ieņememais amats | E25: M.a. grupa | F25: Mēnešalga | G25: Patērētais laiks (h) | H25: =SUM(H26:H35) -> 0
H26: =ROUNDUP((F26/168*G26),2) -> 0
H27: =ROUNDUP((F27/168*G27),2) -> 0
H28: =ROUNDUP((F28/168*G28),2) -> 0
H29: =ROUNDUP((F29/168*G29),2) -> 0
H30: =ROUNDUP((F30/168*G30),2) -> 0
H31: =ROUNDUP((F31/168*G31),2) -> 0
H32: =ROUNDUP((F32/168*G32),2) -> 0
H33: =ROUNDUP((F33/168*G33),2) -> 0
H34: =ROUNDUP((F34/168*G34),2) -> 0
H35: =ROUNDUP((F35/168*G35),2) -> 0
A36: 1143 | B36: Piemaksa par speciālo dienesta pakāpi un diplomātisko rangu | C36: Speciālā dienesta pakāpe | F36: Piemaksa mēnesī | G36: Patērētais laiks (h) | H36: =SUM(H37:H46) -> 0.72
C37: Pulkvežleitnants | F37: 120 | G37: =G15 -> 1 | H37: =ROUNDUP((F37/168*G37),2) -> 0.72
G38: =G16 -> 0 | H38: =ROUNDUP((F38/168*G38),2) -> 0
G39: =G17 -> 0 | H39: =ROUNDUP((F39/168*G39),2) -> 0
G40: =G18 -> 0 | H40: =ROUNDUP((F40/168*G40),2) -> 0
G41: =G19 -> 0 | H41: =ROUNDUP((F41/168*G41),2) -> 0
G42: =G20 -> 0 | H42: =ROUNDUP((F42/168*G42),2) -> 0
G43: =G21 -> 0 | H43: =ROUNDUP((F43/168*G43),2) -> 0
G44: =G22 -> 0 | H44: =ROUNDUP((F44/168*G44),2) -> 0
G45: =G23 -> 0 | H45: =ROUNDUP((F45/168*G45),2) -> 0
G46: =G24 -> 0 | H46: =ROUNDUP((F46/168*G46),2) -> 0
A47: 1146 | B47: Piemaksa par personisko darba ieguldījumu un darba kvalitāti | C47: Ieņemamais amats | E47: Piemaksa % | F47: Mēnešalga | G47: Patērētais laiks (h) | H47: =SUM(H48:H67) -> 0
C48: =C15 -> Lektors (ar SDP) | E48: 5 | F48: =F15 -> 1677 | H48: =ROUNDUP((F48*$E$48%)/168*G48,2) -> 0
C49: =C16 -> 0 | F49: =F16 -> 0 | G49: =G16 -> 0 | H49: =ROUNDUP((F49*$E$48%)/168*G49,2) -> 0
C50: =C17 -> 0 | F50: =F17 -> 0 | G50: =G17 -> 0 | H50: =ROUNDUP((F50*$E$48%)/168*G50,2) -> 0
C51: =C18 -> 0 | F51: =F18 -> 0 | G51: =G18 -> 0 | H51: =ROUNDUP((F51*$E$48%)/168*G51,2) -> 0
C52: =C19 -> 0 | F52: =F19 -> 0 | G52: =G19 -> 0 | H52: =ROUNDUP((F52*$E$48%)/168*G52,2) -> 0
C53: =C20 -> 0 | F53: =F20 -> 0 | G53: =G20 -> 0 | H53: =ROUNDUP((F53*$E$48%)/168*G53,2) -> 0
C54: =C21 -> 0 | F54: =F21 -> 0 | G54: =G21 -> 0 | H54: =ROUNDUP((F54*$E$48%)/168*G54,2) -> 0
C55: =C22 -> 0 | F55: =F22 -> 0 | G55: =G22 -> 0 | H55: =ROUNDUP((F55*$E$48%)/168*G55,2) -> 0
C56: =C23 -> 0 | F56: =F23 -> 0 | G56: =G23 -> 0 | H56: =ROUNDUP((F56*$E$48%)/168*G56,2) -> 0
C57: =C24 -> 0 | F57: =F24 -> 0 | G57: =G24 -> 0 | H57: =ROUNDUP((F57*$E$48%)/168*G57,2) -> 0
C58: =C26 -> 0 | F58: =F26 -> 0 | G58: =G26 -> 0 | H58: =ROUNDUP((F58*$E$48%)/168*G58,2) -> 0
C59: =C27 -> 0 | F59: =F27 -> 0 | G59: =G27 -> 0 | H59: =ROUNDUP((F59*$E$48%)/168*G59,2) -> 0
C60: =C28 -> 0 | F60: =F28 -> 0 | G60: =G28 -> 0 | H60: =ROUNDUP((F60*$E$48%)/168*G60,2) -> 0
C61: =C29 -> 0 | F61: =F29 -> 0 | G61: =G29 -> 0 | H61: =ROUNDUP((F61*$E$48%)/168*G61,2) -> 0
C62: =C30 -> 0 | F62: =F30 -> 0 | G62: =G30 -> 0 | H62: =ROUNDUP((F62*$E$48%)/168*G62,2) -> 0
C63: =C31 -> 0 | F63: =F31 -> 0 | G63: =G31 -> 0 | H63: =ROUNDUP((F63*$E$48%)/168*G63,2) -> 0
C64: =C32 -> 0 | F64: =F32 -> 0 | G64: =G32 -> 0 | H64: =ROUNDUP((F64*$E$48%)/168*G64,2) -> 0
C65: =C33 -> 0 | F65: =F33 -> 0 | G65: =G33 -> 0 | H65: =ROUNDUP((F65*$E$48%)/168*G65,2) -> 0
C66: =C34 -> 0 | F66: =F34 -> 0 | G66: =G34 -> 0 | H66: =ROUNDUP((F66*$E$48%)/168*G66,2) -> 0
C67: =C35 -> 0 | F67: =F35 -> 0 | G67: =G35 -> 0 | H67: =ROUNDUP((F67*$E$48%)/168*G67,2) -> 0
A68: 1147 | B68: Piemaksa par papildu darbu | C68: Ieņemamais amats | E68: Piemaksa % | F68: Mēnešalga | G68: Patērētais laiks (h) | H68: =SUM(H69:H88) -> 0
C69: =C15 -> Lektors (ar SDP) | E69: 5 | F69: =F15 -> 1677 | H69: =ROUNDUP((F69*$E$69%)/168*G69,2) -> 0
C70: =C17 -> 0 | F70: =F17 -> 0 | G70: =G17 -> 0 | H70: =ROUNDUP((F70*$E$69%)/168*G70,2) -> 0
C71: =C18 -> 0 | F71: =F18 -> 0 | G71: =G18 -> 0 | H71: =ROUNDUP((F71*$E$69%)/168*G71,2) -> 0
C72: =C19 -> 0 | F72: =F19 -> 0 | G72: =G19 -> 0 | H72: =ROUNDUP((F72*$E$69%)/168*G72,2) -> 0
C73: =C20 -> 0 | F73: =F20 -> 0 | G73: =G20 -> 0 | H73: =ROUNDUP((F73*$E$69%)/168*G73,2) -> 0
C74: =C21 -> 0 | F74: =F21 -> 0 | G74: =G21 -> 0 | H74: =ROUNDUP((F74*$E$69%)/168*G74,2) -> 0
C75: =C22 -> 0 | F75: =F22 -> 0 | G75: =G22 -> 0 | H75: =ROUNDUP((F75*$E$69%)/168*G75,2) -> 0
C76: =C23 -> 0 | F76: =F23 -> 0 | G76: =G23 -> 0 | H76: =ROUNDUP((F76*$E$69%)/168*G76,2) -> 0
C77: =C24 -> 0 | F77: =F24 -> 0 | G77: =G24 -> 0 | H77: =ROUNDUP((F77*$E$69%)/168*G77,2) -> 0
C78: =C26 -> 0 | F78: =F26 -> 0 | G78: =G26 -> 0 | H78: =ROUNDUP((F78*$E$69%)/168*G78,2) -> 0
C79: =C27 -> 0 | F79: =F27 -> 0 | G79: =G27 -> 0 | H79: =ROUNDUP((F79*$E$69%)/168*G79,2) -> 0
C80: =C28 -> 0 | F80: =F28 -> 0 | G80: =G28 -> 0 | H80: =ROUNDUP((F80*$E$69%)/168*G80,2) -> 0
C81: =C29 -> 0 | F81: =F29 -> 0 | G81: =G29 -> 0 | H81: =ROUNDUP((F81*$E$69%)/168*G81,2) -> 0
C82: =C30 -> 0 | F82: =F30 -> 0 | G82: =G30 -> 0 | H82: =ROUNDUP((F82*$E$69%)/168*G82,2) -> 0
F83: =F31 -> 0 | G83: =G31 -> 0 | H83: =ROUNDUP((F83*$E$69%)/168*G83,2) -> 0
C84: =C31 -> 0 | F84: =F32 -> 0 | G84: =G32 -> 0 | H84: =ROUNDUP((F84*$E$69%)/168*G84,2) -> 0
C85: =C32 -> 0 | F85: =F32 -> 0 | G85: =G32 -> 0 | H85: =ROUNDUP((F85*$E$69%)/168*G85,2) -> 0
C86: =C33 -> 0 | F86: =F33 -> 0 | G86: =G33 -> 0 | H86: =ROUNDUP((F86*$E$69%)/168*G86,2) -> 0
C87: =C34 -> 0 | F87: =F34 -> 0 | G87: =G34 -> 0 | H87: =ROUNDUP((F87*$E$69%)/168*G87,2) -> 0
C88: =C35 -> 0 | F88: =F35 -> 0 | G88: =G35 -> 0 | H88: =ROUNDUP((F88*$E$69%)/168*G88,2) -> 0
A89: 1148 | B89: Prēmijas un naudas balvas | C89: Ieņemamais amats | E89: Piemaksa % | F89: Mēnešalga | G89: Patērētais laiks (h) | H89: =SUM(H90:H109) -> 0
C90: =C15 -> Lektors (ar SDP) | E90: 10 | F90: =F15 -> 1677 | H90: =ROUNDUP((F90*$E$90%)/168*$G$90,2) -> 0
C91: =C16 -> 0 | F91: =F16 -> 0 | G91: =G16 -> 0 | H91: =ROUNDUP((F91*$E$90%)/168*$G$90,2) -> 0
C92: =C17 -> 0 | F92: =F17 -> 0 | G92: =G17 -> 0 | H92: =ROUNDUP((F92*$E$90%)/168*$G$90,2) -> 0
C93: =C18 -> 0 | F93: =F18 -> 0 | G93: =G18 -> 0 | H93: =ROUNDUP((F93*$E$90%)/168*$G$90,2) -> 0
C94: =C19 -> 0 | F94: =F19 -> 0 | G94: =G19 -> 0 | H94: =ROUNDUP((F94*$E$90%)/168*$G$90,2) -> 0
C95: =C20 -> 0 | F95: =F20 -> 0 | G95: =G20 -> 0 | H95: =ROUNDUP((F95*$E$90%)/168*$G$90,2) -> 0
C96: =C21 -> 0 | F96: =F21 -> 0 | G96: =G21 -> 0 | H96: =ROUNDUP((F96*$E$90%)/168*$G$90,2) -> 0
C97: =C22 -> 0 | F97: =F22 -> 0 | G97: =G22 -> 0 | H97: =ROUNDUP((F97*$E$90%)/168*$G$90,2) -> 0
C98: =C23 -> 0 | F98: =F23 -> 0 | G98: =G23 -> 0 | H98: =ROUNDUP((F98*$E$90%)/168*$G$90,2) -> 0
C99: =C24 -> 0 | F99: =F24 -> 0 | G99: =G24 -> 0 | H99: =ROUNDUP((F99*$E$90%)/168*$G$90,2) -> 0
C100: =C26 -> 0 | F100: =F26 -> 0 | G100: =G26 -> 0 | H100: =ROUNDUP((F100*$E$90%)/168*$G$90,2) -> 0
C101: =C27 -> 0 | F101: =F27 -> 0 | G101: =G27 -> 0 | H101: =ROUNDUP((F101*$E$90%)/168*$G$90,2) -> 0
C102: =C28 -> 0 | F102: =F28 -> 0 | G102: =G28 -> 0 | H102: =ROUNDUP((F102*$E$90%)/168*$G$90,2) -> 0
C103: =C29 -> 0 | F103: =F29 -> 0 | G103: =G29 -> 0 | H103: =ROUNDUP((F103*$E$90%)/168*$G$90,2) -> 0
C104: =C30 -> 0 | F104: =F30 -> 0 | G104: =G30 -> 0 | H104: =ROUNDUP((F104*$E$90%)/168*$G$90,2) -> 0
...

Sheet 6.2.
A1: Maksas pakalpojumu izcenojuma aprēķins
A3: 6. Profesionālās pilnveides un pieaugušo neformālās izglītības pakalpojumu sniegšana fiziskām un juridiskām personām:
A4: 6.2. profesionālās pilnveides un pieaugušo neformālās izglītības programmu nodarbību vadīšana ārpus Rīgas (mācību grupa līdz 20 personām)
A5: Maksas pakalpojuma mērvienība – viena akadēmiskā stunda (45 minūtes)
A9: EKK kods | B9: Rādītājs (materiāla/izejvielas nosaukums, atlīdzība un citi izmaksu veidi) | C9: Izmaksu apjoms gadā viena makasa pakalpojuma veida nodrošināšanai | I9: Piezīmes, komentāri
A10: 1 | B10: 2 | C10: 3
A11: Tiešās izmaksas
A12: 1000 | B12: Atlīdzība | H12: =SUM(H13,H110) -> 13.74
A13: 1100 | B13: Atalgojums | H13: =SUM(H14,H25,H36,H47,H68,H89) -> 10.71
A14: 1116 | B14: Mēnešalga amatpersonām ar speciālajām dienesta pakāpēm | C14: Ieņemamais amats | E14: M.a. grupa | F14: Mēnešalga | G14: Patērētais laiks (h) | H14: =SUM(H15:H24) -> 9.99
C15: Lektors (ar SDP) | E15: 9 | F15: 1677 | G15: 1 | H15: =ROUNDUP((F15/168*G15),2) -> 9.99
H16: =ROUNDUP((F16/168*G16),2) -> 0
H17: =ROUNDUP((F17/168*G17),2) -> 0
H18: =ROUNDUP((F18/168*G18),2) -> 0
H19: =ROUNDUP((F19/168*G19),2) -> 0
H20: =ROUNDUP((F20/168*G20),2) -> 0
H21: =ROUNDUP((F21/168*G21),2) -> 0
H22: =ROUNDUP((F22/168*G22),2) -> 0
H23: =ROUNDUP((F23/168*G23),2) -> 0
H24: =ROUNDUP((F24/168*G24),2) -> 0
A25: 1119 | B25: Pārējo darbinieku mēnešalga (darba alga) | C25: Ieņememais amats | E25: M.a. grupa | F25: Mēnešalga | G25: Patērētais laiks (h) | H25: =SUM(H26:H35) -> 0
H26: =ROUNDUP((F26/168*G26),2) -> 0
H27: =ROUNDUP((F27/168*G27),2) -> 0
H28: =ROUNDUP((F28/168*G28),2) -> 0
H29: =ROUNDUP((F29/168*G29),2) -> 0
H30: =ROUNDUP((F30/168*G30),2) -> 0
H31: =ROUNDUP((F31/168*G31),2) -> 0
H32: =ROUNDUP((F32/168*G32),2) -> 0
H33: =ROUNDUP((F33/168*G33),2) -> 0
H34: =ROUNDUP((F34/168*G34),2) -> 0
H35: =ROUNDUP((F35/168*G35),2) -> 0
A36: 1143 | B36: Piemaksa par speciālo dienesta pakāpi un diplomātisko rangu | C36: Speciālā dienesta pakāpe | F36: Piemaksa mēnesī | G36: Patērētais laiks (h) | H36: =SUM(H37:H46) -> 0.72
C37: Pulkvežleitnants | F37: 120 | G37: =G15 -> 1 | H37: =ROUNDUP((F37/168*G37),2) -> 0.72
G38: =G16 -> 0 | H38: =ROUNDUP((F38/168*G38),2) -> 0
G39: =G17 -> 0 | H39: =ROUNDUP((F39/168*G39),2) -> 0
G40: =G18 -> 0 | H40: =ROUNDUP((F40/168*G40),2) -> 0
G41: =G19 -> 0 | H41: =ROUNDUP((F41/168*G41),2) -> 0
G42: =G20 -> 0 | H42: =ROUNDUP((F42/168*G42),2) -> 0
G43: =G21 -> 0 | H43: =ROUNDUP((F43/168*G43),2) -> 0
G44: =G22 -> 0 | H44: =ROUNDUP((F44/168*G44),2) -> 0
G45: =G23 -> 0 | H45: =ROUNDUP((F45/168*G45),2) -> 0
G46: =G24 -> 0 | H46: =ROUNDUP((F46/168*G46),2) -> 0
A47: 1146 | B47: Piemaksa par personisko darba ieguldījumu un darba kvalitāti | C47: Ieņemamais amats | E47: Piemaksa % | F47: Mēnešalga | G47: Patērētais laiks (h) | H47: =SUM(H48:H67) -> 0
C48: =C15 -> Lektors (ar SDP) | E48: 5 | F48: =F15 -> 1677 | H48: =ROUNDUP((F48*$E$48%)/168*G48,2) -> 0
C49: =C16 -> 0 | F49: =F16 -> 0 | G49: =G16 -> 0 | H49: =ROUNDUP((F49*$E$48%)/168*G49,2) -> 0
C50: =C17 -> 0 | F50: =F17 -> 0 | G50: =G17 -> 0 | H50: =ROUNDUP((F50*$E$48%)/168*G50,2) -> 0
C51: =C18 -> 0 | F51: =F18 -> 0 | G51: =G18 -> 0 | H51: =ROUNDUP((F51*$E$48%)/168*G51,2) -> 0
C52: =C19 -> 0 | F52: =F19 -> 0 | G52: =G19 -> 0 | H52: =ROUNDUP((F52*$E$48%)/168*G52,2) -> 0
C53: =C20 -> 0 | F53: =F20 -> 0 | G53: =G20 -> 0 | H53: =ROUNDUP((F53*$E$48%)/168*G53,2) -> 0
C54: =C21 -> 0 | F54: =F21 -> 0 | G54: =G21 -> 0 | H54: =ROUNDUP((F54*$E$48%)/168*G54,2) -> 0
C55: =C22 -> 0 | F55: =F22 -> 0 | G55: =G22 -> 0 | H55: =ROUNDUP((F55*$E$48%)/168*G55,2) -> 0
C56: =C23 -> 0 | F56: =F23 -> 0 | G56: =G23 -> 0 | H56: =ROUNDUP((F56*$E$48%)/168*G56,2) -> 0
C57: =C24 -> 0 | F57: =F24 -> 0 | G57: =G24 -> 0 | H57: =ROUNDUP((F57*$E$48%)/168*G57,2) -> 0
C58: =C26 -> 0 | F58: =F26 -> 0 | G58: =G26 -> 0 | H58: =ROUNDUP((F58*$E$48%)/168*G58,2) -> 0
C59: =C27 -> 0 | F59: =F27 -> 0 | G59: =G27 -> 0 | H59: =ROUNDUP((F59*$E$48%)/168*G59,2) -> 0
C60: =C28 -> 0 | F60: =F28 -> 0 | G60: =G28 -> 0 | H60: =ROUNDUP((F60*$E$48%)/168*G60,2) -> 0
C61: =C29 -> 0 | F61: =F29 -> 0 | G61: =G29 -> 0 | H61: =ROUNDUP((F61*$E$48%)/168*G61,2) -> 0
C62: =C30 -> 0 | F62: =F30 -> 0 | G62: =G30 -> 0 | H62: =ROUNDUP((F62*$E$48%)/168*G62,2) -> 0
C63: =C31 -> 0 | F63: =F31 -> 0 | G63: =G31 -> 0 | H63: =ROUNDUP((F63*$E$48%)/168*G63,2) -> 0
C64: =C32 -> 0 | F64: =F32 -> 0 | G64: =G32 -> 0 | H64: =ROUNDUP((F64*$E$48%)/168*G64,2) -> 0
C65: =C33 -> 0 | F65: =F33 -> 0 | G65: =G33 -> 0 | H65: =ROUNDUP((F65*$E$48%)/168*G65,2) -> 0
C66: =C34 -> 0 | F66: =F34 -> 0 | G66: =G34 -> 0 | H66: =ROUNDUP((F66*$E$48%)/168*G66,2) -> 0
C67: =C35 -> 0 | F67: =F35 -> 0 | G67: =G35 -> 0 | H67: =ROUNDUP((F67*$E$48%)/168*G67,2) -> 0
A68: 1147 | B68: Piemaksa par papildu darbu | C68: Ieņemamais amats | E68: Piemaksa % | F68: Mēnešalga | G68: Patērētais laiks (h) | H68: =SUM(H69:H88) -> 0
C69: =C15 -> Lektors (ar SDP) | E69: 5 | F69: =F15 -> 1677 | H69: =ROUNDUP((F69*$E$69%)/168*G69,2) -> 0
C70: =C17 -> 0 | F70: =F17 -> 0 | G70: =G17 -> 0 | H70: =ROUNDUP((F70*$E$69%)/168*G70,2) -> 0
C71: =C18 -> 0 | F71: =F18 -> 0 | G71: =G18 -> 0 | H71: =ROUNDUP((F71*$E$69%)/168*G71,2) -> 0
C72: =C19 -> 0 | F72: =F19 -> 0 | G72: =G19 -> 0 | H72: =ROUNDUP((F72*$E$69%)/168*G72,2) -> 0
C73: =C20 -> 0 | F73: =F20 -> 0 | G73: =G20 -> 0 | H73: =ROUNDUP((F73*$E$69%)/168*G73,2) -> 0
C74: =C21 -> 0 | F74: =F21 -> 0 | G74: =G21 -> 0 | H74: =ROUNDUP((F74*$E$69%)/168*G74,2) -> 0
C75: =C22 -> 0 | F75: =F22 -> 0 | G75: =G22 -> 0 | H75: =ROUNDUP((F75*$E$69%)/168*G75,2) -> 0
C76: =C23 -> 0 | F76: =F23 -> 0 | G76: =G23 -> 0 | H76: =ROUNDUP((F76*$E$69%)/168*G76,2) -> 0
C77: =C24 -> 0 | F77: =F24 -> 0 | G77: =G24 -> 0 | H77: =ROUNDUP((F77*$E$69%)/168*G77,2) -> 0
C78: =C26 -> 0 | F78: =F26 -> 0 | G78: =G26 -> 0 | H78: =ROUNDUP((F78*$E$69%)/168*G78,2) -> 0
C79: =C27 -> 0 | F79: =F27 -> 0 | G79: =G27 -> 0 | H79: =ROUNDUP((F79*$E$69%)/168*G79,2) -> 0
C80: =C28 -> 0 | F80: =F28 -> 0 | G80: =G28 -> 0 | H80: =ROUNDUP((F80*$E$69%)/168*G80,2) -> 0
C81: =C29 -> 0 | F81: =F29 -> 0 | G81: =G29 -> 0 | H81: =ROUNDUP((F81*$E$69%)/168*G81,2) -> 0
C82: =C30 -> 0 | F82: =F30 -> 0 | G82: =G30 -> 0 | H82: =ROUNDUP((F82*$E$69%)/168*G82,2) -> 0
F83: =F31 -> 0 | G83: =G31 -> 0 | H83: =ROUNDUP((F83*$E$69%)/168*G83,2) -> 0
C84: =C31 -> 0 | F84: =F32 -> 0 | G84: =G32 -> 0 | H84: =ROUNDUP((F84*$E$69%)/168*G84,2) -> 0
C85: =C32 -> 0 | F85: =F33 -> 0 | G85: =G33 -> 0 | H85: =ROUNDUP((F85*$E$69%)/168*G85,2) -> 0
C86: =C33 -> 0 | F86: =F33 -> 0 | G86: =G33 -> 0 | H86: =ROUNDUP((F86*$E$69%)/168*G86,2) -> 0
C87: =C34 -> 0 | F87: =F34 -> 0 | G87: =G34 -> 0 | H87: =ROUNDUP((F87*$E$69%)/168*G87,2) -> 0
C88: =C35 -> 0 | F88: =F35 -> 0 | G88: =G35 -> 0 | H88: =ROUNDUP((F88*$E$69%)/168*G88,2) -> 0
A89: 1148 | B89: Prēmijas un naudas balvas | C89: Ieņemamais amats | E89: Piemaksa % | F89: Mēnešalga | G89: Patērētais laiks (h) | H89: =SUM(H90:H109) -> 0
C90: =C15 -> Lektors (ar SDP) | E90: 10 | F90: =F15 -> 1677 | H90: =ROUNDUP((F90*$E$90%)/168*$G$90,2) -> 0
C91: =C16 -> 0 | F91: =F16 -> 0 | G91: =G16 -> 0 | H91: =ROUNDUP((F91*$E$90%)/168*$G$90,2) -> 0
C92: =C17 -> 0 | F92: =F17 -> 0 | G92: =G17 -> 0 | H92: =ROUNDUP((F92*$E$90%)/168*$G$90,2) -> 0
C93: =C18 -> 0 | F93: =F18 -> 0 | G93: =G18 -> 0 | H93: =ROUNDUP((F93*$E$90%)/168*$G$90,2) -> 0
C94: =C19 -> 0 | F94: =F19 -> 0 | G94: =G19 -> 0 | H94: =ROUNDUP((F94*$E$90%)/168*$G$90,2) -> 0
C95: =C20 -> 0 | F95: =F20 -> 0 | G95: =G20 -> 0 | H95: =ROUNDUP((F95*$E$90%)/168*$G$90,2) -> 0
C96: =C21 -> 0 | F96: =F21 -> 0 | G96: =G21 -> 0 | H96: =ROUNDUP((F96*$E$90%)/168*$G$90,2) -> 0
C97: =C22 -> 0 | F97: =F22 -> 0 | G97: =G22 -> 0 | H97: =ROUNDUP((F97*$E$90%)/168*$G$90,2) -> 0
C98: =C23 -> 0 | F98: =F23 -> 0 | G98: =G23 -> 0 | H98: =ROUNDUP((F98*$E$90%)/168*$G$90,2) -> 0
C99: =C24 -> 0 | F99: =F24 -> 0 | G99: =G24 -> 0 | H99: =ROUNDUP((F99*$E$90%)/168*$G$90,2) -> 0
C100: =C26 -> 0 | F100: =F26 -> 0 | G100: =G26 -> 0 | H100: =ROUNDUP((F100*$E$90%)/168*$G$90,2) -> 0
C101: =C27 -> 0 | F101: =F27 -> 0 | G101: =G27 -> 0 | H101: =ROUNDUP((F101*$E$90%)/168*$G$90,2) -> 0
C102: =C28 -> 0 | F102: =F28 -> 0 | G102: =G28 -> 0 | H102: =ROUNDUP((F102*$E$90%)/168*$G$90,2) -> 0
C103: =C29 -> 0 | F103: =F29 -> 0 | G103: =G29 -> 0 | H103: =ROUNDUP((F103*$E$90%)/168*$G$90,2) -> 0
C104: =C30 -> 0 | F104: =F30 -> 0 | G104: =G30 -> 0 | H104: =ROUNDUP((F104*$E$90%)/168*$G$90,2) -> 0
...

Sheet 6.3.
A1: Maksas pakalpojumu izcenojuma aprēķins
A3: 6. Profesionālās pilnveides un pieaugušo neformālās izglītības pakalpojumu sniegšana fiziskām un juridiskām personām:
A4: 6.3. licencētās profesionālās pilnveides izglītības programmas atkārtota noslēguma pārbaudījuma pieņemšana
A5: Maksas pakalpojuma mērvienība – viens pārbaudījums
A9: EKK kods | B9: Rādītājs (materiāla/izejvielas nosaukums, atlīdzība un citi izmaksu veidi) | C9: Izmaksu apjoms gadā viena makasa pakalpojuma veida nodrošināšanai | I9: Piezīmes, komentāri
A10: 1 | B10: 2 | C10: 3
A11: Tiešās izmaksas
A12: 1000 | B12: Atlīdzība | H12: =SUM(H13,H110) -> 130.75
A13: 1100 | B13: Atalgojums | H13: =SUM(H14,H25,H36,H47,H68,H89) -> 101.84
A14: 1116 | B14: Mēnešalga amatpersonām ar speciālajām dienesta pakāpēm | C14: Ieņemamais amats | E14: M.a. grupa | F14: Mēnešalga | G14: Patērētais laiks (h) | H14: =SUM(H15:H24) -> 66.56
C15: VP priekšnieka vietnieks | E15: 16 | F15: 3125 | G15: 1.5 | H15: =ROUNDUP((F15/168*G15),2) -> 27.91
C16: VP Galvenās kriminālpolicijas pārvaldes priekšnieka vietnieks | E16: 15 | F16: 2651 | G16: 1.5 | H16: =ROUNDUP((F16/168*G16),2) -> 23.67
C17: Lektors (ar SDP) | E17: 9 | F17: 1677 | G17: 1.5 | H17: =ROUNDUP((F17/168*G17),2) -> 14.98
H18: =ROUNDUP((F18/168*G18),2) -> 0
H19: =ROUNDUP((F19/168*G19),2) -> 0
H20: =ROUNDUP((F20/168*G20),2) -> 0
H21: =ROUNDUP((F21/168*G21),2) -> 0
H22: =ROUNDUP((F22/168*G22),2) -> 0
H23: =ROUNDUP((F23/168*G23),2) -> 0
H24: =ROUNDUP((F24/168*G24),2) -> 0
A25: 1119 | B25: Pārējo darbinieku mēnešalga (darba alga) | C25: Ieņemamais amats | E25: M.a. grupa | F25: Mēnešalga | G25: Patērētais laiks (h) | H25: =SUM(H26:H35) -> 31.6
C26: Lektors | E26: 9 | F26: =ROUND(865*1.3,0) -> 1125 | G26: 1.5 | H26: =ROUNDUP((F26/168*G26),2) -> 10.05
C27: Lektors | E27: 9 | F27: =ROUND(865*1.3,0) -> 1125 | G27: 1.5 | H27: =ROUNDUP((F27/168*G27),2) -> 10.05
C28: Vecākais speciālists Izglītības koordinācijas nodaļā | E28: 10 | F28: 1287 | G28: 1.5 | H28: =ROUNDUP((F28/168*G28),2) -> 11.5
H29: =ROUNDUP((F29/168*G29),2) -> 0
H30: =ROUNDUP((F30/168*G30),2) -> 0
H31: =ROUNDUP((F31/168*G31),2) -> 0
H32: =ROUNDUP((F32/168*G32),2) -> 0
H33: =ROUNDUP((F33/168*G33),2) -> 0
H34: =ROUNDUP((F34/168*G34),2) -> 0
H35: =ROUNDUP((F35/168*G35),2) -> 0
A36: 1143 | B36: Piemaksa par speciālo dienesta pakāpi un diplomātisko rangu | C36: Speciālā dienesta pakāpe | F36: Piemaksa mēnesī | G36: Patērētais laiks (h) | H36: =SUM(H37:H46) -> 3.68
C37: Ģenerālis | F37: 170 | G37: =G15 -> 1.5 | H37: =ROUNDUP((F37/168*G37),2) -> 1.52
C38: Pulkvedis | F38: 135 | G38: =G16 -> 1.5 | H38: =ROUNDUP((F38/168*G38),2) -> 1.21
C39: Majors | F39: 106 | G39: =G17 -> 1.5 | H39: =ROUNDUP((F39/168*G39),2) -> 0.95
G40: =G18 -> 0 | H40: =ROUNDUP((F40/168*G40),2) -> 0
G41: =G19 -> 0 | H41: =ROUNDUP((F41/168*G41),2) -> 0
G42: =G20 -> 0 | H42: =ROUNDUP((F42/168*G42),2) -> 0
G43: =G21 -> 0 | H43: =ROUNDUP((F43/168*G43),2) -> 0
G44: =G22 -> 0 | H44: =ROUNDUP((F44/168*G44),2) -> 0
G45: =G23 -> 0 | H45: =ROUNDUP((F45/168*G45),2) -> 0
G46: =G24 -> 0 | H46: =ROUNDUP((F46/168*G46),2) -> 0
A47: 1146 | B47: Piemaksa par personisko darba ieguldījumu un darba kvalitāti | C47: Ieņemamais amats | E47: Piemaksa % | F47: Mēnešalga | G47: Patērētais laiks (h) | H47: =SUM(H48:H67) -> 0
C48: =C15 -> VP priekšnieka vietnieks | E48: 5 | F48: =F15 -> 3125 | H48: =ROUNDUP((F48*$E$48%)/168*G48,2) -> 0
C49: =C16 -> VP Galvenās kriminālpolicijas pārvaldes priekšnieka vietnieks | F49: =F16 -> 2651 | H49: =ROUNDUP((F49*$E$48%)/168*G49,2) -> 0
C50: =C17 -> Lektors (ar SDP) | F50: =F17 -> 1677 | H50: =ROUNDUP((F50*$E$48%)/168*G50,2) -> 0
C51: =C18 -> 0 | F51: =F18 -> 0 | H51: =ROUNDUP((F51*$E$48%)/168*G51,2) -> 0
C52: =C19 -> 0 | F52: =F19 -> 0 | H52: =ROUNDUP((F52*$E$48%)/168*G52,2) -> 0
C53: =C20 -> 0 | F53: =F20 -> 0 | H53: =ROUNDUP((F53*$E$48%)/168*G53,2) -> 0
C54: =C21 -> 0 | F54: =F21 -> 0 | H54: =ROUNDUP((F54*$E$48%)/168*G54,2) -> 0
C55: =C22 -> 0 | F55: =F22 -> 0 | H55: =ROUNDUP((F55*$E$48%)/168*G55,2) -> 0
C56: =C23 -> 0 | F56: =F23 -> 0 | H56: =ROUNDUP((F56*$E$48%)/168*G56,2) -> 0
C57: =C24 -> 0 | F57: =F24 -> 0 | H57: =ROUNDUP((F57*$E$48%)/168*G57,2) -> 0
C58: =C26 -> Lektors | F58: =F26 -> 1125 | H58: =ROUNDUP((F58*$E$48%)/168*G58,2) -> 0
C59: =C27 -> Lektors | F59: =F27 -> 1125 | H59: =ROUNDUP((F59*$E$48%)/168*G59,2) -> 0
C60: =C28 -> Vecākais speciālists Izglītības koordinācijas nodaļā | F60: =F28 -> 1287 | H60: =ROUNDUP((F60*$E$48%)/168*G60,2) -> 0
C61: =C29 -> 0 | F61: =F29 -> 0 | G61: =G29 -> 0 | H61: =ROUNDUP((F61*$E$48%)/168*G61,2) -> 0
C62: =C30 -> 0 | F62: =F30 -> 0 | G62: =G30 -> 0 | H62: =ROUNDUP((F62*$E$48%)/168*G62,2) -> 0
C63: =C31 -> 0 | F63: =F31 -> 0 | G63: =G31 -> 0 | H63: =ROUNDUP((F63*$E$48%)/168*G63,2) -> 0
C64: =C32 -> 0 | F64: =F32 -> 0 | G64: =G32 -> 0 | H64: =ROUNDUP((F64*$E$48%)/168*G64,2) -> 0
C65: =C33 -> 0 | F65: =F33 -> 0 | G65: =G33 -> 0 | H65: =ROUNDUP((F65*$E$48%)/168*G65,2) -> 0
C66: =C34 -> 0 | F66: =F34 -> 0 | G66: =G34 -> 0 | H66: =ROUNDUP((F66*$E$48%)/168*G66,2) -> 0
C67: =C35 -> 0 | F67: =F35 -> 0 | G67: =G35 -> 0 | H67: =ROUNDUP((F67*$E$48%)/168*G67,2) -> 0
A68: 1147 | B68: Piemaksa par papildu darbu | C68: Ieņemamais amats | E68: Piemaksa % | F68: Mēnešalga | G68: Patērētais laiks (h) | H68: =SUM(H69:H88) -> 0
C69: =C15 -> VP priekšnieka vietnieks | E69: 5 | F69: =F15 -> 3125 | H69: =ROUNDUP((F69*$E$69%)/168*G69,2) -> 0
C70: =C16 -> VP Galvenās kriminālpolicijas pārvaldes priekšnieka vietnieks | F70: =F16 -> 2651 | H70: =ROUNDUP((F70*$E$69%)/168*G70,2) -> 0
C71: =C17 -> Lektors (ar SDP) | F71: =F17 -> 1677 | H71: =ROUNDUP((F71*$E$69%)/168*G71,2) -> 0
C72: =C18 -> 0 | F72: =F18 -> 0 | H72: =ROUNDUP((F72*$E$69%)/168*G72,2) -> 0
C73: =C19 -> 0 | F73: =F19 -> 0 | H73: =ROUNDUP((F73*$E$69%)/168*G73,2) -> 0
C74: =C20 -> 0 | F74: =F20 -> 0 | H74: =ROUNDUP((F74*$E$69%)/168*G74,2) -> 0
C75: =C21 -> 0 | F75: =F21 -> 0 | H75: =ROUNDUP((F75*$E$69%)/168*G75,2) -> 0
C76: =C22 -> 0 | F76: =F22 -> 0 | H76: =ROUNDUP((F76*$E$69%)/168*G76,2) -> 0
C77: =C23 -> 0 | F77: =F23 -> 0 | H77: =ROUNDUP((F77*$E$69%)/168*G77,2) -> 0
C78: =C24 -> 0 | F78: =F24 -> 0 | H78: =ROUNDUP((F78*$E$69%)/168*G78,2) -> 0
C79: =C26 -> Lektors | F79: =F26 -> 1125 | H79: =ROUNDUP((F79*$E$69%)/168*G79,2) -> 0
C80: =C26 -> Lektors | F80: =F27 -> 1125 | H80: =ROUNDUP((F80*$E$69%)/168*G80,2) -> 0
C81: =C28 -> Vecākais speciālists Izglītības koordinācijas nodaļā | F81: =F28 -> 1287 | H81: =ROUNDUP((F81*$E$69%)/168*G81,2) -> 0
C82: =C29 -> 0 | F82: =F29 -> 0 | G82: =G29 -> 0 | H82: =ROUNDUP((F82*$E$69%)/168*G82,2) -> 0
C83: =C30 -> 0 | F83: =F30 -> 0 | G83: =G30 -> 0 | H83: =ROUNDUP((F83*$E$69%)/168*G83,2) -> 0
C84: =C31 -> 0 | F84: =F31 -> 0 | G84: =G31 -> 0 | H84: =ROUNDUP((F84*$E$69%)/168*G84,2) -> 0
C85: =C33 -> 0 | F85: =F32 -> 0 | G85: =G32 -> 0 | H85: =ROUNDUP((F85*$E$69%)/168*G85,2) -> 0
F86: =F33 -> 0 | G86: =G33 -> 0 | H86: =ROUNDUP((F86*$E$69%)/168*G86,2) -> 0
C87: =C34 -> 0 | F87: =F34 -> 0 | G87: =G34 -> 0 | H87: =ROUNDUP((F87*$E$69%)/168*G87,2) -> 0
C88: =C35 -> 0 | F88: =F35 -> 0 | G88: =G35 -> 0 | H88: =ROUNDUP((F88*$E$69%)/168*G88,2) -> 0
A89: 1148 | B89: Prēmijas un naudas balvas | C89: Ieņemamais amats | E89: Piemaksa % | F89: Mēnešalga | G89: Patērētais laiks (h) | H89: =SUM(H90:H109) -> 0
C90: =C15 -> VP priekšnieka vietnieks | E90: 10 | F90: =F15 -> 3125 | H90: =ROUNDUP((F90*$E$90%)/168*$G$90,2) -> 0
C91: =C16 -> VP Galvenās kriminālpolicijas pārvaldes priekšnieka vietnieks | F91: =F16 -> 2651 | H91: =ROUNDUP((F91*$E$90%)/168*$G$90,2) -> 0
C92: =C17 -> Lektors (ar SDP) | F92: =F17 -> 1677 | H92: =ROUNDUP((F92*$E$90%)/168*$G$90,2) -> 0
C93: =C18 -> 0 | F93: =F18 -> 0 | H93: =ROUNDUP((F93*$E$90%)/168*$G$90,2) -> 0
C94: =C19 -> 0 | F94: =F19 -> 0 | H94: =ROUNDUP((F94*$E$90%)/168*$G$90,2) -> 0
C95: =C20 -> 0 | F95: =F20 -> 0 | H95: =ROUNDUP((F95*$E$90%)/168*$G$90,2) -> 0
C96: =C21 -> 0 | F96: =F21 -> 0 | H96: =ROUNDUP((F96*$E$90%)/168*$G$90,2) -> 0
C97: =C22 -> 0 | F97: =F22 -> 0 | H97: =ROUNDUP((F97*$E$90%)/168*$G$90,2) -> 0
C98: =C23 -> 0 | F98: =F23 -> 0 | H98: =ROUNDUP((F98*$E$90%)/168*$G$90,2) -> 0
C99: =C24 -> 0 | F99: =F24 -> 0 | H99: =ROUNDUP((F99*$E$90%)/168*$G$90,2) -> 0
C100: =C26 -> Lektors | F100: =F26 -> 1125 | H100: =ROUNDUP((F100*$E$90%)/168*$G$90,2) -> 0
C101: =C27 -> Lektors | F101: =F27 -> 1125 | H101: =ROUNDUP((F101*$E$90%)/168*$G$90,2) -> 0
C102: =C28 -> Vecākais speciālists Izglītības koordinācijas nodaļā | F102: =F28 -> 1287 | H102: =ROUNDUP((F102*$E$90%)/168*$G$90,2) -> 0
C103: =C29 -> 0 | F103: =F29 -> 0 | G103: =G29 -> 0 | H103: =ROUNDUP((F103*$E$90%)/168*$G$90,2) -> 0
C104: =C30 -> 0 | F104: =F30 -> 0 | G104: =G30 -> 0 | H104: =ROUNDUP((F104*$E$90%)/168*$G$90,2) -> 0
...

Sheet 7.
A1: Maksas pakalpojumu izcenojuma aprēķins
A3: 7. Pieteikšanās dokumentu pieņemšana un reģistrēšana pilna vai nepilna laika studijām vēlākos studiju posmos
A5: Maksas pakalpojuma mērvienība – viena pieteikums
A9: EKK kods | B9: Rādītājs (materiāla/izejvielas nosaukums, atlīdzība un citi izmaksu veidi) | C9: Izmaksu apjoms gadā viena makasa pakalpojuma veida nodrošināšanai | I9: Piezīmes, komentāri
A10: 1 | B10: 2 | C10: 3
A11: Tiešās izmaksas
A12: 1000 | B12: Atlīdzība | H12: =SUM(H13,H106) -> 32.66
A13: 1100 | B13: Atalgojums | H13: =SUM(H14,H25,H36,H46,H66,H86) -> 25.4
A14: 1116 | B14: Mēnešalga amatpersonām ar speciālajām dienesta pakāpēm | C14: Ieņemamais amats | E14: M.a. grupa | F14: Mēnešalga | G14: Patērētais laiks (h) | H14: =SUM(H15:H24) -> 2.27
H15: =ROUNDUP((F15/168*G15),2) -> 0
C16: Katedras vadītājs | E16: 11 | F16: 2010 | G16: 0.167 | H16: =ROUNDUP((F16/168*G16),2) -> 2 | I16: Saskaņo salīidzinājuma protokolu
C17: Direktora vietnieks | E17: 14 | F17: 2253 | G17: 0.02 | H17: =ROUNDUP((F17/168*G17),2) -> 0.27 | I17: Paraksta salīidzinājuma protokolu
H18: =ROUNDUP((F18/168*G18),2) -> 0
H19: =ROUNDUP((F19/168*G19),2) -> 0
H20: =ROUNDUP((F20/168*G20),2) -> 0
H21: =ROUNDUP((F21/168*G21),2) -> 0
H22: =ROUNDUP((F22/168*G22),2) -> 0
H23: =ROUNDUP((F23/168*G23),2) -> 0
H24: =ROUNDUP((F24/168*G24),2) -> 0
A25: 1119 | B25: Pārējo darbinieku mēnešalga (darba alga) | C25: Ieņemamais amats | E25: M.a. grupa | F25: Mēnešalga | G25: Patērētais laiks (h) | H25: =SUM(H26:H35) -> 22.99
C26: Vecākais speciālists Izglītības koordinācijas nodaļā | E26: 10 | F26: 1287 | G26: 3 | H26: =ROUNDUP((F26/168*G26),2) -> 22.99
H27: =ROUNDUP((F27/168*G27),2) -> 0
H28: =ROUNDUP((F28/168*G28),2) -> 0
H29: =ROUNDUP((F29/168*G29),2) -> 0
H30: =ROUNDUP((F30/168*G30),2) -> 0
H31: =ROUNDUP((F31/168*G31),2) -> 0
H32: =ROUNDUP((F32/168*G32),2) -> 0
H33: =ROUNDUP((F33/168*G33),2) -> 0
H34: =ROUNDUP((F34/168*G34),2) -> 0
H35: =ROUNDUP((F35/168*G35),2) -> 0
A36: 1143 | B36: Piemaksa par speciālo dienesta pakāpi un diplomātisko rangu | C36: Speciālā dienesta pakāpe | F36: Piemaksa mēnesī | G36: Patērētais laiks (h) | H36: =SUM(H37:H45) -> 0.14
C37: Pulkvežletnants | F37: 120 | G37: =G16 -> 0.167 | H37: =ROUNDUP((F37/168*G37),2) -> 0.12
C38: Pulkvežletnants | F38: 120 | G38: =G17 -> 0.02 | H38: =ROUNDUP((F38/168*G38),2) -> 0.02
G39: =G18 -> 0 | H39: =ROUNDUP((F39/168*G39),2) -> 0
G40: =G19 -> 0 | H40: =ROUNDUP((F40/168*G40),2) -> 0
G41: =G20 -> 0 | H41: =ROUNDUP((F41/168*G41),2) -> 0
G42: =G21 -> 0 | H42: =ROUNDUP((F42/168*G42),2) -> 0
G43: =G22 -> 0 | H43: =ROUNDUP((F43/168*G43),2) -> 0
G44: =G23 -> 0 | H44: =ROUNDUP((F44/168*G44),2) -> 0
G45: =G24 -> 0 | H45: =ROUNDUP((F45/168*G45),2) -> 0
A46: 1146 | B46: Piemaksa par personisko darba ieguldījumu un darba kvalitāti | C46: Ieņemamais amats | E46: Piemaksa % | F46: Mēnešalga | G46: Patērētais laiks (h) | H46: =SUM(H47:H56) -> 0
C47: =C16 -> Katedras vadītājs | E47: 5 | F47: =F16 -> 2010 | H47: =ROUNDUP((F47*$E$47%)/168*G47,2) -> 0
C48: =C17 -> Direktora vietnieks | F48: =F17 -> 2253 | H48: =ROUNDUP((F48*$E$47%)/168*G48,2) -> 0
C49: =C18 -> 0 | F49: =F18 -> 0 | H49: =ROUNDUP((F49*$E$47%)/168*G49,2) -> 0
C50: =C19 -> 0 | F50: =F19 -> 0 | H50: =ROUNDUP((F50*$E$47%)/168*G50,2) -> 0
C51: =C20 -> 0 | F51: =F20 -> 0 | H51: =ROUNDUP((F51*$E$47%)/168*G51,2) -> 0
C52: =C21 -> 0 | F52: =F21 -> 0 | H52: =ROUNDUP((F52*$E$47%)/168*G52,2) -> 0
C53: =C22 -> 0 | F53: =F22 -> 0 | H53: =ROUNDUP((F53*$E$47%)/168*G53,2) -> 0
C54: =C23 -> 0 | F54: =F23 -> 0 | H54: =ROUNDUP((F54*$E$47%)/168*G54,2) -> 0
C55: =C24 -> 0 | F55: =F24 -> 0 | H55: =ROUNDUP((F55*$E$47%)/168*G55,2) -> 0
C56: =C26 -> Vecākais speciālists Izglītības koordinācijas nodaļā | F56: =F26 -> 1287 | H56: =ROUNDUP((F56*$E$47%)/168*G56,2) -> 0
C57: =C27 -> 0 | F57: =F27 -> 0 | G57: =G27 -> 0 | H57: =ROUNDUP((F57*#REF!%)/168*G57,2) -> #REF!
C58: =C28 -> 0 | F58: =F28 -> 0 | G58: =G28 -> 0 | H58: =ROUNDUP((F58*#REF!%)/168*G58,2) -> #REF!
C59: =C29 -> 0 | F59: =F29 -> 0 | G59: =G29 -> 0 | H59: =ROUNDUP((F59*#REF!%)/168*G59,2) -> #REF!
C60: =C30 -> 0 | F60: =F30 -> 0 | G60: =G30 -> 0 | H60: =ROUNDUP((F60*#REF!%)/168*G60,2) -> #REF!
C61: =C31 -> 0 | F61: =F31 -> 0 | G61: =G31 -> 0 | H61: =ROUNDUP((F61*#REF!%)/168*G61,2) -> #REF!
C62: =C32 -> 0 | F62: =F32 -> 0 | G62: =G32 -> 0 | H62: =ROUNDUP((F62*#REF!%)/168*G62,2) -> #REF!
C63: =C33 -> 0 | F63: =F33 -> 0 | G63: =G33 -> 0 | H63: =ROUNDUP((F63*#REF!%)/168*G63,2) -> #REF!
C64: =C34 -> 0 | F64: =F34 -> 0 | G64: =G34 -> 0 | H64: =ROUNDUP((F64*#REF!%)/168*G64,2) -> #REF!
C65: =C35 -> 0 | F65: =F35 -> 0 | G65: =G35 -> 0 | H65: =ROUNDUP((F65*#REF!%)/168*G65,2) -> #REF!
A66: 1147 | B66: Piemaksa par papildu darbu | C66: Ieņemamais amats | E66: Piemaksa % | F66: Mēnešalga | G66: Patērētais laiks (h) | H66: =SUM(H67:H85) -> 0
C67: =C16 -> Katedras vadītājs | E67: 5 | F67: =F16 -> 2010 | H67: =ROUNDUP((F67*$E$67%)/168*G67,2) -> 0
C68: =C17 -> Direktora vietnieks | F68: =F17 -> 2253 | H68: =ROUNDUP((F68*$E$67%)/168*G68,2) -> 0
C69: =C18 -> 0 | F69: =F18 -> 0 | H69: =ROUNDUP((F69*$E$67%)/168*G69,2) -> 0
C70: =C19 -> 0 | F70: =F19 -> 0 | H70: =ROUNDUP((F70*$E$67%)/168*G70,2) -> 0
C71: =C20 -> 0 | F71: =F20 -> 0 | H71: =ROUNDUP((F71*$E$67%)/168*G71,2) -> 0
C72: =C21 -> 0 | F72: =F21 -> 0 | H72: =ROUNDUP((F72*$E$67%)/168*G72,2) -> 0
C73: =C22 -> 0 | F73: =F22 -> 0 | H73: =ROUNDUP((F73*$E$67%)/168*G73,2) -> 0
C74: =C23 -> 0 | F74: =F23 -> 0 | H74: =ROUNDUP((F74*$E$67%)/168*G74,2) -> 0
C75: =C24 -> 0 | F75: =F24 -> 0 | H75: =ROUNDUP((F75*$E$67%)/168*G75,2) -> 0
C76: =C26 -> Vecākais speciālists Izglītības koordinācijas nodaļā | F76: =F26 -> 1287 | H76: =ROUNDUP((F76*$E$67%)/168*G76,2) -> 0
C77: =C27 -> 0 | F77: =F27 -> 0 | G77: =G27 -> 0 | H77: =ROUNDUP((F77*$E$67%)/168*G77,2) -> 0
C78: =C27 -> 0 | F78: =F28 -> 0 | G78: =G28 -> 0 | H78: =ROUNDUP((F78*$E$67%)/168*G78,2) -> 0
C79: =C30 -> 0 | F79: =F29 -> 0 | G79: =G29 -> 0 | H79: =ROUNDUP((F79*$E$67%)/168*G79,2) -> 0
C80: =C31 -> 0 | F80: =F30 -> 0 | G80: =G30 -> 0 | H80: =ROUNDUP((F80*$E$67%)/168*G80,2) -> 0
C81: =C32 -> 0 | F81: =F31 -> 0 | G81: =G31 -> 0 | H81: =ROUNDUP((F81*$E$67%)/168*G81,2) -> 0
C82: =C33 -> 0 | F82: =F32 -> 0 | G82: =G32 -> 0 | H82: =ROUNDUP((F82*$E$67%)/168*G82,2) -> 0
C83: =C34 -> 0 | F83: =F33 -> 0 | G83: =G33 -> 0 | H83: =ROUNDUP((F83*$E$67%)/168*G83,2) -> 0
F84: =F34 -> 0 | G84: =G34 -> 0 | H84: =ROUNDUP((F84*$E$67%)/168*G84,2) -> 0
C85: =C35 -> 0 | F85: =F35 -> 0 | G85: =G35 -> 0 | H85: =ROUNDUP((F85*$E$67%)/168*G85,2) -> 0
A86: 1148 | B86: Prēmijas un naudas balvas | C86: Ieņemamais amats | E86: Piemaksa % | F86: Mēnešalga | G86: Patērētais laiks (h) | H86: =SUM(H87:H105) -> 0
C87: =C16 -> Katedras vadītājs | E87: 10 | F87: =F16 -> 2010 | H87: =ROUNDUP((F87*$E$87%)/168*$G$87,2) -> 0
C88: =C17 -> Direktora vietnieks | F88: =F17 -> 2253 | H88: =ROUNDUP((F88*$E$87%)/168*$G$88,2) -> 0
C89: =C18 -> 0 | F89: =F18 -> 0 | H89: =ROUNDUP((F89*$E$87%)/168*$G$88,2) -> 0
C90: =C19 -> 0 | F90: =F19 -> 0 | H90: =ROUNDUP((F90*$E$87%)/168*$G$88,2) -> 0
C91: =C20 -> 0 | F91: =F20 -> 0 | H91: =ROUNDUP((F91*$E$87%)/168*$G$88,2) -> 0
C92: =C21 -> 0 | F92: =F21 -> 0 | H92: =ROUNDUP((F92*$E$87%)/168*$G$88,2) -> 0
C93: =C22 -> 0 | F93: =F22 -> 0 | H93: =ROUNDUP((F93*$E$87%)/168*$G$88,2) -> 0
C94: =C23 -> 0 | F94: =F23 -> 0 | H94: =ROUNDUP((F94*$E$87%)/168*$G$88,2) -> 0
C95: =C24 -> 0 | F95: =F24 -> 0 | H95: =ROUNDUP((F95*$E$87%)/168*$G$88,2) -> 0
C96: =C26 -> Vecākais speciālists Izglītības koordinācijas nodaļā | F96: =F26 -> 1287 | H96: =ROUNDUP((F96*$E$87%)/168*$G$96,2) -> 0
C97: =C27 -> 0 | F97: =F27 -> 0 | G97: =G27 -> 0 | H97: =ROUNDUP((F97*$E$87%)/168*$G$96,2) -> 0
C98: =C28 -> 0 | F98: =F28 -> 0 | G98: =G28 -> 0 | H98: =ROUNDUP((F98*$E$87%)/168*$G$96,2) -> 0
C99: =C29 -> 0 | F99: =F29 -> 0 | G99: =G29 -> 0 | H99: =ROUNDUP((F99*$E$87%)/168*$G$96,2) -> 0
C100: =C30 -> 0 | F100: =F30 -> 0 | G100: =G30 -> 0 | H100: =ROUNDUP((F100*$E$87%)/168*$G$96,2) -> 0
C101: =C31 -> 0 | F101: =F31 -> 0 | G101: =G31 -> 0 | H101: =ROUNDUP((F101*$E$87%)/168*$G$96,2) -> 0
C102: =C32 -> 0 | F102: =F32 -> 0 | G102: =G32 -> 0 | H102: =ROUNDUP((F102*$E$87%)/168*$G$96,2) -> 0
C103: =C33 -> 0 | F103: =F33 -> 0 | G103: =G33 -> 0 | H103: =ROUNDUP((F103*$E$87%)/168*$G$96,2) -> 0
C104: =C34 -> 0 | F104: =F34 -> 0 | G104: =G34 -> 0 | H104: =ROUNDUP((F104*$E$87%)/168*$G$96,2) -> 0
C105: =C35 -> 0 | F105: =F35 -> 0 | G105: =G35 -> 0 | H105: =ROUNDUP((F105*$E$87%)/168*$G$96,2) -> 0
...

Sheet 8.1.
A1: Maksas pakalpojumu izcenojuma aprēķins
A3: 8. Izglītību apliecinoša dokumenta dublikāta sagatavošana un izsniegšana:
A4: 8.1. diploma dublikāta sagatavošana un izsniegšana (bez pielikuma)
A5: Maksas pakalpojuma mērvienība – viens diploms (bez pielikuma)
A9: EKK kods | B9: Rādītājs (materiāla/izejvielas nosaukums, atlīdzība un citi izmaksu veidi) | C9: Izmaksu apjoms gadā viena makasa pakalpojuma veida nodrošināšanai | I9: Piezīmes, komentāri
A10: 1 | B10: 2 | C10: 3
A11: Tiešās izmaksas
A12: 1000 | B12: Atlīdzība | H12: =SUM(H13,H110) -> 9.87
A13: 1100 | B13: Atalgojums | H13: =SUM(H14,H25,H36,H47,H68,H89) -> 7.67
A14: 1116 | B14: Mēnešalga amatpersonām ar speciālajām dienesta pakāpēm | C14: Ieņememais amats | E14: M.a. grupa | F14: Mēnešalga | G14: Patērētais laiks (h) | H14: =SUM(H15:H24) -> 0
H15: =ROUNDUP((F15/168*G15),2) -> 0
H16: =ROUNDUP((F16/168*G16),2) -> 0
H17: =ROUNDUP((F17/168*G17),2) -> 0
H18: =ROUNDUP((F18/168*G18),2) -> 0
H19: =ROUNDUP((F19/168*G19),2) -> 0
H20: =ROUNDUP((F20/168*G20),2) -> 0
H21: =ROUNDUP((F21/168*G21),2) -> 0
H22: =ROUNDUP((F22/168*G22),2) -> 0
H23: =ROUNDUP((F23/168*G23),2) -> 0
H24: =ROUNDUP((F24/168*G24),2) -> 0
A25: 1119 | B25: Pārējo darbinieku mēnešalga (darba alga) | C25: Ieņemamais amats | E25: M.a. grupa | F25: Mēnešalga | G25: Patērētais laiks (h) | H25: =SUM(H26:H35) -> 7.67
C26: Vecākais speciālists Izglītības koordinācijas nodaļā | E26: 10 | F26: 1287 | G26: 1 | H26: =ROUNDUP((F26/168*G26),2) -> 7.67
H27: =ROUNDUP((F27/168*G27),2) -> 0
H28: =ROUNDUP((F28/168*G28),2) -> 0
H29: =ROUNDUP((F29/168*G29),2) -> 0
H30: =ROUNDUP((F30/168*G30),2) -> 0
H31: =ROUNDUP((F31/168*G31),2) -> 0
H32: =ROUNDUP((F32/168*G32),2) -> 0
H33: =ROUNDUP((F33/168*G33),2) -> 0
H34: =ROUNDUP((F34/168*G34),2) -> 0
H35: =ROUNDUP((F35/168*G35),2) -> 0
A36: 1143 | B36: Piemaksa par speciālo dienesta pakāpi un diplomātisko rangu | C36: Speciālā dienesta pakāpe | F36: Piemaksa mēnesī | G36: Patērētais laiks (h) | H36: =SUM(H37:H46) -> 0
G37: =G15 -> 0 | H37: =ROUNDUP((F37/168*G37),2) -> 0
G38: =G16 -> 0 | H38: =ROUNDUP((F38/168*G38),2) -> 0
G39: =G17 -> 0 | H39: =ROUNDUP((F39/168*G39),2) -> 0
G40: =G18 -> 0 | H40: =ROUNDUP((F40/168*G40),2) -> 0
G41: =G19 -> 0 | H41: =ROUNDUP((F41/168*G41),2) -> 0
G42: =G20 -> 0 | H42: =ROUNDUP((F42/168*G42),2) -> 0
G43: =G21 -> 0 | H43: =ROUNDUP((F43/168*G43),2) -> 0
G44: =G22 -> 0 | H44: =ROUNDUP((F44/168*G44),2) -> 0
G45: =G23 -> 0 | H45: =ROUNDUP((F45/168*G45),2) -> 0
G46: =G24 -> 0 | H46: =ROUNDUP((F46/168*G46),2) -> 0
A47: 1146 | B47: Piemaksa par personisko darba ieguldījumu un darba kvalitāti | C47: Ieņemamais amats | E47: Piemaksa % | F47: Mēnešalga | G47: Patērētais laiks (h) | H47: =SUM(H48:H67) -> 0
C48: =C15 -> 0 | E48: 5 | F48: =F15 -> 0 | G48: =G15 -> 0 | H48: =ROUNDUP((F48*$E$48%)/168*G48,2) -> 0
C49: =C16 -> 0 | F49: =F16 -> 0 | G49: =G16 -> 0 | H49: =ROUNDUP((F49*$E$48%)/168*G49,2) -> 0
C50: =C17 -> 0 | F50: =F17 -> 0 | G50: =G17 -> 0 | H50: =ROUNDUP((F50*$E$48%)/168*G50,2) -> 0
C51: =C18 -> 0 | F51: =F18 -> 0 | G51: =G18 -> 0 | H51: =ROUNDUP((F51*$E$48%)/168*G51,2) -> 0
C52: =C19 -> 0 | F52: =F19 -> 0 | G52: =G19 -> 0 | H52: =ROUNDUP((F52*$E$48%)/168*G52,2) -> 0
C53: =C20 -> 0 | F53: =F20 -> 0 | G53: =G20 -> 0 | H53: =ROUNDUP((F53*$E$48%)/168*G53,2) -> 0
C54: =C21 -> 0 | F54: =F21 -> 0 | G54: =G21 -> 0 | H54: =ROUNDUP((F54*$E$48%)/168*G54,2) -> 0
C55: =C22 -> 0 | F55: =F22 -> 0 | G55: =G22 -> 0 | H55: =ROUNDUP((F55*$E$48%)/168*G55,2) -> 0
C56: =C23 -> 0 | F56: =F23 -> 0 | G56: =G23 -> 0 | H56: =ROUNDUP((F56*$E$48%)/168*G56,2) -> 0
C57: =C24 -> 0 | F57: =F24 -> 0 | G57: =G24 -> 0 | H57: =ROUNDUP((F57*$E$48%)/168*G57,2) -> 0
C58: =C26 -> Vecākais speciālists Izglītības koordinācijas nodaļā | F58: =F26 -> 1287 | H58: =ROUNDUP((F58*$E$48%)/168*G58,2) -> 0
C59: =C27 -> 0 | F59: =F27 -> 0 | G59: =G27 -> 0 | H59: =ROUNDUP((F59*$E$48%)/168*G59,2) -> 0
C60: =C28 -> 0 | F60: =F28 -> 0 | G60: =G28 -> 0 | H60: =ROUNDUP((F60*$E$48%)/168*G60,2) -> 0
C61: =C29 -> 0 | F61: =F29 -> 0 | G61: =G29 -> 0 | H61: =ROUNDUP((F61*$E$48%)/168*G61,2) -> 0
C62: =C30 -> 0 | F62: =F30 -> 0 | G62: =G30 -> 0 | H62: =ROUNDUP((F62*$E$48%)/168*G62,2) -> 0
C63: =C31 -> 0 | F63: =F31 -> 0 | G63: =G31 -> 0 | H63: =ROUNDUP((F63*$E$48%)/168*G63,2) -> 0
C64: =C32 -> 0 | F64: =F32 -> 0 | G64: =G32 -> 0 | H64: =ROUNDUP((F64*$E$48%)/168*G64,2) -> 0
C65: =C33 -> 0 | F65: =F33 -> 0 | G65: =G33 -> 0 | H65: =ROUNDUP((F65*$E$48%)/168*G65,2) -> 0
C66: =C34 -> 0 | F66: =F34 -> 0 | G66: =G34 -> 0 | H66: =ROUNDUP((F66*$E$48%)/168*G66,2) -> 0
C67: =C35 -> 0 | F67: =F35 -> 0 | G67: =G35 -> 0 | H67: =ROUNDUP((F67*$E$48%)/168*G67,2) -> 0
A68: 1147 | B68: Piemaksa par papildu darbu | C68: Ieņemamais amats | E68: Piemaksa % | F68: Mēnešalga | G68: Patērētais laiks (h) | H68: =SUM(H69:H88) -> 0
C69: =C15 -> 0 | E69: 5 | F69: =F15 -> 0 | G69: =G15 -> 0 | H69: =ROUNDUP((F69*$E$69%)/168*G69,2) -> 0
C70: =C16 -> 0 | F70: =F16 -> 0 | G70: =G16 -> 0 | H70: =ROUNDUP((F70*$E$69%)/168*G70,2) -> 0
C71: =C17 -> 0 | F71: =F17 -> 0 | G71: =G17 -> 0 | H71: =ROUNDUP((F71*$E$69%)/168*G71,2) -> 0
C72: =C18 -> 0 | F72: =F18 -> 0 | G72: =G18 -> 0 | H72: =ROUNDUP((F72*$E$69%)/168*G72,2) -> 0
C73: =C19 -> 0 | F73: =F19 -> 0 | G73: =G19 -> 0 | H73: =ROUNDUP((F73*$E$69%)/168*G73,2) -> 0
C74: =C20 -> 0 | F74: =F20 -> 0 | G74: =G20 -> 0 | H74: =ROUNDUP((F74*$E$69%)/168*G74,2) -> 0
C75: =C21 -> 0 | F75: =F21 -> 0 | G75: =G21 -> 0 | H75: =ROUNDUP((F75*$E$69%)/168*G75,2) -> 0
C76: =C22 -> 0 | F76: =F22 -> 0 | G76: =G22 -> 0 | H76: =ROUNDUP((F76*$E$69%)/168*G76,2) -> 0
C77: =C23 -> 0 | F77: =F23 -> 0 | G77: =G23 -> 0 | H77: =ROUNDUP((F77*$E$69%)/168*G77,2) -> 0
C78: =C24 -> 0 | F78: =F24 -> 0 | G78: =G24 -> 0 | H78: =ROUNDUP((F78*$E$69%)/168*G78,2) -> 0
C79: =C26 -> Vecākais speciālists Izglītības koordinācijas nodaļā | F79: =F26 -> 1287 | H79: =ROUNDUP((F79*$E$69%)/168*G79,2) -> 0
C80: =C27 -> 0 | F80: =F27 -> 0 | G80: =G27 -> 0 | H80: =ROUNDUP((F80*$E$69%)/168*G80,2) -> 0
C81: =C27 -> 0 | F81: =F28 -> 0 | G81: =G28 -> 0 | H81: =ROUNDUP((F81*$E$69%)/168*G81,2) -> 0
C82: =C30 -> 0 | F82: =F29 -> 0 | G82: =G29 -> 0 | H82: =ROUNDUP((F82*$E$69%)/168*G82,2) -> 0
C83: =C31 -> 0 | F83: =F30 -> 0 | G83: =G30 -> 0 | H83: =ROUNDUP((F83*$E$69%)/168*G83,2) -> 0
C84: =C32 -> 0 | F84: =F31 -> 0 | G84: =G31 -> 0 | H84: =ROUNDUP((F84*$E$69%)/168*G84,2) -> 0
C85: =C33 -> 0 | F85: =F32 -> 0 | G85: =G32 -> 0 | H85: =ROUNDUP((F85*$E$69%)/168*G85,2) -> 0
C86: =C34 -> 0 | F86: =F33 -> 0 | G86: =G33 -> 0 | H86: =ROUNDUP((F86*$E$69%)/168*G86,2) -> 0
F87: =F34 -> 0 | G87: =G34 -> 0 | H87: =ROUNDUP((F87*$E$69%)/168*G87,2) -> 0
C88: =C35 -> 0 | F88: =F35 -> 0 | G88: =G35 -> 0 | H88: =ROUNDUP((F88*$E$69%)/168*G88,2) -> 0
A89: 1148 | B89: Prēmijas un naudas balvas | C89: Ieņemamais amats | E89: Piemaksa % | F89: Mēnešalga | G89: Patērētais laiks (h) | H89: =SUM(H90:H109) -> 0
C90: =C15 -> 0 | E90: 10 | F90: =F15 -> 0 | G90: =G15 -> 0 | H90: =ROUNDUP((F90*$E$90%)/168*$G$90,2) -> 0
C91: =C16 -> 0 | F91: =F16 -> 0 | G91: =G16 -> 0 | H91: =ROUNDUP((F91*$E$90%)/168*$G$90,2) -> 0
C92: =C17 -> 0 | F92: =F17 -> 0 | G92: =G17 -> 0 | H92: =ROUNDUP((F92*$E$90%)/168*$G$90,2) -> 0
C93: =C18 -> 0 | F93: =F18 -> 0 | G93: =G18 -> 0 | H93: =ROUNDUP((F93*$E$90%)/168*$G$90,2) -> 0
C94: =C19 -> 0 | F94: =F19 -> 0 | G94: =G19 -> 0 | H94: =ROUNDUP((F94*$E$90%)/168*$G$90,2) -> 0
C95: =C20 -> 0 | F95: =F20 -> 0 | G95: =G20 -> 0 | H95: =ROUNDUP((F95*$E$90%)/168*$G$90,2) -> 0
C96: =C21 -> 0 | F96: =F21 -> 0 | G96: =G21 -> 0 | H96: =ROUNDUP((F96*$E$90%)/168*$G$90,2) -> 0
C97: =C22 -> 0 | F97: =F22 -> 0 | G97: =G22 -> 0 | H97: =ROUNDUP((F97*$E$90%)/168*$G$90,2) -> 0
C98: =C23 -> 0 | F98: =F23 -> 0 | G98: =G23 -> 0 | H98: =ROUNDUP((F98*$E$90%)/168*$G$90,2) -> 0
C99: =C24 -> 0 | F99: =F24 -> 0 | G99: =G24 -> 0 | H99: =ROUNDUP((F99*$E$90%)/168*$G$90,2) -> 0
C100: =C26 -> Vecākais speciālists Izglītības koordinācijas nodaļā | F100: =F26 -> 1287 | H100: =ROUNDUP((F100*$E$90%)/168*$G$100,2) -> 0
C101: =C27 -> 0 | F101: =F27 -> 0 | G101: =G27 -> 0 | H101: =ROUNDUP((F101*$E$90%)/168*$G$90,2) -> 0
C102: =C28 -> 0 | F102: =F28 -> 0 | G102: =G28 -> 0 | H102: =ROUNDUP((F102*$E$90%)/168*$G$90,2) -> 0
C103: =C29 -> 0 | F103: =F29 -> 0 | G103: =G29 -> 0 | H103: =ROUNDUP((F103*$E$90%)/168*$G$90,2) -> 0
C104: =C30 -> 0 | F104: =F30 -> 0 | G104: =G30 -> 0 | H104: =ROUNDUP((F104*$E$90%)/168*$G$90,2) -> 0
...

Sheet 8.2.
A1: Maksas pakalpojumu izcenojuma aprēķins
A3: 8. Izglītību apliecinoša dokumenta dublikāta izsniegšana:
A4: 8.2. diploma pielikuma dublikāta sagatavošana un izsniegšana
A5: Maksas pakalpojuma mērvienība – viens pielikums
A9: EKK kods | B9: Rādītājs (materiāla/izejvielas nosaukums, atlīdzība un citi izmaksu veidi) | C9: Izmaksu apjoms gadā viena makasa pakalpojuma veida nodrošināšanai | I9: Piezīmes, komentāri
A10: 1 | B10: 2 | C10: 3
A11: Tiešās izmaksas
A12: 1000 | B12: Atlīdzība | H12: =SUM(H13,H110) -> 19.72
A13: 1100 | B13: Atalgojums | H13: =SUM(H14,H25,H36,H47,H68,H89) -> 15.33
A14: 1116 | B14: Mēnešalga amatpersonām ar speciālajām dienesta pakāpēm | C14: Ieņememais amats | E14: M.a. grupa | F14: Mēnešalga | G14: Patērētais laiks (h) | H14: =SUM(H15:H24) -> 0
H15: =ROUNDUP((F15/168*G15),2) -> 0
H16: =ROUNDUP((F16/168*G16),2) -> 0
H17: =ROUNDUP((F17/168*G17),2) -> 0
H18: =ROUNDUP((F18/168*G18),2) -> 0
H19: =ROUNDUP((F19/168*G19),2) -> 0
H20: =ROUNDUP((F20/168*G20),2) -> 0
H21: =ROUNDUP((F21/168*G21),2) -> 0
H22: =ROUNDUP((F22/168*G22),2) -> 0
H23: =ROUNDUP((F23/168*G23),2) -> 0
H24: =ROUNDUP((F24/168*G24),2) -> 0
A25: 1119 | B25: Pārējo darbinieku mēnešalga (darba alga) | C25: Ieņemamais amats | E25: M.a. grupa | F25: Mēnešalga | G25: Patērētais laiks (h) | H25: =SUM(H26:H35) -> 15.33
C26: Vecākais speciālists Izglītības koordinācijas nodaļā | E26: 10 | F26: 1287 | G26: 2 | H26: =ROUNDUP((F26/168*G26),2) -> 15.33
H27: =ROUNDUP((F27/168*G27),2) -> 0
H28: =ROUNDUP((F28/168*G28),2) -> 0
H29: =ROUNDUP((F29/168*G29),2) -> 0
H30: =ROUNDUP((F30/168*G30),2) -> 0
H31: =ROUNDUP((F31/168*G31),2) -> 0
H32: =ROUNDUP((F32/168*G32),2) -> 0
H33: =ROUNDUP((F33/168*G33),2) -> 0
H34: =ROUNDUP((F34/168*G34),2) -> 0
H35: =ROUNDUP((F35/168*G35),2) -> 0
A36: 1143 | B36: Piemaksa par speciālo dienesta pakāpi un diplomātisko rangu | C36: Speciālā dienesta pakāpe | F36: Piemaksa mēnesī | G36: Patērētais laiks (h) | H36: =SUM(H37:H46) -> 0
G37: =G15 -> 0 | H37: =ROUNDUP((F37/168*G37),2) -> 0
G38: =G16 -> 0 | H38: =ROUNDUP((F38/168*G38),2) -> 0
G39: =G17 -> 0 | H39: =ROUNDUP((F39/168*G39),2) -> 0
G40: =G18 -> 0 | H40: =ROUNDUP((F40/168*G40),2) -> 0
G41: =G19 -> 0 | H41: =ROUNDUP((F41/168*G41),2) -> 0
G42: =G20 -> 0 | H42: =ROUNDUP((F42/168*G42),2) -> 0
G43: =G21 -> 0 | H43: =ROUNDUP((F43/168*G43),2) -> 0
G44: =G22 -> 0 | H44: =ROUNDUP((F44/168*G44),2) -> 0
G45: =G23 -> 0 | H45: =ROUNDUP((F45/168*G45),2) -> 0
G46: =G24 -> 0 | H46: =ROUNDUP((F46/168*G46),2) -> 0
A47: 1146 | B47: Piemaksa par personisko darba ieguldījumu un darba kvalitāti | C47: Ieņemamais amats | E47: Piemaksa % | F47: Mēnešalga | G47: Patērētais laiks (h) | H47: =SUM(H48:H67) -> 0
C48: =C15 -> 0 | E48: 5 | F48: =F15 -> 0 | G48: =G15 -> 0 | H48: =ROUNDUP((F48*$E$48%)/168*G48,2) -> 0
C49: =C16 -> 0 | F49: =F16 -> 0 | G49: =G16 -> 0 | H49: =ROUNDUP((F49*$E$48%)/168*G49,2) -> 0
C50: =C17 -> 0 | F50: =F17 -> 0 | G50: =G17 -> 0 | H50: =ROUNDUP((F50*$E$48%)/168*G50,2) -> 0
C51: =C18 -> 0 | F51: =F18 -> 0 | G51: =G18 -> 0 | H51: =ROUNDUP((F51*$E$48%)/168*G51,2) -> 0
C52: =C19 -> 0 | F52: =F19 -> 0 | G52: =G19 -> 0 | H52: =ROUNDUP((F52*$E$48%)/168*G52,2) -> 0
C53: =C20 -> 0 | F53: =F20 -> 0 | G53: =G20 -> 0 | H53: =ROUNDUP((F53*$E$48%)/168*G53,2) -> 0
C54: =C21 -> 0 | F54: =F21 -> 0 | G54: =G21 -> 0 | H54: =ROUNDUP((F54*$E$48%)/168*G54,2) -> 0
C55: =C22 -> 0 | F55: =F22 -> 0 | G55: =G22 -> 0 | H55: =ROUNDUP((F55*$E$48%)/168*G55,2) -> 0
C56: =C23 -> 0 | F56: =F23 -> 0 | G56: =G23 -> 0 | H56: =ROUNDUP((F56*$E$48%)/168*G56,2) -> 0
C57: =C24 -> 0 | F57: =F24 -> 0 | G57: =G24 -> 0 | H57: =ROUNDUP((F57*$E$48%)/168*G57,2) -> 0
C58: =C26 -> Vecākais speciālists Izglītības koordinācijas nodaļā | F58: =F26 -> 1287 | H58: =ROUNDUP((F58*$E$48%)/168*G58,2) -> 0
C59: =C27 -> 0 | F59: =F27 -> 0 | G59: =G27 -> 0 | H59: =ROUNDUP((F59*$E$48%)/168*G59,2) -> 0
C60: =C28 -> 0 | F60: =F28 -> 0 | G60: =G28 -> 0 | H60: =ROUNDUP((F60*$E$48%)/168*G60,2) -> 0
C61: =C29 -> 0 | F61: =F29 -> 0 | G61: =G29 -> 0 | H61: =ROUNDUP((F61*$E$48%)/168*G61,2) -> 0
C62: =C30 -> 0 | F62: =F30 -> 0 | G62: =G30 -> 0 | H62: =ROUNDUP((F62*$E$48%)/168*G62,2) -> 0
C63: =C31 -> 0 | F63: =F31 -> 0 | G63: =G31 -> 0 | H63: =ROUNDUP((F63*$E$48%)/168*G63,2) -> 0
C64: =C32 -> 0 | F64: =F32 -> 0 | G64: =G32 -> 0 | H64: =ROUNDUP((F64*$E$48%)/168*G64,2) -> 0
C65: =C33 -> 0 | F65: =F33 -> 0 | G65: =G33 -> 0 | H65: =ROUNDUP((F65*$E$48%)/168*G65,2) -> 0
C66: =C34 -> 0 | F66: =F34 -> 0 | G66: =G34 -> 0 | H66: =ROUNDUP((F66*$E$48%)/168*G66,2) -> 0
C67: =C35 -> 0 | F67: =F35 -> 0 | G67: =G35 -> 0 | H67: =ROUNDUP((F67*$E$48%)/168*G67,2) -> 0
A68: 1147 | B68: Piemaksa par papildu darbu | C68: Ieņemamais amats | E68: Piemaksa % | F68: Mēnešalga | G68: Patērētais laiks (h) | H68: =SUM(H69:H88) -> 0
C69: =C15 -> 0 | E69: 5 | F69: =F15 -> 0 | G69: =G15 -> 0 | H69: =ROUNDUP((F69*$E$69%)/168*G69,2) -> 0
C70: =C16 -> 0 | F70: =F16 -> 0 | G70: =G16 -> 0 | H70: =ROUNDUP((F70*$E$69%)/168*G70,2) -> 0
C71: =C17 -> 0 | F71: =F17 -> 0 | G71: =G17 -> 0 | H71: =ROUNDUP((F71*$E$69%)/168*G71,2) -> 0
C72: =C18 -> 0 | F72: =F18 -> 0 | G72: =G18 -> 0 | H72: =ROUNDUP((F72*$E$69%)/168*G72,2) -> 0
C73: =C19 -> 0 | F73: =F19 -> 0 | G73: =G19 -> 0 | H73: =ROUNDUP((F73*$E$69%)/168*G73,2) -> 0
C74: =C20 -> 0 | F74: =F20 -> 0 | G74: =G20 -> 0 | H74: =ROUNDUP((F74*$E$69%)/168*G74,2) -> 0
C75: =C21 -> 0 | F75: =F21 -> 0 | G75: =G21 -> 0 | H75: =ROUNDUP((F75*$E$69%)/168*G75,2) -> 0
C76: =C22 -> 0 | F76: =F22 -> 0 | G76: =G22 -> 0 | H76: =ROUNDUP((F76*$E$69%)/168*G76,2) -> 0
C77: =C23 -> 0 | F77: =F23 -> 0 | G77: =G23 -> 0 | H77: =ROUNDUP((F77*$E$69%)/168*G77,2) -> 0
C78: =C24 -> 0 | F78: =F24 -> 0 | G78: =G24 -> 0 | H78: =ROUNDUP((F78*$E$69%)/168*G78,2) -> 0
C79: =C26 -> Vecākais speciālists Izglītības koordinācijas nodaļā | F79: =F26 -> 1287 | H79: =ROUNDUP((F79*$E$69%)/168*G79,2) -> 0
C80: =C27 -> 0 | F80: =F27 -> 0 | G80: =G27 -> 0 | H80: =ROUNDUP((F80*$E$69%)/168*G80,2) -> 0
C81: =C27 -> 0 | F81: =F28 -> 0 | G81: =G28 -> 0 | H81: =ROUNDUP((F81*$E$69%)/168*G81,2) -> 0
C82: =C30 -> 0 | F82: =F29 -> 0 | G82: =G29 -> 0 | H82: =ROUNDUP((F82*$E$69%)/168*G82,2) -> 0
C83: =C31 -> 0 | F83: =F30 -> 0 | G83: =G30 -> 0 | H83: =ROUNDUP((F83*$E$69%)/168*G83,2) -> 0
C84: =C32 -> 0 | F84: =F31 -> 0 | G84: =G31 -> 0 | H84: =ROUNDUP((F84*$E$69%)/168*G84,2) -> 0
C85: =C33 -> 0 | F85: =F32 -> 0 | G85: =G32 -> 0 | H85: =ROUNDUP((F85*$E$69%)/168*G85,2) -> 0
C86: =C34 -> 0 | F86: =F33 -> 0 | G86: =G33 -> 0 | H86: =ROUNDUP((F86*$E$69%)/168*G86,2) -> 0
F87: =F34 -> 0 | G87: =G34 -> 0 | H87: =ROUNDUP((F87*$E$69%)/168*G87,2) -> 0
C88: =C35 -> 0 | F88: =F35 -> 0 | G88: =G35 -> 0 | H88: =ROUNDUP((F88*$E$69%)/168*G88,2) -> 0
A89: 1148 | B89: Prēmijas un naudas balvas | C89: Ieņemamais amats | E89: Piemaksa % | F89: Mēnešalga | G89: Patērētais laiks (h) | H89: =SUM(H90:H109) -> 0
C90: =C15 -> 0 | E90: 10 | F90: =F15 -> 0 | G90: =G15 -> 0 | H90: =ROUNDUP((F90*$E$90%)/168*$G$90,2) -> 0
C91: =C16 -> 0 | F91: =F16 -> 0 | G91: =G16 -> 0 | H91: =ROUNDUP((F91*$E$90%)/168*$G$90,2) -> 0
C92: =C17 -> 0 | F92: =F17 -> 0 | G92: =G17 -> 0 | H92: =ROUNDUP((F92*$E$90%)/168*$G$90,2) -> 0
C93: =C18 -> 0 | F93: =F18 -> 0 | G93: =G18 -> 0 | H93: =ROUNDUP((F93*$E$90%)/168*$G$90,2) -> 0
C94: =C19 -> 0 | F94: =F19 -> 0 | G94: =G19 -> 0 | H94: =ROUNDUP((F94*$E$90%)/168*$G$90,2) -> 0
C95: =C20 -> 0 | F95: =F20 -> 0 | G95: =G20 -> 0 | H95: =ROUNDUP((F95*$E$90%)/168*$G$90,2) -> 0
C96: =C21 -> 0 | F96: =F21 -> 0 | G96: =G21 -> 0 | H96: =ROUNDUP((F96*$E$90%)/168*$G$90,2) -> 0
C97: =C22 -> 0 | F97: =F22 -> 0 | G97: =G22 -> 0 | H97: =ROUNDUP((F97*$E$90%)/168*$G$90,2) -> 0
C98: =C23 -> 0 | F98: =F23 -> 0 | G98: =G23 -> 0 | H98: =ROUNDUP((F98*$E$90%)/168*$G$90,2) -> 0
C99: =C24 -> 0 | F99: =F24 -> 0 | G99: =G24 -> 0 | H99: =ROUNDUP((F99*$E$90%)/168*$G$90,2) -> 0
C100: =C26 -> Vecākais speciālists Izglītības koordinācijas nodaļā | F100: =F26 -> 1287 | H100: =ROUNDUP((F100*$E$90%)/168*$G$100,2) -> 0
C101: =C27 -> 0 | F101: =F27 -> 0 | G101: =G27 -> 0 | H101: =ROUNDUP((F101*$E$90%)/168*$G$90,2) -> 0
C102: =C28 -> 0 | F102: =F28 -> 0 | G102: =G28 -> 0 | H102: =ROUNDUP((F102*$E$90%)/168*$G$90,2) -> 0
C103: =C29 -> 0 | F103: =F29 -> 0 | G103: =G29 -> 0 | H103: =ROUNDUP((F103*$E$90%)/168*$G$90,2) -> 0
C104: =C30 -> 0 | F104: =F30 -> 0 | G104: =G30 -> 0 | H104: =ROUNDUP((F104*$E$90%)/168*$G$90,2) -> 0
...

Sheet 8.3.
A1: Maksas pakalpojumu izcenojuma aprēķins
A3: 8. Izglītību apliecinoša dokumenta dublikāta izsniegšana:
A4: 8.3. diploma un pielikuma dublikāta sagatavošana un izsniegšana
A5: Maksas pakalpojuma mērvienība – viens diploms ar pielikumu
A9: EKK kods | B9: Rādītājs (materiāla/izejvielas nosaukums, atlīdzība un citi izmaksu veidi) | C9: Izmaksu apjoms gadā viena makasa pakalpojuma veida nodrošināšanai | I9: Piezīmes, komentāri
A10: 1 | B10: 2 | C10: 3
A11: Tiešās izmaksas
A12: 1000 | B12: Atlīdzība | H12: =SUM(H13,H110) -> 29.56
A13: 1100 | B13: Atalgojums | H13: =SUM(H14,H25,H36,H47,H68,H89) -> 22.99
A14: 1116 | B14: Mēnešalga amatpersonām ar speciālajām dienesta pakāpēm | C14: Ieņememais amats | E14: M.a. grupa | F14: Mēnešalga | G14: Patērētais laiks (h) | H14: =SUM(H15:H24) -> 0
H15: =ROUNDUP((F15/168*G15),2) -> 0
H16: =ROUNDUP((F16/168*G16),2) -> 0
H17: =ROUNDUP((F17/168*G17),2) -> 0
H18: =ROUNDUP((F18/168*G18),2) -> 0
H19: =ROUNDUP((F19/168*G19),2) -> 0
H20: =ROUNDUP((F20/168*G20),2) -> 0
H21: =ROUNDUP((F21/168*G21),2) -> 0
H22: =ROUNDUP((F22/168*G22),2) -> 0
H23: =ROUNDUP((F23/168*G23),2) -> 0
H24: =ROUNDUP((F24/168*G24),2) -> 0
A25: 1119 | B25: Pārējo darbinieku mēnešalga (darba alga) | C25: Ieņemamais amats | E25: M.a. grupa | F25: Mēnešalga | G25: Patērētais laiks (h) | H25: =SUM(H26:H35) -> 22.99
C26: Vecākais speciālists Izglītības koordinācijas nodaļā | E26: 10 | F26: 1287 | G26: 3 | H26: =ROUNDUP((F26/168*G26),2) -> 22.99
H27: =ROUNDUP((F27/168*G27),2) -> 0
H28: =ROUNDUP((F28/168*G28),2) -> 0
H29: =ROUNDUP((F29/168*G29),2) -> 0
H30: =ROUNDUP((F30/168*G30),2) -> 0
H31: =ROUNDUP((F31/168*G31),2) -> 0
H32: =ROUNDUP((F32/168*G32),2) -> 0
H33: =ROUNDUP((F33/168*G33),2) -> 0
H34: =ROUNDUP((F34/168*G34),2) -> 0
H35: =ROUNDUP((F35/168*G35),2) -> 0
A36: 1143 | B36: Piemaksa par speciālo dienesta pakāpi un diplomātisko rangu | C36: Speciālā dienesta pakāpe | F36: Piemaksa mēnesī | G36: Patērētais laiks (h) | H36: =SUM(H37:H46) -> 0
G37: =G15 -> 0 | H37: =ROUNDUP((F37/168*G37),2) -> 0
G38: =G16 -> 0 | H38: =ROUNDUP((F38/168*G38),2) -> 0
G39: =G17 -> 0 | H39: =ROUNDUP((F39/168*G39),2) -> 0
G40: =G18 -> 0 | H40: =ROUNDUP((F40/168*G40),2) -> 0
G41: =G19 -> 0 | H41: =ROUNDUP((F41/168*G41),2) -> 0
G42: =G20 -> 0 | H42: =ROUNDUP((F42/168*G42),2) -> 0
G43: =G21 -> 0 | H43: =ROUNDUP((F43/168*G43),2) -> 0
G44: =G22 -> 0 | H44: =ROUNDUP((F44/168*G44),2) -> 0
G45: =G23 -> 0 | H45: =ROUNDUP((F45/168*G45),2) -> 0
G46: =G24 -> 0 | H46: =ROUNDUP((F46/168*G46),2) -> 0
A47: 1146 | B47: Piemaksa par personisko darba ieguldījumu un darba kvalitāti | C47: Ieņemamais amats | E47: Piemaksa % | F47: Mēnešalga | G47: Patērētais laiks (h) | H47: =SUM(H48:H67) -> 0
C48: =C15 -> 0 | E48: 5 | F48: =F15 -> 0 | G48: =G15 -> 0 | H48: =ROUNDUP((F48*$E$48%)/168*G48,2) -> 0
C49: =C16 -> 0 | F49: =F16 -> 0 | G49: =G16 -> 0 | H49: =ROUNDUP((F49*$E$48%)/168*G49,2) -> 0
C50: =C17 -> 0 | F50: =F17 -> 0 | G50: =G17 -> 0 | H50: =ROUNDUP((F50*$E$48%)/168*G50,2) -> 0
C51: =C18 -> 0 | F51: =F18 -> 0 | G51: =G18 -> 0 | H51: =ROUNDUP((F51*$E$48%)/168*G51,2) -> 0
C52: =C19 -> 0 | F52: =F19 -> 0 | G52: =G19 -> 0 | H52: =ROUNDUP((F52*$E$48%)/168*G52,2) -> 0
C53: =C20 -> 0 | F53: =F20 -> 0 | G53: =G20 -> 0 | H53: =ROUNDUP((F53*$E$48%)/168*G53,2) -> 0
C54: =C21 -> 0 | F54: =F21 -> 0 | G54: =G21 -> 0 | H54: =ROUNDUP((F54*$E$48%)/168*G54,2) -> 0
C55: =C22 -> 0 | F55: =F22 -> 0 | G55: =G22 -> 0 | H55: =ROUNDUP((F55*$E$48%)/168*G55,2) -> 0
C56: =C23 -> 0 | F56: =F23 -> 0 | G56: =G23 -> 0 | H56: =ROUNDUP((F56*$E$48%)/168*G56,2) -> 0
C57: =C24 -> 0 | F57: =F24 -> 0 | G57: =G24 -> 0 | H57: =ROUNDUP((F57*$E$48%)/168*G57,2) -> 0
C58: =C26 -> Vecākais speciālists Izglītības koordinācijas nodaļā | F58: =F26 -> 1287 | H58: =ROUNDUP((F58*$E$48%)/168*G58,2) -> 0
C59: =C27 -> 0 | F59: =F27 -> 0 | G59: =G27 -> 0 | H59: =ROUNDUP((F59*$E$48%)/168*G59,2) -> 0
C60: =C28 -> 0 | F60: =F28 -> 0 | G60: =G28 -> 0 | H60: =ROUNDUP((F60*$E$48%)/168*G60,2) -> 0
C61: =C29 -> 0 | F61: =F29 -> 0 | G61: =G29 -> 0 | H61: =ROUNDUP((F61*$E$48%)/168*G61,2) -> 0
C62: =C30 -> 0 | F62: =F30 -> 0 | G62: =G30 -> 0 | H62: =ROUNDUP((F62*$E$48%)/168*G62,2) -> 0
C63: =C31 -> 0 | F63: =F31 -> 0 | G63: =G31 -> 0 | H63: =ROUNDUP((F63*$E$48%)/168*G63,2) -> 0
C64: =C32 -> 0 | F64: =F32 -> 0 | G64: =G32 -> 0 | H64: =ROUNDUP((F64*$E$48%)/168*G64,2) -> 0
C65: =C33 -> 0 | F65: =F33 -> 0 | G65: =G33 -> 0 | H65: =ROUNDUP((F65*$E$48%)/168*G65,2) -> 0
C66: =C34 -> 0 | F66: =F34 -> 0 | G66: =G34 -> 0 | H66: =ROUNDUP((F66*$E$48%)/168*G66,2) -> 0
C67: =C35 -> 0 | F67: =F35 -> 0 | G67: =G35 -> 0 | H67: =ROUNDUP((F67*$E$48%)/168*G67,2) -> 0
A68: 1147 | B68: Piemaksa par papildu darbu | C68: Ieņemamais amats | E68: Piemaksa % | F68: Mēnešalga | G68: Patērētais laiks (h) | H68: =SUM(H69:H88) -> 0
C69: =C15 -> 0 | E69: 5 | F69: =F15 -> 0 | G69: =G15 -> 0 | H69: =ROUNDUP((F69*$E$69%)/168*G69,2) -> 0
C70: =C16 -> 0 | F70: =F16 -> 0 | G70: =G16 -> 0 | H70: =ROUNDUP((F70*$E$69%)/168*G70,2) -> 0
C71: =C17 -> 0 | F71: =F17 -> 0 | G71: =G17 -> 0 | H71: =ROUNDUP((F71*$E$69%)/168*G71,2) -> 0
C72: =C18 -> 0 | F72: =F18 -> 0 | G72: =G18 -> 0 | H72: =ROUNDUP((F72*$E$69%)/168*G72,2) -> 0
C73: =C19 -> 0 | F73: =F19 -> 0 | G73: =G19 -> 0 | H73: =ROUNDUP((F73*$E$69%)/168*G73,2) -> 0
C74: =C20 -> 0 | F74: =F20 -> 0 | G74: =G20 -> 0 | H74: =ROUNDUP((F74*$E$69%)/168*G74,2) -> 0
C75: =C21 -> 0 | F75: =F21 -> 0 | G75: =G21 -> 0 | H75: =ROUNDUP((F75*$E$69%)/168*G75,2) -> 0
C76: =C22 -> 0 | F76: =F22 -> 0 | G76: =G22 -> 0 | H76: =ROUNDUP((F76*$E$69%)/168*G76,2) -> 0
C77: =C23 -> 0 | F77: =F23 -> 0 | G77: =G23 -> 0 | H77: =ROUNDUP((F77*$E$69%)/168*G77,2) -> 0
C78: =C24 -> 0 | F78: =F24 -> 0 | G78: =G24 -> 0 | H78: =ROUNDUP((F78*$E$69%)/168*G78,2) -> 0
C79: =C26 -> Vecākais speciālists Izglītības koordinācijas nodaļā | F79: =F26 -> 1287 | H79: =ROUNDUP((F79*$E$69%)/168*G79,2) -> 0
C80: =C27 -> 0 | F80: =F27 -> 0 | G80: =G27 -> 0 | H80: =ROUNDUP((F80*$E$69%)/168*G80,2) -> 0
C81: =C27 -> 0 | F81: =F28 -> 0 | G81: =G28 -> 0 | H81: =ROUNDUP((F81*$E$69%)/168*G81,2) -> 0
C82: =C30 -> 0 | F82: =F29 -> 0 | G82: =G29 -> 0 | H82: =ROUNDUP((F82*$E$69%)/168*G82,2) -> 0
C83: =C31 -> 0 | F83: =F30 -> 0 | G83: =G30 -> 0 | H83: =ROUNDUP((F83*$E$69%)/168*G83,2) -> 0
C84: =C32 -> 0 | F84: =F31 -> 0 | G84: =G31 -> 0 | H84: =ROUNDUP((F84*$E$69%)/168*G84,2) -> 0
C85: =C33 -> 0 | F85: =F32 -> 0 | G85: =G32 -> 0 | H85: =ROUNDUP((F85*$E$69%)/168*G85,2) -> 0
C86: =C34 -> 0 | F86: =F33 -> 0 | G86: =G33 -> 0 | H86: =ROUNDUP((F86*$E$69%)/168*G86,2) -> 0
F87: =F34 -> 0 | G87: =G34 -> 0 | H87: =ROUNDUP((F87*$E$69%)/168*G87,2) -> 0
C88: =C35 -> 0 | F88: =F35 -> 0 | G88: =G35 -> 0 | H88: =ROUNDUP((F88*$E$69%)/168*G88,2) -> 0
A89: 1148 | B89: Prēmijas un naudas balvas | C89: Ieņemamais amats | E89: Piemaksa % | F89: Mēnešalga | G89: Patērētais laiks (h) | H89: =SUM(H90:H109) -> 0
C90: =C15 -> 0 | E90: 10 | F90: =F15 -> 0 | G90: =G15 -> 0 | H90: =ROUNDUP((F90*$E$90%)/168*$G$90,2) -> 0
C91: =C16 -> 0 | F91: =F16 -> 0 | G91: =G16 -> 0 | H91: =ROUNDUP((F91*$E$90%)/168*$G$90,2) -> 0
C92: =C17 -> 0 | F92: =F17 -> 0 | G92: =G17 -> 0 | H92: =ROUNDUP((F92*$E$90%)/168*$G$90,2) -> 0
C93: =C18 -> 0 | F93: =F18 -> 0 | G93: =G18 -> 0 | H93: =ROUNDUP((F93*$E$90%)/168*$G$90,2) -> 0
C94: =C19 -> 0 | F94: =F19 -> 0 | G94: =G19 -> 0 | H94: =ROUNDUP((F94*$E$90%)/168*$G$90,2) -> 0
C95: =C20 -> 0 | F95: =F20 -> 0 | G95: =G20 -> 0 | H95: =ROUNDUP((F95*$E$90%)/168*$G$90,2) -> 0
C96: =C21 -> 0 | F96: =F21 -> 0 | G96: =G21 -> 0 | H96: =ROUNDUP((F96*$E$90%)/168*$G$90,2) -> 0
C97: =C22 -> 0 | F97: =F22 -> 0 | G97: =G22 -> 0 | H97: =ROUNDUP((F97*$E$90%)/168*$G$90,2) -> 0
C98: =C23 -> 0 | F98: =F23 -> 0 | G98: =G23 -> 0 | H98: =ROUNDUP((F98*$E$90%)/168*$G$90,2) -> 0
C99: =C24 -> 0 | F99: =F24 -> 0 | G99: =G24 -> 0 | H99: =ROUNDUP((F99*$E$90%)/168*$G$90,2) -> 0
C100: =C26 -> Vecākais speciālists Izglītības koordinācijas nodaļā | F100: =F26 -> 1287 | H100: =ROUNDUP((F100*$E$90%)/168*$G$100,2) -> 0
C101: =C27 -> 0 | F101: =F27 -> 0 | G101: =G27 -> 0 | H101: =ROUNDUP((F101*$E$90%)/168*$G$90,2) -> 0
C102: =C28 -> 0 | F102: =F28 -> 0 | G102: =G28 -> 0 | H102: =ROUNDUP((F102*$E$90%)/168*$G$90,2) -> 0
C103: =C29 -> 0 | F103: =F29 -> 0 | G103: =G29 -> 0 | H103: =ROUNDUP((F103*$E$90%)/168*$G$90,2) -> 0
C104: =C30 -> 0 | F104: =F30 -> 0 | G104: =G30 -> 0 | H104: =ROUNDUP((F104*$E$90%)/168*$G$90,2) -> 0
...

Sheet 8.4.
A1: Maksas pakalpojumu izcenojuma aprēķins
A3: 8. Izglītību apliecinoša dokumenta dublikāta izsniegšana:
A4: 8.4. kvalifikācijas apliecības dublikāta sagatavošana un izsniegšana (bez sekmju izraksta)
A5: Maksas pakalpojuma mērvienība – viena kvalifikācijas apliecība (bez sekmju izraksta)
A9: EKK kods | B9: Rādītājs (materiāla/izejvielas nosaukums, atlīdzība un citi izmaksu veidi) | C9: Izmaksu apjoms gadā viena makasa pakalpojuma veida nodrošināšanai | I9: Piezīmes, komentāri
A10: 1 | B10: 2 | C10: 3
A11: Tiešās izmaksas
A12: 1000 | B12: Atlīdzība | H12: =SUM(H13,H110) -> 9.87
A13: 1100 | B13: Atalgojums | H13: =SUM(H14,H25,H36,H47,H68,H89) -> 7.67
A14: 1116 | B14: Mēnešalga amatpersonām ar speciālajām dienesta pakāpēm | C14: Ieņememais amats | E14: M.a. grupa | F14: Mēnešalga | G14: Patērētais laiks (h) | H14: =SUM(H15:H24) -> 0
H15: =ROUNDUP((F15/168*G15),2) -> 0
H16: =ROUNDUP((F16/168*G16),2) -> 0
H17: =ROUNDUP((F17/168*G17),2) -> 0
H18: =ROUNDUP((F18/168*G18),2) -> 0
H19: =ROUNDUP((F19/168*G19),2) -> 0
H20: =ROUNDUP((F20/168*G20),2) -> 0
H21: =ROUNDUP((F21/168*G21),2) -> 0
H22: =ROUNDUP((F22/168*G22),2) -> 0
H23: =ROUNDUP((F23/168*G23),2) -> 0
H24: =ROUNDUP((F24/168*G24),2) -> 0
A25: 1119 | B25: Pārējo darbinieku mēnešalga (darba alga) | C25: Ieņemamais amats | E25: M.a. grupa | F25: Mēnešalga | G25: Patērētais laiks (h) | H25: =SUM(H26:H35) -> 7.67
