Workbook

Sheet 1.1(1)
A1: Maksas pakalpojumu izcenojuma aprēķins
A3: 1. Atkārtota pārbaudījuma kārtošana
A4: 1.1. noslēguma pārbaudījums, kārtējais pārbaudījums, referāts
A5: Maksas pakalpojuma mērvienība – viens pārbaudījums
A9: Izdevumu klasifikācijas kods | B9: Rādītājs (materiāla/izejvielas nosaukums, atlīdzība un citi izmaksu veidi) | C9: Izmaksu apjoms gadā viena makasa pakalpojuma veida nodrošināšanai
A10: 1 | B10: 2 | C10: 3 | E10: MK vidējais 1191
A11: Tiešās izmaksas
A12: 1000 | B12: Atlīdzība | D12: =D13+D29 -> 11.3 | E12: =E13+E29 -> 11.86
A13: 1100 | B13: Atalgojums | D13: =D14+D18+D27+D28 -> 8.81 | E13: =E14+E18+E27+E28 -> 9.24
A14: 1110 | B14: Mēnešalga | D14: =SUM(D15:D17) -> 6.73 | E14: =SUM(E15:E17) -> 7.09
A15: 1114 | B15: Valsts civildienesta ierēdņu mēnešalga
A16: 1116 | B16: Mēnešalga amatpersonām ar speciālajām dienesta pakāpēm | C16: Lektora ar speciālo dienesta pakāpi mēnešalga (9 mēnešalgu grupa): EUR 1130 Vidējais darba stundu skaits mēnesī: 168 st. Izmaksas maksas pakalpojuma nodrošināšanai: EUR 1 130 : 168 st. = EUR 6,73 | D16: =ROUNDUP((1130/168),2) -> 6.73 | E16: =ROUNDUP((1191/168),2) -> 7.09
A17: 1119 | B17: Pārējo darbinieku mēnešalga (darba alga)
A18: 1140 | B18: Piemaksas, prēmijas un naudas balvas | D18: =SUM(D19:D26) -> 2.08 | E18: =SUM(E19:E26) -> 2.15
A19: 1141 | B19: Piemaksa par nakts darbu
A20: 1142 | B20: Samaksa par virsstundu darbu un darbu svētku dienās
A21: 1143 | B21: Piemaksa par speciālo dienesta pakāpi un diplomātisko rangu | C21: Piemaksas apmērs vienai iesaistītai amatpersonai mēnesī (pulkvežleitnants) - EUR 120; Vidējais darba stundu skaits mēnesī: 168 st. Izmaksas maksas pakalpojuma nodrošināšanai: EUR 120 : 168 st. = EUR 0,71 | D21: =ROUNDUP((120/168),2) -> 0.72 | E21: =ROUNDUP((120/168),2) -> 0.72
A22: 1145 | B22: Piemaksa par darbu īpašos apstākļos, speciālās piemaksas
A23: 1146 | B23: Piemaksa par personisko darba ieguldījumu un darba kvalitāti | C23: Piemaksa par personisko darba ieguldījumu un darba kvalitāti 5% no mēnešalgas: EUR 1 130 x 5% : 168 st. = EUR 0,34 | D23: =ROUNDUP(1130*5%/168,2) -> 0.34 | E23: =ROUNDUP(1191*5%/168,2) -> 0.36
A24: 1147 | B24: Piemaksa par papildu darbu | C24: Piemaksa par papildu darbu 5% no mēnešalgas EUR 1 130 x 5% : 168 st. = EUR 0,34 | D24: =ROUNDUP(1130*5%/168,2) -> 0.34 | E24: =ROUNDUP(1191*5%/168,2) -> 0.36
A25: 1148 | B25: Prēmijas un naudas balvas | C25: Prēmijas un naudas balvas 10% no mēnešalgas EUR 1 130 x 10% : 168 st. = EUR 0,67 | D25: =ROUNDUP(1130*10%/168,2) -> 0.68 | E25: =ROUNDUP(1191*10%/168,2) -> 0.71
A26: 1149 | B26: Citas normatīvajos aktos noteiktās piemaksas, kas nav iepriekš klasificētas
A27: 1150 | B27: Atalgojums fiziskajām personām uz tiesiskās attiecības regulējošu dokumentu pamata
A28: 1170 | B28: Darba devēja piešķirtie labumi un maksājumi
A29: 1200 | B29: Darba devēja valsts sociālās apdrošināšanas obligātās iemaksas, pabalsti un kompensācijas | D29: =D30+D31 -> 2.49 | E29: =E30+E31 -> 2.62
A30: 1210 | B30: Darba devēja valsts sociālās apdrošināšanas obligātās iemaksas | C30: 23,59 % no 1100. un 1221.IEKK | D30: =ROUNDUP((D13+D32)*0.2359,2) -> 2.15 | E30: =ROUNDUP((E13+E32)*0.2359,2) -> 2.25
A31: 1220 | B31: Darba devēja pabalsti, kompensācijas un citi maksājumi | D31: =SUM(D32:D38) -> 0.34 | E31: =SUM(E32:E38) -> 0.37
A32: 1221 | B32: Darba devēja pabalsti un kompensācijas, no kuriem aprēķina iedzīvotāju ienākuma nodokli un valsts sociālās apdrošināšanas obligātās iemaksas | C32: Pabalsti un kompensācijas, no kuriem aprēķina iedzīvotāju ienākuma nodokli un valsts sociālās apdrošināšanas obligātās iemaksas EUR 1 130 x 4% : 168 st. = EUR 0,27 | D32: =ROUNDUP(1130*4%/168,2) -> 0.27 | E32: =ROUNDUP(1191*4%/168,2) -> 0.29
A33: 1223 | B33: Mācību maksas kompensācija
A34: 1224 | B34: Ārvalstīs nodarbināto amatpersonu (darbinieku) pabalsti un kompensācijas
A35: 1225 | B35: Uzturdevas kompensācija
A36: 1226 | B36: Dienesta pienākumu izpildei nepieciešamā apģērba iegādes kompensācija
A37: 1227 | B37: Darba devēja izdevumi veselības, dzīvības un nelaimes gadījumu apdrošināšanai
A38: 1228 | B38: Darba devēja pabalsti un kompensācijas, no kā neaprēķina iedzīvotāju ienākuma nodokli un valsts sociālās apdrošināšanas obligātās iemaksas | C38: Pabalsti un kompensācijas, no kā neaprēķina iedzīvotāju ienākuma nodokli un valsts sociālās apdrošināšanas obligātās iemaksas EUR 1 130 x 1% : 168 st. = EUR 0,07 | D38: =ROUNDUP(1130*1%/168,2) -> 0.07 | E38: =ROUNDUP(1191*1%/168,2) -> 0.08
A39: 2000 | B39: Preces un pakalpojumi | D39: =D40+D45 -> 0
A40: 2200 | B40: Pakalpojumi | D40: =D41+D43 -> 0
A41: 2220 | B41: Izdevumi par komunālajiem pakalpojumiem | D41: =D42 -> 0
A42: 2223 | B42: Izdevumi par elektroenerģiju
A43: 2240 | B43: Remontdarbi un iestāžu uzturēšanas pakalpojumi (izņemot kapitālo remontu) | D43: =D44 -> 0
A44: 2242 | B44: Transportlīdzekļu uzturēšana un remonts
...

Sheet 1.1 
D2: 3.pielikums
D3: Ministru kabineta noteikumu projekta
D4: „Grozījums Ministru kabineta 2018.gada 3.maija
D5: noteikumos Nr.256“Valsts policijas koledžas
D6: maksas pakalpojumu cenrādis””
D7: sākotnējās ietekmes novērtējuma ziņojumam (anotācijai)
A8: Maksas pakalpojumu izcenojumu aprēķins
A10: 1. Atkārtota pārbaudījuma kārtošana:
A11: 1.1. noslēguma pārbaudījums, kārtējais pārbaudījums, referāts
A12: Maksas pakalpojuma mērvienība – viens pārbaudījums
A16: EKK kods | B16: Rādītājs (materiāla/izejvielas nosaukums, atlīdzība un citi izmaksu veidi) | C16: Izmaksu apjoms gadā viena makasa pakalpojuma veida nodrošināšanai | I16: Piezīmes, komentāri
A17: 1 | B17: 2 | C17: 3
A18: Tiešās izmaksas
A19: 1000 | B19: Atlīdzība | H19: =H20+H117 -> 10.3
A20: 1100 | B20: Atalgojums | H20: =SUM(H21,H32,H43,H54,H75,H96) -> 8.03
A21: 1116 | B21: Mēnešalga amatpersonām ar speciālajām dienesta pakāpēm | C21: Ieņemamais amats | E21: M.a. grupa | F21: Mēnešalga | G21: Patērētais laiks (h) | H21: =SUM(H22:H31) -> 7.49
C22: Lektors (ar SDP) | E22: 9 | F22: 1677 | G22: 0.75 | H22: =ROUNDUP((F22/168*G22),2) -> 7.49
H23: =ROUNDUP((F23/168*G23),2) -> 0
H24: =ROUNDUP((F24/168*G24),2) -> 0
H25: =ROUNDUP((F25/168*G25),2) -> 0
H26: =ROUNDUP((F26/168*G26),2) -> 0
H27: =ROUNDUP((F27/168*G27),2) -> 0
H28: =ROUNDUP((F28/168*G28),2) -> 0
H29: =ROUNDUP((F29/168*G29),2) -> 0
H30: =ROUNDUP((F30/168*G30),2) -> 0
H31: =ROUNDUP((F31/168*G31),2) -> 0
A32: 1119 | B32: Pārējo darbinieku mēnešalga (darba alga) | C32: Ieņememais amats | E32: M.a. grupa | F32: Mēnešalga | G32: Patērētais laiks (h) | H32: =SUM(H34:H42) -> 0
H33: =ROUNDUP((F33/168*G33),2) -> 0
H34: =ROUNDUP((F34/168*G34),2) -> 0
H35: =ROUNDUP((F35/168*G35),2) -> 0
H36: =ROUNDUP((F36/168*G36),2) -> 0
H37: =ROUNDUP((F37/168*G37),2) -> 0
H38: =ROUNDUP((F38/168*G38),2) -> 0
H39: =ROUNDUP((F39/168*G39),2) -> 0
H40: =ROUNDUP((F40/168*G40),2) -> 0
H41: =ROUNDUP((F41/168*G41),2) -> 0
H42: =ROUNDUP((F42/168*G42),2) -> 0
A43: 1143 | B43: Piemaksa par speciālo dienesta pakāpi un diplomātisko rangu | C43: Speciālā dienesta pakāpe | F43: Piemaksa mēnesī | G43: Patērētais laiks (h) | H43: =SUM(H44:H53) -> 0.54
C44: Pulkvežleitnants | F44: 120 | G44: =G22 -> 0.75 | H44: =ROUNDUP((F44/168*G44),2) -> 0.54
G45: =G23 -> 0 | H45: =ROUNDUP((F45/168*G45),2) -> 0
...

Sheet 1.2(1)
A1: Maksas pakalpojumu izcenojuma aprēķins
A3: 1. Atkārtota pārbaudījuma kārtošana
A4: 1.2. kvalifikācijas darba recenzēšana
A5: Maksas pakalpojuma mērvienība – viena recenzija
A9: Izdevumu klasifikācijas kods | B9: Rādītājs (materiāla/izejvielas nosaukums, atlīdzība un citi izmaksu veidi) | C9: Izmaksu apjoms gadā viena makasa pakalpojuma veida nodrošināšanai
A10: 1 | B10: 2 | C10: 3 | E10: MK vidējais 1191
A11: Tiešās izmaksas
A12: 1000 | B12: Atlīdzība | D12: =D13+D29 -> 45.08 | E12: =E13+E29 -> 47.31
A13: 1100 | B13: Atalgojums | D13: =D14+D18+D27+D28 -> 35.17 | E13: =E14+E18+E27+E28 -> 36.9
A14: 1110 | B14: Mēnešalga | D14: =SUM(D15:D17) -> 26.91 | E14: =SUM(E15:E17) -> 28.36
A15: 1114 | B15: Valsts civildienesta ierēdņu mēnešalga
A16: 1116 | B16: Mēnešalga amatpersonām ar speciālajām dienesta pakāpēm | C16: Lektora ar speciālo dienesta pakāpi mēnešalga (9 mēnešalgu grupa): EUR 1130 Vidējais darba stundu skaits mēnesī: 168 st. Izmaksas maksas pakalpojuma nodrošināšanai: EUR 1 130 : 168 st. x 4 st. = EUR 26,91 | D16: =ROUNDUP((1130/168*4),2) -> 26.91 | E16: =ROUNDUP((1191/168*4),2) -> 28.36
A17: 1119 | B17: Pārējo darbinieku mēnešalga (darba alga)
A18: 1140 | B18: Piemaksas, prēmijas un naudas balvas | D18: =SUM(D19:D26) -> 8.26 | E18: =SUM(E19:E26) -> 8.54
A19: 1141 | B19: Piemaksa par nakts darbu
A20: 1142 | B20: Samaksa par virsstundu darbu un darbu svētku dienās
A21: 1143 | B21: Piemaksa par speciālo dienesta pakāpi un diplomātisko rangu | C21: Piemaksas apmērs vienai iesaistītai amatpersonai mēnesī (pulkvežleitnants) - EUR 120; Vidējais darba stundu skaits mēnesī: 168 st. Izmaksas maksas pakalpojuma nodrošināšanai: EUR 120 : 168 st. x 4 st. = EUR 2,86 | D21: =ROUNDUP((120/168*4),2) -> 2.86 | E21: =ROUNDUP((120/168*4),2) -> 2.86
A22: 1145 | B22: Piemaksa par darbu īpašos apstākļos, speciālās piemaksas
A23: 1146 | B23: Piemaksa par personisko darba ieguldījumu un darba kvalitāti | C23: Piemaksa par personisko darba ieguldījumu un darba kvalitāti 5% no mēnešalgas: EUR 1 130 x 5% : 168 st. x 4 st. = EUR 1,35 | D23: =ROUNDUP(1130*5%/168*4,2) -> 1.35 | E23: =ROUNDUP(1191*5%/168*4,2) -> 1.42
A24: 1147 | B24: Piemaksa par papildu darbu | C24: Piemaksa par papildu darbu 5% no mēnešalgas EUR 1 130 x 5% : 168 st. x 4 st. = EUR 1,35 | D24: =ROUNDUP(1130*5%/168*4,2) -> 1.35 | E24: =ROUNDUP(1191*5%/168*4,2) -> 1.42
A25: 1148 | B25: Prēmijas un naudas balvas | C25: Prēmijas un naudas balvas 10% no mēnešalgas EUR 1 130 x 10% : 168 st. x 4 st. = EUR 2,70 | D25: =ROUNDUP(1130*10%/168*4,2) -> 2.7 | E25: =ROUNDUP(1191*10%/168*4,2) -> 2.84
A26: 1149 | B26: Citas normatīvajos aktos noteiktās piemaksas, kas nav iepriekš klasificētas
A27: 1150 | B27: Atalgojums fiziskajām personām uz tiesiskās attiecības regulējošu dokumentu pamata
A28: 1170 | B28: Darba devēja piešķirtie labumi un maksājumi
A29: 1200 | B29: Darba devēja valsts sociālās apdrošināšanas obligātās iemaksas, pabalsti un kompensācijas | D29: =D30+D31 -> 9.91 | E29: =E30+E31 -> 10.41
A30: 1210 | B30: Darba devēja valsts sociālās apdrošināšanas obligātās iemaksas | C30: 23,59 % no 1100. un 1221.IEKK | D30: =ROUNDUP((D13+D32)*0.2359,2) -> 8.56 | E30: =ROUNDUP((E13+E32)*0.2359,2) -> 8.98
A31: 1220 | B31: Darba devēja pabalsti, kompensācijas un citi maksājumi | D31: =SUM(D32:D38) -> 1.35 | E31: =SUM(E32:E38) -> 1.43
A32: 1221 | B32: Darba devēja pabalsti un kompensācijas, no kuriem aprēķina iedzīvotāju ienākuma nodokli un valsts sociālās apdrošināšanas obligātās iemaksas | C32: Pabalsti un kompensācijas, no kuriem aprēķina iedzīvotāju ienākuma nodokli un valsts sociālās apdrošināšanas obligātās iemaksas EUR 1 130 x 4% : 168 st. x 4 st. = EUR 1,08 | D32: =ROUNDUP(1130*4%/168*4,2) -> 1.08 | E32: =ROUNDUP(1191*4%/168*4,2) -> 1.14
A33: 1223 | B33: Mācību maksas kompensācija
A34: 1224 | B34: Ārvalstīs nodarbināto amatpersonu (darbinieku) pabalsti un kompensācijas
A35: 1225 | B35: Uzturdevas kompensācija
A36: 1226 | B36: Dienesta pienākumu izpildei nepieciešamā apģērba iegādes kompensācija
A37: 1227 | B37: Darba devēja izdevumi veselības, dzīvības un nelaimes gadījumu apdrošināšanai
A38: 1228 | B38: Darba devēja pabalsti un kompensācijas, no kā neaprēķina iedzīvotāju ienākuma nodokli un valsts sociālās apdrošināšanas obligātās iemaksas | C38: Pabalsti un kompensācijas, no kā neaprēķina iedzīvotāju ienākuma nodokli un valsts sociālās apdrošināšanas obligātās iemaksas EUR 1 130 x 1% : 168 st. x 4 st. = EUR 0,27 | D38: =ROUNDUP(1130*1%/168*4,2) -> 0.27 | E38: =ROUNDUP(1191*1%/168*4,2) -> 0.29
A39: 2000 | B39: Preces un pakalpojumi | D39: =D40+D45 -> 0
A40: 2200 | B40: Pakalpojumi | D40: =D41+D43 -> 0
A41: 2220 | B41: Izdevumi par komunālajiem pakalpojumiem | D41: =D42 -> 0
A42: 2223 | B42: Izdevumi par elektroenerģiju
A43: 2240 | B43: Remontdarbi un iestāžu uzturēšanas pakalpojumi (izņemot kapitālo remontu) | D43: =D44 -> 0
A44: 2242 | B44: Transportlīdzekļu uzturēšana un remonts
...

Sheet 1.2
A1: Maksas pakalpojumu izcenojuma aprēķins
A3: 1. Atkārtota pārbaudījuma kārtošana:
A4: 1.2. kvalifikācijas darba recenzēšana
A5: Maksas pakalpojuma mērvienība – viena recenzija
A9: EKK kods | B9: Rādītājs (materiāla/izejvielas nosaukums, atlīdzība un citi izmaksu veidi) | C9: Izmaksu apjoms gadā viena makasa pakalpojuma veida nodrošināšanai | I9: Piezīmes, komentāri
A10: 1 | B10: 2 | C10: 3
A11: Tiešās izmaksas
A12: 1000 | B12: Atlīdzība | H12: =SUM(H13,H110) -> 54.87
A13: 1100 | B13: Atalgojums | H13: =SUM(H14,H25,H36,H47,H68,H89) -> 42.79
A14: 1116 | B14: Mēnešalga amatpersonām ar speciālajām dienesta pakāpēm | C14: Ieņemamais amats | E14: M.a. grupa | F14: Mēnešalga | G14: Patērētais laiks (h) | H14: =SUM(H15:H24) -> 39.93
C15: Lektors (ar SDP) | E15: 9 | F15: 1677 | G15: 4 | H15: =ROUNDUP((F15/168*G15),2) -> 39.93
H16: =ROUNDUP((F16/168*G16),2) -> 0
H17: =ROUNDUP((F17/168*G17),2) -> 0
H18: =ROUNDUP((F18/168*G18),2) -> 0
H19: =ROUNDUP((F19/168*G19),2) -> 0
H20: =ROUNDUP((F20/168*G20),2) -> 0
H21: =ROUNDUP((F21/168*G21),2) -> 0
H22: =ROUNDUP((F22/168*G22),2) -> 0
H23: =ROUNDUP((F23/168*G23),2) -> 0
H24: =ROUNDUP((F24/168*G24),2) -> 0
A25: 1119 | B25: Pārējo darbinieku mēnešalga (darba alga) | C25: Ieņememais amats | E25: M.a. grupa | F25: Mēnešalga | G25: Patērētais laiks (h) | H25: =SUM(H26:H35) -> 0
H26: =ROUNDUP((F26/168*G26),2) -> 0
H27: =ROUNDUP((F27/168*G27),2) -> 0
H28: =ROUNDUP((F28/168*G28),2) -> 0
H29: =ROUNDUP((F29/168*G29),2) -> 0
H30: =ROUNDUP((F30/168*G30),2) -> 0
H31: =ROUNDUP((F31/168*G31),2) -> 0
H32: =ROUNDUP((F32/168*G32),2) -> 0
H33: =ROUNDUP((F33/168*G33),2) -> 0
H34: =ROUNDUP((F34/168*G34),2) -> 0
H35: =ROUNDUP((F35/168*G35),2) -> 0
A36: 1143 | B36: Piemaksa par speciālo dienesta pakāpi un diplomātisko rangu | C36: Speciālā dienesta pakāpe | F36: Piemaksa mēnesī | G36: Patērētais laiks (h) | H36: =SUM(H37:H46) -> 2.86
C37: Pulkvežleitnants | F37: 120 | G37: =G15 -> 4 | H37: =ROUNDUP((F37/168*G37),2) -> 2.86
G38: =G16 -> 0 | H38: =ROUNDUP((F38/168*G38),2) -> 0
G39: =G17 -> 0 | H39: =ROUNDUP((F39/168*G39),2) -> 0
G40: =G18 -> 0 | H40: =ROUNDUP((F40/168*G40),2) -> 0
G41: =G19 -> 0 | H41: =ROUNDUP((F41/168*G41),2) -> 0
G42: =G20 -> 0 | H42: =ROUNDUP((F42/168*G42),2) -> 0
G43: =G21 -> 0 | H43: =ROUNDUP((F43/168*G43),2) -> 0
G44: =G22 -> 0 | H44: =ROUNDUP((F44/168*G44),2) -> 0
...

Sheet 1.3(1)
A1: Maksas pakalpojumu izcenojuma aprēķins
A3: 1. Atkārtota pārbaudījuma kārtošana
A4: 1.2. kvalifikācijas darba aizstāvēšana
A5: Maksas pakalpojuma mērvienība – viena recenzija
A9: Izdevumu klasifikācijas kods | B9: Rādītājs (materiāla/izejvielas nosaukums, atlīdzība un citi izmaksu veidi) | C9: Izmaksu apjoms gadā viena makasa pakalpojuma veida nodrošināšanai
A10: 1 | B10: 2 | C10: 3 | E10: MK vidējais 1191
A11: Tiešās izmaksas
A12: 1000 | B12: Atlīdzība | D12: =D13+D29 -> 45.08 | E12: =E13+E29 -> 47.31
A13: 1100 | B13: Atalgojums | D13: =D14+D18+D27+D28 -> 35.17 | E13: =E14+E18+E27+E28 -> 36.9
A14: 1110 | B14: Mēnešalga | D14: =SUM(D15:D17) -> 26.91 | E14: =SUM(E15:E17) -> 28.36
A15: 1114 | B15: Valsts civildienesta ierēdņu mēnešalga
A16: 1116 | B16: Mēnešalga amatpersonām ar speciālajām dienesta pakāpēm | C16: Lektora ar speciālo dienesta pakāpi mēnešalga (9 mēnešalgu grupa): EUR 1 130 Vidējais darba stundu skaits mēnesī: 168 st. Izmaksas maksas pakalpojuma nodrošināšanai: EUR 1 130 : 168 st. x 4 st. = EUR 26,91 | D16: =ROUNDUP((1130/168*4),2) -> 26.91 | E16: =ROUNDUP((1191/168*4),2) -> 28.36
A17: 1119 | B17: Pārējo darbinieku mēnešalga (darba alga)
A18: 1140 | B18: Piemaksas, prēmijas un naudas balvas | D18: =SUM(D19:D26) -> 8.26 | E18: =SUM(E19:E26) -> 8.54
A19: 1141 | B19: Piemaksa par nakts darbu
A20: 1142 | B20: Samaksa par virsstundu darbu un darbu svētku dienās
A21: 1143 | B21: Piemaksa par speciālo dienesta pakāpi un diplomātisko rangu | C21: Piemaksas apmērs vienai iesaistītai amatpersonai mēnesī (pulkvežleitnants) - EUR 120; Vidējais darba stundu skaits mēnesī: 168 st. Izmaksas maksas pakalpojuma nodrošināšanai: EUR 120 : 168 st. x 4 st. = EUR 2,86 | D21: =ROUNDUP((120/168*4),2) -> 2.86 | E21: =ROUNDUP((120/168*4),2) -> 2.86
A22: 1145 | B22: Piemaksa par darbu īpašos apstākļos, speciālās piemaksas
A23: 1146 | B23: Piemaksa par personisko darba ieguldījumu un darba kvalitāti | C23: Piemaksa par personisko darba ieguldījumu un darba kvalitāti 5% no mēnešalgas: EUR 1 130 x 5% : 168 st. x 4 st. = EUR 1,35 | D23: =ROUNDUP(1130*5%/168*4,2) -> 1.35 | E23: =ROUNDUP(1191*5%/168*4,2) -> 1.42
A24: 1147 | B24: Piemaksa par papildu darbu | C24: Piemaksa par papildu darbu 5% no mēnešalgas EUR 1 130 x 5% : 168 st. x 4 st. = EUR 1,35 | D24: =ROUNDUP(1130*5%/168*4,2) -> 1.35 | E24: =ROUNDUP(1191*5%/168*4,2) -> 1.42
A25: 1148 | B25: Prēmijas un naudas balvas | C25: Prēmijas un naudas balvas 10% no mēnešalgas EUR 1 130 x 10% : 168 st. x 4 st. = EUR 2,70 | D25: =ROUNDUP(1130*10%/168*4,2) -> 2.7 | E25: =ROUNDUP(1191*10%/168*4,2) -> 2.84
A26: 1149 | B26: Citas normatīvajos aktos noteiktās piemaksas, kas nav iepriekš klasificētas
A27: 1150 | B27: Atalgojums fiziskajām personām uz tiesiskās attiecības regulējošu dokumentu pamata
A28: 1170 | B28: Darba devēja piešķirtie labumi un maksājumi
A29: 1200 | B29: Darba devēja valsts sociālās apdrošināšanas obligātās iemaksas, pabalsti un kompensācijas | D29: =D30+D31 -> 9.91 | E29: =E30+E31 -> 10.41
A30: 1210 | B30: Darba devēja valsts sociālās apdrošināšanas obligātās iemaksas | C30: 23,59 % no 1100. un 1221.IEKK | D30: =ROUNDUP((D13+D32)*0.2359,2) -> 8.56 | E30: =ROUNDUP((E13+E32)*0.2359,2) -> 8.98
A31: 1220 | B31: Darba devēja pabalsti, kompensācijas un citi maksājumi | D31: =SUM(D32:D38) -> 1.35 | E31: =SUM(E32:E38) -> 1.43
A32: 1221 | B32: Darba devēja pabalsti un kompensācijas, no kuriem aprēķina iedzīvotāju ienākuma nodokli un valsts sociālās apdrošināšanas obligātās iemaksas | C32: Pabalsti un kompensācijas, no kuriem aprēķina iedzīvotāju ienākuma nodokli un valsts sociālās apdrošināšanas obligātās iemaksas EUR 1 130 x 4% : 168 st. x 4 st. = EUR 1,08 | D32: =ROUNDUP(1130*4%/168*4,2) -> 1.08 | E32: =ROUNDUP(1191*4%/168*4,2) -> 1.14
A33: 1223 | B33: Mācību maksas kompensācija
A34: 1224 | B34: Ārvalstīs nodarbināto amatpersonu (darbinieku) pabalsti un kompensācijas
A35: 1225 | B35: Uzturdevas kompensācija
A36: 1226 | B36: Dienesta pienākumu izpildei nepieciešamā apģērba iegādes kompensācija
A37: 1227 | B37: Darba devēja izdevumi veselības, dzīvības un nelaimes gadījumu apdrošināšanai
A38: 1228 | B38: Darba devēja pabalsti un kompensācijas, no kā neaprēķina iedzīvotāju ienākuma nodokli un valsts sociālās apdrošināšanas obligātās iemaksas | C38: Pabalsti un kompensācijas, no kā neaprēķina iedzīvotāju ienākuma nodokli un valsts sociālās apdrošināšanas obligātās iemaksas EUR 1 130 x 1% : 168 st. x 4 st. = EUR 0,27 | D38: =ROUNDUP(1130*1%/168*4,2) -> 0.27 | E38: =ROUNDUP(1191*1%/168*4,2) -> 0.29
A39: 2000 | B39: Preces un pakalpojumi | D39: =D40+D45 -> 0
A40: 2200 | B40: Pakalpojumi | D40: =D41+D43 -> 0
A41: 2220 | B41: Izdevumi par komunālajiem pakalpojumiem | D41: =D42 -> 0
A42: 2223 | B42: Izdevumi par elektroenerģiju
A43: 2240 | B43: Remontdarbi un iestāžu uzturēšanas pakalpojumi (izņemot kapitālo remontu) | D43: =D44 -> 0
A44: 2242 | B44: Transportlīdzekļu uzturēšana un remonts
...

Sheet 1.4(1)
A1: Maksas pakalpojumu izcenojuma aprēķins
A3: 1. Atkārtota pārbaudījuma kārtošana
A4: 1.4. kvalifikācijas eksāmens
A5: Maksas pakalpojuma mērvienība – viena recenzija
A9: Izdevumu klasifikācijas kods | B9: Rādītājs (materiāla/izejvielas nosaukums, atlīdzība un citi izmaksu veidi) | C9: Izmaksu apjoms gadā viena makasa pakalpojuma veida nodrošināšanai
A10: 1 | B10: 2 | C10: 3 | E10: MK vidējais 1191
A11: Tiešās izmaksas
A12: 1000 | B12: Atlīdzība | D12: =D13+D29 -> 45.08 | E12: =E13+E29 -> 47.31
A13: 1100 | B13: Atalgojums | D13: =D14+D18+D27+D28 -> 35.17 | E13: =E14+E18+E27+E28 -> 36.9
A14: 1110 | B14: Mēnešalga | D14: =SUM(D15:D17) -> 26.91 | E14: =SUM(E15:E17) -> 28.36
A15: 1114 | B15: Valsts civildienesta ierēdņu mēnešalga
A16: 1116 | B16: Mēnešalga amatpersonām ar speciālajām dienesta pakāpēm | C16: Valsts policijas priekšnieka vietnieka ar speciālo dienesta pakāpi mēnešalga (27.12.2012. Valsts policijas pavēle Nr.2569 12A amata kategorija) Ls 1749.00 / 166,25 vidējais darba stundu skaits mēnesī= Ls 10.52 x 2 st. (kvalifikācijas eksāmenu komisijas darbs) = Ls 21.04. Valsts policijas Galvenās pārvaldes priekšnieka vietnieka ar speciālo dienesta pakāpi mēnešalga (27.12.2012. Valsts policijas pavēle Nr.2570 12B amata kategorija) Ls 1104.00 / 166,25 vidējais darba stundu skaits mēnesī= Ls 6.64 x 2 st. (kvalifikācijas eksāmenu komisijas darbs).= Ls 13.28. Trīs docētāju ar speciālo dienesta pakāpi mēnešalga (27.12.2012. Valsts policijas pavēle Nr.2569 10B amata kategorija) Ls 600.00 / 166,25 vidējais darba stundu skaits mēnesī= Ls 3.61 x 2 st. (kvalifikācijas eksāmenu komisijas darbs) x 3 cilv. = Ls 21.66. Kopā: Ls 21.04 + 13.28 + 21.66 = Ls 55.98 | D16: =ROUNDUP((1130/168*4),2) -> 26.91 | E16: =ROUNDUP((1191/168*4),2) -> 28.36
A17: 1119 | B17: Pārējo darbinieku mēnešalga (darba alga)
A18: 1140 | B18: Piemaksas, prēmijas un naudas balvas | D18: =SUM(D19:D26) -> 8.26 | E18: =SUM(E19:E26) -> 8.54
A19: 1141 | B19: Piemaksa par nakts darbu
A20: 1142 | B20: Samaksa par virsstundu darbu un darbu svētku dienās
A21: 1143 | B21: Piemaksa par speciālo dienesta pakāpi un diplomātisko rangu | C21: Piemaksas apmērs vienai iesaistītai amatpersonai mēnesī (pulkvežleitnants) - EUR 120; Vidējais darba stundu skaits mēnesī: 168 st. Izmaksas maksas pakalpojuma nodrošināšanai: EUR 120 : 168 st. x 4 st. = EUR 2,86 | D21: =ROUNDUP((120/168*4),2) -> 2.86 | E21: =ROUNDUP((120/168*4),2) -> 2.86
A22: 1145 | B22: Piemaksa par darbu īpašos apstākļos, speciālās piemaksas
A23: 1146 | B23: Piemaksa par personisko darba ieguldījumu un darba kvalitāti | C23: Piemaksa par personisko darba ieguldījumu un darba kvalitāti 5% no mēnešalgas: EUR 1 130 x 5% : 168 st. x 4 st. = EUR 1,35 | D23: =ROUNDUP(1130*5%/168*4,2) -> 1.35 | E23: =ROUNDUP(1191*5%/168*4,2) -> 1.42
A24: 1147 | B24: Piemaksa par papildu darbu | C24: Piemaksa par papildu darbu 5% no mēnešalgas EUR 1 130 x 5% : 168 st. x 4 st. = EUR 1,35 | D24: =ROUNDUP(1130*5%/168*4,2) -> 1.35 | E24: =ROUNDUP(1191*5%/168*4,2) -> 1.42
A25: 1148 | B25: Prēmijas un naudas balvas | C25: Prēmijas un naudas balvas 10% no mēnešalgas EUR 1 130 x 10% : 168 st. x 4 st. = EUR 2,70 | D25: =ROUNDUP(1130*10%/168*4,2) -> 2.7 | E25: =ROUNDUP(1191*10%/168*4,2) -> 2.84
A26: 1149 | B26: Citas normatīvajos aktos noteiktās piemaksas, kas nav iepriekš klasificētas
A27: 1150 | B27: Atalgojums fiziskajām personām uz tiesiskās attiecības regulējošu dokumentu pamata
A28: 1170 | B28: Darba devēja piešķirtie labumi un maksājumi
A29: 1200 | B29: Darba devēja valsts sociālās apdrošināšanas obligātās iemaksas, pabalsti un kompensācijas | D29: =D30+D31 -> 9.91 | E29: =E30+E31 -> 10.41
A30: 1210 | B30: Darba devēja valsts sociālās apdrošināšanas obligātās iemaksas | C30: 23,59 % no 1100. un 1221.IEKK | D30: =ROUNDUP((D13+D32)*0.2359,2) -> 8.56 | E30: =ROUNDUP((E13+E32)*0.2359,2) -> 8.98
A31: 1220 | B31: Darba devēja pabalsti, kompensācijas un citi maksājumi | D31: =SUM(D32:D38) -> 1.35 | E31: =SUM(E32:E38) -> 1.43
A32: 1221 | B32: Darba devēja pabalsti un kompensācijas, no kuriem aprēķina iedzīvotāju ienākuma nodokli un valsts sociālās apdrošināšanas obligātās iemaksas | C32: Pabalsti un kompensācijas, no kuriem aprēķina iedzīvotāju ienākuma nodokli un valsts sociālās apdrošināšanas obligātās iemaksas EUR 1 130 x 4% : 168 st. x 4 st. = EUR 1,08 | D32: =ROUNDUP(1130*4%/168*4,2) -> 1.08 | E32: =ROUNDUP(1191*4%/168*4,2) -> 1.14
A33: 1223 | B33: Mācību maksas kompensācija
A34: 1224 | B34: Ārvalstīs nodarbināto amatpersonu (darbinieku) pabalsti un kompensācijas
A35: 1225 | B35: Uzturdevas kompensācija
A36: 1226 | B36: Dienesta pienākumu izpildei nepieciešamā apģērba iegādes kompensācija
A37: 1227 | B37: Darba devēja izdevumi veselības, dzīvības un nelaimes gadījumu apdrošināšanai
A38: 1228 | B38: Darba devēja pabalsti un kompensācijas, no kā neaprēķina iedzīvotāju ienākuma nodokli un valsts sociālās apdrošināšanas obligātās iemaksas | C38: Pabalsti un kompensācijas, no kā neaprēķina iedzīvotāju ienākuma nodokli un valsts sociālās apdrošināšanas obligātās iemaksas EUR 1 130 x 1% : 168 st. x 4 st. = EUR 0,27 | D38: =ROUNDUP(1130*1%/168*4,2) -> 0.27 | E38: =ROUNDUP(1191*1%/168*4,2) -> 0.29
A39: 2000 | B39: Preces un pakalpojumi | D39: =D40+D45 -> 0
A40: 2200 | B40: Pakalpojumi | D40: =D41+D43 -> 0
A41: 2220 | B41: Izdevumi par komunālajiem pakalpojumiem | D41: =D42 -> 0
A42: 2223 | B42: Izdevumi par elektroenerģiju
A43: 2240 | B43: Remontdarbi un iestāžu uzturēšanas pakalpojumi (izņemot kapitālo remontu) | D43: =D44 -> 0
A44: 2242 | B44: Transportlīdzekļu uzturēšana un remonts
...

Sheet 1.3
A1: Maksas pakalpojumu izcenojuma aprēķins
A3: 1. Atkārtota pārbaudījuma kārtošana:
A4: 1.3. kvalifikācijas darba aizstāvēšana
A5: Maksas pakalpojuma mērvienība – viena aizstāvēšana
A9: EKK kods | B9: Rādītājs (materiāla/izejvielas nosaukums, atlīdzība un citi izmaksu veidi) | C9: Izmaksu apjoms gadā viena makasa pakalpojuma veida nodrošināšanai | I9: Piezīmes, komentāri
A10: 1 | B10: 2 | C10: 3
A11: Tiešās izmaksas
A12: 1000 | B12: Atlīdzība | H12: =SUM(H13,H110) -> 112.29
A13: 1100 | B13: Atalgojums | H13: =SUM(H14,H25,H36,H47,H68,H89) -> 87.49
A14: 1116 | B14: Mēnešalga amatpersonām ar speciālajām dienesta pakāpēm | C14: Ieņemamais amats | E14: M.a. grupa | F14: Mēnešalga | G14: Patērētais laiks (h) | H14: =SUM(H15:H24) -> 75.56
C15: VP priekšnieka vietnieks | E15: 16 | F15: 3125 | G15: 1 | H15: =ROUNDUP((F15/168*G15),2) -> 18.61
C16: VP koledžas direktora vietnieks | E16: 14 | F16: 2253 | G16: 1 | H16: =ROUNDUP((F16/168*G16),2) -> 13.42
C17: VP Galvenās kriminālpolicijas pārvaldes priekšnieka vietnieks | E17: 15 | F17: 2651 | G17: 1 | H17: =ROUNDUP((F17/168*G17),2) -> 15.78
C18: VP Galvenās kārtības policijas pārvaldes priekšnieka vietnieks | E18: 15 | F18: 2651 | G18: 1 | H18: =ROUNDUP((F18/168*G18),2) -> 15.78
C19: VP koledžas katedras vadītājs | E19: 11 | F19: 2010 | G19: 1 | H19: =ROUNDUP((F19/168*G19),2) -> 11.97
H20: =ROUNDUP((F20/168*G20),2) -> 0
H21: =ROUNDUP((F21/168*G21),2) -> 0
H22: =ROUNDUP((F22/168*G22),2) -> 0
H23: =ROUNDUP((F23/168*G23),2) -> 0
H24: =ROUNDUP((F24/168*G24),2) -> 0
A25: 1119 | B25: Pārējo darbinieku mēnešalga (darba alga) | C25: Ieņemamais amats | E25: M.a. grupa | F25: Mēnešalga | G25: Patērētais laiks (h) | H25: =SUM(H26:H35) -> 7.67
C26: Vecākais speciālists Izglītības koordinācijas nodaļā | E26: 10 | F26: 1287 | G26: 1 | H26: =ROUNDUP((F26/168*G26),2) -> 7.67
H27: =ROUNDUP((F27/168*G27),2) -> 0
H28: =ROUNDUP((F28/168*G28),2) -> 0
H29: =ROUNDUP((F29/168*G29),2) -> 0
H30: =ROUNDUP((F30/168*G30),2) -> 0
H31: =ROUNDUP((F31/168*G31),2) -> 0
H32: =ROUNDUP((F32/168*G32),2) -> 0
H33: =ROUNDUP((F33/168*G33),2) -> 0
H34: =ROUNDUP((F34/168*G34),2) -> 0
H35: =ROUNDUP((F35/168*G35),2) -> 0
A36: 1143 | B36: Piemaksa par speciālo dienesta pakāpi un diplomātisko rangu | C36: Speciālā dienesta pakāpe | F36: Piemaksa mēnesī | G36: Patērētais laiks (h) | H36: =SUM(H37:H46) -> 4.26
C37: Ģenerālis | F37: 170 | G37: =G15 -> 1 | H37: =ROUNDUP((F37/168*G37),2) -> 1.02
C38: Pulkvedis | F38: 135 | G38: =G16 -> 1 | H38: =ROUNDUP((F38/168*G38),2) -> 0.81
C39: Pulkvedis | F39: 135 | G39: =G17 -> 1 | H39: =ROUNDUP((F39/168*G39),2) -> 0.81
C40: Pulkvedis | F40: 135 | G40: =G18 -> 1 | H40: =ROUNDUP((F40/168*G40),2) -> 0.81
C41: Pulkvedis | F41: 135 | G41: =G19 -> 1 | H41: =ROUNDUP((F41/168*G41),2) -> 0.81
G42: =G20 -> 0 | H42: =ROUNDUP((F42/168*G42),2) -> 0
G43: =G21 -> 0 | H43: =ROUNDUP((F43/168*G43),2) -> 0
G44: =G22 -> 0 | H44: =ROUNDUP((F44/168*G44),2) -> 0
...

Sheet 1.4.1
A1: Maksas pakalpojumu izcenojuma aprēķins
A3: 1. Atkārtota pārbaudījuma kārtošana
A4: 1.4. Kvalifikācijas eksāmens
A5: 1.4.1. Kvalifikācijas eksāmens 1.līmeņa profesionālās izglītības studiju programmā "Policijas darbs"
A6: Maksas pakalpojuma mērvienība – viens eksāmens
A10: EKK kods | B10: Rādītājs (materiāla/izejvielas nosaukums, atlīdzība un citi izmaksu veidi) | C10: Izmaksu apjoms gadā viena makasa pakalpojuma veida nodrošināšanai | I10: Piezīmes, komentāri
A11: 1 | B11: 2 | C11: 3
A12: Tiešās izmaksas
A13: 1000 | B13: Atlīdzība | H13: =SUM(H14,H111) -> 224.42
A14: 1100 | B14: Atalgojums | H14: =SUM(H15,H26,H37,H48,H69,H90) -> 174.89
A15: 1116 | B15: Mēnešalga amatpersonām ar speciālajām dienesta pakāpēm | C15: Ieņemamais amats | E15: M.a. grupa | F15: Mēnešalga | G15: Patērētais laiks (h) | H15: =SUM(H16:H25) -> 151.09
C16: VP priekšnieka vietnieks | E16: 16 | F16: 3125 | G16: 2 | H16: =ROUNDUP((F16/168*G16),2) -> 37.21
C17: VP koledžas direktora vietnieks | E17: 14 | F17: 2253 | G17: 2 | H17: =ROUNDUP((F17/168*G17),2) -> 26.83
C18: VP Galvenās kriminālpolicijas pārvaldes priekšnieka vietnieks | E18: 15 | F18: 2651 | G18: 2 | H18: =ROUNDUP((F18/168*G18),2) -> 31.56
C19: VP Galvenās kārtības policijas pārvaldes priekšnieka vietnieks | E19: 15 | F19: 2651 | G19: 2 | H19: =ROUNDUP((F19/168*G19),2) -> 31.56
C20: VP koledžas katedras vadītājs | E20: 11 | F20: 2010 | G20: 2 | H20: =ROUNDUP((F20/168*G20),2) -> 23.93
H21: =ROUNDUP((F21/168*G21),2) -> 0
H22: =ROUNDUP((F22/168*G22),2) -> 0
H23: =ROUNDUP((F23/168*G23),2) -> 0
H24: =ROUNDUP((F24/168*G24),2) -> 0
H25: =ROUNDUP((F25/168*G25),2) -> 0
A26: 1119 | B26: Pārējo darbinieku mēnešalga (darba alga) | C26: Ieņemamais amats | E26: M.a. grupa | F26: Mēnešalga | G26: Patērētais laiks (h) | H26: =SUM(H27:H36) -> 15.33
C27: Vecākais speciālists Izglītības koordinācijas nodaļā | E27: 10 | F27: 1287 | G27: 2 | H27: =ROUNDUP((F27/168*G27),2) -> 15.33
H28: =ROUNDUP((F28/168*G28),2) -> 0
H29: =ROUNDUP((F29/168*G29),2) -> 0
H30: =ROUNDUP((F30/168*G30),2) -> 0
H31: =ROUNDUP((F31/168*G31),2) -> 0
H32: =ROUNDUP((F32/168*G32),2) -> 0
H33: =ROUNDUP((F33/168*G33),2) -> 0
H34: =ROUNDUP((F34/168*G34),2) -> 0
H35: =ROUNDUP((F35/168*G35),2) -> 0
H36: =ROUNDUP((F36/168*G36),2) -> 0
A37: 1143 | B37: Piemaksa par speciālo dienesta pakāpi un diplomātisko rangu | C37: Speciālā dienesta pakāpe | F37: Piemaksa mēnesī | G37: Patērētais laiks (h) | H37: =SUM(H38:H47) -> 8.47
C38: Ģenerālis | F38: 170 | G38: =G16 -> 2 | H38: =ROUNDUP((F38/168*G38),2) -> 2.03
C39: Pulkvedis | F39: 135 | G39: =G17 -> 2 | H39: =ROUNDUP((F39/168*G39),2) -> 1.61
C40: Pulkvedis | F40: 135 | G40: =G18 -> 2 | H40: =ROUNDUP((F40/168*G40),2) -> 1.61
C41: Pulkvedis | F41: 135 | G41: =G19 -> 2 | H41: =ROUNDUP((F41/168*G41),2) -> 1.61
C42: Pulkvedis | F42: 135 | G42: =G20 -> 2 | H42: =ROUNDUP((F42/168*G42),2) -> 1.61
G43: =G21 -> 0 | H43: =ROUNDUP((F43/168*G43),2) -> 0
G44: =G22 -> 0 | H44: =ROUNDUP((F44/168*G44),2) -> 0
...

Sheet 1.4.2
A1: Maksas pakalpojumu izcenojuma aprēķins
A3: 1. Atkārtota pārbaudījuma kārtošana
A4: 1.4. Kvalifikācijas eksāmens
A5: 1.4.2. Arodizglītības programmā "Policijas darbs"
A6: Maksas pakalpojuma mērvienība – viens eksāmens
A10: EKK kods | B10: Rādītājs (materiāla/izejvielas nosaukums, atlīdzība un citi izmaksu veidi) | C10: Izmaksu apjoms gadā viena makasa pakalpojuma veida nodrošināšanai | I10: Piezīmes, komentāri
A11: 1 | B11: 2 | C11: 3
A12: Tiešās izmaksas
A13: 1000 | B13: Atlīdzība | H13: =SUM(H14,H111) -> 237.74
A14: 1100 | B14: Atalgojums | H14: =SUM(H15,H26,H37,H48,H69,H90) -> 182.78
A15: 1116 | B15: Mēnešalga amatpersonām ar speciālajām dienesta pakāpēm | C15: Ieņemamais amats | E15: M.a. grupa | F15: Mēnešalga | G15: Patērētais laiks (h) | H15: =SUM(H16:H25) -> 94.68
G16: 2 | H16: =ROUNDUP((F16/168*G16),2) -> 0
H17: =ROUNDUP((F17/168*G17),2) -> 0
C18: VP Galvenās kriminālpolicijas pārvaldes priekšnieka vietnieks | E18: 15 | F18: 2651 | G18: 3 | H18: =ROUNDUP((F18/168*G18),2) -> 47.34
C19: VP Galvenās kārtības policijas pārvaldes priekšnieka vietnieks | E19: 15 | F19: 2651 | G19: 3 | H19: =ROUNDUP((F19/168*G19),2) -> 47.34
H20: =ROUNDUP((F20/168*G20),2) -> 0
H21: =ROUNDUP((F21/168*G21),2) -> 0
H22: =ROUNDUP((F22/168*G22),2) -> 0
H23: =ROUNDUP((F23/168*G23),2) -> 0
H24: =ROUNDUP((F24/168*G24),2) -> 0
H25: =ROUNDUP((F25/168*G25),2) -> 0
A26: 1119 | B26: Pārējo darbinieku mēnešalga (darba alga) | C26: Ieņemamais amats | E26: M.a. grupa | F26: Mēnešalga | G26: Patērētais laiks (h) | H26: =SUM(H27:H36) -> 83.26
C27: Vecākais speciālists Izglītības koordinācijas nodaļā | E27: 10 | F27: 1287 | G27: 3 | H27: =ROUNDUP((F27/168*G27),2) -> 22.99
C28: Lektors | E28: 9 | F28: =ROUND(865*1.3,0) -> 1125 | G28: 3 | H28: =ROUNDUP((F28/168*G28),2) -> 20.09
C29: Lektors | E29: 9 | F29: =ROUND(865*1.3,0) -> 1125 | G29: 3 | H29: =ROUNDUP((F29/168*G29),2) -> 20.09
C30: Lektors | E30: 9 | F30: =ROUND(865*1.3,0) -> 1125 | G30: 3 | H30: =ROUNDUP((F30/168*G30),2) -> 20.09
H31: =ROUNDUP((F31/168*G31),2) -> 0
H32: =ROUNDUP((F32/168*G32),2) -> 0
H33: =ROUNDUP((F33/168*G33),2) -> 0
H34: =ROUNDUP((F34/168*G34),2) -> 0
H35: =ROUNDUP((F35/168*G35),2) -> 0
H36: =ROUNDUP((F36/168*G36),2) -> 0
A37: 1143 | B37: Piemaksa par speciālo dienesta pakāpi un diplomātisko rangu | C37: Speciālā dienesta pakāpe | F37: Piemaksa mēnesī | G37: Patērētais laiks (h) | H37: =SUM(H38:H47) -> 4.84
G38: =G16 -> 2 | H38: =ROUNDUP((F38/168*G38),2) -> 0
C39: Pulkvedis | G39: =G17 -> 0 | H39: =ROUNDUP((F39/168*G39),2) -> 0
C40: Pulkvedis | F40: 135 | G40: =G18 -> 3 | H40: =ROUNDUP((F40/168*G40),2) -> 2.42
C41: Pulkvedis | F41: 135 | G41: =G19 -> 3 | H41: =ROUNDUP((F41/168*G41),2) -> 2.42
C42: Pulkvedis | G42: =G20 -> 0 | H42: =ROUNDUP((F42/168*G42),2) -> 0
G43: =G21 -> 0 | H43: =ROUNDUP((F43/168*G43),2) -> 0
G44: =G22 -> 0 | H44: =ROUNDUP((F44/168*G44),2) -> 0
...

Sheet 1.4.3
A1: Maksas pakalpojumu izcenojuma aprēķins
A3: 1. Atkārtota pārbaudījuma kārtošana
A4: 1.4. Kvalifikācijas eksāmens
A5: 1.4.3. noslēguma pārbaudījums profesionālās pilnveides izglītības programmā "Policijas darba pamati"
A6: Maksas pakalpojuma mērvienība – viens eksāmens
A10: EKK kods | B10: Rādītājs (materiāla/izejvielas nosaukums, atlīdzība un citi izmaksu veidi) | C10: Izmaksu apjoms gadā viena makasa pakalpojuma veida nodrošināšanai | I10: Piezīmes, komentāri
A11: 1 | B11: 2 | C11: 3
A12: Tiešās izmaksas
A13: 1000 | B13: Atlīdzība | H13: =SUM(H14,H111) -> 88.25
A14: 1100 | B14: Atalgojums | H14: =SUM(H15,H26,H37,H48,H69,H90) -> 67.65
A15: 1116 | B15: Mēnešalga amatpersonām ar speciālajām dienesta pakāpēm | C15: Ieņemamais amats | E15: M.a. grupa | F15: Mēnešalga | G15: Patērētais laiks (h) | H15: =SUM(H16:H25) -> 31.56
G16: 2 | H16: =ROUNDUP((F16/168*G16),2) -> 0
H17: =ROUNDUP((F17/168*G17),2) -> 0
C18: VP Galvenās kriminālpolicijas pārvaldes priekšnieka vietnieks | E18: 15 | F18: 2651 | G18: 1 | H18: =ROUNDUP((F18/168*G18),2) -> 15.78
C19: VP Galvenās kārtības policijas pārvaldes priekšnieka vietnieks | E19: 15 | F19: 2651 | G19: 1 | H19: =ROUNDUP((F19/168*G19),2) -> 15.78
H20: =ROUNDUP((F20/168*G20),2) -> 0
H21: =ROUNDUP((F21/168*G21),2) -> 0
H22: =ROUNDUP((F22/168*G22),2) -> 0
H23: =ROUNDUP((F23/168*G23),2) -> 0
H24: =ROUNDUP((F24/168*G24),2) -> 0
H25: =ROUNDUP((F25/168*G25),2) -> 0
A26: 1119 | B26: Pārējo darbinieku mēnešalga (darba alga) | C26: Ieņemamais amats | E26: M.a. grupa | F26: Mēnešalga | G26: Patērētais laiks (h) | H26: =SUM(H27:H36) -> 34.47
C27: Vecākais speciālists Izglītības koordinācijas nodaļā | E27: 10 | F27: 1287 | G27: 1 | H27: =ROUNDUP((F27/168*G27),2) -> 7.67
C28: Lektors | E28: 9 | F28: =ROUND(865*1.3,0) -> 1125 | G28: 1 | H28: =ROUNDUP((F28/168*G28),2) -> 6.7
C29: Lektors | E29: 9 | F29: =ROUND(865*1.3,0) -> 1125 | G29: 1 | H29: =ROUNDUP((F29/168*G29),2) -> 6.7
C30: Lektors | E30: 9 | F30: =ROUND(865*1.3,0) -> 1125 | G30: 1 | H30: =ROUNDUP((F30/168*G30),2) -> 6.7
C31: Lektors | E31: 9 | F31: =ROUND(865*1.3,0) -> 1125 | G31: 1 | H31: =ROUNDUP((F31/168*G31),2) -> 6.7
H32: =ROUNDUP((F32/168*G32),2) -> 0
H33: =ROUNDUP((F33/168*G33),2) -> 0
H34: =ROUNDUP((F34/168*G34),2) -> 0
H35: =ROUNDUP((F35/168*G35),2) -> 0
H36: =ROUNDUP((F36/168*G36),2) -> 0
A37: 1143 | B37: Piemaksa par speciālo dienesta pakāpi un diplomātisko rangu | C37: Speciālā dienesta pakāpe | F37: Piemaksa mēnesī | G37: Patērētais laiks (h) | H37: =SUM(H38:H47) -> 1.62
G38: =G16 -> 2 | H38: =ROUNDUP((F38/168*G38),2) -> 0
C39: Pulkvedis | G39: =G17 -> 0 | H39: =ROUNDUP((F39/168*G39),2) -> 0
C40: Pulkvedis | F40: 135 | G40: =G18 -> 1 | H40: =ROUNDUP((F40/168*G40),2) -> 0.81
C41: Pulkvedis | F41: 135 | G41: =G19 -> 1 | H41: =ROUNDUP((F41/168*G41),2) -> 0.81
C42: Pulkvedis | G42: =G20 -> 0 | H42: =ROUNDUP((F42/168*G42),2) -> 0
G43: =G21 -> 0 | H43: =ROUNDUP((F43/168*G43),2) -> 0
G44: =G22 -> 0 | H44: =ROUNDUP((F44/168*G44),2) -> 0
...

Sheet 2.
A1: Maksas pakalpojumu izcenojuma aprēķins
A3: 2. Atkārtota studiju kursa apguve
A5: Maksas pakalpojuma mērvienība – viens kredītpunkts
A9: EKK kods | B9: Rādītājs (materiāla/izejvielas nosaukums, atlīdzība un citi izmaksu veidi) | C9: Izmaksu apjoms gadā viena makasa pakalpojuma veida nodrošināšanai | I9: Piezīmes, komentāri
A10: 1 | B10: 2 | C10: 3
A11: Tiešās izmaksas
A12: 1000 | B12: Atlīdzība | H12: =SUM(H13,H110) -> 23.33
A13: 1100 | B13: Atalgojums | H13: =SUM(H14,H25,H36,H47,H68,H89) -> 18.19
A14: 1116 | B14: Mēnešalga amatpersonām ar speciālajām dienesta pakāpēm | C14: Ieņemamais amats | E14: M.a. grupa | F14: Mēnešalga | G14: Patērētais laiks (h) | H14: =SUM(H15:H24) -> 16.97
C15: Lektors (ar SDP) vidēji 20 personas mācību grupā | E15: 9 | F15: 1677 | G15: 34 | H15: =ROUNDUP((F15/168*G15/20),2) -> 16.97
H16: =ROUNDUP((F16/168*G16),2) -> 0
H17: =ROUNDUP((F17/168*G17),2) -> 0
H18: =ROUNDUP((F18/168*G18),2) -> 0
H19: =ROUNDUP((F19/168*G19),2) -> 0
H20: =ROUNDUP((F20/168*G20),2) -> 0
H21: =ROUNDUP((F21/168*G21),2) -> 0
H22: =ROUNDUP((F22/168*G22),2) -> 0
H23: =ROUNDUP((F23/168*G23),2) -> 0
H24: =ROUNDUP((F24/168*G24),2) -> 0
A25: 1119 | B25: Pārējo darbinieku mēnešalga (darba alga) | C25: Ieņememais amats | E25: M.a. grupa | F25: Mēnešalga | G25: Patērētais laiks (h) | H25: =SUM(H26:H35) -> 0
H26: =ROUNDUP((F26/168*G26),2) -> 0
H27: =ROUNDUP((F27/168*G27),2) -> 0
H28: =ROUNDUP((F28/168*G28),2) -> 0
H29: =ROUNDUP((F29/168*G29),2) -> 0
H30: =ROUNDUP((F30/168*G30),2) -> 0
H31: =ROUNDUP((F31/168*G31),2) -> 0
H32: =ROUNDUP((F32/168*G32),2) -> 0
H33: =ROUNDUP((F33/168*G33),2) -> 0
H34: =ROUNDUP((F34/168*G34),2) -> 0
H35: =ROUNDUP((F35/168*G35),2) -> 0
A36: 1143 | B36: Piemaksa par speciālo dienesta pakāpi un diplomātisko rangu | C36: Speciālā dienesta pakāpe | F36: Piemaksa mēnesī | G36: Patērētais laiks (h) | H36: =SUM(H37:H46) -> 1.22
C37: Pulkvežleitnants | F37: 120 | G37: =G15 -> 34 | H37: =ROUNDUP((F37/168*G37/20),2) -> 1.22
G38: =G16 -> 0 | H38: =ROUNDUP((F38/168*G38),2) -> 0
G39: =G17 -> 0 | H39: =ROUNDUP((F39/168*G39),2) -> 0
G40: =G18 -> 0 | H40: =ROUNDUP((F40/168*G40),2) -> 0
G41: =G19 -> 0 | H41: =ROUNDUP((F41/168*G41),2) -> 0
G42: =G20 -> 0 | H42: =ROUNDUP((F42/168*G42),2) -> 0
G43: =G21 -> 0 | H43: =ROUNDUP((F43/168*G43),2) -> 0
G44: =G22 -> 0 | H44: =ROUNDUP((F44/168*G44),2) -> 0
G45: =G23 -> 0 | H45: =ROUNDUP((F45/168*G45),2) -> 0
...

Sheet 3.
A1: Maksas pakalpojumu izcenojuma aprēķins
A3: 3. Pieteikšanās dokumentu pieņemšana un reģistrēšana pilna vai nepilna laika studijām (mācībām)
A5: Maksas pakalpojuma mērvienība – viens reflektants
A9: EKK kods | B9: Rādītājs (materiāla/izejvielas nosaukums, atlīdzība un citi izmaksu veidi) | C9: Izmaksu apjoms gadā viena makasa pakalpojuma veida nodrošināšanai | I9: Piezīmes, komentāri
A10: 1 | B10: 2 | C10: 3
A11: Tiešās izmaksas
A12: 1000 | B12: Atlīdzība | H12: =SUM(H13,H110) -> 13.03
A13: 1100 | B13: Atalgojums | H13: =SUM(H14,H25,H36,H47,H68,H89) -> 10.12
A14: 1116 | B14: Mēnešalga amatpersonām ar speciālajām dienesta pakāpēm | C14: Ieņememais amats | E14: M.a. grupa | F14: Mēnešalga | G14: Patērētais laiks (h) | H14: =SUM(H15:H24) -> 0
H15: =ROUNDUP((F15/168*G15),2) -> 0
H16: =ROUNDUP((F16/168*G16),2) -> 0
H17: =ROUNDUP((F17/168*G17),2) -> 0
H18: =ROUNDUP((F18/168*G18),2) -> 0
H19: =ROUNDUP((F19/168*G19),2) -> 0
H20: =ROUNDUP((F20/168*G20),2) -> 0
H21: =ROUNDUP((F21/168*G21),2) -> 0
H22: =ROUNDUP((F22/168*G22),2) -> 0
H23: =ROUNDUP((F23/168*G23),2) -> 0
H24: =ROUNDUP((F24/168*G24),2) -> 0
A25: 1119 | B25: Pārējo darbinieku mēnešalga (darba alga) | C25: Ieņemamais amats | E25: M.a. grupa | F25: Mēnešalga | G25: Patērētais laiks (h) | H25: =SUM(H26:H35) -> 10.12
C26: Vecākais speciālists Izglītības koordinācijas nodaļā | E26: 10 | F26: 1287 | G26: 0.66 | H26: =ROUNDUP((F26/168*G26),2) -> 5.06
C27: Vecākais speciālists Personāla vadības nodaļā | E27: 10 | F27: 1287 | G27: 0.66 | H27: =ROUNDUP((F27/168*G27),2) -> 5.06
H28: =ROUNDUP((F28/168*G28),2) -> 0
H29: =ROUNDUP((F29/168*G29),2) -> 0
H30: =ROUNDUP((F30/168*G30),2) -> 0
H31: =ROUNDUP((F31/168*G31),2) -> 0
H32: =ROUNDUP((F32/168*G32),2) -> 0
H33: =ROUNDUP((F33/168*G33),2) -> 0
H34: =ROUNDUP((F34/168*G34),2) -> 0
H35: =ROUNDUP((F35/168*G35),2) -> 0
A36: 1143 | B36: Piemaksa par speciālo dienesta pakāpi un diplomātisko rangu | C36: Speciālā dienesta pakāpe | F36: Piemaksa mēnesī | G36: Patērētais laiks (h) | H36: =SUM(H37:H46) -> 0
G37: =G15 -> 0 | H37: =ROUNDUP((F37/168*G37),2) -> 0
G38: =G16 -> 0 | H38: =ROUNDUP((F38/168*G38),2) -> 0
G39: =G17 -> 0 | H39: =ROUNDUP((F39/168*G39),2) -> 0
G40: =G18 -> 0 | H40: =ROUNDUP((F40/168*G40),2) -> 0
G41: =G19 -> 0 | H41: =ROUNDUP((F41/168*G41),2) -> 0
G42: =G20 -> 0 | H42: =ROUNDUP((F42/168*G42),2) -> 0
G43: =G21 -> 0 | H43: =ROUNDUP((F43/168*G43),2) -> 0
G44: =G22 -> 0 | H44: =ROUNDUP((F44/168*G44),2) -> 0
G45: =G23 -> 0 | H45: =ROUNDUP((F45/168*G45),2) -> 0
...

Sheet 4.1
A1: Maksas pakalpojumu izcenojuma aprēķins
A3: 4. Izziņas izsniegšana
A4: 4.1. Akadēmiskās izziņas izsniegšana
A5: Maksas pakalpojuma mērvienība – viena izziņa
A9: EKK kods | B9: Rādītājs (materiāla/izejvielas nosaukums, atlīdzība un citi izmaksu veidi) | C9: Izmaksu apjoms gadā viena makasa pakalpojuma veida nodrošināšanai | I9: Piezīmes, komentāri
A10: 1 | B10: 2 | C10: 3
A11: Tiešās izmaksas
A12: 1000 | B12: Atlīdzība | H12: =SUM(H13,H110) -> 15.31
A13: 1100 | B13: Atalgojums | H13: =SUM(H14,H25,H36,H47,H68,H89) -> 11.9
A14: 1116 | B14: Mēnešalga amatpersonām ar speciālajām dienesta pakāpēm | C14: Ieņemamais amats | E14: M.a. grupa | F14: Mēnešalga | G14: Patērētais laiks (h) | H14: =SUM(H15:H24) -> 0.38
H15: =ROUNDUP((F15/168*G15),2) -> 0
C16: VP koledžas direktors | E16: 16 | F16: 3125 | G16: 0.02 | H16: =ROUNDUP((F16/168*G16),2) -> 0.38
H17: =ROUNDUP((F17/168*G17),2) -> 0
H18: =ROUNDUP((F18/168*G18),2) -> 0
H19: =ROUNDUP((F19/168*G19),2) -> 0
H20: =ROUNDUP((F20/168*G20),2) -> 0
H21: =ROUNDUP((F21/168*G21),2) -> 0
H22: =ROUNDUP((F22/168*G22),2) -> 0
H23: =ROUNDUP((F23/168*G23),2) -> 0
H24: =ROUNDUP((F24/168*G24),2) -> 0
A25: 1119 | B25: Pārējo darbinieku mēnešalga (darba alga) | C25: Ieņemamais amats | E25: M.a. grupa | F25: Mēnešalga | G25: Patērētais laiks (h) | H25: =SUM(H26:H35) -> 11.5
C26: Vecākais speciālists Izglītības koordinācijas nodaļā | E26: 10 | F26: 1287 | G26: 1.5 | H26: =ROUNDUP((F26/168*G26),2) -> 11.5
H27: =ROUNDUP((F27/168*G27),2) -> 0
H28: =ROUNDUP((F28/168*G28),2) -> 0
H29: =ROUNDUP((F29/168*G29),2) -> 0
H30: =ROUNDUP((F30/168*G30),2) -> 0
H31: =ROUNDUP((F31/168*G31),2) -> 0
H32: =ROUNDUP((F32/168*G32),2) -> 0
H33: =ROUNDUP((F33/168*G33),2) -> 0
H34: =ROUNDUP((F34/168*G34),2) -> 0
H35: =ROUNDUP((F35/168*G35),2) -> 0
A36: 1143 | B36: Piemaksa par speciālo dienesta pakāpi un diplomātisko rangu | C36: Speciālā dienesta pakāpe | F36: Piemaksa mēnesī | G36: Patērētais laiks (h) | H36: =SUM(H37:H46) -> 0.02
G37: =G15 -> 0 | H37: =ROUNDUP((F37/168*G37),2) -> 0
C38: Pulkvedis | F38: 135 | G38: =G16 -> 0.02 | H38: =ROUNDUP((F38/168*G38),2) -> 0.02
G39: =G17 -> 0 | H39: =ROUNDUP((F39/168*G39),2) -> 0
G40: =G18 -> 0 | H40: =ROUNDUP((F40/168*G40),2) -> 0
G41: =G19 -> 0 | H41: =ROUNDUP((F41/168*G41),2) -> 0
G42: =G20 -> 0 | H42: =ROUNDUP((F42/168*G42),2) -> 0
G43: =G21 -> 0 | H43: =ROUNDUP((F43/168*G43),2) -> 0
G44: =G22 -> 0 | H44: =ROUNDUP((F44/168*G44),2) -> 0
...

Sheet 4.2
A1: Maksas pakalpojumu izcenojuma aprēķins
A3: 4. Izziņas izsniegšana
A4: 4.2. Sekmju izziņas par profesionālās izglītības daļēju apguvi izsniegšana
A5: Maksas pakalpojuma mērvienība – viena izziņa
A9: EKK kods | B9: Rādītājs (materiāla/izejvielas nosaukums, atlīdzība un citi izmaksu veidi) | C9: Izmaksu apjoms gadā viena makasa pakalpojuma veida nodrošināšanai | I9: Piezīmes, komentāri
A10: 1 | B10: 2 | C10: 3
A11: Tiešās izmaksas
A12: 1000 | B12: Atlīdzība | H12: =SUM(H13,H110) -> 20.24
A13: 1100 | B13: Atalgojums | H13: =SUM(H14,H25,H36,H47,H68,H89) -> 15.73
A14: 1116 | B14: Mēnešalga amatpersonām ar speciālajām dienesta pakāpēm | C14: Ieņemamais amats | E14: M.a. grupa | F14: Mēnešalga | G14: Patērētais laiks (h) | H14: =SUM(H15:H24) -> 0.38
H15: =ROUNDUP((F15/168*G15),2) -> 0
C16: VP koledžas direktors | E16: 16 | F16: 3125 | G16: 0.02 | H16: =ROUNDUP((F16/168*G16),2) -> 0.38
H17: =ROUNDUP((F17/168*G17),2) -> 0
H18: =ROUNDUP((F18/168*G18),2) -> 0
H19: =ROUNDUP((F19/168*G19),2) -> 0
H20: =ROUNDUP((F20/168*G20),2) -> 0
H21: =ROUNDUP((F21/168*G21),2) -> 0
H22: =ROUNDUP((F22/168*G22),2) -> 0
H23: =ROUNDUP((F23/168*G23),2) -> 0
H24: =ROUNDUP((F24/168*G24),2) -> 0
A25: 1119 | B25: Pārējo darbinieku mēnešalga (darba alga) | C25: Ieņemamais amats | E25: M.a. grupa | F25: Mēnešalga | G25: Patērētais laiks (h) | H25: =SUM(H26:H35) -> 15.33
C26: Vecākais speciālists Izglītības koordinācijas nodaļā | E26: 10 | F26: 1287 | G26: 2 | H26: =ROUNDUP((F26/168*G26),2) -> 15.33
H27: =ROUNDUP((F27/168*G27),2) -> 0
H28: =ROUNDUP((F28/168*G28),2) -> 0
H29: =ROUNDUP((F29/168*G29),2) -> 0
H30: =ROUNDUP((F30/168*G30),2) -> 0
H31: =ROUNDUP((F31/168*G31),2) -> 0
H32: =ROUNDUP((F32/168*G32),2) -> 0
H33: =ROUNDUP((F33/168*G33),2) -> 0
H34: =ROUNDUP((F34/168*G34),2) -> 0
H35: =ROUNDUP((F35/168*G35),2) -> 0
A36: 1143 | B36: Piemaksa par speciālo dienesta pakāpi un diplomātisko rangu | C36: Speciālā dienesta pakāpe | F36: Piemaksa mēnesī | G36: Patērētais laiks (h) | H36: =SUM(H37:H46) -> 0.02
G37: =G15 -> 0 | H37: =ROUNDUP((F37/168*G37),2) -> 0
C38: Pulkvedis | F38: 135 | G38: =G16 -> 0.02 | H38: =ROUNDUP((F38/168*G38),2) -> 0.02
G39: =G17 -> 0 | H39: =ROUNDUP((F39/168*G39),2) -> 0
G40: =G18 -> 0 | H40: =ROUNDUP((F40/168*G40),2) -> 0
G41: =G19 -> 0 | H41: =ROUNDUP((F41/168*G41),2) -> 0
G42: =G20 -> 0 | H42: =ROUNDUP((F42/168*G42),2) -> 0
G43: =G21 -> 0 | H43: =ROUNDUP((F43/168*G43),2) -> 0
G44: =G22 -> 0 | H44: =ROUNDUP((F44/168*G44),2) -> 0
...

Sheet 5.
A1: Maksas pakalpojumu izcenojuma aprēķins
A3: 5. Kopēšanas un printēšanas pakalpojumi (A4 formāts)
A5: Maksas pakalpojuma mērvienība – viena lappuse (1 h 1000 lpp)
A9: EKK kods | B9: Rādītājs (materiāla/izejvielas nosaukums, atlīdzība un citi izmaksu veidi) | C9: Izmaksu apjoms gadā viena makasa pakalpojuma veida nodrošināšanai | I9: Piezīmes, komentāri
A10: 1 | B10: 2 | C10: 3
A11: Tiešās izmaksas
A12: 1000 | B12: Atlīdzība | H12: =SUM(H13,H110) -> 8.38
A13: 1100 | B13: Atalgojums | H13: =SUM(H14,H25,H36,H47,H68,H89) -> 6.51
A14: 1116 | B14: Mēnešalga amatpersonām ar speciālajām dienesta pakāpēm | C14: Ieņememais amats | E14: M.a. grupa | F14: Mēnešalga | G14: Patērētais laiks (h) | H14: =SUM(H15:H24) -> 0
H15: =ROUNDUP((F15/168*G15),2) -> 0
H16: =ROUNDUP((F16/168*G16),2) -> 0
H17: =ROUNDUP((F17/168*G17),2) -> 0
H18: =ROUNDUP((F18/168*G18),2) -> 0
H19: =ROUNDUP((F19/168*G19),2) -> 0
H20: =ROUNDUP((F20/168*G20),2) -> 0
H21: =ROUNDUP((F21/168*G21),2) -> 0
H22: =ROUNDUP((F22/168*G22),2) -> 0
H23: =ROUNDUP((F23/168*G23),2) -> 0
H24: =ROUNDUP((F24/168*G24),2) -> 0
A25: 1119 | B25: Pārējo darbinieku mēnešalga (darba alga) | C25: Ieņemamais amats | E25: M.a. grupa | F25: Mēnešalga | G25: Patērētais laiks (h) | H25: =SUM(H26:H35) -> 6.51
C26: Bibliotekārs | E26: 8 | F26: 1093 | G26: 1 | H26: =ROUNDUP((F26/168*G26),2) -> 6.51
H27: =ROUNDUP((F27/168*G27),2) -> 0
H28: =ROUNDUP((F28/168*G28),2) -> 0
H29: =ROUNDUP((F29/168*G29),2) -> 0
H30: =ROUNDUP((F30/168*G30),2) -> 0
H31: =ROUNDUP((F31/168*G31),2) -> 0
H32: =ROUNDUP((F32/168*G32),2) -> 0
H33: =ROUNDUP((F33/168*G33),2) -> 0
H34: =ROUNDUP((F34/168*G34),2) -> 0
H35: =ROUNDUP((F35/168*G35),2) -> 0
A36: 1143 | B36: Piemaksa par speciālo dienesta pakāpi un diplomātisko rangu | C36: Speciālā dienesta pakāpe | F36: Piemaksa mēnesī | G36: Patērētais laiks (h) | H36: =SUM(H37:H46) -> 0
G37: =G15 -> 0 | H37: =ROUNDUP((F37/168*G37),2) -> 0
G38: =G16 -> 0 | H38: =ROUNDUP((F38/168*G38),2) -> 0
G39: =G17 -> 0 | H39: =ROUNDUP((F39/168*G39),2) -> 0
G40: =G18 -> 0 | H40: =ROUNDUP((F40/168*G40),2) -> 0
G41: =G19 -> 0 | H41: =ROUNDUP((F41/168*G41),2) -> 0
G42: =G20 -> 0 | H42: =ROUNDUP((F42/168*G42),2) -> 0
G43: =G21 -> 0 | H43: =ROUNDUP((F43/168*G43),2) -> 0
G44: =G22 -> 0 | H44: =ROUNDUP((F44/168*G44),2) -> 0
G45: =G23 -> 0 | H45: =ROUNDUP((F45/168*G45),2) -> 0
...

Sheet 6.1.
A1: Maksas pakalpojumu izcenojuma aprēķins
A3: 6. Profesionālās pilnveides un pieaugušo neformālās izglītības pakalpojumu sniegšana fiziskām un juridiskām personām:
A4: 6.1. profesionālās pilnveides un pieaugušo neformālās izglītības programmu nodarbību vadīšana Rīgā (mācību grupa līdz 20 personām)
A5: Maksas pakalpojuma mērvienība – viena akadēmiskā stunda (45 minūtes)
A9: EKK kods | B9: Rādītājs (materiāla/izejvielas nosaukums, atlīdzība un citi izmaksu veidi) | C9: Izmaksu apjoms gadā viena makasa pakalpojuma veida nodrošināšanai | I9: Piezīmes, komentāri
A10: 1 | B10: 2 | C10: 3
A11: Tiešās izmaksas
A12: 1000 | B12: Atlīdzība | H12: =SUM(H13,H110) -> 13.74
A13: 1100 | B13: Atalgojums | H13: =SUM(H14,H25,H36,H47,H68,H89) -> 10.71
A14: 1116 | B14: Mēnešalga amatpersonām ar speciālajām dienesta pakāpēm | C14: Ieņemamais amats | E14: M.a. grupa | F14: Mēnešalga | G14: Patērētais laiks (h) | H14: =SUM(H15:H24) -> 9.99
C15: Lektors (ar SDP) | E15: 9 | F15: 1677 | G15: 1 | H15: =ROUNDUP((F15/168*G15),2) -> 9.99
H16: =ROUNDUP((F16/168*G16),2) -> 0
H17: =ROUNDUP((F17/168*G17),2) -> 0
H18: =ROUNDUP((F18/168*G18),2) -> 0
H19: =ROUNDUP((F19/168*G19),2) -> 0
H20: =ROUNDUP((F20/168*G20),2) -> 0
H21: =ROUNDUP((F21/168*G21),2) -> 0
H22: =ROUNDUP((F22/168*G22),2) -> 0
H23: =ROUNDUP((F23/168*G23),2) -> 0
H24: =ROUNDUP((F24/168*G24),2) -> 0
A25: 1119 | B25: Pārējo darbinieku mēnešalga (darba alga) | C25: Ieņememais amats | E25: M.a. grupa | F25: Mēnešalga | G25: Patērētais laiks (h) | H25: =SUM(H26:H35) -> 0
H26: =ROUNDUP((F26/168*G26),2) -> 0
H27: =ROUNDUP((F27/168*G27),2) -> 0
H28: =ROUNDUP((F28/168*G28),2) -> 0
H29: =ROUNDUP((F29/168*G29),2) -> 0
H30: =ROUNDUP((F30/168*G30),2) -> 0
H31: =ROUNDUP((F31/168*G31),2) -> 0
H32: =ROUNDUP((F32/168*G32),2) -> 0
H33: =ROUNDUP((F33/168*G33),2) -> 0
H34: =ROUNDUP((F34/168*G34),2) -> 0
H35: =ROUNDUP((F35/168*G35),2) -> 0
A36: 1143 | B36: Piemaksa par speciālo dienesta pakāpi un diplomātisko rangu | C36: Speciālā dienesta pakāpe | F36: Piemaksa mēnesī | G36: Patērētais laiks (h) | H36: =SUM(H37:H46) -> 0.72
C37: Pulkvežleitnants | F37: 120 | G37: =G15 -> 1 | H37: =ROUNDUP((F37/168*G37),2) -> 0.72
G38: =G16 -> 0 | H38: =ROUNDUP((F38/168*G38),2) -> 0
G39: =G17 -> 0 | H39: =ROUNDUP((F39/168*G39),2) -> 0
G40: =G18 -> 0 | H40: =ROUNDUP((F40/168*G40),2) -> 0
G41: =G19 -> 0 | H41: =ROUNDUP((F41/168*G41),2) -> 0
G42: =G20 -> 0 | H42: =ROUNDUP((F42/168*G42),2) -> 0
G43: =G21 -> 0 | H43: =ROUNDUP((F43/168*G43),2) -> 0
G44: =G22 -> 0 | H44: =ROUNDUP((F44/168*G44),2) -> 0
...

Sheet 6.2.
A1: Maksas pakalpojumu izcenojuma aprēķins
A3: 6. Profesionālās pilnveides un pieaugušo neformālās izglītības pakalpojumu sniegšana fiziskām un juridiskām personām:
A4: 6.2. profesionālās pilnveides un pieaugušo neformālās izglītības programmu nodarbību vadīšana ārpus Rīgas (mācību grupa līdz 20 personām)
A5: Maksas pakalpojuma mērvienība – viena akadēmiskā stunda (45 minūtes)
A9: EKK kods | B9: Rādītājs (materiāla/izejvielas nosaukums, atlīdzība un citi izmaksu veidi) | C9: Izmaksu apjoms gadā viena makasa pakalpojuma veida nodrošināšanai | I9: Piezīmes, komentāri
A10: 1 | B10: 2 | C10: 3
A11: Tiešās izmaksas
A12: 1000 | B12: Atlīdzība | H12: =SUM(H13,H110) -> 13.74
A13: 1100 | B13: Atalgojums | H13: =SUM(H14,H25,H36,H47,H68,H89) -> 10.71
A14: 1116 | B14: Mēnešalga amatpersonām ar speciālajām dienesta pakāpēm | C14: Ieņemamais amats | E14: M.a. grupa | F14: Mēnešalga | G14: Patērētais laiks (h) | H14: =SUM(H15:H24) -> 9.99
C15: Lektors (ar SDP) | E15: 9 | F15: 1677 | G15: 1 | H15: =ROUNDUP((F15/168*G15),2) -> 9.99
H16: =ROUNDUP((F16/168*G16),2) -> 0
H17: =ROUNDUP((F17/168*G17),2) -> 0
H18: =ROUNDUP((F18/168*G18),2) -> 0
H19: =ROUNDUP((F19/168*G19),2) -> 0
H20: =ROUNDUP((F20/168*G20),2) -> 0
H21: =ROUNDUP((F21/168*G21),2) -> 0
H22: =ROUNDUP((F22/168*G22),2) -> 0
H23: =ROUNDUP((F23/168*G23),2) -> 0
H24: =ROUNDUP((F24/168*G24),2) -> 0
A25: 1119 | B25: Pārējo darbinieku mēnešalga (darba alga) | C25: Ieņememais amats | E25: M.a. grupa | F25: Mēnešalga | G25: Patērētais laiks (h) | H25: =SUM(H26:H35) -> 0
H26: =ROUNDUP((F26/168*G26),2) -> 0
H27: =ROUNDUP((F27/168*G27),2) -> 0
H28: =ROUNDUP((F28/168*G28),2) -> 0
H29: =ROUNDUP((F29/168*G29),2) -> 0
H30: =ROUNDUP((F30/168*G30),2) -> 0
H31: =ROUNDUP((F31/168*G31),2) -> 0
H32: =ROUNDUP((F32/168*G32),2) -> 0
H33: =ROUNDUP((F33/168*G33),2) -> 0
H34: =ROUNDUP((F34/168*G34),2) -> 0
H35: =ROUNDUP((F35/168*G35),2) -> 0
A36: 1143 | B36: Piemaksa par speciālo dienesta pakāpi un diplomātisko rangu | C36: Speciālā dienesta pakāpe | F36: Piemaksa mēnesī | G36: Patērētais laiks (h) | H36: =SUM(H37:H46) -> 0.72
C37: Pulkvežleitnants | F37: 120 | G37: =G15 -> 1 | H37: =ROUNDUP((F37/168*G37),2) -> 0.72
G38: =G16 -> 0 | H38: =ROUNDUP((F38/168*G38),2) -> 0
G39: =G17 -> 0 | H39: =ROUNDUP((F39/168*G39),2) -> 0
G40: =G18 -> 0 | H40: =ROUNDUP((F40/168*G40),2) -> 0
G41: =G19 -> 0 | H41: =ROUNDUP((F41/168*G41),2) -> 0
G42: =G20 -> 0 | H42: =ROUNDUP((F42/168*G42),2) -> 0
G43: =G21 -> 0 | H43: =ROUNDUP((F43/168*G43),2) -> 0
G44: =G22 -> 0 | H44: =ROUNDUP((F44/168*G44),2) -> 0
...

Sheet 6.3.
A1: Maksas pakalpojumu izcenojuma aprēķins
A3: 6. Profesionālās pilnveides un pieaugušo neformālās izglītības pakalpojumu sniegšana fiziskām un juridiskām personām:
A4: 6.3. licencētās profesionālās pilnveides izglītības programmas atkārtota noslēguma pārbaudījuma pieņemšana
A5: Maksas pakalpojuma mērvienība – viens pārbaudījums
A9: EKK kods | B9: Rādītājs (materiāla/izejvielas nosaukums, atlīdzība un citi izmaksu veidi) | C9: Izmaksu apjoms gadā viena makasa pakalpojuma veida nodrošināšanai | I9: Piezīmes, komentāri
A10: 1 | B10: 2 | C10: 3
A11: Tiešās izmaksas
A12: 1000 | B12: Atlīdzība | H12: =SUM(H13,H110) -> 130.75
A13: 1100 | B13: Atalgojums | H13: =SUM(H14,H25,H36,H47,H68,H89) -> 101.84
A14: 1116 | B14: Mēnešalga amatpersonām ar speciālajām dienesta pakāpēm | C14: Ieņemamais amats | E14: M.a. grupa | F14: Mēnešalga | G14: Patērētais laiks (h) | H14: =SUM(H15:H24) -> 66.56
C15: VP priekšnieka vietnieks | E15: 16 | F15: 3125 | G15: 1.5 | H15: =ROUNDUP((F15/168*G15),2) -> 27.91
C16: VP Galvenās kriminālpolicijas pārvaldes priekšnieka vietnieks | E16: 15 | F16: 2651 | G16: 1.5 | H16: =ROUNDUP((F16/168*G16),2) -> 23.67
C17: Lektors (ar SDP) | E17: 9 | F17: 1677 | G17: 1.5 | H17: =ROUNDUP((F17/168*G17),2) -> 14.98
H18: =ROUNDUP((F18/168*G18),2) -> 0
H19: =ROUNDUP((F19/168*G19),2) -> 0
H20: =ROUNDUP((F20/168*G20),2) -> 0
H21: =ROUNDUP((F21/168*G21),2) -> 0
H22: =ROUNDUP((F22/168*G22),2) -> 0
H23: =ROUNDUP((F23/168*G23),2) -> 0
H24: =ROUNDUP((F24/168*G24),2) -> 0
A25: 1119 | B25: Pārējo darbinieku mēnešalga (darba alga) | C25: Ieņemamais amats | E25: M.a. grupa | F25: Mēnešalga | G25: Patērētais laiks (h) | H25: =SUM(H26:H35) -> 31.6
C26: Lektors | E26: 9 | F26: =ROUND(865*1.3,0) -> 1125 | G26: 1.5 | H26: =ROUNDUP((F26/168*G26),2) -> 10.05
C27: Lektors | E27: 9 | F27: =ROUND(865*1.3,0) -> 1125 | G27: 1.5 | H27: =ROUNDUP((F27/168*G27),2) -> 10.05
C28: Vecākais speciālists Izglītības koordinācijas nodaļā | E28: 10 | F28: 1287 | G28: 1.5 | H28: =ROUNDUP((F28/168*G28),2) -> 11.5
H29: =ROUNDUP((F29/168*G29),2) -> 0
H30: =ROUNDUP((F30/168*G30),2) -> 0
H31: =ROUNDUP((F31/168*G31),2) -> 0
H32: =ROUNDUP((F32/168*G32),2) -> 0
H33: =ROUNDUP((F33/168*G33),2) -> 0
H34: =ROUNDUP((F34/168*G34),2) -> 0
H35: =ROUNDUP((F35/168*G35),2) -> 0
A36: 1143 | B36: Piemaksa par speciālo dienesta pakāpi un diplomātisko rangu | C36: Speciālā dienesta pakāpe | F36: Piemaksa mēnesī | G36: Patērētais laiks (h) | H36: =SUM(H37:H46) -> 3.68
C37: Ģenerālis | F37: 170 | G37: =G15 -> 1.5 | H37: =ROUNDUP((F37/168*G37),2) -> 1.52
C38: Pulkvedis | F38: 135 | G38: =G16 -> 1.5 | H38: =ROUNDUP((F38/168*G38),2) -> 1.21
C39: Majors | F39: 106 | G39: =G17 -> 1.5 | H39: =ROUNDUP((F39/168*G39),2) -> 0.95
G40: =G18 -> 0 | H40: =ROUNDUP((F40/168*G40),2) -> 0
G41: =G19 -> 0 | H41: =ROUNDUP((F41/168*G41),2) -> 0
G42: =G20 -> 0 | H42: =ROUNDUP((F42/168*G42),2) -> 0
G43: =G21 -> 0 | H43: =ROUNDUP((F43/168*G43),2) -> 0
G44: =G22 -> 0 | H44: =ROUNDUP((F44/168*G44),2) -> 0
...

Sheet 7.
A1: Maksas pakalpojumu izcenojuma aprēķins
A3: 7. Pieteikšanās dokumentu pieņemšana un reģistrēšana pilna vai nepilna laika studijām vēlākos studiju posmos
A5: Maksas pakalpojuma mērvienība – viena pieteikums
A9: EKK kods | B9: Rādītājs (materiāla/izejvielas nosaukums, atlīdzība un citi izmaksu veidi) | C9: Izmaksu apjoms gadā viena makasa pakalpojuma veida nodrošināšanai | I9: Piezīmes, komentāri
A10: 1 | B10: 2 | C10: 3
A11: Tiešās izmaksas
A12: 1000 | B12: Atlīdzība | H12: =SUM(H13,H106) -> 32.66
A13: 1100 | B13: Atalgojums | H13: =SUM(H14,H25,H36,H46,H66,H86) -> 25.4
A14: 1116 | B14: Mēnešalga amatpersonām ar speciālajām dienesta pakāpēm | C14: Ieņemamais amats | E14: M.a. grupa | F14: Mēnešalga | G14: Patērētais laiks (h) | H14: =SUM(H15:H24) -> 2.27
H15: =ROUNDUP((F15/168*G15),2) -> 0
C16: Katedras vadītājs | E16: 11 | F16: 2010 | G16: 0.167 | H16: =ROUNDUP((F16/168*G16),2) -> 2 | I16: Saskaņo salīidzinājuma protokolu
C17: Direktora vietnieks | E17: 14 | F17: 2253 | G17: 0.02 | H17: =ROUNDUP((F17/168*G17),2) -> 0.27 | I17: Paraksta salīidzinājuma protokolu
H18: =ROUNDUP((F18/168*G18),2) -> 0
H19: =ROUNDUP((F19/168*G19),2) -> 0
H20: =ROUNDUP((F20/168*G20),2) -> 0
H21: =ROUNDUP((F21/168*G21),2) -> 0
H22: =ROUNDUP((F22/168*G22),2) -> 0
H23: =ROUNDUP((F23/168*G23),2) -> 0
H24: =ROUNDUP((F24/168*G24),2) -> 0
A25: 1119 | B25: Pārējo darbinieku mēnešalga (darba alga) | C25: Ieņemamais amats | E25: M.a. grupa | F25: Mēnešalga | G25: Patērētais laiks (h) | H25: =SUM(H26:H35) -> 22.99
C26: Vecākais speciālists Izglītības koordinācijas nodaļā | E26: 10 | F26: 1287 | G26: 3 | H26: =ROUNDUP((F26/168*G26),2) -> 22.99
H27: =ROUNDUP((F27/168*G27),2) -> 0
H28: =ROUNDUP((F28/168*G28),2) -> 0
H29: =ROUNDUP((F29/168*G29),2) -> 0
H30: =ROUNDUP((F30/168*G30),2) -> 0
H31: =ROUNDUP((F31/168*G31),2) -> 0
H32: =ROUNDUP((F32/168*G32),2) -> 0
H33: =ROUNDUP((F33/168*G33),2) -> 0
H34: =ROUNDUP((F34/168*G34),2) -> 0
H35: =ROUNDUP((F35/168*G35),2) -> 0
A36: 1143 | B36: Piemaksa par speciālo dienesta pakāpi un diplomātisko rangu | C36: Speciālā dienesta pakāpe | F36: Piemaksa mēnesī | G36: Patērētais laiks (h) | H36: =SUM(H37:H45) -> 0.14
C37: Pulkvežletnants | F37: 120 | G37: =G16 -> 0.167 | H37: =ROUNDUP((F37/168*G37),2) -> 0.12
C38: Pulkvežletnants | F38: 120 | G38: =G17 -> 0.02 | H38: =ROUNDUP((F38/168*G38),2) -> 0.02
G39: =G18 -> 0 | H39: =ROUNDUP((F39/168*G39),2) -> 0
G40: =G19 -> 0 | H40: =ROUNDUP((F40/168*G40),2) -> 0
G41: =G20 -> 0 | H41: =ROUNDUP((F41/168*G41),2) -> 0
G42: =G21 -> 0 | H42: =ROUNDUP((F42/168*G42),2) -> 0
G43: =G22 -> 0 | H43: =ROUNDUP((F43/168*G43),2) -> 0
G44: =G23 -> 0 | H44: =ROUNDUP((F44/168*G44),2) -> 0
G45: =G24 -> 0 | H45: =ROUNDUP((F45/168*G45),2) -> 0
...

Sheet 8.1.
A1: Maksas pakalpojumu izcenojuma aprēķins
A3: 8. Izglītību apliecinoša dokumenta dublikāta sagatavošana un izsniegšana:
A4: 8.1. diploma dublikāta sagatavošana un izsniegšana (bez pielikuma)
A5: Maksas pakalpojuma mērvienība – viens diploms (bez pielikuma)
