Workbook

Sheet Kopsavilkums_2024.gadam
A1: Detalizēta informācija nepieciešamajam finansējumam
A3: Pasākumi atbilstoši jomām | B3: Nepieciešamais finansējums/prognoze 2024. gada decembrim, euro | C3: Nepieciešamais finansējums/prognoze 2025. gada janvārim - jūnijam, euro | D3: Kopā nepieciešamais plānotais finansējums 2024. gada decembrim un 2025. gada janvārim - jūnijam, euro
A4: Par palīdzību sociālā atbalsta jomā kopā (LM) [1] 4. "Sociālā palīdzība, finansiālais atbalsts, pakalpojumi" un 5. "Nepilngadīgie" | B4: ='LM_2.pielikums'!AC161 -> 956911 | C4: ='LM_2.pielikums'!AE161+'LM_2.pielikums'!AG161+'LM_2.pielikums'!AI161+'LM_2.pielikums'!AK161+'LM_2.pielikums'!AM161+'LM_2.pielikums'!AO161 -> 6665082 | D4: =B4+C4 -> 7621993
A5: Par palīdzību izglītības jomā (IzM) [1] 6. "Izglītība" | B5: =IzM_3.pielikums!AC13 -> 232326 | C5: =IzM_3.pielikums!AE13+IzM_3.pielikums!AG13+IzM_3.pielikums!AI13+IzM_3.pielikums!AK13+IzM_3.pielikums!AM13+IzM_3.pielikums!AO13 -> 1932244 | D5: =B5+C5 -> 2164570
A6: Par palīdzību ēdināšanas jomā (EM) [1] 2. "Personu izmitināšana un ēdināšana" | B6: ='EM_1.pielikums'!P10 -> 13500 | C6: ='EM_1.pielikums'!Q10+'EM_1.pielikums'!R10+'EM_1.pielikums'!S10+'EM_1.pielikums'!T10+'EM_1.pielikums'!U10+'EM_1.pielikums'!V10 -> 81000 | D6: =B6+C6 -> 94500
A7: Par palīdzību izmitināšanas jomā (EM) [1] 2. "Personu izmitināšana un ēdināšana" | B7: ='EM_1.pielikums'!P9 -> 243000 | C7: ='EM_1.pielikums'!Q9+'EM_1.pielikums'!R9+'EM_1.pielikums'!S9+'EM_1.pielikums'!T9+'EM_1.pielikums'!U9+'EM_1.pielikums'!V9 -> 1458000 | D7: =B7+C7 -> 1701000
A8: Par izlietoto finansējumu valsts pārvaldes pakalpojumu pieteikšanas un fizisko personu reģistrācijas pasākumiem (VARAM) [1] 1. "Personu uzņemšana un reģistrācija, informēšanas pasākumi" 1.7. apakšpunkts | B8: ='VARAM_4.pielikums VPKAC KAC'!AD18 -> 246 | C8: ='VARAM_4.pielikums VPKAC KAC'!AF18+'VARAM_4.pielikums VPKAC KAC'!AH18+'VARAM_4.pielikums VPKAC KAC'!AJ18+'VARAM_4.pielikums VPKAC KAC'!AL18+'VARAM_4.pielikums VPKAC KAC'!AN18+'VARAM_4.pielikums VPKAC KAC'!AP18 -> 10500 | D8: =B8+C8 -> 10746
A9: [2] Par vienotu valsts un pašvaldību sniegtā atbalsta koordinācijas punktu darbības nodrošināšanu [1] 1. "Personu uzņemšana un reģistrācija, informēšanas pasākumi" 1.6. apakšpunkts | B9: ='Koordināc. punkta izd_5.piel.'!E17 -> 13915 | C9: ='Koordināc. punkta izd_5.piel.'!E18+'Koordināc. punkta izd_5.piel.'!E19+'Koordināc. punkta izd_5.piel.'!E20+'Koordināc. punkta izd_5.piel.'!E21+'Koordināc. punkta izd_5.piel.'!E22+'Koordināc. punkta izd_5.piel.'!E23 -> 62084 | D9: =B9+C9 -> 75999
A10: KOPĀ | B10: =SUM(B4:B9) -> 1459898 | C10: =SUM(C4:C9) -> 10208910 | D10: =SUM(D4:D9) -> 11668808
A12: [1] Saskaņā ar Ministru kabineta 2024. gada 18. decembra rīkojumu Nr. 1109 “Par Pasākumu plānu atbalsta sniegšanai Ukrainas civiliedzīvotājiem Latvijas Republikā 2025. gadam" (prot. Nr. 52 94. §).
A14: [2] Nepieciešamais finansējums/prognoze vienotu valsts un pašvaldību sniegtā atbalsta koordinācijas punktu darbības nodrošināšanai tiek plānots, ņemot vērā Rīgas valstspilsētas pašvaldības iesniegto informāciju par Rīgas atbalsta centra darbības nodrošināšanas plānotajiem izdevumiem.

Sheet EM_1.pielikums
W1: 1. pielikums
A2: Indikatīvais izdevumu aprēķins Ekonomikas ministrijas primāri sniedzamā atbalsta nodrošināšanai
A4: Gads | B4: 2024/2025 | C4: 2023/2024 | D4: 2023 | E4: 2024 | F4: 2024 | G4: 2024 | H4: 2024 | I4: 2024 | J4: 2024 | K4: 2024 | L4: 2024 | M4: 2024 | N4: 2024 | O4: 2024 | P4: 2024 | Q4: 2025 | R4: 2025 | S4: 2025 | T4: 2025 | U4: 2025 | V4: 2025 | W4: komentāri
A5: Pārskata periods | B5: 2024.g. decembris - 2025.g. jūnijs | C5: 2023.g. decembris - 2024.g. novembris | D5: decembris | E5: janvāris | F5: februāris | G5: marts | H5: aprīlis | I5: maijs | J5: jūnijs | K5: jūlijs | L5: augusts | M5: septembris | N5: oktobris | O5: novembris | P5: decembris | Q5: janvāris | R5: februāris | S5: marts | T5: aprīlis | U5: maijs | V5: jūnijs
B6: (euro,centi) | C6: (euro,centi) | D6: (euro,centi) | E6: (euro,centi) | F6: (euro,centi) | G6: (euro,centi) | H6: (euro,centi) | I6: (euro,centi) | J6: (euro,centi) | K6: (euro,centi) | L6: (euro,centi) | M6: (euro,centi) | N6: (euro,centi) | O6: (euro,centi) | P6: (euro,centi) | Q6: (euro,centi) | R6: (euro,centi) | S6: (euro,centi) | T6: (euro,centi) | U6: (euro,centi) | V6: (euro,centi)
A7: Rādītāja nosaukums | B7: Plānotie izdevumi 2024/2025. gadam pārskata periodā | C7: Faktiskie izdevumi 2024. gadā | D7: Faktiskie izdevumi pārskata periodā | E7: Faktiskie izdevumi pārskata periodā | F7: Faktiskie izdevumi pārskata periodā | G7: Faktiskie izdevumi pārskata periodā | H7: Faktiskie izdevumi pārskata periodā | I7: Faktiskie izdevumi pārskata periodā | J7: Faktiskie izdevumi pārskata periodā | K7: Faktiskie izdevumi pārskata periodā | L7: Faktiskie izdevumi pārskata periodā | M7: Faktiskie izdevumi pārskata periodā | N7: Faktiskie izdevumi pārskata periodā | O7: Faktiskie izdevumi pārskata periodā | P7: Plānotie izdevumi pārskata periodā | Q7: Plānotie izdevumi pārskata periodā | R7: Plānotie izdevumi pārskata periodā | S7: Plānotie izdevumi pārskata periodā | T7: Plānotie izdevumi pārskata periodā | U7: Plānotie izdevumi pārskata periodā | V7: Plānotie izdevumi pārskata periodā
A8: 1 | B8: 2 | C8: 3 | D8: 4 | E8: 5 | F8: 6 | G8: 7 | H8: 8 | I8: 9 | J8: 10 | K8: 11 | L8: 12 | M8: 13 | N8: 14 | O8: 15 | P8: 16 | Q8: 17 | R8: 18 | S8: 19 | T8: 20 | U8: 21 | V8: 22 | W8: 23
A9: Izmitināšana | B9: =SUM(P9:V9) -> 1701000 | C9: =SUM(D9:O9) -> 3520253 | D9: 320661.24 | E9: 298449.19 | F9: 253712.37 | G9: 284146.61 | H9: 281831.15 | I9: 297022.39 | J9: 248760.71 | K9: 296683.84 | L9: 325024.11 | M9: 293457.9 | N9: 324138.96 | O9: 296364.58 | P9: 243000 | Q9: 243000 | R9: 243000 | S9: 243000 | T9: 243000 | U9: 243000 | V9: 243000 | W9: Indikatīvais izdevumu aprēķins primāri sniedzamā atbalsta nodrošināšanai 2025.gada pirmam pusgadam tika veikts, ekstrapolējot līdz šim vērojamās izmitināšanas un ēdināšanas pakalpojumiem pašvaldību pieprasīto izdevumu kompensāciju tendences pa mēnešiem, sākot no 2024. gada janvāra un līdz 2024.gada novembrim, kā arī ņemot vērā 2025.gadam pieejama budžeta finansējuma apjomu.
A10: Ēdināšana | B10: =SUM(P10:V10) -> 94500 | C10: =SUM(D10:O10) -> 411702.18 | D10: 28593.9 | E10: 23813.11 | F10: 13283.9 | G10: 35331.25 | H10: 41959.14 | I10: 42209.12 | J10: 15625.37 | K10: 35072.52 | L10: 51409.03 | M10: 36725.31 | N10: 43211.05 | O10: 44468.48 | P10: 13500 | Q10: 13500 | R10: 13500 | S10: 13500 | T10: 13500 | U10: 13500 | V10: 13500
A11: KOPĀ: | B11: =SUM(B9:B10) -> 1795500 | C11: =SUM(C9:C10) -> 3931955.2 | D11: =SUM(D9:D10) -> 349255.14 | E11: =SUM(E9:E10) -> 322262.3 | F11: =SUM(F9:F10) -> 266996.27 | G11: =SUM(G9:G10) -> 319477.86 | H11: =SUM(H9:H10) -> 323790.29 | I11: =SUM(I9:I10) -> 339231.51 | ... V11: =SUM(V9:V10) -> 256500

Sheet LM_2.pielikums
A1: 2. pielikums
A2: Indikatīvais izdevumu ietekmes aprēķins Labklājības ministrijas atbildības sociālā atbalsta nodrošināšanas jomai
A3: Gads | B3: 2024/2025 | C3: 2023/2024 | D3: 2023 | F3: 2024 | H3: 2024 | J3: 2024 | L3: 2024 | N3: 2024 | P3: 2024 | R3: 2024 | T3: 2024 | V3: 2024 | X3: 2024 | Z3: 2024 | AB3: 2024 | AD3: 2025 | AF3: 2025 | AH3: 2025 | AJ3: 2025 | AL3: 2025 | AN3: 2025 | AP3: komentāri
A4: Pārskata periods | B4: 2024.g. decembris - 2025.g. jūnijs | C4: 2023.g. decembris - 2024.g. novembris | D4: Decembris | F4: Janvāris | H4: Februāris | J4: Marts | L4: Aprīlis | N4: Maijs | P4: Jūnijs | R4: Jūlijs | T4: Augusts | V4: Septembris | X4: Oktobris | Z4: Novembris | AB4: Decembris | AD4: Janvāris | AF4: Februāris | AH4: Marts | AJ4: Aprīlis | AL4: Maijs | AN4: Jūnijs
B5: (euro,centi) | C5: (euro,centi) | E5: (euro,centi) | G5: (euro,centi) | I5: (euro,centi) | K5: (euro,centi) | M5: (euro,centi) | O5: (euro,centi) | Q5: (euro,centi) | S5: (euro,centi) | U5: (euro,centi) | W5: (euro,centi) | Y5: (euro,centi) | AA5: (euro,centi) | AC5: (euro,centi) | AE5: (euro,centi) | AG5: (euro,centi) | AI5: (euro,centi) | AK5: (euro,centi) | AM5: (euro,centi) | AO5: (euro,centi)
A6: Rādītāja nosaukums | B6: Plānotie izdevumi pārskata periodā | C6: Faktiskie izdevumi pārskata periodā | D6: Saņēmēju skaits | E6: Faktiskie izdevumi pārskata periodā | F6: Saņēmēju skaits | G6: Faktiskie izdevumi pārskata periodā | H6: Saņēmēju skaits | I6: Faktiskie izdevumi pārskata periodā | J6: Saņēmēju skaits | K6: Faktiskie izdevumi pārskata periodā | L6: Saņēmēju skaits | M6: Faktiskie izdevumi pārskata periodā | N6: Saņēmēju skaits | O6: Faktiskie izdevumi pārskata periodā | P6: Saņēmēju skaits | Q6: Faktiskie izdevumi pārskata periodā | R6: Saņēmēju skaits | S6: Faktiskie izdevumi pārskata periodā | T6: Saņēmēju skaits | U6: Faktiskie izdevumi pārskata periodā | V6: Saņēmēju skaits | W6: Faktiskie izdevumi pārskata periodā | X6: Saņēmēju skaits | Y6: Faktiskie izdevumi pārskata periodā | Z6: Saņēmēju skaits | AA6: Faktiskie izdevumi pārskata periodā | AB6: Saņēmēju skaits | AC6: Faktiskie izdevumi pārskata periodā | AD6: Plānotais saņēmēju skaits | AE6: Plānotie izdevumi pārskata periodā | AF6: Plānotais saņēmēju skaits | AG6: Plānotie izdevumi pārskata periodā | AH6: Plānotais saņēmēju skaits | AI6: Plānotie izdevumi pārskata periodā | AJ6: Plānotais saņēmēju skaits | AK6: Plānotie izdevumi pārskata periodā | AL6: Plānotais saņēmēju skaits | AM6: Plānotie izdevumi pārskata periodā | AN6: Plānotais saņēmēju skaits | AO6: Plānotie izdevumi pārskata periodā
A7: 1 | B7: 2 | C7: 3 | D7: 4 | E7: 5 | F7: 6 | G7: 7 | H7: 8 | I7: 9 | J7: 10 | K7: 11 | L7: 12 | M7: 13 | N7: 14 | O7: 15 | P7: 16 | Q7: 17 | R7: 18 | S7: 19 | T7: 20 | U7: 21 | V7: 22 | W7: 23 | X7: 24 | Y7: 25 | Z7: 26 | AA7: 27 | AB7: 28 | AC7: 29 | AD7: 30 | AE7: 31 | AF7: 32 | AG7: 33 | AH7: 34 | AI7: 35 | AJ7: 36 | AK7: 37 | AL7: 38 | AM7: 39 | AN7: 40 | AO7: 41 | AP7: 42
A8: Atlīdzība par ārkārtas aizbildņa pienākumu pildīšanu (UCAL 19.panta pirmā un otrā daļa) | B8: =AC8+AE8+AG8+AI8+AK8+AM8+AO8 -> 231720.35 | C8: =E8+G8+I8+K8+M8+O8+Q8+S8+U8+W8+Y8+AA8 -> 397514.84 | D8: 247 | E8: 35856.32 | F8: 233 | G8: 34415.67 | H8: 223 | I8: 32403.82 | J8: 222 | K8: 33761.77 | L8: 219 | M8: 33654.2 | N8: 217 | O8: 32304.71 | P8: 216 | Q8: 31682.26 | R8: 209 | S8: 30867.34 | T8: 212 | U8: 31359.28 | V8: 216 | W8: 33032.76 | X8: 231 | Y8: 35784.61 | Z8: 215 | AA8: 32392.1 | AB8: 214 | AC8: 31788.35 | AD8: =ROUND((X8+Z8+AB8)/3,0) -> 220 | AE8: =ROUND((Y8+AA8+AC8)/3,0) -> 33322 | AF8: =AD8 -> 220 | AG8: =AE8 -> 33322 | AH8: =AF8 -> 220 | AI8: =AG8 -> 33322 | AJ8: =AH8 -> 220 | AK8: =AI8 -> 33322 | AL8: =AJ8 -> 220 | AM8: =AK8 -> 33322 | ... AO8: =AM8 -> 33322 | AP8: Pamatojoties uz IeM sniegto informāciju par Ukrainas civiliedzīvotāju plūsmu, kas 2024.gadā saglabājas mērena un stabila, ar nedaudz sarūkošu tendenci, prognozēts, ka 2025. gadā Latvijā no jauna ieradīsies 6000-8000 Ukrainas civiliedzīvotāji, kas faktiski ir 2024. gada Ukrainas civiliedzīvotāju plūsma, plānots, ka 2025. gada izdevumi būs 2024. gada izdevumu apmērā. Ņemot vērā normatīvo aktu izmaiņas, kas stājās spēkā no 01.01.2025. (grozījumi SPSPL), plānots izdevumu palielinājums, lai segtu Garantētā minimālā ienākuma (GMI) pabalsta, mājokļa pabalsta un pabalsta krīzes situācijā izdevumu apmaksai. | AQ8: Izdevumi periodā 2025. gada janvāris - 2025. gada jūnijs vidēji mēnesī plānoti atbilstoši faktiskajiem izdevumiem vidēji mēnesī periodā 2024. gada oktobris - 2024. gada decembris.
A9: Pabalsts nepavadīta bērna uzturam (UCAL 19.panta pirmā, trešā un septītā daļa) | B9: =AC9+AE9+AG9+AI9+AK9+AM9+AO9 -> 545412.2 | C9: =E9+G9+I9+K9+M9+O9+Q9+S9+U9+W9+Y9+AA9 -> 934016.3 | D9: 307 | E9: 85869.63 | F9: 323 | G9: 83621.02 | H9: 307 | I9: 77891.32 | J9: 300 | K9: 78309.8 | L9: 302 | M9: 77888.23 | N9: 292 | O9: 74523.53 | P9: 287 | Q9: 72379.56 | R9: 279 | S9: 70589.44 | T9: 284 | U9: 74072.43 | V9: 292 | W9: 76011.38 | X9: 303 | Y9: 83786.05 | Z9: 295 | AA9: 79073.91 | AB9: 280 | AC9: 73230.2 | AD9: =ROUND((X9+Z9+AB9)/3,0) -> 293 | AE9: =ROUND((Y9+AA9+AC9)/3,0) -> 78697 | AF9: =AD9 -> 293 | AG9: =AE9 -> 78697 | AH9: =AF9 -> 293 | AI9: =AG9 -> 78697 | AJ9: =AH9 -> 293 | AK9: =AI9 -> 78697 | AL9: =AJ9 -> 293 | AM9: =AK9 -> 78697 | ... AO9: =AM9 -> 78697
A10: Pabalsts apģērba un mīkstā inventāra iegādei (UCAL 19.panta pirmā un piektā daļa) | B10: =AC10+AE10+AG10+AI10+AK10+AM10+AO10 -> 41266.39 | C10: =E10+G10+I10+K10+M10+O10+Q10+S10+U10+W10+Y10+AA10 -> 77741.51 | D10: 59 | E10: 4642.78 | F10: 66 | G10: 6625.46 | H10: 63 | I10: 5808.69 | J10: 66 | K10: 8000.19 | L10: 63 | M10: 5411.5 | N10: 61 | O10: 6248 | P10: 62 | Q10: 6110.09 | R10: 58 | S10: 5264.65 | T10: 63 | U10: 6952.96 | V10: 71 | W10: 8828.84 | X10: 75 | Y10: 9653.19 | Z10: 58 | AA10: 4195.16 | AB10: 58 | AC10: 4522.39 | AD10: =ROUND((X10+Z10+AB10)/3,0) -> 64 | AE10: =ROUND((Y10+AA10+AC10)/3,0) -> 6124 | AF10: =AD10 -> 64 | AG10: =AE10 -> 6124 | AH10: =AF10 -> 64 | AI10: =AG10 -> 6124 | AJ10: =AH10 -> 64 | AK10: =AI10 -> 6124 | AL10: =AJ10 -> 64 | AM10: =AK10 -> 6124 | ... AO10: =AM10 -> 6124
A11: Garantētā minimālā ienākuma (GMI) pabalsts (UCAL 7.panta trešā daļa) | B11: =AC11+AE11+AG11+AI11+AK11+AM11+AO11 -> 2259917.8 | C11: =E11+G11+I11+K11+M11+O11+Q11+S11+U11+W11+Y11+AA11 -> 3335053.5 | D11: 3304 | E11: 299124.71 | F11: 3069 | G11: 297618.7 | H11: 3068 | I11: 295542.73 | J11: 2934 | K11: 286007.16 | L11: 2923 | M11: 292258.63 | N11: 2752 | O11: 273032.44 | P11: 2673 | Q11: 266285.77 | R11: 2722 | S11: 271000.32 | T11: 2633 | U11: 264853.8 | V11: 2548 | W11: 254811.78 | X11: 2646 | Y11: 270664.16 | Z11: 2605 | AA11: 263853.35 | AB11: 2562 | AC11: 255637.6 | AD11: 2787 | AE11: 334046.7 | AF11: 2787 | AG11: 334046.7 | AH11: 2787 | AI11: 334046.7 | AJ11: 2787 | AK11: 334046.7 | AL11: 2787 | AM11: 334046.7 | AN11: 2787 | AO11: 334046.7 | AQ11: Izdevumi periodā 2025. gada janvāris - 2025. gada jūnijs plānoti atbilstoši plānotajiem izdevumiem šajā periodā saskaņā ar Ministru kabineta 18.12.2024. rīkojuma Nr. 1109 "Par Pasākumu plānu atbalsta sniegšanai Ukrainas civiliedzīvotājiem Latvijas Republikā 2025. gadam" anotācijas 2. pielikumu "Labklājības ministrijas aprēķins".
A12: Pabalsts krīzes situācijā (UCAL 7.panta trešā daļa un 3 prim daļa) | B12: =AC12+AE12+AG12+AI12+AK12+AM12+AO12 -> 773249.39 | C12: =E12+G12+I12+K12+M12+O12+Q12+S12+U12+W12+Y12+AA12 -> 1268768 | D12: 230 | E12: 71322 | F12: 275 | G12: 89682 | H12: 304 | I12: 95257 | J12: 264 | K12: 84546 | L12: 300 | M12: 96443 | N12: 292 | O12: 93493 | P12: 392 | Q12: 121786 | R12: 407 | S12: 127327 | T12: 374 | U12: 116849 | V12: 308 | W12: 96958 | X12: 541 | Y12: 167858 | Z12: 340 | AA12: 107247 | AB12: 270 | AC12: 85706 | AD12: 330 | AE12: 114590.56 | AF12: 330 | AG12: 114590.56 | AH12: 330 | AI12: 114590.56 | AJ12: 330 | AK12: 114590.56 | AL12: 330 | AM12: 114590.56 | AN12: 330 | AO12: 114590.56
A13: Mājokļa pabalsts mājsaimniecībai no Ukrainas ar īres līgumu (UCAL 7.panta trešā daļa) | B13: =AC13+AE13+AG13+AI13+AK13+AM13+AO13 -> 2667164.3 | C13: =E13+G13+I13+K13+M13+O13+Q13+S13+U13+W13+Y13+AA13 -> 4612582.7 | D13: 1897 | E13: 191504.66 | F13: 3680 | G13: 737564.42 | H13: 3223 | I13: 518453.71 | J13: 3133 | K13: 480997.29 | L13: 2751 | M13: 472693.66 | N13: 2787 | O13: 384476.84 | P13: 2487 | Q13: 324834.56 | R13: 2518 | S13: 330905.56 | T13: 2315 | U13: 297498.04 | V13: 2182 | W13: 281762.14 | X13: 2249 | Y13: 302543.89 | Z13: 2157 | AA13: 289347.94 | AB13: 1400 | AC13: 174898.76 | AD13: 2718 | AE13: 415377.59 | AF13: 2718 | AG13: 415377.59 | AH13: 2718 | AI13: 415377.59 | AJ13: 2718 | AK13: 415377.59 | AL13: 2718 | AM13: 415377.59 | AN13: 2718 | AO13: 415377.59
A14: Pabalsts atsevišķu izdevumu apmaksai (UCAL 7.panta trešā daļa) | B14: =AC14+AE14+AG14+AI14+AK14+AM14+AO14 -> 558245.09 | C14: =E14+G14+I14+K14+M14+O14+Q14+S14+U14+W14+Y14+AA14 -> 901900.56 | D14: 499 | E14: 78327.81 | F14: 520 | G14: 65903.85 | H14: 557 | I14: 72070.56 | J14: 541 | K14: 63757.15 | L14: 527 | M14: 75822.02 | N14: 477 | O14: 71789.98 | P14: 477 | Q14: 70988.99 | R14: 497 | S14: 77301.92 | T14: 485 | U14: 80037.28 | V14: 540 | W14: 83886.42 | X14: 579 | Y14: 82601.74 | Z14: 417 | AA14: 79412.84 | AB14: 482 | AC14: 78071.09 | AD14: =ROUND((X14+Z14+AB14)/3,0) -> 493 | AE14: =ROUND((Y14+AA14+AC14)/3,0) -> 80029 | AF14: =AD14 -> 493 | AG14: =AE14 -> 80029 | AH14: =AF14 -> 493 | AI14: =AG14 -> 80029 | AJ14: =AH14 -> 493 | AK14: =AI14 -> 80029 | AL14: =AJ14 -> 493 | AM14: =AK14 -> 80029 | ... AO14: =AM14 -> 80029 | AQ14: Izdevumi periodā 2025. gada janvāris - 2025. gada jūnijs vidēji mēnesī plānoti atbilstoši faktiskajiem izdevumiem vidēji mēnesī periodā 2024. gada oktobris - 2024. gada decembris.
A15: Asistenta pakalpojumi (UCAL 13. panta pirmās daļas 1.punkts) | B15: =AC15+AE15+AG15+AI15+AK15+AM15+AO15 -> 253328.11 | C15: =E15+G15+I15+K15+M15+O15+Q15+S15+U15+W15+Y15+AA15 -> 350693.75 | F15: 62 | G15: 24091.39 | H15: 70 | I15: 30897.54 | J15: 79 | K15: 32336.28 | L15: 79 | M15: 28108.09 | N15: 78 | O15: 30380.08 | P15: 81 | Q15: 33273.01 | R15: 95 | S15: 34663.89 | T15: 87 | U15: 33782.59 | V15: 88 | W15: 33144.98 | X15: 90 | Y15: 34251.9 | Z15: 91 | AA15: 35764 | AB15: 88 | AC15: 37766.11 | AD15: =ROUND((X15+Z15+AB15)/3,0) -> 90 | AE15: =ROUND((Y15+AA15+AC15)/3,0) -> 35927 | AF15: =AD15 -> 90 | AG15: =AE15 -> 35927 | AH15: =AF15 -> 90 | AI15: =AG15 -> 35927 | AJ15: =AH15 -> 90 | AK15: =AI15 -> 35927 | AL15: =AJ15 -> 90 | AM15: =AK15 -> 35927 | ... AO15: =AM15 -> 35927
A16: Pakalpojums pārvietošanās atbalstam (UCAL 13.panta pirmās daļas 1.punkts) | B16: =AC16+AE16+AG16+AI16+AK16+AM16+AO16 -> 0 | C16: =E16+G16+I16+K16+M16+O16+Q16+S16+U16+W16+Y16+AA16 -> 2965.53 | D16: 8 | E16: 2325.97 | H16: 1 | I16: 325.2 | J16: 1 | K16: 314.36 | AB16: =ROUND((V16+X16+Z16)/3,0) -> 0 | AC16: =ROUND((W16+Y16+AA16)/3,0) -> 0 | AD16: =ROUND((X16+Z16+AB16)/3,0) -> 0 | AE16: =ROUND((Y16+AA16+AC16)/3,0) -> 0 | AF16: =AD16 -> 0 | AG16: =AE16 -> 0 | AH16: =AF16 -> 0 | AI16: =AG16 -> 0 | AJ16: =AH16 -> 0 | AK16: =AI16 -> 0 | AL16: =AJ16 -> 0 | AM16: =AK16 -> 0 | ... AO16: =AM16 -> 0
A17: Sociālās rehabilitācijas pakalpojums vardarbībā cietušiem bērniem (UCAL 7.panta pirmā prim un trešā daļa) | B17: =AC17+AE17+AG17+AI17+AK17+AM17+AO17 -> 0 | C17: =E17+G17+I17+K17+M17+O17+Q17+S17+U17+W17+Y17+AA17 -> 470 | D17: 1 | E17: 200 | F17: 1 | G17: 108 | H17: 1 | I17: 108 | J17: 1 | K17: 54 | AB17: =ROUND((V17+X17+Z17)/3,0) -> 0 | AC17: =ROUND((W17+Y17+AA17)/3,0) -> 0 | AD17: =ROUND((X17+Z17+AB17)/3,0) -> 0 | AE17: =ROUND((Y17+AA17+AC17)/3,0) -> 0 | AF17: =AD17 -> 0 | AG17: =AE17 -> 0 | AH17: =AF17 -> 0 | AI17: =AG17 -> 0 | AJ17: =AH17 -> 0 | AK17: =AI17 -> 0 | AL17: =AJ17 -> 0 | AM17: =AK17 -> 0 | ... AO17: =AM17 -> 0
A18: Sociālās rehabilitācijas pakalpojums vardarbībā cietušām pilngadīgām personām (UCAL 7.panta pirmā prim un trešā daļa) | B18: =AC18+AE18+AG18+AI18+AK18+AM18+AO18 -> 3087.2 | C18: =E18+G18+I18+K18+M18+O18+Q18+S18+U18+W18+Y18+AA18 -> 6524.39 | D18: 1 | E18: 447.48 | F18: 2 | G18: 745.8 | H18: 2 | I18: 894.96 | J18: 2 | K18: 969.54 | L18: 1 | M18: 372.9 | N18: 3 | O18: 1641 | P18: 4 | Q18: 324 | R18: 3 | S18: 98.75 | T18: 4 | U18: 1029.96 | AB18: 3 | AC18: 1029.2 | AD18: =ROUND((X18+Z18+AB18)/3,0) -> 1 | AE18: =ROUND((Y18+AA18+AC18)/3,0) -> 343 | AF18: =AD18 -> 1 | AG18: =AE18 -> 343 | AH18: =AF18 -> 1 | AI18: =AG18 -> 343 | AJ18: =AH18 -> 1 | AK18: =AI18 -> 343 | AL18: =AJ18 -> 1 | AM18: =AK18 -> 343 | ... AO18: =AM18 -> 343
A19: Ilgstošas sociālās aprūpes un sociālās rehabilitācijas pakalpojumi bērniem (UCAL 7.panta pirmā prim un trešā daļa un 18.panta deviņpadsmitā daļa) | B19: =AC19+AE19+AG19+AI19+AK19+AM19+AO19 -> -1560 | C19: =E19+G19+I19+K19+M19+O19+Q19+S19+U19+W19+Y19+AA19 -> 1155 | F19: 1 | G19: 1506.37 | H19: 1 | I19: 1506.37 | J19: 1 | K19: 1392.13 | L19: 1 | M19: -4404.87 | R19: 1 | S19: 1155 | V19: 1 | W19: 778.58 | Y19: =-778.58 -> -778.58 | AB19: =ROUND((V19+X19+Z19)/3,0) -> 0 | AC19: =ROUND((W19+Y19+AA19)/3,0) -> 0 | AD19: =ROUND((X19+Z19+AB19)/3,0) -> 0 | AE19: =ROUND((Y19+AA19+AC19)/3,0) -> -260 | AF19: =AD19 -> 0 | AG19: =AE19 -> -260 | AH19: =AF19 -> 0 | AI19: =AG19 -> -260 | AJ19: =AH19 -> 0 | AK19: =AI19 -> -260 | AL19: =AJ19 -> 0 | AM19: =AK19 -> -260 | ... AO19: =AM19 -> -260
A20: Ilgstošas sociālās aprūpes un sociālās rehabilitācijas pakalpojumi pilngadīgām personām (UCAL 7.panta pirmā prim un trešā daļa) | B20: =AC20+AE20+AG20+AI20+AK20+AM20+AO20 -> 245158.13 | C20: =E20+G20+I20+K20+M20+O20+Q20+S20+U20+W20+Y20+AA20 -> 413041.96 | D20: 23 | E20: 29775.09 | F20: 23 | G20: 30821.35 | H20: 27 | I20: 40573.56 | J20: 33 | K20: 33715.49 | L20: 21 | M20: 40569.1 | N20: 22 | O20: 33875.13 | P20: 21 | Q20: 33583.73 | R20: 22 | S20: 35452.03 | T20: 22 | U20: 34661.73 | V20: 15 | W20: 23919.18 | X20: 25 | Y20: 44073.43 | Z20: 21 | AA20: 32022.14 | AB20: =ROUND((V20+X20+Z20)/3,0) -> 20 | AC20: 30988.13 | AD20: =ROUND((X20+Z20+AB20)/3,0) -> 22 | AE20: =ROUND((Y20+AA20+AC20)/3,0) -> 35695 | AF20: =AD20 -> 22 | AG20: =AE20 -> 35695 | AH20: =AF20 -> 22 | AI20: =AG20 -> 35695 | AJ20: =AH20 -> 22 | AK20: =AI20 -> 35695 | AL20: =AJ20 -> 22 | AM20: =AK20 -> 35695 | ... AO20: =AM20 -> 35695
A21: Piemaksa pie mēnešalgas un virsstundu darbs bāriņtiesu darbiniekiem, kuri iesaistīti atbalsta sniegšanā Ukrainas civiliedzīvotājiem (UCAL 13.panta pirmā prim daļa un pirmā divi prim daļa.) | B21: =AC21+AE21+AG21+AI21+AK21+AM21+AO21 -> 64862.97 | C21: =E21+G21+I21+K21+M21+O21+Q21+S21+U21+W21+Y21+AA21 -> 157533.59 | D21: =D22+D23 -> 64 | E21: =E22+E23 -> 19176.27 | F21: =F22+F23 -> 81 | G21: =G22+G23 -> 21157.61 | H21: =H22+H23 -> 77 | I21: =I22+I23 -> 15275.09 | J21: =J22+J23 -> 101 | K21: =K22+K23 -> 28650.74 | ... AA21: =AA22+AA23 -> 8580.99 | AB21: 43 | AC21: 10562.97 | AD21: =AD22+AD23 -> 41 | AE21: =AE22+AE23 -> 9050 | AF21: =AF22+AF23 -> 41 | AG21: =AG22+AG23 -> 9050 | AH21: =AH22+AH23 -> 41 | AI21: =AI22+AI23 -> 9050 | AJ21: =AJ22+AJ23 -> 41 | AK21: =AK22+AK23 -> 9050 | ... AO21: =AO22+AO23 -> 9050
A22: Piemaksa pie mēnešalgas | B22: =AC22+AE22+AG22+AI22+AK22+AM22+AO22 -> 64862.97 | C22: =E22+G22+I22+K22+M22+O22+Q22+S22+U22+W22+Y22+AA22 -> 145701.61 | D22: 64 | E22: 19176.27 | F22: 77 | G22: 19635.08 | H22: 77 | I22: 15275.09 | J22: 97 | K22: 26912.21 | L22: 94 | M22: 22164.08 | N22: 66 | O22: -13496.07 | P22: 40 | Q22: 9033.56 | R22: 51 | S22: 9897.03 | T22: 53 | U22: 13438.65 | V22: 26 | W22: 7078.82 | X22: 39 | Y22: 8005.9 | Z22: 40 | AA22: 8580.99 | AB22: 43 | AC22: 10562.97 | AD22: =ROUND((X22+Z22+AB22)/3,0) -> 41 | AE22: =ROUND((Y22+AA22+AC22)/3,0) -> 9050 | AF22: =AD22 -> 41 | AG22: =AE22 -> 9050 | AH22: =AF22 -> 41 | AI22: =AG22 -> 9050 | AJ22: =AH22 -> 41 | AK22: =AI22 -> 9050 | AL22: =AJ22 -> 41 | AM22: =AK22 -> 9050 | ... AO22: =AM22 -> 9050
A23: Virsstundu darbs | B23: =AC23+AE23+AG23+AI23+AK23+AM23+AO23 -> 0 | C23: =E23+G23+I23+K23+M23+O23+Q23+S23+U23+W23+Y23+AA23 -> 11831.98 | F23: 4 | G23: 1522.53 | J23: 4 | K23: 1738.53 | L23: 4 | M23: 2109.87 | N23: 4 | O23: 2165.03 | P23: 3 | Q23: 2206.69 | T23: 3 | U23: 2089.33 | AB23: =ROUND((V23+X23+Z23)/3,0) -> 0 | AC23: =ROUND((W23+Y23+AA23)/3,0) -> 0 | AD23: =ROUND((X23+Z23+AB23)/3,0) -> 0 | AE23: =ROUND((Y23+AA23+AC23)/3,0) -> 0 | AF23: =AD23 -> 0 | AG23: =AE23 -> 0 | AH23: =AF23 -> 0 | AI23: =AG23 -> 0 | AJ23: =AH23 -> 0 | AK23: =AI23 -> 0 | AL23: =AJ23 -> 0 | AM23: =AK23 -> 0 | ... AO23: =AM23 -> 0
A24: Piemaksa pie mēnešalgas un virsstundu darbs pašvaldības sociālo dienestu darbiniekiem, kuri iesaistīti atbalsta sniegšanā Ukrainas civiliedzīvotājiem (UCAL 13.panta pirmā prim daļa un pirmā divi prim daļa.) | B24: =AC24+AE24+AG24+AI24+AK24+AM24+AO24 -> 479322.58 | C24: =E24+G24+I24+K24+M24+O24+Q24+S24+U24+W24+Y24+AA24 -> 1025976.2 | D24: =D25+D26 -> 401 | E24: =E25+E26 -> 151596.89 | F24: =F25+F26 -> 195 | G24: =G25+G26 -> 74027.4 | H24: =H25+H26 -> 239 | I24: =I25+I26 -> 86716.36 | J24: =J25+J26 -> 230 | K24: =K25+K26 -> 89614.02 | ... O24: =O25+O26 -> 112221.94 | P24: =P26+P25 -> 248 | Q24: =Q26+Q25 -> 73999.72 | R24: =R26+R25 -> 187 | S24: =S26+S25 -> 41556.93 | T24: =T26+T25 -> 231 | U24: =U26+U25 -> 98557.6 | V24: =V26+V25 -> 248 | W24: =W26+W25 -> 71020.91 | ... AA24: =AA26+AA25 -> 73958.2 | AB24: 205 | AC24: 59556.58 | AD24: =AD25+AD26 -> 231 | AE24: =AE25+AE26 -> 69961 | AF24: =AF25+AF26 -> 231 | AG24: =AG25+AG26 -> 69961 | AH24: =AH25+AH26 -> 231 | AI24: =AI25+AI26 -> 69961 | AJ24: =AJ25+AJ26 -> 231 | AK24: =AK25+AK26 -> 69961 | ... AO24: =AO25+AO26 -> 69961
A25: Piemaksa pie mēnešalgas | B25: =AC25+AE25+AG25+AI25+AK25+AM25+AO25 -> 462104.33 | C25: =E25+G25+I25+K25+M25+O25+Q25+S25+U25+W25+Y25+AA25 -> 1013810 | D25: 397 | E25: 149958.78 | F25: 195 | G25: 74027.4 | H25: 235 | I25: 84657.28 | J25: 230 | K25: 89614.02 | L25: 202 | M25: 76337.46 | N25: 245 | O25: 112221.94 | P25: 248 | Q25: 73999.72 | R25: 183 | S25: 39792.96 | T25: 231 | U25: 98557.6 | V25: 244 | W25: 68868.84 | X25: 243 | Y25: 74379.16 | Z25: 238 | AA25: 71394.84 | AB25: 201 | AC25: 56852.33 | AD25: =ROUND((X25+Z25+AB25)/3,0) -> 227 | AE25: =ROUND((Y25+AA25+AC25)/3,0) -> 67542 | AF25: =AD25 -> 227 | AG25: =AE25 -> 67542 | AH25: =AF25 -> 227 | AI25: =AG25 -> 67542 | AJ25: =AH25 -> 227 | AK25: =AI25 -> 67542 | AL25: =AJ25 -> 227 | AM25: =AK25 -> 67542 | ... AO25: =AM25 -> 67542
A26: Virsstundu darbs | B26: =AC26+AE26+AG26+AI26+AK26+AM26+AO26 -> 17218.25 | C26: =E26+G26+I26+K26+M26+O26+Q26+S26+U26+W26+Y26+AA26 -> 12166.25 | D26: 4 | E26: 1638.11 | H26: 4 | I26: 2059.08 | R26: 4 | S26: 1763.97 | V26: 4 | W26: 2152.07 | X26: 4 | Y26: 1989.66 | Z26: 4 | AA26: 2563.36 | AB26: 4 | AC26: 2704.25 | AD26: =ROUND((X26+Z26+AB26)/3,0) -> 4 | AE26: =ROUND((Y26+AA26+AC26)/3,0) -> 2419 | AF26: =AD26 -> 4 | AG26: =AE26 -> 2419 | AH26: =AF26 -> 4 | AI26: =AG26 -> 2419 | AJ26: =AH26 -> 4 | AK26: =AI26 -> 2419 | AL26: =AJ26 -> 4 | AM26: =AK26 -> 2419 | ... AO26: =AM26 -> 2419
A27: Citi pašvaldības piešķirtie sociālā atbalsta pasākumi (UCAL 7.panta trešā daļa, un pirmā prim daļa un 19.panta sestā daļa): | B27: =AC27+AE27+AG27+AI27+AK27+AM27+AO27 -> 780455.19 | C27: =SUM(C28:C158) -> 1324971.3 | D27: =SUM(D28:D158) -> 1182 | E27: =SUM(E28:E158) -> 107856.85 | F27: =SUM(F28:F158) -> 1063 | G27: =SUM(G28:G158) -> 98249.6 | H27: =SUM(H28:H158) -> 1006 | I27: =SUM(I28:I158) -> 108653.55 | J27: =SUM(J28:J158) -> 986 | ... AA27: =SUM(AA28:AA158) -> 144111.92 | AB27: 1080 | AC27: 113153.19 | AD27: =ROUND((X27+Z27+AB27)/3,0) -> 933 | AE27: =ROUND((Y27+AA27+AC27)/3,0) -> 111217 | AF27: =AD27 -> 933 | AG27: =AE27 -> 111217 | AH27: =AF27 -> 933 | AI27: =AG27 -> 111217 | AJ27: =AH27 -> 933 | AK27: =AI27 -> 111217 | AL27: =AJ27 -> 933 | AM27: =AK27 -> 111217 | ... AO27: =AM27 -> 111217
A28: Apbedīšanas pabalsts | B28: =AC28+AE28+AG28+AI28+AK28+AM28+AO28 -> 0 | C28: =E28+G28+I28+K28+M28+O28+Q28+S28+U28+W28+Y28+AA28 -> 6061 | D28: 1 | E28: 430 | F28: 3 | G28: 735 | H28: 1 | I28: 430 | N28: 3 | O28: 1260 | R28: 1 | S28: 700 | W28: 700 | X28: =3+1 -> 4 | Y28: =1106+700 -> 1806
A29: Apbedīšanas pabalsts t.i., atsevišķu izdevumu apmaksai (UCAL 7.panta pirmā prim daļa) | B29: =AC29+AE29+AG29+AI29+AK29+AM29+AO29 -> 0 | C29: =E29+G29+I29+K29+M29+O29+Q29+S29+U29+W29+Y29+AA29 -> 800 | T29: 1 | U29: 800
A30: Aprūpe mājā pakalpojums | B30: =AC30+AE30+AG30+AI30+AK30+AM30+AO30 -> 0 | C30: =E30+G30+I30+K30+M30+O30+Q30+S30+U30+W30+Y30+AA30 -> 124 | F30: 1 | G30: 124
A31: Asistenta pakalpojums personām ar invaliditāti | B31: =AC31+AE31+AG31+AI31+AK31+AM31+AO31 -> 0 | C31: =E31+G31+I31+K31+M31+O31+Q31+S31+U31+W31+Y31+AA31 -> 153.3 | D31: 1 | E31: 153.3
A32: Asistenta pakalpojums personām ar īpašām vajadzībām | B32: =AC32+AE32+AG32+AI32+AK32+AM32+AO32 -> 0 | C32: =E32+G32+I32+K32+M32+O32+Q32+S32+U32+W32+Y32+AA32 -> 715.41 | D32: 3 | E32: 715.41
A33: Atbalsts profesionālās ievirzes izglītības apmaksai | B33: =AC33+AE33+AG33+AI33+AK33+AM33+AO33 -> 0 | C33: =E33+G33+I33+K33+M33+O33+Q33+S33+U33+W33+Y33+AA33 -> 0
A34: Asistenta pakalpojums | B34: =AC34+AE34+AG34+AI34+AK34+AM34+AO34 -> 0 | C34: =E34+G34+I34+K34+M34+O34+Q34+S34+U34+W34+Y34+AA34 -> 0 | F34: 1 | G34: 153 | H34: 1 | I34: 422.76 | K34: -575.76
A35: Bērna piedzimšanas pabalsts | B35: =AC35+AE35+AG35+AI35+AK35+AM35+AO35 -> 0 | C35: =E35+G35+I35+K35+M35+O35+Q35+S35+U35+W35+Y35+AA35 -> 600 | F35: 1 | G35: 300 | V35: 1 | W35: 300
A36: Bērna piedzimšanas pabalsts UK pilsonei | B36: =AC36+AE36+AG36+AI36+AK36+AM36+AO36 -> 0 | C36: =E36+G36+I36+K36+M36+O36+Q36+S36+U36+W36+Y36+AA36 -> 0
A37: bērnudārza apmaksa (netestēts) | B37: =AC37+AE37+AG37+AI37+AK37+AM37+AO37 -> 0 | C37: =E37+G37+I37+K37+M37+O37+Q37+S37+U37+W37+Y37+AA37 -> 890.19 | D37: 1 | E37: 45.99 | F37: 3 | G37: 84.51 | J37: 2 | K37: 73.48 | L37: 2 | M37: 47.05 | N37: 3 | O37: 109.69 | P37: 1 | Q37: 93.5 | R37: 1 | S37: 87.36 | T37: 2 | U37: 83.69 | V37: 3 | W37: 73.8 | X37: 3 | Y37: 104.12 | Z37: 3 | AA37: 87
A38: Citi pašvaldības piešķirtie sociālā atbalsta pasākumi | B38: =AC38+AE38+AG38+AI38+AK38+AM38+AO38 -> 0 | C38: =E38+G38+I38+K38+M38+O38+Q38+S38+U38+W38+Y38+AA38 -> 281.97 | X38: 1 | Y38: 49.44 | Z38: 7 | AA38: 232.53
A39: Biedrība "Latvijas sarkanais Krusts" pirmā palīdzība - psiholoģiskās palīdzības sniegšana UCA centrā (6419) | B39: =AC39+AE39+AG39+AI39+AK39+AM39+AO39 -> 0 | C39: =E39+G39+I39+K39+M39+O39+Q39+S39+U39+W39+Y39+AA39 -> 0
A40: Biedrība "Skalbes" psiholoģiskā palīdzības sniegšana ārkārtas situācijā UCA centrā (6419) | B40: =AC40+AE40+AG40+AI40+AK40+AM40+AO40 -> 0 | C40: =E40+G40+I40+K40+M40+O40+Q40+S40+U40+W40+Y40+AA40 -> 0
...

Sheet IzM_3.pielikums
A1: 3. pielikums
A2: Indikatīvais izdevumu ietekmes aprēķins Izglītības un zinātnes ministrijas atbildības jomā plānotajiem atbalsta pasākumiem
A4: Gads | B4: 2024/2025 | C4: 2023/2024 | D4: 2023 | F4: 2024 | H4: 2024 | J4: 2024 | L4: 2024 | N4: 2024 | P4: 2024 | R4: 2024 | T4: 2024 | V4: 2024 | X4: 2024 | Z4: 2024 | AB4: 2025 | AD4: 2025 | AF4: 2025 | AH4: 2025 | AJ4: 2025 | AL4: 2025 | AN4: 2025 | AP4: komentāri
A5: Pārskata periods | B5: 2024.g.decembris - 2025.g. jūnijs | C5: 2023.g.decembris - 2024.g. novembris | D5: Decembris | F5: Janvāris | H5: Februāris | J5: Marts | L5: Aprīlis | N5: Maijs | P5: Jūnijs | R5: Jūlijs | T5: Augusts | V5: Septembris | X5: Oktobris | Z5: Novembris | AB5: Decembris | AD5: Janvāris | AF5: Februāris | AH5: Marts | AJ5: Aprīlis | AL5: Maijs | AN5: Jūnijs
B6: (euro,centi) | C6: (euro,centi) | E6: (euro,centi) | G6: (euro,centi) | I6: (euro,centi) | K6: (euro,centi) | M6: (euro,centi) | O6: (euro,centi) | Q6: (euro,centi) | S6: (euro,centi) | U6: (euro,centi) | W6: (euro,centi) | Y6: (euro,centi) | AA6: (euro,centi) | AC6: (euro,centi) | AE6: (euro,centi) | AG6: (euro,centi) | AI6: (euro,centi) | AK6: (euro,centi) | AM6: (euro,centi) | AO6: (euro,centi)
A7: Rādītāja nosaukums | B7: Plānotie izdevumi pārskata periodā | C7: Faktiskie izdevumi pārskata periodā | D7: Faktiskais izglītojamo skaits | E7: Faktiskie izdevumi pārskata periodā | F7: Faktiskais izglītojamo skaits | G7: Faktiskie izdevumi pārskata periodā | H7: Faktiskais izglītojamo skaits | I7: Faktiskie izdevumi pārskata periodā | J7: Faktiskais izglītojamo skaits | K7: Faktiskie izdevumi pārskata periodā | L7: Faktiskais izglītojamo skaits | M7: Faktiskie izdevumi pārskata periodā | N7: Faktiskais izglītojamo skaits | O7: Faktiskie izdevumi pārskata periodā | P7: Faktiskais izglītojamo skaits | Q7: Faktiskie izdevumi pārskata periodā | R7: Faktiskais izglītojamo skaits | S7: Faktiskie izdevumi pārskata periodā | T7: Faktiskais izglītojamo skaits | U7: Faktiskie izdevumi pārskata periodā | V7: Faktiskais izglītojamo skaits | W7: Faktiskie izdevumi pārskata periodā | X7: Faktiskais izglītojamo skaits | Y7: Faktiskie izdevumi pārskata periodā | Z7: Faktiskais izglītojamo skaits | AA7: Faktiskie izdevumi pārskata periodā | AB7: Plānotais izglītojamo skaits | AC7: Plānotie izdevumi pārskata periodā | AD7: Plānotais izglītojamo skaits | AE7: Plānotie izdevumi pārskata periodā | AF7: Plānotais izglītojamo skaits | AG7: Plānotie izdevumi pārskata periodā | AH7: Plānotais izglītojamo skaits | AI7: Plānotie izdevumi pārskata periodā | AJ7: Plānotais izglītojamo skaits | AK7: Plānotie izdevumi pārskata periodā | AL7: Plānotais izglītojamo skaits | AM7: Plānotie izdevumi pārskata periodā | AN7: Plānotais izglītojamo skaits | AO7: Plānotie izdevumi pārskata periodā
A8: 1 | B8: 2 | C8: 3 | D8: 4 | E8: 5 | F8: 6 | G8: 7 | H8: 8 | I8: 9 | J8: 10 | K8: 11 | L8: 12 | M8: 13 | N8: 14 | O8: 15 | P8: 16 | Q8: 17 | R8: 18 | S8: 19 | T8: 20 | U8: 21 | V8: 22 | W8: 23 | X8: 24 | Y8: 25 | Z8: 26 | AA8: 27 | AB8: 28 | AC8: 29 | AD8: 30 | AE8: 31 | AF8: 32 | AG8: 33 | AH8: 34 | AI8: 35 | AJ8: 36 | AK8: 37 | AL8: 38 | AM8: 39 | AN8: 40 | AO8: 41 | AP8: 42
A9: Pedagogu darba samaksa izglītības ieguves nodrošināšanai (UCAL 131.pants) | B9: =AC9+AE9+AG9+AI9+AK9+AM9+AO9 -> 2048060 | C9: =E9+G9+I9+K9+M9+O9+Q9+S9+U9+W9+Y9+AA9 -> 1903095.1 | D9: =669+299+105+43+4+1 -> 1121 | E9: =89922.71+69439.5+12756.3+9901.25+369.53+257 -> 182646.29 | F9: =274+264+125+46+2+1 -> 712 | G9: =67699.06+62731.3+14021.96+9894.49+221.95+257 -> 154825.76 | H9: =636+292+149+52+7+2 -> 1138 | I9: =95471.59+71069.75+17197.32+12329.76+575.19+514 -> 197157.61 | J9: =624+287+163+58+7+2 -> 1141 | K9: =86265.19+64423.54+21955.26+13556.75+651.47+514 -> 187366.21 | L9: =611+283+176+72+7+2 -> 1151 | M9: =87115.53+66250.98+25872.43+16371.54+1151.08+514 -> 197275.56 | N9: =597+286+173+78+7+2 -> 1143 | O9: =84183.8+64898.61+29476+18662.94+520.13+514 -> 198255.48 | P9: =561+277+164+83+7+2 -> 1094 | Q9: =71798.56+64464.45+20610.87+20316.57+711.85+514 -> 178416.3 | R9: =532+275+163+104+7+2 -> 1083 | S9: =33132.97+63143.77+9118.73+24586.13+509.24+514 -> 131004.84 | T9: =363+268+108+119+9+2 -> 869 | U9: =26364.84+61236.05+5097.08+27677.78+992.32+514 -> 121882.07 | V9: =566+214+25+2 -> 807 | W9: =37021.23+51279.76+4034.03+1568.7 -> 93903.72 | X9: =571+211+57+7+3 -> 849 | Y9: =65284.29+50019.94+1782.44+1474.95+346.38 -> 118908 | Z9: =564+207+77+10+3+1 -> 862 | AA9: =80243.28+48199.24+9902.79+2531.45+550.78+25.7 -> 141453.24 | AB9: 915 | AC9: =ROUNDUP((804*257*0.5)+(111*257)+94646.02+2526.41,0) -> 229014 | AD9: =AB9+190 -> 1105 | AE9: =(804*257*0.5)+((111+190)*257) -> 180671 | AF9: =AD9+190 -> 1295 | AG9: =(804*257*0.5)+((111+190+190)*257) -> 229501 | AH9: =AF9+191 -> 1486 | AI9: =(804*257*0.5)+((111+190+190+191)*257) -> 278588 | AJ9: =AH9+191 -> 1677 | AK9: =(804*257*0.5)+((111+190+190+191+191)*257) -> 327675 | AL9: =AJ9+191 -> 1868 | AM9: =(804*257*0.5)+((111+190+190+191+191+191)*257) -> 376762 | AN9: =AL9+191 -> 2059 | AO9: =(804*257*0.5)+((111+190+190+191+191+191+191)*257) -> 425849 | AP9: Izglītojamo skaits par 2024.gada decembra mēnesi ir noteikts atbilstoši Valsts izglītības informācijas sistēmas datiem par izglītojamo skaitu uz 2024.gada 31.decembri ar atzīmi "Ukrainas civiliedzīvotājs". Izglītojamo skaits janvārī un turpmākajos mēnešos ir noteikts atbilstoši Valsts izglītības informācijas sistēmas datiem par izglītojamo skaitu uz 2024.gada 31.decembri ar atzīmi "Ukrainas civiliedzīvotājs" un papildus ņemot vērā provizorisko izglītojamo skaita pieaugumu, kas aprēķināts atbilstoši Ministru kabinetā 2024.gada 18.decembrī apstiprinātajam rīkojumam Nr.1109 "Par Pasākumu plānu atbalsta sniegšanai Ukrainas civiliedzīvotājiem Latvijas Republikā 2025. gadam" (24-TA-1551), kas ietver IeM prognozes par 2025. gadā Latvijā no jauna ieceļojošo Ukrainas civiliedzīvotāju skaitu. Plānotie izdevumi pārskata periodā aprēķināti atbilstoši Ministru kabineta 2016. gada 26. jūlija noteikumos Nr. 488 "Kārtība, kādā nepilngadīgam patvēruma meklētājam nodrošina izglītības ieguves iespējas" un atbilstoši Ukrainas civiliedzīvotāju atbalsta likuma noteiktajam par Ukrainas civiliedzīvotāju ēdināšanas izmaksu segšanu pamatizglītības programmas 1., 2., 3. un 4. klašu izglītojamajiem.
A10: Vienreizēja palīdzība mācību līdzekļu nodrošināšanai (UCAL 131.pants) | B10: =AC10+AE10+AG10+AI10+AK10+AM10+AO10 -> 58914 | C10: =E10+G10+I10+K10+M10+O10+Q10+S10+U10+W10+Y10+AA10 -> 5560.89 | D10: =22 -> 22 | E10: =648.88 -> 648.88 | F10: =22 -> 22 | G10: =349.62 -> 349.62 | H10: =28 -> 28 | I10: =399.99 -> 399.99 | J10: =21 -> 21 | K10: =550 -> 550 | L10: =25 -> 25 | M10: =680 -> 680 | N10: =15 -> 15 | O10: =400 -> 400 | P10: 14 | Q10: 200 | R10: 18 | S10: 500 | T10: 16 | U10: 450 | V10: =28+17 -> 45 | W10: =500+50 -> 550 | X10: =2+28 -> 30 | Y10: =246.15+150 -> 396.15 | Z10: 19 | AA10: 436.25 | AB10: 24 | AC10: =ROUNDUP((AB10*50)+513.75,0) -> 1714 | AD10: 190 | AE10: =AD10*50 -> 9500 | AF10: 190 | AG10: =AF10*50 -> 9500 | AH10: 191 | AI10: =AH10*50 -> 9550 | AJ10: 191 | AK10: =AJ10*50 -> 9550 | AL10: 191 | AM10: =AL10*50 -> 9550 | AN10: 191 | AO10: =AN10*50 -> 9550
A11: Papildus izmaksas pašvaldību profesionālajām izglītības iestādēm profesionālās izglītības ieguves nodrošināšanai (stipendija, uzturēšanas izmaksas) (UCAL 131.pants) | B11: =AC11+AE11+AG11+AI11+AK11+AM11+AO11 -> 1164 | C11: =E11+G11+I11+K11+M11+O11+Q11+S11+U11+W11+Y11+AA11 -> 0 | AB11: 0 | AC11: =(82+15)*AB11 -> 0 | AD11: 2 | AE11: =(82+15)*AD11 -> 194 | AF11: 2 | AG11: =(82+15)*AF11 -> 194 | AH11: 2 | AI11: =(82+15)*AH11 -> 194 | AJ11: 2 | AK11: =(82+15)*AJ11 -> 194 | AL11: 2 | AM11: =(82+15)*AL11 -> 194 | AN11: 2 | AO11: =(82+15)*AN11 -> 194
A12: Nepilngadīgo Ukrainas civiliedzīvotāju, kuri izglītības iestādēs klātienē apgūst pamatizglītības programmas 1., 2., 3. un 4. klasē, ēdināšana. (UCAL 131.pants) | B12: =AC12+AE12+AG12+AI12+AK12+AM12+AO12 -> 56432 | C12: =E12+G12+I12+K12+M12+O12+Q12+S12+U12+W12+Y12+AA12 -> 9135.1 | D12: 27 | E12: =973.39 -> 973.39 | F12: 28 | G12: =1192.69 -> 1192.69 | H12: =28 -> 28 | I12: =1465.64 -> 1465.64 | J12: =34 -> 34 | K12: =1378.25 -> 1378.25 | L12: =27+7 -> 34 | M12: =1484.72+363.59 -> 1848.31 | N12: =33 -> 33 | O12: =1769.05 -> 1769.05 | P12: 1 | Q12: 46.35 | V12: 3 | W12: 32.53 | X12: 8 | Y12: 153.99 | Z12: 12 | AA12: 274.9 | AB12: 19 | AC12: =ROUNDUP((64.89*AB12)+364.73,0) -> 1598 | AD12: =AB12+50 -> 69 | AE12: =ROUNDUP(64.89*AD12,0) -> 4478 | AF12: =AD12+50 -> 119 | AG12: =ROUNDUP(64.89*AF12,0) -> 7722 | AH12: =AF12+50 -> 169 | AI12: =ROUNDUP(64.89*AH12,0) -> 10967 | AJ12: =AH12+50 -> 219 | AK12: =ROUNDUP(64.89*AJ12,0) -> 14211 | AL12: =AJ12+50 -> 269 | AM12: =ROUNDUP(64.89*AL12,0) -> 17456 | AN12: 0 | AO12: =ROUNDUP(64.89*AN12,0) -> 0
A13: KOPĀ | B13: =SUM(B9:B12) -> 2164570 | C13: =SUM(C9:C12) -> 1917791.1 | D13: x | E13: =SUM(E9:E12) -> 184268.56 | F13: x | G13: =SUM(G9:G12) -> 156368.07 | H13: x | I13: =SUM(I9:I12) -> 199023.24 | J13: x | K13: =SUM(K9:K12) -> 189294.46 | L13: x | M13: =SUM(M9:M12) -> 199803.87 | N13: x | O13: =SUM(O9:O12) -> 200424.53 | P13: x | Q13: =SUM(Q9:Q12) -> 178662.65 | R13: x | S13: =SUM(S9:S12) -> 131504.84 | T13: x | U13: =SUM(U9:U12) -> 122332.07 | V13: x | W13: =SUM(W9:W12) -> 94486.25 | X13: x | Y13: =SUM(Y9:Y12) -> 119458.14 | Z13: x | AA13: =SUM(AA9:AA12) -> 142164.39 | AB13: x | AC13: =SUM(AC9:AC12) -> 232326 | AD13: x | AE13: =SUM(AE9:AE12) -> 194843 | AF13: x | AG13: =SUM(AG9:AG12) -> 246917 | AH13: x | AI13: =SUM(AI9:AI12) -> 299299 | AJ13: x | AK13: =SUM(AK9:AK12) -> 351630 | AL13: x | AM13: =SUM(AM9:AM12) -> 403962 | AN13: x | AO13: =SUM(AO9:AO12) -> 435593

Sheet VARAM_4.pielikums VPKAC KAC
A1: 4. pielikums
A2: Indikatīvais izdevumu ietekmes aprēķins Vides aizsardzības un reģionālās attīstības ministrijas atbildības valsts pārvaldes pakalpojumu pieteikšanas atbalsta jomai
A3: Gads | B3: Gads | C3: 2024/2025 | D3: 2023/2024 | E3: 2023 | G3: 2024 | I3: 2024 | K3: 2024 | M3: 2024 | O3: 2024 | Q3: 2024 | S3: 2024 | U3: 2024 | W3: 2024 | Y3: 2024 | AA3: 2024 | AC3: 2024 | AE3: 2025 | AG3: 2025 | AI3: 2025 | AK3: 2025 | AM3: 2025 | AO3: 2025 | AQ3: komentāri
A4: Pārskata periods | B4: Pārskata periods | C4: 2024.g. decembris - 2025.g. jūnijs | D4: 2023.g. decembris - 2024.g. novembris | E4: Decembris | G4: Janvāris | I4: Februāris | K4: Marts | M4: Aprīlis | O4: Maijs | Q4: Jūnijs | S4: Jūlijs | U4: Augusts | W4: Septembris | Y4: Oktobris | AA4: Novembris | AC4: Decembris | AE4: Janvāris | AG4: Februāris | AI4: Marts | AK4: Aprīlis | AM4: Maijs | AO4: Jūnijs
C5: (euro,centi) | D5: (euro,centi) | F5: (euro,centi) | H5: (euro,centi) | J5: (euro,centi) | L5: (euro,centi) | N5: (euro,centi) | P5: (euro,centi) | R5: (euro,centi) | T5: (euro,centi) | V5: (euro,centi) | X5: (euro,centi) | Z5: (euro,centi) | AB5: (euro,centi) | AD5: (euro,centi) | AF5: (euro,centi) | AH5: (euro,centi) | AJ5: (euro,centi) | AL5: (euro,centi) | AN5: (euro,centi) | AP5: (euro,centi)
A6: Rādītāja nosaukums | B6: Rādītāja nosaukums (pēc izmaiņām 2023. maijā) | C6: Plānotie izdevumi pārskata periodā | D6: Faktiskie izdevumi pārskata periodā | E6: Faktiskais saņēmēju skaits | F6: Faktiskie izdevumi pārskata periodā | G6: Faktiskais saņēmēju skaits | H6: Faktiskie izdevumi pārskata periodā | I6: Faktiskais saņēmēju skaits | J6: Faktiskie izdevumi pārskata periodā | K6: Faktiskais saņēmēju skaits | L6: Faktiskie izdevumi pārskata periodā | M6: Faktiskais saņēmēju skaits | N6: Faktiskie izdevumi pārskata periodā | O6: Faktiskais saņēmēju skaits | P6: Faktiskie izdevumi pārskata periodā | Q6: Faktiskais saņēmēju skaits | R6: Faktiskie izdevumi pārskata periodā | S6: Faktiskais saņēmēju skaits | T6: Faktiskie izdevumi pārskata periodā | U6: Faktiskais saņēmēju skaits | V6: Faktiskie izdevumi pārskata periodā | W6: Faktiskais saņēmēju skaits | X6: Faktiskie izdevumi pārskata periodā | Y6: Faktiskais saņēmēju skaits | Z6: Faktiskie izdevumi pārskata periodā | AA6: Faktiskais saņēmēju skaits | AB6: Faktiskie izdevumi pārskata periodā | AC6: Plānotais saņēmēju skaits | AD6: Plānotie izdevumi pārskata periodā | AE6: Plānotais saņēmēju skaits | AF6: Plānotie izdevumi pārskata periodā | AG6: Plānotais saņēmēju skaits | AH6: Plānotie izdevumi pārskata periodā | AI6: Plānotais saņēmēju skaits | AJ6: Plānotie izdevumi pārskata periodā | AK6: Plānotais saņēmēju skaits | AL6: Plānotie izdevumi pārskata periodā | AM6: Plānotais saņēmēju skaits | AN6: Plānotie izdevumi pārskata periodā | AO6: Plānotais saņēmēju skaits | AP6: Plānotie izdevumi pārskata periodā
A7: 1 | B7: 1 | C7: 2 | D7: 3 | E7: 4 | F7: 5 | G7: 6 | H7: 7 | I7: 8 | J7: 9 | K7: 10 | L7: 11 | M7: 12 | N7: 13 | O7: 14 | P7: 15 | Q7: 16 | R7: 17 | S7: 18 | T7: 19 | U7: 20 | V7: 21 | W7: 22 | X7: 23 | Y7: 24 | Z7: 25 | AA7: 26 | AB7: 27 | AC7: 28 | AD7: 29 | AE7: 30 | AF7: 31 | AG7: 32 | AH7: 33 | AI7: 34 | AJ7: 35 | AK7: 36 | AL7: 37 | AM7: 38 | AN7: 39 | AO7: 40 | AP7: 41 | AQ7: 42
A8: E-paklapojuma “Vīzas pieteikums” aizpildīšana un iesniegšana | B8: E-paklapojuma “Vīzas pieteikums” aizpildīšana un iesniegšana | C8: =AD8+AF8+AH8+AJ8+AL8+AN8+AP8 -> 0 | D8: =F8+H8+J8+L8+N8+P8+R8+T8+V8+X8+Z8+AB8 -> 0 | AE8: 0 | AF8: 0 | AG8: 0 | AH8: 0 | AI8: 0 | AJ8: 0 | AK8: 0 | AL8: 0 | AM8: 0 | AN8: 0 | AO8: 0 | AP8: 0 | AQ8: Sk. pievienoto aprēķina skaidrojumu.
A9: E-pakalpojuma “Anketas iesniegšanas uzturēšanās atļaujas pieprasīšanai” aizpildīšana un iesniegšana | B9: Uzturēšanās atļaujas pieprasīšana un reģistrācija; Ielūguma vai izsaukuma apstiprināšanas vīzas vai uzturēšanās atļaujas pieprasīšanai Latvijas Republikā | C9: =AD9+AF9+AH9+AJ9+AL9+AN9+AP9 -> 3158 | D9: =F9+H9+J9+L9+N9+P9+R9+T9+V9+X9+Z9+AB9 -> 974 | E9: 36 | F9: 72 | G9: 35 | H9: 70 | I9: 40 | J9: 80 | K9: 21 | L9: 42 | M9: 22 | N9: 44 | O9: 71 | P9: 142 | Q9: 63 | R9: 126 | S9: 44 | T9: 88 | U9: 25 | V9: 50 | W9: 33 | X9: 66 | Y9: 56 | Z9: 112 | AA9: 41 | AB9: 82 | AC9: 79 | AD9: 158 | AE9: 250 | AF9: =AE9*2 -> 500 | AG9: 250 | AH9: =AG9*2 -> 500 | AI9: 250 | AJ9: =AI9*2 -> 500 | AK9: 250 | AL9: =AK9*2 -> 500 | AM9: 250 | AN9: =AM9*2 -> 500 | AO9: 250 | AP9: =AO9*2 -> 500
A10: Fizisko personu reģistrācija Fizisko personu reģistrā | B10: Ziņu iekļaušana un aktualizēšana Fizisko personu reģistrā | C10: =AD10+AF10+AH10+AJ10+AL10+AN10+AP10 -> 3048 | D10: =F10+H10+J10+L10+N10+P10+R10+T10+V10+X10+Z10+AB10 -> 676 | E10: 9 | F10: 18 | G10: 18 | H10: 36 | I10: 22 | J10: 44 | K10: 20 | L10: 40 | M10: 19 | N10: 38 | O10: 63 | P10: 126 | Q10: 48 | R10: 96 | S10: 35 | T10: 70 | U10: 22 | V10: 44 | W10: 34 | X10: 68 | Y10: 36 | Z10: 72 | AA10: 12 | AB10: 24 | AC10: 24 | AD10: 48 | AE10: 250 | AF10: =AE10*2 -> 500 | AG10: 250 | AH10: =AG10*2 -> 500 | AI10: 250 | AJ10: =AI10*2 -> 500 | AK10: 250 | AL10: =AK10*2 -> 500 | AM10: 250 | AN10: =AM10*2 -> 500 | AO10: 250 | AP10: =AO10*2 -> 500
A11: Fizisko personu reģistrācija Ukrainas civiliedzīvotāju atbalsta sniegšanai nepieciešamās informācijas reģistrā (UCANIR) | B11: Ukrainas civiliedzīvotāju reģistrācija UCANIR | C11: =AD11+AF11+AH11+AJ11+AL11+AN11+AP11 -> 3034 | D11: =F11+H11+J11+L11+N11+P11+R11+T11+V11+X11+Z11+AB11 -> 408 | E11: 4 | F11: 8 | G11: 17 | H11: 34 | I11: 5 | J11: 10 | K11: 15 | L11: 30 | M11: 24 | N11: 48 | O11: 20 | P11: 40 | Q11: 14 | R11: 28 | S11: 23 | T11: 46 | U11: 37 | V11: 74 | W11: 21 | X11: 42 | Y11: 17 | Z11: 34 | AA11: 7 | AB11: 14 | AC11: 17 | AD11: 34 | AE11: 250 | AF11: =AE11*2 -> 500 | AG11: 250 | AH11: =AG11*2 -> 500 | AI11: 250 | AJ11: =AI11*2 -> 500 | AK11: 250 | AL11: =AK11*2 -> 500 | AM11: 250 | AN11: =AM11*2 -> 500 | AO11: 250 | AP11: =AO11*2 -> 500
A12: Izdruka no Fizisko personu reģistra | B12: Izziņa no fizisko personu reģistra | C12: =AD12+AF12+AH12+AJ12+AL12+AN12+AP12 -> 300 | D12: =F12+H12+J12+L12+N12+P12+R12+T12+V12+X12+Z12+AB12 -> 26 | K12: 2 | L12: 4 | M12: 1 | N12: 2 | O12: 4 | P12: 8 | Q12: 3 | R12: 6 | S12: 1 | T12: 2 | Y12: 2 | Z12: 4 | AE12: 25 | AF12: =AE12*2 -> 50 | AG12: 25 | AH12: =AG12*2 -> 50 | AI12: 25 | AJ12: =AI12*2 -> 50 | AK12: 25 | AL12: =AK12*2 -> 50 | AM12: 25 | AN12: =AM12*2 -> 50 | AO12: 25 | AP12: =AO12*2 -> 50
A13: Pakalpojuma "Pabalsts Ukrainas civiliedzīvotājam" aizpildīšana un iesniegšana | B13: Bērna piedzimšanas pabalsts | C13: =AD13+AF13+AH13+AJ13+AL13+AN13+AP13 -> 300 | D13: =F13+H13+J13+L13+N13+P13+R13+T13+V13+X13+Z13+AB13 -> 14 | G13: 2 | H13: 4 | K13: 1 | L13: 2 | M13: 1 | N13: 2 | S13: 1 | T13: 2 | W13: 1 | X13: 2 | Y13: 1 | Z13: 2 | AE13: 25 | AF13: =AE13*2 -> 50 | AG13: 25 | AH13: =AG13*2 -> 50 | AI13: 25 | AJ13: =AI13*2 -> 50 | AK13: 25 | AL13: =AK13*2 -> 50 | AM13: 25 | AN13: =AM13*2 -> 50 | AO13: 25 | AP13: =AO13*2 -> 50
B14: Bērna kopšanas pabalsts | C14: =AD14+AF14+AH14+AJ14+AL14+AN14+AP14 -> 300 | D14: =F14+H14+J14+L14+N14+P14+R14+T14+V14+X14+Z14+AB14 -> 8 | O14: 1 | P14: 2 | S14: 1 | T14: 2 | U14: 1 | V14: 2 | Y14: 1 | Z14: 2 | AE14: 25 | AF14: =AE14*2 -> 50 | AG14: 25 | AH14: =AG14*2 -> 50 | AI14: 25 | AJ14: =AI14*2 -> 50 | AK14: 25 | AL14: =AK14*2 -> 50 | AM14: 25 | AN14: =AM14*2 -> 50 | AO14: 25 | AP14: =AO14*2 -> 50
B15: Ģimenes valsts pabalsts | C15: =AD15+AF15+AH15+AJ15+AL15+AN15+AP15 -> 306 | D15: =F15+H15+J15+L15+N15+P15+R15+T15+V15+X15+Z15+AB15 -> 46 | E15: 1 | F15: 2 | G15: 1 | H15: 2 | K15: 3 | L15: 6 | M15: 2 | N15: 4 | O15: 2 | P15: 4 | Q15: 1 | R15: 2 | S15: 1 | T15: 2 | U15: 5 | V15: 10 | Y15: 3 | Z15: 6 | AA15: 4 | AB15: 8 | AC15: 3 | AD15: 6 | AE15: 25 | AF15: =AE15*2 -> 50 | AG15: 25 | AH15: =AG15*2 -> 50 | AI15: 25 | AJ15: =AI15*2 -> 50 | AK15: 25 | AL15: =AK15*2 -> 50 | AM15: 25 | AN15: =AM15*2 -> 50 | AO15: 25 | AP15: =AO15*2 -> 50
A16: Atbalsts pagaidu aizsardzības statusa anulēšanas pieteikšanai | B16: Nepilsoņa statusa zaudēšana | C16: =AD16+AF16+AH16+AJ16+AL16+AN16+AP16 -> 300 | D16: =F16+H16+J16+L16+N16+P16+R16+T16+V16+X16+Z16+AB16 -> 64 | E16: 4 | F16: 8 | G16: 5 | H16: 10 | I16: 2 | J16: 4 | K16: 4 | L16: 8 | M16: 7 | N16: 14 | O16: 4 | P16: 8 | Y16: 1 | Z16: 2 | AA16: 5 | AB16: 10 | AE16: 25 | AF16: =AE16*2 -> 50 | AG16: 25 | AH16: =AG16*2 -> 50 | AI16: 25 | AJ16: =AI16*2 -> 50 | AK16: 25 | AL16: =AK16*2 -> 50 | AM16: 25 | AN16: =AM16*2 -> 50 | AO16: 25 | AP16: =AO16*2 -> 50
B17: 160 stundu mācību programma ugunsdrošībā un aizsardzībā | C17: =AD17+AF17+AH17+AJ17+AL17+AN17+AP17 -> 0 | D17: =F17+H17+J17+L17+N17+P17+R17+T17+V17+X17+Z17+AB17 -> 2 | Y17: 1 | Z17: 2 | AE17: 0 | AF17: 0 | AG17: 0 | AH17: 0 | AI17: 0 | AJ17: 0 | AK17: 0 | AL17: 0 | AM17: 0 | AN17: 0 | AO17: 0 | AP17: 0
A18: KOPĀ | C18: =SUM(C8:C17) -> 10746 | D18: =SUM(D8:D17) -> 2218 | E18: =SUM(E8:E17) -> 54 | F18: =SUM(F8:F17) -> 108 | G18: =SUM(G8:G17) -> 78 | H18: =SUM(H8:H17) -> 156 | I18: =SUM(I8:I17) -> 69 | J18: =SUM(J8:J17) -> 138 | ... AP18: =SUM(AP8:AP17) -> 1750

Sheet apreķins 4.pielikumam
A1: Aprēķini 2025.gada 1.pusgadam
A3: Aprēķini veikti attiecībā uz Ukrainas civiliedzīvotāju (UC) skaitu, kas atbalstu pieprasīs VPVKAC tīklā, ņemot vērā: - 2024.gadā Iekšlietu ministrijai (IeM) sniegto 1) varianta prognozi, izpildot IeM 30.05.2024. vēstulē Nr.1-23/1416 iekļauto uzdevumu: lai nodrošinātu mērķēta atbalsta turpināšanos Ukrainas civiliedzīvotājiem, atbalsta pasākumus un tiem nepieciešamo finansējumu plānot atbilstoši trīs atsevišķiem prognozes scenārijiem, un - 2024.gada faktiskos rādītājus - sniegtā atbalsta gadījumu kopskaits 1178. Rezultātā tiek pieņemts, ka 2025.gada 1.pusgadā VPVKAC tīklā atbalstu pieprasīs 1/4 daļa no 2024.gada 1) variantā prognozētā Ukrainas civiliedzīvotāju skaita, t.i. 1500 personas.
A4: 1) varianta prognoze : 2025. gadā Latvijā no jauna ieradīsies 6000 UC;
A5: Koriģētā prognoze 2025.gada 1.pusgadam : 6000 / 4 = 1500 UC
A7: Aprēķini sadalījumā pa sniegtā atbalsta pakalpojumiem veikti, ņemot vērā Pasākumu plānā atbalsta sniegšanai Ukrainas civiliedzīvotājiem Latvijas Republikā 2025. gadam (MK 18.12.2024. rīk. Nr.1109). dotos uzdevumus VPVKAC un pašvaldību klientu apkalpošanas struktūrvienībām (1.5., 1.7. un 4.8. pasākumi).
A9: 1.5. Ukrainas civiliedzīvotāju atbalsta sniegšanai nepieciešamās informācijas apstrāde, izmantojot vienotu IT rīku (UCASNIR).
A10: VPVKAC, pašvaldības klientu apkalpošanas struktūrvienība veic UC atbalsta sniegšanai nepieciešamās informācijas apstrādi, izmantojot VUGD izstrādātu vienotu IT rīku UCASNIR. Apstrāde tiek veikta katram UC pirmreizēji un turpmāk pēc nepieciešamības. Finansējums nepieciešams no budžeta programmas 17.00.00 2 EUR par gadījumu.
B11: Gadā | C11: 1.pusgadā | D11: Mēnesī
A12: UC skaits | B12: 6000 | C12: 1500 | D12: =C12/6 -> 250
A13: EUR | B13: =2*B12 -> 12000 | C13: =C12*2 -> 3000 | D13: =D12*2 -> 500
A15: 1.7. Ukrainas civiliedzīvotāju reģistrēšana Fizisko personu reģistrā un atbalsts Pilsonības un migrācijas lietu pārvaldes pakalpojumu pieteikšanai
A16: Vienotais valsts un pašvaldības klientu apkalpošanas centrs, pašvaldības klientu apkalpošanas struktūrvienība sniedz atbalstu klientam, informējot par pakaplojuma pieteikšanas iespējām: a) Uzturēšanās atļaujas pieprasīšana un reģistrācija (ID 11529); b) Ziņu iekļaušana un aktualizēšana Fizisko personu reģistrā (ID 10997); c) Nepilsoņa statusa zaudēšana (ID 8144); d) Izziņa no Fizisko personu reģistra (ID 12260). Katra pakalpojuma pieteikšana tiek finansēta no budžeta programmas 17.00.00 2 EUR apmērā. 2025.gada 1.pusgada prognoze tiek koriģēta c) un d) pakalpojumam, rēķinot 10 % pieprasījumu.
A17: Pakalpojums | B17: UC skaits | C17: 1500 | E17: Mēnesī | F17: UC skaits | G17: EUR | H17: Potenciālo pieteikumu skaits no UC skaita
A18: a) | B18: EUR | C18: =2*C17 -> 3000 | E18: a) | F18: =C17/6 -> 250 | G18: =F18*2 -> 500 | H18: 1
A19: b) | B19: EUR | C19: =2*C17 -> 3000 | E19: b) | F19: =C17/6 -> 250 | G19: =F19*2 -> 500 | H19: 1
A20: c) | B20: EUR | C20: =2*150 -> 300 | E20: c) | F20: =(C17*10%)/6 -> 25 | G20: =F20*2 -> 50 | H20: 0.1
A21: d) | B21: EUR | C21: =2*150 -> 300 | E21: d) | F21: =(C17*10%)/6 -> 25 | G21: =F21*2 -> 50 | H21: 0.1
A22: Kopā | B22: EUR | C22: =C18+C19+C20+C21 -> 6600 | E22: Kopā | F22: =SUM(F18:F21) -> 550 | G22: =SUM(G18:G21) -> 1100
A24: 4.8. Ar ģimeni un bērna aprūpi saistīto valsts sociālo pabalstu nodrošināšana
A25: Vienotais valsts un pašvaldības klientu apkalpošanas centrs, pašvaldības klientu apkalpošanas struktūrvienība aizpilda un iesniedz VSAA: a) Bērna piedzimšanas pabalsts (ID 11887) b) Bērna kopšanas pabalsts (ID 11374) c) Ģimenes valsts pabalsts (ID 11682) Katra pakalpojuma pieteikšana tiek finansēta no budžeta programmas 17.00.00 2 EUR apmērā. Ņemot vērā, ka 2024.gada faktiskais sniegto pakalpojumu skaits ir 36 pakalpojumi, tad 2025.gada 1.pusgada prognoze tiek koriģēta, rēķinot 10 % katram pakalpojumam.
A26: Pakalpojums | B26: UC skaits | C26: 1500 | D26: Potenciālo pieteikumu skaits no UC skaita | I26: Mēnesī | J26: UC skaits | K26: EUR
A27: a) | B27: EUR | C27: =2*150 -> 300 | D27: 0.1 | I27: a) | J27: =(1500*10%)/6 -> 25 | K27: =J27*2 -> 50
A28: b) | B28: EUR | C28: =2*150 -> 300 | D28: 0.1 | I28: b) | J28: =(1500*10%)/6 -> 25 | K28: =J28*2 -> 50
A29: c) | B29: EUR | C29: =2*150 -> 300 | D29: 0.1 | I29: c) | J29: =(1500*10%)/6 -> 25 | K29: =J29*2 -> 50
A30: Kopā | B30: EUR | C30: =C27+C28+C29 -> 900 | I30: Kopā | J30: =SUM(J27:J29) -> 75 | K30: =SUM(K27:K29) -> 150
A32: KOPĀ nepieciešamais finansējums
A33: Pasākums | B33: UC skaits 1500
B34: Atbalsts, EUR
A35: 1.5. | B35: =C13 -> 3000
A36: 1.7. | B36: =C22 -> 6600
A37: 4.8. | B37: =C27+C28+C29 -> 900
A38: Kopā: | B38: =B35+B36+B37 -> 10500

Sheet Koordināc. punkta izd_5.piel.
E1: 5. pielikums
A2: Rīgas atbalsta centra uzturēšanas plānotās izmaksas laika periodā no 2024. gada decembra līdz 2025. gada jūnijam
A4: Pārskata periods, mēnesis | B4: Pašvaldības faktiskie izdevumi atbilstoši iesniegtajiem rēķiniem laika periodā no 2023. gada decembra līdz 2024. gada novembrim, euro | C4: Pašvaldībai kompensētie izdevumi 2024. gadā (pēc VARAM pārrēķina), euro | D4: Pašvaldības plānotie izdevumi laika periodā no 2024. gada decembra līdz 2025. gada jūnijam, euro | E4: Pašvaldībai kompensējamo izdevumu prognoze laika periodam no 2024. gada decembra līdz 2025. gada jūnijam, euro
A5: par 2023. gada decembri | B5: 60363.85 | C5: 22876.32 | D5: x | E5: x
A6: par 2024. gada janvāri | B6: =[1]Izdevumi!C9 -> 31954.26 | C6: 17262.405 | D6: x | E6: x
A7: par 2024. gada februāri | B7: =[1]Izdevumi!C19 -> 24450.63 | C7: 13078.282 | D7: x | E7: x
A8: par 2024. gada martu | B8: =[1]Izdevumi!C29 -> 21875.04 | C8: 11635.348 | D8: x | E8: x
A9: par 2024. gada aprīli | B9: =[1]Izdevumi!C40 -> 17481.59 | C9: 9278.5651 | D9: x | E9: x
A10: par 2024. gada maiju | B10: =[1]Izdevumi!C50 -> 12991.01 | C10: 6867.0724 | D10: x | E10: x
A11: par 2024. gada jūniju | B11: =[1]Izdevumi!C60 -> 12490.18 | C11: 6626.428 | D11: x | E11: x
A12: par 2024. gada jūliju | B12: =[1]Izdevumi!C70 -> 12606.26 | C12: 6659.028 | D12: x | E12: x
A13: par 2024. gada augustu | B13: =[1]Izdevumi!C80 -> 11506.55 | C13: 6090.5242 | D13: x | E13: x
A14: par 2024. gada septembri | B14: =[1]Izdevumi!C90 -> 11306.3 | C14: 5991.8203 | D14: x | E14: x
A15: par 2024. gada oktobri | B15: =[1]Izdevumi!C100 -> 16011.66 | C15: 8561.5014 | D15: x | E15: x
A16: par 2024. gada novembri | B16: =[1]Izdevumi!C110 -> 18774.75 | C16: 10010.549 | D16: x | E16: x
A17: par 2024. gada decembri | B17: x | C17: x | D17: 25300 | E17: =D17*55% -> 13915
A18: par 2025. gada janvāri | B18: x | C18: x | D18: 28460 | E18: =D18*55% -> 15653
A19: par 2025. gada februāri | B19: x | C19: x | D19: 23120 | E19: =D19*55% -> 12716
A20: par 2025. gada martu | B20: x | C20: x | D20: 19800 | E20: =D20*55% -> 10890
A21: par 2025. gada aprīli | B21: x | C21: x | D21: 16300 | E21: =D21*55% -> 8965
A22: par 2025. gada maiju | B22: x | C22: x | D22: 12600 | E22: =D22*55% -> 6930
A23: par 2025. gada jūniju | B23: x | C23: x | D23: 12600 | E23: =D23*55% -> 6930
A24: KOPĀ | B24: =SUM(B5:B16) -> 251812.08 | C24: =SUM(C5:C16) -> 124937.84 | D24: =SUM(D17:D23) -> 138180 | E24: =SUM(E17:E23) -> 75999
