Workbook

Sheet Kopsavilkums
P1: 1.1.pielikums
P2: Par finanšu līdzekļu piešķiršanu no valsts budžeta programmas “Līdzekļi neparedzētiem gadījumiem”
A3: Papildus piešķirtā finansējums slimnīcu papildus kapacitātes stiprināšanai Covid -19 apstākļos piešķirtā finansējuma izlietojums
A5: Ārstniecības iestāde | B5: Finansējums, atbilstoši MK rīkojumiem un protokoliem | H5: Faktiski apmaksāts 2021. gadā | I5: Piešķirts finansējums par faktiski realizētiem 2021. un 2022. gada pasākumiem (2022.gada 17.maija FM rīk.303) | J5: Piešķirts finansējums par faktiski realizētiem 2022. gada pasākumiem (2022.gada 2.jūnija FM rīk.337) | K5: Piešķirts finansējums par faktiski realizētiem 2022. gada pasākumiem (2022.gada 6.jūlija FM rīk.426) | L5: Piešķirts finansējums par faktiski realizētiem 2022. gada pasākumiem (2022.gada 16.augusta MK sēdē apstiprināts) | M5: Nepieciešams finansējums par faktiski realizētiem 2022. gada pasākumiem | N5: Atlikums 2021.gadā no daļēji noslēgtajiem vai nenoslēgtajiem līgumiem | O5: Atlikums 2022.gadā (tiks veikts pārskaitījums uz valsts budžeta kontu) | P5: Faktiskais atlikums 2022.gadā
B6: datums | C6: Nr. | D6: Summa priekšapmaksai VAI IEGULDĪŠANA PAMATKAPITĀLĀ 2021.gadā | E6: 2022.gada summa | F6: 2022. gadā papildus iezīmēts no 2021. gada neapgūtā finansējuma | G6: Summa
A7: Pavisam kopā trīs rīkojumiem un protokoliem | D7: =D8+D17+D39 -> 5727448 | E7: =E9+E14+E17+E39 -> 6688008 | F7: =F59 -> 3385031 | G7: =G9+G17+G39+G59+G14 -> 10073039 | H7: 1380010.1 | I7: =I8+I17+I39 -> 3255493 | J7: =J8+J17+J39+J59 -> 618983 | K7: =K8+K17+K39+K59 -> 574001 | L7: =L8+L17+L39+L59 -> 444853 | M7: =M8+M17+M39+M59 -> 114416 | N7: 717574.24 | O7: 3629863.6 | P7: =G7-I7-J7-K7-L7-M7 -> 5065293
A8: 4.piešķīrums (Izlietojums, atbilstoši Ministru kabineta 2021.gada 3.novembra rīkojumam Nr.799 "Par finanšu līdzekļu piešķiršanu no valsts budžeta programmas "Līdzekļi neparedzētiem gadījumiem"), tai skaitā: | D8: =D15+D16+D10+D11+D12 -> 1045916 | E8: =E15+E16+E10+E11+E12+E13 -> 4590901 | F8: =F15+F16+F10+F11+F12 -> 0 | G8: =G15+G16+G10+G11+G12+G13 -> 4590901 | H8: =H9+H14 -> 370182.62 | I8: =I15+I16+I10+I11+I12+I13 -> 2453261 | J8: =J15+J16+J10+J11+J12+J13 -> 0 | K8: 249865 | L8: 206451 | M8: =M15+M16+M10+M11+M12+M13 -> 0 | N8: 332286.24 | O8: 343447.14 | P8: =G8-I8-J8-K8-L8-M8 -> 1681324
A9: izlietojums, atbilstoši Ministru kabineta 2021. gada 20. oktobra sēdes prorokollēmuma Nr. 71 4. § 6. punktam | D9: =D10+D11+D12+D13 -> 287496 | E9: =E10+E11+E12+E13 -> 3074062 | F9: =F10+F11+F12+F13 -> 0 | G9: =G10+G11+G12+G13 -> 3074062 | H9: =H10+H11+H12+H13 -> 285959.26 | I9: =I10+I11+I12+I13 -> 1696237 | J9: =J10+J11+J12+J13 -> 0 | K9: 249865 | L9: 206451 | M9: =M10+M11+M12+M13 -> 0 | N9: =N10+N11+N12+N13 -> 0 | O9: =O10+O11+O12+O13 -> 1536.74 | P9: =P10+P11+P12+P13 -> 921509
A10: Rēzeknes sl | B10: 17.03.2021. | C10: NVD-2/131-2021 | D10: 49075 | E10: 1190485 | F10: 0 | G10: =E10+F10 -> 1190485 | H10: 49075 | I10: 585579 | J10: 0 | K10: 0 | L10: 206451 | O10: 0 | P10: =G10-I10-J10-K10-L10-M10 -> 398455
A11: Jelgavas PS | B11: 29.12.2021. | C11: NVD-9/195-2021 | D11: 175421 | E11: 1621775 | F11: 0 | G11: =E11+F11 -> 1621775 | H11: 173884.26 | I11: 1090402 | J11: 0 | K11: 249865 | L11: 0 | O11: 1536.74 | P11: =G11-I11-J11-K11-L11-M11 -> 281508
A12: Ziemeļkurzemes RS | B12: 28.12.2021. | C12: NVD-9/201-2021 | D12: 63000 | E12: 21000 | F12: 0 | G12: =E12+F12 -> 21000 | H12: 63000 | I12: 20256 | J12: 0 | K12: 0 | L12: 0 | O12: 0 | P12: =G12-I12-J12-K12-L12-M12 -> 744
A13: Vidzemes slimnīca | E13: 240802 | F13: 0 | G13: =E13+F13 -> 240802 | H13: 0 | I13: 0 | J13: 0 | K13: 0 | L13: 0 | O13: 0 | P13: =G13-I13-J13-K13-L13-M13 -> 240802
A14: izlietojums, atbilstoši Ministru kabineta 2021. gada 26.oktobra sēdes protokollēmuma Nr. 72 60§ 3.punktam | D14: =D15+D16 -> 758420 | E14: =E15+E16 -> 1516839 | F14: =F15+F16 -> 0 | G14: =G15+G16 -> 1516839 | H14: =H15+H16 -> 84223.36 | I14: =I15+I16 -> 757024 | J14: =J15+J16 -> 0 | K14: 0 | L14: 0 | M14: =M15+M16 -> 0 | N14: =N15+N16 -> 332286.24 | O14: =O15+O16 -> 341910.4 | P14: =P15+P16 -> 759815
A15: Rīgas 1.slimnīca | B15: 28.12.2021. | C15: NVD-9/234-2021 | D15: 381795 | E15: 763591 | F15: 0 | G15: =E15+F15 -> 763591 | H15: 49508.76 | I15: 3776 | J15: 0 | K15: 0 | L15: 0 | N15: 332286.24 | P15: =G15-I15-J15-K15-L15-M15 -> 759815
A16: Rīgas 2.slimnīca | B16: 08.12.2021. | C16: NVD-9/187-2021 | D16: 376625 | E16: 753248 | F16: 0 | G16: =E16+F16 -> 753248 | H16: 34714.6 | I16: 753248 | J16: 0 | K16: 0 | L16: 0 | O16: 341910.4 | P16: =G16-I16-J16-K16-L16-M16 -> 0
A17: 5.piešķīrums (Izlietojums, atbilstoši Ministru kabineta 2021.gada 1.decembra rīkojumam Nr.899 "Par finanšu līdzekļu piešķiršanu no valsts budžeta programmas "Līdzekļi neparedzētiem gadījumiem")/ izlietojums, atbilstoši Ministru kabineta 2021. gada 2. novembra sēdes prorokollēmuma Nr. 73 47. § 3. punktam | D17: =SUM(D18:D38) -> 4284321 | E17: =SUM(E18:E38) -> 1976769 | F17: =SUM(F18:F38) -> 0 | G17: =SUM(G18:G38) -> 1976769 | H17: 906493.49 | I17: =SUM(I18:I38) -> 770257 | J17: =SUM(J18:J38) -> 77373 | K17: =SUM(K18:K38) -> 75482 | L17: 75871 | M17: =SUM(M18:M38) -> 2745 | N17: 276842 | O17: 3100985.5 | P17: =G17-I17-J17-K17-L17-M17 -> 975041
A18: Vidzemes slimnīca | B18: 30.12.2021. | C18: NVD-9/200-2021 | D18: 399140 | E18: 171060 | F18: 0 | G18: =E18+F18 -> 171060 | H18: 81086.94 | I18: 122682 | J18: 0 | K18: 48378 | L18: 0 | N18: 60000 | O18: 258053.06 | P18: =G18-I18-J18-K18-L18-M18 -> 0
A19: Jēkabpils RS | B19: 22.12.2021. | C19: NVD-9/208-2021 | D19: 392192 | E19: 650000 | F19: 0 | G19: =E19+F19 -> 650000 | H19: 41401.36 | I19: 147073 | J19: 0 | K19: 27104 | L19: 30846 | M19: =Jekabp_899!B34 -> 2745 | O19: 350790.64 | P19: =G19-I19-J19-K19-L19-M19 -> 442232
A20: Liepājas RS | B20: 30.12.2021. | C20: NVD-9/203-2021 | D20: 991075 | E20: 424746 | F20: 0 | G20: =E20+F20 -> 424746 | H20: 11904.22 | I20: 0 | J20: 0 | K20: 0 | L20: 0 | O20: 979170.78 | P20: =G20-I20-J20-K20-L20-M20 -> 424746
A21: Rēzeknes sl | B21: 22.12.2021. | C21: NVD-9/220-2021 | D21: 485888 | E21: 0 | F21: 0 | G21: =E21+F21 -> 0 | H21: 304459.34 | I21: 0 | J21: 0 | K21: 0 | L21: 0 | O21: 181428.66 | P21: =G21-I21-J21-K21-L21-M21 -> 0
A22: Ziemeļkurzemes RS | B22: 27.12.2021. | C22: NVD-9/222-2021 | D22: =56441+144720 -> 201161 | E22: =8500+32991 -> 41491 | F22: 0 | G22: =E22+F22 -> 41491 | H22: 187271.5 | I22: 33330 | J22: 0 | K22: 0 | L22: 0 | O22: 13889.5 | P22: =G22-I22-J22-K22-L22-M22 -> 8161
A23: Priekules slimnīca | B23: 29.12.2021. | C23: NVD-9/214-2021 | D23: 9681 | E23: 4149 | F23: 0 | G23: =E23+F23 -> 4149 | H23: 9681 | I23: 4146 | J23: 0 | K23: 0 | L23: 0 | O23: 0 | P23: =G23-I23-J23-K23-L23-M23 -> 3
A24: Dobeles un apkārtnes slimnīca | B24: 28.12.2021. | C24: NVD-9/206-2021 | D24: 126032 | E24: 49838 | F24: 0 | G24: =E24+F24 -> 49838 | H24: 1498.34 | I24: 49838 | J24: 0 | K24: 0 | L24: 0 | O24: 124533.66 | P24: =G24-I24-J24-K24-L24-M24 -> 0
A25: Alūksnes slimnīca | B25: 22.12.2021. | C25: NVD-9/216-2021 | D25: 58783 | E25: 25193 | F25: 0 | G25: =E25+F25 -> 25193 | H25: 30951.31 | I25: 25193 | J25: 0 | K25: 0 | L25: 0 | O25: 27831.69 | P25: =G25-I25-J25-K25-L25-M25 -> 0
A26: Bauskas slimnīca | B26: 22.12.2021. | C26: NVD-9/204-2021 | D26: 179462 | E26: 71577 | F26: 0 | G26: =E26+F26 -> 71577 | H26: 27026.64 | I26: 71577 | J26: 0 | K26: 0 | L26: 0 | O26: 152435.36 | P26: =G26-I26-J26-K26-L26-M26 -> 0
A27: Cēsu slimnīca | B27: 30.12.2021. | C27: NVD-9/205-2021 | D27: 78855 | E27: 33795 | F27: 0 | G27: =E27+F27 -> 33795 | H27: 20072.75 | I27: 17010 | J27: 0 | K27: 0 | L27: 0 | O27: 58782.25 | P27: =G27-I27-J27-K27-L27-M27 -> 16785
A28: Preiļu slimnīca | D28: 145880 | E28: 62520 | F28: 0 | G28: =E28+F28 -> 62520 | H28: 0 | I28: 0 | J28: 0 | K28: 0 | L28: 45025 | N28: 145880 | O28: 0 | P28: =G28-I28-J28-K28-L28-M28 -> 17495
A29: Krāslavas slimnīca | D29: 63000 | E29: 27000 | F29: 0 | G29: =E29+F29 -> 27000 | H29: 0 | I29: 0 | J29: 0 | K29: 0 | L29: 0 | N29: 63000 | O29: 0 | P29: =G29-I29-J29-K29-L29-M29 -> 27000
A30: Jūrmalas slimnīca | B30: 27.12.2021. | C30: NVD-9/209-2021 | D30: 108900 | E30: 0 | F30: 0 | G30: =E30+F30 -> 0 | H30: 0 | I30: 0 | J30: 0 | K30: 0 | L30: 0 | O30: 108900 | P30: =G30-I30-J30-K30-L30-M30 -> 0
A31: Madonas slimnīca | B31: 29.12.2021. | C31: NVD-9/221-2021 | D31: 163450 | E31: 70050 | F31: 0 | G31: =E31+F31 -> 70050 | H31: 0 | I31: 70050 | J31: 0 | K31: 0 | L31: 0 | O31: 163450 | P31: =G31-I31-J31-K31-L31-M31 -> 0
A32: Limbažu slimnīca | B32: 22.12.2021. | C32: NVD-9/211-2021 | D32: 55650 | E32: 23850 | F32: 0 | G32: =E32+F32 -> 23850 | H32: 0 | I32: 23850 | J32: 0 | K32: 0 | L32: 0 | O32: 55650 | P32: =G32-I32-J32-K32-L32-M32 -> 0
A33: Aizkraukles sl. | B33: 28.12.2021. | C33: NVD-9/231-2021 | D33: 2100 | E33: 0 | F33: 0 | G33: =E33+F33 -> 0 | H33: 1858.62 | I33: 0 | J33: 0 | K33: 0 | L33: 0 | O33: 241.38 | P33: =G33-I33-J33-K33-L33-M33 -> 0
A34: Rīgas 2.slimnīca | B34: 29.12.2021. | C34: NVD-9/237-2021 | D34: 211912 | E34: 90819 | F34: 0 | G34: =E34+F34 -> 90819 | H34: 0 | I34: 90819 | J34: 0 | K34: 0 | L34: 0 | O34: 211912 | P34: =G34-I34-J34-K34-L34-M34 -> 0
A35: Sanare KRC Jaunķemeri | B35: 23.12.2021. | C35: NVD-9/224-2021 | D35: 173042 | E35: 74161 | F35: 0 | G35: =E35+F35 -> 74161 | H35: 55420.78 | I35: 46214 | J35: 0 | K35: 0 | L35: 0 | O35: 117621.22 | P35: =G35-I35-J35-K35-L35-M35 -> 27947
A36: Irlavas SKS | D36: 7962 | E36: 3412 | F36: 0 | G36: =E36+F36 -> 3412 | H36: 0 | I36: 0 | J36: 0 | K36: 0 | L36: 0 | N36: 7962 | O36: 0 | P36: =G36-I36-J36-K36-L36-M36 -> 3412
A37: Jelgavas PS | B37: 22.12.2021. | C37: NVD-9/207-2021 | D37: 118783 | E37: 19663 | F37: 0 | G37: =E37+F37 -> 19663 | H37: 110142.14 | I37: 12403 | J37: 0 | K37: 0 | L37: 0 | O37: 8640.86 | P37: =G37-I37-J37-K37-L37-M37 -> 7260
A38: Tukuma slimnīca | B38: 22.12.2021. | C38: NVD-9/218-2021 | D38: 311373 | E38: 133445 | F38: 0 | G38: =E38+F38 -> 133445 | H38: 23718.55 | I38: 56072 | J38: 77373 | K38: 0 | L38: 0 | O38: 287654.45 | P38: =G38-I38-J38-K38-L38-M38 -> 0
A39: 6.piešķīrums (Izlietojums, atbilstoši Ministru kabineta 2021.gada 1.decembra rīkojumam Nr.904 "Par finanšu līdzekļu piešķiršanu no valsts budžeta programmas "Līdzekļi neparedzētiem gadījumiem")/ izlietojums, atbilstoši Ministru kabineta 2021. gada 23. novembra sēdes prorokollēmuma Nr. 76 40. § 5. punktam | D39: =D40+D41+D42+D43+D44+D45+D46 -> 397211 | E39: =E40+E41+E42+E43+E44+E45+E46 -> 120338 | F39: =F40+F41+F42+F43+F44+F45+F46 -> 0 | G39: =G40+G41+G42+G43+G44+G45+G46 -> 120338 | H39: 103334.03 | I39: =I40+I41+I42+I43+I44+I45+I46 -> 31975 | J39: =J40+J41+J42+J43+J44+J45+J46 -> 7331 | K39: =K40+K41+K42+K43+K44+K45+K46 -> 21496 | L39: 43793 | M39: =M40+M41+M42+M43+M44+M45+M46 -> 0 | N39: 108446 | O39: 185430.97 | P39: =G39-I39-J39-K39-L39-M39 -> 15743
A40: Saldus MC | B40: 27.12.2021. | C40: NVD-9/227-2021 | D40: 1247 | E40: 11223 | F40: 0 | G40: =E40+F40 -> 11223 | H40: 615.39 | I40: 10618 | J40: 0 | K40: 0 | L40: 0 | O40: 631.61 | P40: =G40-I40-J40-K40-L40-M40 -> 605
A41: Ludzas MC | B41: 27.12.2021. | C41: NVD-9/226-2021 | D41: 125120 | E41: 0 | F41: 0 | G41: =E41+F41 -> 0 | H41: 59608.64 | I41: 0 | J41: 0 | K41: 0 | L41: 0 | O41: 65511.36 | P41: =G41-I41-J41-K41-L41-M41 -> 0
A42: Latvijas Jūras MC | B42: 30.12.2021. | C42: NVD-9/228-2021 | D42: 32110 | E42: 17666 | F42: 0 | G42: =E42+F42 -> 17666 | H42: 32110 | I42: 17666 | J42: 0 | K42: 0 | L42: 0 | O42: 0 | P42: =G42-I42-J42-K42-L42-M42 -> 0
A43: Rīgas 1.slimnīca | D43: 108446 | E43: 0 | F43: 0 | G43: =E43+F43 -> 0 | H43: 0 | I43: 0 | J43: 0 | K43: 0 | L43: 0 | N43: 108446 | O43: 0 | P43: =G43-I43-J43-K43-L43-M43 -> 0
A44: Balvu un Gulbenes SIA | B44: 28.12.2021. | C44: NVD-9/233-2021 | D44: 11000 | E44: 0 | F44: 0 | G44: =E44+F44 -> 0 | H44: 11000 | I44: 0 | J44: 0 | K44: 0 | L44: 0 | O44: 0 | P44: =G44-I44-J44-K44-L44-M44 -> 0
A45: Rīgas Dzemdību nams | B45: 28.12.2021. | C45: NVD-9/230-2021 | D45: 119288 | E45: 51124 | F45: 0 | G45: =E45+F45 -> 51124 | H45: 0 | I45: 0 | J45: 7331 | K45: 0 | L45: 43793 | O45: 119288 | P45: =G45-I45-J45-K45-L45-M45 -> 0
A46: Aizkraukles S | E46: 40325 | F46: 0 | G46: =E46+F46 -> 40325 | H46: 0 | I46: 3691 | J46: 0 | K46: 21496 | L46: 0 | P46: =G46-I46-J46-K46-L46-M46 -> 15138
A47: Pavisam kopā ieguldīšana pamatkapitālā (797, 900, 905) | D47: =D48+D52+D56 -> 9933245
A48: 7.piešķīrums (Izlietojums, atbilstoši Ministru kabineta 2021.gada 4.novembra rīkojumam Ministru kabineta rīkojums Nr. 797 “Par apropriācijas palielināšanu Veselības ministrijai” | D48: =D49+D50+D51 -> 9550228 | E48: =E49+E50+E51+E52+E53+E54+E55 -> 0 | G48: =G49+G50+G51+G52+G53+G54+G55 -> 3388807 | H48: 0 | O48: 0 | P48: =P49+P50+P51+P52+P53+P54+P55 -> 2396961
A49: Rīgas Austrumu klīniskā universitātes slimnīca | D49: 7113884
A50: Paula Stradiņa klīniskā universitātes slimnīca | D50: 2330332
A51: Traumatoloģijas un ortopēdijas slimnīca | D51: 106012
A52: 8.piešķīrums (Izlietojums, atbilstoši Ministru kabineta 2021.gada 1.decembra rīkojumam Ministru kabineta rīkojums Nr. 900 “Par apropriācijas palielināšanu Veselības ministrijai” | D52: =D53+D54+D55 -> 163650 | E52: =E53+E54+E55+E57+E58+E59+E60 -> 0 | G52: =G53+G54+G55+G57+G58+G59+G60 -> 3388807 | H52: 0 | O52: 0 | P52: =P53+P54+P55+P57+P58+P59+P60 -> 2396961
A53: Daugavpils psihoneiroloģiskā slimnīca | D53: 19200
A54: Strenču psihoneiroloģiskā slimnīca | D54: 143250
A55: Rīgas psihiatrijas un narkoloģijas centrs | D55: 1200
A56: 9.piešķīrums (Izlietojums, atbilstoši Ministru kabineta 2021.gada 1.decembra rīkojumam Ministru kabineta rīkojums Nr. 905 “Par apropriācijas palielināšanu Veselības ministrijai” | D56: =D57+D58+D59 -> 219367 | E56: =E57+E58+E59+E61+E62+E63+E64 -> 0 | G56: =G57+G58+G59+G61+G62+G63+G64 -> 5586870 | H56: 0 | O56: 0 | P56: =P57+P58+P59+P61+P62+P63+P64 -> 4336346
A57: Rīgas psihiatrijas un narkoloģijas centrs | D57: 192865
A58: Ģintermuiža | D58: 26502
A59: Izlietojums, atbilstoši Ministru kabineta 2022. gada 26.aprīļa sēdes protokollēmuma Nr. 23 31§ 3.punktam. | D59: 0 | E59: 0 | F59: =F60+F61+F62+F63+F64+F65+F66+F67+F68+F69+F70+F71+F72+F73 -> 3385031 | G59: =G60+G61+G62+G63+G64+G65+G66+G67+G68+G69+G70+G71+G72+G73 -> 3385031 | H59: 0 | I59: 0 | J59: =J60+J61+J62+J63+J64+J65+J66+J67+J68+J69+J70+J71+J72+J73 -> 534279 | K59: =K60+K61+K62+K63+K64+K65+K66+K67+K68+K69+K70+K71+K72+K73 -> 227158 | L59: 118738 | M59: =M60+M61+M62+M63+M64+M65+M66+M67+M68+M69+M70+M71+M72+M73 -> 111671 | P59: =G59-I59-J59-K59-L59-M59 -> 2393185
A60: Rīgas 1.slimnīca | F60: 3776 | G60: =F60 -> 3776 | J60: 0 | K60: 0 | L60: 0 | P60: =G60-I60-J60-K60-L60-M60 -> 3776
A61: Rīgas 2.slimnīca | F61: =341911+211912 -> 553823 | G61: =F61 -> 553823 | J61: 93753 | K61: 70646 | L61: 32717 | M61: ='R.2.sl_899'!B33 -> 2207 | P61: =G61-I61-J61-K61-L61-M61 -> 354500
A62: Vidzemes slimnīca | F62: 318054 | G62: =F62 -> 318054 | J62: 0 | K62: 56166 | L62: 0 | M62: =Vidzem_899!B46 -> 3189 | P62: =G62-I62-J62-K62-L62-M62 -> 258699
A63: Jēkabpils RS | F63: 350791 | G63: =F63 -> 350791 | J63: 0 | K63: 0 | L63: 0 | P63: =G63-I63-J63-K63-L63-M63 -> 350791
A64: Liepājas RS | F64: 979171 | G64: =F64 -> 979171 | J64: 0 | K64: 0 | L64: 0 | P64: =G64-I64-J64-K64-L64-M64 -> 979171
A65: Dobeles un apkārtnes slimnīca | F65: 1902 | G65: =F65 -> 1902 | J65: 1902 | K65: 0 | L65: 0 | P65: =G65-I65-J65-K65-L65-M65 -> 0
A66: Alūksnes slimnīca | F66: 7020 | G66: =F66 -> 7020 | J66: 7020 | K66: 0 | L66: 0 | P66: =G66-I66-J66-K66-L66-M66 -> 0
A67: Bauskas slimnīca | F67: 152435 | G67: =F67 -> 152435 | J67: 152435 | K67: 0 | L67: 0 | P67: =G67-I67-J67-K67-L67-M67 -> 0
A68: Jūrmalas slimnīca | F68: 108900 | G68: =F68 -> 108900 | J68: 108900 | K68: 0 | L68: 0 | P68: =G68-I68-J68-K68-L68-M68 -> 0
A69: Madonas slimnīca | F69: 163450 | G69: =F69 -> 163450 | J69: 43111 | K69: 0 | L69: 0 | P69: =G69-I69-J69-K69-L69-M69 -> 120339
A70: Limbažu slimnīca | F70: 55650 | G70: =F70 -> 55650 | J70: 14780 | K70: 32828 | L70: 6807 | P70: =G70-I70-J70-K70-L70-M70 -> 1235
A71: Tukuma slimnīca | F71: 287655 | G71: =F71 -> 287655 | J71: 59488 | K71: 67518 | L71: 0 | P71: =G71-I71-J71-K71-L71-M71 -> 160649
A72: Ludzas MC | F72: 65512 | G72: =F72 -> 65512 | J72: 52890 | K72: 0 | L72: 0 | P72: =G72-I72-J72-K72-L72-M72 -> 12622
A73: Rīgas Dzemdību nams | F73: 336892 | G73: =F73 -> 336892 | J73: 0 | K73: 0 | L73: 79214 | M73: =Dzemd_904!B41 -> 106275 | P73: =G73-I73-J73-K73-L73-M73 -> 151403

Sheet Jekabp_899
J1: 1.2.pielikums
J2: Par finanšu līdzekļu piešķiršanu no valsts budžeta programmas “Līdzekļi neparedzētiem gadījumiem”
A3: SIA Jēkabpils reģionālā slimnīca, reģ. Nr.50003356621 | G3: decembris | H3: =G15 -> 41401.36
G4: janvāris | H4: =G24 -> 9858.78
G5: februāris | H5: =G16 -> 2178
G6: marts | H6: =G20 -> 135036
G7: maijs | H7: =G22+G23 -> 27104
G8: jūnijs | H8: =G21 -> 30845.32
G9: jūlijs | H9: =G17 -> 2744.28
D11: Informācija par finanšu līdzekļu izlietojumu
A12: Medicīnas ierīce | B12: Skaits | C12: Plānotā summa (ar PVN), EUR | D12: Pavadzīme | H12: Maksājuma uzdevums | J12: Komentārs par izpildes progresu
D13: Pavadzīmes Nr. | E13: Datums | F13: Piegādātājs | G13: Summa ( ar PVN) EUR | H13: Nr. | I13: Summa
A14: x | C14: =C15+C16+C17+C18+C19+C20+C21+C22+C23+C24+C25 -> 1042192 | D14: x | E14: x | F14: x | G14: =G15+G16+G20+G24+G22+G23+G21 -> 246423.46 | H14: x | I14: =I15+I16+I20+I24+I22+I23+I21 -> 215578.14 | J14: x
A15: Multifunkcionālās reanimācijas gulta, elektriska | B15: 4 | C15: 30800 | D15: 118045 | E15: 22.12.2021. | F15: ARBOR MEDICAL KORPORĀCIJA SIA | G15: 41401.36 | H15: 27.12.21.086651 | I15: =G15 -> 41401.36 | J15: Segti no 2021. gada avansa finansējuma
A16: Pacenta skapīti ar statīviem | B16: 4 | C16: 2400 | D16: 200134 | E16: 04.02.2022. | F16: ARBOR MEDICAL KORPORĀCIJA SIA | G16: 2178 | H16: 21.02.22 nr.088479 | I16: 2178 | J16: segti no FM Rīk. Nr.303
A17: Procedūru rati | B17: 4 | C17: 3000 | D17: 205726 | E17: 27.07.2022. | F17: ARBOR MEDICAL KORPORĀCIJA SIA | G17: 2744.28 | J17: Papildus nepieciešams finansējums, kas iekļauts rīkojuma projektā
A18: Māsu novērošanas postenis un kameras pacientu novērošanai | B18: 1 | C18: 5000 | J18: Nepirksim
A19: Slūžas | B19: 2 | C19: 3000 | J19: Nepirksim
A20: Mākslīgās plaušu ventilācijas aparāti (NIVA, APST, INV) | B20: 4 | C20: 132000 | D20: 201594 | E20: 21.03.2022. | F20: ARBOR MEDICAL KORPORĀCIJA SIA | G20: 135036 | H20: 25.04.22. NR.090590 | I20: 135036 | J20: segti no FM Rīk. Nr.303
A21: Vitālo rādītāju moniori | B21: 4 | C21: 30000 | D21: 204516 | E21: 16.06.2022. | F21: ARBOR MEDICAL KORPORĀCIJA SIA | G21: 30845.32 | J21: apstiprināts 2022. gada 16.augusta MK sēdē
A22: Perfuzori | B22: 24 | C22: 31992 | D22: 309140 | E22: 05.05.2022. | F22: B.BRAUN MEDICAL | G22: 23232 | H22: 19.05.22. NR.091406 | I22: 23232 | J22: segti no FM Rīk. Nr.426
A23: Enterālās barošanas sūknis | B23: 4 | C23: 4000 | D23: 309140 | E23: 05.05.2022. | F23: B.BRAUN MEDICAL | G23: 3872 | H23: 19.05.22. NR.091406 | I23: 3872 | J23: segti no FM Rīk. Nr.426
A24: Iekštelpu pārveide (cauruļu maiņa) - steidzama | C24: 150000 | D24: 036/2021. | E24: 05.01.2022. | F24: NMS ELPA SIA | G24: 9858.78 | H24: 19.01.22.087498 | I24: =G24 -> 9858.78 | J24: segti no FM Rīk. Nr.303
A25: Ārējā infrastruktūras uzlabošana - skābekļa balons, attvaikotājsistēm, balona uzstādīšanas infrastruktūra un cauruļu novadīšana līdz stacionāriem) | C25: 650000
A28: Avansā izmaksāts 2021.gadā | B28: =H3 -> 41401.36
A30: Faktiski apgūts finansējums 2021. gadā | B30: =H3 -> 41401.36
A31: Faktiski apgūts 2022. gadā (segti no FM Rīk. Nr.303) | B31: =ROUNDUP(H4+H5+H6,0) -> 147073
A32: Faktiski apgūts 2022. gadā (segti no FM Rīk. Nr.426) | B32: =H7 -> 27104
A33: Faktiski apgūts 2022. gadā (apstiprināts 2022. gada 16.augusta MK sēdē) | B33: =ROUNDUP(H8,0) -> 30846
A34: Papildus nepieciešams finansējums 2022. gadā (jaunie rēķini par periodu jūnijs) | B34: =ROUNDUP(H9,0) -> 2745

Sheet Vidzem_899
J1: 1.3.pielikums
A2: SIA "Vidzemes slimnīca" | J2: Par finanšu līdzekļu piešķiršanu no valsts budžeta programmas “Līdzekļi neparedzētiem gadījumiem”
F3: oktobris | G3: =G15+G20+G34+G38 -> 15684.02
F4: novembris | G4: =G18+G21+G27+G35 -> 43557.58
F5: decembris | G5: =G19+G33 -> 21845.34
F6: janvāris | G6: =G36 -> 3303.3
F7: marts | G7: =G17+G23+G26+G32 -> 119378.6
F8: aprīlis | G8: =G16 -> 104544
F9: jūnijs | G9: =G28+G30 -> 3188.35
A10: Informācija par finanšu līdzekļu izlietojumu (līgums Nr. VS/2021-395 )
A11: Plānotais finansējums | D11: Informācija par finanšu līdzekļu izlietojumu
A12: Pozīcijas nosaukums | B12: Skaits | C12: Plānotā summa (ar PVN), EUR | D12: Pavadzīme | H12: Maksājuma uzdevums | J12: Komentārs par izpildes progresu
D13: Pavadzīmes Nr. | E13: Datums | F13: Piegādātājs | G13: Summa ( ar PVN) EUR | H13: Nr. | I13: Summa
A14: KOPĀ, t.sk. | B14: =SUM(B15:B38) -> 332 | C14: =SUM(C15:C38) -> 570200 | G14: =SUM(G15:G38) -> 311501.19 | I14: =SUM(I15:I38) -> 310660.77
A15: Aktīvie pretizgulējumu matrači | B15: 16 | C15: 16000 | D15: S01816 | E15: 21.10.2021. | F15: UAB Slaugivita | G15: 4842.42 | H15: 21-05721 | I15: 4002 | J15: Segti no 2021. gada avansa finansējuma
A16: Pacientu novērošanas monitori | B16: 30 | C16: 120000 | D16: GRAINALV277 | E16: 11.04.2022. | F16: UAB Graina Latvia - filiāle | G16: 104544 | H16: 22-09631 | I16: 104544 | J16: segti no FM Rīk. Nr.426
A17: Perfūzijas sūkņi | B17: 40 | C17: 48000 | D17: 306532 BLV | E17: 21.03.2022. | F17: SIA B.Braun Medical | G17: 38720 | H17: 22-09062 | I17: 38720 | J17: segti no FM Rīk. Nr.303
A18: Mākslīgā plaušu ventilācijas iekārta | B18: 5 | C18: 75000 | D18: ARB 116357 | E18: 04.11.2021. | F18: SIA Arbor Medical Korporācija | G18: 9377.5 | H18: 21-06561 | I18: 9377.5 | J18: Segti no 2021. gada avansa finansējuma
A19: Baktericīdais gaisa caurplūdes recirkulators | B19: 30 | C19: 18000 | D19: AM 1335 | E19: 06.12.2021. | F19: SIA Airmed | G19: 15500.1 | H19: 21-07205 | I19: 15500.1 | J19: Segti no 2021. gada avansa finansējuma
A20: Augstas plūsmas skābekļa terapijas iekārtas | B20: 6 | C20: 36000 | D20: ELPA 022529 | E20: 25.10.2021. | F20: SIA NMS ELPA | G20: 60.5 | H20: 21-05969 | I20: 60.5 | J20: Segti no 2021. gada avansa finansējuma
D21: ELPA 022753 | E21: 22.11.2021. | F21: SIA NMS ELPA | G21: 27844.52 | H21: 21-06703 | I21: 8835.42 | J21: Segti no 2021. gada avansa finansējuma
H22: 21-06963 | I22: 19009.1 | J22: Segti no 2021. gada avansa finansējuma
A23: Hipoksijas – hiperoksijas terapijas ierīce | B23: 1 | C23: 55000 | D23: IT 003109 | E23: 04.03.2022. | F23: SIA Industriālās tehnoloģijas | G23: 45278.2 | H23: 22-08965 | I23: 45278.2 | J23: segti no FM Rīk. Nr.303
A24: Kardiotokogrāfs | B24: 1 | C24: 2800
A25: Mobila ultrasonogrāfijas iekārta | B25: 1 | C25: 40000
A26: Funkcionālās gultas (ar pasīviem pretizgulējumu matračiem) | B26: 10 | C26: 25000 | D26: ARB 201830 | E26: 25.03.2022. | F26: SIA Arbor Medical Korporācija | G26: 27467 | H26: 22-09063 | I26: 27467 | J26: segti no FM Rīk. Nr.303
A27: Instrumentu un manipulāciju galdiņi | B27: 10 | C27: 8000 | D27: ARB 117129 | E27: 26.11.2021. | F27: SIA Arbor Medical Korporācija | G27: 1422.96 | H27: 21-06862 | I27: 1422.96 | J27: Segti no 2021. gada avansa finansējuma
D28: MB 3775 | E28: 27.06.2022. | F28: UAB Metalo broliai | G28: 828.85 | H28: 22-10846 | I28: 828.85 | J28: Papildus nepieciešams finansējums, kas iekļauts rīkojuma projektā
A29: Asins kultūru analizators | B29: 1 | C29: 46000
A30: Medicīniskais ledusskapis | B30: 3 | C30: 7800 | D30: GEN220301-7 | E30: 09.06.2022. | F30: SIA GenMedica Baltic | G30: 2359.5 | H30: 22-10642 | I30: 2359.5 | J30: Papildus nepieciešams finansējums, kas iekļauts rīkojuma projektā
A31: Centrifūga | B31: 1 | C31: 8000
A32: Pacientu pārvietošanas aprīkojums | B32: 10 | C32: 16000 | D32: AM220300549 | E32: 30.03.2022. | F32: SIA A.Medical | G32: 7913.4 | H32: 22-09132 | I32: 7913.4 | J32: segti no FM Rīk. Nr.303
A33: Līķu rati | B33: 4 | C33: 8000 | D33: ELPA 023077 | E33: 29.12.2021. | F33: SIA NMS ELPA | G33: 6345.24 | H33: 22-07469 | I33: 6345.24 | J33: Segti no 2021. gada avansa finansējuma
A34: Ūdens sagatavošanas sistēma | B34: 1 | C34: 4600 | D34: WAT21 2-0846 | E34: 26.10.2021. | F34: WATEX SIA | G34: 4222.9 | H34: 21-05959 | I34: 4222.9 | J34: Segti no 2021. gada avansa finansējuma
A35: Skābekļa terapijas ierīces | B35: 150 | C35: 12000 | D35: ELPA 022765 | E35: 22.11.2021. | F35: SIA NMS ELPA | G35: 4912.6 | H35: 21-06947 | I35: 4912.6 | J35: Segti no 2021. gada avansa finansējuma
D36: ELPA 023296 | E36: 28.01.2022. | F36: SIA NMS ELPA | G36: 3303.3 | H36: 22-08325 | I36: 3303.3 | J36: segti no FM Rīk. Nr.303
A37: Defibrilators | B37: 2 | C37: 16000
A38: Enterālās barošanas sūkņi | B38: 10 | C38: 8000 | D38: 297430 BLV | E38: 11.10.2021. | F38: SIA B.Braun Medical | G38: 6558.2 | H38: 21-05792 | I38: 6558.2 | J38: Segti no 2021. gada avansa finansējuma
A41: Avansā izmaksāts 2021.gadā | B41: =G3+G4+G5 -> 81086.94
A43: Faktiski apgūts finansējums 2021. gadā | B43: =G3+G4+G5 -> 81086.94
A44: Faktiski apgūts 2022. gadā (segti no FM Rīk. Nr.303) | B44: =ROUNDUP(G6+G7,0) -> 122682
A45: Faktiski apgūts 2022. gadā (2022.gada 6.jūlija FM rīk.426) | B45: =G8 -> 104544
A46: Papildus nepieciešams finansējums 2022. gadā | B46: =ROUNDUP(G9,0) -> 3189

Sheet R.2.sl_899
J1: 1.4.pielikums
A2: SIA "Rīgas 2.slimnīca" | J2: Par finanšu līdzekļu piešķiršanu no valsts budžeta programmas “Līdzekļi neparedzētiem gadījumiem”
F3: februāris | G3: =G16 -> 11331.24
F4: marts | G4: =G14+G15+G23 -> 135176.85
F5: aprīlis | G5: =G20+G24 -> 5813.26
F6: maijs | G6: =G18 -> 12046.76
F7: jūlijs | G7: =G19 -> 2206.68
A8: Informācija par finanšu līdzekļu izlietojumu - PAPILDUS FINANSĒJUMS
A9: Plānotais finansējums | D9: Informācija par finanšu līdzekļu izlietojumu
A10: Pozīcijas nosaukums | B10: Skaits | C10: Plānotā summa (ar PVN), EUR | D10: Pavadzīme | H10: Maksājuma uzdevums | J10: Komentārs par izpildes progresu
D11: Pavadzīmes Nr. | E11: Datums | F11: Piegādātājs | G11: Summa ( ar PVN) EUR | H11: Nr. | I11: Summa
A12: KOPĀ, t.sk. | C12: =SUM(C13:C23) -> 302730.2 | G12: =SUM(G13:G24) -> 166574.79 | I12: =SUM(I13:I24) -> 166574.79
A13: 1. Skābekļa pieslēguma sistēmas izbūve
A14: 1.1. Skābekļa pieslēguma sistēmas izbūve, nodrošinot skābekļa pieslēgumu slimnīcas nodaļās | B14: 1 | C14: 166950 | D14: 198/2022 | E14: 30.03.2022. | F14: NMS ELPA, sia | G14: 112577.06 | H14: 22-01061 | I14: 112577.06 | J14: daļēji segti no FM Rīk. Nr.303 (segti 65 356.06 euro). Papildus segti no FM Rīk. Nr.337 47 221 euro.
A15: 1.2. Skābekļa tvertnes (3 tonnas ) noma | B15: 1 | C15: 45560 | D15: 091-22027 | E15: 31.03.2022. | F15: Elme Messer L, sia | G15: 14131.48 | H15: 22-01062 | I15: 14131.48 | J15: segti no FM Rīk. Nr.303
A16: 1.3. Slimnīcas palātu skābekļa sistēmas | B16: 150 | C16: 22800 | D16: 091-21954 | E16: 17.02.2022. | F16: Elme Messer | G16: 11331.24 | H16: 22-00638 | I16: 11331.24 | J16: segti no FM Rīk. Nr.303
A17: 2. Medicīnas iekārtas un aprīkojums
A18: 2.1. Neinvazīvais portatīvais ventilators | B18: 1 | C18: 6050 | D18: REM18205 | E18: 26.05.2022. | F18: Remedine, SIA | G18: 12046.76 | H18: 22-01828 | I18: 12046.76 | J18: apstiprināts 2022. gada 16.augusta MK sēdē
A19: 2.2. 3 veida maskas (M, L, XL), 2 no katra | B19: 6 | C19: 3630 | D19: REM18375 | E19: 44746 | F19: Remedine, SIA | G19: 2206.68 | H19: 22-02580 | I19: 2206.68 | J19: Papildus nepieciešams finansējums, kas iekļauts rīkojuma projektā
A20: 2.3. Skābekļa ģenerators (koncentrators) | B20: 3 | C20: 3630 | D20: REM 18038 | E20: 22.04.2022. | F20: Remedine, SIA | G20: 2183.99 | H20: 22-01448 | I20: 2183.99 | J20: segti no FM Rīk. Nr.436
A21: 2.4. Skābekļa koncentrācijas detektors | B21: 5 | C21: 2540
A22: 3. IT infrastruktūras izveidošana
A23: 3.1. Pacientu attālināta monitoringa izveidošana 55 palātās ar monitoringa staciju (5 gab.) katras nodaļas māsu postenī | B23: 1 | C23: 51570.2 | D23: RIX22 04627 | E23: 23.03.2022. | F23: Elektrika, SIA | G23: 8468.31 | H23: 22-01373 | I23: 8468.31 | J23: segti no FM Rīk. Nr.436
D24: RIX22 05612 | E24: 21.04.2022. | G24: 3629.27 | H24: 22-01449 | I24: 3629.27 | J24: segti no FM Rīk. Nr.436
A27: Avansā izmaksāts 2021.gadā | B27: 0
A28: Faktiski apgūts finansējums 2021. gadā | B28: 0
A29: Faktiski apgūts 2022. gadā (segti no FM Rīk. Nr.303) | B29: 90819
A30: Faktiski apgūts 2022. gadā (segti no FM Rīk. Nr.337) | B30: =47221 -> 47221
A31: Faktiski apgūts 2022. gadā (segti no FM Rīk. Nr.436) | B31: =ROUNDUP(G20+G23+G24,0) -> 14282
A32: Faktiski apgūts 2022. gadā (apstiprināts 2022. gada 16.augusta MK sēdē) | B32: =ROUNDUP(G6,0) -> 12047
A33: Papildus nepieciešams finansējums 2022. gadā (jaunie rēķini par periodu maijs) | B33: =ROUNDUP(G7,0) -> 2207

Sheet Dzemd_904
J1: 1.5.pielikums
J2: Par finanšu līdzekļu piešķiršanu no valsts budžeta programmas “Līdzekļi neparedzētiem gadījumiem”
F3: februāris | G3: =G16+G18+G21+G22 -> 7330.18
A4: _Rīgas Dzemdību nams SIA___ | F4: maijs | G4: =G12+G13+G14+G17+G19+G25+G27+G31 -> 97124.28
F5: jūniijs | G5: =G15+G32 -> 25881.9
F6: jūlijs | G6: =G23+G33 -> 106274.3
A7: Informācija par finanšu līdzekļu izlietojumu
A8: Plānotais finansējums | D8: Informācija par finanšu līdzekļu izlietojumu
A9: Pozīcijas nosaukums | B9: Skaits | C9: Plānotā summa (ar PVN), EUR | D9: Pavadzīme | H9: Maksājuma uzdevums | J9: Komentārs par izpildes progresu
D10: Pavadzīmes Nr. | E10: Datums | F10: Piegādātājs | G10: Summa ( ar PVN) EUR | H10: Nr. | I10: Summa
A11: KOPĀ, t.sk. | B11: =SUM(B12:B33) -> 40 | C11: =SUM(C12:C33) -> 388016 | G11: =SUM(G12:G33) -> 236610.66 | I11: =SUM(I12:I33) -> 236610.66
A12: Elektriski regulējama dzemdību gulta-galds * | B12: 2 | C12: 41624 | D12: ARB203681 | E12: 24.05.2022. | F12: Arbor Medical Korporācija SIA | G12: 47383.6 | H12: 22-05687 | I12: 47383.6 | J12: apstiprināts 2022. gada 16.augusta MK sēdē
A13: Perfuzors – infūzijas sūknis dozētai medikamentu ievadei | B13: 4 | C13: 2747 | D13: ARB203343 | E13: 13.05.2022. | F13: Arbor Medical Korporācija SIA | G13: =1452 -> 1452 | H13: 22-05604 | I13: =1452 -> 1452 | J13: apstiprināts 2022. gada 16.augusta MK sēdē
D14: TR222318 | E14: 13.06.2022. | F14: Tradintek SIA | G14: 2214.3 | H14: 22-05684 | I14: =G14 -> 2214.3 | J14: apstiprināts 2022. gada 16.augusta MK sēdē
A15: Termostats infūziju šķīdumu sildīšanai | B15: 1 | C15: 1029 | D15: ARB204773 | E15: 28.06.2022. | F15: Arbor Medical Korporācija SIA | G15: 1076.9 | H15: 22-05847 | I15: 1076.9 | J15: apstiprināts 2022. gada 16.augusta MK sēdē
A16: Ķirurģiskais vakuumsūknis * | B16: 2 | C16: 6050 | D16: ELPA023523 | E16: 24.02.2022. | F16: NMS ELPA SIA | G16: =1934.79 -> 1934.79 | H16: 22-04726 22-05606 | I16: =1934.79 -> 1934.79 | J16: segti no FM Rīk. Nr.337
D17: ELPA024194 | E17: 11.05.2022. | F17: NMS ELPA SIA | G17: 1691.58 | H17: 22-05606 | I17: =G17 -> 1691.58 | J17: apstiprināts 2022. gada 16.augusta MK sēdē
A18: Pacienta vitālo funkciju novērošanas monitors * | B18: 3 | C18: 14048 | D18: ARB200763 | E18: 24.02.2022. | F18: Arbor Medical Korporācija SIA | G18: =3811.5 -> 3811.5 | H18: 22-04839 | I18: =3811.5 -> 3811.5 | J18: segti no FM Rīk. Nr.337
D19: ARB20304 | E19: 09.06.2022. | F19: Arbor Medical Korporācija SIA | G19: 9365.4 | H19: 22-05686 | I19: =G19 -> 9365.4 | J19: apstiprināts 2022. gada 16.augusta MK sēdē
A20: Kardiotokogrāfs (bezvadu) * | B20: 3 | C20: 32489
A21: Izmeklējumu lampa LED uz statīva * | B21: 2 | C21: 2831 | D21: ELPA023596 | E21: 25.02.2022. | F21: NMS ELPA SIA | G21: =1269.29 -> 1269.29 | H21: 22-04717 | I21: 1269.29 | J21: segti no FM Rīk. Nr.337
A22: Elektroniskie zīdaiņu (jaundzimušo) medicīniskie svari | B22: 3 | C22: 900 | D22: ELPA023523 | E22: 24.02.2022. | F22: NMS ELPA SIA | G22: 314.6 | H22: 22-04726 | I22: 314.6 | J22: segti no FM Rīk. Nr.337
A23: Galdiņš (procedūru) medikamentu, materiāla un aprūpes priekšmetu novietošanai | B23: 3 | C23: 2795 | D23: ARB205332 | E23: 44755 | F23: Arbor Medical Korporācija SIA | G23: 1004.3 | H23: 22-06006 | I23: 1004.3 | J23: Papildus nepieciešams finansējums, kas iekļauts rīkojuma projektā
A24: Termostasts | B24: 1 | C24: 1210
A25: Nazālā divfāziskā PMV iekārta | B25: 1 | C25: 20570 | D25: MED221279 | E25: 13.06.2022. | F25: Medeksperts SIA | G25: 18755 | H25: 22-05685 | I25: 18755 | J25: apstiprināts 2022. gada 16.augusta MK sēdē
A26: Jaundzimušo inkubators * | B26: 1 | C26: 18150
A27: Perfuzors | B27: 3 | C27: 3267 | D27: TR222318 | E27: 13.06.2022. | F27: Tradintek SIA | G27: 2214.3 | H27: 22-05684 | I27: 2214.3 | J27: apstiprināts 2022. gada 16.augusta MK sēdē
A28: Kirurģiskais vakuumsūknis | B28: 1 | C28: 3025
A29: Dzemdību gulta-galds (2 gab.) * | B29: 2 | C29: 41624
A30: Ārējais fetālais KTG monitors (bezvadu) ar Avalon FM20 un FM30 bāzes stacijām * | B30: 3 | C30: 32670
A31: Vitālo funkciju monitors (mini) * | B31: 3 | C31: 14157 | D31: ARB204304 | E31: 09.06.2022. | F31: Arbor Medical Korporācija SIA | G31: 14048.1 | H31: 22-05686 | I31: 14048.1 | J31: apstiprināts 2022. gada 16.augusta MK sēdē
A32: USG planšete DzC5 | B32: 1 | C32: 29040 | D32: ARB204528 | E32: 44728 | F32: Arbor Medical Korporacija SIA | G32: 24805 | H32: 22-05848 | I32: 24805 | J32: apstiprināts 2022. gada 16.augusta MK sēdē
A33: Pārvietojama rtg iekārta | B33: 1 | C33: 119790 | D33: ARB204940 | E33: 44743 | F33: Arbor Medical Korporacija SIA | G33: 105270 | H33: 22-05867 | I33: 105270 | J33: Papildus nepieciešams finansējums, kas iekļauts rīkojuma projektā
A36: Avansā izmaksāts 2021.gadā | B36: =Kopsavilkums!D45 -> 119288
A38: Faktiski apgūts finansējums 2021. gadā | B38: 0
A39: Faktiski apgūts 2022. gadā (segti no FM Rīk. Nr.337) | B39: =G3 -> 7330.18
A40: Faktiski apgūts 2022. gadā (apstiprināts 2022. gada 16.augusta MK sēdē) | B40: =ROUNDUP(G4+G5,0) -> 123007
A41: Papildus nepieciešams finansējums 2022. gadā (jaunie rēķini par periodu (jūlijs) | B41: =ROUNDUP(G6,0) -> 106275
