Workbook
Name T13l6: '[1]4.piel.'!#REF!
Name X: [2]transf!#REF!
Name X: [2]transf!#REF!
Name X: '[3]6_pielikums'!#REF!
Name X: [2]transf!#REF!
Name X: [2]transf!#REF!
Name X: [2]transf!#REF!
Name X: [2]transf!#REF!
Name X: [4]transf!#REF!

Sheet Kopsavilkums
E1: 2. pielikums anotācijai
E2: likumprojektam "Grozījumi likumā “Par valsts pensijām""
E3: 1.tabula
A5: Prognozētie papildus izdevumi indeksācijai 2025.-2028.gads (kopsavilkums)
A7: Nosaukums | B7: 2025.gads | C7: 2026.gads | D7: 2027.gads | E7: 2028.gads
A8: 1. Labklājības ministrija kopā | B8: =B9+B11 -> 5724501 | C8: =C9+C11 -> 27258236 | D8: =D9+D11 -> 44085632 | E8: =E9+E11 -> 60080284
A9: 1.1. LM pamatbudžets | B9: =B10 -> 267381 | C9: =C10 -> 1316786 | D9: =D10 -> 2229967 | E9: =E10 -> 3153576
A10: apakšprogrammā 20.02.00 “Izdienas pensijas" | B10: =LM_izdienas_pens!I11 -> 267381 | C10: =LM_izdienas_pens!I18 -> 1316786 | D10: =LM_izdienas_pens!I26 -> 2229967 | E10: =LM_izdienas_pens!I35 -> 3153576
A11: 1.2. Speciālais budžets | B11: =SUM(B12:B14) -> 5457120 | C11: =SUM(C12:C14) -> 25941450 | D11: =SUM(D12:D14) -> 41855665 | E11: =SUM(E12:E14) -> 56926708
A12: apakšprogrammā 04.01.00 “Valsts pensiju speciālais budžets” | B12: =SB_index2025!I14+SB_index2025!I15+SB_index2025!I16+SB_index2025!I18+SB_index2025!I19+SB_index2025!I20 -> 5255523 | C12: =SB_index2026!I14+SB_index2026!I15+SB_index2026!I16+SB_index2026!I18+SB_index2026!I19+SB_index2026!I20+SB_index2026!I33+SB_index2026!I34+SB_index2026!I35+SB_index2026!I37+SB_index2026!I38+SB_index2026!I39 -> 24954350 | D12: =SB_index2027!I14+SB_index2027!I15+SB_index2027!I16+SB_index2027!I18+SB_index2027!I19+SB_index2027!I20+SB_index2027!I32+SB_index2027!I33+SB_index2027!I34+SB_index2027!I36+SB_index2027!I37+SB_index2027!I38+SB_index2027!I50+SB_index2027!I51+SB_index2027!I52+SB_index2027!I55+SB_index2027!I56 -> 40250726 | E12: =SB_index2028!I68+SB_index2028!I69+SB_index2028!I70+SB_index2028!I72+SB_index2028!I73+SB_index2028!I74+SB_index2028!I14+SB_index2028!I15+SB_index2028!I16+SB_index2028!I18+SB_index2028!I19+SB_index2028!I20+SB_index2028!I32+SB_index2028!I33+SB_index2028!I34+SB_index2028!I36+SB_index2028!I37+SB_index2028!I38+SB_index2028!I50+SB_index2028!I51+SB_index2028!I52+SB_index2028!I54+SB_index2028!I55+SB_index2028!I56 -> 54870833
A13: apakšprogrammā 04.03.00 “Darba negadījumu speciālais budžets” | B13: =SB_index2025!I21+SB_index2025!I22 -> 106686 | C13: =SB_index2026!I21+SB_index2026!I22+SB_index2026!I40+SB_index2026!I41 -> 534107 | D13: =SB_index2027!I21+SB_index2027!I22+SB_index2027!I39+SB_index2027!I40+SB_index2027!I57+SB_index2027!I58 -> 874704 | E13: =SB_index2028!I21+SB_index2028!I22+SB_index2028!I39+SB_index2028!I40+SB_index2028!I57+SB_index2028!I58+SB_index2028!I75+SB_index2028!I76 -> 1106513
A14: apakšprogrammā 04.04.00 “Invaliditātes, maternitātes un slimības speciālais budžets” | B14: =SB_index2025!I17 -> 94911 | C14: =SB_index2026!I17+SB_index2026!I36 -> 452993 | D14: =SB_index2027!I17+SB_index2027!I35+SB_index2027!I53 -> 730235 | E14: =SB_index2028!I17+SB_index2028!I35+SB_index2028!I53+SB_index2028!I71 -> 949362
A15: 2. Aizsardzības ministrija kopā | B15: =B16 -> 59670 | C15: =C16 -> 300921 | D15: =D16 -> 552563 | E15: =E16 -> 814669
A16: budžeta programmā 31.00.00 “Militārpersonu pensiju fonds” | B16: =AiM_izdienas_pens!E8 -> 59670 | C16: =AiM_izdienas_pens!E12 -> 300921 | D16: =AiM_izdienas_pens!E17 -> 552563 | E16: =AiM_izdienas_pens!E23 -> 814669
A17: Kopā | B17: =B8+B15 -> 5784171 | C17: =C8+C15 -> 27559157 | D17: =D8+D15 -> 44638195 | E17: =E8+E15 -> 60894953
A20: Ilze Štrausa Labklājības ministrija Finanšu vadības departaments Tālr. 60008559 Ilze.Strausa@lm.gov.lv

Sheet SB_index2025
I1: 2. pielikums anotācijai
I2: likumprojektam "Grozījumi likumā “Par valsts pensijām""
I3: 2.tabula
A5: Pensiju indeksāciju aprēķins valsts sociālās apdrošināšanas speciālajam budžetam 2025.gadā
A7: Plānotie izdevumi 2025. gada pensiju indeksācijām 2025.gadā
A9: Pensijas veids | B9: Pensionāru skaits | C9: Indeksācija 2025. gada oktobrī (indeksi: 50% = 6,10%; 60% = 6,94%, 70% = 7,78%; 80% = 8,61%; 100% no 2024.gada iemaksu algas = 1 518 euro) | H9: Precizētā bāze* | I9: Novirzes pret precizēto bāzi*
C10: Vidējais pensijas apmērs pirms indeksācijas (euro) | D10: Indeksā- cijas apmērs (%) | E10: Pensijas apmēra palielinā- jums (euro) | F10: Pensijas apmērs pēc indeksācijas (euro) | G10: Izdevumi indeksācijai periodā no oktobra līdz decembrim (euro) | H10: Izdevumi indeksācijai periodā no oktobra līdz decembrim (euro)
A11: Izdevumi kopā | G11: =G12+G19+G20+G21+G22 -> 67691072 | H11: =H12+H19+H20+H21+H22 -> 62233952 | I11: =G11-H11 -> 5457120
A12: Valsts pensijas kopā | B12: =B14+B15+B16+B17+B18 -> 517293 | C12: 574.43 | D12: 1.0736 | E12: 42.26 | F12: 616.69 | G12: =G14+G15+G16+G17+G18 -> 65589506 | H12: =H14+H15+H16+H17+H18 -> 60311693 | I12: =G12-H12 -> 5277813
A13: tai skaitā:
A14: Vecuma pensijas kopā | B14: 425375 | C14: 624.42 | D14: 1.0751 | E14: 46.9 | F14: 671.32 | G14: 59850224 | H14: 54712738 | I14: =G14-H14 -> 5137486
A15: Pensijas apgādnieka zaudējuma gadījumā | B15: 14972 | C15: 371.95 | D15: 1.0608 | E15: 22.61 | F15: 394.56 | G15: 1015504 | H15: 989337 | I15: =G15-H15 -> 26167
A16: Izdienas pensijas | B16: 1111 | C16: 711.47 | D16: 1.0588 | E16: 41.84 | F16: 753.31 | G16: 139464 | H16: 120215 | I16: =G16-H16 -> 19249
A17: Invaliditātes pensijas | B17: 75216 | C17: 334.12 | D17: 1.0607 | E17: 20.28 | F17: 354.4 | G17: 4576428 | H17: 4481517 | I17: =G17-H17 -> 94911
A18: Pensijas pēc speciāliem lēmumiem no invaliditātes, maternitātes un slimības speciālā budžeta | B18: 619 | C18: 69.62 | D18: 1.061 | E18: 4.25 | F18: 73.87 | G18: 7886 | H18: 7886 | I18: =G18-H18 -> 0
A19: Apbedīšanas pabalsts (Valsts pensiju speciālais budžets) | B19: 2000 | C19: 963.47 | D19: 1.076 | E19: 73.22 | F19: 1036.69 | G19: 439342 | H19: 399455 | I19: =G19-H19 -> 39887
A20: Pabalsts laulātā nāves gadījumā (Valsts pensiju speciālais budžets) | B20: 6000 | C20: 263.56 | D20: 1.076 | E20: 20.03 | F20: 283.59 | G20: 360550 | H20: 327816 | I20: =G20-H20 -> 32734
A21: Atlīdzība par darbspēju zaudējumu (Darba negadījumu speciālais budžets) | B21: 14032 | C21: 522.6 | D21: 1.0589 | E21: 30.8 | F21: 553.4 | G21: 1296489 | H21: 1190268 | I21: =G21-H21 -> 106221
A22: Atlīdzība par apgādnieka zaudējumu (Darba negadījumu speciālais budžets) | B22: 55 | C22: 515.16 | D22: 1.061 | E22: 31.42 | F22: 546.58 | G22: 5185 | H22: 4720 | I22: =G22-H22 -> 465
A23: *saskaņā ar speciālā budžeta precizētajiem bāzes izdevumiem 2025.-2028.gadam (LM prognoze uz 06.09.2024.)
A26: Ilze Štrausa Labklājības ministrija Finanšu vadības departaments Tālr. 60008559 Ilze.Strausa@lm.gov.lv

Sheet SB_index2026
I1: 2. pielikums anotācijai
I2: likumprojektam "Grozījumi likumā “Par valsts pensijām""
I3: 3.tabula
A5: Pensiju indeksāciju aprēķins valsts sociālās apdrošināšanas speciālajam budžetam 2026.gadā
A7: Plānotie izdevumi 2026. gada pensiju indeksācijām 2026.gadā
A9: Pensijas veids | B9: Pensionāru skaits | C9: Indeksācija 2026. gada oktobrī (indeksi: 50% = 4,31%; 60% = 4,69%, 70% = 5,07%; 80% = 5,44%; 100% no 2025.gada iemaksu algas = 1 612 euro) | H9: Precizētā bāze* | I9: Novirzes pret precizēto bāzi*
C10: Vidējais pensijas apmērs pirms indeksācijas (euro) | D10: Indeksā- cijas apmērs (%) | E10: Pensijas apmēra palielinā- jums (euro) | F10: Pensijas apmērs pēc indeksācijas (euro) | G10: Izdevumi indeksācijai periodā no oktobra līdz decembrim (euro) | H10: Izdevumi indeksācijai periodā no oktobra līdz decembrim (euro)
A11: Izdevumi kopā | G11: =G12+G19+G20+G21+G22 -> 49231211 | H11: =H12+H19+H20+H21+H22 -> 45291651 | I11: =G11-H11 -> 3939560
A12: Valsts pensijas kopā | B12: =B14+B15+B16+B17+B18 -> 520214 | C12: 628.42 | D12: 1.0486 | E12: 30.52 | F12: 658.94 | G12: =G14+G15+G16+G17+G18 -> 47619571 | H12: =H14+H15+H16+H17+H18 -> 43815574 | I12: =G12-H12 -> 3803997
A13: tai skaitā:
A14: Vecuma pensijas kopā | B14: 428171 | C14: 683.76 | D14: 1.0492 | E14: 33.65 | F14: 717.41 | G14: 43223770 | H14: 39525833 | I14: =G14-H14 -> 3697937
A15: Pensijas apgādnieka zaudējuma gadījumā | B15: 14972 | C15: 421.99 | D15: 1.043 | E15: 18.13 | F15: 440.12 | G15: 814331 | H15: 793979 | I15: =G15-H15 -> 20352
A16: Izdienas pensijas | B16: 1022 | C16: 768.19 | D16: 1.0417 | E16: 32 | F16: 800.19 | G16: 98117 | H16: 84796 | I16: =G16-H16 -> 13321
A17: Invaliditātes pensijas | B17: 75517 | C17: 357.66 | D17: 1.0429 | E17: 15.36 | F17: 373.02 | G17: 3478538 | H17: 3406151 | I17: =G17-H17 -> 72387
A18: Pensijas pēc speciāliem lēmumiem no invaliditātes, maternitātes un slimības speciālā budžeta | B18: 532 | C18: 70 | D18: 1.0431 | E18: 3.02 | F18: 73.02 | G18: 4815 | H18: 4815 | I18: =G18-H18 -> 0
A19: Apbedīšanas pabalsts (Valsts pensiju speciālais budžets) | B19: 2000 | C19: 1050.82 | D19: 1.0496 | E19: 52.12 | F19: 1102.94 | G19: 312724 | H19: 285023 | I19: =G19-H19 -> 27701
A20: Pabalsts laulātā nāves gadījumā (Valsts pensiju speciālais budžets) | B20: 6000 | C20: 295.24 | D20: 1.0496 | E20: 14.64 | F20: 309.88 | G20: 263590 | H20: 240270 | I20: =G20-H20 -> 23320
A21: Atlīdzība par darbspēju zaudējumu (Darba negadījumu speciālais budžets) | B21: 14803 | C21: 553.61 | D21: 1.0419 | E21: 23.22 | F21: 576.83 | G21: 1031281 | H21: 947185 | I21: =G21-H21 -> 84096
A22: Atlīdzība par apgādnieka zaudējumu (Darba negadījumu speciālais budžets) | B22: 57 | C22: 548.82 | D22: 1.0431 | E22: 23.65 | F22: 572.47 | G22: 4045 | H22: 3599 | I22: =G22-H22 -> 446
A23: *saskaņā ar speciālā budžeta precizētajiem bāzes izdevumiem 2025.-2028.gadam (LM prognoze uz 06.09.2024.)
A26: Plānotie izdevumi 2025. gada pensiju indeksācijām 2026. gadā
A28: Pensijas veids | B28: Pensionāru skaits | C28: Indeksācija 2025. gada oktobrī (indeksi: 50% = 6,10%; 60% = 6,94%, 70% = 7,78%; 80% = 8,61%; 100% no 2024.gada iemaksu algas = 1 518 euro) | H28: Precizētā bāze* | I28: Novirzes pret precizēto bāzi*
C29: Vidējais pensijas apmērs pirms indeksācijas (euro) | D29: Indeksā- cijas apmērs (%) | E29: Pensijas apmēra palielinā- jums (euro) | F29: Pensijas apmērs pēc indeksācijas (euro) | G29: Izdevumi indeksācijai periodā no janvāra līdz decembrim (euro) | H29: Izdevumi indeksācijai periodā no janvāra līdz decembrim (euro)
A30: Izdevumi kopā | G30: =G31+G38+G39+G40+G41 -> 272647037 | H30: =H31+H38+H39+H40+H41 -> 250645147 | I30: =G30-H30 -> 22001890
A31: Valsts pensijas kopā | B31: =B33+B34+B35+B36+B37 -> 520214 | C31: 574.43 | D31: 1.0736 | E31: 42.26 | F31: 616.69 | G31: =G33+G34+G35+G36+G37 -> 263954917 | H31: =H33+H34+H35+H36+H37 -> 242692992 | I31: =G31-H31 -> 21261925
A32: tai skaitā:
A33: Vecuma pensijas kopā | B33: 428171 | C33: 624.42 | D33: 1.0751 | E33: 46.9 | F33: 671.32 | G33: 240974639 | H33: 220268289 | I33: =G33-H33 -> 20706350
A34: Pensijas apgādnieka zaudējuma gadījumā | B34: 14972 | C34: 371.95 | D34: 1.0608 | E34: 22.61 | F34: 394.56 | G34: 4062203 | H34: 3957998 | I34: =G34-H34 -> 104205
A35: Izdienas pensijas | B35: 1022 | C35: 711.47 | D35: 1.0588 | E35: 41.84 | F35: 753.31 | G35: 513126 | H35: 442362 | I35: =G35-H35 -> 70764
A36: Invaliditātes pensijas | B36: 75517 | C36: 334.12 | D36: 1.0607 | E36: 20.28 | F36: 354.4 | G36: 18377817 | H36: 17997211 | I36: =G36-H36 -> 380606
A37: Pensijas pēc speciāliem lēmumiem no invaliditātes, maternitātes un slimības speciālā budžeta | B37: 532 | C37: 69.62 | D37: 1.061 | E37: 4.25 | F37: 73.87 | G37: 27132 | H37: 27132 | I37: =G37-H37 -> 0
A38: Apbedīšanas pabalsts (Valsts pensiju speciālais budžets) | B38: 2000 | C38: 963.47 | D38: 1.076 | E38: 73.22 | F38: 1036.69 | G38: 1757280 | H38: 1597920 | I38: =G38-H38 -> 159360
A39: Pabalsts laulātā nāves gadījumā (Valsts pensiju speciālais budžets) | B39: 6000 | C39: 263.56 | D39: 1.076 | E39: 20.03 | F39: 283.59 | G39: 1442160 | H39: 1311120 | I39: =G39-H39 -> 131040
A40: Atlīdzība par darbspēju zaudējumu (Darba negadījumu speciālais budžets) | B40: 14803 | C40: 522.6 | D40: 1.0589 | E40: 30.8 | F40: 553.4 | G40: 5471189 | H40: 5023546 | I40: =G40-H40 -> 447643
A41: Atlīdzība par apgādnieka zaudējumu (Darba negadījumu speciālais budžets) | B41: 57 | C41: 515.16 | D41: 1.061 | E41: 31.42 | F41: 546.58 | G41: 21491 | H41: 19569 | I41: =G41-H41 -> 1922
A42: *saskaņā ar speciālā budžeta precizētajiem bāzes izdevumiem 2025.-2028.gadam (LM prognoze uz 06.09.2024.)
A44: Ilze Štrausa Labklājības ministrija Finanšu vadības departaments Tālr. 60008559 Ilze.Strausa@lm.gov.lv

Sheet SB_index2027
I1: 2. pielikums anotācijai
I2: likumprojektam "Grozījumi likumā “Par valsts pensijām""
I3: 4.tabula
A5: Pensiju indeksāciju aprēķins valsts sociālās apdrošināšanas speciālajam budžetam 2027.gadā
A7: Plānotie izdevumi 2027. gada pensiju indeksācijām 2027.gadā
A9: Pensijas veids | B9: Pensionāru skaits | C9: Indeksācija 2027. gada oktobrī (indeksi: 50% = 4,30%; 60% = 4,67%, 70% = 5,05%; 80% = 5,42%; 100% no 2026.gada iemaksu algas = 1 715 euro) | H9: Precizētā bāze* | I9: Novirzes pret precizēto bāzi*
C10: Vidējais pensijas apmērs pirms indeksācijas (euro) | D10: Indeksā- cijas apmērs (%) | E10: Pensijas apmēra palielinā- jums (euro) | F10: Pensijas apmērs pēc indeksācijas (euro) | G10: Izdevumi indeksācijai periodā no augusta līdz decembrim (euro) | H10: Izdevumi indeksācijai periodā no oktobra līdz decembrim (euro)
A11: Izdevumi kopā | G11: =G12+G19+G20+G21+G22 -> 52843222 | H11: =H12+H19+H20+H21+H22 -> 49002736 | I11: =G11-H11 -> 3840486
A12: Valsts pensijas kopā | B12: =B14+B15+B16+B17+B18 -> 522946 | C12: 672.17 | D12: 1.0485 | E12: 32.58 | F12: 704.75 | G12: =G14+G15+G16+G17+G18 -> 51110394 | H12: =H14+H15+H16+H17+H18 -> 47365788 | I12: =G12-H12 -> 3744606
A13: tai skaitā:
A14: Vecuma pensijas kopā | B14: 430757 | C14: 729.96 | D14: 1.0491 | E14: 35.86 | F14: 765.82 | G14: 46343734 | H14: 42687737 | I14: =G14-H14 -> 3655997
A15: Pensijas apgādnieka zaudējuma gadījumā | B15: 14972 | C15: 462.98 | D15: 1.0429 | E15: 19.86 | F15: 482.84 | G15: 892217 | H15: 872389 | I15: =G15-H15 -> 19828
A16: Izdienas pensijas | B16: 940 | C16: 810.97 | D16: 1.0417 | E16: 33.84 | F16: 844.81 | G16: 95421 | H16: 83602 | I16: =G16-H16 -> 11819
A17: Invaliditātes pensijas | B17: 75819 | C17: 387.08 | D17: 1.0429 | E17: 16.59 | F17: 403.67 | G17: 3774611 | H17: 3717649 | I17: =G17-H17 -> 56962
A18: Pensijas pēc speciāliem lēmumiem no invaliditātes, maternitātes un slimības speciālā budžeta | B18: 458 | C18: 74.66 | D18: 1.043 | E18: 3.21 | F18: 77.87 | G18: 4411 | H18: 4411 | I18: =G18-H18 -> 0
A19: Apbedīšanas pabalsts (Valsts pensiju speciālais budžets) | B19: 2000 | C19: 1118.95 | D19: 1.0495 | E19: 55.39 | F19: 1174.34 | G19: 332328 | H19: 304319 | I19: =G19-H19 -> 28009
A20: Pabalsts laulātā nāves gadījumā (Valsts pensiju speciālais budžets) | B20: 6000 | C20: 312.65 | D20: 1.0495 | E20: 15.47 | F20: 328.12 | G20: 278568 | H20: 255119 | I20: =G20-H20 -> 23449
A21: Atlīdzība par darbspēju zaudējumu (Darba negadījumu speciālais budžets) | B21: 15617 | C21: 566.92 | D21: 1.0421 | E21: 23.86 | F21: 590.78 | G21: 1117539 | H21: 1073509 | I21: =G21-H21 -> 44030
A22: Atlīdzība par apgādnieka zaudējumu (Darba negadījumu speciālais budžets) | B22: 59 | C22: 577.14 | D22: 1.043 | E22: 24.82 | F22: 601.96 | G22: 4393 | H22: 4001 | I22: =G22-H22 -> 392
A23: *saskaņā ar speciālā budžeta precizētajiem bāzes izdevumiem 2025.-2028.gadam (LM prognoze uz 06.09.2024.)
A25: Plānotie izdevumi 2026. gada pensiju indeksācijām 2027. gadā
A27: Pensijas veids | B27: Pensionāru skaits | C27: Indeksācija 2026. gada oktobrī (indeksi: 50% = 4,31%; 60% = 4,69%, 70% = 5,07%; 80% = 5,44%; 100% no 2025.gada iemaksu algas = 1 612 euro) | H27: Precizētā bāze* | I27: Novirzes pret precizēto bāzi*
C28: Vidējais pensijas apmērs pirms indeksācijas (euro) | D28: Indeksā- cijas apmērs (%) | E28: Pensijas apmēra palielinā- jums (euro) | F28: Pensijas apmērs pēc indeksācijas (euro) | G28: Izdevumi indeksācijai periodā no janvāra līdz decembrim (euro) | H28: Izdevumi indeksācijai periodā no janvāra līdz decembrim (euro)
A29: Izdevumi kopā | G29: =G30+G37+G38+G39+G40 -> 198213628 | H29: =H30+H37+H38+H39+H40 -> 182345923 | I29: =G29-H29 -> 15867705
A30: Valsts pensijas kopā | B30: =B32+B33+B34+B35+B36 -> 522946 | C30: 628.42 | D30: 1.0486 | E30: 30.52 | F30: 658.94 | G30: =G32+G33+G34+G35+G36 -> 191540403 | H30: =H32+H33+H34+H35+H36 -> 176232493 | I30: =G30-H30 -> 15307910
A31: tai skaitā:
A32: Vecuma pensijas kopā | B32: 430757 | C32: 683.76 | D32: 1.0492 | E32: 33.65 | F32: 717.41 | G32: 173939677 | H32: 159052715 | I32: =G32-H32 -> 14886962
A33: Pensijas apgādnieka zaudējuma gadījumā | B33: 14972 | C33: 421.99 | D33: 1.043 | E33: 18.13 | F33: 440.12 | G33: 3257308 | H33: 3176460 | I33: =G33-H33 -> 80848
A34: Izdienas pensijas | B34: 940 | C34: 768.19 | D34: 1.0417 | E34: 32 | F34: 800.19 | G34: 360960 | H34: 312005 | I34: =G34-H34 -> 48955
A35: Invaliditātes pensijas | B35: 75819 | C35: 357.66 | D35: 1.0429 | E35: 15.36 | F35: 373.02 | G35: 13965860 | H35: 13674715 | I35: =G35-H35 -> 291145
A36: Pensijas pēc speciāliem lēmumiem no invaliditātes, maternitātes un slimības speciālā budžeta | B36: 458 | C36: 70 | D36: 1.0431 | E36: 3.02 | F36: 73.02 | G36: 16598 | H36: 16598 | I36: =G36-H36 -> 0
A37: Apbedīšanas pabalsts (Valsts pensiju speciālais budžets) | B37: 2000 | C37: 1050.82 | D37: 1.0496 | E37: 52.12 | F37: 1102.94 | G37: 1250880 | H37: 1140000 | I37: =G37-H37 -> 110880
A38: Pabalsts laulātā nāves gadījumā (Valsts pensiju speciālais budžets) | B38: 6000 | C38: 295.24 | D38: 1.0496 | E38: 14.64 | F38: 309.88 | G38: 1054080 | H38: 961200 | I38: =G38-H38 -> 92880
A39: Atlīdzība par darbspēju zaudējumu (Darba negadījumu speciālais budžets) | B39: 15617 | C39: 553.61 | D39: 1.0419 | E39: 23.22 | F39: 576.83 | G39: 4351521 | H39: 3997327 | I39: =G39-H39 -> 354194
A40: Atlīdzība par apgādnieka zaudējumu (Darba negadījumu speciālais budžets) | B40: 59 | C40: 548.82 | D40: 1.0431 | E40: 23.65 | F40: 572.47 | G40: 16744 | H40: 14903 | I40: =G40-H40 -> 1841
A41: *saskaņā ar speciālā budžeta precizētajiem bāzes izdevumiem 2025.-2028.gadam (LM prognoze uz 06.09.2024.)
A43: Plānotie izdevumi 2025. gada pensiju indeksācijām 2027. gadā
A45: Pensijas veids | B45: Pensionāru skaits | C45: Indeksācija 2025. gada oktobrī (indeksi: 50% = 6,10%; 60% = 6,94%, 70% = 7,78%; 80% = 8,61%; 100% no 2024.gada iemaksu algas = 1 518 euro) | H45: Precizētā bāze* | I45: Novirzes pret precizēto bāzi*
C46: Vidējais pensijas apmērs pirms indeksācijas (euro) | D46: Indeksā- cijas apmērs (%) | E46: Pensijas apmēra palielinā- jums (euro) | F46: Pensijas apmērs pēc indeksācijas (euro) | G46: Izdevumi indeksācijai periodā no janvāra līdz decembrim (euro) | H46: Izdevumi indeksācijai periodā no janvāra līdz decembrim (euro)
A47: Izdevumi kopā | G47: =G48+G55+G56+G57+G58 -> 274432596 | H47: =H48+H55+H56+H57+H58 -> 252285122 | I47: =G47-H47 -> 22147474
...

Sheet SB_index2028
I1: 2. pielikums anotācijai
I2: likumprojektam "Grozījumi likumā “Par valsts pensijām""
I3: 5.tabula
A5: Pensiju indeksāciju aprēķins valsts sociālās apdrošināšanas speciālajam budžetam 2028.gadā
A7: Plānotie izdevumi 2028. gada pensiju indeksācijām 2028.gadā
A9: Pensijas veids | B9: Pensionāru skaits | C9: Indeksācija 2028. gada oktobrī (indeksi: 50% = 3,75%; 60% = 4,01%, 70% = 4,28%; 80% = 4,54%; 100% no 2027.gada iemaksu algas = 1 807 euro) | H9: Precizētā bāze* | I9: Novirzes pret precizēto bāzi*
C10: Vidējais pensijas apmērs pirms indeksācijas (euro) | D10: Indeksā- cijas apmērs (%) | E10: Pensijas apmēra palielinā- jums (euro) | F10: Pensijas apmērs pēc indeksācijas (euro) | G10: Izdevumi indeksācijai periodā no augusta līdz decembrim (euro) | H10: Izdevumi indeksācijai periodā no oktobra līdz decembrim (euro)
A11: Izdevumi kopā | G11: =G12+G19+G20+G21+G22 -> 48348896 | H11: =H12+H19+H20+H21+H22 -> 44999680 | I11: =G11-H11 -> 3349216
A12: Valsts pensijas kopā | B12: 525281 | C12: 716.89 | D12: 1.0413 | E12: 29.62 | F12: 746.51 | G12: =G14+G15+G16+G17+G18 -> 46682687 | H12: =H14+H15+H16+H17+H18 -> 43423326 | I12: =G12-H12 -> 3259361
A13: tai skaitā:
A14: Vecuma pensijas kopā | B14: 432928 | C14: 777.25 | D14: 1.0418 | E14: 32.48 | F14: 809.73 | G14: 42187041 | H14: 38999576 | I14: =G14-H14 -> 3187465
A15: Pensijas apgādnieka zaudējuma gadījumā | B15: 14972 | C15: 504.07 | D15: 1.0374 | E15: 18.87 | F15: 522.94 | G15: 847416 | H15: 830111 | I15: =G15-H15 -> 17305
A16: Izdienas pensijas | B16: 865 | C16: 864.98 | D16: 1.0365 | E16: 31.56 | F16: 896.54 | G16: 81877 | H16: 72319 | I16: =G16-H16 -> 9558
A17: Invaliditātes pensijas | B17: 76122 | C17: 417.09 | D17: 1.0374 | E17: 15.6 | F17: 432.69 | G17: 3562896 | H17: 3517863 | I17: =G17-H17 -> 45033
A18: Pensijas pēc speciāliem lēmumiem no invaliditātes, maternitātes un slimības speciālā budžeta | B18: 394 | C18: 78 | D18: 1.0375 | E18: 2.93 | F18: 80.93 | G18: 3457 | H18: 3457 | I18: =G18-H18 -> 0
A19: Apbedīšanas pabalsts (Valsts pensiju speciālais budžets) | B19: 2000 | C19: 1192.99 | D19: 1.0421 | E19: 50.22 | F19: 1243.21 | G19: 301349 | H19: 276044 | I19: =G19-H19 -> 25305
A20: Pabalsts laulātā nāves gadījumā (Valsts pensiju speciālais budžets) | B20: 6000 | C20: 336.77 | D20: 1.0421 | E20: 14.18 | F20: 350.95 | G20: 255204 | H20: 233823 | I20: =G20-H20 -> 21381
A21: Atlīdzība par darbspēju zaudējumu (Darba negadījumu speciālais budžets) | B21: 16476 | C21: 607.15 | D21: 1.0368 | E21: 22.37 | F21: 629.52 | G21: 1105509 | H21: 1062591 | I21: =G21-H21 -> 42918
A22: Atlīdzība par apgādnieka zaudējumu (Darba negadījumu speciālais budžets) | B22: 61 | C22: 604.37 | D22: 1.0375 | E22: 22.66 | F22: 627.03 | G22: 4147 | H22: 3896 | I22: =G22-H22 -> 251
A23: *saskaņā ar speciālā budžeta precizētajiem bāzes izdevumiem 2025.-2028.gadam (LM prognoze uz 06.09.2024.)
A25: Plānotie izdevumi 2027. gada pensiju indeksācijām 2028.gadā
A27: Pensijas veids | B27: Pensionāru skaits | C27: Indeksācija 2027. gada oktobrī (indeksi: 50% = 4,30%; 60% = 4,67%, 70% = 5,05%; 80% = 5,42%; 100% no 2026.gada iemaksu algas = 1715 euro) | H27: Precizētā bāze* | I27: Novirzes pret precizēto bāzi*
C28: Vidējais pensijas apmērs pirms indeksācijas (euro) | D28: Indeksā- cijas apmērs (%) | E28: Pensijas apmēra palielinā- jums (euro) | F28: Pensijas apmērs pēc indeksācijas (euro) | G28: Izdevumi indeksācijai periodā no janvāra līdz decembrim (euro) | H28: Izdevumi indeksācijai periodā no janvāra līdz decembrim (euro)
A29: Izdevumi kopā | G29: =G30+G37+G38+G39+G40 -> 212460124 | H29: =H30+H37+H38+H39+H40 -> 197117008 | I29: =G29-H29 -> 15343116
A30: Valsts pensijas kopā | B30: 525281 | C30: 672.17 | D30: 1.0485 | E30: 32.58 | F30: 704.75 | G30: =G32+G33+G34+G35+G36 -> 205282605 | H30: =H32+H33+H34+H35+H36 -> 190333363 | I30: =G30-H30 -> 14949242
A31: tai skaitā:
A32: Vecuma pensijas kopā | B32: 432928 | C32: 729.42 | D32: 1.0491 | E32: 35.84 | F32: 765.26 | G32: 186193674 | H32: 171595342 | I32: =G32-H32 -> 14598332
A33: Pensijas apgādnieka zaudējuma gadījumā | B33: 14972 | C33: 462.98 | D33: 1.0429 | E33: 19.86 | F33: 482.84 | G33: 3568127 | H33: 3489075 | I33: =G33-H33 -> 79052
A34: Izdienas pensijas | B34: 865 | C34: 810.97 | D34: 1.0417 | E34: 33.84 | F34: 844.81 | G34: 351259 | H34: 307767 | I34: =G34-H34 -> 43492
A35: Invaliditātes pensijas | B35: 76122 | C35: 387.08 | D35: 1.0429 | E35: 16.59 | F35: 403.67 | G35: 15154368 | H35: 14926002 | I35: =G35-H35 -> 228366
A36: Pensijas pēc speciāliem lēmumiem no invaliditātes, maternitātes un slimības speciālā budžeta | B36: 394 | C36: 74.66 | D36: 1.043 | E36: 3.21 | F36: 77.87 | G36: 15177 | H36: 15177 | I36: =G36-H36 -> 0
A37: Apbedīšanas pabalsts (Valsts pensiju speciālais budžets) | B37: 2000 | C37: 1118.95 | D37: 1.0495 | E37: 55.39 | F37: 1174.34 | G37: 1329360 | H37: 1217280 | I37: =G37-H37 -> 112080
A38: Pabalsts laulātā nāves gadījumā (Valsts pensiju speciālais budžets) | B38: 6000 | C38: 312.65 | D38: 1.0495 | E38: 15.47 | F38: 328.12 | G38: 1114560 | H38: 1020240 | I38: =G38-H38 -> 94320
A39: Atlīdzība par darbspēju zaudējumu (Darba negadījumu speciālais budžets) | B39: 16476 | C39: 566.92 | D39: 1.0421 | E39: 23.86 | F39: 590.78 | G39: 4715431 | H39: 4529582 | I39: =G39-H39 -> 185849
A40: Atlīdzība par apgādnieka zaudējumu (Darba negadījumu speciālais budžets) | B40: 61 | C40: 577.14 | D40: 1.043 | E40: 24.82 | F40: 601.96 | G40: 18168 | H40: 16543 | I40: =G40-H40 -> 1625
A41: *saskaņā ar speciālā budžeta precizētajiem bāzes izdevumiem 2025.-2028.gadam (LM prognoze uz 06.09.2024.)
A43: Plānotie izdevumi 2026. gada pensiju indeksācijām 2028. gadā
A45: Pensijas veids | B45: Pensionāru skaits | C45: Indeksācija 2026. gada oktobrī (indeksi: 50% = 4,31%; 60% = 4,69%, 70% = 5,07%; 80% = 5,44%; 100% no 2025.gada iemaksu algas = 1 612 euro) | H45: Precizētā bāze* | I45: Novirzes pret precizēto bāzi*
C46: Vidējais pensijas apmērs pirms indeksācijas (euro) | D46: Indeksā- cijas apmērs (%) | E46: Pensijas apmēra palielinā- jums (euro) | F46: Pensijas apmērs pēc indeksācijas (euro) | G46: Izdevumi indeksācijai periodā no janvāra līdz decembrim (euro) | H46: Izdevumi indeksācijai periodā no janvāra līdz decembrim (euro)
A47: Izdevumi kopā | G47: =G48+G55+G56+G57+G58 -> 199354890 | H47: =H48+H55+H56+H57+H58 -> 183395355 | I47: =G47-H47 -> 15959535
...

Sheet LM_izdienas_pens
I1: 2. pielikums anotācijai
I2: likumprojektam "Grozījumi likumā “Par valsts pensijām""
I3: 6.tabula
A5: Labklājības ministrijas pamatbudžeta apakšprogrammas 20.02.00 "Izdienas pensijas" izdienas pensiju indeksācijas aprēķins 2025.-2028. gadam
I7: euro
A8: Pensijas veids | B8: Pensionāru skaits | C8: Indeksācija 2025. gada oktobrī | H8: Precizētā bāze* | I8: Novirzes pret precizēto bāzi*
C9: Vidējais pensijas apmērs pirms indeksācijas | D9: Indeksā- cijas apmērs | E9: Pensijas apmēra palielinā- jums | F9: Pensijas apmērs pēc indeksācijas | G9: Izdevumi indeksācijai periodā no janvāra līdz decembrim | H9: Izdevumi indeksācijai periodā no janvāra līdz decembrim
A10: Izdevumi 2025.gada indeksācijām 2025.gadā | B10: 10805 | C10: 820.9 | D10: 1.0593 | E10: 48.67 | F10: 869.57 | G10: 1577796 | H10: 1310415 | I10: =G10-H10 -> 267381
A11: Kopā izdevumi 2025.gada indeksācijām 2025.gadā | G11: =G10 -> 1577796 | H11: =H10 -> 1310415 | I11: =I10 -> 267381
A12: *saskaņā ar speciālā budžeta precizētajiem bāzes izdevumiem 2025.-2028.gadam (LM prognoze uz 06.09.2024.)
I13: euro
A14: Pensijas veids | B14: Pensionāru skaits | C14: Indeksācija 2026. gada oktobrī | H14: Precizētā bāze* | I14: Novirzes pret precizēto bāzi*
C15: Vidējais pensijas apmērs pirms indeksācijas | D15: Indeksā- cijas apmērs | E15: Pensijas apmēra palielinā- jums | F15: Pensijas apmērs pēc indeksācijas | G15: Izdevumi indeksācijai periodā no janvāra līdz decembrim | H15: Izdevumi indeksācijai periodā no janvāra līdz decembrim
A16: Izdevumi 2026.gada indeksācijām 2026.gadā | B16: 11231 | C16: 871.66 | D16: 1.0419 | E16: 36.51 | F16: 908.17 | G16: 1230252 | H16: 1023987 | I16: =G16-H16 -> 206265
A17: Izdevumi 2025.gada indeksācijām 2026.gadā | B17: 11231 | C17: 820.9 | D17: 1.0593 | E17: 48.67 | F17: 869.57 | G17: 6559353 | H17: 5448832 | I17: =G17-H17 -> 1110521
A18: Kopā izdevumi 2025.-2026.gada indeksācijām 2026.gadā | G18: =G16+G17 -> 7789605 | H18: =H16+H17 -> 6472819 | I18: =I16+I17 -> 1316786
A19: *saskaņā ar speciālā budžeta precizētajiem bāzes izdevumiem 2025.-2028.gadam (LM prognoze uz 06.09.2024.)
I20: euro
A21: Pensijas veids | B21: Pensionāru skaits | C21: Indeksācija 2027. gada oktobrī | H21: Precizētā bāze* | I21: Novirzes pret precizēto bāzi*
C22: Vidējais pensijas apmērs pirms indeksācijas | D22: Indeksā- cijas apmērs | E22: Pensijas apmēra palielinā- jums | F22: Pensijas apmērs pēc indeksācijas | G22: Izdevumi indeksācijai periodā no janvāra līdz decembrim | H22: Izdevumi indeksācijai periodā no janvāra līdz decembrim
A23: Izdevumi 2027.gada indeksācijām 2027.gadā | B23: 11717 | C23: 909.13 | D23: 1.0419 | E23: 38.13 | F23: 947.26 | G23: 1340409 | H23: 1129515 | I23: =G23-H23 -> 210894
A24: Izdevumi 2026.gada indeksācijām 2027.gadā | B24: 11717 | C24: 871.66 | D24: 1.0419 | E24: 36.51 | F24: 908.17 | G24: 5133452 | H24: 4272956 | I24: =G24-H24 -> 860496
A25: Izdevumi 2025.gada indeksācijām 2027.gadā | B25: 11717 | C25: 820.9 | D25: 1.0593 | E25: 48.67 | F25: 869.57 | G25: 6843197 | H25: 5684620 | I25: =G25-H25 -> 1158577
A26: Kopā izdevumi 2024.-2027.gada indeksācijām 2027.gadā | G26: =G23+G24+G25 -> 13317058 | H26: =H23+H24+H25 -> 11087091 | I26: =I23+I24+I25 -> 2229967
A27: *saskaņā ar speciālā budžeta precizētajiem bāzes izdevumiem 2025.-2028.gadam (LM prognoze uz 06.09.2024.)
I28: euro
A29: Pensijas veids | B29: Pensionāru skaits | C29: Indeksācija 2028. gada oktobrī | H29: Precizētā bāze* | I29: Novirzes pret precizēto bāzi*
C30: Vidējais pensijas apmērs pirms indeksācijas | D30: Indeksā- cijas apmērs | E30: Pensijas apmēra palielinā- jums | F30: Pensijas apmērs pēc indeksācijas | G30: Izdevumi indeksācijai periodā no janvāra līdz decembrim | H30: Izdevumi indeksācijai periodā no janvāra līdz decembrim
A31: Izdevumi 2028.gada indeksācijām 2028.gadā | B31: 12132 | C31: 947.65 | D31: 1.0367 | E31: 34.75 | F31: 982.4 | G31: 1264752 | H31: 1075266 | I31: =G31-H31 -> 189486
A32: Izdevumi 2027.gada indeksācijām 2028.gadā | B32: 12132 | C32: 909.13 | D32: 1.0419 | E32: 38.13 | F32: 947.26 | G32: 5551118 | H32: 4677614 | I32: =G32-H32 -> 873504
A33: Izdevumi 2026.gada indeksācijām 2028.gadā | B33: 12132 | C33: 871.66 | D33: 1.0419 | E33: 36.51 | F33: 908.17 | G33: 5315272 | H33: 4424298 | I33: =G33-H33 -> 890974
A34: Izdevumi 2025.gada indeksācijām 2028.gadā | B34: 12132 | C34: 820.9 | D34: 1.0593 | E34: 48.67 | F34: 869.57 | G34: 7085573 | H34: 5885961 | I34: =G34-H34 -> 1199612
A35: Kopā izdevumi 2024.-2028.gada indeksācijām 2028.gadā | G35: =SUM(G31:G34) -> 19216715 | H35: =SUM(H31:H34) -> 16063139 | I35: =SUM(I31:I34) -> 3153576
A36: *saskaņā ar speciālā budžeta precizētajiem bāzes izdevumiem 2025.-2028.gadam (LM prognoze uz 06.09.2024.)
A38: Ilze Štrausa Labklājības ministrija Finanšu vadības departaments Tālr. 60008559 Ilze.Strausa@lm.gov.lv

Sheet AiM_izdienas_pens
E1: 2. pielikums anotācijai
E2: likumprojektam "Grozījumi likumā “Par valsts pensijām""
E3: 7.tabula
A5: Aizsardzības ministrijas budžeta programmas 31.00.00 “Militārpersonu pensiju fonds” izdienas pensiju indeksācijas aprēķins 2025.-2028. gadam*
A7: Pensijas veids | B7: Personu skaits | C7: Indeksācijas indekss | D7: Vidējais apmēra palielinājums, euro | E7: Izdevumi indeksācijai periodā no janvāra līdz decembrim, euro
A8: Izdevumi 2025.gada indeksācijām 2025.gadā | B8: 1130 | C8: 1.061 | D8: 17.601685 | E8: 59670
A10: Izdevumi 2026.gada indeksācijām 2026.gadā | B10: 1130 | C10: 1.0431 | D10: 18.360318 | E10: 62242
A11: Izdevumi 2025.gada indeksācijām 2026.gadā | B11: 1130 | C11: 1.061 | D11: 17.601685 | E11: 238679
A12: Kopā izdevumi 2025.-2026.gada indeksācijām 2026.gadā | E12: 300921
A14: Izdevumi 2027.gada indeksācijām 2027.gadā | B14: 1130 | C14: 1.043 | D14: 19.149811 | E14: 64918
A15: Izdevumi 2026.gada indeksācijām 2027.gadā | B15: 1130 | C15: 1.0431 | D15: 18.360318 | E15: 248966
A16: Izdevumi 2025.gada indeksācijām 2027.gadā | B16: 1130 | C16: 1.061 | D16: 17.601685 | E16: 238679
A17: Kopā izdevumi 2025.-2027.gada indeksācijām 2027.gadā | E17: 552563
A19: Izdevumi 2028.gada indeksācijām 2028.gadā | B19: 1130 | C19: 1.0375 | D19: 19.867929 | E19: 67352
A20: Izdevumi 2027.gada indeksācijām 2028.gadā | B20: 1130 | C20: 1.043 | D20: 19.149811 | E20: 259672
A21: Izdevumi 2026.gada indeksācijām 2028.gadā | B21: 1130 | C21: 1.0431 | D21: 18.360318 | E21: 248966
A22: Izdevumi 2025.gada indeksācijām 2028.gadā | B22: 1130 | C22: 1.061 | D22: 17.601685 | E22: 238679
A23: Kopā izdevumi 2025.-2028.gada indeksācijām 2028.gadā | E23: 814669
A24: *personu skaits un vidējais apmērs saskaņā ar AiM sniegto informāciju 2024.gada augustā
A26: Kristīne Zirnīte Labklājības ministrija Sociālās apdrošināšanas departaments Tālr. 67021520 Kristine.Zirnite@lm.gov.lv
