Workbook

Sheet KOPSAVILKUMS
E1: 1.pielikums MK rīkojuma projekta “Par finanšu līdzekļu piešķiršanu no valsts budžeta programmas “Līdzekļi neparedzētiem gadījumiem”” anotācijai
A3: Kopsavilkums par stacionāro iestāžu iesniegto informāciju par darba veicējiem (ārstniecības personām), virs normālā darba laika nostrādātām stundām, apmaksājamām stundām un izdevumiem, sakarā ar Latvijā izsludināto ārkārtējo situāciju ar mērķi ierobežot Covid-19 izplatību par 2021.gada jūlijs-oktobris
C6: Izdevumi par virsstundām (2021.gada jūlijs-oktobris) kopā ar VSOAI, euro
C7: jūlijs | D7: augusts | E7: septembris | F7: oktobris | G7: KOPĀ
A8: KOPĀ | G8: =SUM(G9:G21) -> 813171.19
A9: 1 | B9: VSIA "Bērnu klīniskā universitātes slimnīca" | E9: X | F9: X | G9: =SUM(E9:F9) -> 0
B10: SIA “Rīgas Austrumu klīniskās universitātes slimnīca” | E10: X | F10: X | G10: =SUM(E10:F10) -> 0
A11: 1 | B11: VSIA "Paula Stradiņa klīniskā universitātes slimnīca" | C11: X | D11: X | E11: =PSKUS_sept!I11 -> 665.14 | F11: =PSKUS_okt!I11 -> 9428.88 | G11: =SUM(C11:F11) -> 10094.02
A12: 2 | B12: SIA "Daugavpils reģionālā slimnīca" | C12: X | D12: X | E12: =Daugavpils_reģ_sept!I11 -> 138236.87 | F12: =Daugavpils_reģ_okt!I11 -> 193168.19 | G12: =SUM(C12:F12) -> 331405.06
A13: 3 | B13: SIA "Ziemeļkurzemes reģionālā slimnīca" | C13: X | D13: X | E13: ='Z-Kurzeme_sept'!I11 -> 83046.2 | F13: ='Z-Kurzeme_okt'!I10 -> 129032.18 | G13: =SUM(C13:F13) -> 212078.38
A14: 4 | B14: SIA Jelgavas pilsētas slimnīca | C14: X | D14: X | E14: X | F14: =Jelgava_okt!I11 -> 28555.61 | G14: =SUM(C14:F14) -> 28555.61
A15: 5 | B15: SIA Vidzemes slimnīca | C15: X | D15: X | E15: =Vidzeme_sept!I11 -> 51156.05 | F15: =Vidzeme_okt!I11 -> 68074.37 | G15: =SUM(C15:F15) -> 119230.42
A16: 6 | B16: SIA Jēkabpils reģionālā slimnīca | C16: ='Jēkabpils_jūl-sept'!I11 -> 50793.7 | F16: X | G16: =SUM(C16:F16) -> 50793.7
A17: 7 | B17: VSIA "Rīgas psihiatrijas un narkoloģijas cenrts" | C17: X | D17: X | E17: X | F17: =RPNC_okt!I11 -> 13500.35 | G17: =SUM(C17:F17) -> 13500.35
A18: 8 | B18: SIA "Rīgas 1.slimnīca" | C18: X | D18: X | E18: X | F18: ='Rīgas_1.sl._okt'!I11 -> 4595.2 | G18: =SUM(C18:F18) -> 4595.2
A19: 9 | B19: VSIA „Daugavpils psihoneiroloģiskā slimnīca” | C19: X | D19: X | E19: =Daugavpils_psih_sept!I11 -> 98.24 | F19: =Daugavpils_psih_okt!I11 -> 13237.2 | G19: =SUM(C19:F19) -> 13335.44
A20: 10 | B20: Tramatoloģijas un ortopēdijas slimnīca | C20: X | D20: X | E20: X | F20: =TOS_okt!I11 -> 4335.06 | G20: =SUM(C20:F20) -> 4335.06
A21: 11 | B21: SIA Kuldīgas slimnīca | C21: X | D21: X | E21: X | F21: =Kuldīga_okt!I11 -> 25247.95 | G21: =SUM(C21:F21) -> 25247.95
B23: Summētā darba laika periods, kurā uzskaitītas virsstundas un papildu snepieciešamais finansējums to apmaksai

Sheet PSKUS_sept
H1: 1.1.Pielikums
A2: Pārskats par darba veicējiem (ārstniecības personām), virs normālā darba laika nostrādātām stundām, apmaksājamām stundām un izdevumiem, kas radušies saistībā ar mērķi ierobežot Covid-19 izplatību
A4: Iestādes nosaukums: VSIA "Paula Stradiņa klīniskā universitātes slimnīca"
A5: Pārskata mēnesis: Septembris
B7: Nodarbināto skaits mēnesī | C7: Apmaksājamais laiks mēnesī, stundas (tai skaitā summētā darba laika ietvaros) | F7: Mēnešalga no kuras rēķina stundas likmi | G7: Stundas likme (aprēķināta atbilstoši mēnešalgai vai darba līgumā noteiktā stundas likme) | H7: Apmaksājamā 100% piemaksa par nostrādātām virsstundām virs normālā darba laika (tai skaitā summētā darba laika ietvaros) | I7: Izdevumi par virsstundām kopā ar VSAOI, EUR
C8: Kopā | D8: līdz normālam darba laikam | E8: virsstundas - virs normālā darba laika, kas saistītas ar darbu ar Covid-19
A10: 1 | B10: 2 | C10: 3=4+5 | D10: 4 | E10: 5 | F10: 6 | G10: 7 | H10: 8 | I10: 9=8 +VSOAI
A11: KOPĀ | B11: =B12 -> 2 | E11: =E12 -> 34 | H11: =H12 -> 538.18 | I11: =I12 -> 665.14
A12: Pārējie darbinieki, kuri tieši iesaistīti darbā ar Covid-19, kopā, tai skaitā: | B12: =SUM(B13:B14) -> 2 | E12: =SUM(E13:E14) -> 34 | H12: =SUM(H13:H14) -> 538.18 | I12: =SUM(I13:I14) -> 665.14
A13: Veselības aprūpes datu analītiķis | B13: 1 | C13: =D13+E13 -> 202 | D13: 176 | E13: 26 | F13: 1360 | G13: =ROUND(F13/D13,4) -> 7.7273 | H13: =ROUND(G13*E13*2,2) -> 401.82 | I13: =ROUND(H13*1.2359,2) -> 496.61
A14: Vecākais veselības aprūpes datu analītiķis | B14: 1 | C14: =D14+E14 -> 184 | D14: 176 | E14: 8 | F14: 1500 | G14: =ROUND(F14/D14,4) -> 8.5227 | H14: =ROUND(G14*E14*2,2) -> 136.36 | I14: =ROUND(H14*1.2359,2) -> 168.53

Sheet PSKUS_okt
H1: 1.2.Pielikums
A2: Pārskats par darba veicējiem (ārstniecības personām), virs normālā darba laika nostrādātām stundām, apmaksājamām stundām un izdevumiem, kas radušies saistībā ar mērķi ierobežot Covid-19 izplatību
A4: Iestādes nosaukums: VSIA "Paula Stradiņa klīniskā universitātes slimnīca"
A5: Pārskata mēnesis: Oktobris
B7: Nodarbināto skaits mēnesī | C7: Apmaksājamais laiks mēnesī, stundas (tai skaitā summētā darba laika ietvaros) | F7: Mēnešalga no kuras rēķina stundas likmi | G7: Stundas likme (aprēķināta atbilstoši mēnešalgai vai darba līgumā noteiktā stundas likme) | H7: Apmaksājamā 100% piemaksa par nostrādātām virsstundām virs normālā darba laika (tai skaitā summētā darba laika ietvaros) | I7: Izdevumi par virsstundām kopā ar VSAOI, EUR
C8: Kopā | D8: līdz normālam darba laikam | E8: virsstundas - virs normālā darba laika, kas saistītas ar darbu ar Covid-19
A10: 1 | B10: 2 | C10: 3=4+5 | D10: 4 | E10: 5 | F10: 6 | G10: 7 | H10: 8 | I10: 9=8 +VSOAI
A11: KOPĀ | B11: =B12+B38 -> 37 | E11: =E12+E38 -> 387 | H11: =H12+H38 -> 7629.21 | I11: =I12+I38 -> 9428.88
A12: Ārstniecības un pacientu aprūpes personas un funkcionālo speciālistu asistenti, kopā, tai skaitā: | B12: =SUM(B13:B37) -> 25 | E12: =SUM(E13:E37) -> 181 | H12: =SUM(H13:H37) -> 3831.72 | I12: =SUM(I13:I37) -> 4735.56
A13: Ārsta epidemiologa palīgs | B13: 1 | C13: =D13+E13 -> 233 | D13: 168 | E13: 65 | F13: 1242 | G13: =ROUND(F13/D13,3) -> 7.393 | H13: =ROUND(G13*E13*2,2) -> 961.09 | I13: =ROUND(H13*1.2359,2) -> 1187.81
A14: Galvenās māsas vietnieks ķirurģiskajā aprūpē | B14: 1 | C14: =D14+E14 -> 172 | D14: 168 | E14: 4 | F14: 2484 | G14: =ROUND(F14/D14,3) -> 14.786 | H14: =ROUND(G14*E14*2,2) -> 118.29 | I14: =ROUND(H14*1.2359,2) -> 146.19
A15: Galvenās māsas vietnieks neatliekamajā un vispārīgajā aprūpē | B15: 1 | C15: =D15+E15 -> 172 | D15: 168 | E15: 4 | F15: 2484 | G15: =ROUND(F15/D15,3) -> 14.786 | H15: =ROUND(G15*E15*2,2) -> 118.29 | I15: =ROUND(H15*1.2359,2) -> 146.19
A16: Vadītājs | B16: 1 | C16: =D16+E16 -> 170 | D16: 168 | E16: 2 | F16: 1966.5 | G16: =ROUND(F16/D16,3) -> 11.705 | H16: =ROUND(G16*E16*2,2) -> 46.82 | I16: =ROUND(H16*1.2359,2) -> 57.86
A17: Vecākā vecmāte | B17: 1 | C17: =D17+E17 -> 170 | D17: 168 | E17: 2 | F17: 1966.5 | G17: =ROUND(F17/D17,3) -> 11.705 | H17: =ROUND(G17*E17*2,2) -> 46.82 | I17: =ROUND(H17*1.2359,2) -> 57.86
A18: Virsmāsa | B18: 1 | C18: =D18+E18 -> 170 | D18: 168 | E18: 2 | F18: 2116.58 | G18: =ROUND(F18/D18,3) -> 12.599 | H18: =ROUND(G18*E18*2,2) -> 50.4 | I18: =ROUND(H18*1.2359,2) -> 62.29
A19: Virsmāsa | B19: 1 | C19: =D19+E19 -> 170 | D19: 168 | E19: 2 | F19: 1966.5 | G19: =ROUND(F19/D19,3) -> 11.705 | H19: =ROUND(G19*E19*2,2) -> 46.82 | I19: =ROUND(H19*1.2359,2) -> 57.86
A20: Virsmāsa | B20: 1 | C20: =D20+E20 -> 170 | D20: 168 | E20: 2 | F20: 1966.5 | G20: =ROUND(F20/D20,3) -> 11.705 | H20: =ROUND(G20*E20*2,2) -> 46.82 | I20: =ROUND(H20*1.2359,2) -> 57.86
A21: Virsmāsa | B21: 1 | C21: =D21+E21 -> 170 | D21: 168 | E21: 2 | F21: 1966.5 | G21: =ROUND(F21/D21,3) -> 11.705 | H21: =ROUND(G21*E21*2,2) -> 46.82 | I21: =ROUND(H21*1.2359,2) -> 57.86
A22: Virsmāsa | B22: 1 | C22: =D22+E22 -> 170 | D22: 168 | E22: 2 | F22: 2116.58 | G22: =ROUND(F22/D22,3) -> 12.599 | H22: =ROUND(G22*E22*2,2) -> 50.4 | I22: =ROUND(H22*1.2359,2) -> 62.29
A23: Virsmāsa | B23: 1 | C23: =D23+E23 -> 170 | D23: 168 | E23: 2 | F23: 2045 | G23: =ROUND(F23/D23,3) -> 12.173 | H23: =ROUND(G23*E23*2,2) -> 48.69 | I23: =ROUND(H23*1.2359,2) -> 60.18
A24: Virsmāsa | B24: 1 | C24: =D24+E24 -> 214 | D24: 168 | E24: 46 | F24: 2116.58 | G24: =ROUND(F24/D24,3) -> 12.599 | H24: =ROUND(G24*E24*2,2) -> 1159.11 | I24: =ROUND(H24*1.2359,2) -> 1432.54
... A37: Virsmāsas vietnieks | B37: 1 | C37: =D37+E37 -> 184 | D37: 168 | E37: 16 | F37: 1993.63 | G37: =ROUND(F37/D37,3) -> 11.867 | H37: =ROUND(G37*E37*2,2) -> 379.74 | I37: =ROUND(H37*1.2359,2) -> 469.32
A38: Pārējie darbinieki, kuri tieši iesaistīti darbā ar Covid-19, kopā, tai skaitā: | B38: =SUM(B39:B50) -> 12 | E38: =SUM(E39:E50) -> 206 | H38: =SUM(H39:H50) -> 3797.49 | I38: =SUM(I39:I50) -> 4693.32
A39: Atlases un apmācību speciālists | B39: 1 | C39: =D39+E39 -> 177 | D39: 168 | E39: 9 | F39: 1550 | G39: =ROUND(F39/D39,3) -> 9.226 | H39: =ROUND(G39*E39*2,2) -> 166.07 | I39: =ROUND(H39*1.2359,2) -> 205.25
A40: Atlases un apmācību speciālists | B40: 1 | C40: =D40+E40 -> 198 | D40: 168 | E40: 30 | F40: 1550 | G40: =ROUND(F40/D40,3) -> 9.226 | H40: =ROUND(G40*E40*2,2) -> 553.56 | I40: =ROUND(H40*1.2359,2) -> 684.14
A41: Darbu vadītājs loģistikas un autotransporta jomā | B41: 1 | C41: =D41+E41 -> 192 | D41: 168 | E41: 24 | F41: 1100 | G41: =ROUND(F41/D41,3) -> 6.548 | H41: =ROUND(G41*E41*2,2) -> 314.3 | I41: =ROUND(H41*1.2359,2) -> 388.44
A42: Jaunākais medicīnas iekārtu inženieris / medicīnas fiziķis | B42: 1 | C42: =D42+E42 -> 173 | D42: 168 | E42: 5 | F42: 1500 | G42: =ROUND(F42/D42,3) -> 8.929 | H42: =ROUND(G42*E42*2,2) -> 89.29 | I42: =ROUND(H42*1.2359,2) -> 110.35
A43: Nodaļas vadītājs | B43: 1 | C43: =D43+E43 -> 199 | D43: 168 | E43: 31 | F43: 2500 | G43: =ROUND(F43/D43,3) -> 14.881 | H43: =ROUND(G43*E43*2,2) -> 922.62 | I43: =ROUND(H43*1.2359,2) -> 1140.27
A44: Saimniecības pārzinis | B44: 1 | C44: =D44+E44 -> 174.5 | D44: 168 | E44: 6.5 | F44: 920 | G44: =ROUND(F44/D44,3) -> 5.476 | H44: =ROUND(G44*E44*2,2) -> 71.19 | I44: =ROUND(H44*1.2359,2) -> 87.98
A45: Telpu uzkopšanas darbu vadītājs | B45: 1 | C45: =D45+E45 -> 174.5 | D45: 168 | E45: 6.5 | F45: 1200 | G45: =ROUND(F45/D45,3) -> 7.143 | H45: =ROUND(G45*E45*2,2) -> 92.86 | I45: =ROUND(H45*1.2359,2) -> 114.77
A46: Vadītājs | B46: 1 | C46: =D46+E46 -> 170 | D46: 168 | E46: 2 | F46: 1900 | G46: =ROUND(F46/D46,3) -> 11.31 | H46: =ROUND(G46*E46*2,2) -> 45.24 | I46: =ROUND(H46*1.2359,2) -> 55.91
A47: Vecākais medicīnas iekārtu inženieris | B47: 1 | C47: =D47+E47 -> 173 | D47: 168 | E47: 5 | F47: 1600 | G47: =ROUND(F47/D47,3) -> 9.524 | H47: =ROUND(G47*E47*2,2) -> 95.24 | I47: =ROUND(H47*1.2359,2) -> 117.71
A48: Vecākais personāla speciālists | B48: 1 | C48: =D48+E48 -> 171 | D48: 168 | E48: 3 | F48: 1600 | G48: =ROUND(F48/D48,3) -> 9.524 | H48: =ROUND(G48*E48*2,2) -> 57.14 | I48: =ROUND(H48*1.2359,2) -> 70.62
A49: vecākais veselības aprūpes datu analītiķis | B49: 1 | C49: =D49+E49 -> 186 | D49: 168 | E49: 18 | F49: 1500 | G49: =ROUND(F49/D49,3) -> 8.929 | H49: =ROUND(G49*E49*2,2) -> 321.44 | I49: =ROUND(H49*1.2359,2) -> 397.27
A50: Veselības aprūpes datu analītiķis | B50: 1 | C50: =D50+E50 -> 234 | D50: 168 | E50: 66 | F50: 1360 | G50: =ROUND(F50/D50,3) -> 8.095 | H50: =ROUND(G50*E50*2,2) -> 1068.54 | I50: =ROUND(H50*1.2359,2) -> 1320.61

Sheet Daugavpils_reģ_sept
H1: 1.3.Pielikums
A2: Pārskats par darba veicējiem (ārstniecības personām), virs normālā darba laika nostrādātām stundām, apmaksājamām stundām un izdevumiem, kas radušies saistībā ar mērķi ierobežot Covid-19 izplatību
A4: Iestādes nosaukums: SIA "Daugavpils reģionālā slimnīca"
A5: Pārskata mēnesis: Septembris
B7: Nodarbināto skaits mēnesī | C7: Apmaksājamais laiks mēnesī, stundas (tai skaitā summētā darba laika ietvaros) | F7: Mēnešalga no kuras rēķina stundas likmi | G7: Stundas likme (aprēķināta atbilstoši mēnešalgai vai darba līgumā noteiktā stundas likme) | H7: Apmaksājamā 100% piemaksa par nostrādātām virsstundām virs normālā darba laika (tai skaitā summētā darba laika ietvaros) | I7: Izdevumi par virsstundām kopā ar VSOAI, EUR
C8: Kopā | D8: līdz normālam darba laikam | E8: virsstundas - virs normālā darba laika, kas saistītas ar darbu ar Covid-19
A10: 1 | B10: 2 | C10: 3=4+5 | D10: 4 | E10: 5 | F10: 6 | G10: 7 | H10: 8 | I10: 9=8 +VSOAI
A11: KOPĀ | B11: =B12+B97+B103+B117+B146+B161+B185+B190+B180 -> 192 | E11: =E12+E97+E103+E117+E146+E161+E185+E190+E180 -> 7239 | H11: =H12+H97+H103+H117+H146+H161+H185+H190+H180 -> 111851.12 | I11: =I12+I97+I103+I117+I146+I161+I185+I190+I180 -> 138236.87
A12: Centrālā slimnīca "Uzņemšanas nodaļa" | B12: =B13+B50+B85 -> 81 | E12: =E13+E50+E85 -> 4132 | H12: =H13+H50+H85 -> 65989.45 | I12: =I13+I50+I85 -> 81556.36
A13: Ārsti, zobārsti un funkcionālie speciālisti, kopā, tai skaitā: | B13: =SUM(B14:B49) -> 36 | E13: =SUM(E14:E49) -> 2407.5 | H13: =SUM(H14:H49) -> 47454.26 | I13: =SUM(I14:I49) -> 58648.71
A14: Ārsts (dežūrslodze) | B14: 1 | C14: =D14+E14 -> 272 | D14: 176 | E14: 96 | F14: 1734.568 | G14: =F14/176 -> 9.8555 | H14: =ROUND(E14*G14*2,2) -> 1892.26 | I14: =ROUND(H14*1.2359,2) -> 2338.64
A15: Ārsts (dežūrslodze) | B15: 1 | C15: =D15+E15 -> 243.5 | D15: 176 | E15: 67.5 | F15: 1734.568 | G15: =F15/176 -> 9.8555 | H15: =ROUND(E15*G15*2,2) -> 1330.49 | I15: =ROUND(H15*1.2359,2) -> 1644.35
A16: Bērnu ķirurgs | B16: 1 | C16: =D16+E16 -> 96 | D16: 72 | E16: 24 | F16: 1734.568 | G16: =F16/176 -> 9.8555 | H16: =ROUND(E16*G16*2,2) -> 473.06 | I16: =ROUND(H16*1.2359,2) -> 584.65
A17: Ginekologs,dzemdību speciālists | B17: 1 | C17: =D17+E17 -> 192 | D17: 176 | E17: 16 | F17: 1734.568 | G17: =F17/176 -> 9.8555 | H17: =ROUND(E17*G17*2,2) -> 315.38 | I17: =ROUND(H17*1.2359,2) -> 389.78
A18: Ginekologs,dzemdību speciālists | B18: 1 | C18: =D18+E18 -> 200 | D18: 176 | E18: 24 | F18: 1734.568 | G18: =F18/176 -> 9.8555 | H18: =ROUND(E18*G18*2,2) -> 473.06 | I18: =ROUND(H18*1.2359,2) -> 584.65
A19: Internists | B19: 1 | C19: =D19+E19 -> 232 | D19: 136 | E19: 96 | F19: 1734.568 | G19: =F19/176 -> 9.8555 | H19: =ROUND(E19*G19*2,2) -> 1892.26 | I19: =ROUND(H19*1.2359,2) -> 2338.64
A20: Internists | B20: 1 | C20: =D20+E20 -> 234 | D20: 154 | E20: 80 | F20: 1734.568 | G20: =F20/176 -> 9.8555 | H20: =ROUND(E20*G20*2,2) -> 1576.88 | I20: =ROUND(H20*1.2359,2) -> 1948.87
A21: Kardiologs | B21: 1 | C21: =D21+E21 -> 192 | D21: 176 | E21: 16 | F21: 1734.568 | G21: =F21/176 -> 9.8555 | H21: =ROUND(E21*G21*2,2) -> 315.38 | I21: =ROUND(H21*1.2359,2) -> 389.78
A22: Kardiologs | B22: 1 | C22: =D22+E22 -> 210 | D22: 154 | E22: 56 | F22: 1734.568 | G22: =F22/176 -> 9.8555 | H22: =ROUND(E22*G22*2,2) -> 1103.82 | I22: =ROUND(H22*1.2359,2) -> 1364.21
A23: Kardiologs | B23: 1 | C23: =D23+E23 -> 200 | D23: 136 | E23: 64 | F23: 1734.568 | G23: =F23/176 -> 9.8555 | H23: =ROUND(E23*G23*2,2) -> 1261.5 | I23: =ROUND(H23*1.2359,2) -> 1559.09
A24: Kardiologs | B24: 1 | C24: =D24+E24 -> 61 | D24: 21 | E24: 40 | F24: 1734.568 | G24: =F24/176 -> 9.8555 | H24: =ROUND(E24*G24*2,2) -> 788.44 | I24: =ROUND(H24*1.2359,2) -> 974.43
A25: Kardiologs | B25: 1 | C25: =D25+E25 -> 176 | D25: 136 | E25: 40 | F25: 1734.568 | G25: =F25/176 -> 9.8555 | H25: =ROUND(E25*G25*2,2) -> 788.44 | I25: =ROUND(H25*1.2359,2) -> 974.43
... A49: Traumatologs ortopēds | B49: 1 | C49: =D49+E49 -> 120 | D49: 96 | E49: 24 | F49: 1734.568 | G49: =F49/176 -> 9.8555 | H49: =ROUND(E49*G49*2,2) -> 473.06 | I49: =ROUND(H49*1.2359,2) -> 584.65
A50: Ārstniecības un pacientu aprūpes personas un funkcionālo speciālistu asistenti, kopā, tai skaitā: | B50: =SUM(B51:B84) -> 34 | E50: =SUM(E51:E84) -> 1258.5 | H50: =SUM(H51:H84) -> 14505.45 | I50: =SUM(I51:I84) -> 17927.29
A51: Vecākā medicīnas māsa | B51: 1 | C51: =D51+E51 -> 76 | D51: 64 | E51: 12 | F51: 1150 | G51: =F51/176 -> 6.5340909 | H51: =ROUND(E51*G51*2,2) -> 156.82 | I51: =ROUND(H51*1.2359,2) -> 193.81
A52: Ārsta palīgs | B52: 1 | C52: =D52+E52 -> 196 | D52: 176 | E52: 20 | F52: 1035.48 | G52: =F52/176 -> 5.8834091 | H52: =ROUND(E52*G52*2,2) -> 235.34 | I52: =ROUND(H52*1.2359,2) -> 290.86
A53: Ārsta palīgs | B53: 1 | C53: =D53+E53 -> 124 | D53: 88 | E53: 36 | F53: 1035.48 | G53: =F53/176 -> 5.8834091 | H53: =ROUND(E53*G53*2,2) -> 423.61 | I53: =ROUND(H53*1.2359,2) -> 523.54
A54: Ārsta palīgs | B54: 1 | C54: =D54+E54 -> 189 | D54: 176 | E54: 13 | F54: 1035.48 | G54: =F54/176 -> 5.8834091 | H54: =ROUND(E54*G54*2,2) -> 152.97 | I54: =ROUND(H54*1.2359,2) -> 189.06
A55: Ārsta palīgs | B55: 1 | C55: =D55+E55 -> 276 | D55: 176 | E55: 100 | F55: 914.58 | G55: =F55/176 -> 5.1964773 | H55: =ROUND(E55*G55*2,2) -> 1039.3 | I55: =ROUND(H55*1.2359,2) -> 1284.47
A56: Ārsta palīgs | B56: 1 | C56: =D56+E56 -> 216 | D56: 176 | E56: 40 | F56: 914.58 | G56: =F56/176 -> 5.1964773 | H56: =ROUND(E56*G56*2,2) -> 415.72 | I56: =ROUND(H56*1.2359,2) -> 513.79
A57: Ārsta palīgs | B57: 1 | C57: =D57+E57 -> 204 | D57: 176 | E57: 28 | F57: 914.58 | G57: =F57/176 -> 5.1964773 | H57: =ROUND(E57*G57*2,2) -> 291 | I57: =ROUND(H57*1.2359,2) -> 359.65
A58: Ārsta palīgs | B58: 1 | C58: =D58+E58 -> 164.5 | D58: 144 | E58: 20.5 | F58: 1035.48 | G58: =F58/176 -> 5.8834091 | H58: =ROUND(E58*G58*2,2) -> 241.22 | I58: =ROUND(H58*1.2359,2) -> 298.12
A59: Ārsta palīgs | B59: 1 | C59: =D59+E59 -> 112 | D59: 96 | E59: 16 | F59: 1035.48 | G59: =F59/176 -> 5.8834091 | H59: =ROUND(E59*G59*2,2) -> 188.27 | I59: =ROUND(H59*1.2359,2) -> 232.68
A60: Internās aprūpes māsa | B60: 1 | C60: =D60+E60 -> 272 | D60: 176 | E60: 96 | F60: 1035.48 | G60: =F60/176 -> 5.8834091 | H60: =ROUND(E60*G60*2,2) -> 1129.61 | I60: =ROUND(H60*1.2359,2) -> 1396.08
A61: Internās aprūpes māsa | B61: 1 | C61: =D61+E61 -> 240 | D61: 176 | E61: 64 | F61: 1035.48 | G61: =F61/176 -> 5.8834091 | H61: =ROUND(E61*G61*2,2) -> 753.08 | I61: =ROUND(H61*1.2359,2) -> 930.73
A62: Internās aprūpes māsa | B62: 1 | C62: =D62+E62 -> 104 | D62: 88 | E62: 16 | F62: 1035.48 | G62: =F62/176 -> 5.8834091 | H62: =ROUND(E62*G62*2,2) -> 188.27 | I62: =ROUND(H62*1.2359,2) -> 232.68
... A84: Operāciju māsa | B84: 1 | C84: =D84+E84 -> 239.5 | D84: 176 | E84: 63.5 | F84: 1035.48 | G84: =F84/176 -> 5.8834091 | H84: =ROUND(E84*G84*2,2) -> 747.19 | I84: =ROUND(H84*1.2359,2) -> 923.45
A85: Ārstniecības un pacientu aprūpes atbalsta personas, māsu palīgi, zobārstu asistenti, kopā, tai skaitā: | B85: =SUM(B86:B96) -> 11 | E85: =SUM(E86:E96) -> 466 | H85: =SUM(H86:H96) -> 4029.74 | I85: =SUM(I86:I96) -> 4980.36
A86: Māsas palīgs | B86: 1 | C86: =D86+E86 -> 96 | D86: 91 | E86: 5 | F86: 871.46 | G86: =F86/176 -> 4.9514773 | H86: =ROUND(E86*G86*2,2) -> 49.51 | I86: =ROUND(H86*1.2359,2) -> 61.19
A87: Māsas palīgs | B87: 1 | C87: =D87+E87 -> 68 | D87: 56 | E87: 12 | F87: 724.97 | G87: =F87/176 -> 4.1191477 | H87: =ROUND(E87*G87*2,2) -> 98.86 | I87: =ROUND(H87*1.2359,2) -> 122.18
A88: Māsas palīgs | B88: 1 | C88: =D88+E88 -> 228 | D88: 176 | E88: 52 | F88: 762.15 | G88: =F88/176 -> 4.3303977 | H88: =ROUND(E88*G88*2,2) -> 450.36 | I88: =ROUND(H88*1.2359,2) -> 556.6
A89: Māsas palīgs | B89: 1 | C89: =D89+E89 -> 229 | D89: 176 | E89: 53 | F89: 749.99 | G89: =F89/176 -> 4.2613068 | H89: =ROUND(E89*G89*2,2) -> 451.7 | I89: =ROUND(H89*1.2359,2) -> 558.26
A90: Māsas palīgs | B90: 1 | C90: =D90+E90 -> 216 | D90: 176 | E90: 40 | F90: 762.15 | G90: =F90/176 -> 4.3303977 | H90: =ROUND(E90*G90*2,2) -> 346.43 | I90: =ROUND(H90*1.2359,2) -> 428.15
A91: Māsas palīgs | B91: 1 | C91: =D91+E91 -> 244 | D91: 176 | E91: 68 | F91: 762.15 | G91: =F91/176 -> 4.3303977 | H91: =ROUND(E91*G91*2,2) -> 588.93 | I91: =ROUND(H91*1.2359,2) -> 727.86
A92: Māsas palīgs | B92: 1 | C92: =D92+E92 -> 204 | D92: 136 | E92: 68 | F92: 762.15 | G92: =F92/176 -> 4.3303977 | H92: =ROUND(E92*G92*2,2) -> 588.93 | I92: =ROUND(H92*1.2359,2) -> 727.86
A93: Māsas palīgs | B93: 1 | C93: =D93+E93 -> 228 | D93: 176 | E93: 52 | F93: 762.15 | G93: =F93/176 -> 4.3303977 | H93: =ROUND(E93*G93*2,2) -> 450.36 | I93: =ROUND(H93*1.2359,2) -> 556.6
A94: Māsas palīgs | B94: 1 | C94: =D94+E94 -> 204 | D94: 168 | E94: 36 | F94: 762.15 | G94: =F94/176 -> 4.3303977 | H94: =ROUND(E94*G94*2,2) -> 311.79 | I94: =ROUND(H94*1.2359,2) -> 385.34
A95: Māsas palīgs | B95: 1 | C95: =D95+E95 -> 220 | D95: 176 | E95: 44 | F95: 762.15 | G95: =F95/176 -> 4.3303977 | H95: =ROUND(E95*G95*2,2) -> 381.08 | I95: =ROUND(H95*1.2359,2) -> 470.98
A96: Māsas palīgs | B96: 1 | C96: =D96+E96 -> 204 | D96: 168 | E96: 36 | F96: 762.15 | G96: =F96/176 -> 4.3303977 | H96: =ROUND(E96*G96*2,2) -> 311.79 | I96: =ROUND(H96*1.2359,2) -> 385.34
A97: "Plaušu slimību un tuberkulozes centrs " Uzņemšanas nodaļa, Covid 19 nodaļa | B97: =B98 -> 4 | E97: =E98 -> 306 | H97: =H98 -> 6896.65 | I97: =I98 -> 8523.58
A98: Ārsti, zobārsti un funkcionālie speciālisti, kopā, tai skaitā: | B98: =SUM(B99:B102) -> 4 | E98: =SUM(E99:E102) -> 306 | H98: =SUM(H99:H102) -> 6896.65 | I98: =SUM(I99:I102) -> 8523.58
A99: Pneimonologs | B99: 1 | C99: =D99+E99 -> 202 | D99: 154 | E99: 48 | F99: 1735.43 | G99: =F99/154 -> 11.269026 | H99: =ROUND(E99*G99*2,2) -> 1081.83 | I99: =ROUND(H99*1.2359,2) -> 1337.03
A100: Internists | B100: 1 | C100: =D100+E100 -> 250 | D100: 154 | E100: 96 | F100: 1735.43 | G100: =F100/154 -> 11.269026 | H100: =ROUND(E100*G100*2,2) -> 2163.65 | I100: =ROUND(H100*1.2359,2) -> 2674.06
A101: Narkologs | B101: 1 | C101: =D101+E101 -> 216 | D101: 80 | E101: 136 | F101: 1735.43 | G101: =F101/154 -> 11.269026 | H101: =ROUND(E101*G101*2,2) -> 3065.18 | I101: =ROUND(H101*1.2359,2) -> 3788.26
A102: Neatliekamās medicīnas ārsts | B102: 1 | C102: =D102+E102 -> 180 | D102: 154 | E102: 26 | F102: 1735.43 | G102: =F102/154 -> 11.269026 | H102: =ROUND(E102*G102*2,2) -> 585.99 | I102: =ROUND(H102*1.2359,2) -> 724.23
A103: "Plaušu slimību un tuberkulozes centrs" Infekcijas nodaļa - Covid19 nodaļa | B103: =B104+B106+B113 -> 10 | E103: =E104+E106+E113 -> 308 | H103: =H104+H106+H113 -> 4683.42 | I103: =I104+I106+I113 -> 5788.22
A104: Ārstniecības un pacientu aprūpes personas un funkcionālo speciālistu asistenti, kopā, tai skaitā: | B104: =SUM(B105:B105) -> 1 | E104: =SUM(E105:E105) -> 96 | H104: =SUM(H105:H105) -> 2163.65 | I104: =SUM(I105:I105) -> 2674.06
A105: Infektologs | B105: 1 | C105: =D105+E105 -> 232 | D105: 136 | E105: 96 | F105: 1735.43 | G105: =F105/154 -> 11.269026 | H105: =ROUND(E105*G105*2,2) -> 2163.65 | I105: =ROUND(H105*1.2359,2) -> 2674.06
A106: Ārstniecības un pacientu aprūpes personas un funkcionālo speciālistu asistenti, kopā, tai skaitā: | B106: =SUM(B107:B112) -> 6 | E106: =SUM(E107:E112) -> 126 | H106: =SUM(H107:H112) -> 1668.1 | I106: =SUM(I107:I112) -> 2061.59
A107: Internās aprūpes māsa | B107: 1 | C107: =D107+E107 -> 208 | D107: 176 | E107: 32 | F107: 1183.99 | G107: =F107/176 -> 6.7272159 | H107: =ROUND(E107*G107*2,2) -> 430.54 | I107: =ROUND(H107*1.2359,2) -> 532.1
A108: Internās aprūpes māsa | B108: 1 | C108: =D108+E108 -> 166 | D108: 154 | E108: 12 | F108: 1035.99 | G108: =F108/154 -> 6.7272078 | H108: =ROUND(E108*G108*2,2) -> 161.45 | I108: =ROUND(H108*1.2359,2) -> 199.54
A109: Internās aprūpes māsa | B109: 1 | C109: =D109+E109 -> 36 | D109: 28 | E109: 8 | F109: 1035.99 | G109: =F109/154 -> 6.7272078 | H109: =ROUND(E109*G109*2,2) -> 107.64 | I109: =ROUND(H109*1.2359,2) -> 133.03
A110: Internās aprūpes māsa | B110: 1 | C110: =D110+E110 -> 195 | D110: 154 | E110: 41 | F110: 985 | G110: =F110/154 -> 6.3961039 | H110: =ROUND(E110*G110*2,2) -> 524.48 | I110: =ROUND(H110*1.2359,2) -> 648.2
A111: Medicīnas māsa | B111: 1 | C111: =D111+E111 -> 106 | D111: 105 | E111: 1 | F111: 1035.99 | G111: =F111/154 -> 6.7272078 | H111: =ROUND(E111*G111*2,2) -> 13.45 | I111: =ROUND(H111*1.2359,2) -> 16.62
A112: Medicīnas māsa | B112: 1 | C112: =D112+E112 -> 186 | D112: 154 | E112: 32 | F112: 1035.99 | G112: =F112/154 -> 6.7272078 | H112: =ROUND(E112*G112*2,2) -> 430.54 | I112: =ROUND(H112*1.2359,2) -> 532.1
A113: Ārstniecības un pacientu aprūpes atbalsta personas, māsu palīgi, zobārstu asistenti, kopā, tai skaitā: | B113: =SUM(B114:B116) -> 3 | E113: =SUM(E114:E116) -> 86 | H113: =SUM(H114:H116) -> 851.67 | I113: =SUM(I114:I116) -> 1052.57
A114: Māsas palīgs | B114: 1 | C114: =D114+E114 -> 166 | D114: 154 | E114: 12 | F114: 762.531 | G114: =F114/D114 -> 4.9515 | H114: =ROUND(E114*G114*2,2) -> 118.84 | I114: =ROUND(H114*1.2359,2) -> 146.87
A115: Māsas palīgs | B115: 1 | C115: =D115+E115 -> 166 | D115: 154 | E115: 12 | F115: 762.531 | G115: =F115/D115 -> 4.9515 | H115: =ROUND(E115*G115*2,2) -> 118.84 | I115: =ROUND(H115*1.2359,2) -> 146.87
A116: Māsas palīgs | B116: 1 | C116: =D116+E116 -> 216 | D116: 154 | E116: 62 | F116: 762.531 | G116: =F116/D116 -> 4.9515 | H116: =ROUND(E116*G116*2,2) -> 613.99 | I116: =ROUND(H116*1.2359,2) -> 758.83
A117: "Plaušu slimību un tuberkulozes centrs" Intensīvās terapijas nodaļa Covid19 nodaļa | B117: =B118+B140 -> 26 | E117: =E118+E140 -> 674 | H117: =H118+H140 -> 8321.15 | I117: =I118+I140 -> 10284.13
A118: Ārstniecības un pacientu aprūpes personas un funkcionālo speciālistu asistenti, kopā, tai skaitā: | B118: =SUM(B119:B139) -> 21 | E118: =SUM(E119:E139) -> 526 | H118: =SUM(H119:H139) -> 6855.51 | I118: =SUM(I119:I139) -> 8472.74
A119: Anestēzijas, intensīvās un neatliekamās aprūpes māsa | B119: 1 | C119: =D119+E119 -> 168 | D119: 147 | E119: 21 | F119: 1035.99 | G119: =F119/154 -> 6.7272078 | H119: =ROUND(E119*G119*2,2) -> 282.54 | I119: =ROUND(H119*1.2359,2) -> 349.19
A120: Anestēzijas, intensīvās un neatliekamās aprūpes māsa | B120: 1 | C120: =D120+E120 -> 166 | D120: 154 | E120: 12 | F120: 1035.99 | G120: =F120/154 -> 6.7272078 | H120: =ROUND(E120*G120*2,2) -> 161.45 | I120: =ROUND(H120*1.2359,2) -> 199.54
A121: Internās aprūpes māsa | B121: 1 | C121: =D121+E121 -> 166 | D121: 154 | E121: 12 | F121: 1035.99 | G121: =F121/154 -> 6.7272078 | H121: =ROUND(E121*G121*2,2) -> 161.45 | I121: =ROUND(H121*1.2359,2) -> 199.54
A122: Internās aprūpes māsa | B122: 1 | C122: =D122+E122 -> 166 | D122: 154 | E122: 12 | F122: 1035.99 | G122: =F122/154 -> 6.7272078 | H122: =ROUND(E122*G122*2,2) -> 161.45 | I122: =ROUND(H122*1.2359,2) -> 199.54
A123: Internās aprūpes māsa | B123: 1 | C123: =D123+E123 -> 166 | D123: 154 | E123: 12 | F123: 1035.99 | G123: =F123/154 -> 6.7272078 | H123: =ROUND(E123*G123*2,2) -> 161.45 | I123: =ROUND(H123*1.2359,2) -> 199.54
A124: Internās aprūpes māsa | B124: 1 | C124: =D124+E124 -> 166 | D124: 154 | E124: 12 | F124: 1035.99 | G124: =F124/154 -> 6.7272078 | H124: =ROUND(E124*G124*2,2) -> 161.45 | I124: =ROUND(H124*1.2359,2) -> 199.54
A125: Internās aprūpes māsa | B125: 1 | C125: =D125+E125 -> 172 | D125: 112 | E125: 60 | F125: 1035.99 | G125: =F125/154 -> 6.7272078 | H125: =ROUND(E125*G125*2,2) -> 807.26 | I125: =ROUND(H125*1.2359,2) -> 997.69
A126: Internās aprūpes māsa | B126: 1 | C126: =D126+E126 -> 178 | D126: 154 | E126: 24 | F126: 1035.99 | G126: =F126/154 -> 6.7272078 | H126: =ROUND(E126*G126*2,2) -> 322.91 | I126: =ROUND(H126*1.2359,2) -> 399.08
A127: Internās aprūpes māsa | B127: 1 | C127: =D127+E127 -> 166 | D127: 154 | E127: 12 | F127: 1035.99 | G127: =F127/154 -> 6.7272078 | H127: =ROUND(E127*G127*2,2) -> 161.45 | I127: =ROUND(H127*1.2359,2) -> 199.54
A128: Internās aprūpes māsa | B128: 1 | C128: =D128+E128 -> 188 | D128: 176 | E128: 12 | F128: 1035.99 | G128: =F128/154 -> 6.7272078 | H128: =ROUND(E128*G128*2,2) -> 161.45 | I128: =ROUND(H128*1.2359,2) -> 199.54
A129: Internās aprūpes māsa | B129: 1 | C129: =D129+E129 -> 200 | D129: 176 | E129: 24 | F129: 1035.99 | G129: =F129/154 -> 6.7272078 | H129: =ROUND(E129*G129*2,2) -> 322.91 | I129: =ROUND(H129*1.2359,2) -> 399.08
A130: Internās aprūpes māsa | B130: 1 | C130: =D130+E130 -> 166 | D130: 154 | E130: 12 | F130: 1035.99 | G130: =F130/154 -> 6.7272078 | H130: =ROUND(E130*G130*2,2) -> 161.45 | I130: =ROUND(H130*1.2359,2) -> 199.54
... A139: Medicīnas māsa | B139: 1 | C139: =D139+E139 -> 108 | D139: 84 | E139: 24 | F139: 915.04 | G139: =F139/154 -> 5.9418182 | H139: =ROUND(E139*G139*2,2) -> 285.21 | I139: =ROUND(H139*1.2359,2) -> 352.49
A140: Ārstniecības un pacientu aprūpes atbalsta personas, māsu palīgi, zobārstu asistenti, kopā, tai skaitā: | B140: =SUM(B141:B145) -> 5 | E140: =SUM(E141:E145) -> 148 | H140: =SUM(H141:H145) -> 1465.64 | I140: =SUM(I141:I145) -> 1811.39
A141: Māsas palīgs | B141: 1 | C141: =D141+E141 -> 202 | D141: 154 | E141: 48 | F141: 762.53 | G141: =F141/154 -> 4.9514935 | H141: =ROUND(E141*G141*2,2) -> 475.34 | I141: =ROUND(H141*1.2359,2) -> 587.47
A142: Māsas palīgs | B142: 1 | C142: =D142+E142 -> 183 | D142: 133 | E142: 50 | F142: 762.53 | G142: =F142/154 -> 4.9514935 | H142: =ROUND(E142*G142*2,2) -> 495.15 | I142: =ROUND(H142*1.2359,2) -> 611.96
A143: Māsas palīgs | B143: 1 | C143: =D143+E143 -> 168 | D143: 154 | E143: 14 | F143: 762.53 | G143: =F143/154 -> 4.9514935 | H143: =ROUND(E143*G143*2,2) -> 138.64 | I143: =ROUND(H143*1.2359,2) -> 171.35
A144: Māsas palīgs | B144: 1 | C144: =D144+E144 -> 166 | D144: 154 | E144: 12 | F144: 762.53 | G144: =F144/154 -> 4.9514935 | H144: =ROUND(E144*G144*2,2) -> 118.84 | I144: =ROUND(H144*1.2359,2) -> 146.87
A145: Māsas palīgs | B145: 1 | C145: =D145+E145 -> 178 | D145: 154 | E145: 24 | F145: 762.53 | G145: =F145/154 -> 4.9514935 | H145: =ROUND(E145*G145*2,2) -> 237.67 | I145: =ROUND(H145*1.2359,2) -> 293.74
A146: "Plaušu slimību un tuberkulozes centrs" Paliatīvās aprūpes nodaļa -pārprofilēta Covid 19 nodaļa | B146: =B147+B154 -> 12 | E146: =E147+E154 -> 251 | H146: =H147+H154 -> 2838.97 | I146: =I147+I154 -> 3508.7
A147: Ārstniecības un pacientu aprūpes personas un funkcionālo speciālistu asistenti, kopā, tai skaitā: | B147: =SUM(B148:B153) -> 6 | E147: =SUM(E148:E153) -> 123 | H147: =SUM(H148:H153) -> 1579.2 | I147: =SUM(I148:I153) -> 1951.74
A148: Ķirurģiskās aprūpes māsa | B148: 1 | C148: =D148+E148 -> 192 | D148: 154 | E148: 38 | F148: 1035.99 | G148: =F148/154 -> 6.7272078 | H148: =ROUND(E148*G148*2,2) -> 511.27 | I148: =ROUND(H148*1.2359,2) -> 631.88
A149: Ķirurģiskās aprūpes māsa | B149: 1 | C149: =D149+E149 -> 168 | D149: 154 | E149: 14 | F149: 1035.99 | G149: =F149/D149 -> 6.7272078 | H149: =ROUND(E149*G149*2,2) -> 188.36 | I149: =ROUND(H149*1.2359,2) -> 232.79
A150: Onkoloģiskās aprūpes māsa | B150: 1 | C150: =D150+E150 -> 176 | D150: 154 | E150: 22 | F150: 1035.99 | G150: =F150/D150 -> 6.7272078 | H150: =ROUND(E150*G150*2,2) -> 296 | I150: =ROUND(H150*1.2359,2) -> 365.83
A151: Onkoloģiskās aprūpes māsa | B151: 1 | C151: =D151+E151 -> 163 | D151: 154 | E151: 9 | F151: 984.92 | G151: =F151/D151 -> 6.3955844 | H151: =ROUND(E151*G151*2,2) -> 115.12 | I151: =ROUND(H151*1.2359,2) -> 142.28
A152: Medicīnas māsa | B152: 1 | C152: =D152+E152 -> 164 | D152: 154 | E152: 10 | F152: 861.94 | G152: =F152/D152 -> 5.597013 | H152: =ROUND(E152*G152*2,2) -> 111.94 | I152: =ROUND(H152*1.2359,2) -> 138.35
A153: Medicīnas māsa | B153: 1 | C153: =D153+E153 -> 184 | D153: 154 | E153: 30 | F153: 915.04 | G153: =F153/D153 -> 5.9418182 | H153: =ROUND(E153*G153*2,2) -> 356.51 | I153: =ROUND(H153*1.2359,2) -> 440.61
A154: Ārstniecības un pacientu aprūpes atbalsta personas, māsu palīgi, zobārstu asistenti, kopā, tai skaitā: | B154: =SUM(B155:B160) -> 6 | E154: =SUM(E155:E160) -> 128 | H154: =SUM(H155:H160) -> 1259.77 | I154: =SUM(I155:I160) -> 1556.96
A155: Māsas palīgs | B155: 1 | C155: =D155+E155 -> 184 | D155: 154 | E155: 30 | F155: 762.53 | G155: =F155/154 -> 4.9514935 | H155: =ROUND(E155*G155*2,2) -> 297.09 | I155: =ROUND(H155*1.2359,2) -> 367.17
...

Sheet Daugavpils_reģ_okt
H1: 1.4.Pielikums
A2: Pārskats par darba veicējiem (ārstniecības personām), virs normālā darba laika nostrādātām stundām, apmaksājamām stundām un izdevumiem, kas radušies saistībā ar mērķi ierobežot Covid-19 izplatību
A4: Iestādes nosaukums: SIA "Daugavpils reģionālā slimnīca"
A5: Pārskata mēnesis: Oktobris
B7: Nodarbināto skaits mēnesī | C7: Apmaksājamais laiks mēnesī, stundas (tai skaitā summētā darba laika ietvaros) | F7: Mēnešalga no kuras rēķina stundas likmi | G7: Stundas likme (aprēķināta atbilstoši mēnešalgai vai darba līgumā noteiktā stundas likme) | H7: Apmaksājamā 100% piemaksa par nostrādātām virsstundām virs normālā darba laika (tai skaitā summētā darba laika ietvaros) | I7: Izdevumi par virsstundām kopā ar VSOAI, EUR
C8: Kopā | D8: līdz normālam darba laikam | E8: virsstundas - virs normālā darba laika, kas saistītas ar darbu ar Covid-19
A10: 1 | B10: 2 | C10: 3=4+5 | D10: 4 | E10: 5 | F10: 6 | G10: 7 | H10: 8 | I10: 9=8 +VSOAI
A11: KOPĀ | B11: =B12+B105+B111+B160+B194+B210+B244+B264+B290+B310+B317+B321 -> 317 | E11: =E12+E105+E111+E160+E194+E210+E244+E264+E290+E310+E317+E321 -> 11474.5 | H11: =H12+H105+H111+H160+H194+H210+H244+H264+H290+H310+H317+H321 -> 156297.52 | I11: =I12+I105+I111+I160+I194+I210+I244+I264+I290+I310+I317+I321 -> 193168.19
A12: Centrālā slimnīca "Uzņemšanas nodaļa" | B12: =B13+B45+B88 -> 89 | E12: =E13+E45+E88 -> 4387 | H12: =H13+H45+H88 -> 65659.39 | I12: =I13+I45+I88 -> 81148.49
A13: Ārsti, zobārsti un funkcionālie speciālisti, kopā, tai skaitā: | B13: =SUM(B14:B44) -> 31 | E13: =SUM(E14:E44) -> 2045 | H13: =SUM(H14:H44) -> 40308.89 | I13: =SUM(I14:I44) -> 49817.74
A14: Ārsts (dežūrslodze) | B14: 1 | C14: =D14+E14 -> 176 | D14: 144 | E14: 32 | F14: 1655.72 | G14: =F14/168 -> 9.8554762 | H14: =ROUND(E14*G14*2,2) -> 630.75 | I14: =ROUND(H14*1.2359,2) -> 779.54
A15: Ārsts (dežūrslodze) | B15: 1 | C15: =D15+E15 -> 186.5 | D15: 168 | E15: 18.5 | F15: 1655.72 | G15: =F15/168 -> 9.8554762 | H15: =ROUND(E15*G15*2,2) -> 364.65 | I15: =ROUND(H15*1.2359,2) -> 450.67
A16: Neatliekamās medicīnas ārsts | B16: 1 | C16: =D16+E16 -> 159 | D16: 136 | E16: 23 | F16: 1655.72 | G16: =F16/168 -> 9.8554762 | H16: =ROUND(E16*G16*2,2) -> 453.35 | I16: =ROUND(H16*1.2359,2) -> 560.3
A17: Neatliekamās medicīnas ārsts | B17: 1 | C17: =D17+E17 -> 184 | D17: 168 | E17: 16 | F17: 1655.72 | G17: =F17/168 -> 9.8554762 | H17: =ROUND(E17*G17*2,2) -> 315.38 | I17: =ROUND(H17*1.2359,2) -> 389.78
A18: Bērnu ķirurgs | B18: 1 | C18: =D18+E18 -> 256 | D18: 168 | E18: 88 | F18: 1655.72 | G18: =F18/168 -> 9.8554762 | H18: =ROUND(E18*G18*2,2) -> 1734.56 | I18: =ROUND(H18*1.2359,2) -> 2143.74
A19: Ginekologs,dzemdību speciālists | B19: 1 | C19: =D19+E19 -> 64 | D19: 24 | E19: 40 | F19: 1655.72 | G19: =F19/168 -> 9.8554762 | H19: =ROUND(E19*G19*2,2) -> 788.44 | I19: =ROUND(H19*1.2359,2) -> 974.43
A20: Ginekologs,dzemdību speciālists | B20: 1 | C20: =D20+E20 -> 176 | D20: 152 | E20: 24 | F20: 1655.72 | G20: =F20/168 -> 9.8554762 | H20: =ROUND(E20*G20*2,2) -> 473.06 | I20: =ROUND(H20*1.2359,2) -> 584.65
A21: Internists | B21: 1 | C21: =D21+E21 -> 272 | D21: 168 | E21: 104 | F21: 1655.72 | G21: =F21/168 -> 9.8554762 | H21: =ROUND(E21*G21*2,2) -> 2049.94 | I21: =ROUND(H21*1.2359,2) -> 2533.52
A22: Internists | B22: 1 | C22: =D22+E22 -> 195 | D22: 147 | E22: 48 | F22: 1655.72 | G22: =F22/168 -> 9.8554762 | H22: =ROUND(E22*G22*2,2) -> 946.13 | I22: =ROUND(H22*1.2359,2) -> 1169.32
A23: Kardiologs | B23: 1 | C23: =D23+E23 -> 195 | D23: 147 | E23: 48 | F23: 1655.72 | G23: =F23/168 -> 9.8554762 | H23: =ROUND(E23*G23*2,2) -> 946.13 | I23: =ROUND(H23*1.2359,2) -> 1169.32
A24: Kardiologs | B24: 1 | C24: =D24+E24 -> 232 | D24: 168 | E24: 64 | F24: 1655.72 | G24: =F24/168 -> 9.8554762 | H24: =ROUND(E24*G24*2,2) -> 1261.5 | I24: =ROUND(H24*1.2359,2) -> 1559.09
A25: Kardiologs | B25: 1 | C25: =D25+E25 -> 232 | D25: 112 | E25: 120 | F25: 1655.72 | G25: =F25/168 -> 9.8554762 | H25: =ROUND(E25*G25*2,2) -> 2365.31 | I25: =ROUND(H25*1.2359,2) -> 2923.29
... A44: Rezidents | B44: 1 | C44: =D44+E44 -> 331 | D44: 128 | E44: 203 | F44: 1655.72 | G44: =F44/168 -> 9.8554762 | H44: =ROUND(E44*G44*2,2) -> 4001.32 | I44: =ROUND(H44*1.2359,2) -> 4945.23
A45: Ārstniecības un pacientu aprūpes personas un funkcionālo speciālistu asistenti, kopā, tai skaitā: | B45: =SUM(B46:B87) -> 42 | E45: =SUM(E46:E87) -> 1703 | H45: =SUM(H46:H87) -> 19743.54 | I45: =SUM(I46:I87) -> 24401.08
A46: Ārsta palīgs | B46: 1 | C46: =D46+E46 -> 152 | D46: 144 | E46: 8 | F46: 870.03 | G46: =F46/168 -> 5.17875 | H46: =ROUND(E46*G46*2,2) -> 82.86 | I46: =ROUND(H46*1.2359,2) -> 102.41
A47: Ārsta palīgs | B47: 1 | C47: =D47+E47 -> 200 | D47: 168 | E47: 32 | F47: 873.01 | G47: =F47/168 -> 5.1964881 | H47: =ROUND(E47*G47*2,2) -> 332.58 | I47: =ROUND(H47*1.2359,2) -> 411.04
A48: Ārsta palīgs | B48: 1 | C48: =D48+E48 -> 232 | D48: 168 | E48: 64 | F48: 873.01 | G48: =F48/168 -> 5.1964881 | H48: =ROUND(E48*G48*2,2) -> 665.15 | I48: =ROUND(H48*1.2359,2) -> 822.06
A49: Ārsta palīgs | B49: 1 | C49: =D49+E49 -> 145 | D49: 104 | E49: 41 | F49: 873.01 | G49: =F49/168 -> 5.1964881 | H49: =ROUND(E49*G49*2,2) -> 426.11 | I49: =ROUND(H49*1.2359,2) -> 526.63
A50: Ārsta palīgs | B50: 1 | C50: =D50+E50 -> 280 | D50: 168 | E50: 112 | F50: 988.41 | G50: =F50/168 -> 5.8833929 | H50: =ROUND(E50*G50*2,2) -> 1317.88 | I50: =ROUND(H50*1.2359,2) -> 1628.77
A51: Ārsta palīgs | B51: 1 | C51: =D51+E51 -> 109.5 | D51: 64 | E51: 45.5 | F51: 988.41 | G51: =F51/168 -> 5.8833929 | H51: =ROUND(E51*G51*2,2) -> 535.39 | I51: =ROUND(H51*1.2359,2) -> 661.69
A52: Ārsta palīgs | B52: 1 | C52: =D52+E52 -> 258.5 | D52: 168 | E52: 90.5 | F52: 988.41 | G52: =F52/168 -> 5.8833929 | H52: =ROUND(E52*G52*2,2) -> 1064.89 | I52: =ROUND(H52*1.2359,2) -> 1316.1
A53: Ārsta palīgs | B53: 1 | C53: =D53+E53 -> 72 | D53: 64 | E53: 8 | F53: 988.41 | G53: =F53/168 -> 5.8833929 | H53: =ROUND(E53*G53*2,2) -> 94.13 | I53: =ROUND(H53*1.2359,2) -> 116.34
A54: Ārsta palīgs | B54: 1 | C54: =D54+E54 -> 234 | D54: 168 | E54: 66 | F54: 988.41 | G54: =F54/168 -> 5.8833929 | H54: =ROUND(E54*G54*2,2) -> 776.61 | I54: =ROUND(H54*1.2359,2) -> 959.81
A55: Internās aprūpes māsa | B55: 1 | C55: =D55+E55 -> 68 | D55: 64 | E55: 4 | F55: 988.41 | G55: =F55/168 -> 5.8833929 | H55: =ROUND(E55*G55*2,2) -> 47.07 | I55: =ROUND(H55*1.2359,2) -> 58.17
A56: Internās aprūpes māsa | B56: 1 | C56: =D56+E56 -> 216 | D56: 112 | E56: 104 | F56: 988.41 | G56: =F56/168 -> 5.8833929 | H56: =ROUND(E56*G56*2,2) -> 1223.75 | I56: =ROUND(H56*1.2359,2) -> 1512.43
A57: Internās aprūpes māsa | B57: 1 | C57: =D57+E57 -> 96 | D57: 64 | E57: 32 | F57: 988.41 | G57: =F57/168 -> 5.8833929 | H57: =ROUND(E57*G57*2,2) -> 376.54 | I57: =ROUND(H57*1.2359,2) -> 465.37
... A65: Internās aprūpes māsa | B65: 1 | C65: =D65+E65 -> 228 | D65: 168 | E65: 60 | F65: 988.41 | G65: =F65/168 -> 5.8833929 | H65: =ROUND(E65*G65*2,2) -> 706.01 | I65: =ROUND(H65*1.2359,2) -> 872.56
A66: Internās aprūpes māsa | B66: 1 | C66: =D66+E66 -> 155 | D66: 147 | E66: 8 | F66: 988.9 | G66: =F66/147 -> 6.7272109 | H66: =ROUND(E66*G66*2,2) -> 107.64 | I66: =ROUND(H66*1.2359,2) -> 133.03
A67: Internās aprūpes māsa | B67: 1 | C67: =D67+E67 -> 84 | D67: 70 | E67: 14 | F67: 988.9 | G67: =F67/147 -> 6.7272109 | H67: =ROUND(E67*G67*2,2) -> 188.36 | I67: =ROUND(H67*1.2359,2) -> 232.79
A68: Internās aprūpes māsa | B68: 1 | C68: =D68+E68 -> 156 | D68: 147 | E68: 9 | F68: 988.9 | G68: =F68/147 -> 6.7272109 | H68: =ROUND(E68*G68*2,2) -> 121.09 | I68: =ROUND(H68*1.2359,2) -> 149.66
A69: Internās aprūpes māsa | B69: 1 | C69: =D69+E69 -> 159 | D69: 147 | E69: 12 | F69: 988.9 | G69: =F69/147 -> 6.7272109 | H69: =ROUND(E69*G69*2,2) -> 161.45 | I69: =ROUND(H69*1.2359,2) -> 199.54
A70: Ķirurģiskās aprūpes māsa | B70: 1 | C70: =D70+E70 -> 221.5 | D70: 168 | E70: 53.5 | F70: 988.41 | G70: =F70/168 -> 5.8833929 | H70: =ROUND(E70*G70*2,2) -> 629.52 | I70: =ROUND(H70*1.2359,2) -> 778.02
A71: Ķirurģiskās aprūpes māsa | B71: 1 | C71: =D71+E71 -> 202 | D71: 168 | E71: 34 | F71: 988.41 | G71: =F71/168 -> 5.8833929 | H71: =ROUND(E71*G71*2,2) -> 400.07 | I71: =ROUND(H71*1.2359,2) -> 494.45
A72: Ķirurģiskās aprūpes māsa | B72: 1 | C72: =D72+E72 -> 155 | D72: 144 | E72: 11 | F72: 988.41 | G72: =F72/168 -> 5.8833929 | H72: =ROUND(E72*G72*2,2) -> 129.43 | I72: =ROUND(H72*1.2359,2) -> 159.96
A73: Ķirurģiskās aprūpes māsa | B73: 1 | C73: =D73+E73 -> 72 | D73: 64 | E73: 8 | F73: 988.41 | G73: =F73/168 -> 5.8833929 | H73: =ROUND(E73*G73*2,2) -> 94.13 | I73: =ROUND(H73*1.2359,2) -> 116.34
A74: Ķirurģiskās aprūpes māsa | B74: 1 | C74: =D74+E74 -> 208 | D74: 168 | E74: 40 | F74: 988.41 | G74: =F74/168 -> 5.8833929 | H74: =ROUND(E74*G74*2,2) -> 470.67 | I74: =ROUND(H74*1.2359,2) -> 581.7
A75: Ķirurģiskās aprūpes māsa | B75: 1 | C75: =D75+E75 -> 144 | D75: 112 | E75: 32 | F75: 988.41 | G75: =F75/168 -> 5.8833929 | H75: =ROUND(E75*G75*2,2) -> 376.54 | I75: =ROUND(H75*1.2359,2) -> 465.37
A76: Medicīnas māsa | B76: 1 | C76: =D76+E76 -> 170 | D76: 160 | E76: 10 | F76: 988.41 | G76: =F76/168 -> 5.8833929 | H76: =ROUND(E76*G76*2,2) -> 117.67 | I76: =ROUND(H76*1.2359,2) -> 145.43
A77: Medicīnas māsa | B77: 1 | C77: =D77+E77 -> 164 | D77: 147 | E77: 17 | F77: 873.45 | G77: =F77/147 -> 5.9418367 | H77: =ROUND(E77*G77*2,2) -> 202.02 | I77: =ROUND(H77*1.2359,2) -> 249.68
A78: Medicīnas māsa | B78: 1 | C78: =D78+E78 -> 108 | D78: 80 | E78: 28 | F78: 873.01 | G78: =F78/168 -> 5.1964881 | H78: =ROUND(E78*G78*2,2) -> 291 | I78: =ROUND(H78*1.2359,2) -> 359.65
A79: Medicīnas māsa | B79: 1 | C79: =D79+E79 -> 212 | D79: 168 | E79: 44 | F79: 873.01 | G79: =F79/168 -> 5.1964881 | H79: =ROUND(E79*G79*2,2) -> 457.29 | I79: =ROUND(H79*1.2359,2) -> 565.16
A80: Medicīnas māsa | B80: 1 | C80: =D80+E80 -> 220 | D80: 168 | E80: 52 | F80: 873.01 | G80: =F80/168 -> 5.1964881 | H80: =ROUND(E80*G80*2,2) -> 540.43 | I80: =ROUND(H80*1.2359,2) -> 667.92
A81: Medicīnas māsa | B81: 1 | C81: =D81+E81 -> 196 | D81: 168 | E81: 28 | F81: 988.41 | G81: =F81/168 -> 5.8833929 | H81: =ROUND(E81*G81*2,2) -> 329.47 | I81: =ROUND(H81*1.2359,2) -> 407.19
A82: Medicīnas māsa | B82: 1 | C82: =D82+E82 -> 232 | D82: 168 | E82: 64 | F82: 988.41 | G82: =F82/168 -> 5.8833929 | H82: =ROUND(E82*G82*2,2) -> 753.07 | I82: =ROUND(H82*1.2359,2) -> 930.72
A83: Medicīnas māsa | B83: 1 | C83: =D83+E83 -> 228 | D83: 168 | E83: 60 | F83: 988.41 | G83: =F83/168 -> 5.8833929 | H83: =ROUND(E83*G83*2,2) -> 706.01 | I83: =ROUND(H83*1.2359,2) -> 872.56
A84: Medicīnas māsa | B84: 1 | C84: =D84+E84 -> 136 | D84: 104 | E84: 32 | F84: 988.41 | G84: =F84/168 -> 5.8833929 | H84: =ROUND(E84*G84*2,2) -> 376.54 | I84: =ROUND(H84*1.2359,2) -> 465.37
A85: Operāciju māsa | B85: 1 | C85: =D85+E85 -> 189 | D85: 160 | E85: 29 | F85: 988.41 | G85: =F85/168 -> 5.8833929 | H85: =ROUND(E85*G85*2,2) -> 341.24 | I85: =ROUND(H85*1.2359,2) -> 421.74
A86: Operāciju māsa | B86: 1 | C86: =D86+E86 -> 191.5 | D86: 168 | E86: 23.5 | F86: 988.41 | G86: =F86/168 -> 5.8833929 | H86: =ROUND(E86*G86*2,2) -> 276.52 | I86: =ROUND(H86*1.2359,2) -> 341.75
A87: Operāciju māsa | B87: 1 | C87: =D87+E87 -> 176 | D87: 168 | E87: 8 | F87: 988.41 | G87: =F87/168 -> 5.8833929 | H87: =ROUND(E87*G87*2,2) -> 94.13 | I87: =ROUND(H87*1.2359,2) -> 116.34
A88: Ārstniecības un pacientu aprūpes atbalsta personas, māsu palīgi, zobārstu asistenti, kopā, tai skaitā: | B88: =SUM(B89:B104) -> 16 | E88: =SUM(E89:E104) -> 639 | H88: =SUM(H89:H104) -> 5606.96 | I88: =SUM(I89:I104) -> 6929.67
A89: Māsas palīgs | B89: 1 | C89: =D89+E89 -> 240 | D89: 168 | E89: 72 | F89: 750 | G89: =F89/168 -> 4.4642857 | H89: =ROUND(E89*G89*2,2) -> 642.86 | I89: =ROUND(H89*1.2359,2) -> 794.51
A90: Māsas palīgs | B90: 1 | C90: =D90+E90 -> 260 | D90: 168 | E90: 92 | F90: 727.51 | G90: =F90/168 -> 4.3304167 | H90: =ROUND(E90*G90*2,2) -> 796.8 | I90: =ROUND(H90*1.2359,2) -> 984.77
A91: Māsas palīgs | B91: 1 | C91: =D91+E91 -> 180 | D91: 120 | E91: 60 | F91: 727.51 | G91: =F91/168 -> 4.3304167 | H91: =ROUND(E91*G91*2,2) -> 519.65 | I91: =ROUND(H91*1.2359,2) -> 642.24
A92: Māsas palīgs | B92: 1 | C92: =D92+E92 -> 156 | D92: 104 | E92: 52 | F92: 727.51 | G92: =F92/168 -> 4.3304167 | H92: =ROUND(E92*G92*2,2) -> 450.36 | I92: =ROUND(H92*1.2359,2) -> 556.6
A93: Māsas palīgs | B93: 1 | C93: =D93+E93 -> 96 | D93: 80 | E93: 16 | F93: 727.51 | G93: =F93/168 -> 4.3304167 | H93: =ROUND(E93*G93*2,2) -> 138.57 | I93: =ROUND(H93*1.2359,2) -> 171.26
A94: Māsas palīgs | B94: 1 | C94: =D94+E94 -> 24 | D94: 16 | E94: 8 | F94: 727.51 | G94: =F94/168 -> 4.3304167 | H94: =ROUND(E94*G94*2,2) -> 69.29 | I94: =ROUND(H94*1.2359,2) -> 85.64
A95: Māsas palīgs | B95: 1 | C95: =D95+E95 -> 116 | D95: 96 | E95: 20 | F95: 727.51 | G95: =F95/168 -> 4.3304167 | H95: =ROUND(E95*G95*2,2) -> 173.22 | I95: =ROUND(H95*1.2359,2) -> 214.08
A96: Māsas palīgs | B96: 1 | C96: =D96+E96 -> 208 | D96: 168 | E96: 40 | F96: 727.51 | G96: =F96/168 -> 4.3304167 | H96: =ROUND(E96*G96*2,2) -> 346.43 | I96: =ROUND(H96*1.2359,2) -> 428.15
A97: Māsas palīgs | B97: 1 | C97: =D97+E97 -> 156 | D97: 128 | E97: 28 | F97: 727.51 | G97: =F97/168 -> 4.3304167 | H97: =ROUND(E97*G97*2,2) -> 242.5 | I97: =ROUND(H97*1.2359,2) -> 299.71
A98: Māsas palīgs | B98: 1 | C98: =D98+E98 -> 220 | D98: 168 | E98: 52 | F98: 727.51 | G98: =F98/168 -> 4.3304167 | H98: =ROUND(E98*G98*2,2) -> 450.36 | I98: =ROUND(H98*1.2359,2) -> 556.6
A99: Māsas palīgs | B99: 1 | C99: =D99+E99 -> 228 | D99: 168 | E99: 60 | F99: 727.51 | G99: =F99/168 -> 4.3304167 | H99: =ROUND(E99*G99*2,2) -> 519.65 | I99: =ROUND(H99*1.2359,2) -> 642.24
A100: Māsas palīgs | B100: 1 | C100: =D100+E100 -> 152 | D100: 104 | E100: 48 | F100: 727.51 | G100: =F100/168 -> 4.3304167 | H100: =ROUND(E100*G100*2,2) -> 415.72 | I100: =ROUND(H100*1.2359,2) -> 513.79
A101: Māsas palīgs | B101: 1 | C101: =D101+E101 -> 216 | D101: 168 | E101: 48 | F101: 727.51 | G101: =F101/168 -> 4.3304167 | H101: =ROUND(E101*G101*2,2) -> 415.72 | I101: =ROUND(H101*1.2359,2) -> 513.79
A102: Māsas palīgs | B102: 1 | C102: =D102+E102 -> 163 | D102: 147 | E102: 16 | F102: 727.87 | G102: =F102/147 -> 4.9514966 | H102: =ROUND(E102*G102*2,2) -> 158.45 | I102: =ROUND(H102*1.2359,2) -> 195.83
A103: Māsas palīgs | B103: 1 | C103: =D103+E103 -> 48 | D103: 42 | E103: 6 | F103: 727.87 | G103: =F103/147 -> 4.9514966 | H103: =ROUND(E103*G103*2,2) -> 59.42 | I103: =ROUND(H103*1.2359,2) -> 73.44
A104: Māsas palīgs | B104: 1 | C104: =D104+E104 -> 168 | D104: 147 | E104: 21 | F104: 727.87 | G104: =F104/147 -> 4.9514966 | H104: =ROUND(E104*G104*2,2) -> 207.96 | I104: =ROUND(H104*1.2359,2) -> 257.02
A105: "Plaušu slimību un tuberkulozes centrs " Uzņemšanas nodaļa, Covid 19 nodaļa | B105: =B106 -> 4 | E105: =E106 -> 344 | H105: =H106 -> 7753.05 | I105: =I106 -> 9581.99
A106: Ārsti, zobārsti un funkcionālie speciālisti, kopā, tai skaitā: | B106: =SUM(B107:B110) -> 4 | E106: =SUM(E107:E110) -> 344 | H106: =SUM(H107:H110) -> 7753.05 | I106: =SUM(I107:I110) -> 9581.99
A107: Pneimonologs | B107: 1 | C107: =D107+E107 -> 195 | D107: 147 | E107: 48 | F107: 1656.54 | G107: =F107/147 -> 11.26898 | H107: =ROUND(E107*G107*2,2) -> 1081.82 | I107: =ROUND(H107*1.2359,2) -> 1337.02
A108: Internists | B108: 1 | C108: =D108+E108 -> 251 | D108: 147 | E108: 104 | F108: 1656.54 | G108: =F108/147 -> 11.26898 | H108: =ROUND(E108*G108*2,2) -> 2343.95 | I108: =ROUND(H108*1.2359,2) -> 2896.89
A109: Neatliekamās medicīnas ārsts | B109: 1 | C109: =D109+E109 -> 168 | D109: 136 | E109: 32 | F109: 1656.54 | G109: =F109/147 -> 11.26898 | H109: =ROUND(E109*G109*2,2) -> 721.21 | I109: =ROUND(H109*1.2359,2) -> 891.34
A110: Infektologs | B110: 1 | C110: =D110+E110 -> 307 | D110: 147 | E110: 160 | F110: 1656.54 | G110: =F110/147 -> 11.26898 | H110: =ROUND(E110*G110*2,2) -> 3606.07 | I110: =ROUND(H110*1.2359,2) -> 4456.74
A111: "Plaušu slimību un tuberkulozes centrs" Infekcijas nodaļa - Covid19 nodaļa | B111: =B112+B152 -> 46 | E111: =E112+E152 -> 1318 | H111: =H112+H152 -> 16448.01 | I111: =I112+I152 -> 20328.07
A112: Ārstniecības un pacientu aprūpes personas un funkcionālo speciālistu asistenti, kopā, tai skaitā: | B112: =SUM(B113:B151) -> 39 | E112: =SUM(E113:E151) -> 1165 | H112: =SUM(H113:H151) -> 14932.85 | I112: =SUM(I113:I151) -> 18455.48
A113: Internās aprūpes māsa | B113: 1 | C113: =D113+E113 -> 179 | D113: 168 | E113: 11 | F113: 988.41 | G113: =F113/168 -> 5.8833929 | H113: =ROUND(E113*G113*2,2) -> 129.43 | I113: =ROUND(H113*1.2359,2) -> 159.96
A114: Internās aprūpes māsa | B114: 1 | C114: =D114+E114 -> 223 | D114: 147 | E114: 76 | F114: 988.9 | G114: =F114/147 -> 6.7272109 | H114: =ROUND(E114*G114*2,2) -> 1022.54 | I114: =ROUND(H114*1.2359,2) -> 1263.76
A115: Internās aprūpes māsa | B115: 1 | C115: =D115+E115 -> 161 | D115: 147 | E115: 14 | F115: 988.9 | G115: =F115/147 -> 6.7272109 | H115: =ROUND(E115*G115*2,2) -> 188.36 | I115: =ROUND(H115*1.2359,2) -> 232.79
A116: Internās aprūpes māsa | B116: 1 | C116: =D116+E116 -> 184 | D116: 147 | E116: 37 | F116: 988.9 | G116: =F116/147 -> 6.7272109 | H116: =ROUND(E116*G116*2,2) -> 497.81 | I116: =ROUND(H116*1.2359,2) -> 615.24
A117: Internās aprūpes māsa | B117: 1 | C117: =D117+E117 -> 194 | D117: 147 | E117: 47 | F117: 988.9 | G117: =F117/147 -> 6.7272109 | H117: =ROUND(E117*G117*2,2) -> 632.36 | I117: =ROUND(H117*1.2359,2) -> 781.53
A118: Internās aprūpes māsa | B118: 1 | C118: =D118+E118 -> 182 | D118: 147 | E118: 35 | F118: 988.9 | G118: =F118/147 -> 6.7272109 | H118: =ROUND(E118*G118*2,2) -> 470.9 | I118: =ROUND(H118*1.2359,2) -> 581.99
A119: Internās aprūpes māsa | B119: 1 | C119: =D119+E119 -> 203 | D119: 147 | E119: 56 | F119: 988.9 | G119: =F119/147 -> 6.7272109 | H119: =ROUND(E119*G119*2,2) -> 753.45 | I119: =ROUND(H119*1.2359,2) -> 931.19
A120: Internās aprūpes māsa | B120: 1 | C120: =D120+E120 -> 194 | D120: 147 | E120: 47 | F120: 988.9 | G120: =F120/147 -> 6.7272109 | H120: =ROUND(E120*G120*2,2) -> 632.36 | I120: =ROUND(H120*1.2359,2) -> 781.53
A121: Internās aprūpes māsa | B121: 1 | C121: =D121+E121 -> 75 | D121: 63 | E121: 12 | F121: 988.9 | G121: =F121/147 -> 6.7272109 | H121: =ROUND(E121*G121*2,2) -> 161.45 | I121: =ROUND(H121*1.2359,2) -> 199.54
A122: Internās aprūpes māsa | B122: 1 | C122: =D122+E122 -> 187 | D122: 147 | E122: 40 | F122: 988.9 | G122: =F122/147 -> 6.7272109 | H122: =ROUND(E122*G122*2,2) -> 538.18 | I122: =ROUND(H122*1.2359,2) -> 665.14
A123: Internās aprūpes māsa | B123: 1 | C123: =D123+E123 -> 187 | D123: 147 | E123: 40 | F123: 988.9 | G123: =F123/147 -> 6.7272109 | H123: =ROUND(E123*G123*2,2) -> 538.18 | I123: =ROUND(H123*1.2359,2) -> 665.14
A124: Internās aprūpes māsa | B124: 1 | C124: =D124+E124 -> 183 | D124: 147 | E124: 36 | F124: 988.9 | G124: =F124/147 -> 6.7272109 | H124: =ROUND(E124*G124*2,2) -> 484.36 | I124: =ROUND(H124*1.2359,2) -> 598.62
A125: Internās aprūpes māsa | B125: 1 | C125: =D125+E125 -> 199 | D125: 147 | E125: 52 | F125: 988.9 | G125: =F125/147 -> 6.7272109 | H125: =ROUND(E125*G125*2,2) -> 699.63 | I125: =ROUND(H125*1.2359,2) -> 864.67
A126: Internās aprūpes māsa | B126: 1 | C126: =D126+E126 -> 182 | D126: 168 | E126: 14 | F126: 988.41 | G126: =F126/168 -> 5.8833929 | H126: =ROUND(E126*G126*2,2) -> 164.74 | I126: =ROUND(H126*1.2359,2) -> 203.6
A127: Internās aprūpes māsa | B127: 1 | C127: =D127+E127 -> 175 | D127: 168 | E127: 7 | F127: 988.4112 | G127: =F127/168 -> 5.8834 | H127: =ROUND(E127*G127*2,2) -> 82.37 | I127: =ROUND(H127*1.2359,2) -> 101.8
A128: Internās aprūpes māsa | B128: 1 | C128: =D128+E128 -> 196 | D128: 168 | E128: 28 | F128: 988.4112 | G128: =F128/168 -> 5.8834 | H128: =ROUND(E128*G128*2,2) -> 329.47 | I128: =ROUND(H128*1.2359,2) -> 407.19
...

Sheet Z-Kurzeme_sept
H1: 1.5.Pielikums
A2: Pārskats par darba veicējiem (ārstniecības personām), virs normālā darba laika nostrādātām stundām, apmaksājamām stundām un izdevumiem, kas radušies saistībā ar mērķi ierobežot Covid-19 izplatību
A4: Iestādes nosaukums: SIA "Ziemeļkurzemes reģionālā slimnīca" | D4: 174
A5: Pārskata mēnesis: Septembris | D5: 152
B7: Nodarbināto skaits mēnesī | C7: Apmaksājamais laiks mēnesī, stundas (tai skaitā summētā darba laika ietvaros) | F7: Mēnešalga no kuras rēķina stundas likmi | G7: Stundas likme (aprēķināta atbilstoši mēnešalgai vai darba līgumā noteiktā stundas likme) | H7: Apmaksājamā 100% piemaksa par nostrādātām virsstundām virs normālā darba laika (tai skaitā summētā darba laika ietvaros) | I7: Izdevumi par virsstundām kopā ar VSOAI, EUR
C8: Kopā | D8: līdz normālam darba laikam | E8: virsstundas - virs normālā darba laika, kas saistītas ar darbu ar Covid-19
A10: 1 | B10: 2 | C10: 3=4+5 | D10: 4 | E10: 5 | F10: 6 | G10: 7 | H10: 8 | I10: 9=8 +VSOAI
A11: KOPĀ | B11: =B12+B26+B50+B60+B72+B93+B101+B113+B139+B168+B181+B190+B194+B224+B228+B204+B215 -> 169 | E11: =E12+E26+E50+E60+E72+E93+E101+E113+E139+E168+E181+E190+E194+E224+E228+E204+E215 -> 5071.5 | H11: =H12+H26+H50+H60+H72+H93+H101+H113+H139+H168+H181+H190+H194+H224+H228+H204+H215 -> 67194.93 | I11: =I12+I26+I50+I60+I72+I93+I101+I113+I139+I168+I181+I190+I194+I224+I228+I204+I215 -> 83046.2
A12: Infekciju nodaļa(35 stundas nedēļā) | B12: =B13+B19+B21 -> 10 | E12: =E13+E19+E21 -> 553 | H12: =H13+H19+H21 -> 6481.01 | I12: =I13+I19+I21 -> 8009.89
A13: Ārstniecības un pacientu aprūpes personas un funkcionālo speciālistu asistenti, kopā, tai skaitā: | B13: =SUM(B14:B18) -> 5 | E13: =SUM(E14:E18) -> 356 | H13: =SUM(H14:H18) -> 4619.4 | I13: =SUM(I14:I18) -> 5709.13
A14: Infektoloģijas māsa | B14: 1 | C14: =D14+E14 -> 180 | D14: =D$5 -> 152 | E14: 28 | G14: 6.747 | H14: =ROUND(G14*E14*2,2) -> 377.83 | I14: =ROUND(H14*1.2359,2) -> 466.96
A15: Infektoloģijas māsa | B15: 1 | C15: =D15+E15 -> 170 | D15: =D$5 -> 152 | E15: 18 | G15: 6.747 | H15: =ROUND(G15*E15*2,2) -> 242.89 | I15: =ROUND(H15*1.2359,2) -> 300.19
A16: Infektoloģijas māsa | B16: 1 | C16: =D16+E16 -> 198 | D16: =D$5 -> 152 | E16: 46 | G16: 6.747 | H16: =ROUND(G16*E16*2,2) -> 620.72 | I16: =ROUND(H16*1.2359,2) -> 767.15
A17: Infektoloģijas māsa | B17: 1 | C17: =D17+E17 -> 302 | D17: =D$5 -> 152 | E17: 150 | G17: 6.747 | H17: =ROUND(G17*E17*2,2) -> 2024.1 | I17: =ROUND(H17*1.2359,2) -> 2501.59
A18: Infektoloģijas māsa | B18: 1 | C18: =D18+E18 -> 266 | D18: =D$5 -> 152 | E18: 114 | G18: 5.938 | H18: =ROUND(G18*E18*2,2) -> 1353.86 | I18: =ROUND(H18*1.2359,2) -> 1673.24
A19: Ārstniecības un pacientu aprūpes atbalsta personas, māsu palīgi, zobārstu aistenti, kopā, tai skaitā: | B19: =B20 -> 1 | E19: =E20 -> 61 | H19: =H20 -> 604.14 | I19: =I20 -> 746.66
A20: Māsas palīgs | B20: 1 | C20: =D20+E20 -> 213 | D20: =D5 -> 152 | E20: 61 | G20: 4.952 | H20: =ROUND(G20*E20*2,2) -> 604.14 | I20: =ROUND(H20*1.2359,2) -> 746.66
A21: Pārējie darbinieki, kuri tieši iesaistīti darbā ar Covid-19, kopā, tai skaitā: | B21: =SUM(B22:B25) -> 4 | E21: =SUM(E22:E25) -> 136 | H21: =SUM(H22:H25) -> 1257.47 | I21: =SUM(I22:I25) -> 1554.1
A22: Sanitārs | B22: 1 | C22: =D22+E22 -> 213 | D22: =D5 -> 152 | E22: 61 | G22: 4.623 | H22: =ROUND(G22*E22*2,2) -> 564.01 | I22: =ROUND(H22*1.2359,2) -> 697.06
A23: Sanitārs | B23: 1 | C23: =D23+E23 -> 195 | D23: =D22 -> 152 | E23: 43 | G23: 4.623 | H23: =ROUND(G23*E23*2,2) -> 397.58 | I23: =ROUND(H23*1.2359,2) -> 491.37
A24: Sanitārs | B24: 1 | C24: =D24+E24 -> 173 | D24: =D23 -> 152 | E24: 21 | G24: 4.623 | H24: =ROUND(G24*E24*2,2) -> 194.17 | I24: =ROUND(H24*1.2359,2) -> 239.97
A25: Sanitārs | B25: 1 | C25: =D25+E25 -> 163 | D25: =D24 -> 152 | E25: 11 | G25: 4.623 | H25: =ROUND(G25*E25*2,2) -> 101.71 | I25: =ROUND(H25*1.2359,2) -> 125.7
A26: ANESTEZIOLOĢIJAS UN INTENSĪVĀS TERAPIJAS NODAĻA (35 stundas nedēļā) | B26: =B27+B34+B48 -> 20 | E26: =E27+E34+E48 -> 621.5 | H26: =H27+H34+H48 -> 9490.56 | I26: =I27+I34+I48 -> 11729.39
A27: Ārsti, zobārsti un funkcionālie speciālisti, kopā, tai skaitā: | B27: =SUM(B28:B33) -> 6 | E27: =SUM(E28:E33) -> 181 | H27: =SUM(H28:H33) -> 4018.47 | I27: =SUM(I28:I33) -> 4966.43
A28: Anesteziologs, reanimatologs (dežūrārsts) | B28: 1 | C28: =D28+E28 -> 201 | D28: =D$5 -> 152 | E28: 49 | G28: 10.856 | H28: =ROUND(G28*E28*2,2) -> 1063.89 | I28: =ROUND(H28*1.2359,2) -> 1314.86
A29: Anesteziologs, reanimatologs (dežūrārsts) | B29: 1 | C29: =D29+E29 -> 162 | D29: =D$5 -> 152 | E29: 10 | G29: 10.856 | H29: =ROUND(G29*E29*2,2) -> 217.12 | I29: =ROUND(H29*1.2359,2) -> 268.34
A30: Anesteziologs, reanimatologs (dežūrārsts) | B30: 1 | C30: =D30+E30 -> 168 | D30: =D$5 -> 152 | E30: 16 | G30: 10.856 | H30: =ROUND(G30*E30*2,2) -> 347.39 | I30: =ROUND(H30*1.2359,2) -> 429.34
A31: Anesteziologs, reanimatologs (dežūrārsts) | B31: 1 | C31: =D31+E31 -> 182 | D31: =D$5 -> 152 | E31: 30 | G31: 11.308 | H31: =ROUND(G31*E31*2,2) -> 678.48 | I31: =ROUND(H31*1.2359,2) -> 838.53
A32: Anesteziologs, reanimatologs (dežūrārsts) | B32: 1 | C32: =D32+E32 -> 160 | D32: =D$5 -> 152 | E32: 8 | G32: 10.856 | H32: =ROUND(G32*E32*2,2) -> 173.7 | I32: =ROUND(H32*1.2359,2) -> 214.68
A33: Anesteziologs, reanimatologs (dežūrārsts) | B33: 1 | C33: =D33+E33 -> 220 | D33: =D$5 -> 152 | E33: 68 | G33: 11.308 | H33: =ROUND(G33*E33*2,2) -> 1537.89 | I33: =ROUND(H33*1.2359,2) -> 1900.68
A34: Ārstniecības un pacientu aprūpes personas un funkcionālo speciālistu asistenti, kopā, tai skaitā: | B34: =SUM(B35:B47) -> 13 | E34: =SUM(E35:E47) -> 424.5 | H34: =SUM(H35:H47) -> 5313.63 | I34: =SUM(I35:I47) -> 6567.12
A35: Intensīvās terapijas un anestēzijas māsa | B35: 1 | C35: =D35+E35 -> 222 | D35: =D5 -> 152 | E35: 70 | G35: 6.404 | H35: =ROUND(G35*E35*2,2) -> 896.56 | I35: =ROUND(H35*1.2359,2) -> 1108.06
A36: Intensīvās terapijas un anestēzijas māsa | B36: 1 | C36: =D36+E36 -> 186 | D36: =D35 -> 152 | E36: 34 | G36: 6.23 | H36: =ROUND(G36*E36*2,2) -> 423.64 | I36: =ROUND(H36*1.2359,2) -> 523.58
A37: Intensīvās terapijas un anestēzijas māsa | B37: 1 | C37: =D37+E37 -> 182 | D37: =D36 -> 152 | E37: 30 | G37: 6.23 | H37: =ROUND(G37*E37*2,2) -> 373.8 | I37: =ROUND(H37*1.2359,2) -> 461.98
A38: Intensīvās terapijas un anestēzijas māsa | B38: 1 | C38: =D38+E38 -> 178 | D38: =D37 -> 152 | E38: 26 | G38: 6.23 | H38: =ROUND(G38*E38*2,2) -> 323.96 | I38: =ROUND(H38*1.2359,2) -> 400.38
A39: Intensīvās terapijas un anestēzijas māsa | B39: 1 | C39: =D39+E39 -> 209 | D39: =D38 -> 152 | E39: 57 | G39: 6.23 | H39: =ROUND(G39*E39*2,2) -> 710.22 | I39: =ROUND(H39*1.2359,2) -> 877.76
A40: Intensīvās terapijas un anestēzijas māsa | B40: 1 | C40: =D40+E40 -> 202 | D40: =D39 -> 152 | E40: 50 | G40: 6.23 | H40: =ROUND(G40*E40*2,2) -> 623 | I40: =ROUND(H40*1.2359,2) -> 769.97
A41: Intensīvās terapijas un anestēzijas māsa | B41: 1 | C41: =D41+E41 -> 184 | D41: =D40 -> 152 | E41: 32 | G41: 6.23 | H41: =ROUND(G41*E41*2,2) -> 398.72 | I41: =ROUND(H41*1.2359,2) -> 492.78
A42: Intensīvās terapijas un anestēzijas māsa | B42: 1 | C42: =D42+E42 -> 189 | D42: =D41 -> 152 | E42: 37 | G42: 6.23 | H42: =ROUND(G42*E42*2,2) -> 461.02 | I42: =ROUND(H42*1.2359,2) -> 569.77
A43: Intensīvās terapijas un anestēzijas māsa | B43: 1 | C43: =D43+E43 -> 173.5 | D43: =D42 -> 152 | E43: 21.5 | G43: 6.23 | H43: =ROUND(G43*E43*2,2) -> 267.89 | I43: =ROUND(H43*1.2359,2) -> 331.09
A44: Intensīvās terapijas un anestēzijas māsa | B44: 1 | C44: =D44+E44 -> 173 | D44: =D43 -> 152 | E44: 21 | G44: 6.23 | H44: =ROUND(G44*E44*2,2) -> 261.66 | I44: =ROUND(H44*1.2359,2) -> 323.39
A45: Intensīvās terapijas un anestēzijas māsa | B45: 1 | C45: =D45+E45 -> 162 | D45: =D44 -> 152 | E45: 10 | G45: 6.23 | H45: =ROUND(G45*E45*2,2) -> 124.6 | I45: =ROUND(H45*1.2359,2) -> 153.99
A46: Intensīvās terapijas un anestēzijas māsa | B46: 1 | C46: =D46+E46 -> 178 | D46: =D45 -> 152 | E46: 26 | G46: 6.23 | H46: =ROUND(G46*E46*2,2) -> 323.96 | I46: =ROUND(H46*1.2359,2) -> 400.38
A47: Intensīvās terapijas un anestēzijas māsa | B47: 1 | C47: =D47+E47 -> 162 | D47: =D46 -> 152 | E47: 10 | G47: 6.23 | H47: =ROUND(G47*E47*2,2) -> 124.6 | I47: =ROUND(H47*1.2359,2) -> 153.99
A48: Ārstniecības un pacientu aprūpes atbalsta personas, māsu palīgi, zobārstu aistenti, kopā, tai skaitā: | B48: =SUM(B49:B49) -> 1 | E48: =SUM(E49:E49) -> 16 | H48: =SUM(H49:H49) -> 158.46 | I48: =SUM(I49:I49) -> 195.84
A49: Māsas palīgs | B49: 1 | C49: =D49+E49 -> 168 | D49: =D47 -> 152 | E49: 16 | G49: 4.952 | H49: =ROUND(G49*E49*2,2) -> 158.46 | I49: =ROUND(H49*1.2359,2) -> 195.84
A50: Anestezioloģijas un intensīvās terapijas nodaļa - Talsu filiāles (35 stundas nedēļā) | B50: =B51+B53+B57 -> 6 | E50: =E51+E53+E57 -> 191 | H50: =H51+H53+H57 -> 2915.77 | I50: =I51+I53+I57 -> 3603.59
A51: Ārsti, zobārsti un funkcionālie speciālisti, kopā, tai skaitā: | B51: =B52 -> 1 | E51: =E52 -> 69 | H51: =H52 -> 1465.97 | I51: =I52 -> 1811.79
A52: Anesteziologs, reanimatologs (dežūrārsts) | B52: 1 | C52: =D52+E52 -> 221 | D52: =D5 -> 152 | E52: 69 | G52: 10.623 | H52: =ROUND(G52*E52*2,2) -> 1465.97 | I52: =ROUND(H52*1.2359,2) -> 1811.79
A53: Ārstniecības un pacientu aprūpes personas un funkcionālo speciālistu asistenti, kopā, tai skaitā: | B53: =SUM(B54:B56) -> 3 | E53: =SUM(E54:E56) -> 66 | H53: =SUM(H54:H56) -> 895.18 | I53: =SUM(I54:I56) -> 1106.35
A54: Intensīvās terapijas un anestēzijas māsa | B54: 1 | C54: =D54+E54 -> 178 | D54: =D5 -> 152 | E54: 26 | G54: 6.747 | H54: =ROUND(G54*E54*2,2) -> 350.84 | I54: =ROUND(H54*1.2359,2) -> 433.6
A55: Intensīvās terapijas un anestēzijas māsa | B55: 1 | C55: =D55+E55 -> 171 | D55: =D5 -> 152 | E55: 19 | G55: 6.747 | H55: =ROUND(G55*E55*2,2) -> 256.39 | I55: =ROUND(H55*1.2359,2) -> 316.87
A56: Intensīvās terapijas un anestēzijas māsa | B56: 1 | C56: =D56+E56 -> 173 | D56: =D55 -> 152 | E56: 21 | G56: 6.856 | H56: =ROUND(G56*E56*2,2) -> 287.95 | I56: =ROUND(H56*1.2359,2) -> 355.88
A57: Ārstniecības un pacientu aprūpes atbalsta personas, māsu palīgi, zobārstu aistenti, kopā, tai skaitā: | B57: =SUM(B58:B59) -> 2 | E57: =SUM(E58:E59) -> 56 | H57: =SUM(H58:H59) -> 554.62 | I57: =SUM(I58:I59) -> 685.45
A58: Māsas palīgs | B58: 1 | C58: =D58+E58 -> 168 | D58: =D5 -> 152 | E58: 16 | G58: 4.952 | H58: =ROUND(G58*E58*2,2) -> 158.46 | I58: =ROUND(H58*1.2359,2) -> 195.84
A59: Māsas palīgs | B59: 1 | C59: =D59+E59 -> 192 | D59: =D5 -> 152 | E59: 40 | G59: 4.952 | H59: =ROUND(G59*E59*2,2) -> 396.16 | I59: =ROUND(H59*1.2359,2) -> 489.61
A60: DZEMDĪBU UN GINEKOLOĢIJAS BLOKS | B60: =B61+B64+B69 -> 8 | E60: =E61+E64+E69 -> 343 | H60: =H61+H64+H69 -> 5596.65 | I60: =I61+I64+I69 -> 6916.9
A61: Ārsti, zobārsti un funkcionālie speciālisti, kopā, tai skaitā: | B61: =SUM(B62:B63) -> 2 | E61: =SUM(E62:E63) -> 151 | H61: =SUM(H62:H63) -> 3372.14 | I61: =SUM(I62:I63) -> 4167.63
A62: Ginekologs, dzemdību speciālists (dež.ārsts) | B62: 1 | C62: =D62+E62 -> 187 | D62: =D4 -> 174 | E62: 13 | G62: 11.166 | H62: =ROUND(G62*E62*2,2) -> 290.32 | I62: =ROUND(H62*1.2359,2) -> 358.81
A63: Ginekologs, dzemdību speciālists (dež.ārsts) | B63: 1 | C63: =D63+E63 -> 312 | D63: =D62 -> 174 | E63: 138 | G63: 11.166 | H63: =ROUND(G63*E63*2,2) -> 3081.82 | I63: =ROUND(H63*1.2359,2) -> 3808.82
A64: Ārstniecības un pacientu aprūpes personas un funkcionālo speciālistu asistenti, kopā, tai skaitā: | B64: =SUM(B65:B68) -> 4 | E64: =SUM(E65:E68) -> 176 | H64: =SUM(H65:H68) -> 2085.98 | I64: =SUM(I65:I68) -> 2578.06
A65: Vecmāte | B65: 1 | C65: =D65+E65 -> 198 | D65: =D4 -> 174 | E65: 24 | G65: 6.23 | H65: =ROUND(G65*E65*2,2) -> 299.04 | I65: =ROUND(H65*1.2359,2) -> 369.58
A66: Medicīnas māsa | B66: 1 | C66: =D66+E66 -> 236 | D66: =D4 -> 174 | E66: 62 | G66: 5.396 | H66: =ROUND(G66*E66*2,2) -> 669.1 | I66: =ROUND(H66*1.2359,2) -> 826.94
A67: Medicīnas māsa (bērnu māsa) | B67: 1 | C67: =D67+E67 -> 192 | D67: =D4 -> 174 | E67: 18 | G67: 6.131 | H67: =ROUND(G67*E67*2,2) -> 220.72 | I67: =ROUND(H67*1.2359,2) -> 272.79
A68: Medicīnas māsa | B68: 1 | C68: =D68+E68 -> 246 | D68: =D4 -> 174 | E68: 72 | G68: 6.23 | H68: =ROUND(G68*E68*2,2) -> 897.12 | I68: =ROUND(H68*1.2359,2) -> 1108.75
A69: Ārstniecības un pacientu aprūpes atbalsta personas, māsu palīgi, zobārstu aistenti, kopā, tai skaitā: | B69: =SUM(B70:B71) -> 2 | E69: =SUM(E70:E71) -> 16 | H69: =SUM(H70:H71) -> 138.53 | I69: =SUM(I70:I71) -> 171.21
A70: Māsas palīgs | B70: 1 | C70: =D70+E70 -> 184 | D70: =D4 -> 174 | E70: 10 | G70: 4.329 | H70: =ROUND(G70*E70*2,2) -> 86.58 | I70: =ROUND(H70*1.2359,2) -> 107
A71: Māsas palīgs | B71: 1 | C71: =D71+E71 -> 180 | D71: =D4 -> 174 | E71: 6 | G71: 4.329 | H71: =ROUND(G71*E71*2,2) -> 51.95 | I71: =ROUND(H71*1.2359,2) -> 64.21
A72: IEKŠĶĪGO SLIMĪBU NODAĻA | B72: =B73+B77+B83+B88 -> 16 | E72: =E73+E77+E83+E88 -> 547.5 | H72: =H73+H77+H83+H88 -> 7619.96 | I72: =I73+I77+I83+I88 -> 9417.53
A73: Ārsti, zobārsti un funkcionālie speciālisti, kopā, tai skaitā: | B73: =SUM(B74:B76) -> 3 | E73: =SUM(E74:E76) -> 234.5 | H73: =SUM(H74:H76) -> 4504.27 | I73: =SUM(I74:I76) -> 5566.83
A74: Internists (dežūrārsts) | B74: 1 | C74: =D74+E74 -> 319 | D74: =D$4 -> 174 | E74: 145 | G74: 9.604 | H74: =ROUND(G74*E74*2,2) -> 2785.16 | I74: =ROUND(H74*1.2359,2) -> 3442.18
A75: Internists (dežūrārsts) | B75: 1 | C75: =D75+E75 -> 215.5 | D75: =D$4 -> 174 | E75: 41.5 | G75: 9.604 | H75: =ROUND(G75*E75*2,2) -> 797.13 | I75: =ROUND(H75*1.2359,2) -> 985.17
A76: Internists (dežūrārsts) | B76: 1 | C76: =D76+E76 -> 222 | D76: =D$4 -> 174 | E76: 48 | G76: 9.604 | H76: =ROUND(G76*E76*2,2) -> 921.98 | I76: =ROUND(H76*1.2359,2) -> 1139.48
A77: Ārstniecības un pacientu aprūpes personas un funkcionālo speciālistu asistenti, kopā, tai skaitā: | B77: =SUM(B78:B82) -> 5 | E77: =SUM(E78:E82) -> 106 | H77: =SUM(H78:H82) -> 1378.59 | I77: =SUM(I78:I82) -> 1703.8
A78: Terapijas māsa (dež.māsa) | B78: 1 | C78: =D78+E78 -> 210 | D78: =D4 -> 174 | E78: 36 | G78: 6.51 | H78: =ROUND(G78*E78*2,2) -> 468.72 | I78: =ROUND(H78*1.2359,2) -> 579.29
A79: Terapijas māsa (dež.māsa) | B79: 1 | C79: =D79+E79 -> 180 | D79: =D4 -> 174 | E79: 6 | G79: 5.88 | H79: =ROUND(G79*E79*2,2) -> 70.56 | I79: =ROUND(H79*1.2359,2) -> 87.21
A80: Terapijas māsa (dež.māsa) | B80: 1 | C80: =D80+E80 -> 216 | D80: =D4 -> 174 | E80: 42 | G80: 6.51 | H80: =ROUND(G80*E80*2,2) -> 546.84 | I80: =ROUND(H80*1.2359,2) -> 675.84
A81: Terapijas māsa (dež.māsa) | B81: 1 | C81: =D81+E81 -> 191 | D81: =D4 -> 174 | E81: 17 | G81: 6.647 | H81: =ROUND(G81*E81*2,2) -> 226 | I81: =ROUND(H81*1.2359,2) -> 279.31
A82: Terapijas māsa (dež.māsa) | B82: 1 | C82: =D82+E82 -> 179 | D82: =D4 -> 174 | E82: 5 | G82: 6.647 | H82: =ROUND(G82*E82*2,2) -> 66.47 | I82: =ROUND(H82*1.2359,2) -> 82.15
A83: Ārstniecības un pacientu aprūpes atbalsta personas, māsu palīgi, zobārstu aistenti, kopā, tai skaitā: | B83: =SUM(B84:B87) -> 4 | E83: =SUM(E84:E87) -> 111 | H83: =SUM(H84:H87) -> 961.03 | I83: =SUM(I84:I87) -> 1187.75
A84: Māsas palīgs | B84: 1 | C84: =D84+E84 -> 182 | D84: =D4 -> 174 | E84: 8 | G84: 4.329 | H84: =ROUND(G84*E84*2,2) -> 69.26 | I84: =ROUND(H84*1.2359,2) -> 85.6
A85: Māsas palīgs | B85: 1 | C85: =D85+E85 -> 179 | D85: =D$37 -> 152 | E85: 27 | G85: 4.329 | H85: =ROUND(G85*E85*2,2) -> 233.77 | I85: =ROUND(H85*1.2359,2) -> 288.92
A86: Māsas palīgs | B86: 1 | C86: =D86+E86 -> 202 | D86: =D4 -> 174 | E86: 28 | G86: 4.329 | H86: =ROUND(G86*E86*2,2) -> 242.42 | I86: =ROUND(H86*1.2359,2) -> 299.61
A87: Māsas palīgs | B87: 1 | C87: =D87+E87 -> 222 | D87: =D4 -> 174 | E87: 48 | G87: 4.329 | H87: =ROUND(G87*E87*2,2) -> 415.58 | I87: =ROUND(H87*1.2359,2) -> 513.62
A88: Pārējie darbinieki, kuri tieši iesaistīti darbā ar Covid-19, kopā, tai skaitā: | B88: =SUM(B89:B92) -> 4 | E88: =SUM(E89:E92) -> 96 | H88: =SUM(H89:H92) -> 776.07 | I88: =SUM(I89:I92) -> 959.15
A89: Sanitārs | B89: 1 | C89: =D89+E89 -> 199 | D89: =D4 -> 174 | E89: 25 | G89: 4.042 | H89: =ROUND(G89*E89*2,2) -> 202.1 | I89: =ROUND(H89*1.2359,2) -> 249.78
A90: Sanitārs | B90: 1 | C90: =D90+E90 -> 192 | D90: =D4 -> 174 | E90: 18 | G90: 4.042 | H90: =ROUND(G90*E90*2,2) -> 145.51 | I90: =ROUND(H90*1.2359,2) -> 179.84
A91: Sanitārs | B91: 1 | C91: =D91+E91 -> 198 | D91: =D4 -> 174 | E91: 24 | G91: 4.042 | H91: =ROUND(G91*E91*2,2) -> 194.02 | I91: =ROUND(H91*1.2359,2) -> 239.79
A92: Sanitārs | B92: 1 | C92: =D92+E92 -> 203 | D92: =D4 -> 174 | E92: 29 | G92: 4.042 | H92: =ROUND(G92*E92*2,2) -> 234.44 | I92: =ROUND(H92*1.2359,2) -> 289.74
A93: KARDIOLOĢIJAS NODAĻA | B93: =B94+B96 -> 5 | E93: =E94+E96 -> 68 | H93: =H94+H96 -> 908.35 | I93: =I94+I96 -> 1122.63
A94: Ārsti, zobārsti un funkcionālie speciālisti, kopā, tai skaitā: | B94: =SUM(B95:B95) -> 1 | E94: =SUM(E95:E95) -> 11 | H94: =SUM(H95:H95) -> 203.87 | I94: =SUM(I95:I95) -> 251.96
A95: Kardiologs | B95: 1 | C95: =D95+E95 -> 185 | D95: =D4 -> 174 | E95: 11 | G95: 9.267 | H95: =ROUND(G95*E95*2,2) -> 203.87 | I95: =ROUND(H95*1.2359,2) -> 251.96
A96: Ārstniecības un pacientu aprūpes personas un funkcionālo speciālistu asistenti, kopā, tai skaitā: | B96: =SUM(B97:B100) -> 4 | E96: =SUM(E97:E100) -> 57 | H96: =SUM(H97:H100) -> 704.48 | I96: =SUM(I97:I100) -> 870.67
A97: Medicīnas māsa (dež.māsa) | B97: 1 | C97: =D97+E97 -> 192 | D97: =D4 -> 174 | E97: 18 | G97: 6.131 | H97: =ROUND(G97*E97*2,2) -> 220.72 | I97: =ROUND(H97*1.2359,2) -> 272.79
A98: Medicīnas māsa (dež.māsa) | B98: 1 | C98: =D98+E98 -> 184 | D98: =D4 -> 174 | E98: 10 | G98: 6.23 | H98: =ROUND(G98*E98*2,2) -> 124.6 | I98: =ROUND(H98*1.2359,2) -> 153.99
A99: Medicīnas māsa (dež.māsa) | B99: 1 | C99: =D99+E99 -> 185 | D99: =D4 -> 174 | E99: 11 | G99: 6.131 | H99: =ROUND(G99*E99*2,2) -> 134.88 | I99: =ROUND(H99*1.2359,2) -> 166.7
A100: Medicīnas māsa (dež.māsa) | B100: 1 | C100: =D100+E100 -> 192 | D100: =D4 -> 174 | E100: 18 | G100: 6.23 | H100: =ROUND(G100*E100*2,2) -> 224.28 | I100: =ROUND(H100*1.2359,2) -> 277.19
A101: Ķirurģijas nodaļa un dienas stacionārs - Talsu filiāles | B101: =B102+B108 -> 9 | E101: =E102+E108 -> 282 | H101: =H102+H108 -> 2932.3 | I101: =I102+I108 -> 3624.03
A102: Ārstniecības un pacientu aprūpes personas un funkcionālo speciālistu asistenti, kopā, tai skaitā: | B102: =SUM(B103:B107) -> 5 | E102: =SUM(E103:E107) -> 144 | H102: =SUM(H103:H107) -> 1737.5 | I102: =SUM(I103:I107) -> 2147.38
A103: Medicīnas māsa | B103: 1 | C103: =D103+E103 -> 217 | D103: =D$4 -> 174 | E103: 43 | G103: 6.23 | H103: =ROUND(G103*E103*2,2) -> 535.78 | I103: =ROUND(H103*1.2359,2) -> 662.17
...

Sheet Z-Kurzeme_okt
H1: 1.6.Pielikums
A2: Pārskats par darba veicējiem (ārstniecības personām), virs normālā darba laika nostrādātām stundām, apmaksājamām stundām un izdevumiem, kas radušies saistībā ar mērķi ierobežot Covid-19 izplatību
A4: Iestādes nosaukums: SIA "Ziemeļkurzemes reģionālā slimnīca"
A5: Pārskata mēnesis: Oktobris
B7: Nodarbināto skaits mēnesī | C7: Apmaksājamais laiks mēnesī, stundas (tai skaitā summētā darba laika ietvaros) | F7: Mēnešalga no kuras rēķina stundas likmi | G7: Stundas likme (aprēķināta atbilstoši mēnešalgai vai darba līgumā noteiktā stundas likme) | H7: Apmaksājamā 100% piemaksa par nostrādātām virsstundām virs normālā darba laika (tai skaitā summētā darba laika ietvaros) | I7: Izdevumi par virsstundām kopā ar VSOAI, EUR
C8: Kopā | D8: līdz normālam darba laikam | E8: virsstundas - virs normālā darba laika, kas saistītas ar darbu ar Covid-19
A9: 1 | B9: 2 | C9: 3=4+5 | D9: 4 | E9: 5 | F9: 6 | G9: 7 | H9: 8 | I9: 9=8 +VSOAI
A10: KOPĀ | B10: =B11+B23+B58+B71+B83+B98+B120+B130+B148+B171+B189+B209+B224+B235+B242+B248+B253 -> 194 | E10: =E11+E23+E58+E71+E83+E98+E120+E130+E148+E171+E189+E209+E224+E235+E242+E248+E253 -> 7978.31 | H10: =H11+H23+H58+H71+H83+H98+H120+H130+H148+H171+H189+H209+H224+H235+H242+H248+H253 -> 104403.43 | I10: =I11+I23+I58+I71+I83+I98+I120+I130+I148+I171+I189+I209+I224+I235+I242+I248+I253 -> 129032.18
A11: Infekciju nodaļa(35 stundas nedēļā) | B11: =B12+B17+B19 -> 8 | E11: =E12+E17+E19 -> 342.75 | H11: =H12+H17+H19 -> 4080.13 | I11: =I12+I17+I19 -> 5042.63
A12: Ārstniecības un pacientu aprūpes personas un funkcionālo speciālistu asistenti, kopā, tai skaitā: | B12: =SUM(B13:B16) -> 4 | E12: =SUM(E13:E16) -> 219.75 | H12: =SUM(H13:H16) -> 2890.88 | I12: =SUM(I13:I16) -> 3572.84
A13: Infektoloģijas māsa | B13: 1 | C13: =D13+E13 -> 176 | D13: 151 | E13: 25 | G13: 6.747 | H13: =ROUND(G13*E13*2,2) -> 337.35 | I13: =ROUND(H13*1.2359,2) -> 416.93
A14: Infektoloģijas māsa | B14: 1 | C14: =D14+E14 -> 168 | D14: 151 | E14: 17 | G14: 6.747 | H14: =ROUND(G14*E14*2,2) -> 229.4 | I14: =ROUND(H14*1.2359,2) -> 283.52
A15: Infektoloģijas māsa | B15: 1 | C15: =D15+E15 -> 282.75 | D15: 151 | E15: 131.75 | G15: 6.747 | H15: =ROUND(G15*E15*2,2) -> 1777.83 | I15: =ROUND(H15*1.2359,2) -> 2197.22
A16: Infektoloģijas māsa | B16: 1 | C16: =D16+E16 -> 197 | D16: 151 | E16: 46 | G16: 5.938 | H16: =ROUND(G16*E16*2,2) -> 546.3 | I16: =ROUND(H16*1.2359,2) -> 675.17
A17: Ārstniecības un pacientu aprūpes atbalsta personas, māsu palīgi, zobārstu aistenti, kopā, tai skaitā: | B17: =B18 -> 1 | E17: =E18 -> 79 | H17: =H18 -> 782.42 | I17: =I18 -> 966.99
A18: Māsas palīgs | B18: 1 | C18: =D18+E18 -> 230 | D18: 151 | E18: 79 | G18: 4.952 | H18: =ROUND(G18*E18*2,2) -> 782.42 | I18: =ROUND(H18*1.2359,2) -> 966.99
A19: Pārējie darbinieki, kuri tieši iesaistīti darbā ar Covid-19, kopā, tai skaitā: | B19: =SUM(B20:B22) -> 3 | E19: =SUM(E20:E22) -> 44 | H19: =SUM(H20:H22) -> 406.83 | I19: =SUM(I20:I22) -> 502.8
A20: Sanitārs | B20: 1 | C20: =D20+E20 -> 177 | D20: 151 | E20: 26 | G20: 4.623 | H20: =ROUND(G20*E20*2,2) -> 240.4 | I20: =ROUND(H20*1.2359,2) -> 297.11
A21: Sanitārs | B21: 1 | C21: =D21+E21 -> 158 | D21: 151 | E21: 7 | G21: 4.623 | H21: =ROUND(G21*E21*2,2) -> 64.72 | I21: =ROUND(H21*1.2359,2) -> 79.99
A22: Sanitārs | B22: 1 | C22: =D22+E22 -> 162 | D22: 151 | E22: 11 | G22: 4.623 | H22: =ROUND(G22*E22*2,2) -> 101.71 | I22: =ROUND(H22*1.2359,2) -> 125.7
A23: ANESTEZIOLOĢIJAS UN INTENSĪVĀS TERAPIJAS NODAĻA (35 stundas nedēļā) | B23: =B24+B30+B46+B56 -> 30 | E23: =E24+E30+E46+E56 -> 1788 | H23: =H24+H30+H46+H56 -> 23051.46 | I23: =I24+I30+I46+I56 -> 28489.31
A24: Ārsti, zobārsti un funkcionālie speciālisti, kopā, tai skaitā: | B24: =SUM(B25:B29) -> 5 | E24: =SUM(E25:E29) -> 213 | H24: =SUM(H25:H29) -> 4724.1 | I24: =SUM(I25:I29) -> 5838.52
A25: Anesteziologs un reanimatologs | B25: 1 | C25: =D25+E25 -> 180 | D25: 151 | E25: 29 | G25: 10.856 | H25: =ROUND(G25*E25*2,2) -> 629.65 | I25: =ROUND(H25*1.2359,2) -> 778.18
A26: Anesteziologs un reanimatologs | B26: 1 | C26: =D26+E26 -> 176 | D26: 151 | E26: 25 | G26: 10.856 | H26: =ROUND(G26*E26*2,2) -> 542.8 | I26: =ROUND(H26*1.2359,2) -> 670.85
A27: Anesteziologs un reanimatologs (dežūrārsts) | B27: 1 | C27: =D27+E27 -> 200 | D27: 151 | E27: 49 | G27: 10.856 | H27: =ROUND(G27*E27*2,2) -> 1063.89 | I27: =ROUND(H27*1.2359,2) -> 1314.86
A28: Anesteziologs un reanimatologs (dežūrārsts) | B28: 1 | C28: =D28+E28 -> 168 | D28: 151 | E28: 17 | G28: 11.308 | H28: =ROUND(G28*E28*2,2) -> 384.47 | I28: =ROUND(H28*1.2359,2) -> 475.17
A29: Anesteziologs un reanimatologs (dežūrārsts) | B29: 1 | C29: =D29+E29 -> 244 | D29: 151 | E29: 93 | G29: 11.308 | H29: =ROUND(G29*E29*2,2) -> 2103.29 | I29: =ROUND(H29*1.2359,2) -> 2599.46
A30: Ārstniecības un pacientu aprūpes personas un funkcionālo speciālistu asistenti, kopā, tai skaitā: | B30: =SUM(B31:B45) -> 15 | E30: =SUM(E31:E45) -> 1053 | H30: =SUM(H31:H45) -> 13185.11 | I30: =SUM(I31:I45) -> 16295.48
A31: Intensīvās terapijas un anestēzijas māsa | B31: 1 | C31: =D31+E31 -> 276 | D31: 151 | E31: 125 | G31: 6.404 | H31: =ROUND(G31*E31*2,2) -> 1601 | I31: =ROUND(H31*1.2359,2) -> 1978.68
A32: Intensīvās terapijas un anestēzijas māsa | B32: 1 | C32: =D32+E32 -> 241 | D32: 151 | E32: 90 | G32: 6.23 | H32: =ROUND(G32*E32*2,2) -> 1121.4 | I32: =ROUND(H32*1.2359,2) -> 1385.94
A33: Intensīvās terapijas un anestēzijas māsa | B33: 1 | C33: =D33+E33 -> 222 | D33: 151 | E33: 71 | G33: 6.23 | H33: =ROUND(G33*E33*2,2) -> 884.66 | I33: =ROUND(H33*1.2359,2) -> 1093.35
A34: Intensīvās terapijas un anestēzijas māsa | B34: 1 | C34: =D34+E34 -> 195 | D34: 151 | E34: 44 | G34: 6.23 | H34: =ROUND(G34*E34*2,2) -> 548.24 | I34: =ROUND(H34*1.2359,2) -> 677.57
A35: Intensīvās terapijas un anestēzijas māsa | B35: 1 | C35: =D35+E35 -> 183 | D35: 151 | E35: 32 | G35: 6.23 | H35: =ROUND(G35*E35*2,2) -> 398.72 | I35: =ROUND(H35*1.2359,2) -> 492.78
A36: Intensīvās terapijas un anestēzijas māsa | B36: 1 | C36: =D36+E36 -> 225 | D36: 151 | E36: 74 | G36: 6.23 | H36: =ROUND(G36*E36*2,2) -> 922.04 | I36: =ROUND(H36*1.2359,2) -> 1139.55
A37: Intensīvās terapijas un anestēzijas māsa | B37: 1 | C37: =D37+E37 -> 253 | D37: 151 | E37: 102 | G37: 6.23 | H37: =ROUND(G37*E37*2,2) -> 1270.92 | I37: =ROUND(H37*1.2359,2) -> 1570.73
A38: Intensīvās terapijas un anestēzijas māsa | B38: 1 | C38: =D38+E38 -> 267 | D38: 151 | E38: 116 | G38: 6.23 | H38: =ROUND(G38*E38*2,2) -> 1445.36 | I38: =ROUND(H38*1.2359,2) -> 1786.32
A39: Intensīvās terapijas un anestēzijas māsa | B39: 1 | C39: =D39+E39 -> 242 | D39: 151 | E39: 91 | G39: 6.23 | H39: =ROUND(G39*E39*2,2) -> 1133.86 | I39: =ROUND(H39*1.2359,2) -> 1401.34
A40: Intensīvās terapijas un anestēzijas māsa | B40: 1 | C40: =D40+E40 -> 233 | D40: 151 | E40: 82 | G40: 6.23 | H40: =ROUND(G40*E40*2,2) -> 1021.72 | I40: =ROUND(H40*1.2359,2) -> 1262.74
A41: Intensīvās terapijas un anestēzijas māsa | B41: 1 | C41: =D41+E41 -> 218 | D41: 151 | E41: 67 | G41: 6.23 | H41: =ROUND(G41*E41*2,2) -> 834.82 | I41: =ROUND(H41*1.2359,2) -> 1031.75
A42: Intensīvās terapijas un anestēzijas māsa | B42: 1 | C42: =D42+E42 -> 158 | D42: 151 | E42: 7 | G42: 6.23 | H42: =ROUND(G42*E42*2,2) -> 87.22 | I42: =ROUND(H42*1.2359,2) -> 107.8
... A45: Intensīvās terapijas un anestēzijas māsa | B45: 1 | C45: =D45+E45 -> 212 | D45: 151 | E45: 61 | G45: 6.404 | H45: =ROUND(G45*E45*2,2) -> 781.29 | I45: =ROUND(H45*1.2359,2) -> 965.6
A46: Ārstniecības un pacientu aprūpes atbalsta personas, māsu palīgi, zobārstu aistenti, kopā, tai skaitā: | B46: =SUM(B47:B55) -> 9 | E46: =SUM(E47:E55) -> 480 | H46: =SUM(H47:H55) -> 4753.92 | I46: =SUM(I47:I55) -> 5875.37
A47: Māsas palīgs | B47: 1 | C47: =D47+E47 -> 192 | D47: 151 | E47: 41 | G47: 4.952 | H47: =ROUND(G47*E47*2,2) -> 406.06 | I47: =ROUND(H47*1.2359,2) -> 501.85
A48: Māsas palīgs | B48: 1 | C48: =D48+E48 -> 256 | D48: 151 | E48: 105 | G48: 4.952 | H48: =ROUND(G48*E48*2,2) -> 1039.92 | I48: =ROUND(H48*1.2359,2) -> 1285.24
A49: Māsas palīgs | B49: 1 | C49: =D49+E49 -> 229 | D49: 151 | E49: 78 | G49: 4.952 | H49: =ROUND(G49*E49*2,2) -> 772.51 | I49: =ROUND(H49*1.2359,2) -> 954.75
A50: Māsas palīgs | B50: 1 | C50: =D50+E50 -> 194 | D50: 151 | E50: 43 | G50: 4.952 | H50: =ROUND(G50*E50*2,2) -> 425.87 | I50: =ROUND(H50*1.2359,2) -> 526.33
A51: Māsas palīgs | B51: 1 | C51: =D51+E51 -> 176 | D51: 151 | E51: 25 | G51: 4.952 | H51: =ROUND(G51*E51*2,2) -> 247.6 | I51: =ROUND(H51*1.2359,2) -> 306.01
A52: Māsas palīgs | B52: 1 | C52: =D52+E52 -> 240 | D52: 151 | E52: 89 | G52: 4.952 | H52: =ROUND(G52*E52*2,2) -> 881.46 | I52: =ROUND(H52*1.2359,2) -> 1089.4
A53: Māsas palīgs | B53: 1 | C53: =D53+E53 -> 161 | D53: 151 | E53: 10 | G53: 4.952 | H53: =ROUND(G53*E53*2,2) -> 99.04 | I53: =ROUND(H53*1.2359,2) -> 122.4
A54: Māsas palīgs | B54: 1 | C54: =D54+E54 -> 175 | D54: 151 | E54: 24 | G54: 4.952 | H54: =ROUND(G54*E54*2,2) -> 237.7 | I54: =ROUND(H54*1.2359,2) -> 293.77
A55: Māsas palīgs | B55: 1 | C55: =D55+E55 -> 216 | D55: 151 | E55: 65 | G55: 4.952 | H55: =ROUND(G55*E55*2,2) -> 643.76 | I55: =ROUND(H55*1.2359,2) -> 795.62
A56: Pārējie darbinieki, kuri tieši iesaistīti darbā ar Covid-19, kopā, tai skaitā: | B56: =SUM(B57:B57) -> 1 | E56: =SUM(E57:E57) -> 42 | H56: =SUM(H57:H57) -> 388.33 | I56: =SUM(I57:I57) -> 479.94
A57: Sanitārs | B57: 1 | C57: =D57+E57 -> 193 | D57: 151 | E57: 42 | G57: 4.623 | H57: =ROUND(G57*E57*2,2) -> 388.33 | I57: =ROUND(H57*1.2359,2) -> 479.94
A58: Anestezioloģijas un intensīvās terapijas nodaļa - Talsu filiāles (35 stundas nedēļā) | B58: =B59+B62+B65+B68 -> 8 | E58: =E59+E62+E65+E68 -> 243 | H58: =H59+H62+H65+H68 -> 3480.71 | I58: =I59+I62+I65+I68 -> 4301.81
A59: Ārsti, zobārsti un funkcionālie speciālisti, kopā, tai skaitā: | B59: =SUM(B60:B61) -> 2 | E59: =SUM(E60:E61) -> 82 | H59: =SUM(H60:H61) -> 1742.17 | I59: =SUM(I60:I61) -> 2153.14
A60: Anesteziologs un reanimatologs (dežūrārsts) | B60: 1 | C60: =D60+E60 -> 153 | D60: 151 | E60: 2 | G60: 10.623 | H60: =ROUND(G60*E60*2,2) -> 42.49 | I60: =ROUND(H60*1.2359,2) -> 52.51
A61: Anesteziologs un reanimatologs (dežūrārsts) | B61: 1 | C61: =D61+E61 -> 231 | D61: 151 | E61: 80 | G61: 10.623 | H61: =ROUND(G61*E61*2,2) -> 1699.68 | I61: =ROUND(H61*1.2359,2) -> 2100.63
A62: Ārstniecības un pacientu aprūpes personas un funkcionālo speciālistu asistenti, kopā, tai skaitā: | B62: =SUM(B63:B64) -> 2 | E62: =SUM(E63:E64) -> 46 | H62: =SUM(H63:H64) -> 620.73 | I62: =SUM(I63:I64) -> 767.16
A63: Intensīvās terapijas un anestēzijas māsa | B63: 1 | C63: =D63+E63 -> 168 | D63: 151 | E63: 17 | G63: 6.747 | H63: =ROUND(G63*E63*2,2) -> 229.4 | I63: =ROUND(H63*1.2359,2) -> 283.52
A64: Intensīvās terapijas un anestēzijas māsa | B64: 1 | C64: =D64+E64 -> 180 | D64: 151 | E64: 29 | G64: 6.747 | H64: =ROUND(G64*E64*2,2) -> 391.33 | I64: =ROUND(H64*1.2359,2) -> 483.64
A65: Ārstniecības un pacientu aprūpes atbalsta personas, māsu palīgi, zobārstu aistenti, kopā, tai skaitā: | B65: =SUM(B66:B67) -> 2 | E65: =SUM(E66:E67) -> 83 | H65: =SUM(H66:H67) -> 822.03 | I65: =SUM(I66:I67) -> 1015.95
A66: Māsas palīgs | B66: 1 | C66: =D66+E66 -> 184 | D66: 151 | E66: 33 | G66: 4.952 | H66: =ROUND(G66*E66*2,2) -> 326.83 | I66: =ROUND(H66*1.2359,2) -> 403.93
A67: Māsas palīgs | B67: 1 | C67: =D67+E67 -> 201 | D67: 151 | E67: 50 | G67: 4.952 | H67: =ROUND(G67*E67*2,2) -> 495.2 | I67: =ROUND(H67*1.2359,2) -> 612.02
A68: Pārējie darbinieki, kuri tieši iesaistīti darbā ar Covid-19, kopā, tai skaitā: | B68: =SUM(B69:B70) -> 2 | E68: =SUM(E69:E70) -> 32 | H68: =SUM(H69:H70) -> 295.78 | I68: =SUM(I69:I70) -> 365.56
A69: Sanitārs | B69: 1 | C69: =D69+E69 -> 168 | D69: 151 | E69: 17 | G69: 4.623 | H69: =ROUND(G69*E69*2,2) -> 157.18 | I69: =ROUND(H69*1.2359,2) -> 194.26
A70: Sanitārs | B70: 1 | C70: =D70+E70 -> 166 | D70: 151 | E70: 15 | G70: 4.62 | H70: =ROUND(G70*E70*2,2) -> 138.6 | I70: =ROUND(H70*1.2359,2) -> 171.3
A71: DZEMDĪBU UN GINEKOLOĢIJAS BLOKS | B71: =B72+B74+B79 -> 8 | E71: =E72+E74+E79 -> 409 | H71: =H72+H74+H79 -> 7056.8 | I71: =I72+I74+I79 -> 8721.5
A72: Ārsti, zobārsti un funkcionālie speciālisti, kopā, tai skaitā: | B72: =SUM(B73:B73) -> 1 | E72: =SUM(E73:E73) -> 238 | H72: =SUM(H73:H73) -> 5315.02 | I72: =SUM(I73:I73) -> 6568.83
A73: Ginekologs, dzemdību speciālists (dežūrām) | B73: 1 | C73: =D73+E73 -> 410 | D73: 172 | E73: 238 | G73: 11.166 | H73: =ROUND(G73*E73*2,2) -> 5315.02 | I73: =ROUND(H73*1.2359,2) -> 6568.83
A74: Ārstniecības un pacientu aprūpes personas un funkcionālo speciālistu asistenti, kopā, tai skaitā: | B74: =SUM(B75:B78) -> 4 | E74: =SUM(E75:E78) -> 85 | H74: =SUM(H75:H78) -> 997.2 | I74: =SUM(I75:I78) -> 1232.44
A75: Vecmāte | B75: 1 | C75: =D75+E75 -> 178 | D75: 172 | E75: 6 | G75: 6.274 | H75: =ROUND(G75*E75*2,2) -> 75.29 | I75: =ROUND(H75*1.2359,2) -> 93.05
A76: Medicīnas māsa | B76: 1 | C76: =D76+E76 -> 208 | D76: 172 | E76: 36 | G76: 5.396 | H76: =ROUND(G76*E76*2,2) -> 388.51 | I76: =ROUND(H76*1.2359,2) -> 480.16
A77: Medicīnas māsa (bērnu māsa) | B77: 1 | C77: =D77+E77 -> 184 | D77: 172 | E77: 12 | G77: 6.131 | H77: =ROUND(G77*E77*2,2) -> 147.14 | I77: =ROUND(H77*1.2359,2) -> 181.85
A78: Medicīnas māsa | B78: 1 | C78: =D78+E78 -> 203 | D78: 172 | E78: 31 | G78: 6.23 | H78: =ROUND(G78*E78*2,2) -> 386.26 | I78: =ROUND(H78*1.2359,2) -> 477.38
A79: Ārstniecības un pacientu aprūpes atbalsta personas, māsu palīgi, zobārstu aistenti, kopā, tai skaitā: | B79: =SUM(B80:B82) -> 3 | E79: =SUM(E80:E82) -> 86 | H79: =SUM(H80:H82) -> 744.58 | I79: =SUM(I80:I82) -> 920.23
A80: Māsas palīgs | B80: 1 | C80: =D80+E80 -> 180 | D80: 172 | E80: 8 | G80: 4.329 | H80: =ROUND(G80*E80*2,2) -> 69.26 | I80: =ROUND(H80*1.2359,2) -> 85.6
A81: Māsas palīgs | B81: 1 | C81: =D81+E81 -> 216 | D81: 172 | E81: 44 | G81: 4.329 | H81: =ROUND(G81*E81*2,2) -> 380.95 | I81: =ROUND(H81*1.2359,2) -> 470.82
A82: Māsas palīgs | B82: 1 | C82: =D82+E82 -> 206 | D82: 172 | E82: 34 | G82: 4.329 | H82: =ROUND(G82*E82*2,2) -> 294.37 | I82: =ROUND(H82*1.2359,2) -> 363.81
A83: Paliatīvās aprūpes nodaļa | B83: =B84+B91+B93 -> 11 | E83: =E84+E91+E93 -> 393 | H83: =H84+H91+H93 -> 4012.55 | I83: =I84+I91+I93 -> 4959.1
A84: Ārstniecības un pacientu aprūpes personas un funkcionālo speciālistu asistenti, kopā, tai skaitā: | B84: =SUM(B85:B90) -> 6 | E84: =SUM(E85:E90) -> 222 | H84: =SUM(H85:H90) -> 2594.6 | I84: =SUM(I85:I90) -> 3206.66
A85: Medicīnas māsa (paliatīvās aprūpes nod.) | B85: 1 | C85: =D85+E85 -> 221 | D85: 151 | E85: 70 | G85: 6.23 | H85: =ROUND(G85*E85*2,2) -> 872.2 | I85: =ROUND(H85*1.2359,2) -> 1077.95
A86: Medicīnas māsa (paliatīvās aprūpes nod.) | B86: 1 | C86: =D86+E86 -> 219 | D86: 151 | E86: 68 | G86: 5.396 | H86: =ROUND(G86*E86*2,2) -> 733.86 | I86: =ROUND(H86*1.2359,2) -> 906.98
A87: Medicīnas māsa (paliatīvās aprūpes nod.) | B87: 1 | C87: =D87+E87 -> 202 | D87: 151 | E87: 51 | G87: 6.131 | H87: =ROUND(G87*E87*2,2) -> 625.36 | I87: =ROUND(H87*1.2359,2) -> 772.88
A88: Medicīnas māsa (paliatīvās aprūpes nod.) | B88: 1 | C88: =D88+E88 -> 167 | D88: 151 | E88: 16 | G88: 5.483 | H88: =ROUND(G88*E88*2,2) -> 175.46 | I88: =ROUND(H88*1.2359,2) -> 216.85
A89: Medicīnas māsa (paliatīvās aprūpes nod.) | B89: 1 | C89: =D89+E89 -> 152 | D89: 151 | E89: 1 | G89: 6.131 | H89: =ROUND(G89*E89*2,2) -> 12.26 | I89: =ROUND(H89*1.2359,2) -> 15.15
A90: Medicīnas māsa (paliatīvās aprūpes nod.) | B90: 1 | C90: =D90+E90 -> 167 | D90: 151 | E90: 16 | G90: 5.483 | H90: =ROUND(G90*E90*2,2) -> 175.46 | I90: =ROUND(H90*1.2359,2) -> 216.85
A91: Ārstniecības un pacientu aprūpes atbalsta personas, māsu palīgi, zobārstu aistenti, kopā, tai skaitā: | B91: =SUM(B92) -> 1 | E91: =SUM(E92) -> 62 | H91: =SUM(H92) -> 536.8 | I91: =SUM(I92) -> 663.43
A92: Māsas palīgs | B92: 1 | C92: =D92+E92 -> 213 | D92: 151 | E92: 62 | G92: 4.329 | H92: =ROUND(G92*E92*2,2) -> 536.8 | I92: =ROUND(H92*1.2359,2) -> 663.43
A93: Pārējie darbinieki, kuri tieši iesaistīti darbā ar Covid-19, kopā, tai skaitā: | B93: =SUM(B94:B97) -> 4 | E93: =SUM(E94:E97) -> 109 | H93: =SUM(H94:H97) -> 881.15 | I93: =SUM(I94:I97) -> 1089.01
A94: Sanitārs | B94: 1 | C94: =D94+E94 -> 164 | D94: 151 | E94: 13 | G94: 4.042 | H94: =ROUND(G94*E94*2,2) -> 105.09 | I94: =ROUND(H94*1.2359,2) -> 129.88
A95: Sanitārs | B95: 1 | C95: =D95+E95 -> 171 | D95: 151 | E95: 20 | G95: 4.042 | H95: =ROUND(G95*E95*2,2) -> 161.68 | I95: =ROUND(H95*1.2359,2) -> 199.82
A96: Sanitārs | B96: 1 | C96: =D96+E96 -> 167 | D96: 151 | E96: 16 | G96: 4.042 | H96: =ROUND(G96*E96*2,2) -> 129.34 | I96: =ROUND(H96*1.2359,2) -> 159.85
A97: Sanitārs | B97: 1 | C97: =D97+E97 -> 211 | D97: 151 | E97: 60 | G97: 4.042 | H97: =ROUND(G97*E97*2,2) -> 485.04 | I97: =ROUND(H97*1.2359,2) -> 599.46
A98: IEKŠĶĪGO SLIMĪBU NODAĻA | B98: =B99+B103+B111+B115 -> 17 | E98: =E99+E103+E111+E115 -> 760.25 | H98: =H99+H103+H111+H115 -> 10423.01 | I98: =I99+I103+I111+I115 -> 12881.8
A99: Ārsti, zobārsti un funkcionālie speciālisti, kopā, tai skaitā: | B99: =SUM(B100:B102) -> 3 | E99: =SUM(E100:E102) -> 281.25 | H99: =SUM(H100:H102) -> 5402.25 | I99: =SUM(I100:I102) -> 6676.64
A100: Iekšķīgo slimību nodaļas vadītājs | B100: 1 | C100: =D100+E100 -> 289.5 | D100: 172 | E100: 117.5 | G100: 9.604 | H100: =ROUND(G100*E100*2,2) -> 2256.94 | I100: =ROUND(H100*1.2359,2) -> 2789.35
A101: Internists (dežūrārsts) | B101: 1 | C101: =D101+E101 -> 195.25 | D101: 172 | E101: 23.25 | G101: 9.604 | H101: =ROUND(G101*E101*2,2) -> 446.59 | I101: =ROUND(H101*1.2359,2) -> 551.94
A102: Internists (dežūrārsts) | B102: 1 | C102: =D102+E102 -> 312.5 | D102: 172 | E102: 140.5 | G102: 9.604 | H102: =ROUND(G102*E102*2,2) -> 2698.72 | I102: =ROUND(H102*1.2359,2) -> 3335.35
A103: Ārstniecības un pacientu aprūpes personas un funkcionālo speciālistu asistenti, kopā, tai skaitā: | B103: =SUM(B104:B110) -> 7 | E103: =SUM(E104:E110) -> 246 | H103: =SUM(H104:H110) -> 3082.66 | I103: =SUM(I104:I110) -> 3809.86
A104: Terapijas māsa | B104: 1 | C104: =D104+E104 -> 232 | D104: 172 | E104: 60 | G104: 6.51 | H104: =ROUND(G104*E104*2,2) -> 781.2 | I104: =ROUND(H104*1.2359,2) -> 965.49
...

Sheet Jelgava_okt
H1: 1.7.Pielikums
A2: Pārskats par darba veicējiem (ārstniecības personām), virs normālā darba laika nostrādātām stundām, apmaksājamām stundām un izdevumiem, kas radušies saistībā ar mērķi ierobežot Covid-19 izplatību
A4: Iestādes nosaukums: Jelgavas pilsētas slimnīca, SIA
A5: Pārskata mēnesis: Oktobris
B7: Nodarbināto skaits mēnesī | C7: Apmaksājamais laiks mēnesī, stundas (tai skaitā summētā darba laika ietvaros) | F7: Mēnešalga no kuras rēķina stundas likmi | G7: Stundas likme (aprēķināta atbilstoši mēnešalgai vai darba līgumā noteiktā stundas likme) | H7: Apmaksājamā 100% piemaksa par nostrādātām virsstundām virs normālā darba laika (tai skaitā summētā darba laika ietvaros) | I7: Izdevumi par virsstundām kopā ar VSOAI, EUR
C8: Kopā | D8: līdz normālam darba laikam | E8: virsstundas - virs normālā darba laika, kas saistītas ar darbu ar Covid-19
A10: 1 | B10: 2 | C10: 3=4+5 | D10: 4 | E10: 5 | F10: 6 | G10: 7 | H10: 8 | I10: 9=8 +VSOAI
A11: KOPĀ | B11: =B12+B41 -> 48 | E11: =E12+E41 -> 2110.5 | H11: =H12+H41 -> 23105.14 | I11: =I12+I41 -> 28555.61
A12: Ārstniecības un pacientu aprūpes personas un funkcionālo speciālistu asistenti, kopā, tai skaitā: | B12: =SUM(B13:B40) -> 28 | E12: =SUM(E13:E40) -> 1040 | H12: =SUM(H13:H40) -> 13107.91 | I12: =SUM(I13:I40) -> 16200.06
A13: Medicīnas māsa | B13: 1 | C13: =D13+E13 -> 216 | D13: 168 | E13: 48 | F13: 1133 | G13: =ROUNDDOWN(F13/D13,3) -> 6.744 | H13: =ROUND(E13*G13*2,2) -> 647.42 | I13: =ROUND(H13*1.2359,2) -> 800.15
A14: Medicīnas māsa | B14: 1 | C14: =D14+E14 -> 192 | D14: 168 | E14: 24 | F14: 1133 | G14: =ROUNDDOWN(F14/D14,3) -> 6.744 | H14: =ROUND(E14*G14*2,2) -> 323.71 | I14: =ROUND(H14*1.2359,2) -> 400.07
A15: Medicīnas māsa | B15: 1 | C15: =D15+E15 -> 208 | D15: 168 | E15: 40 | F15: 1133 | G15: =ROUNDDOWN(F15/D15,3) -> 6.744 | H15: =ROUND(E15*G15*2,2) -> 539.52 | I15: =ROUND(H15*1.2359,2) -> 666.79
A16: Medicīnas māsa | B16: 1 | C16: =D16+E16 -> 200 | D16: 168 | E16: 32 | F16: 1133 | G16: =ROUNDDOWN(F16/D16,3) -> 6.744 | H16: =ROUND(E16*G16*2,2) -> 431.62 | I16: =ROUND(H16*1.2359,2) -> 533.44
A17: Medicīnas māsa | B17: 1 | C17: =D17+E17 -> 216 | D17: 168 | E17: 48 | F17: 1133 | G17: =ROUNDDOWN(F17/D17,3) -> 6.744 | H17: =ROUND(E17*G17*2,2) -> 647.42 | I17: =ROUND(H17*1.2359,2) -> 800.15
A18: Medicīnas māsa | B18: 1 | C18: =D18+E18 -> 192 | D18: 168 | E18: 24 | F18: 1133 | G18: =ROUNDDOWN(F18/D18,3) -> 6.744 | H18: =ROUND(E18*G18*2,2) -> 323.71 | I18: =ROUND(H18*1.2359,2) -> 400.07
A19: Medicīnas māsa | B19: 1 | C19: =D19+E19 -> 240 | D19: 168 | E19: 72 | F19: 1133 | G19: =ROUNDDOWN(F19/D19,3) -> 6.744 | H19: =ROUND(E19*G19*2,2) -> 971.14 | I19: =ROUND(H19*1.2359,2) -> 1200.23
A20: Medicīnas māsa | B20: 1 | C20: =D20+E20 -> 192 | D20: 168 | E20: 24 | F20: 1133 | G20: =ROUNDDOWN(F20/D20,3) -> 6.744 | H20: =ROUND(E20*G20*2,2) -> 323.71 | I20: =ROUND(H20*1.2359,2) -> 400.07
A21: Medicīnas māsa | B21: 1 | C21: =D21+E21 -> 202 | D21: 168 | E21: 34 | F21: 1133 | G21: =ROUNDDOWN(F21/D21,3) -> 6.744 | H21: =ROUND(E21*G21*2,2) -> 458.59 | I21: =ROUND(H21*1.2359,2) -> 566.77
A22: Medicīnas māsa | B22: 1 | C22: =D22+E22 -> 193 | D22: 168 | E22: 25 | F22: 1133 | G22: =ROUNDDOWN(F22/D22,3) -> 6.744 | H22: =ROUND(E22*G22*2,2) -> 337.2 | I22: =ROUND(H22*1.2359,2) -> 416.75
A23: Medicīnas māsa | B23: 1 | C23: =D23+E23 -> 241 | D23: 168 | E23: 73 | F23: 1133 | G23: =ROUNDDOWN(F23/D23,3) -> 6.744 | H23: =ROUND(E23*G23*2,2) -> 984.62 | I23: =ROUND(H23*1.2359,2) -> 1216.89
A24: Medicīnas māsa | B24: 1 | C24: =D24+E24 -> 216 | D24: 168 | E24: 48 | F24: 1133 | G24: =ROUNDDOWN(F24/D24,3) -> 6.744 | H24: =ROUND(E24*G24*2,2) -> 647.42 | I24: =ROUND(H24*1.2359,2) -> 800.15
... A40: Fizioterapeits | B40: 1 | C40: =D40+E40 -> 173 | D40: 168 | E40: 5 | F40: 1220 | G40: =ROUNDDOWN(F40/D40,3) -> 7.261 | H40: =ROUND(E40*G40*2,2) -> 72.61 | I40: =ROUND(H40*1.2359,2) -> 89.74
A41: Ārstniecības un pacientu aprūpes atbalsta personas, māsu palīgi, zobārstu aistenti, kopā, tai skaitā: | B41: =SUM(B42:B61) -> 20 | E41: =SUM(E42:E61) -> 1070.5 | H41: =SUM(H42:H61) -> 9997.23 | I41: =SUM(I42:I61) -> 12355.55
A42: Māsu palīgs | B42: 1 | C42: =D42+E42 -> 264 | D42: 168 | E42: 96 | F42: 833 | G42: =ROUNDDOWN(F42/D42,3) -> 4.958 | H42: =ROUND(E42*G42*2,2) -> 951.94 | I42: =ROUND(H42*1.2359,2) -> 1176.5
A43: Māsu palīgs | B43: 1 | C43: =D43+E43 -> 216 | D43: 168 | E43: 48 | F43: 833 | G43: =ROUNDDOWN(F43/D43,3) -> 4.958 | H43: =ROUND(E43*G43*2,2) -> 475.97 | I43: =ROUND(H43*1.2359,2) -> 588.25
A44: Māsu palīgs | B44: 1 | C44: =D44+E44 -> 240 | D44: 168 | E44: 72 | F44: 833 | G44: =ROUNDDOWN(F44/D44,3) -> 4.958 | H44: =ROUND(E44*G44*2,2) -> 713.95 | I44: =ROUND(H44*1.2359,2) -> 882.37
A45: Māsu palīgs | B45: 1 | C45: =D45+E45 -> 216 | D45: 168 | E45: 48 | F45: 833 | G45: =ROUNDDOWN(F45/D45,3) -> 4.958 | H45: =ROUND(E45*G45*2,2) -> 475.97 | I45: =ROUND(H45*1.2359,2) -> 588.25
A46: Māsu palīgs | B46: 1 | C46: =D46+E46 -> 241 | D46: 168 | E46: 73 | F46: 833 | G46: =ROUNDDOWN(F46/D46,3) -> 4.958 | H46: =ROUND(E46*G46*2,2) -> 723.87 | I46: =ROUND(H46*1.2359,2) -> 894.63
A47: Māsu palīgs | B47: 1 | C47: =D47+E47 -> 216 | D47: 168 | E47: 48 | F47: 833 | G47: =ROUNDDOWN(F47/D47,3) -> 4.958 | H47: =ROUND(E47*G47*2,2) -> 475.97 | I47: =ROUND(H47*1.2359,2) -> 588.25
A48: Sanitārs | B48: 1 | C48: =D48+E48 -> 201 | D48: 168 | E48: 33 | F48: 740 | G48: =ROUNDDOWN(F48/D48,3) -> 4.404 | H48: =ROUND(E48*G48*2,2) -> 290.66 | I48: =ROUND(H48*1.2359,2) -> 359.23
A49: Sanitārs | B49: 1 | C49: =D49+E49 -> 240 | D49: 168 | E49: 72 | F49: 740 | G49: =ROUNDDOWN(F49/D49,3) -> 4.404 | H49: =ROUND(E49*G49*2,2) -> 634.18 | I49: =ROUND(H49*1.2359,2) -> 783.78
A50: Sanitārs | B50: 1 | C50: =D50+E50 -> 208 | D50: 168 | E50: 40 | F50: 740 | G50: =ROUNDDOWN(F50/D50,3) -> 4.404 | H50: =ROUND(E50*G50*2,2) -> 352.32 | I50: =ROUND(H50*1.2359,2) -> 435.43
A51: Sanitārs | B51: 1 | C51: =D51+E51 -> 240 | D51: 168 | E51: 72 | F51: 740 | G51: =ROUNDDOWN(F51/D51,3) -> 4.404 | H51: =ROUND(E51*G51*2,2) -> 634.18 | I51: =ROUND(H51*1.2359,2) -> 783.78
A52: Sanitārs | B52: 1 | C52: =D52+E52 -> 264 | D52: 168 | E52: 96 | F52: 740 | G52: =ROUNDDOWN(F52/D52,3) -> 4.404 | H52: =ROUND(E52*G52*2,2) -> 845.57 | I52: =ROUND(H52*1.2359,2) -> 1045.04
A53: Sanitārs | B53: 1 | C53: =D53+E53 -> 240 | D53: 168 | E53: 72 | F53: 740 | G53: =ROUNDDOWN(F53/D53,3) -> 4.404 | H53: =ROUND(E53*G53*2,2) -> 634.18 | I53: =ROUND(H53*1.2359,2) -> 783.78
... A61: Sekretāre | B61: 1 | C61: =D61+E61 -> 175.5 | D61: 168 | E61: 7.5 | F61: 1191 | G61: =ROUNDDOWN(F61/D61,3) -> 7.089 | H61: =ROUND(E61*G61*2,2) -> 106.34 | I61: =ROUND(H61*1.2359,2) -> 131.43

Sheet Vidzeme_sept
H1: 1.8.Pielikums
A2: Pārskats par darba veicējiem (ārstniecības personām), virs normālā darba laika nostrādātām stundām, apmaksājamām stundām un izdevumiem, kas radušies saistībā ar mērķi ierobežot Covid-19 izplatību
A4: Iestādes nosaukums: Vidzemes slimnīca, SIA
A5: Pārskata periods: Septembris
B7: Nodarbināto skaits mēnesī | C7: Apmaksājamais laiks mēnesī, stundas (tai skaitā summētā darba laika ietvaros) | F7: Mēnešalga no kuras rēķina stundas likmi | G7: Stundas likme (aprēķināta atbilstoši mēnešalgai vai darba līgumā noteiktā stundas likme) | H7: Apmaksājamā 100% piemaksa par nostrādātām virsstundām virs normālā darba laika (tai skaitā summētā darba laika ietvaros) | I7: Izdevumi par virsstundām kopā ar VSOAI, EUR
C8: Kopā | D8: līdz normālam darba laikam | E8: virsstundas - virs normālā darba laika, kas saistītas ar darbu ar Covid-19
A10: 1 | B10: 2 | C10: 3=4+5 | D10: 4 | E10: 5 | F10: 6 | G10: 7 | H10: 8 | I10: 9=8 +VSOAI
A11: KOPĀ | B11: =B12+B42+B102 -> 136 | E11: =E12+E42+E102 -> 2887.6 | H11: =H12+H42+H102 -> 41391.74 | I11: =I12+I42+I102 -> 51156.05
A12: Ārsti, zobārsti un funkcionālie speciālisti, kopā, tai skaitā: | B12: =SUM(B13:B41) -> 29 | E12: =SUM(E13:E41) -> 957.8 | H12: =SUM(H13:H41) -> 18733.3 | I12: =SUM(I13:I41) -> 23152.5
A13: pediatrs | B13: 1 | C13: =D13+E13 -> 213 | D13: 176 | E13: 37 | F13: 1601.6 | G13: =ROUND(F13/D13,2) -> 9.1 | H13: =ROUND(E13*G13*2,2) -> 673.4 | I13: =ROUND(H13*1.2359,2) -> 832.26
A14: pediatrs | B14: 1 | C14: =D14+E14 -> 203 | D14: 176 | E14: 27 | F14: 1601.6 | G14: =ROUND(F14/D14,2) -> 9.1 | H14: =ROUND(E14*G14*2,2) -> 491.4 | I14: =ROUND(H14*1.2359,2) -> 607.32
A15: pediatrs | B15: 1 | C15: =D15+E15 -> 190 | D15: 176 | E15: 14 | F15: 1804 | G15: =ROUND(F15/D15,2) -> 10.25 | H15: =ROUND(E15*G15*2,2) -> 287 | I15: =ROUND(H15*1.2359,2) -> 354.7
A16: ginekologs, dzemdību speciālists | B16: 1 | C16: =D16+E16 -> 200 | D16: 176 | E16: 24 | F16: 1804 | G16: =ROUND(F16/D16,2) -> 10.25 | H16: =ROUND(E16*G16*2,2) -> 492 | I16: =ROUND(H16*1.2359,2) -> 608.06
A17: ginekologs, dzemdību speciālists | B17: 1 | C17: =D17+E17 -> 197 | D17: 176 | E17: 21 | F17: 1601.6 | G17: =ROUND(F17/D17,2) -> 9.1 | H17: =ROUND(E17*G17*2,2) -> 382.2 | I17: =ROUND(H17*1.2359,2) -> 472.36
A18: neonatologs | B18: 1 | C18: =D18+E18 -> 204.8 | D18: 176 | E18: 28.8 | F18: 1804 | G18: =ROUND(F18/D18,2) -> 10.25 | H18: =ROUND(E18*G18*2,2) -> 590.4 | I18: =ROUND(H18*1.2359,2) -> 729.68
A19: ginekologs, dzemdību speciālists | B19: 1 | C19: =D19+E19 -> 214 | D19: 176 | E19: 38 | F19: 1804 | G19: =ROUND(F19/D19,2) -> 10.25 | H19: =ROUND(E19*G19*2,2) -> 779 | I19: =ROUND(H19*1.2359,2) -> 962.77
A20: neonatologs | B20: 1 | C20: =D20+E20 -> 192 | D20: 176 | E20: 16 | F20: 1804 | G20: =ROUND(F20/D20,2) -> 10.25 | H20: =ROUND(E20*G20*2,2) -> 328 | I20: =ROUND(H20*1.2359,2) -> 405.38
A21: neonatologs | B21: 1 | C21: =D21+E21 -> 218 | D21: 176 | E21: 42 | F21: 1804 | G21: =ROUND(F21/D21,2) -> 10.25 | H21: =ROUND(E21*G21*2,2) -> 861 | I21: =ROUND(H21*1.2359,2) -> 1064.11
A22: neonatologs | B22: 1 | C22: =D22+E22 -> 183 | D22: 176 | E22: 7 | F22: 1804 | G22: =ROUND(F22/D22,2) -> 10.25 | H22: =ROUND(E22*G22*2,2) -> 143.5 | I22: =ROUND(H22*1.2359,2) -> 177.35
A23: ķirurgs | B23: 1 | C23: =D23+E23 -> 183 | D23: 176 | E23: 7 | F23: 1804 | G23: =ROUND(F23/D23,2) -> 10.25 | H23: =ROUND(E23*G23*2,2) -> 143.5 | I23: =ROUND(H23*1.2359,2) -> 177.35
A24: ķirurgs | B24: 1 | C24: =D24+E24 -> 178 | D24: 176 | E24: 2 | F24: 1804 | G24: =ROUND(F24/D24,2) -> 10.25 | H24: =ROUND(E24*G24*2,2) -> 41 | I24: =ROUND(H24*1.2359,2) -> 50.67
... A41: traumatologs, ortopēds | B41: 1 | C41: =D41+E41 -> 193 | D41: 176 | E41: 17 | F41: 1804 | G41: =ROUND(F41/D41,2) -> 10.25 | H41: =ROUND(E41*G41*2,2) -> 348.5 | I41: =ROUND(H41*1.2359,2) -> 430.71
A42: Ārstniecības un pacientu aprūpes personas un funkcionālo speciālistu asistenti, kopā, tai skaitā: | B42: =SUM(B43:B101) -> 59 | E42: =SUM(E43:E101) -> 998.8 | H42: =SUM(H43:H101) -> 13574.62 | I42: =SUM(I43:I101) -> 16776.88
A43: intensīvās terapijas un anestēzijas māsa | B43: 1 | C43: =D43+E43 -> 194 | D43: 176 | E43: 18 | F43: 1232 | G43: =ROUND(F43/D43,2) -> 7 | H43: =ROUND(E43*G43*2,2) -> 252 | I43: =ROUND(H43*1.2359,2) -> 311.45
A44: intensīvās terapijas un anestēzijas māsa | B44: 1 | C44: =D44+E44 -> 204 | D44: 176 | E44: 28 | F44: 1232 | G44: =ROUND(F44/D44,2) -> 7 | H44: =ROUND(E44*G44*2,2) -> 392 | I44: =ROUND(H44*1.2359,2) -> 484.47
A45: intensīvās terapijas un anestēzijas māsa | B45: 1 | C45: =D45+E45 -> 189 | D45: 176 | E45: 13 | F45: 1232 | G45: =ROUND(F45/D45,2) -> 7 | H45: =ROUND(E45*G45*2,2) -> 182 | I45: =ROUND(H45*1.2359,2) -> 224.93
A46: intensīvās terapijas un anestēzijas māsa | B46: 1 | C46: =D46+E46 -> 196 | D46: 176 | E46: 20 | F46: 1232 | G46: =ROUND(F46/D46,2) -> 7 | H46: =ROUND(E46*G46*2,2) -> 280 | I46: =ROUND(H46*1.2359,2) -> 346.05
A47: intensīvās terapijas un anestēzijas māsa | B47: 1 | C47: =D47+E47 -> 184 | D47: 176 | E47: 8 | F47: 1003.2 | G47: =ROUND(F47/D47,2) -> 5.7 | H47: =ROUND(E47*G47*2,2) -> 91.2 | I47: =ROUND(H47*1.2359,2) -> 112.71
A48: intensīvās terapijas un anestēzijas māsa | B48: 1 | C48: =D48+E48 -> 200 | D48: 176 | E48: 24 | F48: 1232 | G48: =ROUND(F48/D48,2) -> 7 | H48: =ROUND(E48*G48*2,2) -> 336 | I48: =ROUND(H48*1.2359,2) -> 415.26
A49: bērnu māsa | B49: 1 | C49: =D49+E49 -> 190 | D49: 176 | E49: 14 | F49: 1232 | G49: =ROUND(F49/D49,2) -> 7 | H49: =ROUND(E49*G49*2,2) -> 196 | I49: =ROUND(H49*1.2359,2) -> 242.24
A50: medicīnas māsa | B50: 1 | C50: =D50+E50 -> 214 | D50: 176 | E50: 38 | F50: 1232 | G50: =ROUND(F50/D50,2) -> 7 | H50: =ROUND(E50*G50*2,2) -> 532 | I50: =ROUND(H50*1.2359,2) -> 657.5
A51: radiologa asistents | B51: 1 | C51: =D51+E51 -> 220 | D51: 176 | E51: 44 | F51: 1108.8 | G51: =ROUND(F51/D51,2) -> 6.3 | H51: =ROUND(E51*G51*2,2) -> 554.4 | I51: =ROUND(H51*1.2359,2) -> 685.18
A52: radiologa asistents | B52: 1 | C52: =D52+E52 -> 189 | D52: 176 | E52: 13 | F52: 1372.8 | G52: =ROUND(F52/D52,2) -> 7.8 | H52: =ROUND(E52*G52*2,2) -> 202.8 | I52: =ROUND(H52*1.2359,2) -> 250.64
A53: radiogrāfers | B53: 1 | C53: =D53+E53 -> 202 | D53: 176 | E53: 26 | F53: 1372.8 | G53: =ROUND(F53/D53,2) -> 7.8 | H53: =ROUND(E53*G53*2,2) -> 405.6 | I53: =ROUND(H53*1.2359,2) -> 501.28
A54: vecmāte | B54: 1 | C54: =D54+E54 -> 193.8 | D54: 176 | E54: 17.8 | F54: 1267.2 | G54: =ROUND(F54/D54,2) -> 7.2 | H54: =ROUND(E54*G54*2,2) -> 256.32 | I54: =ROUND(H54*1.2359,2) -> 316.79
... A101: ķirurģiskās aprūpes māsa | B101: 1 | C101: =D101+E101 -> 216 | D101: 176 | E101: 40 | F101: 1232 | G101: =ROUND(F101/D101,2) -> 7 | H101: =ROUND(E101*G101*2,2) -> 560 | I101: =ROUND(H101*1.2359,2) -> 692.1
A102: Ārstniecības un pacientu aprūpes atbalsta personas, māsu palīgi, zobārstu aistenti, kopā, tai skaitā: | B102: =SUM(B103:B150) -> 48 | E102: =SUM(E103:E150) -> 931 | H102: =SUM(H103:H150) -> 9083.82 | I102: =SUM(I103:I150) -> 11226.67
A103: māsas palīgs | B103: 1 | C103: =D103+E103 -> 188 | D103: 176 | E103: 12 | F103: 730.4 | G103: =ROUND(F103/D103,2) -> 4.15 | H103: =ROUND(E103*G103*2,2) -> 99.6 | I103: =ROUND(H103*1.2359,2) -> 123.1
A104: māsas palīgs | B104: 1 | C104: =D104+E104 -> 219 | D104: 176 | E104: 43 | F104: 862.4 | G104: =ROUND(F104/D104,2) -> 4.9 | H104: =ROUND(E104*G104*2,2) -> 421.4 | I104: =ROUND(H104*1.2359,2) -> 520.81
A105: māsas palīgs | B105: 1 | C105: =D105+E105 -> 177 | D105: 176 | E105: 1 | F105: 862.4 | G105: =ROUND(F105/D105,2) -> 4.9 | H105: =ROUND(E105*G105*2,2) -> 9.8 | I105: =ROUND(H105*1.2359,2) -> 12.11
A106: māsas palīgs | B106: 1 | C106: =D106+E106 -> 185 | D106: 176 | E106: 9 | F106: 862.4 | G106: =ROUND(F106/D106,2) -> 4.9 | H106: =ROUND(E106*G106*2,2) -> 88.2 | I106: =ROUND(H106*1.2359,2) -> 109.01
A107: māsas palīgs | B107: 1 | C107: =D107+E107 -> 185 | D107: 176 | E107: 9 | F107: 862.4 | G107: =ROUND(F107/D107,2) -> 4.9 | H107: =ROUND(E107*G107*2,2) -> 88.2 | I107: =ROUND(H107*1.2359,2) -> 109.01
A108: māsas palīgs | B108: 1 | C108: =D108+E108 -> 188 | D108: 176 | E108: 12 | F108: 862.4 | G108: =ROUND(F108/D108,2) -> 4.9 | H108: =ROUND(E108*G108*2,2) -> 117.6 | I108: =ROUND(H108*1.2359,2) -> 145.34
A109: māsas palīgs | B109: 1 | C109: =D109+E109 -> 181 | D109: 176 | E109: 5 | F109: 862.4 | G109: =ROUND(F109/D109,2) -> 4.9 | H109: =ROUND(E109*G109*2,2) -> 49 | I109: =ROUND(H109*1.2359,2) -> 60.56
A110: māsas palīgs | B110: 1 | C110: =D110+E110 -> 184 | D110: 176 | E110: 8 | F110: 862.4 | G110: =ROUND(F110/D110,2) -> 4.9 | H110: =ROUND(E110*G110*2,2) -> 78.4 | I110: =ROUND(H110*1.2359,2) -> 96.89
A111: māsas palīgs | B111: 1 | C111: =D111+E111 -> 192 | D111: 176 | E111: 16 | F111: 862.4 | G111: =ROUND(F111/D111,2) -> 4.9 | H111: =ROUND(E111*G111*2,2) -> 156.8 | I111: =ROUND(H111*1.2359,2) -> 193.79
A112: māsas palīgs | B112: 1 | C112: =D112+E112 -> 185 | D112: 176 | E112: 9 | F112: 862.4 | G112: =ROUND(F112/D112,2) -> 4.9 | H112: =ROUND(E112*G112*2,2) -> 88.2 | I112: =ROUND(H112*1.2359,2) -> 109.01
A113: māsas palīgs | B113: 1 | C113: =D113+E113 -> 192 | D113: 176 | E113: 16 | F113: 862.4 | G113: =ROUND(F113/D113,2) -> 4.9 | H113: =ROUND(E113*G113*2,2) -> 156.8 | I113: =ROUND(H113*1.2359,2) -> 193.79
A114: māsas palīgs | B114: 1 | C114: =D114+E114 -> 192 | D114: 176 | E114: 16 | F114: 862.4 | G114: =ROUND(F114/D114,2) -> 4.9 | H114: =ROUND(E114*G114*2,2) -> 156.8 | I114: =ROUND(H114*1.2359,2) -> 193.79
... A150: māsas palīgs | B150: 1 | C150: =D150+E150 -> 184 | D150: 176 | E150: 8 | F150: 862.4 | G150: =ROUND(F150/D150,2) -> 4.9 | H150: =ROUND(E150*G150*2,2) -> 78.4 | I150: =ROUND(H150*1.2359,2) -> 96.89

Sheet Vidzeme_okt
H1: 1.9.Pielikums
A2: Pārskats par darba veicējiem (ārstniecības personām), virs normālā darba laika nostrādātām stundām, apmaksājamām stundām un izdevumiem, kas radušies saistībā ar mērķi ierobežot Covid-19 izplatību
A4: Iestādes nosaukums: Vidzemes slimnīca SIA
A5: Pārskata periods: Oktobris
B7: Nodarbināto skaits mēnesī | C7: Apmaksājamais laiks mēnesī, stundas (tai skaitā summētā darba laika ietvaros) | F7: Mēnešalga no kuras rēķina stundas likmi | G7: Stundas likme (aprēķināta atbilstoši mēnešalgai vai darba līgumā noteiktā stundas likme) | H7: Apmaksājamā 100% piemaksa par nostrādātām virsstundām virs normālā darba laika (tai skaitā summētā darba laika ietvaros) | I7: Izdevumi par virsstundām kopā ar VSOAI, EUR
C8: Kopā | D8: līdz normālam darba laikam | E8: virsstundas - virs normālā darba laika, kas saistītas ar darbu ar Covid-19
A10: 1 | B10: 2 | C10: 3=4+5 | D10: 4 | E10: 5 | F10: 6 | G10: 7 | H10: 8 | I10: 9=8 +VSOAI
A11: KOPĀ | B11: =B12+B38+B108 -> 145 | E11: =E12+E38+E108 -> 4069.7 | H11: =H12+H38+H108 -> 55101.42 | I11: =I12+I38+I108 -> 68074.37
A12: Ārsti, zobārsti un funkcionālie speciālisti, kopā, tai skaitā: | B12: =SUM(B13:B37) -> 25 | E12: =SUM(E13:E37) -> 866 | H12: =SUM(H13:H37) -> 16858.1 | I12: =SUM(I13:I37) -> 20834.93
A13: pediatrs | B13: 1 | C13: =D13+E13 -> 194 | D13: 168 | E13: 26 | F13: 1528.8 | G13: =ROUND(F13/D13,2) -> 9.1 | H13: =ROUND(E13*G13*2,2) -> 473.2 | I13: =ROUND(H13*1.2359,2) -> 584.83
A14: pediatrs | B14: 1 | C14: =D14+E14 -> 192 | D14: 168 | E14: 24 | F14: 1528.8 | G14: =ROUND(F14/D14,2) -> 9.1 | H14: =ROUND(E14*G14*2,2) -> 436.8 | I14: =ROUND(H14*1.2359,2) -> 539.84
A15: ginekologs, dzemdību speciālists | B15: 1 | C15: =D15+E15 -> 189 | D15: 168 | E15: 21 | F15: 1528.8 | G15: =ROUND(F15/D15,2) -> 9.1 | H15: =ROUND(E15*G15*2,2) -> 382.2 | I15: =ROUND(H15*1.2359,2) -> 472.36
A16: internists | B16: 1 | C16: =D16+E16 -> 208 | D16: 168 | E16: 40 | F16: 1528.8 | G16: =ROUND(F16/D16,2) -> 9.1 | H16: =ROUND(E16*G16*2,2) -> 728 | I16: =ROUND(H16*1.2359,2) -> 899.74
A17: anesteziologs, reanimatologs | B17: 1 | C17: =D17+E17 -> 221 | D17: 168 | E17: 53 | F17: 1528.8 | G17: =ROUND(F17/D17,2) -> 9.1 | H17: =ROUND(E17*G17*2,2) -> 964.6 | I17: =ROUND(H17*1.2359,2) -> 1192.15
A18: anesteziologs, reanimatologs | B18: 1 | C18: =D18+E18 -> 211 | D18: 168 | E18: 43 | F18: 1528.8 | G18: =ROUND(F18/D18,2) -> 9.1 | H18: =ROUND(E18*G18*2,2) -> 782.6 | I18: =ROUND(H18*1.2359,2) -> 967.22
A19: anesteziologs, reanimatologs | B19: 1 | C19: =D19+E19 -> 202 | D19: 168 | E19: 34 | F19: 1528.8 | G19: =ROUND(F19/D19,2) -> 9.1 | H19: =ROUND(E19*G19*2,2) -> 618.8 | I19: =ROUND(H19*1.2359,2) -> 764.77
A20: traumatologs, ortopēds | B20: 1 | C20: =D20+E20 -> 229 | D20: 168 | E20: 61 | F20: 1528.8 | G20: =ROUND(F20/D20,2) -> 9.1 | H20: =ROUND(E20*G20*2,2) -> 1110.2 | I20: =ROUND(H20*1.2359,2) -> 1372.1
A21: traumatologs, ortopēds | B21: 1 | C21: =D21+E21 -> 229 | D21: 168 | E21: 61 | F21: 1528.8 | G21: =ROUND(F21/D21,2) -> 9.1 | H21: =ROUND(E21*G21*2,2) -> 1110.2 | I21: =ROUND(H21*1.2359,2) -> 1372.1
A22: fizioterapeits | B22: 1 | C22: =D22+E22 -> 176 | D22: 168 | E22: 8 | F22: 1092 | G22: =ROUND(F22/D22,2) -> 6.5 | H22: =ROUND(E22*G22*2,2) -> 104 | I22: =ROUND(H22*1.2359,2) -> 128.53
A23: pediatrs | B23: 1 | C23: =D23+E23 -> 180 | D23: 168 | E23: 12 | F23: 1722 | G23: =ROUND(F23/D23,2) -> 10.25 | H23: =ROUND(E23*G23*2,2) -> 246 | I23: =ROUND(H23*1.2359,2) -> 304.03
A24: ginekologs, dzemdību speciālists | B24: 1 | C24: =D24+E24 -> 176 | D24: 168 | E24: 8 | F24: 1722 | G24: =ROUND(F24/D24,2) -> 10.25 | H24: =ROUND(E24*G24*2,2) -> 164 | I24: =ROUND(H24*1.2359,2) -> 202.69
... A37: traumatologs, ortopēds | B37: 1 | C37: =D37+E37 -> 192 | D37: 168 | E37: 24 | F37: 1722 | G37: =ROUND(F37/D37,2) -> 10.25 | H37: =ROUND(E37*G37*2,2) -> 492 | I37: =ROUND(H37*1.2359,2) -> 608.06
A38: Ārstniecības un pacientu aprūpes personas un funkcionālo speciālistu asistenti, kopā, tai skaitā: | B38: =SUM(B39:B107) -> 69 | C38: =SUM(C39:C107) -> 13427.7 | D38: =SUM(D39:D107) -> 11592 | E38: =SUM(E39:E107) -> 1835.7 | F38: =SUM(F39:F107) -> 79104.48 | H38: =SUM(H39:H107) -> 24887.92 | I38: =SUM(I39:I107) -> 30739.03
A39: medicīnas asistents | B39: 1 | C39: =D39+E39 -> 169 | D39: 168 | E39: 1 | F39: 957.6 | G39: =ROUND(F39/D39,2) -> 5.7 | H39: =ROUND(E39*G39*2,2) -> 11.4 | I39: =ROUND(H39*1.2359,2) -> 14.09
A40: medicīnas asistents | B40: 1 | C40: =D40+E40 -> 200 | D40: 168 | E40: 32 | F40: 957.6 | G40: =ROUND(F40/D40,2) -> 5.7 | H40: =ROUND(E40*G40*2,2) -> 364.8 | I40: =ROUND(H40*1.2359,2) -> 450.86
A41: intensīvās terapijas un anestēzijas māsa | B41: 1 | C41: =D41+E41 -> 180 | D41: 168 | E41: 12 | F41: 957.6 | G41: =ROUND(F41/D41,2) -> 5.7 | H41: =ROUND(E41*G41*2,2) -> 136.8 | I41: =ROUND(H41*1.2359,2) -> 169.07
A42: hemodialīzes un nieru transplantācijas māsa | B42: 1 | C42: =D42+E42 -> 200 | D42: 168 | E42: 32 | F42: 957.6 | G42: =ROUND(F42/D42,2) -> 5.7 | H42: =ROUND(E42*G42*2,2) -> 364.8 | I42: =ROUND(H42*1.2359,2) -> 450.86
A43: ķirurģijas māsa | B43: 1 | C43: =D43+E43 -> 214 | D43: 168 | E43: 46 | F43: 957.6 | G43: =ROUND(F43/D43,2) -> 5.7 | H43: =ROUND(E43*G43*2,2) -> 524.4 | I43: =ROUND(H43*1.2359,2) -> 648.11
A44: medicīnas māsa | B44: 1 | C44: =D44+E44 -> 169 | D44: 168 | E44: 1 | F44: 957.6 | G44: =ROUND(F44/D44,2) -> 5.7 | H44: =ROUND(E44*G44*2,2) -> 11.4 | I44: =ROUND(H44*1.2359,2) -> 14.09
A45: medicīnas māsa | B45: 1 | C45: =D45+E45 -> 212 | D45: 168 | E45: 44 | F45: 957.6 | G45: =ROUND(F45/D45,2) -> 5.7 | H45: =ROUND(E45*G45*2,2) -> 501.6 | I45: =ROUND(H45*1.2359,2) -> 619.93
A46: medicīnas māsa | B46: 1 | C46: =D46+E46 -> 180 | D46: 168 | E46: 12 | F46: 957.6 | G46: =ROUND(F46/D46,2) -> 5.7 | H46: =ROUND(E46*G46*2,2) -> 136.8 | I46: =ROUND(H46*1.2359,2) -> 169.07
A47: terapijas māsa | B47: 1 | C47: =D47+E47 -> 222 | D47: 168 | E47: 54 | F47: 957.6 | G47: =ROUND(F47/D47,2) -> 5.7 | H47: =ROUND(E47*G47*2,2) -> 615.6 | I47: =ROUND(H47*1.2359,2) -> 760.82
A48: virsmāsa | B48: 1 | C48: =D48+E48 -> 193 | D48: 168 | E48: 25 | F48: 957.6 | G48: =ROUND(F48/D48,2) -> 5.7 | H48: =ROUND(E48*G48*2,2) -> 285 | I48: =ROUND(H48*1.2359,2) -> 352.23
A49: terapijas māsa | B49: 1 | C49: =D49+E49 -> 175 | D49: 168 | E49: 7 | F49: 957.6 | G49: =ROUND(F49/D49,2) -> 5.7 | H49: =ROUND(E49*G49*2,2) -> 79.8 | I49: =ROUND(H49*1.2359,2) -> 98.62
A50: terapijas māsa | B50: 1 | C50: =D50+E50 -> 184 | D50: 168 | E50: 16 | F50: 957.6 | G50: =ROUND(F50/D50,2) -> 5.7 | H50: =ROUND(E50*G50*2,2) -> 182.4 | I50: =ROUND(H50*1.2359,2) -> 225.43
... A58: ķirurģijas māsa | B58: 1 | C58: =D58+E58 -> 172 | D58: 168 | E58: 4 | F58: 1176 | G58: =ROUND(F58/D58,2) -> 7 | H58: =ROUND(E58*G58*2,2) -> 56 | I58: =ROUND(H58*1.2359,2) -> 69.21
A59: ķirurģijas māsa | B59: 1 | C59: =D59+E59 -> 182 | D59: 168 | E59: 14 | F59: 1176 | G59: =ROUND(F59/D59,2) -> 7 | H59: =ROUND(E59*G59*2,2) -> 196 | I59: =ROUND(H59*1.2194,2) -> 239
A60: ķirurģijas māsa | B60: 1 | C60: =D60+E60 -> 216 | D60: 168 | E60: 48 | F60: 1176 | G60: =ROUND(F60/D60,2) -> 7 | H60: =ROUND(E60*G60*2,2) -> 672 | I60: =ROUND(H60*1.2359,2) -> 830.52
A61: ķirurģijas māsa | B61: 1 | C61: =D61+E61 -> 235 | D61: 168 | E61: 67 | F61: 1176 | G61: =ROUND(F61/D61,2) -> 7 | H61: =ROUND(E61*G61*2,2) -> 938 | I61: =ROUND(H61*1.2359,2) -> 1159.27
A62: neatliekamās palīdzības māsa | B62: 1 | C62: =D62+E62 -> 177 | D62: 168 | E62: 9 | F62: 1176 | G62: =ROUND(F62/D62,2) -> 7 | H62: =ROUND(E62*G62*2,2) -> 126 | I62: =ROUND(H62*1.2359,2) -> 155.72
A63: neatliekamās palīdzības māsa | B63: 1 | C63: =D63+E63 -> 184 | D63: 168 | E63: 16 | F63: 1176 | G63: =ROUND(F63/D63,2) -> 7 | H63: =ROUND(E63*G63*2,2) -> 224 | I63: =ROUND(H63*1.2359,2) -> 276.84
A64: neatliekamās palīdzības māsa | B64: 1 | C64: =D64+E64 -> 222 | D64: 168 | E64: 54 | F64: 1176 | G64: =ROUND(F64/D64,2) -> 7 | H64: =ROUND(E64*G64*2,2) -> 756 | I64: =ROUND(H64*1.2359,2) -> 934.34
A65: neatliekamās palīdzības māsa | B65: 1 | C65: =D65+E65 -> 185 | D65: 168 | E65: 17 | F65: 1176 | G65: =ROUND(F65/D65,2) -> 7 | H65: =ROUND(E65*G65*2,2) -> 238 | I65: =ROUND(H65*1.2359,2) -> 294.14
A66: neatliekamās palīdzības māsa | B66: 1 | C66: =D66+E66 -> 184 | D66: 168 | E66: 16 | F66: 1176 | G66: =ROUND(F66/D66,2) -> 7 | H66: =ROUND(E66*G66*2,2) -> 224 | I66: =ROUND(H66*1.2359,2) -> 276.84
A67: neatliekamās palīdzības māsa | B67: 1 | C67: =D67+E67 -> 184 | D67: 168 | E67: 16 | F67: 1176 | G67: =ROUND(F67/D67,2) -> 7 | H67: =ROUND(E67*G67*2,2) -> 224 | I67: =ROUND(H67*1.2359,2) -> 276.84
A68: operāciju māsa | B68: 1 | C68: =D68+E68 -> 177 | D68: 168 | E68: 9 | F68: 1176 | G68: =ROUND(F68/D68,2) -> 7 | H68: =ROUND(E68*G68*2,2) -> 126 | I68: =ROUND(H68*1.2359,2) -> 155.72
A69: virsmāsa | B69: 1 | C69: =D69+E69 -> 183.5 | D69: 168 | E69: 15.5 | F69: 1176 | G69: =ROUND(F69/D69,2) -> 7 | H69: =ROUND(E69*G69*2,2) -> 217 | I69: =ROUND(H69*1.2359,2) -> 268.19
A70: operāciju māsa | B70: 1 | C70: =D70+E70 -> 188.5 | D70: 168 | E70: 20.5 | F70: 1176 | G70: =ROUND(F70/D70,2) -> 7 | H70: =ROUND(E70*G70*2,2) -> 287 | I70: =ROUND(H70*1.2359,2) -> 354.7
A71: intensīvās terapijas un anestēzijas māsa | B71: 1 | C71: =D71+E71 -> 205 | D71: 168 | E71: 37 | F71: 1176 | G71: =ROUND(F71/D71,2) -> 7 | H71: =ROUND(E71*G71*2,2) -> 518 | I71: =ROUND(H71*1.2359,2) -> 640.2
... A90: vecmāte | B90: 1 | C90: =D90+E90 -> 183.2 | D90: 168 | E90: 15.2 | F90: 1209.6 | G90: =ROUND(F90/D90,2) -> 7.2 | H90: =ROUND(E90*G90*2,2) -> 218.88 | I90: =ROUND(H90*1.2359,2) -> 270.51
A91: vecmāte | B91: 1 | C91: =D91+E91 -> 182 | D91: 168 | E91: 14 | F91: 1209.6 | G91: =ROUND(F91/D91,2) -> 7.2 | H91: =ROUND(E91*G91*2,2) -> 201.6 | I91: =ROUND(H91*1.2077,2) -> 243.47
A92: vecmāte | B92: 1 | C92: =D92+E92 -> 179 | D92: 168 | E92: 11 | F92: 1209.6 | G92: =ROUND(F92/D92,2) -> 7.2 | H92: =ROUND(E92*G92*2,2) -> 158.4 | I92: =ROUND(H92*1.2359,2) -> 195.77
A93: vecākā vecmāte | B93: 1 | C93: =D93+E93 -> 194.5 | D93: 168 | E93: 26.5 | F93: 1209.6 | G93: =ROUND(F93/D93,2) -> 7.2 | H93: =ROUND(E93*G93*2,2) -> 381.6 | I93: =ROUND(H93*1.2359,2) -> 471.62
A94: vecmāte | B94: 1 | C94: =D94+E94 -> 175 | D94: 168 | E94: 7 | F94: 1209.6 | G94: =ROUND(F94/D94,2) -> 7.2 | H94: =ROUND(E94*G94*2,2) -> 100.8 | I94: =ROUND(H94*1.2359,2) -> 124.58
A95: vecmāte | B95: 1 | C95: =D95+E95 -> 175 | D95: 168 | E95: 7 | F95: 1209.6 | G95: =ROUND(F95/D95,2) -> 7.2 | H95: =ROUND(E95*G95*2,2) -> 100.8 | I95: =ROUND(H95*1.2359,2) -> 124.58
A96: vecmāte | B96: 1 | C96: =D96+E96 -> 176 | D96: 168 | E96: 8 | F96: 1209.6 | G96: =ROUND(F96/D96,2) -> 7.2 | H96: =ROUND(E96*G96*2,2) -> 115.2 | I96: =ROUND(H96*1.2359,2) -> 142.38
A97: vecmāte | B97: 1 | C97: =D97+E97 -> 184 | D97: 168 | E97: 16 | F97: 1209.6 | G97: =ROUND(F97/D97,2) -> 7.2 | H97: =ROUND(E97*G97*2,2) -> 230.4 | I97: =ROUND(H97*1.2359,2) -> 284.75
A98: ārsta palīgs | B98: 1 | C98: =D98+E98 -> 184 | D98: 168 | E98: 16 | F98: 1176 | G98: =ROUND(F98/D98,2) -> 7 | H98: =ROUND(E98*G98*2,2) -> 224 | I98: =ROUND(H98*1.2359,2) -> 276.84
A99: ārsta palīgs | B99: 1 | C99: =D99+E99 -> 184 | D99: 168 | E99: 16 | F99: 1176 | G99: =ROUND(F99/D99,2) -> 7 | H99: =ROUND(E99*G99*2,2) -> 224 | I99: =ROUND(H99*1.2359,2) -> 276.84
A100: ārsta palīgs | B100: 1 | C100: =D100+E100 -> 176 | D100: 168 | E100: 8 | F100: 1176 | G100: =ROUND(F100/D100,2) -> 7 | H100: =ROUND(E100*G100*2,2) -> 112 | I100: =ROUND(H100*1.2359,2) -> 138.42
A101: ārsta palīgs | B101: 1 | C101: =D101+E101 -> 192 | D101: 168 | E101: 24 | F101: 1176 | G101: =ROUND(F101/D101,2) -> 7 | H101: =ROUND(E101*G101*2,2) -> 336 | I101: =ROUND(H101*1.2359,2) -> 415.26
A102: ārsta palīgs | B102: 1 | C102: =D102+E102 -> 170 | D102: 168 | E102: 2 | F102: 1176 | G102: =ROUND(F102/D102,2) -> 7 | H102: =ROUND(E102*G102*2,2) -> 28 | I102: =ROUND(H102*1.2359,2) -> 34.61
A103: ārsta palīgs | B103: 1 | C103: =D103+E103 -> 259 | D103: 168 | E103: 91 | F103: 1176 | G103: =ROUND(F103/D103,2) -> 7 | H103: =ROUND(E103*G103*2,2) -> 1274 | I103: =ROUND(H103*1.2359,2) -> 1574.54
A104: vecākais radiogrāfers | B104: 1 | C104: =D104+E104 -> 187 | D104: 168 | E104: 19 | F104: 1448.16 | G104: =ROUND(F104/D104,2) -> 8.62 | H104: =ROUND(E104*G104*2,2) -> 327.56 | I104: =ROUND(H104*1.2359,2) -> 404.83
A105: radiologa asistents | B105: 1 | C105: =D105+E105 -> 199 | D105: 168 | E105: 31 | F105: 1058.4 | G105: =ROUND(F105/D105,2) -> 6.3 | H105: =ROUND(E105*G105*2,2) -> 390.6 | I105: =ROUND(H105*1.2077,2) -> 471.73
A106: radiologa asistents | B106: 1 | C106: =D106+E106 -> 175 | D106: 168 | E106: 7 | F106: 1310.4 | G106: =ROUND(F106/D106,2) -> 7.8 | H106: =ROUND(E106*G106*2,2) -> 109.2 | I106: =ROUND(H106*1.2359,2) -> 134.96
A107: radiogrāfers | B107: 1 | C107: =D107+E107 -> 197 | D107: 168 | E107: 29 | F107: 1310.4 | G107: =ROUND(F107/D107,2) -> 7.8 | H107: =ROUND(E107*G107*2,2) -> 452.4 | I107: =ROUND(H107*1.2359,2) -> 559.12
A108: Ārstniecības un pacientu aprūpes atbalsta personas, māsu palīgi, zobārstu aistenti, kopā, tai skaitā: | B108: =SUM(B109:B159) -> 51 | C108: =SUM(C109:C159) -> 9936 | D108: =SUM(D109:D159) -> 8568 | E108: =SUM(E109:E159) -> 1368 | F108: =SUM(F109:F159) -> 41731.2 | H108: =SUM(H109:H159) -> 13355.4 | I108: =SUM(I109:I159) -> 16500.41
A109: māsas palīgs | B109: 1 | C109: =D109+E109 -> 192 | D109: 168 | E109: 24 | F109: 697.2 | G109: =ROUND(F109/D109,2) -> 4.15 | H109: =ROUND(E109*G109*2,2) -> 199.2 | I109: =ROUND(H109*1.2359,2) -> 246.19
A110: māsas palīgs | B110: 1 | C110: =D110+E110 -> 178 | D110: 168 | E110: 10 | F110: 697.2 | G110: =ROUND(F110/D110,2) -> 4.15 | H110: =ROUND(E110*G110*2,2) -> 83 | I110: =ROUND(H110*1.2359,2) -> 102.58
A111: māsas palīgs | B111: 1 | C111: =D111+E111 -> 190 | D111: 168 | E111: 22 | F111: 823.2 | G111: =ROUND(F111/D111,2) -> 4.9 | H111: =ROUND(E111*G111*2,2) -> 215.6 | I111: =ROUND(H111*1.2359,2) -> 266.46
A112: māsas palīgs | B112: 1 | C112: =D112+E112 -> 177 | D112: 168 | E112: 9 | F112: 823.2 | G112: =ROUND(F112/D112,2) -> 4.9 | H112: =ROUND(E112*G112*2,2) -> 88.2 | I112: =ROUND(H112*1.2359,2) -> 109.01
A113: māsas palīgs | B113: 1 | C113: =D113+E113 -> 192 | D113: 168 | E113: 24 | F113: 823.2 | G113: =ROUND(F113/D113,2) -> 4.9 | H113: =ROUND(E113*G113*2,2) -> 235.2 | I113: =ROUND(H113*1.2359,2) -> 290.68
A114: māsas palīgs | B114: 1 | C114: =D114+E114 -> 192 | D114: 168 | E114: 24 | F114: 823.2 | G114: =ROUND(F114/D114,2) -> 4.9 | H114: =ROUND(E114*G114*2,2) -> 235.2 | I114: =ROUND(H114*1.2359,2) -> 290.68
A115: māsas palīgs | B115: 1 | C115: =D115+E115 -> 192 | D115: 168 | E115: 24 | F115: 823.2 | G115: =ROUND(F115/D115,2) -> 4.9 | H115: =ROUND(E115*G115*2,2) -> 235.2 | I115: =ROUND(H115*1.2359,2) -> 290.68
A116: māsas palīgs | B116: 1 | C116: =D116+E116 -> 194 | D116: 168 | E116: 26 | F116: 823.2 | G116: =ROUND(F116/D116,2) -> 4.9 | H116: =ROUND(E116*G116*2,2) -> 254.8 | I116: =ROUND(H116*1.2359,2) -> 314.91
A117: māsas palīgs | B117: 1 | C117: =D117+E117 -> 192 | D117: 168 | E117: 24 | F117: 823.2 | G117: =ROUND(F117/D117,2) -> 4.9 | H117: =ROUND(E117*G117*2,2) -> 235.2 | I117: =ROUND(H117*1.2359,2) -> 290.68
A118: māsas palīgs | B118: 1 | C118: =D118+E118 -> 205 | D118: 168 | E118: 37 | F118: 823.2 | G118: =ROUND(F118/D118,2) -> 4.9 | H118: =ROUND(E118*G118*2,2) -> 362.6 | I118: =ROUND(H118*1.2359,2) -> 448.14
A119: māsas palīgs | B119: 1 | C119: =D119+E119 -> 200 | D119: 168 | E119: 32 | F119: 823.2 | G119: =ROUND(F119/D119,2) -> 4.9 | H119: =ROUND(E119*G119*2,2) -> 313.6 | I119: =ROUND(H119*1.2359,2) -> 387.58
A120: māsas palīgs | B120: 1 | C120: =D120+E120 -> 204 | D120: 168 | E120: 36 | F120: 823.2 | G120: =ROUND(F120/D120,2) -> 4.9 | H120: =ROUND(E120*G120*2,2) -> 352.8 | I120: =ROUND(H120*1.2359,2) -> 436.03
... A135: māsas palīgs | B135: 1 | C135: =D135+E135 -> 187 | D135: 168 | E135: 19 | F135: 823.2 | G135: =ROUND(F135/D135,2) -> 4.9 | H135: =ROUND(E135*G135*2,2) -> 186.2 | I135: =ROUND(H135*1.2359,2) -> 230.12
A136: māsas palīgs | B136: 1 | C136: =D136+E136 -> 180 | D136: 168 | E136: 12 | F136: 823.2 | G136: =ROUND(F136/D136,2) -> 4.9 | H136: =ROUND(E136*G136*2,2) -> 117.6 | I136: =ROUND(H136*1.2077,2) -> 142.03
A137: māsas palīgs | B137: 1 | C137: =D137+E137 -> 184 | D137: 168 | E137: 16 | F137: 823.2 | G137: =ROUND(F137/D137,2) -> 4.9 | H137: =ROUND(E137*G137*2,2) -> 156.8 | I137: =ROUND(H137*1.2359,2) -> 193.79
A138: māsas palīgs | B138: 1 | C138: =D138+E138 -> 187 | D138: 168 | E138: 19 | F138: 823.2 | G138: =ROUND(F138/D138,2) -> 4.9 | H138: =ROUND(E138*G138*2,2) -> 186.2 | I138: =ROUND(H138*1.2359,2) -> 230.12
A139: māsas palīgs | B139: 1 | C139: =D139+E139 -> 185 | D139: 168 | E139: 17 | F139: 823.2 | G139: =ROUND(F139/D139,2) -> 4.9 | H139: =ROUND(E139*G139*2,2) -> 166.6 | I139: =ROUND(H139*1.2359,2) -> 205.9
A140: māsas palīgs | B140: 1 | C140: =D140+E140 -> 237 | D140: 168 | E140: 69 | F140: 823.2 | G140: =ROUND(F140/D140,2) -> 4.9 | H140: =ROUND(E140*G140*2,2) -> 676.2 | I140: =ROUND(H140*1.2359,2) -> 835.72
A141: māsas palīgs | B141: 1 | C141: =D141+E141 -> 190 | D141: 168 | E141: 22 | F141: 823.2 | G141: =ROUND(F141/D141,2) -> 4.9 | H141: =ROUND(E141*G141*2,2) -> 215.6 | I141: =ROUND(H141*1.2359,2) -> 266.46
A142: māsas palīgs | B142: 1 | C142: =D142+E142 -> 180 | D142: 168 | E142: 12 | F142: 823.2 | G142: =ROUND(F142/D142,2) -> 4.9 | H142: =ROUND(E142*G142*2,2) -> 117.6 | I142: =ROUND(H142*1.2359,2) -> 145.34
A143: māsas palīgs | B143: 1 | C143: =D143+E143 -> 173 | D143: 168 | E143: 5 | F143: 823.2 | G143: =ROUND(F143/D143,2) -> 4.9 | H143: =ROUND(E143*G143*2,2) -> 49 | I143: =ROUND(H143*1.2359,2) -> 60.56
A144: māsas palīgs | B144: 1 | C144: =D144+E144 -> 176 | D144: 168 | E144: 8 | F144: 823.2 | G144: =ROUND(F144/D144,2) -> 4.9 | H144: =ROUND(E144*G144*2,2) -> 78.4 | I144: =ROUND(H144*1.2077,2) -> 94.68
A145: māsas palīgs | B145: 1 | C145: =D145+E145 -> 169 | D145: 168 | E145: 1 | F145: 823.2 | G145: =ROUND(F145/D145,2) -> 4.9 | H145: =ROUND(E145*G145*2,2) -> 9.8 | I145: =ROUND(H145*1.2359,2) -> 12.11
A146: māsas palīgs | B146: 1 | C146: =D146+E146 -> 208 | D146: 168 | E146: 40 | F146: 823.2 | G146: =ROUND(F146/D146,2) -> 4.9 | H146: =ROUND(E146*G146*2,2) -> 392 | I146: =ROUND(H146*1.2359,2) -> 484.47
A147: māsas palīgs | B147: 1 | C147: =D147+E147 -> 182 | D147: 168 | E147: 14 | F147: 823.2 | G147: =ROUND(F147/D147,2) -> 4.9 | H147: =ROUND(E147*G147*2,2) -> 137.2 | I147: =ROUND(H147*1.2359,2) -> 169.57
A148: māsas palīgs | B148: 1 | C148: =D148+E148 -> 245 | D148: 168 | E148: 77 | F148: 823.2 | G148: =ROUND(F148/D148,2) -> 4.9 | H148: =ROUND(E148*G148*2,2) -> 754.6 | I148: =ROUND(H148*1.2359,2) -> 932.61
A149: māsas palīgs | B149: 1 | C149: =D149+E149 -> 274 | D149: 168 | E149: 106 | F149: 823.2 | G149: =ROUND(F149/D149,2) -> 4.9 | H149: =ROUND(E149*G149*2,2) -> 1038.8 | I149: =ROUND(H149*1.2359,2) -> 1283.85
A150: māsas palīgs | B150: 1 | C150: =D150+E150 -> 214 | D150: 168 | E150: 46 | F150: 823.2 | G150: =ROUND(F150/D150,2) -> 4.9 | H150: =ROUND(E150*G150*2,2) -> 450.8 | I150: =ROUND(H150*1.2359,2) -> 557.14
A151: māsas palīgs | B151: 1 | C151: =D151+E151 -> 210 | D151: 168 | E151: 42 | F151: 823.2 | G151: =ROUND(F151/D151,2) -> 4.9 | H151: =ROUND(E151*G151*2,2) -> 411.6 | I151: =ROUND(H151*1.2359,2) -> 508.7
A152: māsas palīgs | B152: 1 | C152: =D152+E152 -> 196 | D152: 168 | E152: 28 | F152: 823.2 | G152: =ROUND(F152/D152,2) -> 4.9 | H152: =ROUND(E152*G152*2,2) -> 274.4 | I152: =ROUND(H152*1.2359,2) -> 339.13
A153: māsas palīgs | B153: 1 | C153: =D153+E153 -> 198 | D153: 168 | E153: 30 | F153: 823.2 | G153: =ROUND(F153/D153,2) -> 4.9 | H153: =ROUND(E153*G153*2,2) -> 294 | I153: =ROUND(H153*1.2359,2) -> 363.35
A154: māsas palīgs | B154: 1 | C154: =D154+E154 -> 199 | D154: 168 | E154: 31 | F154: 823.2 | G154: =ROUND(F154/D154,2) -> 4.9 | H154: =ROUND(E154*G154*2,2) -> 303.8 | I154: =ROUND(H154*1.2359,2) -> 375.47
...

Sheet Jēkabpils_jūl-sept
H1: 1.10.Pielikums
A2: Pārskats par darba veicējiem (ārstniecības personām), virs normālā darba laika nostrādātām stundām, apmaksājamām stundām un izdevumiem, kas radušies saistībā ar mērķi ierobežot Covid-19 izplatību
A4: Iestādes nosaukums: SIA JĒKABPILS REĢIONĀLĀ SLIMNĪCA
A5: Pārskata mēnesis: Jūlijs - Septembris
B7: Nodarbināto skaits mēnesī | C7: Apmaksājamais laiks mēnesī, stundas (tai skaitā summētā darba laika ietvaros) | F7: Mēnešalga no kuras rēķina stundas likmi | G7: Stundas likme (aprēķināta atbilstoši mēnešalgai vai darba līgumā noteiktā stundas likme) | H7: Apmaksājamā 100% piemaksa par nostrādātām virsstundām virs normālā darba laika (tai skaitā summētā darba laika ietvaros) | I7: Izdevumi par virsstundām kopā ar VSOAI, EUR
C8: Kopā | D8: līdz normālam darba laikam | E8: virsstundas - virs normālā darba laika, kas saistītas ar darbu ar Covid-19
A10: 1 | B10: 2 | C10: 3=4+5 | D10: 4 | E10: 5 | F10: 6 | G10: 7 | H10: 8 | I10: 9=8 +VSOAI
A11: KOPĀ | B11: =B12+B22+B66+B94 -> 80 | E11: =E12+E22+E66+E94 -> 3465.5 | H11: =H12+H22+H66+H94 -> 41125.44 | I11: =I12+I22+I66+I94 -> 50793.7
A12: Ārsti, zobārsti un funkcionālie speciālisti, kopā, tai skaitā: | B12: =SUM(B13:B21) -> 9 | E12: =SUM(E13:E21) -> 360 | H12: =SUM(H13:H21) -> 6648 | I12: =SUM(I13:I21) -> 8209.71
A13: ANESTEZIOLOGS, REANIMATOLOGS | B13: 1 | C13: =D13+E13 -> 498 | D13: 462 | E13: 36 | F13: 1489 | G13: =ROUND(F13*3/D13,2) -> 9.67 | H13: =ROUND(E13*G13*2,2) -> 696.24 | I13: =ROUND(H13*1.2359,2) -> 860.48
A14: ANESTEZIOLOGS, REANIMATOLOGS | B14: 1 | C14: =D14+E14 -> 686 | D14: 462 | E14: 224 | F14: 1489 | G14: =ROUND(F14*3/D14,2) -> 9.67 | H14: =ROUND(E14*G14*2,2) -> 4332.16 | I14: =ROUND(H14*1.2359,2) -> 5354.12
A15: NEONATOLOGS | B15: 1 | C15: =D15+E15 -> 463 | D15: 462 | E15: 1 | F15: 1489 | G15: =ROUND(F15*3/D15,2) -> 9.67 | H15: =ROUND(E15*G15*2,2) -> 19.34 | I15: =ROUND(H15*1.2359,2) -> 23.9
A16: Veselības aprūpes vadības ĀRSTS | B16: 1 | C16: =D16+E16 -> 535 | D16: 528 | E16: 7 | F16: 1489 | G16: =ROUND(F16*3/D16,2) -> 8.46 | H16: =ROUND(E16*G16*2,2) -> 118.44 | I16: =ROUND(H16*1.2359,2) -> 146.38
A17: NEONATOLOGS | B17: 1 | C17: =D17+E17 -> 464 | D17: 462 | E17: 2 | F17: 1489 | G17: =ROUND(F17*3/D17,2) -> 9.67 | H17: =ROUND(E17*G17*2,2) -> 38.68 | I17: =ROUND(H17*1.2359,2) -> 47.8
A18: Veselības aprūpes vadības ĀRSTS | B18: 1 | C18: =D18+E18 -> 474 | D18: 462 | E18: 12 | F18: 1489 | G18: =ROUND(F18*3/D18,2) -> 9.67 | H18: =ROUND(E18*G18*2,2) -> 232.08 | I18: =ROUND(H18*1.2077,2) -> 280.28
A19: Veselības aprūpes vadības ĀRSTS | B19: 1 | C19: =D19+E19 -> 539 | D19: 528 | E19: 11 | F19: 1489 | G19: =ROUND(F19*3/D19,2) -> 8.46 | H19: =ROUND(E19*G19*2,2) -> 186.12 | I19: =ROUND(H19*1.2359,2) -> 230.03
A20: INTERNISTS | B20: 1 | C20: =D20+E20 -> 589 | D20: 528 | E20: 61 | F20: 1311 | G20: =ROUND(F20*3/D20,2) -> 7.45 | H20: =ROUND(E20*G20*2,2) -> 908.9 | I20: =ROUND(H20*1.2359,2) -> 1123.31
A21: NEONATOLOGS | B21: 1 | C21: =D21+E21 -> 468 | D21: 462 | E21: 6 | F21: 1489 | G21: =ROUND(F21*3/D21,2) -> 9.67 | H21: =ROUND(E21*G21*2,2) -> 116.04 | I21: =ROUND(H21*1.2359,2) -> 143.41
A22: Ārstniecības un pacientu aprūpes personas un funkcionālo speciālistu asistenti, kopā, tai skaitā: | B22: =SUM(B23:B65) -> 43 | E22: =SUM(E23:E65) -> 1825.5 | H22: =SUM(H23:H65) -> 22679.3 | I22: =SUM(I23:I65) -> 28002.64
A23: ĀRSTA PALĪGS (FELDŠERIS) | B23: 1 | C23: =D23+E23 -> 552 | D23: 528 | E23: 24 | F23: 985 | G23: =ROUND(F23*3/D23,2) -> 5.6 | H23: =ROUND(E23*G23*2,2) -> 268.8 | I23: =ROUND(H23*1.2359,2) -> 332.21
A24: Terapijas MĀSA | B24: 1 | C24: =D24+E24 -> 473 | D24: 462 | E24: 11 | F24: 867 | G24: =ROUND(F24*3/D24,2) -> 5.63 | H24: =ROUND(E24*G24*2,2) -> 123.86 | I24: =ROUND(H24*1.2359,2) -> 153.08
A25: Terapijas MĀSA | B25: 1 | C25: =D25+E25 -> 591 | D25: 528 | E25: 63 | F25: 985 | G25: =ROUND(F25*3/D25,2) -> 5.6 | H25: =ROUND(E25*G25*2,2) -> 705.6 | I25: =ROUND(H25*1.2359,2) -> 872.05
A26: Uroloģijas MĀSA | B26: 1 | C26: =D26+E26 -> 506 | D26: 462 | E26: 44 | F26: 985 | G26: =ROUND(F26*3/D26,2) -> 6.4 | H26: =ROUND(E26*G26*2,2) -> 563.2 | I26: =ROUND(H26*1.2359,2) -> 696.06
A27: Terapijas MĀSA | B27: 1 | C27: =D27+E27 -> 577 | D27: 462 | E27: 115 | F27: 995 | G27: =ROUND(F27*3/D27,2) -> 6.46 | H27: =ROUND(E27*G27*2,2) -> 1485.8 | I27: =ROUND(H27*1.2359,2) -> 1836.3
A28: Medicīnas MĀSA | B28: 1 | C28: =D28+E28 -> 486 | D28: 462 | E28: 24 | F28: 867 | G28: =ROUND(F28*3/D28,2) -> 5.63 | H28: =ROUND(E28*G28*2,2) -> 270.24 | I28: =ROUND(H28*1.2359,2) -> 333.99
A29: Medicīnas MĀSA | B29: 1 | C29: =D29+E29 -> 464 | D29: 462 | E29: 2 | F29: 1010 | G29: =ROUND(F29*3/D29,2) -> 6.56 | H29: =ROUND(E29*G29*2,2) -> 26.24 | I29: =ROUND(H29*1.2359,2) -> 32.43
A30: Medicīnas MĀSA | B30: 1 | C30: =D30+E30 -> 488 | D30: 462 | E30: 26 | F30: 985 | G30: =ROUND(F30*3/D30,2) -> 6.4 | H30: =ROUND(E30*G30*2,2) -> 332.8 | I30: =ROUND(H30*1.2359,2) -> 411.31
A31: Medicīnas MĀSA | B31: 1 | C31: =D31+E31 -> 473 | D31: 462 | E31: 11 | F31: 867 | G31: =ROUND(F31*3/D31,2) -> 5.63 | H31: =ROUND(E31*G31*2,2) -> 123.86 | I31: =ROUND(H31*1.2359,2) -> 153.08
A32: Ginekoloģijas MĀSA | B32: 1 | C32: =D32+E32 -> 561 | D32: 528 | E32: 33 | F32: 985 | G32: =ROUND(F32*3/D32,2) -> 5.6 | H32: =ROUND(E32*G32*2,2) -> 369.6 | I32: =ROUND(H32*1.2359,2) -> 456.79
A33: Ginekoloģijas MĀSA | B33: 1 | C33: =D33+E33 -> 489 | D33: 462 | E33: 27 | F33: 985 | G33: =ROUND(F33*3/D33,2) -> 6.4 | H33: =ROUND(E33*G33*2,2) -> 345.6 | I33: =ROUND(H33*1.2359,2) -> 427.13
A34: Infektoloģijas MĀSA | B34: 1 | C34: =D34+E34 -> 525 | D34: 462 | E34: 63 | F34: 985 | G34: =ROUND(F34*3/D34,2) -> 6.4 | H34: =ROUND(E34*G34*2,2) -> 806.4 | I34: =ROUND(H34*1.2359,2) -> 996.63
A35: Infektoloģijas MĀSA | B35: 1 | C35: =D35+E35 -> 470 | D35: 462 | E35: 8 | F35: 985 | G35: =ROUND(F35*3/D35,2) -> 6.4 | H35: =ROUND(E35*G35*2,2) -> 102.4 | I35: =ROUND(H35*1.2077,2) -> 123.67
A36: Infektoloģijas MĀSA | B36: 1 | C36: =D36+E36 -> 484 | D36: 462 | E36: 22 | F36: 985 | G36: =ROUND(F36*3/D36,2) -> 6.4 | H36: =ROUND(E36*G36*2,2) -> 281.6 | I36: =ROUND(H36*1.2359,2) -> 348.03
A37: Infektoloģijas MĀSA | B37: 1 | C37: =D37+E37 -> 499 | D37: 462 | E37: 37 | F37: 995 | G37: =ROUND(F37*3/D37,2) -> 6.46 | H37: =ROUND(E37*G37*2,2) -> 478.04 | I37: =ROUND(H37*1.2359,2) -> 590.81
A38: Infektoloģijas MĀSA | B38: 1 | C38: =D38+E38 -> 502 | D38: 462 | E38: 40 | F38: 995 | G38: =ROUND(F38*3/D38,2) -> 6.46 | H38: =ROUND(E38*G38*2,2) -> 516.8 | I38: =ROUND(H38*1.2359,2) -> 638.71
A39: Infektoloģijas MĀSA | B39: 1 | C39: =D39+E39 -> 518 | D39: 462 | E39: 56 | F39: 985 | G39: =ROUND(F39*3/D39,2) -> 6.4 | H39: =ROUND(E39*G39*2,2) -> 716.8 | I39: =ROUND(H39*1.2359,2) -> 885.89
A40: Infektoloģijas MĀSA | B40: 1 | C40: =D40+E40 -> 494 | D40: 462 | E40: 32 | F40: 985 | G40: =ROUND(F40*3/D40,2) -> 6.4 | H40: =ROUND(E40*G40*2,2) -> 409.6 | I40: =ROUND(H40*1.2359,2) -> 506.22
A41: Infektoloģijas MĀSA | B41: 1 | C41: =D41+E41 -> 535 | D41: 462 | E41: 73 | F41: 867 | G41: =ROUND(F41*3/D41,2) -> 5.63 | H41: =ROUND(E41*G41*2,2) -> 821.98 | I41: =ROUND(H41*1.2359,2) -> 1015.89
A42: Intensīvās terapijas un anestēzijas MĀSA | B42: 1 | C42: =D42+E42 -> 497 | D42: 462 | E42: 35 | F42: 985 | G42: =ROUND(F42*3/D42,2) -> 6.4 | H42: =ROUND(E42*G42*2,2) -> 448 | I42: =ROUND(H42*1.2359,2) -> 553.68
A43: Medicīnas MĀSA | B43: 1 | C43: =D43+E43 -> 486 | D43: 462 | E43: 24 | F43: 867 | G43: =ROUND(F43*3/D43,2) -> 5.63 | H43: =ROUND(E43*G43*2,2) -> 270.24 | I43: =ROUND(H43*1.2359,2) -> 333.99
A44: Biomedicīnas LABORANTS | B44: 1 | C44: =D44+E44 -> 555.5 | D44: 528 | E44: 27.5 | F44: 985 | G44: =ROUND(F44*3/D44,2) -> 5.6 | H44: =ROUND(E44*G44*2,2) -> 308 | I44: =ROUND(H44*1.2359,2) -> 380.66
A45: Biomedicīnas LABORANTS | B45: 1 | C45: =D45+E45 -> 552 | D45: 528 | E45: 24 | F45: 985 | G45: =ROUND(F45*3/D45,2) -> 5.6 | H45: =ROUND(E45*G45*2,2) -> 268.8 | I45: =ROUND(H45*1.2359,2) -> 332.21
A46: Biomedicīnas LABORANTS | B46: 1 | C46: =D46+E46 -> 547 | D46: 528 | E46: 19 | F46: 985 | G46: =ROUND(F46*3/D46,2) -> 5.6 | H46: =ROUND(E46*G46*2,2) -> 212.8 | I46: =ROUND(H46*1.2359,2) -> 263
A47: Intensīvās terapijas un anestēzijas MĀSA | B47: 1 | C47: =D47+E47 -> 519 | D47: 462 | E47: 57 | F47: 985 | G47: =ROUND(F47*3/D47,2) -> 6.4 | H47: =ROUND(E47*G47*2,2) -> 729.6 | I47: =ROUND(H47*1.2077,2) -> 881.14
A48: Intensīvās terapijas un anestēzijas MĀSA | B48: 1 | C48: =D48+E48 -> 473 | D48: 462 | E48: 11 | F48: 985 | G48: =ROUND(F48*3/D48,2) -> 6.4 | H48: =ROUND(E48*G48*2,2) -> 140.8 | I48: =ROUND(H48*1.2359,2) -> 174.01
A49: Intensīvās terapijas un anestēzijas MĀSA | B49: 1 | C49: =D49+E49 -> 536 | D49: 462 | E49: 74 | F49: 985 | G49: =ROUND(F49*3/D49,2) -> 6.4 | H49: =ROUND(E49*G49*2,2) -> 947.2 | I49: =ROUND(H49*1.2359,2) -> 1170.64
A50: Intensīvās terapijas un anestēzijas MĀSA | B50: 1 | C50: =D50+E50 -> 536 | D50: 462 | E50: 74 | F50: 985 | G50: =ROUND(F50*3/D50,2) -> 6.4 | H50: =ROUND(E50*G50*2,2) -> 947.2 | I50: =ROUND(H50*1.2359,2) -> 1170.64
A51: Neiroloģijas MĀSA | B51: 1 | C51: =D51+E51 -> 550 | D51: 528 | E51: 22 | F51: 985 | G51: =ROUND(F51*3/D51,2) -> 5.6 | H51: =ROUND(E51*G51*2,2) -> 246.4 | I51: =ROUND(H51*1.2359,2) -> 304.53
A52: Intensīvās terapijas un anestēzijas MĀSA | B52: 1 | C52: =D52+E52 -> 499 | D52: 462 | E52: 37 | F52: 995 | G52: =ROUND(F52*3/D52,2) -> 6.46 | H52: =ROUND(E52*G52*2,2) -> 478.04 | I52: =ROUND(H52*1.2359,2) -> 590.81
A53: Ķirurģijas MĀSA | B53: 1 | C53: =D53+E53 -> 551 | D53: 528 | E53: 23 | F53: 867 | G53: =ROUND(F53*3/D53,2) -> 4.93 | H53: =ROUND(E53*G53*2,2) -> 226.78 | I53: =ROUND(H53*1.2359,2) -> 280.28
A54: Terapijas MĀSA | B54: 1 | C54: =D54+E54 -> 576 | D54: 528 | E54: 48 | F54: 995 | G54: =ROUND(F54*3/D54,2) -> 5.65 | H54: =ROUND(E54*G54*2,2) -> 542.4 | I54: =ROUND(H54*1.2359,2) -> 670.35
A55: Intensīvās terapijas un anestēzijas MĀSA | B55: 1 | C55: =D55+E55 -> 521 | D55: 462 | E55: 59 | F55: 995 | G55: =ROUND(F55*3/D55,2) -> 6.46 | H55: =ROUND(E55*G55*2,2) -> 762.28 | I55: =ROUND(H55*1.2359,2) -> 942.1
A56: Intensīvās terapijas un anestēzijas MĀSA | B56: 1 | C56: =D56+E56 -> 545 | D56: 462 | E56: 83 | F56: 995 | G56: =ROUND(F56*3/D56,2) -> 6.46 | H56: =ROUND(E56*G56*2,2) -> 1072.36 | I56: =ROUND(H56*1.2359,2) -> 1325.33
A57: Intensīvās terapijas un anestēzijas MĀSA | B57: 1 | C57: =D57+E57 -> 604 | D57: 462 | E57: 142 | F57: 995 | G57: =ROUND(F57*3/D57,2) -> 6.46 | H57: =ROUND(E57*G57*2,2) -> 1834.64 | I57: =ROUND(H57*1.2359,2) -> 2267.43
A58: Intensīvās terapijas un anestēzijas MĀSA | B58: 1 | C58: =D58+E58 -> 475 | D58: 462 | E58: 13 | F58: 995 | G58: =ROUND(F58*3/D58,2) -> 6.46 | H58: =ROUND(E58*G58*2,2) -> 167.96 | I58: =ROUND(H58*1.2359,2) -> 207.58
A59: Medicīnas MĀSA | B59: 1 | C59: =D59+E59 -> 486 | D59: 462 | E59: 24 | F59: 995 | G59: =ROUND(F59*3/D59,2) -> 6.46 | H59: =ROUND(E59*G59*2,2) -> 310.08 | I59: =ROUND(H59*1.2359,2) -> 383.23
... A62: Medicīnas MĀSA | B62: 1 | C62: =D62+E62 -> 497 | D62: 462 | E62: 35 | F62: 867 | G62: =ROUND(F62*3/D62,2) -> 5.63 | H62: =ROUND(E62*G62*2,2) -> 394.1 | I62: =ROUND(H62*1.2359,2) -> 487.07
A63: Infektoloģijas MĀSA | B63: 1 | C63: =D63+E63 -> 471 | D63: 462 | E63: 9 | F63: 985 | G63: =ROUND(F63*3/D63,2) -> 6.4 | H63: =ROUND(E63*G63*2,2) -> 115.2 | I63: =ROUND(H63*1.2077,2) -> 139.13
A64: Infektoloģijas MĀSA | B64: 1 | C64: =D64+E64 -> 477 | D64: 462 | E64: 15 | F64: 985 | G64: =ROUND(F64*3/D64,2) -> 6.4 | H64: =ROUND(E64*G64*2,2) -> 192 | I64: =ROUND(H64*1.2359,2) -> 237.29
A65: Intensīvās terapijas un anestēzijas MĀSA | B65: 1 | C65: =D65+E65 -> 540 | D65: 462 | E65: 78 | F65: 985 | G65: =ROUND(F65*3/D65,2) -> 6.4 | H65: =ROUND(E65*G65*2,2) -> 998.4 | I65: =ROUND(H65*1.2359,2) -> 1233.92
A66: Ārstniecības un pacientu aprūpes atbalsta personas, māsu palīgi, zobārstu aistenti, kopā, tai skaitā: | B66: =SUM(B67:B93) -> 27 | E66: =SUM(E67:E93) -> 1277 | H66: =SUM(H67:H93) -> 11780.44 | I66: =SUM(I67:I93) -> 14559.47
A67: MĀSAS PALĪGS | B67: 1 | C67: =D67+E67 -> 558 | D67: 462 | E67: 96 | F67: 735 | G67: =ROUND(F67*3/D67,2) -> 4.77 | H67: =ROUND(E67*G67*2,2) -> 915.84 | I67: =ROUND(H67*1.2359,2) -> 1131.89
A68: MĀSAS PALĪGS | B68: 1 | C68: =D68+E68 -> 611 | D68: 528 | E68: 83 | F68: 723 | G68: =ROUND(F68*3/D68,2) -> 4.11 | H68: =ROUND(E68*G68*2,2) -> 682.26 | I68: =ROUND(H68*1.2359,2) -> 843.21
A69: MĀSAS PALĪGS | B69: 1 | C69: =D69+E69 -> 474 | D69: 462 | E69: 12 | F69: 723 | G69: =ROUND(F69*3/D69,2) -> 4.69 | H69: =ROUND(E69*G69*2,2) -> 112.56 | I69: =ROUND(H69*1.2359,2) -> 139.11
A70: MĀSAS PALĪGS | B70: 1 | C70: =D70+E70 -> 491 | D70: 462 | E70: 29 | F70: 735 | G70: =ROUND(F70*3/D70,2) -> 4.77 | H70: =ROUND(E70*G70*2,2) -> 276.66 | I70: =ROUND(H70*1.2359,2) -> 341.92
A71: MĀSAS PALĪGS | B71: 1 | C71: =D71+E71 -> 560 | D71: 462 | E71: 98 | F71: 735 | G71: =ROUND(F71*3/D71,2) -> 4.77 | H71: =ROUND(E71*G71*2,2) -> 934.92 | I71: =ROUND(H71*1.2359,2) -> 1155.47
A72: MĀSAS PALĪGS | B72: 1 | C72: =D72+E72 -> 470 | D72: 462 | E72: 8 | F72: 735 | G72: =ROUND(F72*3/D72,2) -> 4.77 | H72: =ROUND(E72*G72*2,2) -> 76.32 | I72: =ROUND(H72*1.2359,2) -> 94.32
A73: MĀSAS PALĪGS | B73: 1 | C73: =D73+E73 -> 464 | D73: 462 | E73: 2 | F73: 723 | G73: =ROUND(F73*3/D73,2) -> 4.69 | H73: =ROUND(E73*G73*2,2) -> 18.76 | I73: =ROUND(H73*1.2359,2) -> 23.19
A74: MĀSAS PALĪGS | B74: 1 | C74: =D74+E74 -> 499 | D74: 462 | E74: 37 | F74: 735 | G74: =ROUND(F74*3/D74,2) -> 4.77 | H74: =ROUND(E74*G74*2,2) -> 352.98 | I74: =ROUND(H74*1.2359,2) -> 436.25
A75: MĀSAS PALĪGS | B75: 1 | C75: =D75+E75 -> 478 | D75: 462 | E75: 16 | F75: 735 | G75: =ROUND(F75*3/D75,2) -> 4.77 | H75: =ROUND(E75*G75*2,2) -> 152.64 | I75: =ROUND(H75*1.2359,2) -> 188.65
A76: MĀSAS PALĪGS | B76: 1 | C76: =D76+E76 -> 495 | D76: 462 | E76: 33 | F76: 735 | G76: =ROUND(F76*3/D76,2) -> 4.77 | H76: =ROUND(E76*G76*2,2) -> 314.82 | I76: =ROUND(H76*1.2359,2) -> 389.09
A77: MĀSAS PALĪGS | B77: 1 | C77: =D77+E77 -> 523 | D77: 462 | E77: 61 | F77: 735 | G77: =ROUND(F77*3/D77,2) -> 4.77 | H77: =ROUND(E77*G77*2,2) -> 581.94 | I77: =ROUND(H77*1.2359,2) -> 719.22
A78: MĀSAS PALĪGS | B78: 1 | C78: =D78+E78 -> 481 | D78: 462 | E78: 19 | F78: 735 | G78: =ROUND(F78*3/D78,2) -> 4.77 | H78: =ROUND(E78*G78*2,2) -> 181.26 | I78: =ROUND(H78*1.2359,2) -> 224.02
... A89: MĀSAS PALĪGS | B89: 1 | C89: =D89+E89 -> 611 | D89: 528 | E89: 83 | F89: 735 | G89: =ROUND(F89*3/D89,2) -> 4.18 | H89: =ROUND(E89*G89*2,2) -> 693.88 | I89: =ROUND(H89*1.2359,2) -> 857.57
A90: MĀSAS PALĪGS | B90: 1 | C90: =E90+D90 -> 618 | D90: 528 | E90: 90 | F90: 723 | G90: =ROUND(F90*3/D90,2) -> 4.11 | H90: =ROUND(E90*G90*2,2) -> 739.8 | I90: =ROUND(H90*1.2359,2) -> 914.32
A91: MĀSAS PALĪGS | B91: 1 | C91: =D91+E91 -> 545 | D91: 462 | E91: 83 | F91: 723 | G91: =ROUND(F91*3/D91,2) -> 4.69 | H91: =ROUND(E91*G91*2,2) -> 778.54 | I91: =ROUND(H91*1.2359,2) -> 962.2
A92: MĀSAS PALĪGS | B92: 1 | C92: =D92+E92 -> 465 | D92: 462 | E92: 3 | F92: 723 | G92: =ROUND(F92*3/D92,2) -> 4.69 | H92: =ROUND(E92*G92*2,2) -> 28.14 | I92: =ROUND(H92*1.2359,2) -> 34.78
A93: MĀSAS PALĪGS | B93: 1 | C93: =D93+E93 -> 656 | D93: 462 | E93: 194 | F93: 723 | G93: =ROUND(F93*3/D93,2) -> 4.69 | H93: =ROUND(E93*G93*2,2) -> 1819.72 | I93: =ROUND(H93*1.2359,2) -> 2248.99
A94: Pārējie darbinieki, kuri tieši iesaistīti darbā ar Covid-19, kopā, tai skaitā: | B94: =SUM(B95:B95) -> 1 | E94: =SUM(E95:E95) -> 3 | H94: =SUM(H95:H95) -> 17.7 | I94: =SUM(I95:I95) -> 21.88
A95: APKOPĒJS | B95: 1 | C95: =E95+D95 -> 531 | D95: 528 | E95: 3 | F95: 520 | G95: =ROUND(F95*3/D95,2) -> 2.95 | H95: =ROUND(E95*G95*2,2) -> 17.7 | I95: =ROUND(H95*1.2359,2) -> 21.88

Sheet RPNC_okt
H1: 1.11.Pielikums
A2: Pārskats par darba veicējiem (ārstniecības personām), virs normālā darba laika nostrādātām stundām, apmaksājamām stundām un izdevumiem, kas radušies saistībā ar mērķi ierobežot Covid-19 izplatību
A4: Iestādes nosaukums: VSIA Rīgas psihiatrijas un narkoloģijas centrs
A5: Pārskata mēnesis: Oktobris
B7: Nodarbināto skaits mēnesī | C7: Apmaksājamais laiks mēnesī, stundas (tai skaitā summētā darba laika ietvaros) | F7: Mēnešalga no kuras rēķina stundas likmi | G7: Stundas likme | H7: Apmaksājamā 100% piemaksa par nostrādātām virsstundām virs normālā darba laika (tai skaitā summētā darba laika ietvaros) | I7: Izdevumi par virsstundām kopā ar VSOAI, EUR
C8: Kopā | D8: līdz normālam darba laikam | E8: virsstundas - virs normālā darba laika, kas saistītas ar darbu ar Covid-19
A10: 1 | B10: 2 | C10: 3=4+5 | D10: 4 | E10: 5 | F10: 6 | G10: 7 | H10: 8 | I10: 9=8+VSAOI
A11: KOPĀ | B11: =B12+B29+B49 -> 49 | E11: =E12+E29+E49 -> 1062 | H11: =H12+H29+H49 -> 10962.72 | I11: =I12+I29+I49 -> 13500.35
A12: Ārstniecības un pacientu aprūpes personas un funkcionālo speciālistu asistenti, kopā, tai skaitā: | B12: =SUM(B13:B28) -> 16 | E12: =SUM(E13:E28) -> 267 | H12: =SUM(H13:H28) -> 3658.08 | I12: =SUM(I13:I28) -> 4505.21
A13: garīgās veselības aprupes māsa | B13: 1 | C13: =D13+E13 -> 180 | D13: 168 | E13: 12 | F13: 1086 | G13: =ROUND(F13/D13,2) -> 6.46 | H13: =ROUND(E13*G13*2,2) -> 155.04 | I13: =ROUND(H13*1.2359,2) -> 191.61
A14: garīgās veselības aprupes māsa | B14: 1 | C14: =D14+E14 -> 192 | D14: 168 | E14: 24 | F14: 1086 | G14: =ROUND(F14/D14,2) -> 6.46 | H14: =ROUND(E14*G14*2,2) -> 310.08 | I14: =ROUND(H14*1.2359,2) -> 383.23
A15: garīgās veselības aprupes māsa | B15: 1 | C15: =D15+E15 -> 180 | D15: 168 | E15: 12 | F15: 1086 | G15: =ROUND(F15/D15,2) -> 6.46 | H15: =ROUND(E15*G15*2,2) -> 155.04 | I15: =ROUND(H15*1.2359,2) -> 191.61
A16: garīgās veselības aprupes māsa | B16: 1 | C16: =D16+E16 -> 184 | D16: 168 | E16: 16 | F16: 1086 | G16: =ROUND(F16/D16,2) -> 6.46 | H16: =ROUND(E16*G16*2,2) -> 206.72 | I16: =ROUND(H16*1.2077,2) -> 249.66
A17: garīgās veselības aprupes māsa | B17: 1 | C17: =D17+E17 -> 180 | D17: 168 | E17: 12 | F17: 1086 | G17: =ROUND(F17/D17,2) -> 6.46 | H17: =ROUND(E17*G17*2,2) -> 155.04 | I17: =ROUND(H17*1.2359,2) -> 191.61
A18: garīgās veselības aprupes māsa | B18: 1 | C18: =D18+E18 -> 168 | D18: 147 | E18: 21 | F18: 1086 | G18: =ROUND(F18/D18,2) -> 7.39 | H18: =ROUND(E18*G18*2,2) -> 310.38 | I18: =ROUND(H18*1.2359,2) -> 383.6
A19: garīgās veselības aprupes māsa | B19: 1 | C19: =D19+E19 -> 160 | D19: 147 | E19: 13 | F19: 1122 | G19: =ROUND(F19/D19,2) -> 7.63 | H19: =ROUND(E19*G19*2,2) -> 198.38 | I19: =ROUND(H19*1.2359,2) -> 245.18
A20: garīgās veselības aprupes māsa | B20: 1 | C20: =D20+E20 -> 171 | D20: 147 | E20: 24 | F20: 1086 | G20: =ROUND(F20/D20,2) -> 7.39 | H20: =ROUND(E20*G20*2,2) -> 354.72 | I20: =ROUND(H20*1.2077,2) -> 428.4
A21: garīgās veselības aprupes māsa | B21: 1 | C21: =D21+E21 -> 171 | D21: 147 | E21: 24 | F21: 1122 | G21: =ROUND(F21/D21,2) -> 7.63 | H21: =ROUND(E21*G21*2,2) -> 366.24 | I21: =ROUND(H21*1.2359,2) -> 452.64
A22: garīgās veselības aprupes māsa | B22: 1 | C22: =D22+E22 -> 163 | D22: 147 | E22: 16 | F22: 1122 | G22: =ROUND(F22/D22,2) -> 7.63 | H22: =ROUND(E22*G22*2,2) -> 244.16 | I22: =ROUND(H22*1.2359,2) -> 301.76
A23: garīgās veselības aprupes māsa | B23: 1 | C23: =D23+E23 -> 184 | D23: 168 | E23: 16 | F23: 1086 | G23: =ROUND(F23/D23,2) -> 6.46 | H23: =ROUND(E23*G23*2,2) -> 206.72 | I23: =ROUND(H23*1.2359,2) -> 255.49
A24: garīgās veselības aprupes māsa | B24: 1 | C24: =D24+E24 -> 192 | D24: 168 | E24: 24 | F24: 1086 | G24: =ROUND(F24/D24,2) -> 6.46 | H24: =ROUND(E24*G24*2,2) -> 310.08 | I24: =ROUND(H24*1.2359,2) -> 383.23
A25: garīgās veselības aprupes māsa | B25: 1 | C25: =D25+E25 -> 192 | D25: 168 | E25: 24 | F25: 1086 | G25: =ROUND(F25/D25,2) -> 6.46 | H25: =ROUND(E25*G25*2,2) -> 310.08 | I25: =ROUND(H25*1.2359,2) -> 383.23
A26: medicīnas māsa | B26: 1 | C26: =D26+E26 -> 180 | D26: 168 | E26: 12 | F26: 1054 | G26: =ROUND(F26/D26,2) -> 6.27 | H26: =ROUND(E26*G26*2,2) -> 150.48 | I26: =ROUND(H26*1.2359,2) -> 185.98
A27: garīgas veselības aprūpes māsa | B27: 1 | C27: =D27+E27 -> 173 | D27: 168 | E27: 5 | F27: 1086 | G27: =ROUND(F27/D27,2) -> 6.46 | H27: =ROUND(E27*G27*2,2) -> 64.6 | I27: =ROUND(H27*1.2359,2) -> 79.84
A28: garīgas veselības aprūpes māsa | B28: 1 | C28: =D28+E28 -> 180 | D28: 168 | E28: 12 | F28: 1122 | G28: =ROUND(F28/D28,2) -> 6.68 | H28: =ROUND(E28*G28*2,2) -> 160.32 | I28: =ROUND(H28*1.2359,2) -> 198.14
A29: Ārstniecības un pacientu aprūpes atbalsta personas, māsu palīgi, zobārstu aistenti, kopā, tai skaitā: | B29: =SUM(B30:B48) -> 19 | E29: =SUM(E30:E48) -> 461 | H29: =SUM(H30:H48) -> 4489.58 | I29: =SUM(I30:I48) -> 5531.3
A30: māsu paligs | B30: 1 | C30: =D30+E30 -> 192 | D30: 168 | E30: 24 | F30: 810 | G30: =ROUND(F30/D30,2) -> 4.82 | H30: =ROUND(E30*G30*2,2) -> 231.36 | I30: =ROUND(H30*1.2359,2) -> 285.94
A31: māsu paligs | B31: 1 | C31: =D31+E31 -> 192 | D31: 168 | E31: 24 | F31: 810 | G31: =ROUND(F31/D31,2) -> 4.82 | H31: =ROUND(E31*G31*2,2) -> 231.36 | I31: =ROUND(H31*1.2359,2) -> 285.94
A32: māsu paligs | B32: 1 | C32: =D32+E32 -> 216 | D32: 168 | E32: 48 | F32: 810 | G32: =ROUND(F32/D32,2) -> 4.82 | H32: =ROUND(E32*G32*2,2) -> 462.72 | I32: =ROUND(H32*1.2359,2) -> 571.88
A33: māsu paligs | B33: 1 | C33: =D33+E33 -> 192 | D33: 168 | E33: 24 | F33: 810 | G33: =ROUND(F33/D33,2) -> 4.82 | H33: =ROUND(E33*G33*2,2) -> 231.36 | I33: =ROUND(H33*1.2359,2) -> 285.94
A34: māsu paligs | B34: 1 | C34: =D34+E34 -> 178 | D34: 168 | E34: 10 | F34: 810 | G34: =ROUND(F34/D34,2) -> 4.82 | H34: =ROUND(E34*G34*2,2) -> 96.4 | I34: =ROUND(H34*1.2359,2) -> 119.14
A35: māsu paligs | B35: 1 | C35: =D35+E35 -> 178 | D35: 168 | E35: 10 | F35: 810 | G35: =ROUND(F35/D35,2) -> 4.82 | H35: =ROUND(E35*G35*2,2) -> 96.4 | I35: =ROUND(H35*1.2359,2) -> 119.14
A36: māsu paligs | B36: 1 | C36: =D36+E36 -> 167 | D36: 147 | E36: 20 | F36: 810 | G36: =ROUND(F36/D36,2) -> 5.51 | H36: =ROUND(E36*G36*2,2) -> 220.4 | I36: =ROUND(H36*1.2359,2) -> 272.39
A37: māsu paligs | B37: 1 | C37: =D37+E37 -> 160 | D37: 147 | E37: 13 | F37: 810 | G37: =ROUND(F37/D37,2) -> 5.51 | H37: =ROUND(E37*G37*2,2) -> 143.26 | I37: =ROUND(H37*1.2359,2) -> 177.06
A38: māsu paligs | B38: 1 | C38: =D38+E38 -> 224 | D38: 168 | E38: 56 | F38: 810 | G38: =ROUND(F38/D38,2) -> 4.82 | H38: =ROUND(E38*G38*2,2) -> 539.84 | I38: =ROUND(H38*1.2077,2) -> 651.96
A39: māsu paligs | B39: 1 | C39: =D39+E39 -> 192 | D39: 168 | E39: 24 | F39: 810 | G39: =ROUND(F39/D39,2) -> 4.82 | H39: =ROUND(E39*G39*2,2) -> 231.36 | I39: =ROUND(H39*1.2359,2) -> 285.94
A40: māsu paligs | B40: 1 | C40: =D40+E40 -> 192 | D40: 168 | E40: 24 | F40: 810 | G40: =ROUND(F40/D40,2) -> 4.82 | H40: =ROUND(E40*G40*2,2) -> 231.36 | I40: =ROUND(H40*1.2359,2) -> 285.94
A41: māsu paligs | B41: 1 | C41: =D41+E41 -> 184 | D41: 168 | E41: 16 | F41: 810 | G41: =ROUND(F41/D41,2) -> 4.82 | H41: =ROUND(E41*G41*2,2) -> 154.24 | I41: =ROUND(H41*1.2359,2) -> 190.63
A42: māsu paligs | B42: 1 | C42: =D42+E42 -> 192 | D42: 168 | E42: 24 | F42: 810 | G42: =ROUND(F42/D42,2) -> 4.82 | H42: =ROUND(E42*G42*2,2) -> 231.36 | I42: =ROUND(H42*1.2359,2) -> 285.94
A43: māsu paligs | B43: 1 | C43: =D43+E43 -> 192 | D43: 168 | E43: 24 | F43: 810 | G43: =ROUND(F43/D43,2) -> 4.82 | H43: =ROUND(E43*G43*2,2) -> 231.36 | I43: =ROUND(H43*1.2359,2) -> 285.94
A44: māsu paligs | B44: 1 | C44: =D44+E44 -> 192 | D44: 168 | E44: 24 | F44: 810 | G44: =ROUND(F44/D44,2) -> 4.82 | H44: =ROUND(E44*G44*2,2) -> 231.36 | I44: =ROUND(H44*1.2359,2) -> 285.94
A45: māsu paligs | B45: 1 | C45: =D45+E45 -> 192 | D45: 168 | E45: 24 | F45: 810 | G45: =ROUND(F45/D45,2) -> 4.82 | H45: =ROUND(E45*G45*2,2) -> 231.36 | I45: =ROUND(H45*1.2359,2) -> 285.94
A46: māsu paligs | B46: 1 | C46: =D46+E46 -> 192 | D46: 168 | E46: 24 | F46: 810 | G46: =ROUND(F46/D46,2) -> 4.82 | H46: =ROUND(E46*G46*2,2) -> 231.36 | I46: =ROUND(H46*1.2359,2) -> 285.94
A47: māsu paligs | B47: 1 | C47: =D47+E47 -> 208 | D47: 168 | E47: 40 | F47: 810 | G47: =ROUND(F47/D47,2) -> 4.82 | H47: =ROUND(E47*G47*2,2) -> 385.6 | I47: =ROUND(H47*1.2359,2) -> 476.56
A48: māsu paligs | B48: 1 | C48: =D48+E48 -> 176 | D48: 168 | E48: 8 | F48: 810 | G48: =ROUND(F48/D48,2) -> 4.82 | H48: =ROUND(E48*G48*2,2) -> 77.12 | I48: =ROUND(H48*1.2077,2) -> 93.14
A49: Pārējie darbinieki, kuri tieši iesaistīti darbā ar Covid-19, kopā, tai skaitā: | B49: =SUM(B50:B63) -> 14 | E49: =SUM(E50:E63) -> 334 | H49: =SUM(H50:H63) -> 2815.06 | I49: =SUM(I50:I63) -> 3463.84
A50: sanitārs | B50: 1 | C50: =D50+E50 -> 192 | D50: 168 | E50: 24 | F50: 700 | G50: =ROUND(F50/D50,2) -> 4.17 | H50: =ROUND(E50*G50*2,2) -> 200.16 | I50: =ROUND(H50*1.2077,2) -> 241.73
A51: sanitārs | B51: 1 | C51: =D51+E51 -> 204 | D51: 168 | E51: 36 | F51: 700 | G51: =ROUND(F51/D51,2) -> 4.17 | H51: =ROUND(E51*G51*2,2) -> 300.24 | I51: =ROUND(H51*1.2359,2) -> 371.07
A52: sanitārs | B52: 1 | C52: =D52+E52 -> 240 | D52: 168 | E52: 72 | F52: 700 | G52: =ROUND(F52/D52,2) -> 4.17 | H52: =ROUND(E52*G52*2,2) -> 600.48 | I52: =ROUND(H52*1.2359,2) -> 742.13
A53: sanitārs | B53: 1 | C53: =D53+E53 -> 180 | D53: 168 | E53: 12 | F53: 700 | G53: =ROUND(F53/D53,2) -> 4.17 | H53: =ROUND(E53*G53*2,2) -> 100.08 | I53: =ROUND(H53*1.2359,2) -> 123.69
A54: sanitārs | B54: 1 | C54: =D54+E54 -> 192 | D54: 168 | E54: 24 | F54: 700 | G54: =ROUND(F54/D54,2) -> 4.17 | H54: =ROUND(E54*G54*2,2) -> 200.16 | I54: =ROUND(H54*1.2077,2) -> 241.73
A55: sanitārs | B55: 1 | C55: =D55+E55 -> 172 | D55: 147 | E55: 25 | F55: 700 | G55: =ROUND(F55/D55,2) -> 4.76 | H55: =ROUND(E55*G55*2,2) -> 238 | I55: =ROUND(H55*1.2359,2) -> 294.14
A56: sanitārs | B56: 1 | C56: =D56+E56 -> 192 | D56: 168 | E56: 24 | F56: 700 | G56: =ROUND(F56/D56,2) -> 4.17 | H56: =ROUND(E56*G56*2,2) -> 200.16 | I56: =ROUND(H56*1.2359,2) -> 247.38
A57: sanitārs | B57: 1 | C57: =D57+E57 -> 176 | D57: 168 | E57: 8 | F57: 700 | G57: =ROUND(F57/D57,2) -> 4.17 | H57: =ROUND(E57*G57*2,2) -> 66.72 | I57: =ROUND(H57*1.2359,2) -> 82.46
A58: sanitārs | B58: 1 | C58: =D58+E58 -> 192 | D58: 168 | E58: 24 | F58: 700 | G58: =ROUND(F58/D58,2) -> 4.17 | H58: =ROUND(E58*G58*2,2) -> 200.16 | I58: =ROUND(H58*1.2359,2) -> 247.38
A59: sanitārs | B59: 1 | C59: =D59+E59 -> 185 | D59: 168 | E59: 17 | F59: 700 | G59: =ROUND(F59/D59,2) -> 4.17 | H59: =ROUND(E59*G59*2,2) -> 141.78 | I59: =ROUND(H59*1.2077,2) -> 171.23
A60: sanitārs | B60: 1 | C60: =D60+E60 -> 178 | D60: 168 | E60: 10 | F60: 700 | G60: =ROUND(F60/D60,2) -> 4.17 | H60: =ROUND(E60*G60*2,2) -> 83.4 | I60: =ROUND(H60*1.2359,2) -> 103.07
A61: sanitārs | B61: 1 | C61: =D61+E61 -> 178 | D61: 168 | E61: 10 | F61: 700 | G61: =ROUND(F61/D61,2) -> 4.17 | H61: =ROUND(E61*G61*2,2) -> 83.4 | I61: =ROUND(H61*1.2359,2) -> 103.07
A62: sanitārs | B62: 1 | C62: =D62+E62 -> 192 | D62: 168 | E62: 24 | F62: 700 | G62: =ROUND(F62/D62,2) -> 4.17 | H62: =ROUND(E62*G62*2,2) -> 200.16 | I62: =ROUND(H62*1.2359,2) -> 247.38
A63: sanitārs | B63: 1 | C63: =D63+E63 -> 192 | D63: 168 | E63: 24 | F63: 700 | G63: =ROUND(F63/D63,2) -> 4.17 | H63: =ROUND(E63*G63*2,2) -> 200.16 | I63: =ROUND(H63*1.2359,2) -> 247.38

Sheet Rīgas_1.sl._okt
H1: 1.12.Pielikums
A2: Pārskats par darba veicējiem (ārstniecības personām), virs normālā darba laika nostrādātām stundām, apmaksājamām stundām un izdevumiem, kas radušies saistībā ar mērķi ierobežot Covid-19 izplatību
A4: Iestādes nosaukums: SIA Rīgas 1. slimnīca
A5: Pārskata mēnesis: Oktobris
B7: Nodarbināto skaits mēnesī | C7: Apmaksājamais laiks mēnesī, stundas (tai skaitā summētā darba laika ietvaros) | F7: Mēnešalga no kuras rēķina stundas likmi | G7: Stundas likme (aprēķināta atbilstoši mēnešalgai vai darba līgumā noteiktā stundas likme) | H7: Apmaksājamā 100% piemaksa par nostrādātām virsstundām virs normālā darba laika (tai skaitā summētā darba laika ietvaros) | I7: Izdevumi par virsstundām kopā ar VSOAI, EUR
C8: Kopā | D8: līdz normālam darba laikam | E8: virsstundas - virs normālā darba laika, kas saistītas ar darbu ar Covid-19
A10: 1 | B10: 2 | C10: 3=4+5 | D10: 4 | E10: 5 | F10: 6 | G10: 7 | H10: 8 | I10: 9=8+VSAOI
A11: KOPĀ | B11: =B12+B14+B19 -> 15 | E11: =E12+E14+E19 -> 189 | H11: =H12+H14+H19 -> 3718.11 | I11: =I12+I14+I19 -> 4595.2
A12: Ārsti, zobārsti un funkcionālie speciālisti, kopā, tai skaitā: | B12: =SUM(B13) -> 1 | E12: =SUM(E13) -> 10 | H12: =SUM(H13) -> 345.24 | I12: =SUM(I13) -> 426.68
A13: Galvenais ārsts | B13: 1 | C13: =D13+E13 -> 178 | D13: 168 | E13: 10 | F13: 2900 | G13: =ROUND(F13/D13,4) -> 17.2619 | H13: =ROUND(E13*G13*2,2) -> 345.24 | I13: =ROUND(H13*1.2359,2) -> 426.68
A14: Ārstniecības un pacientu aprūpes atbalsta personas, māsu palīgi, zobārstu aistenti, kopā, tai skaitā: | B14: =SUM(B15:B18) -> 4 | E14: =SUM(E15:E18) -> 96 | H14: =SUM(H15:H18) -> 1557.18 | I14: =SUM(I15:I18) -> 1924.52
A15: Virsmāsa | B15: 1 | C15: =D15+E15 -> 209 | D15: 168 | E15: 41 | F15: 1644 | G15: 9.7856 | H15: =ROUND(E15*G15*2,2) -> 802.42 | I15: =ROUND(H15*1.2359,2) -> 991.71
A16: Medicīnas māsa | B16: 1 | C16: =D16+E16 -> 209 | D16: 168 | E16: 41 | G16: 7.7 | H16: =ROUND(E16*G16*2,2) -> 631.4 | I16: =ROUND(H16*1.2359,2) -> 780.35
A17: Māsas palīgs | B17: 1 | C17: =D17+E17 -> 176 | D17: 168 | E17: 8 | G17: 5.13 | H17: =ROUND(E17*G17*2,2) -> 82.08 | I17: =ROUND(H17*1.2359,2) -> 101.44
A18: Māsas palīgs | B18: 1 | C18: =D18+E18 -> 174 | D18: 168 | E18: 6 | G18: 3.44 | H18: =ROUND(E18*G18*2,2) -> 41.28 | I18: =ROUND(H18*1.2359,2) -> 51.02
A19: Pārējie darbinieki, kuri tieši iesaistīti darbā ar Covid-19, kopā, tai skaitā: | B19: =SUM(B20:B29) -> 10 | E19: =SUM(E20:E29) -> 83 | H19: =SUM(H20:H29) -> 1815.69 | I19: =SUM(I20:I29) -> 2244
A20: Sanitārs | B20: 1 | C20: =D20+E20 -> 176 | D20: 168 | E20: 8 | G20: 3.44 | H20: =ROUND(E20*G20*2,2) -> 55.04 | I20: =ROUND(H20*1.2359,2) -> 68.02
A21: Medicīnas fiziķis | B21: 1 | C21: =D21+E21 -> 188 | D21: 168 | E21: 20 | F21: 2300 | G21: =ROUND(F21/D21,4) -> 13.6905 | H21: =ROUND(E21*G21*2,2) -> 547.62 | I21: =ROUND(H21*1.2359,2) -> 676.8
A22: Medicīnas iekārtu inženieris | B22: 1 | C22: =D22+E22 -> 173 | D22: 168 | E22: 5 | F22: 1300 | G22: =ROUND(F22/D22,4) -> 7.7381 | H22: =ROUND(E22*G22*2,2) -> 77.38 | I22: =ROUND(H22*1.2359,2) -> 95.63
A23: Datorsistēmu administrators | B23: 1 | C23: =D23+E23 -> 178 | D23: 168 | E23: 10 | F23: 1500 | G23: 8.9288 | H23: =ROUND(E23*G23*2,2) -> 178.58 | I23: =ROUND(H23*1.2359,2) -> 220.71
A24: Sistēmanalītiķis | B24: 1 | C24: =D24+E24 -> 173 | D24: 168 | E24: 5 | F24: 1500 | G24: 8.9284 | H24: =ROUND(E24*G24*2,2) -> 89.28 | I24: =ROUND(H24*1.2359,2) -> 110.34
A25: Enerģētiķis | B25: 1 | C25: =D25+E25 -> 173 | D25: 168 | E25: 5 | F25: 1700 | G25: 10.1192 | H25: =ROUND(E25*G25*2,2) -> 101.19 | I25: =ROUND(H25*1.2359,2) -> 125.06
A26: Juriste | B26: 1 | C26: =D26+E26 -> 170 | D26: 168 | E26: 2 | F26: 2500 | G26: =ROUND(F26/D26,4) -> 14.881 | H26: =ROUND(E26*G26*2,2) -> 59.52 | I26: =ROUND(H26*1.2359,2) -> 73.56
A27: Iepirkumu speciālists | B27: 1 | C27: =D27+E27 -> 172 | D27: 168 | E27: 4 | F27: 2412.5 | G27: =ROUND(F27/D27,4) -> 14.3601 | H27: =ROUND(E27*G27*2,2) -> 114.88 | I27: =ROUND(H27*1.2359,2) -> 141.98
A28: Pakalp.atīstības un klientu apk.nod.vadītājs | B28: 1 | C28: =D28+E28 -> 188 | D28: 168 | E28: 20 | F28: 2300 | G28: =ROUND(F28/D28,4) -> 13.6905 | H28: =ROUND(E28*G28*2,2) -> 547.62 | I28: =ROUND(H28*1.2359,2) -> 676.8
A29: Biroja administratore | B29: 1 | C29: =D29+E29 -> 172 | D29: 168 | E29: 4 | F29: 936 | G29: 5.572 | H29: =ROUND(E29*G29*2,2) -> 44.58 | I29: =ROUND(H29*1.2359,2) -> 55.1

Sheet Daugavpils_psih_sept
H1: 1.13.Pielikums
A2: Pārskats par darba veicējiem (ārstniecības personām), virs normālā darba laika nostrādātām stundām, apmaksājamām stundām un izdevumiem, kas radušies saistībā ar mērķi ierobežot Covid-19 izplatību
A4: Iestādes nosaukums: VSIA „Daugavpils psihoneiroloģiskā slimnīca”
A5: Pārskata mēnesis: Septembris
B7: Nodarbināto skaits mēnesī | C7: Apmaksājamais laiks mēnesī, stundas (tai skaitā summētā darba laika ietvaros) | F7: Mēnešalga no kuras rēķina stundas likmi | G7: Stundas likme (aprēķināta atbilstoši mēnešalgai vai darba līgumā noteiktā stundas likme) | H7: Apmaksājamā 100% piemaksa par nostrādātām virsstundām virs normālā darba laika (tai skaitā summētā darba laika ietvaros) | I7: Izdevumi par virsstundām kopā ar VSOAI, EUR
C8: Kopā | D8: līdz normālam darba laikam | E8: virsstundas - virs normālā darba laika, kas saistītas ar darbu ar Covid-19
A10: 1 | B10: 2 | C10: 3=4+5 | D10: 4 | E10: 5 | F10: 6 | G10: 7 | H10: 8 | I10: 9=8+VSAOI
A11: KOPĀ | B11: =B12 -> 2 | E11: =E12 -> 8 | H11: =H12 -> 80.32 | I11: =I12 -> 98.24
A12: Pārējie darbinieki, kuri tieši iesaistīti darbā ar Covid-19, kopā, tai skaitā: | B12: =SUM(B13:B14) -> 2 | E12: =SUM(E13:E14) -> 8 | H12: =SUM(H13:H14) -> 80.32 | I12: =SUM(I13:I14) -> 98.24
A13: Automobiļa vadītājs | B13: 1 | C13: =D13+E13 -> 180 | D13: 176 | E13: 4 | F13: 801 | G13: =ROUND(F13/176,3) -> 4.551 | H13: =ROUND(E13*G13,3)*2 -> 36.408 | I13: =ROUND(H13*1.2077,2) -> 43.97
A14: Automobiļa vadītājs | B14: 1 | C14: =D14+E14 -> 180 | D14: 176 | E14: 4 | F14: 966 | G14: =ROUND(F14/176,3) -> 5.489 | H14: =ROUND(E14*G14,3)*2 -> 43.912 | I14: =ROUND(H14*1.2359,2) -> 54.27

Sheet Daugavpils_psih_okt
H1: 1.14.Pielikums
A2: Pārskats par darba veicējiem (ārstniecības personām), virs normālā darba laika nostrādātām stundām, apmaksājamām stundām un izdevumiem, kas radušies saistībā ar mērķi ierobežot Covid-19 izplatību
A4: Iestādes nosaukums: VSIA „Daugavpils psihoneiroloģiskā slimnīca”
A5: Pārskata mēnesis: Oktobris
B7: Nodarbināto skaits mēnesī | C7: Apmaksājamais laiks mēnesī, stundas (tai skaitā summētā darba laika ietvaros) | F7: Mēnešalga no kuras rēķina stundas likmi | G7: Stundas likme (aprēķināta atbilstoši mēnešalgai vai darba līgumā noteiktā stundas likme) | H7: Apmaksājamā 100% piemaksa par nostrādātām virsstundām virs normālā darba laika (tai skaitā summētā darba laika ietvaros) | I7: Izdevumi par virsstundām kopā ar VSOAI, EUR
C8: Kopā | D8: līdz normālam darba laikam | E8: virsstundas - virs normālā darba laika, kas saistītas ar darbu ar Covid-19
A10: 1 | B10: 2 | C10: 3=4+5 | D10: 4 | E10: 5 | F10: 6 | G10: 7 | H10: 8 | I10: 9=8+VSAOI
A11: KOPĀ | B11: =B12+B29+B65 -> 52 | E11: =E12+E29+E65 -> 910 | H11: =H12+H29+H65 -> 10731.21 | I11: =I12+I29+I65 -> 13237.2
A12: Ārstniecības un pacientu aprūpes personas un funkcionālo speciālistu asistenti, kopā, tai skaitā: | B12: =SUM(B13:B28) -> 16 | E12: =SUM(E13:E28) -> 289 | H12: =SUM(H13:H28) -> 4305.92 | I12: =SUM(I13:I28) -> 5306.69
A13: Garīgās veselības aprūpes māsa 1 | B13: 1 | C13: =D13+E13 -> 159 | D13: 147 | E13: 12 | F13: 1065 | G13: =ROUND(F13/146.42,3) -> 7.274 | H13: =ROUND(E13*G13*2,2) -> 174.58 | I13: =ROUND(H13*1.2359,2) -> 215.76
A14: Garīgās veselības aprūpes māsa 2 | B14: 1 | C14: =D14+E14 -> 163 | D14: 147 | E14: 16 | F14: 1065 | G14: =ROUND(F14/146.42,3) -> 7.274 | H14: =ROUND(E14*G14*2,2) -> 232.77 | I14: =ROUND(H14*1.2359,2) -> 287.68
A15: Garīgās veselības aprūpes māsa 3 | B15: 1 | C15: =D15+E15 -> 159 | D15: 147 | E15: 12 | F15: 1065 | G15: =ROUND(F15/146.42,3) -> 7.274 | H15: =ROUND(E15*G15*2,2) -> 174.58 | I15: =ROUND(H15*1.2359,2) -> 215.76
A16: Garīgās veselības aprūpes māsa 4 | B16: 1 | C16: =D16+E16 -> 159 | D16: 147 | E16: 12 | F16: 1065 | G16: =ROUND(F16/146.42,3) -> 7.274 | H16: =ROUND(E16*G16*2,2) -> 174.58 | I16: =ROUND(H16*1.2359,2) -> 215.76
A17: Garīgās veselības aprūpes māsa 5 | B17: 1 | C17: =D17+E17 -> 159 | D17: 147 | E17: 12 | F17: 1469 | G17: =ROUND(F17/146.42,3) -> 10.033 | H17: =ROUND(E17*G17*2,2) -> 240.79 | I17: =ROUND(H17*1.2359,2) -> 297.59
A18: Garīgās veselības aprūpes māsa 6 | B18: 1 | C18: =D18+E18 -> 151 | D18: 147 | E18: 4 | F18: 1065 | G18: =ROUND(F18/146.42,3) -> 7.274 | H18: =ROUND(E18*G18*2,2) -> 58.19 | I18: =ROUND(H18*1.2359,2) -> 71.92
A19: Garīgās veselības aprūpes māsa 7 | B19: 1 | C19: =D19+E19 -> 163 | D19: 147 | E19: 16 | F19: 1081 | G19: =ROUND(F19/146.42,3) -> 7.383 | H19: =ROUND(E19*G19*2,2) -> 236.26 | I19: =ROUND(H19*1.2359,2) -> 291.99
A20: Garīgās veselības aprūpes māsa 8 | B20: 1 | C20: =D20+E20 -> 171 | D20: 147 | E20: 24 | F20: 1065 | G20: =ROUND(F20/146.42,3) -> 7.274 | H20: =ROUND(E20*G20*2,2) -> 349.15 | I20: =ROUND(H20*1.2359,2) -> 431.51
A21: Garīgās veselības aprūpes māsa 9 | B21: 1 | C21: =D21+E21 -> 159 | D21: 147 | E21: 12 | F21: 1081 | G21: =ROUND(F21/146.42,3) -> 7.383 | H21: =ROUND(E21*G21*2,2) -> 177.19 | I21: =ROUND(H21*1.2359,2) -> 218.99
A22: Garīgās veselības aprūpes māsa 10 | B22: 1 | C22: =D22+E22 -> 182 | D22: 147 | E22: 35 | F22: 1065 | G22: =ROUND(F22/146.42,3) -> 7.274 | H22: =ROUND(E22*G22*2,2) -> 509.18 | I22: =ROUND(H22*1.2359,2) -> 629.3
A23: Garīgās veselības aprūpes māsa 11 | B23: 1 | C23: =D23+E23 -> 157 | D23: 147 | E23: 10 | F23: 1081 | G23: =ROUND(F23/146.42,3) -> 7.383 | H23: =ROUND(E23*G23*2,2) -> 147.66 | I23: =ROUND(H23*1.2359,2) -> 182.49
A24: Garīgās veselības aprūpes māsa 12 | B24: 1 | C24: =D24+E24 -> 161 | D24: 147 | E24: 14 | F24: 1081 | G24: =ROUND(F24/146.42,3) -> 7.383 | H24: =ROUND(E24*G24*2,2) -> 206.72 | I24: =ROUND(H24*1.2359,2) -> 255.49
A25: Garīgās veselības aprūpes māsa 13 | B25: 1 | C25: =D25+E25 -> 173 | D25: 147 | E25: 26 | F25: 1081 | G25: =ROUND(F25/146.42,3) -> 7.383 | H25: =ROUND(E25*G25*2,2) -> 383.92 | I25: =ROUND(H25*1.2359,2) -> 474.49
A26: Garīgās veselības aprūpes māsa 14 | B26: 1 | C26: =D26+E26 -> 183 | D26: 147 | E26: 36 | F26: 1081 | G26: =ROUND(F26/146.42,3) -> 7.383 | H26: =ROUND(E26*G26*2,2) -> 531.58 | I26: =ROUND(H26*1.2077,2) -> 641.99
A27: Garīgās veselības aprūpes māsa 15 | B27: 1 | C27: =D27+E27 -> 159 | D27: 147 | E27: 12 | F27: 1081 | G27: =ROUND(F27/146.42,3) -> 7.383 | H27: =ROUND(E27*G27*2,2) -> 177.19 | I27: =ROUND(H27*1.2359,2) -> 218.99
A28: Garīgās veselības aprūpes māsa 16 | B28: 1 | C28: =D28+E28 -> 183 | D28: 147 | E28: 36 | F28: 1081 | G28: =ROUND(F28/146.42,3) -> 7.383 | H28: =ROUND(E28*G28*2,2) -> 531.58 | I28: =ROUND(H28*1.2359,2) -> 656.98
A29: Ārstniecības un pacientu aprūpes atbalsta personas, māsu palīgi, zobārstu aistenti, kopā, tai skaitā: | B29: =SUM(B30:B64) -> 35 | E29: =SUM(E30:E64) -> 610 | H29: =SUM(H30:H64) -> 6298.79 | I29: =SUM(I30:I64) -> 7774.17
A30: Māsas palīgs 1 | B30: 1 | C30: =D30+E30 -> 183 | D30: 147 | E30: 36 | F30: 756 | G30: =ROUND(F30/146.42,3) -> 5.163 | H30: =ROUND(E30*G30*2,2) -> 371.74 | I30: =ROUND(H30*1.2359,2) -> 459.43
A31: Māsas palīgs 2 | B31: 1 | C31: =D31+E31 -> 183 | D31: 147 | E31: 36 | F31: 756 | G31: =ROUND(F31/146.42,3) -> 5.163 | H31: =ROUND(E31*G31*2,2) -> 371.74 | I31: =ROUND(H31*1.2359,2) -> 459.43
A32: Māsas palīgs 3 | B32: 1 | C32: =D32+E32 -> 171 | D32: 147 | E32: 24 | F32: 756 | G32: =ROUND(F32/146.42,3) -> 5.163 | H32: =ROUND(E32*G32*2,2) -> 247.82 | I32: =ROUND(H32*1.2359,2) -> 306.28
A33: Māsas palīgs 4 | B33: 1 | C33: =D33+E33 -> 183 | D33: 147 | E33: 36 | F33: 756 | G33: =ROUND(F33/146.42,3) -> 5.163 | H33: =ROUND(E33*G33*2,2) -> 371.74 | I33: =ROUND(H33*1.2359,2) -> 459.43
A34: Māsas palīgs 5 | B34: 1 | C34: =D34+E34 -> 159 | D34: 147 | E34: 12 | F34: 756 | G34: =ROUND(F34/146.42,3) -> 5.163 | H34: =ROUND(E34*G34*2,2) -> 123.91 | I34: =ROUND(H34*1.2077,2) -> 149.65
A35: Māsas palīgs 6 | B35: 1 | C35: =D35+E35 -> 171 | D35: 147 | E35: 24 | F35: 756 | G35: =ROUND(F35/146.42,3) -> 5.163 | H35: =ROUND(E35*G35*2,2) -> 247.82 | I35: =ROUND(H35*1.2359,2) -> 306.28
A36: Māsas palīgs 7 | B36: 1 | C36: =D36+E36 -> 159 | D36: 147 | E36: 12 | F36: 756 | G36: =ROUND(F36/146.42,3) -> 5.163 | H36: =ROUND(E36*G36*2,2) -> 123.91 | I36: =ROUND(H36*1.2359,2) -> 153.14
A37: Māsas palīgs 8 | B37: 1 | C37: =D37+E37 -> 171 | D37: 147 | E37: 24 | F37: 756 | G37: =ROUND(F37/146.42,3) -> 5.163 | H37: =ROUND(E37*G37*2,2) -> 247.82 | I37: =ROUND(H37*1.2359,2) -> 306.28
A38: Māsas palīgs 9 | B38: 1 | C38: =D38+E38 -> 159 | D38: 147 | E38: 12 | F38: 756 | G38: =ROUND(F38/146.42,3) -> 5.163 | H38: =ROUND(E38*G38*2,2) -> 123.91 | I38: =ROUND(H38*1.2359,2) -> 153.14
A39: Māsas palīgs 10 | B39: 1 | C39: =D39+E39 -> 159 | D39: 147 | E39: 12 | F39: 756 | G39: =ROUND(F39/146.42,3) -> 5.163 | H39: =ROUND(E39*G39*2,2) -> 123.91 | I39: =ROUND(H39*1.2359,2) -> 153.14
A40: Māsas palīgs 11 | B40: 1 | C40: =D40+E40 -> 164 | D40: 147 | E40: 17 | F40: 756 | G40: =ROUND(F40/146.42,3) -> 5.163 | H40: =ROUND(E40*G40*2,2) -> 175.54 | I40: =ROUND(H40*1.2359,2) -> 216.95
A41: Māsas palīgs 12 | B41: 1 | C41: =D41+E41 -> 159 | D41: 147 | E41: 12 | F41: 756 | G41: =ROUND(F41/146.42,3) -> 5.163 | H41: =ROUND(E41*G41*2,2) -> 123.91 | I41: =ROUND(H41*1.2359,2) -> 153.14
A42: Māsas palīgs 13 | B42: 1 | C42: =D42+E42 -> 159 | D42: 147 | E42: 12 | F42: 756 | G42: =ROUND(F42/146.42,3) -> 5.163 | H42: =ROUND(E42*G42*2,2) -> 123.91 | I42: =ROUND(H42*1.2359,2) -> 153.14
A43: Māsas palīgs 14 | B43: 1 | C43: =D43+E43 -> 159 | D43: 147 | E43: 12 | F43: 756 | G43: =ROUND(F43/146.42,3) -> 5.163 | H43: =ROUND(E43*G43*2,2) -> 123.91 | I43: =ROUND(H43*1.2359,2) -> 153.14
A44: Māsas palīgs 15 | B44: 1 | C44: =D44+E44 -> 159 | D44: 147 | E44: 12 | F44: 756 | G44: =ROUND(F44/146.42,3) -> 5.163 | H44: =ROUND(E44*G44*2,2) -> 123.91 | I44: =ROUND(H44*1.2359,2) -> 153.14
A45: Māsas palīgs 16 | B45: 1 | C45: =D45+E45 -> 171 | D45: 147 | E45: 24 | F45: 756 | G45: =ROUND(F45/146.42,3) -> 5.163 | H45: =ROUND(E45*G45*2,2) -> 247.82 | I45: =ROUND(H45*1.2359,2) -> 306.28
A46: Māsas palīgs 17 | B46: 1 | C46: =D46+E46 -> 171 | D46: 147 | E46: 24 | F46: 756 | G46: =ROUND(F46/146.42,3) -> 5.163 | H46: =ROUND(E46*G46*2,2) -> 247.82 | I46: =ROUND(H46*1.2359,2) -> 306.28
... A53: Māsas palīgs 24 | B53: 1 | C53: =D53+E53 -> 159 | D53: 147 | E53: 12 | F53: 756 | G53: =ROUND(F53/146.42,3) -> 5.163 | H53: =ROUND(E53*G53*2,2) -> 123.91 | I53: =ROUND(H53*1.2359,2) -> 153.14
A54: Māsas palīgs 25 | B54: 1 | C54: =D54+E54 -> 171 | D54: 147 | E54: 24 | F54: 756 | G54: =ROUND(F54/146.42,3) -> 5.163 | H54: =ROUND(E54*G54*2,2) -> 247.82 | I54: =ROUND(H54*1.2077,2) -> 299.29
A55: Māsas palīgs 26 | B55: 1 | C55: =D55+E55 -> 159 | D55: 147 | E55: 12 | F55: 756 | G55: =ROUND(F55/146.42,3) -> 5.163 | H55: =ROUND(E55*G55*2,2) -> 123.91 | I55: =ROUND(H55*1.2359,2) -> 153.14
A56: Māsas palīgs 27 | B56: 1 | C56: =D56+E56 -> 159 | D56: 147 | E56: 12 | F56: 756 | G56: =ROUND(F56/146.42,3) -> 5.163 | H56: =ROUND(E56*G56*2,2) -> 123.91 | I56: =ROUND(H56*1.2359,2) -> 153.14
A57: Māsas palīgs 28 | B57: 1 | C57: =D57+E57 -> 159 | D57: 147 | E57: 12 | F57: 756 | G57: =ROUND(F57/146.42,3) -> 5.163 | H57: =ROUND(E57*G57*2,2) -> 123.91 | I57: =ROUND(H57*1.2359,2) -> 153.14
A58: Māsas palīgs 29 | B58: 1 | C58: =D58+E58 -> 159 | D58: 147 | E58: 12 | F58: 756 | G58: =ROUND(F58/146.42,3) -> 5.163 | H58: =ROUND(E58*G58*2,2) -> 123.91 | I58: =ROUND(H58*1.2359,2) -> 153.14
A59: Māsas palīgs 30 | B59: 1 | C59: =D59+E59 -> 159 | D59: 147 | E59: 12 | F59: 756 | G59: =ROUND(F59/146.42,3) -> 5.163 | H59: =ROUND(E59*G59*2,2) -> 123.91 | I59: =ROUND(H59*1.2359,2) -> 153.14
A60: Māsas palīgs 31 | B60: 1 | C60: =D60+E60 -> 171 | D60: 147 | E60: 24 | F60: 756 | G60: =ROUND(F60/146.42,3) -> 5.163 | H60: =ROUND(E60*G60*2,2) -> 247.82 | I60: =ROUND(H60*1.2359,2) -> 306.28
A61: Māsas palīgs 32 | B61: 1 | C61: =D61+E61 -> 159 | D61: 147 | E61: 12 | F61: 756 | G61: =ROUND(F61/146.42,3) -> 5.163 | H61: =ROUND(E61*G61*2,2) -> 123.91 | I61: =ROUND(H61*1.2359,2) -> 153.14
A62: Māsas palīgs 33 | B62: 1 | C62: =D62+E62 -> 164 | D62: 147 | E62: 17 | F62: 756 | G62: =ROUND(F62/146.42,3) -> 5.163 | H62: =ROUND(E62*G62*2,2) -> 175.54 | I62: =ROUND(H62*1.2359,2) -> 216.95
A63: Māsas palīgs 34 | B63: 1 | C63: =D63+E63 -> 159 | D63: 147 | E63: 12 | F63: 756 | G63: =ROUND(F63/146.42,3) -> 5.163 | H63: =ROUND(E63*G63*2,2) -> 123.91 | I63: =ROUND(H63*1.2359,2) -> 153.14
A64: Māsas palīgs 35 | B64: 1 | C64: =D64+E64 -> 159 | D64: 147 | E64: 12 | F64: 756 | G64: =ROUND(F64/146.42,3) -> 5.163 | H64: =ROUND(E64*G64*2,2) -> 123.91 | I64: =ROUND(H64*1.2359,2) -> 153.14
A65: Pārējie darbinieki, kuri tieši iesaistīti darbā ar Covid-19, kopā, tai skaitā: | B65: =SUM(B66:B66) -> 1 | E65: =SUM(E66:E66) -> 11 | H65: =SUM(H66:H66) -> 126.5 | I65: =SUM(I66:I66) -> 156.34
A66: Automobiļa vadītājs | B66: 1 | C66: =D66+E66 -> 179 | D66: 168 | E66: 11 | F66: 966 | G66: =ROUND(F66/168,3) -> 5.75 | H66: =ROUND(E66*G66*2,2) -> 126.5 | I66: =ROUND(H66*1.2359,2) -> 156.34

Sheet TOS_okt
H1: 1.15.Pielikums
A2: Pārskats par darba veicējiem (ārstniecības personām), virs normālā darba laika nostrādātām stundām, apmaksājamām stundām un izdevumiem, kas radušies saistībā ar mērķi ierobežot Covid-19 izplatību
A4: Iestādes nosaukums: VSIA "Traumatoloģijas un ortopēdijas slimnīca"
A5: Pārskata mēnesis: Oktobris
B7: Nodarbināto skaits mēnesī | C7: Apmaksājamais laiks mēnesī, stundas (tai skaitā summētā darba laika ietvaros) | F7: Mēnešalga no kuras rēķina stundas likmi | G7: Stundas likme (aprēķināta atbilstoši mēnešalgai vai darba līgumā noteiktā stundas likme) | H7: Apmaksājamā 100% piemaksa par nostrādātām virsstundām virs normālā darba laika (tai skaitā summētā darba laika ietvaros) | I7: Izdevumi par virsstundām kopā ar VSOAI, EUR
C8: Kopā | D8: līdz normālam darba laikam | E8: virsstundas - virs normālā darba laika, kas saistītas ar darbu ar Covid-19
A10: 1 | B10: 2 | C10: 3=4+5 | D10: 4 | E10: 5 | F10: 6 | G10: 7 | H10: 8 | I10: 9=8+VSAOI
A11: KOPĀ | B11: =B12 -> 10 | E11: =E12 -> 208 | H11: =H12 -> 3507.61 | I11: =I12 -> 4335.06
A12: Ārsti, zobārsti un funkcionālie speciālisti, kopā, tai skaitā: | B12: =SUM(B13:B22) -> 10 | E12: =SUM(E13:E22) -> 208 | H12: =SUM(H13:H22) -> 3507.61 | I12: =SUM(I13:I22) -> 4335.06
A13: Traumatologs/ortopēds | B13: 1 | C13: =D13+E13 -> 192 | D13: 168 | E13: 24 | F13: 1503.89 | G13: =F13/168 -> 8.9517262 | H13: =ROUND(E13*G13*2,2) -> 429.68 | I13: =ROUND(H13*1.2359,2) -> 531.04
A14: Rezidents | B14: 1 | C14: =D14+E14 -> 192 | D14: 168 | E14: 24 | F14: 1429.45 | G14: =F14/168 -> 8.508631 | H14: =ROUND(E14*G14*2,2) -> 408.41 | I14: =ROUND(H14*1.2359,2) -> 504.75
A15: Traumatologs/ortopēds | B15: 1 | C15: =D15+E15 -> 192 | D15: 168 | E15: 24 | F15: 1518.78 | G15: =F15/168 -> 9.0403571 | H15: =ROUND(E15*G15*2,2) -> 433.94 | I15: =ROUND(H15*1.2359,2) -> 536.31
A16: Traumatologs/ortopēds | B16: 1 | C16: =D16+E16 -> 184 | D16: 168 | E16: 16 | F16: 1496.45 | G16: =F16/168 -> 8.9074405 | H16: =ROUND(E16*G16*2,2) -> 285.04 | I16: =ROUND(H16*1.2359,2) -> 352.28
A17: Rezidents | B17: 1 | C17: =D17+E17 -> 184 | D17: 168 | E17: 16 | F17: 1311 | G17: =F17/168 -> 7.8035714 | H17: =ROUND(E17*G17*2,2) -> 249.71 | I17: =ROUND(H17*1.2359,2) -> 308.62
A18: Rezidents | B18: 1 | C18: =D18+E18 -> 184 | D18: 168 | E18: 16 | F18: 1317.56 | G18: =F18/168 -> 7.842619 | H18: =ROUND(E18*G18*2,2) -> 250.96 | I18: =ROUND(H18*1.2359,2) -> 310.16
A19: Rezidents | B19: 1 | C19: =D19+E19 -> 184 | D19: 168 | E19: 16 | F19: 1317.56 | G19: =F19/168 -> 7.842619 | H19: =ROUND(E19*G19*2,2) -> 250.96 | I19: =ROUND(H19*1.2359,2) -> 310.16
A20: Traumatologs/ortopēds | B20: 1 | C20: =D20+E20 -> 184 | D20: 168 | E20: 16 | F20: 1503.89 | G20: =F20/168 -> 8.9517262 | H20: =ROUND(E20*G20*2,2) -> 286.46 | I20: =ROUND(H20*1.2359,2) -> 354.04
A21: Rezidents | B21: 1 | C21: =D21+E21 -> 208 | D21: 168 | E21: 40 | F21: 1317.56 | G21: =F21/168 -> 7.842619 | H21: =ROUND(E21*G21*2,2) -> 627.41 | I21: =ROUND(H21*1.2359,2) -> 775.42
A22: Traumatologs/ortopēds | B22: 1 | C22: =D22+E22 -> 184 | D22: 168 | E22: 16 | F22: 1496.45 | G22: =F22/168 -> 8.9074405 | H22: =ROUND(E22*G22*2,2) -> 285.04 | I22: =ROUND(H22*1.2359,2) -> 352.28

Sheet Kuldīga_okt
H1: 1.16.Pielikums
A2: Pārskats par darba veicējiem (ārstniecības personām), virs normālā darba laika nostrādātām stundām, apmaksājamām stundām un izdevumiem, kas radušies saistībā ar mērķi ierobežot Covid-19 izplatību
A4: Iestādes nosaukums: SIA "Kuldīgas slimnīca"
A5: Pārskata mēnesis: Oktobris
B7: Nodarbināto skaits mēnesī | C7: Apmaksājamais laiks mēnesī, stundas (tai skaitā summētā darba laika ietvaros) | F7: Mēnešalga no kuras rēķina stundas likmi | G7: Stundas likme (aprēķināta atbilstoši mēnešalgai vai darba līgumā noteiktā stundas likme) | H7: Apmaksājamā 100% piemaksa par nostrādātām virsstundām virs normālā darba laika (tai skaitā summētā darba laika ietvaros) | I7: Izdevumi par virsstundām kopā ar VSOAI, EUR
C8: Kopā | D8: līdz normālam darba laikam | E8: virsstundas - virs normālā darba laika, kas saistītas ar darbu ar Covid-19
A10: 1 | B10: 6 | C10: 7=8+9 | D10: 8 | E10: 9 | F10: 11 | G10: 12 | H10: 13 | I10: 14=13 + VSOAI
A11: KOPĀ | B11: =B12+B20+B51 -> 55 | E11: =E12+E20+E51 -> 1764 | H11: =H12+H20+H51 -> 20450.83 | I11: =I12+I20+I51 -> 25247.95
A12: Ārsti, zobārsti un funkcionālie speciālisti, kopā, tai skaitā: | B12: =SUM(B13:B19) -> 7 | E12: =SUM(E13:E19) -> 185 | H12: =SUM(H13:H19) -> 3688.43 | I12: =SUM(I13:I19) -> 4558.53
A13: ārsts | B13: 1 | C13: =D13+E13 -> 174 | D13: 168 | E13: 6 | F13: 1500 | G13: =F13/168 -> 8.9285714 | H13: =ROUND(E13*G13*2,2) -> 107.14 | I13: =ROUND(H13*1.2359,2) -> 132.41
A14: ārsts | B14: 1 | C14: =D14+E14 -> 218 | D14: 168 | E14: 50 | F14: 1500 | G14: =F14/168 -> 8.9285714 | H14: =ROUND(E14*G14*2,2) -> 892.86 | I14: =ROUND(H14*1.2359,2) -> 1103.49
A15: ārsts-stažieris | B15: 1 | C15: =D15+E15 -> 268 | D15: 168 | E15: 100 | G15: 8.71 | H15: =ROUND(E15*G15*2,2) -> 1742 | I15: =ROUND(H15*1.2359,2) -> 2152.94
A16: ārsts | B16: 1 | C16: =D16+E16 -> 188 | D16: 168 | E16: 20 | F16: 3000 | G16: =F16/168 -> 17.857143 | H16: =ROUND(E16*G16*2,2) -> 714.29 | I16: =ROUND(H16*1.2359,2) -> 882.79
A17: ārsts | B17: 1 | C17: =D17+E17 -> 172 | D17: 168 | E17: 4 | F17: 3000 | G17: =F17/168 -> 17.857143 | H17: =ROUND(E17*G17*2,2) -> 142.86 | I17: =ROUND(H17*1.2359,2) -> 176.56
A18: ārsts | B18: 1 | C18: =D18+E18 -> 170 | D18: 168 | E18: 2 | F18: 1500 | G18: =F18/168 -> 8.9285714 | H18: =ROUND(E18*G18*2,2) -> 35.71 | I18: =ROUND(H18*1.2359,2) -> 44.13
A19: ārsts | B19: 1 | C19: =D19+E19 -> 171 | D19: 168 | E19: 3 | F19: 1500 | G19: =F19/168 -> 8.9285714 | H19: =ROUND(E19*G19*2,2) -> 53.57 | I19: =ROUND(H19*1.2359,2) -> 66.21
A20: Ārstniecības un pacientu aprūpes personas un funkcionālo speciālistu asistenti, kopā, tai skaitā: | B20: =SUM(B21:B50) -> 30 | E20: =SUM(E21:E50) -> 960 | H20: =SUM(H21:H50) -> 11219.52 | I20: =SUM(I21:I50) -> 13850.5
A21: māsa | B21: 1 | C21: =D21+E21 -> 180 | D21: 168 | E21: 12 | G21: 5.97 | H21: =ROUND(E21*G21*2,2) -> 143.28 | I21: =ROUND(H21*1.2359,2) -> 177.08
A22: māsa | B22: 1 | C22: =D22+E22 -> 204 | D22: 168 | E22: 36 | G22: 5.97 | H22: =ROUND(E22*G22*2,2) -> 429.84 | I22: =ROUND(H22*1.2359,2) -> 531.24
A23: māsa | B23: 1 | C23: =D23+E23 -> 192 | D23: 168 | E23: 24 | G23: 5.97 | H23: =ROUND(E23*G23*2,2) -> 286.56 | I23: =ROUND(H23*1.2359,2) -> 354.16
A24: māsa | B24: 1 | C24: =D24+E24 -> 176 | D24: 168 | E24: 8 | G24: 5.97 | H24: =ROUND(E24*G24*2,2) -> 95.52 | I24: =ROUND(H24*1.2359,2) -> 118.05
A25: māsa | B25: 1 | C25: =D25+E25 -> 184 | D25: 168 | E25: 16 | G25: 5.38 | H25: =ROUND(E25*G25*2,2) -> 172.16 | I25: =ROUND(H25*1.2359,2) -> 212.77
A26: medicīnas asistents | B26: 1 | C26: =D26+E26 -> 212 | D26: 168 | E26: 44 | G26: 5.38 | H26: =ROUND(E26*G26*2,2) -> 473.44 | I26: =ROUND(H26*1.2359,2) -> 585.12
A27: māsa | B27: 1 | C27: =D27+E27 -> 192 | D27: 168 | E27: 24 | G27: 5.38 | H27: =ROUND(E27*G27*2,2) -> 258.24 | I27: =ROUND(H27*1.2359,2) -> 319.16
A28: māsa | B28: 1 | C28: =D28+E28 -> 192 | D28: 168 | E28: 24 | G28: 5.97 | H28: =ROUND(E28*G28*2,2) -> 286.56 | I28: =ROUND(H28*1.2359,2) -> 354.16
A29: māsa | B29: 1 | C29: =D29+E29 -> 252 | D29: 168 | E29: 84 | G29: 5.97 | H29: =ROUND(E29*G29*2,2) -> 1002.96 | I29: =ROUND(H29*1.2359,2) -> 1239.56
A30: māsa | B30: 1 | C30: =D30+E30 -> 192 | D30: 168 | E30: 24 | G30: 5.97 | H30: =ROUND(E30*G30*2,2) -> 286.56 | I30: =ROUND(H30*1.2077,2) -> 346.08
A31: māsa | B31: 1 | C31: =D31+E31 -> 240 | D31: 168 | E31: 72 | G31: 5.97 | H31: =ROUND(E31*G31*2,2) -> 859.68 | I31: =ROUND(H31*1.2359,2) -> 1062.48
A32: māsa | B32: 1 | C32: =D32+E32 -> 180 | D32: 168 | E32: 12 | G32: 5.97 | H32: =ROUND(E32*G32*2,2) -> 143.28 | I32: =ROUND(H32*1.2359,2) -> 177.08
A33: māsa | B33: 1 | C33: =D33+E33 -> 276 | D33: 168 | E33: 108 | G33: 5.38 | H33: =ROUND(E33*G33*2,2) -> 1162.08 | I33: =ROUND(H33*1.2359,2) -> 1436.21
A34: māsa | B34: 1 | C34: =D34+E34 -> 182 | D34: 168 | E34: 14 | G34: 5.97 | H34: =ROUND(E34*G34*2,2) -> 167.16 | I34: =ROUND(H34*1.2359,2) -> 206.59
A35: māsa | B35: 1 | C35: =D35+E35 -> 228 | D35: 168 | E35: 60 | G35: 5.97 | H35: =ROUND(E35*G35*2,2) -> 716.4 | I35: =ROUND(H35*1.2359,2) -> 885.4
A36: māsa | B36: 1 | C36: =D36+E36 -> 216 | D36: 168 | E36: 48 | G36: 5.97 | H36: =ROUND(E36*G36*2,2) -> 573.12 | I36: =ROUND(H36*1.2359,2) -> 708.32
A37: māsa | B37: 1 | C37: =D37+E37 -> 192 | D37: 168 | E37: 24 | G37: 5.97 | H37: =ROUND(E37*G37*2,2) -> 286.56 | I37: =ROUND(H37*1.2359,2) -> 354.16
A38: māsa | B38: 1 | C38: =D38+E38 -> 208 | D38: 168 | E38: 40 | G38: 5.97 | H38: =ROUND(E38*G38*2,2) -> 477.6 | I38: =ROUND(H38*1.2359,2) -> 590.27
A39: māsa | B39: 1 | C39: =D39+E39 -> 224 | D39: 168 | E39: 56 | G39: 5.97 | H39: =ROUND(E39*G39*2,2) -> 668.64 | I39: =ROUND(H39*1.2359,2) -> 826.37
A40: vecmāte | B40: 1 | C40: =D40+E40 -> 188 | D40: 168 | E40: 20 | G40: 6.27 | H40: =ROUND(E40*G40*2,2) -> 250.8 | I40: =ROUND(H40*1.2359,2) -> 309.96
A41: māsa | B41: 1 | C41: =D41+E41 -> 192 | D41: 168 | E41: 24 | G41: 5.97 | H41: =ROUND(E41*G41*2,2) -> 286.56 | I41: =ROUND(H41*1.2359,2) -> 354.16
A42: māsa | B42: 1 | C42: =D42+E42 -> 192 | D42: 168 | E42: 24 | G42: 5.97 | H42: =ROUND(E42*G42*2,2) -> 286.56 | I42: =ROUND(H42*1.2359,2) -> 354.16
A43: māsa | B43: 1 | C43: =D43+E43 -> 191 | D43: 168 | E43: 23 | G43: 5.97 | H43: =ROUND(E43*G43*2,2) -> 274.62 | I43: =ROUND(H43*1.2359,2) -> 339.4
A44: vecmāte | B44: 1 | C44: =D44+E44 -> 192 | D44: 168 | E44: 24 | G44: 5.38 | H44: =ROUND(E44*G44*2,2) -> 258.24 | I44: =ROUND(H44*1.2077,2) -> 311.88
A45: māsa | B45: 1 | C45: =D45+E45 -> 216 | D45: 168 | E45: 48 | G45: 5.97 | H45: =ROUND(E45*G45*2,2) -> 573.12 | I45: =ROUND(H45*1.2359,2) -> 708.32
A46: vecmāte | B46: 1 | C46: =D46+E46 -> 186 | D46: 168 | E46: 18 | G46: 5.97 | H46: =ROUND(E46*G46*2,2) -> 214.92 | I46: =ROUND(H46*1.2359,2) -> 265.62
A47: māsa | B47: 1 | C47: =D47+E47 -> 180 | D47: 168 | E47: 12 | G47: 5.97 | H47: =ROUND(E47*G47*2,2) -> 143.28 | I47: =ROUND(H47*1.2359,2) -> 177.08
A48: māsa | B48: 1 | C48: =D48+E48 -> 192 | D48: 168 | E48: 24 | G48: 5.97 | H48: =ROUND(E48*G48*2,2) -> 286.56 | I48: =ROUND(H48*1.2359,2) -> 354.16
A49: māsa | B49: 1 | C49: =D49+E49 -> 169 | D49: 168 | E49: 1 | G49: 5.97 | H49: =ROUND(E49*G49*2,2) -> 11.94 | I49: =ROUND(H49*1.2077,2) -> 14.42
A50: māsa | B50: 1 | C50: =D50+E50 -> 180 | D50: 168 | E50: 12 | G50: 5.97 | H50: =ROUND(E50*G50*2,2) -> 143.28 | I50: =ROUND(H50*1.2359,2) -> 177.08
A51: Ārstniecības un pacientu aprūpes atbalsta personas, māsu palīgi, zobārstu aistenti, kopā, tai skaitā: | B51: =SUM(B52:B69) -> 18 | E51: =SUM(E52:E69) -> 619 | H51: =SUM(H52:H69) -> 5542.88 | I51: =SUM(I52:I69) -> 6838.92
A52: māsu palīgs | B52: 1 | C52: =D52+E52 -> 240 | D52: 168 | E52: 72 | G52: 4.48 | H52: =ROUND(E52*G52*2,2) -> 645.12 | I52: =ROUND(H52*1.2359,2) -> 797.3
A53: māsu palīgs | B53: 1 | C53: =D53+E53 -> 192 | D53: 168 | E53: 24 | G53: 4.48 | H53: =ROUND(E53*G53*2,2) -> 215.04 | I53: =ROUND(H53*1.2359,2) -> 265.77
A54: māsu palīgs | B54: 1 | C54: =D54+E54 -> 200 | D54: 168 | E54: 32 | G54: 4.48 | H54: =ROUND(E54*G54*2,2) -> 286.72 | I54: =ROUND(H54*1.2359,2) -> 354.36
A55: māsu palīgs | B55: 1 | C55: =D55+E55 -> 230 | D55: 168 | E55: 62 | G55: 4.48 | H55: =ROUND(E55*G55*2,2) -> 555.52 | I55: =ROUND(H55*1.2359,2) -> 686.57
A56: māsu palīgs | B56: 1 | C56: =D56+E56 -> 232 | D56: 168 | E56: 64 | G56: 4.48 | H56: =ROUND(E56*G56*2,2) -> 573.44 | I56: =ROUND(H56*1.2359,2) -> 708.71
A57: māsu palīgs | B57: 1 | C57: =D57+E57 -> 192 | D57: 168 | E57: 24 | G57: 4.48 | H57: =ROUND(E57*G57*2,2) -> 215.04 | I57: =ROUND(H57*1.2359,2) -> 265.77
A58: māsu palīgs | B58: 1 | C58: =D58+E58 -> 209 | D58: 168 | E58: 41 | G58: 4.48 | H58: =ROUND(E58*G58*2,2) -> 367.36 | I58: =ROUND(H58*1.2359,2) -> 454.02
A59: māsu palīgs | B59: 1 | C59: =D59+E59 -> 181 | D59: 168 | E59: 13 | G59: 4.48 | H59: =ROUND(E59*G59*2,2) -> 116.48 | I59: =ROUND(H59*1.2359,2) -> 143.96
A60: māsu palīgs | B60: 1 | C60: =D60+E60 -> 209 | D60: 168 | E60: 41 | G60: 4.48 | H60: =ROUND(E60*G60*2,2) -> 367.36 | I60: =ROUND(H60*1.2359,2) -> 454.02
A61: māsu palīgs | B61: 1 | C61: =D61+E61 -> 211 | D61: 168 | E61: 43 | G61: 4.48 | H61: =ROUND(E61*G61*2,2) -> 385.28 | I61: =ROUND(H61*1.2359,2) -> 476.17
A62: māsu palīgs | B62: 1 | C62: =D62+E62 -> 192 | D62: 168 | E62: 24 | G62: 4.48 | H62: =ROUND(E62*G62*2,2) -> 215.04 | I62: =ROUND(H62*1.2359,2) -> 265.77
A63: māsu palīgs | B63: 1 | C63: =D63+E63 -> 178 | D63: 168 | E63: 10 | G63: 4.48 | H63: =ROUND(E63*G63*2,2) -> 89.6 | I63: =ROUND(H63*1.2359,2) -> 110.74
... A65: māsu palīgs | B65: 1 | C65: =D65+E65 -> 179 | D65: 168 | E65: 11 | G65: 4.48 | H65: =ROUND(E65*G65*2,2) -> 98.56 | I65: =ROUND(H65*1.2359,2) -> 121.81
A66: māsu palīgs | B66: 1 | C66: =D66+E66 -> 200 | D66: 168 | E66: 32 | G66: 4.48 | H66: =ROUND(E66*G66*2,2) -> 286.72 | I66: =ROUND(H66*1.2077,2) -> 346.27
A67: māsu palīgs | B67: 1 | C67: =D67+E67 -> 239 | D67: 168 | E67: 71 | G67: 4.48 | H67: =ROUND(E67*G67*2,2) -> 636.16 | I67: =ROUND(H67*1.2359,2) -> 786.23
A68: māsu palīgs | B68: 1 | C68: =D68+E68 -> 180 | D68: 168 | E68: 12 | G68: 4.48 | H68: =ROUND(E68*G68*2,2) -> 107.52 | I68: =ROUND(H68*1.2077,2) -> 129.85
A69: sanitārs | B69: 1 | C69: =D69+E69 -> 170 | D69: 168 | E69: 2 | G69: 3.64 | H69: =ROUND(E69*G69*2,2) -> 14.56 | I69: =ROUND(H69*1.2077,2) -> 17.58
