Workbook

Sheet KOPSAVILKUMS
E1: 1.pielikums MK rīkojuma projekta “Par finanšu līdzekļu piešķiršanu no valsts budžeta programmas “Līdzekļi neparedzētiem gadījumiem”” anotācijai
A3: Kopsavilkums par stacionāro iestāžu iesniegto informāciju par darba veicējiem (ārstniecības personām), virs normālā darba laika nostrādātām stundām, apmaksājamām stundām un izdevumiem, sakarā ar Latvijā izsludināto ārkārtējo situāciju ar mērķi ierobežot Covid-19 izplatību par 2021.gada jūlijs-oktobris
C6: Izdevumi par virsstundām (2021.gada jūlijs-oktobris) kopā ar VSOAI, euro
C7: jūlijs | D7: augusts | E7: septembris | F7: oktobris | G7: KOPĀ
A8: KOPĀ | G8: =SUM(G9:G21) -> 813171.19
A9: 1 | B9: VSIA "Bērnu klīniskā universitātes slimnīca" | E9: X | F9: X | G9: =SUM(E9:F9) -> 0
B10: SIA “Rīgas Austrumu klīniskās universitātes slimnīca” | E10: X | F10: X | G10: =SUM(E10:F10) -> 0
A11: 1 | B11: VSIA "Paula Stradiņa klīniskā universitātes slimnīca" | C11: X | D11: X | E11: =PSKUS_sept!I11 -> 665.14 | F11: =PSKUS_okt!I11 -> 9428.88 | G11: =SUM(C11:F11) -> 10094.02
A12: 2 | B12: SIA "Daugavpils reģionālā slimnīca" | C12: X | D12: X | E12: =Daugavpils_reģ_sept!I11 -> 138236.87 | F12: =Daugavpils_reģ_okt!I11 -> 193168.19 | G12: =SUM(C12:F12) -> 331405.06
A13: 3 | B13: SIA "Ziemeļkurzemes reģionālā slimnīca" | C13: X | D13: X | E13: ='Z-Kurzeme_sept'!I11 -> 83046.2 | F13: ='Z-Kurzeme_okt'!I10 -> 129032.18 | G13: =SUM(C13:F13) -> 212078.38
A14: 4 | B14: SIA Jelgavas pilsētas slimnīca | C14: X | D14: X | E14: X | F14: =Jelgava_okt!I11 -> 28555.61 | G14: =SUM(C14:F14) -> 28555.61
A15: 5 | B15: SIA Vidzemes slimnīca | C15: X | D15: X | E15: =Vidzeme_sept!I11 -> 51156.05 | F15: =Vidzeme_okt!I11 -> 68074.37 | G15: =SUM(C15:F15) -> 119230.42
A16: 6 | B16: SIA Jēkabpils reģionālā slimnīca | C16: ='Jēkabpils_jūl-sept'!I11 -> 50793.7 | F16: X | G16: =SUM(C16:F16) -> 50793.7
A17: 7 | B17: VSIA "Rīgas psihiatrijas un narkoloģijas cenrts" | C17: X | D17: X | E17: X | F17: =RPNC_okt!I11 -> 13500.35 | G17: =SUM(C17:F17) -> 13500.35
A18: 8 | B18: SIA "Rīgas 1.slimnīca" | C18: X | D18: X | E18: X | F18: ='Rīgas_1.sl._okt'!I11 -> 4595.2 | G18: =SUM(C18:F18) -> 4595.2
A19: 9 | B19: VSIA „Daugavpils psihoneiroloģiskā slimnīca” | C19: X | D19: X | E19: =Daugavpils_psih_sept!I11 -> 98.24 | F19: =Daugavpils_psih_okt!I11 -> 13237.2 | G19: =SUM(C19:F19) -> 13335.44
A20: 10 | B20: Tramatoloģijas un ortopēdijas slimnīca | C20: X | D20: X | E20: X | F20: =TOS_okt!I11 -> 4335.06 | G20: =SUM(C20:F20) -> 4335.06
A21: 11 | B21: SIA Kuldīgas slimnīca | C21: X | D21: X | E21: X | F21: =Kuldīga_okt!I11 -> 25247.95 | G21: =SUM(C21:F21) -> 25247.95
B23: Summētā darba laika periods, kurā uzskaitītas virsstundas un papildu snepieciešamais finansējums to apmaksai

Sheet PSKUS_sept
H1: 1.1.Pielikums
A2: Pārskats par darba veicējiem (ārstniecības personām), virs normālā darba laika nostrādātām stundām, apmaksājamām stundām un izdevumiem, kas radušies saistībā ar mērķi ierobežot Covid-19 izplatību
A4: Iestādes nosaukums: VSIA "Paula Stradiņa klīniskā universitātes slimnīca"
A5: Pārskata mēnesis: Septembris
B7: Nodarbināto skaits mēnesī | C7: Apmaksājamais laiks mēnesī, stundas (tai skaitā summētā darba laika ietvaros) | F7: Mēnešalga no kuras rēķina stundas likmi | G7: Stundas likme (aprēķināta atbilstoši mēnešalgai vai darba līgumā noteiktā stundas likme) | H7: Apmaksājamā 100% piemaksa par nostrādātām virsstundām virs normālā darba laika (tai skaitā summētā darba laika ietvaros) | I7: Izdevumi par virsstundām kopā ar VSAOI, EUR
C8: Kopā | D8: līdz normālam darba laikam | E8: virsstundas - virs normālā darba laika, kas saistītas ar darbu ar Covid-19
A10: 1 | B10: 2 | C10: 3=4+5 | D10: 4 | E10: 5 | F10: 6 | G10: 7 | H10: 8 | I10: 9=8 +VSOAI
A11: KOPĀ | B11: =B12 -> 2 | E11: =E12 -> 34 | H11: =H12 -> 538.18 | I11: =I12 -> 665.14
A12: Pārējie darbinieki, kuri tieši iesaistīti darbā ar Covid-19, kopā, tai skaitā: | B12: =SUM(B13:B14) -> 2 | E12: =SUM(E13:E14) -> 34 | H12: =SUM(H13:H14) -> 538.18 | I12: =SUM(I13:I14) -> 665.14
A13: Veselības aprūpes datu analītiķis | B13: 1 | C13: =D13+E13 -> 202 | D13: 176 | E13: 26 | F13: 1360 | G13: =ROUND(F13/D13,4) -> 7.7273 | H13: =ROUND(G13*E13*2,2) -> 401.82 | I13: =ROUND(H13*1.2359,2) -> 496.61
A14: Vecākais veselības aprūpes datu analītiķis | B14: 1 | C14: =D14+E14 -> 184 | D14: 176 | E14: 8 | F14: 1500 | G14: =ROUND(F14/D14,4) -> 8.5227 | H14: =ROUND(G14*E14*2,2) -> 136.36 | I14: =ROUND(H14*1.2359,2) -> 168.53

Sheet PSKUS_okt
H1: 1.2.Pielikums
A2: Pārskats par darba veicējiem (ārstniecības personām), virs normālā darba laika nostrādātām stundām, apmaksājamām stundām un izdevumiem, kas radušies saistībā ar mērķi ierobežot Covid-19 izplatību
A4: Iestādes nosaukums: VSIA "Paula Stradiņa klīniskā universitātes slimnīca"
A5: Pārskata mēnesis: Oktobris
B7: Nodarbināto skaits mēnesī | C7: Apmaksājamais laiks mēnesī, stundas (tai skaitā summētā darba laika ietvaros) | F7: Mēnešalga no kuras rēķina stundas likmi | G7: Stundas likme (aprēķināta atbilstoši mēnešalgai vai darba līgumā noteiktā stundas likme) | H7: Apmaksājamā 100% piemaksa par nostrādātām virsstundām virs normālā darba laika (tai skaitā summētā darba laika ietvaros) | I7: Izdevumi par virsstundām kopā ar VSAOI, EUR
C8: Kopā | D8: līdz normālam darba laikam | E8: virsstundas - virs normālā darba laika, kas saistītas ar darbu ar Covid-19
A10: 1 | B10: 2 | C10: 3=4+5 | D10: 4 | E10: 5 | F10: 6 | G10: 7 | H10: 8 | I10: 9=8 +VSOAI
A11: KOPĀ | B11: =B12+B38 -> 37 | E11: =E12+E38 -> 387 | H11: =H12+H38 -> 7629.21 | I11: =I12+I38 -> 9428.88
A12: Ārstniecības un pacientu aprūpes personas un funkcionālo speciālistu asistenti, kopā, tai skaitā: | B12: =SUM(B13:B37) -> 25 | E12: =SUM(E13:E37) -> 181 | H12: =SUM(H13:H37) -> 3831.72 | I12: =SUM(I13:I37) -> 4735.56
A13: Ārsta epidemiologa palīgs | B13: 1 | C13: =D13+E13 -> 233 | D13: 168 | E13: 65 | F13: 1242 | G13: =ROUND(F13/D13,3) -> 7.393 | H13: =ROUND(G13*E13*2,2) -> 961.09 | I13: =ROUND(H13*1.2359,2) -> 1187.81
A14: Galvenās māsas vietnieks ķirurģiskajā aprūpē | B14: 1 | C14: =D14+E14 -> 172 | D14: 168 | E14: 4 | F14: 2484 | G14: =ROUND(F14/D14,3) -> 14.786 | H14: =ROUND(G14*E14*2,2) -> 118.29 | I14: =ROUND(H14*1.2359,2) -> 146.19
A15: Galvenās māsas vietnieks neatliekamajā un vispārīgajā aprūpē | B15: 1 | C15: =D15+E15 -> 172 | D15: 168 | E15: 4 | F15: 2484 | G15: =ROUND(F15/D15,3) -> 14.786 | H15: =ROUND(G15*E15*2,2) -> 118.29 | I15: =ROUND(H15*1.2359,2) -> 146.19
A16: Vadītājs | B16: 1 | C16: =D16+E16 -> 170 | D16: 168 | E16: 2 | F16: 1966.5 | G16: =ROUND(F16/D16,3) -> 11.705 | H16: =ROUND(G16*E16*2,2) -> 46.82 | I16: =ROUND(H16*1.2359,2) -> 57.86
A17: Vecākā vecmāte | B17: 1 | C17: =D17+E17 -> 170 | D17: 168 | E17: 2 | F17: 1966.5 | G17: =ROUND(F17/D17,3) -> 11.705 | H17: =ROUND(G17*E17*2,2) -> 46.82 | I17: =ROUND(H17*1.2359,2) -> 57.86
A18: Virsmāsa | B18: 1 | C18: =D18+E18 -> 170 | D18: 168 | E18: 2 | F18: 2116.58 | G18: =ROUND(F18/D18,3) -> 12.599 | H18: =ROUND(G18*E18*2,2) -> 50.4 | I18: =ROUND(H18*1.2359,2) -> 62.29
A19: Virsmāsa | B19: 1 | C19: =D19+E19 -> 170 | D19: 168 | E19: 2 | F19: 1966.5 | G19: =ROUND(F19/D19,3) -> 11.705 | H19: =ROUND(G19*E19*2,2) -> 46.82 | I19: =ROUND(H19*1.2359,2) -> 57.86
A20: Virsmāsa | B20: 1 | C20: =D20+E20 -> 170 | D20: 168 | E20: 2 | F20: 1966.5 | G20: =ROUND(F20/D20,3) -> 11.705 | H20: =ROUND(G20*E20*2,2) -> 46.82 | I20: =ROUND(H20*1.2359,2) -> 57.86
A21: Virsmāsa | B21: 1 | C21: =D21+E21 -> 170 | D21: 168 | E21: 2 | F21: 1966.5 | G21: =ROUND(F21/D21,3) -> 11.705 | H21: =ROUND(G21*E21*2,2) -> 46.82 | I21: =ROUND(H21*1.2359,2) -> 57.86
A22: Virsmāsa | B22: 1 | C22: =D22+E22 -> 170 | D22: 168 | E22: 2 | F22: 2116.58 | G22: =ROUND(F22/D22,3) -> 12.599 | H22: =ROUND(G22*E22*2,2) -> 50.4 | I22: =ROUND(H22*1.2359,2) -> 62.29
A23: Virsmāsa | B23: 1 | C23: =D23+E23 -> 170 | D23: 168 | E23: 2 | F23: 2045 | G23: =ROUND(F23/D23,3) -> 12.173 | H23: =ROUND(G23*E23*2,2) -> 48.69 | I23: =ROUND(H23*1.2359,2) -> 60.18
A24: Virsmāsa | B24: 1 | C24: =D24+E24 -> 214 | D24: 168 | E24: 46 | F24: 2116.58 | G24: =ROUND(F24/D24,3) -> 12.599 | H24: =ROUND(G24*E24*2,2) -> 1159.11 | I24: =ROUND(H24*1.2359,2) -> 1432.54
... A37: Virsmāsas vietnieks | B37: 1 | C37: =D37+E37 -> 184 | D37: 168 | E37: 16 | F37: 1993.63 | G37: =ROUND(F37/D37,3) -> 11.867 | H37: =ROUND(G37*E37*2,2) -> 379.74 | I37: =ROUND(H37*1.2359,2) -> 469.32
A38: Pārējie darbinieki, kuri tieši iesaistīti darbā ar Covid-19, kopā, tai skaitā: | B38: =SUM(B39:B50) -> 12 | E38: =SUM(E39:E50) -> 206 | H38: =SUM(H39:H50) -> 3797.49 | I38: =SUM(I39:I50) -> 4693.32
A39: Atlases un apmācību speciālists | B39: 1 | C39: =D39+E39 -> 177 | D39: 168 | E39: 9 | F39: 1550 | G39: =ROUND(F39/D39,3) -> 9.226 | H39: =ROUND(G39*E39*2,2) -> 166.07 | I39: =ROUND(H39*1.2359,2) -> 205.25
A40: Atlases un apmācību speciālists | B40: 1 | C40: =D40+E40 -> 198 | D40: 168 | E40: 30 | F40: 1550 | G40: =ROUND(F40/D40,3) -> 9.226 | H40: =ROUND(G40*E40*2,2) -> 553.56 | I40: =ROUND(H40*1.2359,2) -> 684.14
A41: Darbu vadītājs loģistikas un autotransporta jomā | B41: 1 | C41: =D41+E41 -> 192 | D41: 168 | E41: 24 | F41: 1100 | G41: =ROUND(F41/D41,3) -> 6.548 | H41: =ROUND(G41*E41*2,2) -> 314.3 | I41: =ROUND(H41*1.2359,2) -> 388.44
A42: Jaunākais medicīnas iekārtu inženieris / medicīnas fiziķis | B42: 1 | C42: =D42+E42 -> 173 | D42: 168 | E42: 5 | F42: 1500 | G42: =ROUND(F42/D42,3) -> 8.929 | H42: =ROUND(G42*E42*2,2) -> 89.29 | I42: =ROUND(H42*1.2359,2) -> 110.35
A43: Nodaļas vadītājs | B43: 1 | C43: =D43+E43 -> 199 | D43: 168 | E43: 31 | F43: 2500 | G43: =ROUND(F43/D43,3) -> 14.881 | H43: =ROUND(G43*E43*2,2) -> 922.62 | I43: =ROUND(H43*1.2359,2) -> 1140.27
A44: Saimniecības pārzinis | B44: 1 | C44: =D44+E44 -> 174.5 | D44: 168 | E44: 6.5 | F44: 920 | G44: =ROUND(F44/D44,3) -> 5.476 | H44: =ROUND(G44*E44*2,2) -> 71.19 | I44: =ROUND(H44*1.2359,2) -> 87.98
A45: Telpu uzkopšanas darbu vadītājs | B45: 1 | C45: =D45+E45 -> 174.5 | D45: 168 | E45: 6.5 | F45: 1200 | G45: =ROUND(F45/D45,3) -> 7.143 | H45: =ROUND(G45*E45*2,2) -> 92.86 | I45: =ROUND(H45*1.2359,2) -> 114.77
A46: Vadītājs | B46: 1 | C46: =D46+E46 -> 170 | D46: 168 | E46: 2 | F46: 1900 | G46: =ROUND(F46/D46,3) -> 11.31 | H46: =ROUND(G46*E46*2,2) -> 45.24 | I46: =ROUND(H46*1.2359,2) -> 55.91
A47: Vecākais medicīnas iekārtu inženieris | B47: 1 | C47: =D47+E47 -> 173 | D47: 168 | E47: 5 | F47: 1600 | G47: =ROUND(F47/D47,3) -> 9.524 | H47: =ROUND(G47*E47*2,2) -> 95.24 | I47: =ROUND(H47*1.2359,2) -> 117.71
A48: Vecākais personāla speciālists | B48: 1 | C48: =D48+E48 -> 171 | D48: 168 | E48: 3 | F48: 1600 | G48: =ROUND(F48/D48,3) -> 9.524 | H48: =ROUND(G48*E48*2,2) -> 57.14 | I48: =ROUND(H48*1.2359,2) -> 70.62
A49: vecākais veselības aprūpes datu analītiķis | B49: 1 | C49: =D49+E49 -> 186 | D49: 168 | E49: 18 | F49: 1500 | G49: =ROUND(F49/D49,3) -> 8.929 | H49: =ROUND(G49*E49*2,2) -> 321.44 | I49: =ROUND(H49*1.2359,2) -> 397.27
A50: Veselības aprūpes datu analītiķis | B50: 1 | C50: =D50+E50 -> 234 | D50: 168 | E50: 66 | F50: 1360 | G50: =ROUND(F50/D50,3) -> 8.095 | H50: =ROUND(G50*E50*2,2) -> 1068.54 | I50: =ROUND(H50*1.2359,2) -> 1320.61

Sheet Daugavpils_reģ_sept
H1: 1.3.Pielikums
A2: Pārskats par darba veicējiem (ārstniecības personām), virs normālā darba laika nostrādātām stundām, apmaksājamām stundām un izdevumiem, kas radušies saistībā ar mērķi ierobežot Covid-19 izplatību
A4: Iestādes nosaukums: SIA "Daugavpils reģionālā slimnīca"
A5: Pārskata mēnesis: Septembris
B7: Nodarbināto skaits mēnesī | C7: Apmaksājamais laiks mēnesī, stundas (tai skaitā summētā darba laika ietvaros) | F7: Mēnešalga no kuras rēķina stundas likmi | G7: Stundas likme (aprēķināta atbilstoši mēnešalgai vai darba līgumā noteiktā stundas likme) | H7: Apmaksājamā 100% piemaksa par nostrādātām virsstundām virs normālā darba laika (tai skaitā summētā darba laika ietvaros) | I7: Izdevumi par virsstundām kopā ar VSOAI, EUR
C8: Kopā | D8: līdz normālam darba laikam | E8: virsstundas - virs normālā darba laika, kas saistītas ar darbu ar Covid-19
A10: 1 | B10: 2 | C10: 3=4+5 | D10: 4 | E10: 5 | F10: 6 | G10: 7 | H10: 8 | I10: 9=8 +VSOAI
A11: KOPĀ | B11: =B12+B97+B103+B117+B146+B161+B185+B190+B180 -> 192 | E11: =E12+E97+E103+E117+E146+E161+E185+E190+E180 -> 7239 | H11: =H12+H97+H103+H117+H146+H161+H185+H190+H180 -> 111851.12 | I11: =I12+I97+I103+I117+I146+I161+I185+I190+I180 -> 138236.87
A12: Centrālā slimnīca "Uzņemšanas nodaļa" | B12: =B13+B50+B85 -> 81 | E12: =E13+E50+E85 -> 4132 | H12: =H13+H50+H85 -> 65989.45 | I12: =I13+I50+I85 -> 81556.36
A13: Ārsti, zobārsti un funkcionālie speciālisti, kopā, tai skaitā: | B13: =SUM(B14:B49) -> 36 | E13: =SUM(E14:E49) -> 2407.5 | H13: =SUM(H14:H49) -> 47454.26 | I13: =SUM(I14:I49) -> 58648.71
A14: Ārsts (dežūrslodze) | B14: 1 | C14: =D14+E14 -> 272 | D14: 176 | E14: 96 | F14: 1734.568 | G14: =F14/176 -> 9.8555 | H14: =ROUND(E14*G14*2,2) -> 1892.26 | I14: =ROUND(H14*1.2359,2) -> 2338.64
A15: Ārsts (dežūrslodze) | B15: 1 | C15: =D15+E15 -> 243.5 | D15: 176 | E15: 67.5 | F15: 1734.568 | G15: =F15/176 -> 9.8555 | H15: =ROUND(E15*G15*2,2) -> 1330.49 | I15: =ROUND(H15*1.2359,2) -> 1644.35
A16: Bērnu ķirurgs | B16: 1 | C16: =D16+E16 -> 96 | D16: 72 | E16: 24 | F16: 1734.568 | G16: =F16/176 -> 9.8555 | H16: =ROUND(E16*G16*2,2) -> 473.06 | I16: =ROUND(H16*1.2359,2) -> 584.65
A17: Ginekologs,dzemdību speciālists | B17: 1 | C17: =D17+E17 -> 192 | D17: 176 | E17: 16 | F17: 1734.568 | G17: =F17/176 -> 9.8555 | H17: =ROUND(E17*G17*2,2) -> 315.38 | I17: =ROUND(H17*1.2359,2) -> 389.78
A18: Ginekologs,dzemdību speciālists | B18: 1 | C18: =D18+E18 -> 200 | D18: 176 | E18: 24 | F18: 1734.568 | G18: =F18/176 -> 9.8555 | H18: =ROUND(E18*G18*2,2) -> 473.06 | I18: =ROUND(H18*1.2359,2) -> 584.65
A19: Internists | B19: 1 | C19: =D19+E19 -> 232 | D19: 136 | E19: 96 | F19: 1734.568 | G19: =F19/176 -> 9.8555 | H19: =ROUND(E19*G19*2,2) -> 1892.26 | I19: =ROUND(H19*1.2359,2) -> 2338.64
A20: Internists | B20: 1 | C20: =D20+E20 -> 234 | D20: 154 | E20: 80 | F20: 1734.568 | G20: =F20/176 -> 9.8555 | H20: =ROUND(E20*G20*2,2) -> 1576.88 | I20: =ROUND(H20*1.2359,2) -> 1948.87
A21: Kardiologs | B21: 1 | C21: =D21+E21 -> 192 | D21: 176 | E21: 16 | F21: 1734.568 | G21: =F21/176 -> 9.8555 | H21: =ROUND(E21*G21*2,2) -> 315.38 | I21: =ROUND(H21*1.2359,2) -> 389.78
A22: Kardiologs | B22: 1 | C22: =D22+E22 -> 210 | D22: 154 | E22: 56 | F22: 1734.568 | G22: =F22/176 -> 9.8555 | H22: =ROUND(E22*G22*2,2) -> 1103.82 | I22: =ROUND(H22*1.2359,2) -> 1364.21
A23: Kardiologs | B23: 1 | C23: =D23+E23 -> 200 | D23: 136 | E23: 64 | F23: 1734.568 | G23: =F23/176 -> 9.8555 | H23: =ROUND(E23*G23*2,2) -> 1261.5 | I23: =ROUND(H23*1.2359,2) -> 1559.09
A24: Kardiologs | B24: 1 | C24: =D24+E24 -> 61 | D24: 21 | E24: 40 | F24: 1734.568 | G24: =F24/176 -> 9.8555 | H24: =ROUND(E24*G24*2,2) -> 788.44 | I24: =ROUND(H24*1.2359,2) -> 974.43
A25: Kardiologs | B25: 1 | C25: =D25+E25 -> 176 | D25: 136 | E25: 40 | F25: 1734.568 | G25: =F25/176 -> 9.8555 | H25: =ROUND(E25*G25*2,2) -> 788.44 | I25: =ROUND(H25*1.2359,2) -> 974.43
... A49: Traumatologs ortopēds | B49: 1 | C49: =D49+E49 -> 120 | D49: 96 | E49: 24 | F49: 1734.568 | G49: =F49/176 -> 9.8555 | H49: =ROUND(E49*G49*2,2) -> 473.06 | I49: =ROUND(H49*1.2359,2) -> 584.65
A50: Ārstniecības un pacientu aprūpes personas un funkcionālo speciālistu asistenti, kopā, tai skaitā: | B50: =SUM(B51:B84) -> 34 | E50: =SUM(E51:E84) -> 1258.5 | H50: =SUM(H51:H84) -> 14505.45 | I50: =SUM(I51:I84) -> 17927.29
A51: Vecākā medicīnas māsa | B51: 1 | C51: =D51+E51 -> 76 | D51: 64 | E51: 12 | F51: 1150 | G51: =F51/176 -> 6.5340909 | H51: =ROUND(E51*G51*2,2) -> 156.82 | I51: =ROUND(H51*1.2359,2) -> 193.81
A52: Ārsta palīgs | B52: 1 | C52: =D52+E52 -> 196 | D52: 176 | E52: 20 | F52: 1035.48 | G52: =F52/176 -> 5.8834091 | H52: =ROUND(E52*G52*2,2) -> 235.34 | I52: =ROUND(H52*1.2359,2) -> 290.86
A53: Ārsta palīgs | B53: 1 | C53: =D53+E53 -> 124 | D53: 88 | E53: 36 | F53: 1035.48 | G53: =F53/176 -> 5.8834091 | H53: =ROUND(E53*G53*2,2) -> 423.61 | I53: =ROUND(H53*1.2359,2) -> 523.54
A54: Ārsta palīgs | B54: 1 | C54: =D54+E54 -> 189 | D54: 176 | E54: 13 | F54: 1035.48 | G54: =F54/176 -> 5.8834091 | H54: =ROUND(E54*G54*2,2) -> 152.97 | I54: =ROUND(H54*1.2359,2) -> 189.06
A55: Ārsta palīgs | B55: 1 | C55: =D55+E55 -> 276 | D55: 176 | E55: 100 | F55: 914.58 | G55: =F55/176 -> 5.1964773 | H55: =ROUND(E55*G55*2,2) -> 1039.3 | I55: =ROUND(H55*1.2359,2) -> 1284.47
A56: Ārsta palīgs | B56: 1 | C56: =D56+E56 -> 216 | D56: 176 | E56: 40 | F56: 914.58 | G56: =F56/176 -> 5.1964773 | H56: =ROUND(E56*G56*2,2) -> 415.72 | I56: =ROUND(H56*1.2359,2) -> 513.79
A57: Ārsta palīgs | B57: 1 | C57: =D57+E57 -> 204 | D57: 176 | E57: 28 | F57: 914.58 | G57: =F57/176 -> 5.1964773 | H57: =ROUND(E57*G57*2,2) -> 291 | I57: =ROUND(H57*1.2359,2) -> 359.65
A58: Ārsta palīgs | B58: 1 | C58: =D58+E58 -> 164.5 | D58: 144 | E58: 20.5 | F58: 1035.48 | G58: =F58/176 -> 5.8834091 | H58: =ROUND(E58*G58*2,2) -> 241.22 | I58: =ROUND(H58*1.2359,2) -> 298.12
A59: Ārsta palīgs | B59: 1 | C59: =D59+E59 -> 112 | D59: 96 | E59: 16 | F59: 1035.48 | G59: =F59/176 -> 5.8834091 | H59: =ROUND(E59*G59*2,2) -> 188.27 | I59: =ROUND(H59*1.2359,2) -> 232.68
A60: Internās aprūpes māsa | B60: 1 | C60: =D60+E60 -> 272 | D60: 176 | E60: 96 | F60: 1035.48 | G60: =F60/176 -> 5.8834091 | H60: =ROUND(E60*G60*2,2) -> 1129.61 | I60: =ROUND(H60*1.2359,2) -> 1396.08
A61: Internās aprūpes māsa | B61: 1 | C61: =D61+E61 -> 240 | D61: 176 | E61: 64 | F61: 1035.48 | G61: =F61/176 -> 5.8834091 | H61: =ROUND(E61*G61*2,2) -> 753.08 | I61: =ROUND(H61*1.2359,2) -> 930.73
A62: Internās aprūpes māsa | B62: 1 | C62: =D62+E62 -> 104 | D62: 88 | E62: 16 | F62: 1035.48 | G62: =F62/176 -> 5.8834091 | H62: =ROUND(E62*G62*2,2) -> 188.27 | I62: =ROUND(H62*1.2359,2) -> 232.68
... A84: Operāciju māsa | B84: 1 | C84: =D84+E84 -> 239.5 | D84: 176 | E84: 63.5 | F84: 1035.48 | G84: =F84/176 -> 5.8834091 | H84: =ROUND(E84*G84*2,2) -> 747.19 | I84: =ROUND(H84*1.2359,2) -> 923.45
A85: Ārstniecības un pacientu aprūpes atbalsta personas, māsu palīgi, zobārstu asistenti, kopā, tai skaitā: | B85: =SUM(B86:B96) -> 11 | E85: =SUM(E86:E96) -> 466 | H85: =SUM(H86:H96) -> 4029.74 | I85: =SUM(I86:I96) -> 4980.36
A86: Māsas palīgs | B86: 1 | C86: =D86+E86 -> 96 | D86: 91 | E86: 5 | F86: 871.46 | G86: =F86/176 -> 4.9514773 | H86: =ROUND(E86*G86*2,2) -> 49.51 | I86: =ROUND(H86*1.2359,2) -> 61.19
A87: Māsas palīgs | B87: 1 | C87: =D87+E87 -> 68 | D87: 56 | E87: 12 | F87: 724.97 | G87: =F87/176 -> 4.1191477 | H87: =ROUND(E87*G87*2,2) -> 98.86 | I87: =ROUND(H87*1.2359,2) -> 122.18
...

Sheet Daugavpils_reģ_okt
H1: 1.4.Pielikums
A2: Pārskats par darba veicējiem (ārstniecības personām), virs normālā darba laika nostrādātām stundām, apmaksājamām stundām un izdevumiem, kas radušies saistībā ar mērķi ierobežot Covid-19 izplatību
A4: Iestādes nosaukums: SIA "Daugavpils reģionālā slimnīca"
A5: Pārskata mēnesis: Oktobris
B7: Nodarbināto skaits mēnesī | C7: Apmaksājamais laiks mēnesī, stundas (tai skaitā summētā darba laika ietvaros) | F7: Mēnešalga no kuras rēķina stundas likmi | G7: Stundas likme (aprēķināta atbilstoši mēnešalgai vai darba līgumā noteiktā stundas likme) | H7: Apmaksājamā 100% piemaksa par nostrādātām virsstundām virs normālā darba laika (tai skaitā summētā darba laika ietvaros) | I7: Izdevumi par virsstundām kopā ar VSOAI, EUR
C8: Kopā | D8: līdz normālam darba laikam | E8: virsstundas - virs normālā darba laika, kas saistītas ar darbu ar Covid-19
A10: 1 | B10: 2 | C10: 3=4+5 | D10: 4 | E10: 5 | F10: 6 | G10: 7 | H10: 8 | I10: 9=8 +VSOAI
A11: KOPĀ | B11: =B12+B105+B111+B160+B194+B210+B244+B264+B290+B310+B317+B321 -> 317 | E11: =E12+E105+E111+E160+E194+E210+E244+E264+E290+E310+E317+E321 -> 11474.5 | H11: =H12+H105+H111+H160+H194+H210+H244+H264+H290+H310+H317+H321 -> 156297.52 | I11: =I12+I105+I111+I160+I194+I210+I244+I264+I290+I310+I317+I321 -> 193168.19
A12: Centrālā slimnīca "Uzņemšanas nodaļa" | B12: =B13+B45+B88 -> 89 | E12: =E13+E45+E88 -> 4387 | H12: =H13+H45+H88 -> 65659.39 | I12: =I13+I45+I88 -> 81148.49
A13: Ārsti, zobārsti un funkcionālie speciālisti, kopā, tai skaitā: | B13: =SUM(B14:B44) -> 31 | E13: =SUM(E14:E44) -> 2045 | H13: =SUM(H14:H44) -> 40308.89 | I13: =SUM(I14:I44) -> 49817.74
A14: Ārsts (dežūrslodze) | B14: 1 | C14: =D14+E14 -> 176 | D14: 144 | E14: 32 | F14: 1655.72 | G14: =F14/168 -> 9.8554762 | H14: =ROUND(E14*G14*2,2) -> 630.75 | I14: =ROUND(H14*1.2359,2) -> 779.54
A15: Ārsts (dežūrslodze) | B15: 1 | C15: =D15+E15 -> 186.5 | D15: 168 | E15: 18.5 | F15: 1655.72 | G15: =F15/168 -> 9.8554762 | H15: =ROUND(E15*G15*2,2) -> 364.65 | I15: =ROUND(H15*1.2359,2) -> 450.67
A16: Neatliekamās medicīnas ārsts | B16: 1 | C16: =D16+E16 -> 159 | D16: 136 | E16: 23 | F16: 1655.72 | G16: =F16/168 -> 9.8554762 | H16: =ROUND(E16*G16*2,2) -> 453.35 | I16: =ROUND(H16*1.2359,2) -> 560.3
A17: Neatliekamās medicīnas ārsts | B17: 1 | C17: =D17+E17 -> 184 | D17: 168 | E17: 16 | F17: 1655.72 | G17: =F17/168 -> 9.8554762 | H17: =ROUND(E17*G17*2,2) -> 315.38 | I17: =ROUND(H17*1.2359,2) -> 389.78
A18: Bērnu ķirurgs | B18: 1 | C18: =D18+E18 -> 256 | D18: 168 | E18: 88 | F18: 1655.72 | G18: =F18/168 -> 9.8554762 | H18: =ROUND(E18*G18*2,2) -> 1734.56 | I18: =ROUND(H18*1.2359,2) -> 2143.74
A19: Ginekologs,dzemdību speciālists | B19: 1 | C19: =D19+E19 -> 64 | D19: 24 | E19: 40 | F19: 1655.72 | G19: =F19/168 -> 9.8554762 | H19: =ROUND(E19*G19*2,2) -> 788.44 | I19: =ROUND(H19*1.2359,2) -> 974.43
A20: Ginekologs,dzemdību speciālists | B20: 1 | C20: =D20+E20 -> 176 | D20: 152 | E20: 24 | F20: 1655.72 | G20: =F20/168 -> 9.8554762 | H20: =ROUND(E20*G20*2,2) -> 473.06 | I20: =ROUND(H20*1.2359,2) -> 584.65
A21: Internists | B21: 1 | C21: =D21+E21 -> 272 | D21: 168 | E21: 104 | F21: 1655.72 | G21: =F21/168 -> 9.8554762 | H21: =ROUND(E21*G21*2,2) -> 2049.94 | I21: =ROUND(H21*1.2359,2) -> 2533.52
A22: Internists | B22: 1 | C22: =D22+E22 -> 195 | D22: 147 | E22: 48 | F22: 1655.72 | G22: =F22/168 -> 9.8554762 | H22: =ROUND(E22*G22*2,2) -> 946.13 | I22: =ROUND(H22*1.2359,2) -> 1169.32
A23: Kardiologs | B23: 1 | C23: =D23+E23 -> 195 | D23: 147 | E23: 48 | F23: 1655.72 | G23: =F23/168 -> 9.8554762 | H23: =ROUND(E23*G23*2,2) -> 946.13 | I23: =ROUND(H23*1.2359,2) -> 1169.32
A24: Kardiologs | B24: 1 | C24: =D24+E24 -> 232 | D24: 168 | E24: 64 | F24: 1655.72 | G24: =F24/168 -> 9.8554762 | H24: =ROUND(E24*G24*2,2) -> 1261.5 | I24: =ROUND(H24*1.2359,2) -> 1559.09
A25: Kardiologs | B25: 1 | C25: =D25+E25 -> 232 | D25: 112 | E25: 120 | F25: 1655.72 | G25: =F25/168 -> 9.8554762 | H25: =ROUND(E25*G25*2,2) -> 2365.31 | I25: =ROUND(H25*1.2359,2) -> 2923.29
... A44: Rezidents | B44: 1 | C44: =D44+E44 -> 331 | D44: 128 | E44: 203 | F44: 1655.72 | G44: =F44/168 -> 9.8554762 | H44: =ROUND(E44*G44*2,2) -> 4001.32 | I44: =ROUND(H44*1.2359,2) -> 4945.23
A45: Ārstniecības un pacientu aprūpes personas un funkcionālo speciālistu asistenti, kopā, tai skaitā: | B45: =SUM(B46:B87) -> 42 | E45: =SUM(E46:E87) -> 1703 | H45: =SUM(H46:H87) -> 19743.54 | I45: =SUM(I46:I87) -> 24401.08
A46: Ārsta palīgs | B46: 1 | C46: =D46+E46 -> 152 | D46: 144 | E46: 8 | F46: 870.03 | G46: =F46/168 -> 5.17875 | H46: =ROUND(E46*G46*2,2) -> 82.86 | I46: =ROUND(H46*1.2359,2) -> 102.41
A47: Ārsta palīgs | B47: 1 | C47: =D47+E47 -> 200 | D47: 168 | E47: 32 | F47: 873.01 | G47: =F47/168 -> 5.1964881 | H47: =ROUND(E47*G47*2,2) -> 332.58 | I47: =ROUND(H47*1.2359,2) -> 411.04
A48: Ārsta palīgs | B48: 1 | C48: =D48+E48 -> 232 | D48: 168 | E48: 64 | F48: 873.01 | G48: =F48/168 -> 5.1964881 | H48: =ROUND(E48*G48*2,2) -> 665.15 | I48: =ROUND(H48*1.2359,2) -> 822.06
A49: Ārsta palīgs | B49: 1 | C49: =D49+E49 -> 145 | D49: 104 | E49: 41 | F49: 873.01 | G49: =F49/168 -> 5.1964881 | H49: =ROUND(E49*G49*2,2) -> 426.11 | I49: =ROUND(H49*1.2359,2) -> 526.63
A50: Ārsta palīgs | B50: 1 | C50: =D50+E50 -> 280 | D50: 168 | E50: 112 | F50: 988.41 | G50: =F50/168 -> 5.8833929 | H50: =ROUND(E50*G50*2,2) -> 1317.88 | I50: =ROUND(H50*1.2359,2) -> 1628.77
A51: Ārsta palīgs | B51: 1 | C51: =D51+E51 -> 109.5 | D51: 64 | E51: 45.5 | F51: 988.41 | G51: =F51/168 -> 5.8833929 | H51: =ROUND(E51*G51*2,2) -> 535.39 | I51: =ROUND(H51*1.2359,2) -> 661.69
A52: Ārsta palīgs | B52: 1 | C52: =D52+E52 -> 258.5 | D52: 168 | E52: 90.5 | F52: 988.41 | G52: =F52/168 -> 5.8833929 | H52: =ROUND(E52*G52*2,2) -> 1064.89 | I52: =ROUND(H52*1.2359,2) -> 1316.1
A53: Ārsta palīgs | B53: 1 | C53: =D53+E53 -> 72 | D53: 64 | E53: 8 | F53: 988.41 | G53: =F53/168 -> 5.8833929 | H53: =ROUND(E53*G53*2,2) -> 94.13 | I53: =ROUND(H53*1.2359,2) -> 116.34
A54: Ārsta palīgs | B54: 1 | C54: =D54+E54 -> 234 | D54: 168 | E54: 66 | F54: 988.41 | G54: =F54/168 -> 5.8833929 | H54: =ROUND(E54*G54*2,2) -> 776.61 | I54: =ROUND(H54*1.2359,2) -> 959.81
A55: Internās aprūpes māsa | B55: 1 | C55: =D55+E55 -> 68 | D55: 64 | E55: 4 | F55: 988.41 | G55: =F55/168 -> 5.8833929 | H55: =ROUND(E55*G55*2,2) -> 47.07 | I55: =ROUND(H55*1.2359,2) -> 58.17
A56: Internās aprūpes māsa | B56: 1 | C56: =D56+E56 -> 216 | D56: 112 | E56: 104 | F56: 988.41 | G56: =F56/168 -> 5.8833929 | H56: =ROUND(E56*G56*2,2) -> 1223.75 | I56: =ROUND(H56*1.2359,2) -> 1512.43
A57: Internās aprūpes māsa | B57: 1 | C57: =D57+E57 -> 96 | D57: 64 | E57: 32 | F57: 988.41 | G57: =F57/168 -> 5.8833929 | H57: =ROUND(E57*G57*2,2) -> 376.54 | I57: =ROUND(H57*1.2359,2) -> 465.37
... A65: Internās aprūpes māsa | B65: 1 | C65: =D65+E65 -> 228 | D65: 168 | E65: 60 | F65: 988.41 | G65: =F65/168 -> 5.8833929 | H65: =ROUND(E65*G65*2,2) -> 706.01 | I65: =ROUND(H65*1.2359,2) -> 872.56
A66: Internās aprūpes māsa | B66: 1 | C66: =D66+E66 -> 155 | D66: 147 | E66: 8 | F66: 988.9 | G66: =F66/147 -> 6.7272109 | H66: =ROUND(E66*G66*2,2) -> 107.64 | I66: =ROUND(H66*1.2359,2) -> 133.03
A67: Internās aprūpes māsa | B67: 1 | C67: =D67+E67 -> 84 | D67: 70 | E67: 14 | F67: 988.9 | G67: =F67/147 -> 6.7272109 | H67: =ROUND(E67*G67*2,2) -> 188.36 | I67: =ROUND(H67*1.2359,2) -> 232.79
A68: Internās aprūpes māsa | B68: 1 | C68: =D68+E68 -> 156 | D68: 147 | E68: 9 | F68: 988.9 | G68: =F68/147 -> 6.7272109 | H68: =ROUND(E68*G68*2,2) -> 121.09 | I68: =ROUND(H68*1.2359,2) -> 149.66
...

Sheet Z-Kurzeme_sept
H1: 1.5.Pielikums
A2: Pārskats par darba veicējiem (ārstniecības personām), virs normālā darba laika nostrādātām stundām, apmaksājamām stundām un izdevumiem, kas radušies saistībā ar mērķi ierobežot Covid-19 izplatību
A4: Iestādes nosaukums: SIA "Ziemeļkurzemes reģionālā slimnīca" | D4: 174
A5: Pārskata mēnesis: Septembris | D5: 152
B7: Nodarbināto skaits mēnesī | C7: Apmaksājamais laiks mēnesī, stundas (tai skaitā summētā darba laika ietvaros) | F7: Mēnešalga no kuras rēķina stundas likmi | G7: Stundas likme (aprēķināta atbilstoši mēnešalgai vai darba līgumā noteiktā stundas likme) | H7: Apmaksājamā 100% piemaksa par nostrādātām virsstundām virs normālā darba laika (tai skaitā summētā darba laika ietvaros) | I7: Izdevumi par virsstundām kopā ar VSOAI, EUR
C8: Kopā | D8: līdz normālam darba laikam | E8: virsstundas - virs normālā darba laika, kas saistītas ar darbu ar Covid-19
A10: 1 | B10: 2 | C10: 3=4+5 | D10: 4 | E10: 5 | F10: 6 | G10: 7 | H10: 8 | I10: 9=8 +VSOAI
A11: KOPĀ | B11: =B12+B26+B50+B60+B72+B93+B101+B113+B139+B168+B181+B190+B194+B224+B228+B204+B215 -> 169 | E11: =E12+E26+E50+E60+E72+E93+E101+E113+E139+E168+E181+E190+E194+E224+E228+E204+E215 -> 5071.5 | H11: =H12+H26+H50+H60+H72+H93+H101+H113+H139+H168+H181+H190+H194+H224+H228+H204+H215 -> 67194.93 | I11: =I12+I26+I50+I60+I72+I93+I101+I113+I139+I168+I181+I190+I194+I224+I228+I204+I215 -> 83046.2
A12: Infekciju nodaļa(35 stundas nedēļā) | B12: =B13+B19+B21 -> 10 | E12: =E13+E19+E21 -> 553 | H12: =H13+H19+H21 -> 6481.01 | I12: =I13+I19+I21 -> 8009.89
A13: Ārstniecības un pacientu aprūpes personas un funkcionālo speciālistu asistenti, kopā, tai skaitā: | B13: =SUM(B14:B18) -> 5 | E13: =SUM(E14:E18) -> 356 | H13: =SUM(H14:H18) -> 4619.4 | I13: =SUM(I14:I18) -> 5709.13
A14: Infektoloģijas māsa | B14: 1 | C14: =D14+E14 -> 180 | D14: =D$5 -> 152 | E14: 28 | G14: 6.747 | H14: =ROUND(G14*E14*2,2) -> 377.83 | I14: =ROUND(H14*1.2359,2) -> 466.96
A15: Infektoloģijas māsa | B15: 1 | C15: =D15+E15 -> 170 | D15: =D$5 -> 152 | E15: 18 | G15: 6.747 | H15: =ROUND(G15*E15*2,2) -> 242.89 | I15: =ROUND(H15*1.2359,2) -> 300.19
A16: Infektoloģijas māsa | B16: 1 | C16: =D16+E16 -> 198 | D16: =D$5 -> 152 | E16: 46 | G16: 6.747 | H16: =ROUND(G16*E16*2,2) -> 620.72 | I16: =ROUND(H16*1.2359,2) -> 767.15
A17: Infektoloģijas māsa | B17: 1 | C17: =D17+E17 -> 302 | D17: =D$5 -> 152 | E17: 150 | G17: 6.747 | H17: =ROUND(G17*E17*2,2) -> 2024.1 | I17: =ROUND(H17*1.2359,2) -> 2501.59
A18: Infektoloģijas māsa | B18: 1 | C18: =D18+E18 -> 266 | D18: =D$5 -> 152 | E18: 114 | G18: 5.938 | H18: =ROUND(G18*E18*2,2) -> 1353.86 | I18: =ROUND(H18*1.2359,2) -> 1673.24
A19: Ārstniecības un pacientu aprūpes atbalsta personas, māsu palīgi, zobārstu aistenti, kopā, tai skaitā: | B19: =B20 -> 1 | E19: =E20 -> 61 | H19: =H20 -> 604.14 | I19: =I20 -> 746.66
A20: Māsas palīgs | B20: 1 | C20: =D20+E20 -> 213 | D20: =D5 -> 152 | E20: 61 | G20: 4.952 | H20: =ROUND(G20*E20*2,2) -> 604.14 | I20: =ROUND(H20*1.2359,2) -> 746.66
A21: Pārējie darbinieki, kuri tieši iesaistīti darbā ar Covid-19, kopā, tai skaitā: | B21: =SUM(B22:B25) -> 4 | E21: =SUM(E22:E25) -> 136 | H21: =SUM(H22:H25) -> 1257.47 | I21: =SUM(I22:I25) -> 1554.1
A22: Sanitārs | B22: 1 | C22: =D22+E22 -> 213 | D22: =D5 -> 152 | E22: 61 | G22: 4.623 | H22: =ROUND(G22*E22*2,2) -> 564.01 | I22: =ROUND(H22*1.2359,2) -> 697.06
A23: Sanitārs | B23: 1 | C23: =D23+E23 -> 195 | D23: =D22 -> 152 | E23: 43 | G23: 4.623 | H23: =ROUND(G23*E23*2,2) -> 397.58 | I23: =ROUND(H23*1.2359,2) -> 491.37
A24: Sanitārs | B24: 1 | C24: =D24+E24 -> 173 | D24: =D23 -> 152 | E24: 21 | G24: 4.623 | H24: =ROUND(G24*E24*2,2) -> 194.17 | I24: =ROUND(H24*1.2359,2) -> 239.97
A25: Sanitārs | B25: 1 | C25: =D25+E25 -> 163 | D25: =D24 -> 152 | E25: 11 | G25: 4.623 | H25: =ROUND(G25*E25*2,2) -> 101.71 | I25: =ROUND(H25*1.2359,2) -> 125.7
A26: ANESTEZIOLOĢIJAS UN INTENSĪVĀS TERAPIJAS NODAĻA (35 stundas nedēļā) | B26: =B27+B34+B48 -> 20 | E26: =E27+E34+E48 -> 621.5 | H26: =H27+H34+H48 -> 9490.56 | I26: =I27+I34+I48 -> 11729.39
A27: Ārsti, zobārsti un funkcionālie speciālisti, kopā, tai skaitā: | B27: =SUM(B28:B33) -> 6 | E27: =SUM(E28:E33) -> 181 | H27: =SUM(H28:H33) -> 4018.47 | I27: =SUM(I28:I33) -> 4966.43
A28: Anesteziologs, reanimatologs (dežūrārsts) | B28: 1 | C28: =D28+E28 -> 201 | D28: =D$5 -> 152 | E28: 49 | G28: 10.856 | H28: =ROUND(G28*E28*2,2) -> 1063.89 | I28: =ROUND(H28*1.2359,2) -> 1314.86
A29: Anesteziologs, reanimatologs (dežūrārsts) | B29: 1 | C29: =D29+E29 -> 162 | D29: =D$5 -> 152 | E29: 10 | G29: 10.856 | H29: =ROUND(G29*E29*2,2) -> 217.12 | I29: =ROUND(H29*1.2359,2) -> 268.34
A30: Anesteziologs, reanimatologs (dežūrārsts) | B30: 1 | C30: =D30+E30 -> 168 | D30: =D$5 -> 152 | E30: 16 | G30: 10.856 | H30: =ROUND(G30*E30*2,2) -> 347.39 | I30: =ROUND(H30*1.2359,2) -> 429.34
A31: Anesteziologs, reanimatologs (dežūrārsts) | B31: 1 | C31: =D31+E31 -> 182 | D31: =D$5 -> 152 | E31: 30 | G31: 11.308 | H31: =ROUND(G31*E31*2,2) -> 678.48 | I31: =ROUND(H31*1.2359,2) -> 838.53
A32: Anesteziologs, reanimatologs (dežūrārsts) | B32: 1 | C32: =D32+E32 -> 160 | D32: =D$5 -> 152 | E32: 8 | G32: 10.856 | H32: =ROUND(G32*E32*2,2) -> 173.7 | I32: =ROUND(H32*1.2359,2) -> 214.68
A33: Anesteziologs, reanimatologs (dežūrārsts) | B33: 1 | C33: =D33+E33 -> 220 | D33: =D$5 -> 152 | E33: 68 | G33: 11.308 | H33: =ROUND(G33*E33*2,2) -> 1537.89 | I33: =ROUND(H33*1.2359,2) -> 1900.68
A34: Ārstniecības un pacientu aprūpes personas un funkcionālo speciālistu asistenti, kopā, tai skaitā: | B34: =SUM(B35:B47) -> 13 | E34: =SUM(E35:E47) -> 424.5 | H34: =SUM(H35:H47) -> 5313.63 | I34: =SUM(I35:I47) -> 6567.12
A35: Intensīvās terapijas un anestēzijas māsa | B35: 1 | C35: =D35+E35 -> 222 | D35: =D5 -> 152 | E35: 70 | G35: 6.404 | H35: =ROUND(G35*E35*2,2) -> 896.56 | I35: =ROUND(H35*1.2359,2) -> 1108.06
A36: Intensīvās terapijas un anestēzijas māsa | B36: 1 | C36: =D36+E36 -> 186 | D36: =D35 -> 152 | E36: 34 | G36: 6.23 | H36: =ROUND(G36*E36*2,2) -> 423.64 | I36: =ROUND(H36*1.2359,2) -> 523.58
A37: Intensīvās terapijas un anestēzijas māsa | B37: 1 | C37: =D37+E37 -> 182 | D37: =D36 -> 152 | E37: 30 | G37: 6.23 | H37: =ROUND(G37*E37*2,2) -> 373.8 | I37: =ROUND(H37*1.2359,2) -> 461.98
A38: Intensīvās terapijas un anestēzijas māsa | B38: 1 | C38: =D38+E38 -> 178 | D38: =D37 -> 152 | E38: 26 | G38: 6.23 | H38: =ROUND(G38*E38*2,2) -> 323.96 | I38: =ROUND(H38*1.2359,2) -> 400.38
A39: Intensīvās terapijas un anestēzijas māsa | B39: 1 | C39: =D39+E39 -> 209 | D39: =D38 -> 152 | E39: 57 | G39: 6.23 | H39: =ROUND(G39*E39*2,2) -> 710.22 | I39: =ROUND(H39*1.2359,2) -> 877.76
A40: Intensīvās terapijas un anestēzijas māsa | B40: 1 | C40: =D40+E40 -> 202 | D40: =D39 -> 152 | E40: 50 | G40: 6.23 | H40: =ROUND(G40*E40*2,2) -> 623 | I40: =ROUND(H40*1.2359,2) -> 769.97
A41: Intensīvās terapijas un anestēzijas māsa | B41: 1 | C41: =D41+E41 -> 184 | D41: =D40 -> 152 | E41: 32 | G41: 6.23 | H41: =ROUND(G41*E41*2,2) -> 398.72 | I41: =ROUND(H41*1.2359,2) -> 492.78
A42: Intensīvās terapijas un anestēzijas māsa | B42: 1 | C42: =D42+E42 -> 189 | D42: =D41 -> 152 | E42: 37 | G42: 6.23 | H42: =ROUND(G42*E42*2,2) -> 461.02 | I42: =ROUND(H42*1.2359,2) -> 569.77
A43: Intensīvās terapijas un anestēzijas māsa | B43: 1 | C43: =D43+E43 -> 173.5 | D43: =D42 -> 152 | E43: 21.5 | G43: 6.23 | H43: =ROUND(G43*E43*2,2) -> 267.89 | I43: =ROUND(H43*1.2359,2) -> 331.09
...

Sheet Z-Kurzeme_okt
H1: 1.6.Pielikums
A2: Pārskats par darba veicējiem (ārstniecības personām), virs normālā darba laika nostrādātām stundām, apmaksājamām stundām un izdevumiem, kas radušies saistībā ar mērķi ierobežot Covid-19 izplatību
A4: Iestādes nosaukums: SIA "Ziemeļkurzemes reģionālā slimnīca"
A5: Pārskata mēnesis: Oktobris
B7: Nodarbināto skaits mēnesī | C7: Apmaksājamais laiks mēnesī, stundas (tai skaitā summētā darba laika ietvaros) | F7: Mēnešalga no kuras rēķina stundas likmi | G7: Stundas likme (aprēķināta atbilstoši mēnešalgai vai darba līgumā noteiktā stundas likme) | H7: Apmaksājamā 100% piemaksa par nostrādātām virsstundām virs normālā darba laika (tai skaitā summētā darba laika ietvaros) | I7: Izdevumi par virsstundām kopā ar VSOAI, EUR
C8: Kopā | D8: līdz normālam darba laikam | E8: virsstundas - virs normālā darba laika, kas saistītas ar darbu ar Covid-19
A9: 1 | B9: 2 | C9: 3=4+5 | D9: 4 | E9: 5 | F9: 6 | G9: 7 | H9: 8 | I9: 9=8 +VSOAI
A10: KOPĀ | B10: =B11+B23+B58+B71+B83+B98+B120+B130+B148+B171+B189+B209+B224+B235+B242+B248+B253 -> 194 | E10: =E11+E23+E58+E71+E83+E98+E120+E130+E148+E171+E189+E209+E224+E235+E242+E248+E253 -> 7978.31 | H10: =H11+H23+H58+H71+H83+H98+H120+H130+H148+H171+H189+H209+H224+H235+H242+H248+H253 -> 104403.43 | I10: =I11+I23+I58+I71+I83+I98+I120+I130+I148+I171+I189+I209+I224+I235+I242+I248+I253 -> 129032.18
A11: Infekciju nodaļa(35 stundas nedēļā) | B11: =B12+B17+B19 -> 8 | E11: =E12+E17+E19 -> 342.75 | H11: =H12+H17+H19 -> 4080.13 | I11: =I12+I17+I19 -> 5042.63
A12: Ārstniecības un pacientu aprūpes personas un funkcionālo speciālistu asistenti, kopā, tai skaitā: | B12: =SUM(B13:B16) -> 4 | E12: =SUM(E13:E16) -> 219.75 | H12: =SUM(H13:H16) -> 2890.88 | I12: =SUM(I13:I16) -> 3572.84
A13: Infektoloģijas māsa | B13: 1 | C13: =D13+E13 -> 176 | D13: 151 | E13: 25 | G13: 6.747 | H13: =ROUND(G13*E13*2,2) -> 337.35 | I13: =ROUND(H13*1.2359,2) -> 416.93
A14: Infektoloģijas māsa | B14: 1 | C14: =D14+E14 -> 168 | D14: 151 | E14: 17 | G14: 6.747 | H14: =ROUND(G14*E14*2,2) -> 229.4 | I14: =ROUND(H14*1.2359,2) -> 283.52
A15: Infektoloģijas māsa | B15: 1 | C15: =D15+E15 -> 282.75 | D15: 151 | E15: 131.75 | G15: 6.747 | H15: =ROUND(G15*E15*2,2) -> 1777.83 | I15: =ROUND(H15*1.2359,2) -> 2197.22
A16: Infektoloģijas māsa | B16: 1 | C16: =D16+E16 -> 197 | D16: 151 | E16: 46 | G16: 5.938 | H16: =ROUND(G16*E16*2,2) -> 546.3 | I16: =ROUND(H16*1.2359,2) -> 675.17
A17: Ārstniecības un pacientu aprūpes atbalsta personas, māsu palīgi, zobārstu aistenti, kopā, tai skaitā: | B17: =B18 -> 1 | E17: =E18 -> 79 | H17: =H18 -> 782.42 | I17: =I18 -> 966.99
A18: Māsas palīgs | B18: 1 | C18: =D18+E18 -> 230 | D18: 151 | E18: 79 | G18: 4.952 | H18: =ROUND(G18*E18*2,2) -> 782.42 | I18: =ROUND(H18*1.2359,2) -> 966.99
A19: Pārējie darbinieki, kuri tieši iesaistīti darbā ar Covid-19, kopā, tai skaitā: | B19: =SUM(B20:B22) -> 3 | E19: =SUM(E20:E22) -> 44 | H19: =SUM(H20:H22) -> 406.83 | I19: =SUM(I20:I22) -> 502.8
A20: Sanitārs | B20: 1 | C20: =D20+E20 -> 177 | D20: 151 | E20: 26 | G20: 4.623 | H20: =ROUND(G20*E20*2,2) -> 240.4 | I20: =ROUND(H20*1.2359,2) -> 297.11
A21: Sanitārs | B21: 1 | C21: =D21+E21 -> 158 | D21: 151 | E21: 7 | G21: 4.623 | H21: =ROUND(G21*E21*2,2) -> 64.72 | I21: =ROUND(H21*1.2359,2) -> 79.99
A22: Sanitārs | B22: 1 | C22: =D22+E22 -> 162 | D22: 151 | E22: 11 | G22: 4.623 | H22: =ROUND(G22*E22*2,2) -> 101.71 | I22: =ROUND(H22*1.2359,2) -> 125.7
A23: ANESTEZIOLOĢIJAS UN INTENSĪVĀS TERAPIJAS NODAĻA (35 stundas nedēļā) | B23: =B24+B30+B46+B56 -> 30 | E23: =E24+E30+E46+E56 -> 1788 | H23: =H24+H30+H46+H56 -> 23051.46 | I23: =I24+I30+I46+I56 -> 28489.31
A24: Ārsti, zobārsti un funkcionālie speciālisti, kopā, tai skaitā: | B24: =SUM(B25:B29) -> 5 | E24: =SUM(E25:E29) -> 213 | H24: =SUM(H25:H29) -> 4724.1 | I24: =SUM(I25:I29) -> 5838.52
A25: Anesteziologs un reanimatologs | B25: 1 | C25: =D25+E25 -> 180 | D25: 151 | E25: 29 | G25: 10.856 | H25: =ROUND(G25*E25*2,2) -> 629.65 | I25: =ROUND(H25*1.2359,2) -> 778.18
A26: Anesteziologs un reanimatologs | B26: 1 | C26: =D26+E26 -> 176 | D26: 151 | E26: 25 | G26: 10.856 | H26: =ROUND(G26*E26*2,2) -> 542.8 | I26: =ROUND(H26*1.2359,2) -> 670.85
A27: Anesteziologs un reanimatologs (dežūrārsts) | B27: 1 | C27: =D27+E27 -> 200 | D27: 151 | E27: 49 | G27: 10.856 | H27: =ROUND(G27*E27*2,2) -> 1063.89 | I27: =ROUND(H27*1.2359,2) -> 1314.86
A28: Anesteziologs un reanimatologs (dežūrārsts) | B28: 1 | C28: =D28+E28 -> 168 | D28: 151 | E28: 17 | G28: 11.308 | H28: =ROUND(G28*E28*2,2) -> 384.47 | I28: =ROUND(H28*1.2359,2) -> 475.17
A29: Anesteziologs un reanimatologs (dežūrārsts) | B29: 1 | C29: =D29+E29 -> 244 | D29: 151 | E29: 93 | G29: 11.308 | H29: =ROUND(G29*E29*2,2) -> 2103.29 | I29: =ROUND(H29*1.2359,2) -> 2599.46
A30: Ārstniecības un pacientu aprūpes personas un funkcionālo speciālistu asistenti, kopā, tai skaitā: | B30: =SUM(B31:B45) -> 15 | E30: =SUM(E31:E45) -> 1053 | H30: =SUM(H31:H45) -> 13185.11 | I30: =SUM(I31:I45) -> 16295.48
A31: Intensīvās terapijas un anestēzijas māsa | B31: 1 | C31: =D31+E31 -> 276 | D31: 151 | E31: 125 | G31: 6.404 | H31: =ROUND(G31*E31*2,2) -> 1601 | I31: =ROUND(H31*1.2359,2) -> 1978.68
A32: Intensīvās terapijas un anestēzijas māsa | B32: 1 | C32: =D32+E32 -> 241 | D32: 151 | E32: 90 | G32: 6.23 | H32: =ROUND(G32*E32*2,2) -> 1121.4 | I32: =ROUND(H32*1.2359,2) -> 1385.94
A33: Intensīvās terapijas un anestēzijas māsa | B33: 1 | C33: =D33+E33 -> 222 | D33: 151 | E33: 71 | G33: 6.23 | H33: =ROUND(G33*E33*2,2) -> 884.66 | I33: =ROUND(H33*1.2359,2) -> 1093.35
A34: Intensīvās terapijas un anestēzijas māsa | B34: 1 | C34: =D34+E34 -> 195 | D34: 151 | E34: 44 | G34: 6.23 | H34: =ROUND(G34*E34*2,2) -> 548.24 | I34: =ROUND(H34*1.2359,2) -> 677.57
A35: Intensīvās terapijas un anestēzijas māsa | B35: 1 | C35: =D35+E35 -> 183 | D35: 151 | E35: 32 | G35: 6.23 | H35: =ROUND(G35*E35*2,2) -> 398.72 | I35: =ROUND(H35*1.2359,2) -> 492.78
A36: Intensīvās terapijas un anestēzijas māsa | B36: 1 | C36: =D36+E36 -> 225 | D36: 151 | E36: 74 | G36: 6.23 | H36: =ROUND(G36*E36*2,2) -> 922.04 | I36: =ROUND(H36*1.2359,2) -> 1139.55
A37: Intensīvās terapijas un anestēzijas māsa | B37: 1 | C37: =D37+E37 -> 253 | D37: 151 | E37: 102 | G37: 6.23 | H37: =ROUND(G37*E37*2,2) -> 1270.92 | I37: =ROUND(H37*1.2359,2) -> 1570.73
A38: Intensīvās terapijas un anestēzijas māsa | B38: 1 | C38: =D38+E38 -> 267 | D38: 151 | E38: 116 | G38: 6.23 | H38: =ROUND(G38*E38*2,2) -> 1445.36 | I38: =ROUND(H38*1.2359,2) -> 1786.32
A39: Intensīvās terapijas un anestēzijas māsa | B39: 1 | C39: =D39+E39 -> 242 | D39: 151 | E39: 91 | G39: 6.23 | H39: =ROUND(G39*E39*2,2) -> 1133.86 | I39: =ROUND(H39*1.2359,2) -> 1401.34
A40: Intensīvās terapijas un anestēzijas māsa | B40: 1 | C40: =D40+E40 -> 233 | D40: 151 | E40: 82 | G40: 6.23 | H40: =ROUND(G40*E40*2,2) -> 1021.72 | I40: =ROUND(H40*1.2359,2) -> 1262.74
A41: Intensīvās terapijas un anestēzijas māsa | B41: 1 | C41: =D41+E41 -> 218 | D41: 151 | E41: 67 | G41: 6.23 | H41: =ROUND(G41*E41*2,2) -> 834.82 | I41: =ROUND(H41*1.2359,2) -> 1031.75
A42: Intensīvās terapijas un anestēzijas māsa | B42: 1 | C42: =D42+E42 -> 158 | D42: 151 | E42: 7 | G42: 6.23 | H42: =ROUND(G42*E42*2,2) -> 87.22 | I42: =ROUND(H42*1.2359,2) -> 107.8
...

Sheet Jelgava_okt
H1: 1.7.Pielikums
A2: Pārskats par darba veicējiem (ārstniecības personām), virs normālā darba laika nostrādātām stundām, apmaksājamām stundām un izdevumiem, kas radušies saistībā ar mērķi ierobežot Covid-19 izplatību
A4: Iestādes nosaukums: Jelgavas pilsētas slimnīca, SIA
A5: Pārskata mēnesis: Oktobris
B7: Nodarbināto skaits mēnesī | C7: Apmaksājamais laiks mēnesī, stundas (tai skaitā summētā darba laika ietvaros) | F7: Mēnešalga no kuras rēķina stundas likmi | G7: Stundas likme (aprēķināta atbilstoši mēnešalgai vai darba līgumā noteiktā stundas likme) | H7: Apmaksājamā 100% piemaksa par nostrādātām virsstundām virs normālā darba laika (tai skaitā summētā darba laika ietvaros) | I7: Izdevumi par virsstundām kopā ar VSOAI, EUR
C8: Kopā | D8: līdz normālam darba laikam | E8: virsstundas - virs normālā darba laika, kas saistītas ar darbu ar Covid-19
A10: 1 | B10: 2 | C10: 3=4+5 | D10: 4 | E10: 5 | F10: 6 | G10: 7 | H10: 8 | I10: 9=8 +VSOAI
A11: KOPĀ | B11: =B12+B41 -> 48 | E11: =E12+E41 -> 2110.5 | H11: =H12+H41 -> 23105.14 | I11: =I12+I41 -> 28555.61
A12: Ārstniecības un pacientu aprūpes personas un funkcionālo speciālistu asistenti, kopā, tai skaitā: | B12: =SUM(B13:B40) -> 28 | E12: =SUM(E13:E40) -> 1040 | H12: =SUM(H13:H40) -> 13107.91 | I12: =SUM(I13:I40) -> 16200.06
A13: Medicīnas māsa | B13: 1 | C13: =D13+E13 -> 216 | D13: 168 | E13: 48 | F13: 1133 | G13: =ROUNDDOWN(F13/D13,3) -> 6.744 | H13: =ROUND(E13*G13*2,2) -> 647.42 | I13: =ROUND(H13*1.2359,2) -> 800.15
A14: Medicīnas māsa | B14: 1 | C14: =D14+E14 -> 192 | D14: 168 | E14: 24 | F14: 1133 | G14: =ROUNDDOWN(F14/D14,3) -> 6.744 | H14: =ROUND(E14*G14*2,2) -> 323.71 | I14: =ROUND(H14*1.2359,2) -> 400.07
A15: Medicīnas māsa | B15: 1 | C15: =D15+E15 -> 208 | D15: 168 | E15: 40 | F15: 1133 | G15: =ROUNDDOWN(F15/D15,3) -> 6.744 | H15: =ROUND(E15*G15*2,2) -> 539.52 | I15: =ROUND(H15*1.2359,2) -> 666.79
A16: Medicīnas māsa | B16: 1 | C16: =D16+E16 -> 200 | D16: 168 | E16: 32 | F16: 1133 | G16: =ROUNDDOWN(F16/D16,3) -> 6.744 | H16: =ROUND(E16*G16*2,2) -> 431.62 | I16: =ROUND(H16*1.2359,2) -> 533.44
A17: Medicīnas māsa | B17: 1 | C17: =D17+E17 -> 216 | D17: 168 | E17: 48 | F17: 1133 | G17: =ROUNDDOWN(F17/D17,3) -> 6.744 | H17: =ROUND(E17*G17*2,2) -> 647.42 | I17: =ROUND(H17*1.2359,2) -> 800.15
A18: Medicīnas māsa | B18: 1 | C18: =D18+E18 -> 192 | D18: 168 | E18: 24 | F18: 1133 | G18: =ROUNDDOWN(F18/D18,3) -> 6.744 | H18: =ROUND(E18*G18*2,2) -> 323.71 | I18: =ROUND(H18*1.2359,2) -> 400.07
A19: Medicīnas māsa | B19: 1 | C19: =D19+E19 -> 240 | D19: 168 | E19: 72 | F19: 1133 | G19: =ROUNDDOWN(F19/D19,3) -> 6.744 | H19: =ROUND(E19*G19*2,2) -> 971.14 | I19: =ROUND(H19*1.2359,2) -> 1200.23
A20: Medicīnas māsa | B20: 1 | C20: =D20+E20 -> 192 | D20: 168 | E20: 24 | F20: 1133 | G20: =ROUNDDOWN(F20/D20,3) -> 6.744 | H20: =ROUND(E20*G20*2,2) -> 323.71 | I20: =ROUND(H20*1.2359,2) -> 400.07
A21: Medicīnas māsa | B21: 1 | C21: =D21+E21 -> 202 | D21: 168 | E21: 34 | F21: 1133 | G21: =ROUNDDOWN(F21/D21,3) -> 6.744 | H21: =ROUND(E21*G21*2,2) -> 458.59 | I21: =ROUND(H21*1.2359,2) -> 566.77
A22: Medicīnas māsa | B22: 1 | C22: =D22+E22 -> 193 | D22: 168 | E22: 25 | F22: 1133 | G22: =ROUNDDOWN(F22/D22,3) -> 6.744 | H22: =ROUND(E22*G22*2,2) -> 337.2 | I22: =ROUND(H22*1.2359,2) -> 416.75
A23: Medicīnas māsa | B23: 1 | C23: =D23+E23 -> 241 | D23: 168 | E23: 73 | F23: 1133 | G23: =ROUNDDOWN(F23/D23,3) -> 6.744 | H23: =ROUND(E23*G23*2,2) -> 984.62 | I23: =ROUND(H23*1.2359,2) -> 1216.89
A24: Medicīnas māsa | B24: 1 | C24: =D24+E24 -> 216 | D24: 168 | E24: 48 | F24: 1133 | G24: =ROUNDDOWN(F24/D24,3) -> 6.744 | H24: =ROUND(E24*G24*2,2) -> 647.42 | I24: =ROUND(H24*1.2359,2) -> 800.15
... A40: Fizioterapeits | B40: 1 | C40: =D40+E40 -> 173 | D40: 168 | E40: 5 | F40: 1220 | G40: =ROUNDDOWN(F40/D40,3) -> 7.261 | H40: =ROUND(E40*G40*2,2) -> 72.61 | I40: =ROUND(H40*1.2359,2) -> 89.74
A41: Ārstniecības un pacientu aprūpes atbalsta personas, māsu palīgi, zobārstu aistenti, kopā, tai skaitā: | B41: =SUM(B42:B61) -> 20 | E41: =SUM(E42:E61) -> 1070.5 | H41: =SUM(H42:H61) -> 9997.23 | I41: =SUM(I42:I61) -> 12355.55
A42: Māsu palīgs | B42: 1 | C42: =D42+E42 -> 264 | D42: 168 | E42: 96 | F42: 833 | G42: =ROUNDDOWN(F42/D42,3) -> 4.958 | H42: =ROUND(E42*G42*2,2) -> 951.94 | I42: =ROUND(H42*1.2359,2) -> 1176.5
A43: Māsu palīgs | B43: 1 | C43: =D43+E43 -> 216 | D43: 168 | E43: 48 | F43: 833 | G43: =ROUNDDOWN(F43/D43,3) -> 4.958 | H43: =ROUND(E43*G43*2,2) -> 475.97 | I43: =ROUND(H43*1.2359,2) -> 588.25
A44: Māsu palīgs | B44: 1 | C44: =D44+E44 -> 240 | D44: 168 | E44: 72 | F44: 833 | G44: =ROUNDDOWN(F44/D44,3) -> 4.958 | H44: =ROUND(E44*G44*2,2) -> 713.95 | I44: =ROUND(H44*1.2359,2) -> 882.37
A45: Māsu palīgs | B45: 1 | C45: =D45+E45 -> 216 | D45: 168 | E45: 48 | F45: 833 | G45: =ROUNDDOWN(F45/D45,3) -> 4.958 | H45: =ROUND(E45*G45*2,2) -> 475.97 | I45: =ROUND(H45*1.2359,2) -> 588.25
A46: Māsu palīgs | B46: 1 | C46: =D46+E46 -> 241 | D46: 168 | E46: 73 | F46: 833 | G46: =ROUNDDOWN(F46/D46,3) -> 4.958 | H46: =ROUND(E46*G46*2,2) -> 723.87 | I46: =ROUND(H46*1.2359,2) -> 894.63
A47: Māsu palīgs | B47: 1 | C47: =D47+E47 -> 216 | D47: 168 | E47: 48 | F47: 833 | G47: =ROUNDDOWN(F47/D47,3) -> 4.958 | H47: =ROUND(E47*G47*2,2) -> 475.97 | I47: =ROUND(H47*1.2359,2) -> 588.25
A48: Sanitārs | B48: 1 | C48: =D48+E48 -> 201 | D48: 168 | E48: 33 | F48: 740 | G48: =ROUNDDOWN(F48/D48,3) -> 4.404 | H48: =ROUND(E48*G48*2,2) -> 290.66 | I48: =ROUND(H48*1.2359,2) -> 359.23
A49: Sanitārs | B49: 1 | C49: =D49+E49 -> 240 | D49: 168 | E49: 72 | F49: 740 | G49: =ROUNDDOWN(F49/D49,3) -> 4.404 | H49: =ROUND(E49*G49*2,2) -> 634.18 | I49: =ROUND(H49*1.2359,2) -> 783.78
A50: Sanitārs | B50: 1 | C50: =D50+E50 -> 208 | D50: 168 | E50: 40 | F50: 740 | G50: =ROUNDDOWN(F50/D50,3) -> 4.404 | H50: =ROUND(E50*G50*2,2) -> 352.32 | I50: =ROUND(H50*1.2359,2) -> 435.43
A51: Sanitārs | B51: 1 | C51: =D51+E51 -> 240 | D51: 168 | E51: 72 | F51: 740 | G51: =ROUNDDOWN(F51/D51,3) -> 4.404 | H51: =ROUND(E51*G51*2,2) -> 634.18 | I51: =ROUND(H51*1.2359,2) -> 783.78
A52: Sanitārs | B52: 1 | C52: =D52+E52 -> 264 | D52: 168 | E52: 96 | F52: 740 | G52: =ROUNDDOWN(F52/D52,3) -> 4.404 | H52: =ROUND(E52*G52*2,2) -> 845.57 | I52: =ROUND(H52*1.2359,2) -> 1045.04
A53: Sanitārs | B53: 1 | C53: =D53+E53 -> 240 | D53: 168 | E53: 72 | F53: 740 | G53: =ROUNDDOWN(F53/D53,3) -> 4.404 | H53: =ROUND(E53*G53*2,2) -> 634.18 | I53: =ROUND(H53*1.2359,2) -> 783.78
... A61: Sekretāre | B61: 1 | C61: =D61+E61 -> 175.5 | D61: 168 | E61: 7.5 | F61: 1191 | G61: =ROUNDDOWN(F61/D61,3) -> 7.089 | H61: =ROUND(E61*G61*2,2) -> 106.34 | I61: =ROUND(H61*1.2359,2) -> 131.43

Sheet Vidzeme_sept
H1: 1.8.Pielikums
A2: Pārskats par darba veicējiem (ārstniecības personām), virs normālā darba laika nostrādātām stundām, apmaksājamām stundām un izdevumiem, kas radušies saistībā ar mērķi ierobežot Covid-19 izplatību
A4: Iestādes nosaukums: Vidzemes slimnīca, SIA
A5: Pārskata periods: Septembris
B7: Nodarbināto skaits mēnesī | C7: Apmaksājamais laiks mēnesī, stundas (tai skaitā summētā darba laika ietvaros) | F7: Mēnešalga no kuras rēķina stundas likmi | G7: Stundas likme (aprēķināta atbilstoši mēnešalgai vai darba līgumā noteiktā stundas likme) | H7: Apmaksājamā 100% piemaksa par nostrādātām virsstundām virs normālā darba laika (tai skaitā summētā darba laika ietvaros) | I7: Izdevumi par virsstundām kopā ar VSOAI, EUR
C8: Kopā | D8: līdz normālam darba laikam | E8: virsstundas - virs normālā darba laika, kas saistītas ar darbu ar Covid-19
A10: 1 | B10: 2 | C10: 3=4+5 | D10: 4 | E10: 5 | F10: 6 | G10: 7 | H10: 8 | I10: 9=8 +VSOAI
A11: KOPĀ | B11: =B12+B42+B102 -> 136 | E11: =E12+E42+E102 -> 2887.6 | H11: =H12+H42+H102 -> 41391.74 | I11: =I12+I42+I102 -> 51156.05
A12: Ārsti, zobārsti un funkcionālie speciālisti, kopā, tai skaitā: | B12: =SUM(B13:B41) -> 29 | E12: =SUM(E13:E41) -> 957.8 | H12: =SUM(H13:H41) -> 18733.3 | I12: =SUM(I13:I41) -> 23152.5
A13: pediatrs | B13: 1 | C13: =D13+E13 -> 213 | D13: 176 | E13: 37 | F13: 1601.6 | G13: =ROUND(F13/D13,2) -> 9.1 | H13: =ROUND(E13*G13*2,2) -> 673.4 | I13: =ROUND(H13*1.2359,2) -> 832.26
A14: pediatrs | B14: 1 | C14: =D14+E14 -> 203 | D14: 176 | E14: 27 | F14: 1601.6 | G14: =ROUND(F14/D14,2) -> 9.1 | H14: =ROUND(E14*G14*2,2) -> 491.4 | I14: =ROUND(H14*1.2359,2) -> 607.32
A15: pediatrs | B15: 1 | C15: =D15+E15 -> 190 | D15: 176 | E15: 14 | F15: 1804 | G15: =ROUND(F15/D15,2) -> 10.25 | H15: =ROUND(E15*G15*2,2) -> 287 | I15: =ROUND(H15*1.2359,2) -> 354.7
A16: ginekologs, dzemdību speciālists | B16: 1 | C16: =D16+E16 -> 200 | D16: 176 | E16: 24 | F16: 1804 | G16: =ROUND(F16/D16,2) -> 10.25 | H16: =ROUND(E16*G16*2,2) -> 492 | I16: =ROUND(H16*1.2359,2) -> 608.06
A17: ginekologs, dzemdību speciālists | B17: 1 | C17: =D17+E17 -> 197 | D17: 176 | E17: 21 | F17: 1601.6 | G17: =ROUND(F17/D17,2) -> 9.1 | H17: =ROUND(E17*G17*2,2) -> 382.2 | I17: =ROUND(H17*1.2359,2) -> 472.36
A18: neonatologs | B18: 1 | C18: =D18+E18 -> 204.8 | D18: 176 | E18: 28.8 | F18: 1804 | G18: =ROUND(F18/D18,2) -> 10.25 | H18: =ROUND(E18*G18*2,2) -> 590.4 | I18: =ROUND(H18*1.2359,2) -> 729.68
A19: ginekologs, dzemdību speciālists | B19: 1 | C19: =D19+E19 -> 214 | D19: 176 | E19: 38 | F19: 1804 | G19: =ROUND(F19/D19,2) -> 10.25 | H19: =ROUND(E19*G19*2,2) -> 779 | I19: =ROUND(H19*1.2359,2) -> 962.77
A20: neonatologs | B20: 1 | C20: =D20+E20 -> 192 | D20: 176 | E20: 16 | F20: 1804 | G20: =ROUND(F20/D20,2) -> 10.25 | H20: =ROUND(E20*G20*2,2) -> 328 | I20: =ROUND(H20*1.2359,2) -> 405.38
A21: neonatologs | B21: 1 | C21: =D21+E21 -> 218 | D21: 176 | E21: 42 | F21: 1804 | G21: =ROUND(F21/D21,2) -> 10.25 | H21: =ROUND(E21*G21*2,2) -> 861 | I21: =ROUND(H21*1.2359,2) -> 1064.11
A22: neonatologs | B22: 1 | C22: =D22+E22 -> 183 | D22: 176 | E22: 7 | F22: 1804 | G22: =ROUND(F22/D22,2) -> 10.25 | H22: =ROUND(E22*G22*2,2) -> 143.5 | I22: =ROUND(H22*1.2359,2) -> 177.35
A23: ķirurgs | B23: 1 | C23: =D23+E23 -> 183 | D23: 176 | E23: 7 | F23: 1804 | G23: =ROUND(F23/D23,2) -> 10.25 | H23: =ROUND(E23*G23*2,2) -> 143.5 | I23: =ROUND(H23*1.2359,2) -> 177.35
A24: ķirurgs | B24: 1 | C24: =D24+E24 -> 178 | D24: 176 | E24: 2 | F24: 1804 | G24: =ROUND(F24/D24,2) -> 10.25 | H24: =ROUND(E24*G24*2,2) -> 41 | I24: =ROUND(H24*1.2359,2) -> 50.67
... A41: traumatologs, ortopēds | B41: 1 | C41: =D41+E41 -> 193 | D41: 176 | E41: 17 | F41: 1804 | G41: =ROUND(F41/D41,2) -> 10.25 | H41: =ROUND(E41*G41*2,2) -> 348.5 | I41: =ROUND(H41*1.2359,2) -> 430.71
A42: Ārstniecības un pacientu aprūpes personas un funkcionālo speciālistu asistenti, kopā, tai skaitā: | B42: =SUM(B43:B101) -> 59 | E42: =SUM(E43:E101) -> 998.8 | H42: =SUM(H43:H101) -> 13574.62 | I42: =SUM(I43:I101) -> 16776.88
A43: intensīvās terapijas un anestēzijas māsa | B43: 1 | C43: =D43+E43 -> 194 | D43: 176 | E43: 18 | F43: 1232 | G43: =ROUND(F43/D43,2) -> 7 | H43: =ROUND(E43*G43*2,2) -> 252 | I43: =ROUND(H43*1.2359,2) -> 311.45
A44: intensīvās terapijas un anestēzijas māsa | B44: 1 | C44: =D44+E44 -> 204 | D44: 176 | E44: 28 | F44: 1232 | G44: =ROUND(F44/D44,2) -> 7 | H44: =ROUND(E44*G44*2,2) -> 392 | I44: =ROUND(H44*1.2359,2) -> 484.47
A45: intensīvās terapijas un anestēzijas māsa | B45: 1 | C45: =D45+E45 -> 189 | D45: 176 | E45: 13 | F45: 1232 | G45: =ROUND(F45/D45,2) -> 7 | H45: =ROUND(E45*G45*2,2) -> 182 | I45: =ROUND(H45*1.2359,2) -> 224.93
A46: intensīvās terapijas un anestēzijas māsa | B46: 1 | C46: =D46+E46 -> 196 | D46: 176 | E46: 20 | F46: 1232 | G46: =ROUND(F46/D46,2) -> 7 | H46: =ROUND(E46*G46*2,2) -> 280 | I46: =ROUND(H46*1.2359,2) -> 346.05
A47: intensīvās terapijas un anestēzijas māsa | B47: 1 | C47: =D47+E47 -> 184 | D47: 176 | E47: 8 | F47: 1003.2 | G47: =ROUND(F47/D47,2) -> 5.7 | H47: =ROUND(E47*G47*2,2) -> 91.2 | I47: =ROUND(H47*1.2359,2) -> 112.71
A48: intensīvās terapijas un anestēzijas māsa | B48: 1 | C48: =D48+E48 -> 200 | D48: 176 | E48: 24 | F48: 1232 | G48: =ROUND(F48/D48,2) -> 7 | H48: =ROUND(E48*G48*2,2) -> 336 | I48: =ROUND(H48*1.2359,2) -> 415.26
A49: bērnu māsa | B49: 1 | C49: =D49+E49 -> 190 | D49: 176 | E49: 14 | F49: 1232 | G49: =ROUND(F49/D49,2) -> 7 | H49: =ROUND(E49*G49*2,2) -> 196 | I49: =ROUND(H49*1.2359,2) -> 242.24
A50: medicīnas māsa | B50: 1 | C50: =D50+E50 -> 214 | D50: 176 | E50: 38 | F50: 1232 | G50: =ROUND(F50/D50,2) -> 7 | H50: =ROUND(E50*G50*2,2) -> 532 | I50: =ROUND(H50*1.2359,2) -> 657.5
A51: radiologa asistents | B51: 1 | C51: =D51+E51 -> 220 | D51: 176 | E51: 44 | F51: 1108.8 | G51: =ROUND(F51/D51,2) -> 6.3 | H51: =ROUND(E51*G51*2,2) -> 554.4 | I51: =ROUND(H51*1.2359,2) -> 685.18
A52: radiologa asistents | B52: 1 | C52: =D52+E52 -> 189 | D52: 176 | E52: 13 | F52: 1372.8 | G52: =ROUND(F52/D52,2) -> 7.8 | H52: =ROUND(E52*G52*2,2) -> 202.8 | I52: =ROUND(H52*1.2359,2) -> 250.64
A53: radiogrāfers | B53: 1 | C53: =D53+E53 -> 202 | D53: 176 | E53: 26 | F53: 1372.8 | G53: =ROUND(F53/D53,2) -> 7.8 | H53: =ROUND(E53*G53*2,2) -> 405.6 | I53: =ROUND(H53*1.2359,2) -> 501.28
A54: vecmāte | B54: 1 | C54: =D54+E54 -> 193.8 | D54: 176 | E54: 17.8 | F54: 1267.2 | G54: =ROUND(F54/D54,2) -> 7.2 | H54: =ROUND(E54*G54*2,2) -> 256.32 | I54: =ROUND(H54*1.2359,2) -> 316.79
... A101: ķirurģiskās aprūpes māsa | B101: 1 | C101: =D101+E101 -> 216 | D101: 176 | E101: 40 | F101: 1232 | G101: =ROUND(F101/D101,2) -> 7 | H101: =ROUND(E101*G101*2,2) -> 560 | I101: =ROUND(H101*1.2359,2) -> 692.1
A102: Ārstniecības un pacientu aprūpes atbalsta personas, māsu palīgi, zobārstu aistenti, kopā, tai skaitā: | B102: =SUM(B103:B150) -> 48 | E102: =SUM(E103:E150) -> 931 | H102: =SUM(H103:H150) -> 9083.82 | I102: =SUM(I103:I150) -> 11226.67
A103: māsas palīgs | B103: 1 | C103: =D103+E103 -> 188 | D103: 176 | E103: 12 | F103: 730.4 | G103: =ROUND(F103/D103,2) -> 4.15 | H103: =ROUND(E103*G103*2,2) -> 99.6 | I103: =ROUND(H103*1.2359,2) -> 123.1
A104: māsas palīgs | B104: 1 | C104: =D104+E104 -> 219 | D104: 176 | E104: 43 | F104: 862.4 | G104: =ROUND(F104/D104,2) -> 4.9 | H104: =ROUND(E104*G104*2,2) -> 421.4 | I104: =ROUND(H104*1.2359,2) -> 520.81
A105: māsas palīgs | B105: 1 | C105: =D105+E105 -> 177 | D105: 176 | E105: 1 | F105: 862.4 | G105: =ROUND(F105/D105,2) -> 4.9 | H105: =ROUND(E105*G105*2,2) -> 9.8 | I105: =ROUND(H105*1.2359,2) -> 12.11
...

Sheet Vidzeme_okt
H1: 1.9.Pielikums
A2: Pārskats par darba veicējiem (ārstniecības personām), virs normālā darba laika nostrādātām stundām, apmaksājamām stundām un izdevumiem, kas radušies saistībā ar mērķi ierobežot Covid-19 izplatību
A4: Iestādes nosaukums: Vidzemes slimnīca SIA
A5: Pārskata periods: Oktobris
B7: Nodarbināto skaits mēnesī | C7: Apmaksājamais laiks mēnesī, stundas (tai skaitā summētā darba laika ietvaros) | F7: Mēnešalga no kuras rēķina stundas likmi | G7: Stundas likme (aprēķināta atbilstoši mēnešalgai vai darba līgumā noteiktā stundas likme) | H7: Apmaksājamā 100% piemaksa par nostrādātām virsstundām virs normālā darba laika (tai skaitā summētā darba laika ietvaros) | I7: Izdevumi par virsstundām kopā ar VSOAI, EUR
C8: Kopā | D8: līdz normālam darba laikam | E8: virsstundas - virs normālā darba laika, kas saistītas ar darbu ar Covid-19
A10: 1 | B10: 2 | C10: 3=4+5 | D10: 4 | E10: 5 | F10: 6 | G10: 7 | H10: 8 | I10: 9=8 +VSOAI
A11: KOPĀ | B11: =B12+B38+B108 -> 145 | E11: =E12+E38+E108 -> 4069.7 | H11: =H12+H38+H108 -> 55101.42 | I11: =I12+I38+I108 -> 68074.37
A12: Ārsti, zobārsti un funkcionālie speciālisti, kopā, tai skaitā: | B12: =SUM(B13:B37) -> 25 | E12: =SUM(E13:E37) -> 866 | H12: =SUM(H13:H37) -> 16858.1 | I12: =SUM(I13:I37) -> 20834.93
A13: pediatrs | B13: 1 | C13: =D13+E13 -> 194 | D13: 168 | E13: 26 | F13: 1528.8 | G13: =ROUND(F13/D13,2) -> 9.1 | H13: =ROUND(E13*G13*2,2) -> 473.2 | I13: =ROUND(H13*1.2359,2) -> 584.83
A14: pediatrs | B14: 1 | C14: =D14+E14 -> 192 | D14: 168 | E14: 24 | F14: 1528.8 | G14: =ROUND(F14/D14,2) -> 9.1 | H14: =ROUND(E14*G14*2,2) -> 436.8 | I14: =ROUND(H14*1.2359,2) -> 539.84
A15: ginekologs, dzemdību speciālists | B15: 1 | C15: =D15+E15 -> 189 | D15: 168 | E15: 21 | F15: 1528.8 | G15: =ROUND(F15/D15,2) -> 9.1 | H15: =ROUND(E15*G15*2,2) -> 382.2 | I15: =ROUND(H15*1.2359,2) -> 472.36
A16: internists | B16: 1 | C16: =D16+E16 -> 208 | D16: 168 | E16: 40 | F16: 1528.8 | G16: =ROUND(F16/D16,2) -> 9.1 | H16: =ROUND(E16*G16*2,2) -> 728 | I16: =ROUND(H16*1.2359,2) -> 899.74
A17: anesteziologs, reanimatologs | B17: 1 | C17: =D17+E17 -> 221 | D17: 168 | E17: 53 | F17: 1528.8 | G17: =ROUND(F17/D17,2) -> 9.1 | H17: =ROUND(E17*G17*2,2) -> 964.6 | I17: =ROUND(H17*1.2359,2) -> 1192.15
A18: anesteziologs, reanimatologs | B18: 1 | C18: =D18+E18 -> 211 | D18: 168 | E18: 43 | F18: 1528.8 | G18: =ROUND(F18/D18,2) -> 9.1 | H18: =ROUND(E18*G18*2,2) -> 782.6 | I18: =ROUND(H18*1.2359,2) -> 967.22
A19: anesteziologs, reanimatologs | B19: 1 | C19: =D19+E19 -> 202 | D19: 168 | E19: 34 | F19: 1528.8 | G19: =ROUND(F19/D19,2) -> 9.1 | H19: =ROUND(E19*G19*2,2) -> 618.8 | I19: =ROUND(H19*1.2359,2) -> 764.77
A20: traumatologs, ortopēds | B20: 1 | C20: =D20+E20 -> 229 | D20: 168 | E20: 61 | F20: 1528.8 | G20: =ROUND(F20/D20,2) -> 9.1 | H20: =ROUND(E20*G20*2,2) -> 1110.2 | I20: =ROUND(H20*1.2359,2) -> 1372.1
A21: traumatologs, ortopēds | B21: 1 | C21: =D21+E21 -> 229 | D21: 168 | E21: 61 | F21: 1528.8 | G21: =ROUND(F21/D21,2) -> 9.1 | H21: =ROUND(E21*G21*2,2) -> 1110.2 | I21: =ROUND(H21*1.2359,2) -> 1372.1
A22: fizioterapeits | B22: 1 | C22: =D22+E22 -> 176 | D22: 168 | E22: 8 | F22: 1092 | G22: =ROUND(F22/D22,2) -> 6.5 | H22: =ROUND(E22*G22*2,2) -> 104 | I22: =ROUND(H22*1.2359,2) -> 128.53
A23: pediatrs | B23: 1 | C23: =D23+E23 -> 180 | D23: 168 | E23: 12 | F23: 1722 | G23: =ROUND(F23/D23,2) -> 10.25 | H23: =ROUND(E23*G23*2,2) -> 246 | I23: =ROUND(H23*1.2359,2) -> 304.03
A24: ginekologs, dzemdību speciālists | B24: 1 | C24: =D24+E24 -> 176 | D24: 168 | E24: 8 | F24: 1722 | G24: =ROUND(F24/D24,2) -> 10.25 | H24: =ROUND(E24*G24*2,2) -> 164 | I24: =ROUND(H24*1.2359,2) -> 202.69
... A37: traumatologs, ortopēds | B37: 1 | C37: =D37+E37 -> 192 | D37: 168 | E37: 24 | F37: 1722 | G37: =ROUND(F37/D37,2) -> 10.25 | H37: =ROUND(E37*G37*2,2) -> 492 | I37: =ROUND(H37*1.2359,2) -> 608.06
A38: Ārstniecības un pacientu aprūpes personas un funkcionālo speciālistu asistenti, kopā, tai skaitā: | B38: =SUM(B39:B107) -> 69 | C38: =SUM(C39:C107) -> 13427.7 | D38: =SUM(D39:D107) -> 11592 | E38: =SUM(E39:E107) -> 1835.7 | F38: =SUM(F39:F107) -> 79104.48 | H38: =SUM(H39:H107) -> 24887.92 | I38: =SUM(I39:I107) -> 30739.03
A39: medicīnas asistents | B39: 1 | C39: =D39+E39 -> 169 | D39: 168 | E39: 1 | F39: 957.6 | G39: =ROUND(F39/D39,2) -> 5.7 | H39: =ROUND(E39*G39*2,2) -> 11.4 | I39: =ROUND(H39*1.2359,2) -> 14.09
A40: medicīnas asistents | B40: 1 | C40: =D40+E40 -> 200 | D40: 168 | E40: 32 | F40: 957.6 | G40: =ROUND(F40/D40,2) -> 5.7 | H40: =ROUND(E40*G40*2,2) -> 364.8 | I40: =ROUND(H40*1.2359,2) -> 450.86
A41: intensīvās terapijas un anestēzijas māsa | B41: 1 | C41: =D41+E41 -> 180 | D41: 168 | E41: 12 | F41: 957.6 | G41: =ROUND(F41/D41,2) -> 5.7 | H41: =ROUND(E41*G41*2,2) -> 136.8 | I41: =ROUND(H41*1.2359,2) -> 169.07
A42: hemodialīzes un nieru transplantācijas māsa | B42: 1 | C42: =D42+E42 -> 200 | D42: 168 | E42: 32 | F42: 957.6 | G42: =ROUND(F42/D42,2) -> 5.7 | H42: =ROUND(E42*G42*2,2) -> 364.8 | I42: =ROUND(H42*1.2359,2) -> 450.86
