Workbook

Sheet VP aug
D1: 2.pielikums
D2: Ministru kabineta rīkojuma projekta “Par apropriācijas pārdali no budžeta resora
D3: “74. Gadskārtējā valsts budžeta izpildes procesā pārdalāmais finansējums”
D4: programmas 22.00.00 “Valsts ārējās robežas drošības pasākumu nodrošināšana””
D5: sākotnējās ietekmes novērtējuma ziņojumam (anotācijai)
A7: Valsts policijas izdevumi
A8: Kopasavilkums
A10: Kods | B10: Koda nosaukums | C10: Detalizēts izdevumu aprēķins | D10: Izdevumi, euro
A11: Izdevumi kopā ar vidējās izpeļņas pieauguma kompensēšanu | D11: =D12+D15+D16 -> 1268414
A12: 1000 | B12: Atlīdzība | C12: × | D12: =D19+D46 -> 1116246
A13: 1100 | B13: Atalgojums | C13: × | D13: =D47+D22 -> 903244.24
A14: 1210 | B14: Darba devēja valsts sociālās apdrošināšanas obligātās iemaksas | C14: × | D14: =D49+D29 -> 213001.89
A15: 2000 | B15: Preces un pakalpojumi | C15: × | D15: =D50+D30 -> 24240
A16: 5000 | B16: Pamatkapitāla veidošana | D16: =D42 -> 127928
A18: 1) Izdevumi saistībā ar 12.03.2024 MK rīkojuma Nr. 184 izpildei nepieciešamo pasākumu īstenošanu | D18: =D19+D30+D42 -> 1182575
A19: 1000 | B19: Atlīdzība | C19: × | D19: =ROUNDUP(D21+D20,0) -> 1030407
C20: Korekcija*
C21: × | D21: =D22+D29 -> 1030406.8
A22: 1100 | B22: Atalgojums | C22: × | D22: =SUM(D23:D28) -> 833789.24
A23: 1116 | B23: Mēnešalga amatpersonām ar speciālajām dienesta pakāpēm
A24: 1141 | B24: Piemaksa par nakts darbu | C24: Detalizēts aprēķins par laika periodu no 2024.gada 01. augusta līdz 31. augustam 1.tabulā. Iesaistītas 257 personas, kopējais iesaistes laiks 3 435 stundas. | D24: ='1.tabula'!G6 -> 16174.57
A25: 1142 | B25: Samaksa par virsstundu darbu un darbu svētku dienās | C25: Piemaksa par virsstundu darbu Detalizēts aprēķins par laika periodu no 2024.gada 01. maija līdz 31. augustam 2.tabulā. Iesaistītas 489 personas, kopējais iesaistes laiks 41 905,75 stundas. | D25: =' 2.tabula'!G6 -> 797513.25
C26: 2) Piemaksa par darbu svētku dienās (_______) Detalizēts aprēķins par laika periodu no no 2024.gada 01. augusta līdz 31. augustam___.tabulā. Iesaistītas ___ personas, kopējais iesaistes laiks ____ stundas.
A27: 1145 | B27: Piemaksa par darbu īpašos apstākļos, speciālās piemaksas | C27: Detalizēts aprēķins par laika periodu no no 2024.gada 01. augusta līdz 31. augustam 3.tabulā. Iesaistītas 415 personas, kopējais iesaistes laiks 10 165 stundas. | D27: ='3.tabula'!H7 -> 20101.42
A29: 1210 | B29: Darba devēja valsts sociālās apdrošināšanas obligātās iemaksas | C29: 23,59% no aprēķinātā atalgojuma * izņemot 3 personas, kurām tiek piemērota nodokļu likme 21,94% (izdienas pensionārs) | D29: ='1.tabula'!H6+' 2.tabula'!H6+'3.tabula'!I7 -> 196617.54
A30: 2000 | B30: Preces un pakalpojumi | C30: × | D30: =ROUNDUP((D31+D32),0) -> 24240
C31: Korekcija*
C32: × | D32: =SUM(D33:D41) -> 24239.03
A33: 2111 | B33: Dienas nauda | C33: Detalizēts aprēķins 5. tabulā. Dienas nauda par periodu no 2024.gada 17. jūlija līdz 8. augustam ir izmaksāta 10 personām. Valsts policijas pavēle Nr. 3874 no 10.07.2024 "Par komandējumiem uz Daugavpili un Dagdu (Latvijā)" dienas nauda: 100% (8,00 euro) pirmā un pēdējā diena, 30% (2,40 euro) pārējās dienas *Valsts policija iekšzemes komandējumiem nemaksā dienas naudu avansā, bet gan izmaksā tad, kad no komandējuma amatpersonas ir atgriezušās. Komandējuma laika ietvars saskaņā ar Valsts policijas pavēli par komandējumu, ir tāds, ka uz mēnesi tiek sūtīta komandējumā viena amatpersonu grupa, pēc tam – uz mēnesi tika nosūtīta cita amatpersonu grupa. | D33: ='5.tabula'!G6 -> 664
A34: 2112 | B34: Pārējie komandējumu un darba braucienu izdevumi | C34: Dienesta viesnīcas pakalpojumi Daugavpilī: 16 nakts x 12 gultasvietas x 15,00 euro = 2 880,00 euro; 15 nakts x 10 gultasvietas × 15,00 euro = 2 250,00 euro. Aprēķins veikts par dienesta viesnīcas pakalpojumiem (naktsmītni), kas tika nodrošināti no 2024.gada 01. jūlija līdz 31. jūlijam, izdevumi pakalpojuma sniedzējam tika apmaksāti 2024.gada augustā. | D34: =ROUND(16*12*15+15*10*15,2) -> 5130
A35: 2271 | B35: Izdevumi, kas saistīti ar operatīvo darbību | C35: Izdevumi, kas saistīti ar operatīvo darbību _____________________
A36: 2312 | B36: Inventārs
A37: 2322 | B37: Degviela | C37: Detalizēts aprēķins par laika periodu no 2024.gada 01. augusta līdz 31. augustam 4.tabulā. Pasākuma nodrošināšanai tika iesaistīti 71 transportlīdzekļis; Vidēji viena transportlīdzekļa nobraukums 1089,38 km; Vidējā degvielas cena 1,4201 euro/l; Vidējais degvielas patēriņš 7,195 l/km uz 100 km. 71 t-ldz. x 1089,38 km x 1,4201 euro/l x 7,195 l/km ÷ 100 km = 7 902,97 euro | D37: ='4.tabula'!F6 -> 7902.97
A38: 2350 | B38: Kārtējā remonta un iestāžu uzturēšanas materiāli | C38: Pret odu / ērču līdzeklis 150 ml / 55 gab. x 4,66 euro = 256,30 euro | D38: =ROUND(55*4.66,2) -> 256.3
A39: 2363 | B39: Ēdināšanas izdevumi | C39: Aprēķins veikts par ēdināšanas pakalpojumiem, kas tika nodrošināti no 2024.gada 01. jūlija līdz 31. jūlijam, izdevumi pakalpojuma sniedzējam tika apmaksāti 2024.gada augustā. Ēdināšanas pakalpojumi Daugavpilī: brokastis 221 porcijas × 8,00 euro = 1 768,00 euro; pusdienas 228 porcijas × 9,00 euro = 2 052,00 euro; vakariņas 228 porcijas × 10,00 euro = 2 280,00 euro; launags (sausā uztura paka) 114 pakas × 27,00 euro =3 078,00 euro. Saskaņā ar līgumu par izmitināšanu un ēdināšanu Daugavpilī ir noteikts, ka ēdināšana 3 reizes dienā nedrīkst pārsniegt 27,00 euro: Ēdināšanas izmaksas sastāda: Brokastis 8 euro /1 pers Pusdienas 9 euro /1 pers Vakariņas 10 euro /1 pers Amatpersonām, kuras ir maiņā uz robežas un tām nav iespējams atgriezties uz pusdienām un vakariņām, tad, lai nodrošinātu ēdināšanu amatpersonām dod līdzi pārtikas pakas: sausie produkti uz 24 stundām - 27 euro /1 pers. sausie produkti (vakariņaas un brokastis) - 18 euro /1 pers. Pārtikas pakas tiek dotas arī Latgales reģiona pārvaldes amatpersonām, kuras arī tiek norīkotas uz robežu, augstākminēto iemeslu dēļ, komandējama izdevumi un dienas nauda viņām nav. Papildus jāatzīmē, ka dienas nauda dienās, kad nodrošināta 3 reižu ēdināšana sastāda 30% no Ministru kabineta noteikumos par komandējumu paredzētā limita. | D39: =ROUND(221*8+228*9+228*10+114*27,2) -> 9178
A40: 2389 | B40: Pārējie specifiskas lietošanas materiāli un inventārs | C40: Pamatojoties uz 12.03.2024 MK Rīkojuma Nr.184 (anotācija 24-TA-589), pasākuma izpildei tika iegādāti nakts redzamības ierīces okulāru aizsargfiltri: 10 gab. x 77,38 euro = 773,80 euro | D40: =ROUND(10*77.38,2) -> 773.8
A41: 2390 | B41: Pārējās preces | C41: Negazēts dzeramais ūdens 5 L / 400 gab. x 0,8349 euro = 333,96 euro | D41: =ROUND(400*0.8349,2) -> 333.96
A42: 5000 | B42: Pamatkapitāla veidošana | D42: =ROUNDUP(SUM(D43),0) -> 127928
A43: 5239 | B43: Pārējie iepriekš neklasificētie pamatlīdzekļi un ieguldījuma īpašumi | C43: Pamatojoties uz 12.03.2024 MK Rīkojuma Nr.184 (anotācija 24-TA-589), pasākuma izpildei tika iegādātas infrasarkanās binokulārās nakts redzamības ierīces: 10 gab. x 12 792,785 euro = 127 927,85 euro. | D43: =ROUND(10*12792.785,2) -> 127927.85
A45: 2) Vidējās izpeļņas pieauguma kompensēšanai | D45: =D46+D50 -> 85839
...

Sheet 1.tabula
I1: 1.tabula
A2: Valsts policija
A3: Piemaksa par nakts darbu amatpersonām ar speciālajām dienesta pakāpēm, kuras laika periodā no 2024.gada 01. augusta līdz 31. augustam tika iesaistītas atbalsta sniegšanā Valsts robežsardzei Latvijas Republikas-Baltkrievijas Republikas valsts robežas robežuzraudzības nodrošināšanā
E4: 166.92
A5: Nr. p.k. | B5: Struktūrvienība | C5: Amats | D5: Mēnešalga amatpersonām ar speciālajām pakāpēm | E5: Stundas likme | F5: Stundu skaits | G5: Piemaksa par nakts darbu | H5: DD VSAOI | I5: Atlīdzība
A6: kopā | F6: =SUM(F7:F263) -> 3435 | G6: =SUM(G7:G263) -> 16174.57 | H6: =SUM(H7:H263) -> 3810.64 | I6: =SUM(I7:I263) -> 19985.21
A7: 1 | B7: VP GKĀRTPP RKVP SPECIĀLO UZDEVUMU BATALJONA (BIROJA) 4.TAKTISKĀ NODAĻA | C7: inspektors | D7: 1816 | E7: =ROUND(D7/$E$4,3) -> 10.879 | F7: 16 | G7: 87.03 | H7: =ROUND(G7*0.2359,2) -> 20.53 | I7: =G7+H7 -> 107.56
A8: =A7+1 -> 2 | B8: VP GKĀRTPP RKVP SPECIĀLO UZDEVUMU BATALJONA (BIROJA) 4.TAKTISKĀ NODAĻA | C8: inspektors | D8: 1805 | E8: =ROUND(D8/$E$4,3) -> 10.814 | F8: 16 | G8: 86.51 | H8: =ROUND(G8*0.2359,2) -> 20.41 | I8: =G8+H8 -> 106.92
A9: =A8+1 -> 3 | B9: VP GKĀRTPP RKVP SPECIĀLO UZDEVUMU BATALJONA (BIROJA) 4.TAKTISKĀ NODAĻA | C9: inspektors | D9: 1816 | E9: =ROUND(D9/$E$4,3) -> 10.879 | F9: 22 | G9: 119.67 | H9: =ROUND(G9*0.2359,2) -> 28.23 | I9: =G9+H9 -> 147.9
A10: =A9+1 -> 4 | B10: VP GKĀRTPP RKVP SPECIĀLO UZDEVUMU BATALJONA (BIROJA) 4.TAKTISKĀ NODAĻA | C10: inspektors | D10: 1796 | E10: =ROUND(D10/$E$4,3) -> 10.76 | F10: 16 | G10: 86.08 | H10: =ROUND(G10*0.2359,2) -> 20.31 | I10: =G10+H10 -> 106.39
A11: =A10+1 -> 5 | B11: VP GKĀRTPP RKVP SPECIĀLO UZDEVUMU BATALJONA (BIROJA) 4.TAKTISKĀ NODAĻA | C11: inspektors | D11: 1765 | E11: =ROUND(D11/$E$4,3) -> 10.574 | F11: 22 | G11: 116.31 | H11: =ROUND(G11*0.2359,2) -> 27.44 | I11: =G11+H11 -> 143.75
A12: =A11+1 -> 6 | B12: VP GKĀRTPP RKVP SPECIĀLO UZDEVUMU BATALJONA (BIROJA) 4.TAKTISKĀ NODAĻA | C12: inspektors | D12: 1836 | E12: =ROUND(D12/$E$4,3) -> 10.999 | F12: 22 | G12: 120.99 | H12: =ROUND(G12*0.2359,2) -> 28.54 | I12: =G12+H12 -> 149.53
A13: =A12+1 -> 7 | B13: VP GKĀRTPP RKVP SPECIĀLO UZDEVUMU BATALJONA (BIROJA) 4.TAKTISKĀ NODAĻA | C13: inspektors | D13: 1745 | E13: =ROUND(D13/$E$4,3) -> 10.454 | F13: 6 | G13: 31.36 | H13: =ROUND(G13*0.2359,2) -> 7.4 | I13: =G13+H13 -> 38.76
A14: =A13+1 -> 8 | B14: VP GKĀRTPP RKVP SPECIĀLO UZDEVUMU BATALJONA (BIROJA) 4.TAKTISKĀ NODAĻA | C14: inspektors | D14: 1765 | E14: =ROUND(D14/$E$4,3) -> 10.574 | F14: 16 | G14: 84.59 | H14: =ROUND(G14*0.2359,2) -> 19.95 | I14: =G14+H14 -> 104.54
A15: =A14+1 -> 9 | B15: VP GKĀRTPP RKVP SPECIĀLO UZDEVUMU BATALJONA (BIROJA) 4.TAKTISKĀ NODAĻA | C15: inspektors | D15: 1776 | E15: =ROUND(D15/$E$4,3) -> 10.64 | F15: 16 | G15: 85.12 | H15: =ROUND(G15*0.2359,2) -> 20.08 | I15: =G15+H15 -> 105.2
A16: =A15+1 -> 10 | B16: VP GKĀRTPP RKVP SPECIĀLO UZDEVUMU BATALJONA (BIROJA) 4.TAKTISKĀ NODAĻA | C16: inspektors | D16: 1745 | E16: =ROUND(D16/$E$4,3) -> 10.454 | F16: 16 | G16: 83.63 | H16: =ROUND(G16*0.2359,2) -> 19.73 | I16: =G16+H16 -> 103.36
A17: =A16+1 -> 11 | B17: VP GKĀRTPP RKVP SPECIĀLO UZDEVUMU BATALJONA (BIROJA) 4.TAKTISKĀ NODAĻA | C17: inspektors | D17: 1805 | E17: =ROUND(D17/$E$4,3) -> 10.814 | F17: 16 | G17: 86.51 | H17: =ROUND(G17*0.2194,2) -> 18.98 | I17: =G17+H17 -> 105.49 | J17: ***
A18: =A17+1 -> 12 | B18: VP GKĀRTPP RKVP SPECIĀLO UZDEVUMU BATALJONA (BIROJA) 4.TAKTISKĀ NODAĻA | C18: inspektors | D18: 1745 | E18: =ROUND(D18/$E$4,3) -> 10.454 | F18: 16 | G18: 83.63 | H18: =ROUND(G18*0.2359,2) -> 19.73 | I18: =G18+H18 -> 103.36
A19: =A18+1 -> 13 | B19: VP GKĀRTPP RKVP SPECIĀLO UZDEVUMU BATALJONA (BIROJA) 4.TAKTISKĀ NODAĻA | C19: inspektors | D19: 1725 | E19: =ROUND(D19/$E$4,3) -> 10.334 | F19: 16 | G19: 82.67 | H19: =ROUND(G19*0.2359,2) -> 19.5 | I19: =G19+H19 -> 102.17
A20: =A19+1 -> 14 | B20: VP GKĀRTPP RKVP SPECIĀLO UZDEVUMU BATALJONA (BIROJA) 5.TAKTISKĀ NODAĻA | C20: inspektors | D20: 1816 | E20: =ROUND(D20/$E$4,3) -> 10.879 | F20: 2 | G20: 10.88 | H20: =ROUND(G20*0.2359,2) -> 2.57 | I20: =G20+H20 -> 13.45
A21: =A20+1 -> 15 | B21: VP GKĀRTPP RKVP SPECIĀLO UZDEVUMU BATALJONA (BIROJA) 5.TAKTISKĀ NODAĻA | C21: inspektors | D21: 1981 | E21: =ROUND(D21/$E$4,3) -> 11.868 | F21: 8 | G21: 47.47 | H21: =ROUND(G21*0.2359,2) -> 11.2 | I21: =G21+H21 -> 58.67
A22: =A21+1 -> 16 | B22: VP GKĀRTPP RKVP SPECIĀLO UZDEVUMU BATALJONA (BIROJA) 5.TAKTISKĀ NODAĻA | C22: jaunākais inspektors | D22: 1675 | E22: =ROUND(D22/$E$4,3) -> 10.035 | F22: 8 | G22: 40.14 | H22: =ROUND(G22*0.2359,2) -> 9.47 | I22: =G22+H22 -> 49.61
A23: =A22+1 -> 17 | B23: VP GKĀRTPP RKVP SPECIĀLO UZDEVUMU BATALJONA (BIROJA) 5.TAKTISKĀ NODAĻA | C23: nodaļas priekšnieks | D23: 2356 | E23: =ROUND(D23/$E$4,3) -> 14.115 | F23: 8 | G23: 56.46 | H23: =ROUND(G23*0.2359,2) -> 13.32 | I23: =G23+H23 -> 69.78
A24: =A23+1 -> 18 | B24: VP GKĀRTPP RKVP SPECIĀLO UZDEVUMU BATALJONA (BIROJA) 5.TAKTISKĀ NODAĻA | C24: jaunākais inspektors | D24: 1695 | E24: =ROUND(D24/$E$4,3) -> 10.155 | F24: 2 | G24: 10.16 | H24: =ROUND(G24*0.2359,2) -> 2.4 | I24: =G24+H24 -> 12.56
A25: =A24+1 -> 19 | B25: VP GKĀRTPP RKVP SPECIĀLO UZDEVUMU BATALJONA (BIROJA) 5.TAKTISKĀ NODAĻA | C25: jaunākais inspektors | D25: 1695 | E25: =ROUND(D25/$E$4,3) -> 10.155 | F25: 2 | G25: 10.16 | H25: =ROUND(G25*0.2359,2) -> 2.4 | I25: =G25+H25 -> 12.56
A26: =A25+1 -> 20 | B26: VP GKĀRTPP RKVP SPECIĀLO UZDEVUMU BATALJONA (BIROJA) 5.TAKTISKĀ NODAĻA | C26: jaunākais inspektors | D26: 1655 | E26: =ROUND(D26/$E$4,3) -> 9.915 | F26: 8 | G26: 39.66 | H26: =ROUND(G26*0.2359,2) -> 9.36 | I26: =G26+H26 -> 49.02
A27: =A26+1 -> 21 | B27: VP GKĀRTPP RKVP SPECIĀLO UZDEVUMU BATALJONA (BIROJA) 5.TAKTISKĀ NODAĻA | C27: jaunākais inspektors | D27: 1655 | E27: =ROUND(D27/$E$4,3) -> 9.915 | F27: 8 | G27: 39.66 | H27: =ROUND(G27*0.2359,2) -> 9.36 | I27: =G27+H27 -> 49.02
A28: =A27+1 -> 22 | B28: VP GKĀRTPP RKVP SPECIĀLO UZDEVUMU BATALJONA (BIROJA) 5.TAKTISKĀ NODAĻA | C28: jaunākais inspektors | D28: 1655 | E28: =ROUND(D28/$E$4,3) -> 9.915 | F28: 8 | G28: 39.66 | H28: =ROUND(G28*0.2359,2) -> 9.36 | I28: =G28+H28 -> 49.02
A29: =A28+1 -> 23 | B29: VP GKĀRTPP RKVP SPECIĀLO UZDEVUMU BATALJONA (BIROJA) 5.TAKTISKĀ NODAĻA | C29: inspektors | D29: 1785 | E29: =ROUND(D29/$E$4,3) -> 10.694 | F29: 8 | G29: 42.78 | H29: =ROUND(G29*0.2359,2) -> 10.09 | I29: =G29+H29 -> 52.87
... A49: =A48+1 -> 43 | B49: VP GKĀRTPP RKVP SPECIĀLO UZDEVUMU BATALJONA 4.ROTA (LATGALES REĢIONA) | C49: jaunākais inspektors | D49: 1410 | E49: =ROUND(D49/$E$4,3) -> 8.447 | F49: 40 | G49: 168.94 | H49: =ROUND(G49*0.2359,2) -> 39.85 | I49: =G49+H49 -> 208.79
A50: =A49+1 -> 44 | B50: VP GKĀRTPP RKVP SPECIĀLO UZDEVUMU BATALJONA 4.ROTA (LATGALES REĢIONA) | C50: jaunākais inspektors | D50: 1470 | E50: =ROUND(D50/$E$4,3) -> 8.807 | F50: 40 | G50: 176.14 | H50: =ROUND(G50*0.2194,2) -> 38.65 | I50: =G50+H50 -> 214.79 | J50: ***
A51: =A50+1 -> 45 | B51: VP GKĀRTPP RKVP SPECIĀLO UZDEVUMU BATALJONA 4.ROTA (LATGALES REĢIONA) | C51: jaunākais inspektors | D51: 1410 | E51: =ROUND(D51/$E$4,3) -> 8.447 | F51: 40 | G51: 168.94 | H51: =ROUND(G51*0.2359,2) -> 39.85 | I51: =G51+H51 -> 208.79
A52: =A51+1 -> 46 | B52: VP GKĀRTPP RKVP SPECIĀLO UZDEVUMU BATALJONA 4.ROTA (LATGALES REĢIONA) | C52: jaunākais inspektors | D52: 1390 | E52: =ROUND(D52/$E$4,3) -> 8.327 | F52: 40 | G52: 166.54 | H52: =ROUND(G52*0.2359,2) -> 39.29 | I52: =G52+H52 -> 205.83
A53: =A52+1 -> 47 | B53: VP LATGALES REĢIONA PĀRVALDES DISCIPLINĀRĀS UZRAUDZĪBAS GRUPA | C53: galvenais inspektors | D53: 1692 | E53: =ROUND(D53/$E$4,3) -> 10.137 | F53: 8 | G53: 40.55 | H53: =ROUND(G53*0.2359,2) -> 9.57 | I53: =G53+H53 -> 50.12
A54: =A53+1 -> 48 | B54: VP LATGALES REĢIONA PĀRVALDES DISCIPLINĀRĀS UZRAUDZĪBAS GRUPA | C54: vecākais inspektors | D54: 1640 | E54: =ROUND(D54/$E$4,3) -> 9.825 | F54: 24 | G54: 117.9 | H54: =ROUND(G54*0.2359,2) -> 27.81 | I54: =G54+H54 -> 145.71
A55: =A54+1 -> 49 | B55: VP LATGALES REĢIONA PĀRVALDES DISCIPLINĀRĀS UZRAUDZĪBAS GRUPA | C55: vecākais inspektors | D55: 1571 | E55: =ROUND(D55/$E$4,3) -> 9.412 | F55: 24 | G55: 112.94 | H55: =ROUND(G55*0.2359,2) -> 26.64 | I55: =G55+H55 -> 139.58
A56: =A55+1 -> 50 | B56: VP LATGALES RP DIENVIDLATGALES IECIRKNIS | C56: iecirkņa priekšnieka vietnieks, Izmeklēšanas nodaļas priekšnieks | D56: 2305 | E56: =ROUND(D56/$E$4,3) -> 13.809 | F56: 8 | G56: 55.24 | H56: =ROUND(G56*0.2359,2) -> 13.03 | I56: =G56+H56 -> 68.27
A57: =A56+1 -> 51 | B57: VP LATGALES RP DIENVIDLATGALES IECIRKNIS | C57: iecirkņa priekšnieka vietnieks, Reaģēšanas nodaļas priekšnieks | D57: 2264 | E57: =ROUND(D57/$E$4,3) -> 13.563 | F57: 8 | G57: 54.25 | H57: =ROUND(G57*0.2359,2) -> 12.8 | I57: =G57+H57 -> 67.05
A58: =A57+1 -> 52 | B58: VP LATGALES RP DIENVIDLATGALES IECIRKNIS | C58: iecirkņa priekšnieks | D58: 2483 | E58: =ROUND(D58/$E$4,3) -> 14.875 | F58: 32 | G58: 238 | H58: =ROUND(G58*0.2359,2) -> 56.14 | I58: =G58+H58 -> 294.14
A59: =A58+1 -> 53 | B59: VP LATGALES RP DIENVIDLATGALES IECIRKŅA IZMEKLĒŠANAS NODAĻAS 1.GRUPA | C59: inspektors | D59: 1561 | E59: =ROUND(D59/$E$4,3) -> 9.352 | F59: 16 | G59: 74.82 | H59: =ROUND(G59*0.2359,2) -> 17.65 | I59: =G59+H59 -> 92.47
...

Sheet  2.tabula
I1: 2.tabula
A2: Valsts policija
A3: Detalizēts aprēķins samaksai par virsstundu darbu amatpersonām ar speciālo dienesta pakāpi, sniedzot atbalstu Valsts robežsardzei Latvijas Republikas-Baltkrievijas Republikas valsts robežas robežuzraudzības nodrošināšanā, par laika periodu no 2024.gada 01. maija līdz 31. augustam
E4: 166.92
A5: Nr. p.k. | B5: Struktūrvienība | C5: Amats | D5: Mēnešalga amatpersonām ar speciālajām pakāpēm | E5: Stundas likme | F5: Stundu skaits | G5: Samaksa par virsstundu darbu | H5: DD VSAOI | I5: Atlīdzība
A6: kopā | F6: =SUM(F7:F495) -> 41905.75 | G6: =SUM(G7:G495) -> 797513.25 | H6: =SUM(H7:H495) -> 188072 | I6: =SUM(I7:I495) -> 985585.25
A7: 1 | B7: VP GKĀRTPP RKVP KINOLOĢIJAS NODAĻA | C7: inspektors | D7: 1428 | E7: =ROUND(D7/$E$4,3) -> 8.555 | F7: 62 | G7: 1060.82 | H7: =ROUND(G7*0.2359,2) -> 250.25 | I7: =G7+H7 -> 1311.07
A8: =A7+1 -> 2 | B8: VP GKĀRTPP RKVP SPECIĀLO UZDEVUMU BATALJONA (BIROJA) 1.TAKTISKĀ NODAĻA | C8: jaunākais inspektors | D8: 1965 | E8: =ROUND(D8/$E$4,3) -> 11.772 | F8: 133 | G8: 3131.35 | H8: =ROUND(G8*0.2359,2)-0.01 -> 738.68 | I8: =G8+H8 -> 3870.03
A9: =A8+1 -> 3 | B9: VP GKĀRTPP RKVP SPECIĀLO UZDEVUMU BATALJONA (BIROJA) 1.TAKTISKĀ NODAĻA | C9: nodaļas priekšnieka vietnieks | D9: 2257 | E9: =ROUND(D9/$E$4,3) -> 13.521 | F9: 132 | G9: 3569.54 | H9: =ROUND(G9*0.2359,2) -> 842.05 | I9: =G9+H9 -> 4411.59
A10: =A9+1 -> 4 | B10: VP GKĀRTPP RKVP SPECIĀLO UZDEVUMU BATALJONA (BIROJA) 1.TAKTISKĀ NODAĻA | C10: inspektors | D10: 1805 | E10: =ROUND(D10/$E$4,3) -> 10.814 | F10: 132 | G10: 2854.9 | H10: =ROUND(G10*0.2359,2) -> 673.47 | I10: =G10+H10 -> 3528.37
A11: =A10+1 -> 5 | B11: VP GKĀRTPP RKVP SPECIĀLO UZDEVUMU BATALJONA (BIROJA) 1.TAKTISKĀ NODAĻA | C11: inspektors | D11: 1765 | E11: =ROUND(D11/$E$4,3) -> 10.574 | F11: 128 | G11: 2706.94 | H11: =ROUND(G11*0.2359,2) -> 638.57 | I11: =G11+H11 -> 3345.51
A12: =A11+1 -> 6 | B12: VP GKĀRTPP RKVP SPECIĀLO UZDEVUMU BATALJONA (BIROJA) 1.TAKTISKĀ NODAĻA | C12: galvenais inspektors | D12: 2197 | E12: =ROUND(D12/$E$4,3) -> 13.162 | F12: 132 | G12: 3474.77 | H12: =ROUND(G12*0.2359,2) -> 819.7 | I12: =G12+H12 -> 4294.47
A13: =A12+1 -> 7 | B13: VP GKĀRTPP RKVP SPECIĀLO UZDEVUMU BATALJONA (BIROJA) 1.TAKTISKĀ NODAĻA | C13: inspektors | D13: 1827 | E13: =ROUND(D13/$E$4,3) -> 10.945 | F13: 108 | G13: 2364.12 | H13: =ROUND(G13*0.2359,2) -> 557.7 | I13: =G13+H13 -> 2921.82
A14: =A13+1 -> 8 | B14: VP GKĀRTPP RKVP SPECIĀLO UZDEVUMU BATALJONA (BIROJA) 1.TAKTISKĀ NODAĻA | C14: inspektors | D14: 1745 | E14: =ROUND(D14/$E$4,3) -> 10.454 | F14: 132 | G14: 2759.86 | H14: =ROUND(G14*0.2359,2) -> 651.05 | I14: =G14+H14 -> 3410.91
A15: =A14+1 -> 9 | B15: VP GKĀRTPP RKVP SPECIĀLO UZDEVUMU BATALJONA (BIROJA) 1.TAKTISKĀ NODAĻA | C15: inspektors | D15: 1745 | E15: =ROUND(D15/$E$4,3) -> 10.454 | F15: 133 | G15: 2780.76 | H15: =ROUND(G15*0.2359,2) -> 655.98 | I15: =G15+H15 -> 3436.74
A16: =A15+1 -> 10 | B16: VP GKĀRTPP RKVP SPECIĀLO UZDEVUMU BATALJONA (BIROJA) 1.TAKTISKĀ NODAĻA | C16: jaunākais inspektors | D16: 1635 | E16: =ROUND(D16/$E$4,3) -> 9.795 | F16: 78.5 | G16: 1537.82 | H16: =ROUND(G16*0.2359,2) -> 362.77 | I16: =G16+H16 -> 1900.59
A17: =A16+1 -> 11 | B17: VP GKĀRTPP RKVP SPECIĀLO UZDEVUMU BATALJONA (BIROJA) 1.TAKTISKĀ NODAĻA | C17: inspektors | D17: 1745 | E17: =ROUND(D17/$E$4,3) -> 10.454 | F17: 132 | G17: 2759.86 | H17: =ROUND(G17*0.2359,2) -> 651.05 | I17: =G17+H17 -> 3410.91
A18: =A17+1 -> 12 | B18: VP GKĀRTPP RKVP SPECIĀLO UZDEVUMU BATALJONA (BIROJA) 1.TAKTISKĀ NODAĻA | C18: inspektors | D18: 1745 | E18: =ROUND(D18/$E$4,3) -> 10.454 | F18: 101 | G18: 2111.71 | H18: =ROUND(G18*0.2359,2) -> 498.15 | I18: =G18+H18 -> 2609.86
A19: =A18+1 -> 13 | B19: VP GKĀRTPP RKVP SPECIĀLO UZDEVUMU BATALJONA (BIROJA) 1.TAKTISKĀ NODAĻA | C19: inspektors | D19: 1725 | E19: =ROUND(D19/$E$4,3) -> 10.334 | F19: 133 | G19: 2748.84 | H19: =ROUND(G19*0.2359,2) -> 648.45 | I19: =G19+H19 -> 3397.29
A20: =A19+1 -> 14 | B20: VP GKĀRTPP RKVP SPECIĀLO UZDEVUMU BATALJONA (BIROJA) 2.TAKTISKĀ NODAĻA | C20: inspektors | D20: 1836 | E20: =ROUND(D20/$E$4,3) -> 10.999 | F20: 108.5 | G20: 2386.78 | H20: =ROUND(G20*0.2359,2)-0.01 -> 563.03 | I20: =G20+H20 -> 2949.81
A21: =A20+1 -> 15 | B21: VP GKĀRTPP RKVP SPECIĀLO UZDEVUMU BATALJONA (BIROJA) 2.TAKTISKĀ NODAĻA | C21: jaunākais inspektors | D21: 1695 | E21: =ROUND(D21/$E$4,3) -> 10.155 | F21: 132 | G21: 2680.92 | H21: =ROUND(G21*0.2359,2) -> 632.43 | I21: =G21+H21 -> 3313.35
A22: =A21+1 -> 16 | B22: VP GKĀRTPP RKVP SPECIĀLO UZDEVUMU BATALJONA (BIROJA) 2.TAKTISKĀ NODAĻA | C22: jaunākais inspektors | D22: 1695 | E22: =ROUND(D22/$E$4,3) -> 10.155 | F22: 118.5 | G22: 2406.74 | H22: =ROUND(G22*0.2359,2) -> 567.75 | I22: =G22+H22 -> 2974.49
A23: =A22+1 -> 17 | B23: VP GKĀRTPP RKVP SPECIĀLO UZDEVUMU BATALJONA (BIROJA) 2.TAKTISKĀ NODAĻA | C23: nodaļas priekšnieks | D23: 2587 | E23: =ROUND(D23/$E$4,3) -> 15.498 | F23: 153 | G23: 4742.39 | H23: =ROUND(G23*0.2359,2) -> 1118.73 | I23: =G23+H23 -> 5861.12
A24: =A23+1 -> 18 | B24: VP GKĀRTPP RKVP SPECIĀLO UZDEVUMU BATALJONA (BIROJA) 2.TAKTISKĀ NODAĻA | C24: nodaļas priekšnieka vietnieks | D24: 2257 | E24: =ROUND(D24/$E$4,3) -> 13.521 | F24: 132 | G24: 3569.54 | H24: =ROUND(G24*0.2359,2) -> 842.05 | I24: =G24+H24 -> 4411.59
A25: =A24+1 -> 19 | B25: VP GKĀRTPP RKVP SPECIĀLO UZDEVUMU BATALJONA (BIROJA) 2.TAKTISKĀ NODAĻA | C25: jaunākais inspektors | D25: 1695 | E25: =ROUND(D25/$E$4,3) -> 10.155 | F25: 132 | G25: 2680.92 | H25: =ROUND(G25*0.2359,2) -> 632.43 | I25: =G25+H25 -> 3313.35
A26: =A25+1 -> 20 | B26: VP GKĀRTPP RKVP SPECIĀLO UZDEVUMU BATALJONA (BIROJA) 2.TAKTISKĀ NODAĻA | C26: jaunākais inspektors | D26: 1655 | E26: =ROUND(D26/$E$4,3) -> 9.915 | F26: 122 | G26: 2419.26 | H26: =ROUND(G26*0.2359,2) -> 570.7 | I26: =G26+H26 -> 2989.96
A27: =A26+1 -> 21 | B27: VP GKĀRTPP RKVP SPECIĀLO UZDEVUMU BATALJONA (BIROJA) 2.TAKTISKĀ NODAĻA | C27: inspektors | D27: 1745 | E27: =ROUND(D27/$E$4,3) -> 10.454 | F27: 132 | G27: 2759.86 | H27: =ROUND(G27*0.2359,2) -> 651.05 | I27: =G27+H27 -> 3410.91
A28: =A27+1 -> 22 | B28: VP GKĀRTPP RKVP SPECIĀLO UZDEVUMU BATALJONA (BIROJA) 2.TAKTISKĀ NODAĻA | C28: jaunākais inspektors | D28: 1635 | E28: =ROUND(D28/$E$4,3) -> 9.795 | F28: 138.5 | G28: 2713.22 | H28: =ROUND(G28*0.2359,2) -> 640.05 | I28: =G28+H28 -> 3353.27
A29: =A28+1 -> 23 | B29: VP GKĀRTPP RKVP SPECIĀLO UZDEVUMU BATALJONA (BIROJA) 2.TAKTISKĀ NODAĻA | C29: jaunākais inspektors | D29: 1635 | E29: =ROUND(D29/$E$4,3) -> 9.795 | F29: 153 | G29: 2997.27 | H29: =ROUND(G29*0.2359,2) -> 707.06 | I29: =G29+H29 -> 3704.33
A30: =A29+1 -> 24 | B30: VP GKĀRTPP RKVP SPECIĀLO UZDEVUMU BATALJONA (BIROJA) 4.TAKTISKĀ NODAĻA | C30: inspektors | D30: 1816 | E30: =ROUND(D30/$E$4,3) -> 10.879 | F30: 72.5 | G30: 1577.46 | H30: =ROUND(G30*0.2359,2) -> 372.12 | I30: =G30+H30 -> 1949.58
A31: =A30+1 -> 25 | B31: VP GKĀRTPP RKVP SPECIĀLO UZDEVUMU BATALJONA (BIROJA) 4.TAKTISKĀ NODAĻA | C31: inspektors | D31: 1805 | E31: =ROUND(D31/$E$4,3) -> 10.814 | F31: 72.5 | G31: 1568.03 | H31: =ROUND(G31*0.2359,2) -> 369.9 | I31: =G31+H31 -> 1937.93
A32: =A31+1 -> 26 | B32: VP GKĀRTPP RKVP SPECIĀLO UZDEVUMU BATALJONA (BIROJA) 4.TAKTISKĀ NODAĻA | C32: inspektors | D32: 1816 | E32: =ROUND(D32/$E$4,3) -> 10.879 | F32: 83.5 | G32: 1816.79 | H32: =ROUND(G32*0.2359,2) -> 428.58 | I32: =G32+H32 -> 2245.37
... A38: =A37+1 -> 32 | B38: VP GKĀRTPP RKVP SPECIĀLO UZDEVUMU BATALJONA (BIROJA) 4.TAKTISKĀ NODAĻA | C38: inspektors | D38: 1745 | E38: =ROUND(D38/$E$4,3) -> 10.454 | F38: 93 | G38: 1944.44 | H38: =ROUND(G38*0.2359,2) -> 458.69 | I38: =G38+H38 -> 2403.13
A39: =A38+1 -> 33 | B39: VP GKĀRTPP RKVP SPECIĀLO UZDEVUMU BATALJONA (BIROJA) 4.TAKTISKĀ NODAĻA | C39: inspektors | D39: 1805 | E39: =ROUND(D39/$E$4,3) -> 10.814 | F39: 78.5 | G39: 1697.8 | H39: =ROUND(G39*0.2194,2) -> 372.5 | I39: =G39+H39 -> 2070.3 | J39: ***
A40: =A39+1 -> 34 | B40: VP GKĀRTPP RKVP SPECIĀLO UZDEVUMU BATALJONA (BIROJA) 4.TAKTISKĀ NODAĻA | C40: inspektors | D40: 1745 | E40: =ROUND(D40/$E$4,3) -> 10.454 | F40: 69.5 | G40: 1453.11 | H40: =ROUND(G40*0.2359,2) -> 342.79 | I40: =G40+H40 -> 1795.9
A41: =A40+1 -> 35 | B41: VP GKĀRTPP RKVP SPECIĀLO UZDEVUMU BATALJONA (BIROJA) 4.TAKTISKĀ NODAĻA | C41: inspektors | D41: 1725 | E41: =ROUND(D41/$E$4,3) -> 10.334 | F41: 91.5 | G41: 1891.12 | H41: =ROUND(G41*0.2359,2) -> 446.12 | I41: =G41+H41 -> 2337.24
A42: =A41+1 -> 36 | B42: VP GKĀRTPP RKVP SPECIĀLO UZDEVUMU BATALJONA (BIROJA) 5.TAKTISKĀ NODAĻA | C42: inspektors | D42: 1816 | E42: =ROUND(D42/$E$4,3) -> 10.879 | F42: 100.5 | G42: 2186.68 | H42: =ROUND(G42*0.2359,2) -> 515.84 | I42: =G42+H42 -> 2702.52
A43: =A42+1 -> 37 | B43: VP GKĀRTPP RKVP SPECIĀLO UZDEVUMU BATALJONA (BIROJA) 5.TAKTISKĀ NODAĻA | C43: inspektors | D43: 1981 | E43: =ROUND(D43/$E$4,3) -> 11.868 | F43: 147.5 | G43: 3501.06 | H43: =ROUND(G43*0.2359,2) -> 825.9 | I43: =G43+H43 -> 4326.96
A44: =A43+1 -> 38 | B44: VP GKĀRTPP RKVP SPECIĀLO UZDEVUMU BATALJONA (BIROJA) 5.TAKTISKĀ NODAĻA | C44: jaunākais inspektors | D44: 1675 | E44: =ROUND(D44/$E$4,3) -> 10.035 | F44: 146.5 | G44: 2940.26 | H44: =ROUND(G44*0.2359,2) -> 693.61 | I44: =G44+H44 -> 3633.87
A45: =A44+1 -> 39 | B45: VP GKĀRTPP RKVP SPECIĀLO UZDEVUMU BATALJONA (BIROJA) 5.TAKTISKĀ NODAĻA | C45: nodaļas priekšnieks | D45: 2356 | E45: =ROUND(D45/$E$4,3) -> 14.115 | F45: 147.5 | G45: 4163.93 | H45: =ROUND(G45*0.2359,2) -> 982.27 | I45: =G45+H45 -> 5146.2
...

Sheet 3.tabula
J1: 3.tabula
A2: Valsts policija
A3: Piemaksa par darbu īpašos apstākļos amatpersonām ar speciālajām dienesta pakāpēm, kuras laika periodā no 2024.gada 01. augusta līdz 31. augustam tika iesaistītas atbalsta sniegšanā Valsts robežsardzei Latvijas Republikas-Baltkrievijas Republikas valsts robežas robežuzraudzības nodrošināšanā
F4: 166.92
A5: Nr. p.k. | B5: Struktūrvienība | C5: Amats | D5: Mēnešalga amatpersonām ar speciālajām pakāpēm | E5: Piemaksas apmērs % | F5: Stundas likme | G5: Stundu skaits | H5: Piemaksa par darbu īpašos apstākļos | I5: DD VSAOI | J5: Atlīdzība
A7: kopā | G7: =SUM(G8:G422) -> 10165 | H7: =SUM(H8:H422) -> 20101.42 | I7: =SUM(I8:I422) -> 4734.9 | J7: =SUM(J8:J422) -> 24836.32
A8: 1 | B8: VP LATGALES RP ZIEMEĻLATGALES IECIRKNIS | C8: iecirkņa priekšnieka vietnieks, Reaģēšanas nodaļas priekšnieks | D8: 2305 | E8: 0.2 | F8: =ROUND(D8/$F$4,3) -> 13.809 | G8: 12 | H8: 33.14 | I8: =ROUND(H8*23.59%,2) -> 7.82 | J8: =H8+I8 -> 40.96
A9: =A8+1 -> 2 | B9: VP LATGALES RP ZIEMEĻLATGALES IECIRKŅA IZMEKLĒŠANAS NODAĻAS 2.GRUPA | C9: inspektors | D9: 1553 | E9: 0.2 | F9: =ROUND(D9/$F$4,3) -> 9.304 | G9: 48 | H9: 89.32 | I9: =ROUND(H9*23.59%,2)-0.01 -> 21.06 | J9: =H9+I9 -> 110.38
A10: =A9+1 -> 3 | B10: VP LATGALES RP DIENVIDLATGALES IECIRKŅA REAĢĒŠANAS NODAĻAS 3.GRUPA | C10: vecākais inspektors | D10: 1495 | E10: 0.2 | F10: =ROUND(D10/$F$4,3) -> 8.956 | G10: 36 | H10: 64.48 | I10: =ROUND(H10*23.59%,2) -> 15.21 | J10: =H10+I10 -> 79.69
A11: =A10+1 -> 4 | B11: VP LATGALES RP DIENVIDLATGALES IECIRKŅA REAĢĒŠANAS NODAĻAS 7.GRUPA | C11: inspektors | D11: 1425 | E11: 0.2 | F11: =ROUND(D11/$F$4,3) -> 8.537 | G11: 36 | H11: 61.47 | I11: =ROUND(H11*23.59%,2) -> 14.5 | J11: =H11+I11 -> 75.97
A12: =A11+1 -> 5 | B12: VP LATGALES RP DIENVIDLATGALES IECIRKŅA REAĢĒŠANAS NODAĻAS 7.GRUPA | C12: jaunākais inspektors | D12: 1242 | E12: 0.2 | F12: =ROUND(D12/$F$4,3) -> 7.441 | G12: 24 | H12: 35.72 | I12: =ROUND(H12*23.59%,2) -> 8.43 | J12: =H12+I12 -> 44.15
A13: =A12+1 -> 6 | B13: VP LATGALES RP DIENVIDLATGALES IECIRKŅA IZMEKLĒŠANAS NODAĻAS 5.GRUPA | C13: inspektors | D13: 1553 | E13: 0.2 | F13: =ROUND(D13/$F$4,3) -> 9.304 | G13: 22 | H13: 40.94 | I13: =ROUND(H13*23.59%,2) -> 9.66 | J13: =H13+I13 -> 50.6
A14: =A13+1 -> 7 | B14: VP LATGALES RP ZIEMEĻLATGALES IECIRKŅA PREVENCIJAS GRUPA | C14: vecākais inspektors | D14: 1523 | E14: 0.2 | F14: =ROUND(D14/$F$4,3) -> 9.124 | G14: 13 | H14: 23.72 | I14: =ROUND(H14*23.59%,2) -> 5.6 | J14: =H14+I14 -> 29.32
A15: =A14+1 -> 8 | B15: VP LATGALES RP KĀRTPB ATĻAUJU SISTĒMAS GRUPA | C15: inspektors | D15: 1340 | E15: 0.2 | F15: =ROUND(D15/$F$4,3) -> 8.028 | G15: 24 | H15: 38.53 | I15: =ROUND(H15*23.59%,2) -> 9.09 | J15: =H15+I15 -> 47.62
A16: =A15+1 -> 9 | B16: VP LATGALES RP KRIMPB KRIMINĀLIZLŪKOŠANAS INFORMĀCIJAS ANALĪZES GRUPA | C16: vecākais inspektors | D16: 1672 | E16: 0.2 | F16: =ROUND(D16/$F$4,3) -> 10.017 | G16: 12 | H16: 24.04 | I16: =ROUND(H16*23.59%,2)-0.01 -> 5.66 | J16: =H16+I16 -> 29.7
A17: =A16+1 -> 10 | B17: VP LATGALES RP DIENVIDLATGALES IECIRKŅA IZMEKLĒŠANAS NODAĻAS 7.GRUPA | C17: vecākais inspektors | D17: 1495 | E17: 0.2 | F17: =ROUND(D17/$F$4,3) -> 8.956 | G17: 12 | H17: 21.49 | I17: =ROUND(H17*23.59%,2)-0.01 -> 5.06 | J17: =H17+I17 -> 26.55
A18: =A17+1 -> 11 | B18: VP LATGALES RP ZIEMEĻLATGALES IECIRKŅA REAĢĒŠANAS NODAĻAS 10.GRUPA | C18: galvenais inspektors | D18: 1680 | E18: 0.2 | F18: =ROUND(D18/$F$4,3) -> 10.065 | G18: 24 | H18: 48.31 | I18: =ROUND(H18*23.59%,2) -> 11.4 | J18: =H18+I18 -> 59.71
A19: =A18+1 -> 12 | B19: VP LATGALES RP DIENVIDLATGALES IECIRKŅA REAĢĒŠANAS NODAĻAS 6.GRUPA | C19: jaunākais inspektors | D19: 1429 | E19: 0.2 | F19: =ROUND(D19/$F$4,3) -> 8.561 | G19: 24 | H19: 41.09 | I19: =ROUND(H19*23.59%,2)-0.01 -> 9.68 | J19: =H19+I19 -> 50.77
A20: =A19+1 -> 13 | B20: VP LATGALES RP ZIEMEĻLATGALES IECIRKŅA IZMEKLĒŠANAS NODAĻAS 2.GRUPA | C20: galvenais inspektors | D20: 2040 | E20: 0.2 | F20: =ROUND(D20/$F$4,3) -> 12.221 | G20: 24 | H20: 58.66 | I20: =ROUND(H20*23.59%,2)-0.01 -> 13.83 | J20: =H20+I20 -> 72.49
A21: =A20+1 -> 14 | B21: VP LATGALES RP DIENVIDLATGALES IECIRKŅA IZMEKLĒŠANAS NODAĻAS 2.GRUPA | C21: galvenais inspektors | D21: 1821 | E21: 0.2 | F21: =ROUND(D21/$F$4,3) -> 10.909 | G21: 36 | H21: 78.54 | I21: =ROUND(H21*23.59%,2)-0.01 -> 18.52 | J21: =H21+I21 -> 97.06
A22: =A21+1 -> 15 | B22: VP LATGALES RP DIENVIDLATGALES IECIRKŅA REAĢĒŠANAS NODAĻAS 2.GRUPA | C22: vecākais inspektora | D22: 1523 | E22: 0.2 | F22: =ROUND(D22/$F$4,3) -> 9.124 | G22: 36 | H22: 65.69 | I22: =ROUND(H22*23.59%,2) -> 15.5 | J22: =H22+I22 -> 81.19
A23: =A22+1 -> 16 | B23: VP LATGALES RP DIENVIDLATGALES IECIRKŅA IZMEKLĒŠANAS NODAĻAS 1.GRUPA | C23: galvenais inspektors | D23: 1875 | E23: 0.2 | F23: =ROUND(D23/$F$4,3) -> 11.233 | G23: 12 | H23: 26.96 | I23: =ROUND(H23*23.59%,2)-0.01 -> 6.35 | J23: =H23+I23 -> 33.31
A24: =A23+1 -> 17 | B24: VP LATGALES RP DIENVIDLATGALES IECIRKŅA IZMEKLĒŠANAS NODAĻAS 6.GRUPA | C24: galvenais inspektors | D24: 1950 | E24: 0.2 | F24: =ROUND(D24/$F$4,3) -> 11.682 | G24: 36 | H24: 84.11 | I24: =ROUND(H24*23.59%,2)-0.01 -> 19.83 | J24: =H24+I24 -> 103.94
A25: =A24+1 -> 18 | B25: VP LATGALES RP DIENVIDLATGALES IECIRKŅA IZMEKLĒŠANAS NODAĻAS 6.GRUPA | C25: vecākais inspektors | D25: 1503 | E25: 0.2 | F25: =ROUND(D25/$F$4,3) -> 9.004 | G25: 12 | H25: 21.61 | I25: =ROUND(H25*23.59%,2) -> 5.1 | J25: =H25+I25 -> 26.71
A26: =A25+1 -> 19 | B26: VP LATGALES RP ZIEMEĻLATGALES IECIRKŅA IZMEKLĒŠANAS NODAĻAS 4.GRUPA | C26: inspektors | D26: 1851 | E26: 0.2 | F26: =ROUND(D26/$F$4,3) -> 11.089 | G26: 24 | H26: 53.23 | I26: =ROUND(H26*23.59%,2)-0.01 -> 12.55 | J26: =H26+I26 -> 65.78
A27: =A26+1 -> 20 | B27: VP LATGALES RP ZIEMEĻLATGALES IECIRKŅA REAĢĒŠANAS NODAĻAS 3.GRUPA | C27: inspektors | D27: 1560 | E27: 0.2 | F27: =ROUND(D27/$F$4,3) -> 9.346 | G27: 12 | H27: 22.43 | I27: =ROUND(H27*23.59%,2)-0.01 -> 5.28 | J27: =H27+I27 -> 27.71
A28: =A27+1 -> 21 | B28: VP LATGALES RP DIENVIDLATGALES IECIRKŅA REAĢĒŠANAS NODAĻAS 1.GRUPA | C28: inspektors | D28: 1472 | E28: 0.2 | F28: =ROUND(D28/$F$4,3) -> 8.819 | G28: 24 | H28: 42.33 | I28: =ROUND(H28*23.59%,2) -> 9.99 | J28: =H28+I28 -> 52.32
A29: =A28+1 -> 22 | B29: VP LATGALES RP ZIEMEĻLATGALES IECIRKŅA IZMEKLĒŠANAS NODAĻAS 3.GRUPA | C29: inspektors | D29: 1581 | E29: 0.2 | F29: =ROUND(D29/$F$4,3) -> 9.472 | G29: 12 | H29: 22.73 | I29: =ROUND(H29*23.59%,2) -> 5.36 | J29: =H29+I29 -> 28.09
A30: =A29+1 -> 23 | B30: VP LATGALES REĢIONA PĀRVALDES DISCIPLINĀRĀS UZRAUDZĪBAS GRUPA | C30: galvenais inspektors | D30: 1692 | E30: 0.2 | F30: =ROUND(D30/$F$4,3) -> 10.137 | G30: 12 | H30: 24.33 | I30: =ROUND(H30*23.59%,2) -> 5.74 | J30: =H30+I30 -> 30.07
A31: =A30+1 -> 24 | B31: VP LATGALES RP KĀRTPB RESURSU UN KRĪZES VADĪBAS NODAĻA | C31: nodaļas priekšnieks | D31: 2002 | E31: 0.2 | F31: =ROUND(D31/$F$4,3) -> 11.994 | G31: 24 | H31: 57.57 | I31: =ROUND(H31*23.59%,2) -> 13.58 | J31: =H31+I31 -> 71.15
A32: =A31+1 -> 25 | B32: VP GKĀRTPP RKVP SPECIĀLO UZDEVUMU BATALJONA 2.ROTA | C32: jaunākais inspektors | D32: 1470 | E32: 0.2 | F32: =ROUND(D32/$F$4,3) -> 8.807 | G32: 58.5 | H32: 103.04 | I32: =ROUND(H32*23.59%,2) -> 24.31 | J32: =H32+I32 -> 127.35
A33: =A32+1 -> 26 | B33: VP GKĀRTPP RKVP SPECIĀLO UZDEVUMU BATALJONA 2.ROTA | C33: jaunākais inspektors | D33: 1470 | E33: 0.5 | F33: =ROUND(D33/$F$4,3) -> 8.807 | G33: 13.5 | H33: 59.45 | I33: =ROUND(H33*23.59%,2) -> 14.02 | J33: =H33+I33 -> 73.47
A34: =A33+1 -> 27 | B34: VP LATGALES RP KRIMPB EKONOMISKO NOZIEGUMU APKAROŠANAS NODAĻA | C34: galvenais inspektors | D34: 1779 | E34: 0.2 | F34: =ROUND(D34/$F$4,3) -> 10.658 | G34: 12 | H34: 25.58 | I34: =ROUND(H34*23.59%,2) -> 6.03 | J34: =H34+I34 -> 31.61
A35: =A34+1 -> 28 | B35: VP LATGALES RP KĀRTPB ATĻAUJU SISTĒMAS GRUPA | C35: inspektors | D35: 1320 | E35: 0.2 | F35: =ROUND(D35/$F$4,3) -> 7.908 | G35: 44 | H35: 69.59 | I35: =ROUND(H35*23.59%,2) -> 16.42 | J35: =H35+I35 -> 86.01
A36: =A35+1 -> 29 | B36: VP LATGALES RP ZIEMEĻLATGALES IECIRKŅA IZMEKLĒŠANAS NODAĻAS 5.GRUPA | C36: vecākais inspektors | D36: 1640 | E36: 0.2 | F36: =ROUND(D36/$F$4,3) -> 9.825 | G36: 48 | H36: 94.32 | I36: =ROUND(H36*23.59%,2) -> 22.25 | J36: =H36+I36 -> 116.57
A37: =A36+1 -> 30 | B37: VP LATGALES RP ZIEMEĻLATGALES IECIRKŅA REAĢĒŠANAS NODAĻAS 9.GRUPA | C37: inspektors | D37: 1445 | E37: 0.2 | F37: =ROUND(D37/$F$4,3) -> 8.657 | G37: 12 | H37: 20.78 | I37: =ROUND(H37*23.59%,2) -> 4.9 | J37: =H37+I37 -> 25.68
A38: =A37+1 -> 31 | B38: VP LATGALES RP DIENVIDLATGALES IECIRKŅA REAĢĒŠANAS NODAĻAS 10.GRUPA | C38: inspektors | D38: 1445 | E38: 0.2 | F38: =ROUND(D38/$F$4,3) -> 8.657 | G38: 24 | H38: 41.55 | I38: =ROUND(H38*23.59%,2) -> 9.8 | J38: =H38+I38 -> 51.35
A39: =A38+1 -> 32 | B39: VP LATGALES RP KRIMPB ONSSN APKAROŠANAS NODAĻA | C39: vecākais inspektors | D39: 1672 | E39: 0.2 | F39: =ROUND(D39/$F$4,3) -> 10.017 | G39: 12 | H39: 24.04 | I39: =ROUND(H39*23.59%,2) -> 5.67 | J39: =H39+I39 -> 29.71
... A79: =A78+1 -> 72 | B79: VP LATGALES RP KRIMPB EKONOMISKO NOZIEGUMU APKAROŠANAS NODAĻA | C79: vecākais inspektors | D79: 1672 | E79: 0.2 | F79: =ROUND(D79/$F$4,3) -> 10.017 | G79: 12 | H79: 24.04 | I79: =ROUND(H79*23.59%,2) -> 5.67 | J79: =H79+I79 -> 29.71
A80: =A79+1 -> 73 | B80: VP LATGALES RP DIENVIDLATGALES IECIRKŅA REAĢĒŠANAS NODAĻAS 4.GRUPA | C80: vecākais inspektors | D80: 1765 | E80: 0.2 | F80: =ROUND(D80/$F$4,3) -> 10.574 | G80: 12 | H80: 25.38 | I80: =ROUND(H80*21.94%,2) -> 5.57 | J80: =H80+I80 -> 30.95 | K80: ***
...

Sheet 4.tabula
F1: 4.tabula
A2: Valsts policija
A3: Degvielas izmaksu aprēķins degvielas izdevumiem sniedzot atbalstu Valsts robežsardzei Latvijas Republikas-Baltkrievijas Republikas valsts robežas robežuzraudzības nodrošināšanā par laika periodu no 2024. gada 01. augusta līdz 31. augustam
A5: Nr.p.k. | B5: Transportlīdzekļa marka | C5: Iesaistīto transportlīdzekļu skaits | D5: Faktiskais nobraukums pasākumā (km) | E5: Pasākuma laikā patērētā degviela (l) | F5: Summa euro
A6: Kopā: | C6: =ROUNDUP(SUM(C8:C54),2) -> 71 | D6: =ROUNDUP(SUM(D8:D54),2) -> 77346 | E6: =ROUNDUP(SUM(E8:E54),2) -> 5565.06 | F6: =ROUNDUP(SUM(F8:F54),2) -> 7902.97
A7: Vidzemes reģiona pārvalde
A8: 1 | B8: Peugeot Boxer | C8: 2 | D8: 942 | E8: 86.42 | F8: 123.92
A9: 2 | B9: VW Crafter | C9: 1 | D9: 533 | E9: 58.63 | F9: 82.08
A10: 3 | B10: VW Tiguan | C10: 1 | D10: 309 | E10: 25.68 | F10: 36.11
A15: Latgales reģiona pārvalde
A16: 4 | B16: Citroen Berlingo | C16: 2 | D16: 3180 | E16: 191.1 | F16: 269.28
A17: 5 | B17: Citroen Jumper | C17: 1 | D17: 1166 | E17: 110.77 | F17: 156.19
A18: 6 | B18: Fiat 55x Cross | C18: 1 | D18: 335 | E18: 22.11 | F18: 31.61
A19: 7 | B19: KIA Cee'd | C19: 5 | D19: 2800 | E19: 159.98 | F19: 231.47
A20: 8 | B20: Opel Mokka | C20: 31 | D20: 34884 | E20: 2309.36 | F20: 3271.59
A21: 9 | B21: Opel Combo Van | C21: 1 | D21: 1080 | E21: 93.96 | F21: 132.48
A22: 10 | B22: Opel Insignia Limousine | C22: 5 | D22: 1684 | E22: 138.08 | F22: 195.45
A23: 11 | B23: Peugeot Boxer | C23: 2 | D23: 2185 | E23: 206.47 | F23: 291.12
A24: 12 | B24: Renault Kangoo | C24: 5 | D24: 11828 | E24: 807.97 | F24: 1139.24
A25: 13 | B25: Renault Laguna | C25: 1 | D25: 2428 | E25: 167.53 | F25: 236.22
A26: 14 | B26: Renault Trafic | C26: 6 | D26: 8419 | E26: 717.09 | F26: 1011.78
A27: 15 | B27: Škoda Octavia | C27: 2 | D27: 369 | E27: 23.19 | F27: 32.86
... A29: 17 | B29: VW Transporter | C29: 1 | D29: 261 | E29: 22.97 | F29: 33.07
A37: Zemgales reģiona pārvalde
A43: Kurzemes reģiona pārvalde
A48: Rīgas reģiona pārvalde
A49: 18 | B49: Renault Trafic | C49: 1 | D49: 1114 | E49: 87.53 | F49: 130.06
A50: 19 | B50: Nissan Navara | C50: 1 | D50: 1065 | E50: 105.01 | F50: 153.4
A51: 20 | B51: VW Crafter | C51: 1 | D51: 1564 | E51: 161.61 | F51: 243.42

Sheet 5.tabula
G1: 5.tabula
A2: Valsts policija
A3: Detalizēts aprēķins dienas naudas samaksai amatpersonām ar speciālajām dienesta pakāpēm, sniedzot atbalstu Valsts robežsardzei Latvijas Republikas-Baltkrievijas Republikas valsts robežas robežuzraudzības nodrošināšanā par laika periodu no 2024.gada 17. jūlija līdz 08. augustam.
A5: Nr. p.k. | B5: Struktūrvienība | C5: Amats | D5: Laika periods | E5: Dienu skaits | F5: Likme | G5: Dienas nauda (kopsumma)
A6: kopā: | G6: =SUM(G7:G84) -> 664
A7: 1 | B7: VP GKĀRTPP RKVP SPECIĀLO UZDEVUMU BATALJONA (BIROJA) 2.TAKTISKĀ NODAĻA | C7: inspektors | D7: 17.07.2024. - 08.08.2024/ | E7: 2 | F7: 8 | G7: =ROUND(E7*F7,2) -> 16
E8: 21 | F8: 2.4 | G8: =ROUND(E8*F8,2) -> 50.4
A9: 2 | B9: VP GKĀRTPP RKVP SPECIĀLO UZDEVUMU BATALJONA (BIROJA) 2.TAKTISKĀ NODAĻA | C9: inspektors | D9: 17.07.2024. - 08.08.2024/ | E9: 2 | F9: 8 | G9: =ROUND(E9*F9,2) -> 16
E10: 21 | F10: 2.4 | G10: =ROUND(E10*F10,2) -> 50.4
A11: 3 | B11: VP GKĀRTPP RKVP SPECIĀLO UZDEVUMU BATALJONA (BIROJA) 2.TAKTISKĀ NODAĻA | C11: nodaļas priekšnieka vietnieks | D11: 17.07.2024. - 08.08.2024/ | E11: 2 | F11: 8 | G11: =ROUND(E11*F11,2) -> 16
E12: 21 | F12: 2.4 | G12: =ROUND(E12*F12,2) -> 50.4
A13: 4 | B13: VP GKĀRTPP RKVP SPECIĀLO UZDEVUMU BATALJONA (BIROJA) 2.TAKTISKĀ NODAĻA | C13: nodaļas priekšnieks | D13: 17.07.2024. - 08.08.2024/ | E13: 2 | F13: 8 | G13: =ROUND(E13*F13,2) -> 16
E14: 21 | F14: 2.4 | G14: =ROUND(E14*F14,2) -> 50.4
A15: 5 | B15: VP GKĀRTPP RKVP SPECIĀLO UZDEVUMU BATALJONA (BIROJA) 2.TAKTISKĀ NODAĻA | C15: jaunākais inspektors | D15: 17.07.2024. - 08.08.2024/ | E15: 2 | F15: 8 | G15: =ROUND(E15*F15,2) -> 16
E16: 21 | F16: 2.4 | G16: =ROUND(E16*F16,2) -> 50.4
A17: 6 | B17: VP GKĀRTPP RKVP SPECIĀLO UZDEVUMU BATALJONA (BIROJA) 2.TAKTISKĀ NODAĻA | C17: jaunākais inspektors | D17: 17.07.2024. - 08.08.2024/ | E17: 2 | F17: 8 | G17: =ROUND(E17*F17,2) -> 16
E18: 21 | F18: 2.4 | G18: =ROUND(E18*F18,2) -> 50.4
A19: 7 | B19: VP GKĀRTPP RKVP SPECIĀLO UZDEVUMU BATALJONA (BIROJA) 2.TAKTISKĀ NODAĻA | C19: jaunākais inspektors | D19: 17.07.2024. - 08.08.2024/ | E19: 2 | F19: 8 | G19: =ROUND(E19*F19,2) -> 16
E20: 21 | F20: 2.4 | G20: =ROUND(E20*F20,2) -> 50.4
A21: 8 | B21: VP GKĀRTPP RKVP SPECIĀLO UZDEVUMU BATALJONA (BIROJA) 2.TAKTISKĀ NODAĻA | C21: jaunākais inspektors | D21: 17.07.2024. - 08.08.2024/ | E21: 2 | F21: 8 | G21: =ROUND(E21*F21,2) -> 16
E22: 21 | F22: 2.4 | G22: =ROUND(E22*F22,2) -> 50.4
A23: 9 | B23: VP GKĀRTPP RKVP SPECIĀLO UZDEVUMU BATALJONA (BIROJA) 2.TAKTISKĀ NODAĻA | C23: jaunākais inspektors | D23: 17.07.2024. - 08.08.2024/ | E23: 2 | F23: 8 | G23: =ROUND(E23*F23,2) -> 16
E24: 21 | F24: 2.4 | G24: =ROUND(E24*F24,2) -> 50.4
A25: 10 | B25: VP GKĀRTPP RKVP SPECIĀLO UZDEVUMU BATALJONA (BIROJA) 2.TAKTISKĀ NODAĻA | C25: jaunākais inspektors | D25: 17.07.2024. - 08.08.2024/ | E25: 2 | F25: 8 | G25: =ROUND(E25*F25,2) -> 16
E26: 21 | F26: 2.4 | G26: =ROUND(E26*F26,2) -> 50.4
A27: 11 | F27: 8 | G27: =ROUND(E27*F27,2) -> 0
F28: 2.4 | G28: =ROUND(E28*F28,2) -> 0
A29: 12 | F29: 8 | G29: =ROUND(E29*F29,2) -> 0
F30: 2.4 | G30: =ROUND(E30*F30,2) -> 0
A31: 13 | F31: 8 | G31: =ROUND(E31*F31,2) -> 0
F32: 2.4 | G32: =ROUND(E32*F32,2) -> 0
A33: 14 | F33: 8 | G33: =ROUND(E33*F33,2) -> 0
F34: 2.4 | G34: =ROUND(E34*F34,2) -> 0
A35: 15 | F35: 8 | G35: =ROUND(E35*F35,2) -> 0
F36: 2.4 | G36: =ROUND(E36*F36,2) -> 0
A37: 16 | F37: 8 | G37: =ROUND(E37*F37,2) -> 0
F38: 2.4 | G38: =ROUND(E38*F38,2) -> 0
A39: 17 | F39: 8 | G39: =ROUND(E39*F39,2) -> 0
F40: 2.4 | G40: =ROUND(E40*F40,2) -> 0
A41: 18 | F41: 8 | G41: =ROUND(E41*F41,2) -> 0
...
