Workbook

Sheet KOPSAVILKUMS
A1: Finansējuma aprēķins digitālo mācību līdzekļu iegādei izglītības iestādēm KOPĀ
B2: Izglītojamo skaits 01.09.2022. | E2: Finansējums
B3: Kopā 1.-12. klase | C3: 1.-9. klase | D3: 10.-12. klase | E3: Kopā 1.-12. klase | F3: 1.-9. klase | G3: 10.-12. klase
F4: 16.75 | G4: 19.75 | H4: vienam izglītojamajam
A5: Pašvaldību izglītības iestādes | B5: =SUM(C5:D5) -> 203416 | C5: =+Fin.!D48 -> 173954 | D5: =+Fin.!E48 -> 29462 | E5: =SUM(F5:G5) -> 3495616 | F5: =Fin.!G48 -> 2913737 | G5: =Fin.!H48 -> 581879
A6: Privātās izglītības iestādes | B6: =SUM(C6:D6) -> 13186 | C6: =+Fin.!D55 -> 7677 | D6: =+Fin.!E55 -> 5509 | E6: =SUM(F6:G6) -> 237393 | F6: =+C6*$F$4 -> 128590 | G6: =+D6*$G$4 -> 108803
A7: Pamata un vispārējās vidējās izglītības iestādes KOPĀ | B7: =SUM(B5:B6) -> 216602 | C7: =SUM(C5:C6) -> 181631 | D7: =SUM(D5:D6) -> 34971 | E7: =SUM(E5:E6) -> 3733009 | F7: =SUM(F5:F6) -> 3042327 | G7: =SUM(G5:G6) -> 690682

Sheet Fin.
A1: Finansējuma aprēķins digitālo mācību līdzekļu iegādei PAŠVALDĪBU izglītības iestādēm
A2: Nr. p.k. | B2: Administratīvā teritorija | C2: Izglītojamo skaits 01.09.2022. | F2: Finansējums
C3: Kopā 1.-12. klase | D3: 1.-9. | E3: 10.-12. | F3: Kopā | G3: 1.-9. | H3: 10.-12.
G4: 16.75 | H4: 19.75 | I4: vienam izglītojamajam
A5: 1 | B5: Rīgas valstspilsēta | C5: =SUM(D5:E5) -> 67238 | D5: =+Izgl._01.09.22.!AZ5+Izgl._01.09.22.!BA5 -> 55742 | E5: =+Izgl._01.09.22.!BB5 -> 11496 | F5: =SUM(G5:H5) -> 1160725 | G5: =$G$4*D5 -> 933679 | H5: =$H$4*E5 -> 227046
A6: =+A5+1 -> 2 | B6: Daugavpils valstspilsēta | C6: =SUM(D6:E6) -> 9069 | D6: =+Izgl._01.09.22.!AZ6+Izgl._01.09.22.!BA6 -> 7538 | E6: =+Izgl._01.09.22.!BB6 -> 1531 | F6: =SUM(G6:H6) -> 156499 | G6: =$G$4*D6 -> 126262 | H6: =$H$4*E6 -> 30237
A7: =+A6+1 -> 3 | B7: Jelgavas valstspilsēta | C7: =SUM(D7:E7) -> 7295 | D7: =+Izgl._01.09.22.!AZ7+Izgl._01.09.22.!BA7 -> 6236 | E7: =+Izgl._01.09.22.!BB7 -> 1059 | F7: =SUM(G7:H7) -> 125368 | G7: =$G$4*D7 -> 104453 | H7: =$H$4*E7 -> 20915
A8: =+A7+1 -> 4 | B8: Jūrmalas valstspilsēta | C8: =SUM(D8:E8) -> 4383 | D8: =+Izgl._01.09.22.!AZ8+Izgl._01.09.22.!BA8 -> 3733 | E8: =+Izgl._01.09.22.!BB8 -> 650 | F8: =SUM(G8:H8) -> 75366 | G8: =$G$4*D8 -> 62528 | H8: =$H$4*E8 -> 12838
A9: =+A8+1 -> 5 | B9: Liepājas valstspilsēta | C9: =SUM(D9:E9) -> 7859 | D9: =+Izgl._01.09.22.!AZ9+Izgl._01.09.22.!BA9 -> 6512 | E9: =+Izgl._01.09.22.!BB9 -> 1347 | F9: =SUM(G9:H9) -> 135679 | G9: =$G$4*D9 -> 109076 | H9: =$H$4*E9 -> 26603
A10: =+A9+1 -> 6 | B10: Rēzeknes valstspilsēta | C10: =SUM(D10:E10) -> 3803 | D10: =+Izgl._01.09.22.!AZ10+Izgl._01.09.22.!BA10 -> 3022 | E10: =+Izgl._01.09.22.!BB10 -> 781 | F10: =SUM(G10:H10) -> 66044 | G10: =$G$4*D10 -> 50619 | H10: =$H$4*E10 -> 15425
A11: =+A10+1 -> 7 | B11: Ventspils valstspilsēta | C11: =SUM(D11:E11) -> 4019 | D11: =+Izgl._01.09.22.!AZ11+Izgl._01.09.22.!BA11 -> 3449 | E11: =+Izgl._01.09.22.!BB11 -> 570 | F11: =SUM(G11:H11) -> 69029 | G11: =$G$4*D11 -> 57771 | H11: =$H$4*E11 -> 11258
A12: =+A11+1 -> 8 | B12: Aizkraukles novads | C12: =SUM(D12:E12) -> 2826 | D12: =+Izgl._01.09.22.!AZ12+Izgl._01.09.22.!BA12 -> 2501 | E12: =+Izgl._01.09.22.!BB12 -> 325 | F12: =SUM(G12:H12) -> 48311 | G12: =$G$4*D12 -> 41892 | H12: =$H$4*E12 -> 6419
A13: =+A12+1 -> 9 | B13: Alūksnes novads | C13: =SUM(D13:E13) -> 1354 | D13: =+Izgl._01.09.22.!AZ13+Izgl._01.09.22.!BA13 -> 1175 | E13: =+Izgl._01.09.22.!BB13 -> 179 | F13: =SUM(G13:H13) -> 23216 | G13: =$G$4*D13 -> 19681 | H13: =$H$4*E13 -> 3535
A14: =+A13+1 -> 10 | B14: Augšdaugavas novads | C14: =SUM(D14:E14) -> 1753 | D14: =+Izgl._01.09.22.!AZ14+Izgl._01.09.22.!BA14 -> 1473 | E14: =+Izgl._01.09.22.!BB14 -> 280 | F14: =SUM(G14:H14) -> 30203 | G14: =$G$4*D14 -> 24673 | H14: =$H$4*E14 -> 5530
A15: =+A14+1 -> 11 | B15: Ādažu novads | C15: =SUM(D15:E15) -> 2545 | D15: =+Izgl._01.09.22.!AZ15+Izgl._01.09.22.!BA15 -> 2319 | E15: =+Izgl._01.09.22.!BB15 -> 226 | F15: =SUM(G15:H15) -> 43307 | G15: =$G$4*D15 -> 38843 | H15: =$H$4*E15 -> 4464
A16: =+A15+1 -> 12 | B16: Balvu novads | C16: =SUM(D16:E16) -> 1794 | D16: =+Izgl._01.09.22.!AZ16+Izgl._01.09.22.!BA16 -> 1474 | E16: =+Izgl._01.09.22.!BB16 -> 320 | F16: =SUM(G16:H16) -> 31010 | G16: =$G$4*D16 -> 24690 | H16: =$H$4*E16 -> 6320
A17: =+A16+1 -> 13 | B17: Bauskas novads | C17: =SUM(D17:E17) -> 4511 | D17: =+Izgl._01.09.22.!AZ17+Izgl._01.09.22.!BA17 -> 3944 | E17: =+Izgl._01.09.22.!BB17 -> 567 | F17: =SUM(G17:H17) -> 77260 | G17: =$G$4*D17 -> 66062 | H17: =$H$4*E17 -> 11198
... A47: =+A46+1 -> 43 | B47: Ventspils novads | C47: =SUM(D47:E47) -> 838 | D47: =+Izgl._01.09.22.!AZ47+Izgl._01.09.22.!BA47 -> 807 | E47: =+Izgl._01.09.22.!BB47 -> 31 | F47: =SUM(G47:H47) -> 14129 | G47: =$G$4*D47 -> 13517 | H47: =$H$4*E47 -> 612
A48: Kopā | C48: =SUM(C5:C47) -> 203416 | D48: =SUM(D5:D47) -> 173954 | E48: =SUM(E5:E47) -> 29462 | F48: =SUM(F5:F47) -> 3495616 | G48: =SUM(G5:G47) -> 2913737 | H48: =SUM(H5:H47) -> 581879 | I48: saskaitot visas pašvaldības
F49: =+G49+H49 -> 3495605 | G49: =$G$4*D48 -> 2913730 | H49: =$H$4*E48 -> 581875 | I49: sareizinot kopējo izglītojamo skaitu ar izmaksām vienam izglītojamajam
A51: Finansējuma aprēķins digitālo mācību līdzekļu iegādei PRIVĀTAJĀS izglītības iestādēm
C52: Izglītojamo skaits 01.09.2022. | F52: Finansējums
C53: Kopā 1.-12. klase | D53: 1.-9. | E53: 10.-12. | F53: Kopā | G53: 1.-9. | H53: 10.-12.
G54: 16.75 | H54: 19.75 | I54: vienam izglītojamajam
A55: Privātās pamata un vispārējās vidējās izglītības iestādes | C55: =SUM(D55:E55) -> 13186 | D55: =+Izgl._01.09.22.!E67+Izgl._01.09.22.!F67 -> 7677 | E55: =+Izgl._01.09.22.!G67 -> 5509 | F55: =SUM(G55:H55) -> 237393 | G55: =$G$4*D55 -> 128590 | H55: =$H$4*E55 -> 108803

Sheet Izgl._01.09.22.
A1: Izglītojamo skaits PAŠVALDĪBU izglītības iestādēs 01.09.2022. finansējuma mācību literatūras un mācību līdzekļu iegādei aprēķinam
A2: Nr. p.k. | B2: Administratīvā teritorija | C2: Izglītības iestāžu un programmu veidi (atbilstoši VIIS finansisti atskaitēm)
C3: VĢ | G3: Lielās skolas | K3: Mazās skolas | P3: Mazās sākumskolas | U3: Neklātiene | Y3: Tālmācība | AC3: Starpt.līg. (mazākumtaut.) | AH3: Ieslodzījuma vietas | AL3: Speciālās skolas, kas nenodrošina internāta pakalpojumus | AQ3: Pirmssk. (5-6) pārējās izglītības iestādēs | AR3: Speciālās izglītības iestādes, kas nodrošina internāta pakalpojumus izglītojamie, kas NESAŅAM uzturēšanas izdevumus * | AW3: Kopā visi izglītojamie | AX3: t.sk.
C4: 1.-12. klase | D4: 1.-6. | E4: 7.-9. | F4: 10.-12. | G4: 1.-12. klase | H4: 1.-6. | I4: 7.-9. | J4: 10.-12. | K4: 1.-12. klase | L4: 1.-6. | M4: 7.-9. | N4: 10.-12. | O4: 5-6 gadīgie | P4: 1.-12. klase | Q4: 1.-6. | R4: 7.-9. | S4: 10.-12. | T4: 5-6 gadīgie | U4: 1.-12. klase | V4: 1.-6. | W4: 7.-9. | X4: 10.-12. | Y4: 1.-12. klase | Z4: 1.-6. | AA4: 7.-9. | AB4: 10.-12. | AC4: 1.-12. klase | AD4: 1.-6. | AE4: 7.-9. | AF4: 10.-12. | AG4: 5-6 gadīgie | AH4: 1.-12. klase | AI4: 1.-6. | AJ4: 7.-9. | AK4: 10.-12. | AL4: 1.-12. klase | AM4: 1.-6. | AN4: 7.-9. | AO4: 10.-12. | AP4: 5-6 gadīgie | AQ4: 5-6 gadīgie | AR4: pirmsskola | AS4: 1.-12. klase | AT4: 1.-6. | AU4: 7.-9. | AV4: 10.-12. | AX4: pirmsskola | AY4: 1.-12. klase | AZ4: 1.-6. | BA4: 7.-9. | BB4: 10.-12.
A5: 1 | B5: Rīga | C5: =SUM(D5:F5) -> 5935 | D5: 1109 | E5: 2066 | F5: 2760 | G5: =SUM(H5:J5) -> 57821 | H5: 33360 | I5: 16584 | J5: 7877 | K5: =SUM(L5:N5) -> 0 | L5: 0 | M5: 0 | N5: 0 | O5: 0 | P5: =SUM(Q5:S5) -> 0 | Q5: 0 | R5: 0 | S5: 0 | T5: 0 | U5: =SUM(V5:X5) -> 303 | V5: 0 | W5: 18 | X5: 285 | Y5: =SUM(Z5:AB5) -> 138 | Z5: 0 | AA5: 0 | AB5: 138 | AC5: =SUM(AD5:AF5) -> 2134 | AD5: 1291 | AE5: 570 | AF5: 273 | AG5: 77 | AH5: =SUM(AI5:AK5) -> 145 | AI5: 0 | AJ5: 45 | AK5: 100 | AL5: =SUM(AM5:AO5) -> 762 | AM5: 527 | AN5: 172 | AO5: 63 | AP5: 11 | AQ5: 11741 | AR5: =SUMIF('Spec.sk._uzt.izd. neaprēķina'!B:B,B5,'Spec.sk._uzt.izd. neaprēķina'!G:G) -> 0 | AS5: =SUM(AT5:AV5) -> 0 | AT5: =SUMIF('Spec.sk._uzt.izd. neaprēķina'!B:B,B5,'Spec.sk._uzt.izd. neaprēķina'!D:D) -> 0 | AU5: =SUMIF('Spec.sk._uzt.izd. neaprēķina'!B:B,B5,'Spec.sk._uzt.izd. neaprēķina'!E:E) -> 0 | AV5: =SUMIF('Spec.sk._uzt.izd. neaprēķina'!B:B,B5,'Spec.sk._uzt.izd. neaprēķina'!F:F) -> 0 | AW5: =+C5+G5+K5+O5+P5+T5+U5+Y5+AC5+AG5+AH5+AL5+AP5+AQ5+AR5+AS5 -> 79067 | AX5: =+O5+T5+AG5+AP5+AQ5+AR5 -> 11829 | AY5: =+AW5-AX5 -> 67238 | AZ5: =+D5+H5+L5+Q5+V5+Z5+AD5+AI5+AM5+AT5 -> 36287 | BA5: =+E5+I5+M5+R5+W5+AA5+AE5+AJ5+AN5+AU5 -> 19455 | BB5: =+F5+J5+N5+S5+X5+AB5+AF5+AK5+AO5+AV5 -> 11496
A6: =+A5+1 -> 2 | B6: Daugavpils | C6: =SUM(D6:F6) -> 381 | D6: 0 | E6: 160 | F6: 221 | G6: =SUM(H6:J6) -> 7961 | H6: 4641 | I6: 2333 | J6: 987 | K6: =SUM(L6:N6) -> 0 | L6: 0 | M6: 0 | N6: 0 | O6: 0 | P6: =SUM(Q6:S6) -> 0 | Q6: 0 | R6: 0 | S6: 0 | T6: 0 | U6: =SUM(V6:X6) -> 222 | V6: 0 | W6: 0 | X6: 222 | Y6: =SUM(Z6:AB6) -> 0 | Z6: 0 | AA6: 0 | AB6: 0 | AC6: =SUM(AD6:AF6) -> 464 | AD6: 295 | AE6: 109 | AF6: 60 | AG6: 0 | AH6: =SUM(AI6:AK6) -> 41 | AI6: 0 | AJ6: 0 | AK6: 41 | AL6: =SUM(AM6:AO6) -> 0 | AQ6: 1718 | AR6: =SUMIF('Spec.sk._uzt.izd. neaprēķina'!B:B,B6,'Spec.sk._uzt.izd. neaprēķina'!G:G) -> 0 | AS6: =SUM(AT6:AV6) -> 0 | AT6: =SUMIF('Spec.sk._uzt.izd. neaprēķina'!B:B,B6,'Spec.sk._uzt.izd. neaprēķina'!D:D) -> 0 | AU6: =SUMIF('Spec.sk._uzt.izd. neaprēķina'!B:B,B6,'Spec.sk._uzt.izd. neaprēķina'!E:E) -> 0 | AV6: =SUMIF('Spec.sk._uzt.izd. neaprēķina'!B:B,B6,'Spec.sk._uzt.izd. neaprēķina'!F:F) -> 0 | AW6: =+C6+G6+K6+O6+P6+T6+U6+Y6+AC6+AG6+AH6+AL6+AP6+AQ6+AR6+AS6 -> 10787 | AX6: =+O6+T6+AG6+AP6+AQ6+AR6 -> 1718 | AY6: =+AW6-AX6 -> 9069 | AZ6: =+D6+H6+L6+Q6+V6+Z6+AD6+AI6+AM6+AT6 -> 4936 | BA6: =+E6+I6+M6+R6+W6+AA6+AE6+AJ6+AN6+AU6 -> 2602 | BB6: =+F6+J6+N6+S6+X6+AB6+AF6+AK6+AO6+AV6 -> 1531
A7: =+A6+1 -> 3 | B7: Jelgava | C7: =SUM(D7:F7) -> 1360 | D7: 0 | E7: 778 | F7: 582 | G7: =SUM(H7:J7) -> 5772 | H7: 3976 | I7: 1390 | J7: 406 | K7: =SUM(L7:N7) -> 0 | L7: 0 | M7: 0 | N7: 0 | O7: 0 | P7: =SUM(Q7:S7) -> 0 | Q7: 0 | R7: 0 | S7: 0 | T7: 0 | U7: =SUM(V7:X7) -> 70 | V7: 0 | W7: 0 | X7: 70 | Y7: =SUM(Z7:AB7) -> 0 | Z7: 0 | AA7: 0 | AB7: 0 | AC7: =SUM(AD7:AF7) -> 0 | AD7: 0 | AE7: 0 | AF7: 0 | AG7: 0 | AH7: =SUM(AI7:AK7) -> 11 | AI7: 1 | AJ7: 9 | AK7: 1 | AL7: =SUM(AM7:AO7) -> 0 | AQ7: 1123 | AR7: =SUMIF('Spec.sk._uzt.izd. neaprēķina'!B:B,B7,'Spec.sk._uzt.izd. neaprēķina'!G:G) -> 0 | AS7: =SUM(AT7:AV7) -> 82 | AT7: =SUMIF('Spec.sk._uzt.izd. neaprēķina'!B:B,B7,'Spec.sk._uzt.izd. neaprēķina'!D:D) -> 60 | AU7: =SUMIF('Spec.sk._uzt.izd. neaprēķina'!B:B,B7,'Spec.sk._uzt.izd. neaprēķina'!E:E) -> 22 | AV7: =SUMIF('Spec.sk._uzt.izd. neaprēķina'!B:B,B7,'Spec.sk._uzt.izd. neaprēķina'!F:F) -> 0 | AW7: =+C7+G7+K7+O7+P7+T7+U7+Y7+AC7+AG7+AH7+AL7+AP7+AQ7+AR7+AS7 -> 8418 | AX7: =+O7+T7+AG7+AP7+AQ7+AR7 -> 1123 | AY7: =+AW7-AX7 -> 7295 | AZ7: =+D7+H7+L7+Q7+V7+Z7+AD7+AI7+AM7+AT7 -> 4037 | BA7: =+E7+I7+M7+R7+W7+AA7+AE7+AJ7+AN7+AU7 -> 2199 | BB7: =+F7+J7+N7+S7+X7+AB7+AF7+AK7+AO7+AV7 -> 1059
A8: =+A7+1 -> 4 | B8: Jūrmala | C8: =SUM(D8:F8) -> 984 | D8: 557 | E8: 265 | F8: 162 | G8: =SUM(H8:J8) -> 3399 | H8: 1965 | I8: 946 | J8: 488 | K8: =SUM(L8:N8) -> 0 | L8: 0 | M8: 0 | N8: 0 | O8: 0 | P8: =SUM(Q8:S8) -> 0 | Q8: 0 | R8: 0 | S8: 0 | T8: 0 | U8: =SUM(V8:X8) -> 0 | V8: 0 | W8: 0 | X8: 0 | Y8: =SUM(Z8:AB8) -> 0 | Z8: 0 | AA8: 0 | AB8: 0 | AC8: =SUM(AD8:AF8) -> 0 | AD8: 0 | AE8: 0 | AF8: 0 | AG8: 0 | AH8: =SUM(AI8:AK8) -> 0 | AI8: 0 | AJ8: 0 | AK8: 0 | AL8: =SUM(AM8:AO8) -> 0 | AQ8: 927 | AR8: =SUMIF('Spec.sk._uzt.izd. neaprēķina'!B:B,B8,'Spec.sk._uzt.izd. neaprēķina'!G:G) -> 0 | AS8: =SUM(AT8:AV8) -> 0 | AT8: =SUMIF('Spec.sk._uzt.izd. neaprēķina'!B:B,B8,'Spec.sk._uzt.izd. neaprēķina'!D:D) -> 0 | AU8: =SUMIF('Spec.sk._uzt.izd. neaprēķina'!B:B,B8,'Spec.sk._uzt.izd. neaprēķina'!E:E) -> 0 | AV8: =SUMIF('Spec.sk._uzt.izd. neaprēķina'!B:B,B8,'Spec.sk._uzt.izd. neaprēķina'!F:F) -> 0 | AW8: =+C8+G8+K8+O8+P8+T8+U8+Y8+AC8+AG8+AH8+AL8+AP8+AQ8+AR8+AS8 -> 5310 | AX8: =+O8+T8+AG8+AP8+AQ8+AR8 -> 927 | AY8: =+AW8-AX8 -> 4383 | AZ8: =+D8+H8+L8+Q8+V8+Z8+AD8+AI8+AM8+AT8 -> 2522 | BA8: =+E8+I8+M8+R8+W8+AA8+AE8+AJ8+AN8+AU8 -> 1211 | BB8: =+F8+J8+N8+S8+X8+AB8+AF8+AK8+AO8+AV8 -> 650
A9: =+A8+1 -> 5 | B9: Liepāja | C9: =SUM(D9:F9) -> 617 | D9: 0 | E9: 354 | F9: 263 | G9: =SUM(H9:J9) -> 7133 | H9: 4198 | I9: 1960 | J9: 975 | K9: =SUM(L9:N9) -> 0 | L9: 0 | M9: 0 | N9: 0 | O9: 0 | P9: =SUM(Q9:S9) -> 0 | Q9: 0 | R9: 0 | S9: 0 | T9: 0 | U9: =SUM(V9:X9) -> 24 | V9: 0 | W9: 0 | X9: 24 | Y9: =SUM(Z9:AB9) -> 85 | Z9: 0 | AA9: 0 | AB9: 85 | AC9: =SUM(AD9:AF9) -> 0 | AD9: 0 | AE9: 0 | AF9: 0 | AG9: 0 | AH9: =SUM(AI9:AK9) -> 0 | AI9: 0 | AJ9: 0 | AK9: 0 | AL9: =SUM(AM9:AO9) -> 0 | AQ9: 1618 | AR9: =SUMIF('Spec.sk._uzt.izd. neaprēķina'!B:B,B9,'Spec.sk._uzt.izd. neaprēķina'!G:G) -> 0 | AS9: =SUM(AT9:AV9) -> 0 | AT9: =SUMIF('Spec.sk._uzt.izd. neaprēķina'!B:B,B9,'Spec.sk._uzt.izd. neaprēķina'!D:D) -> 0 | AU9: =SUMIF('Spec.sk._uzt.izd. neaprēķina'!B:B,B9,'Spec.sk._uzt.izd. neaprēķina'!E:E) -> 0 | AV9: =SUMIF('Spec.sk._uzt.izd. neaprēķina'!B:B,B9,'Spec.sk._uzt.izd. neaprēķina'!F:F) -> 0 | AW9: =+C9+G9+K9+O9+P9+T9+U9+Y9+AC9+AG9+AH9+AL9+AP9+AQ9+AR9+AS9 -> 9477 | AX9: =+O9+T9+AG9+AP9+AQ9+AR9 -> 1618 | AY9: =+AW9-AX9 -> 7859 | AZ9: =+D9+H9+L9+Q9+V9+Z9+AD9+AI9+AM9+AT9 -> 4198 | BA9: =+E9+I9+M9+R9+W9+AA9+AE9+AJ9+AN9+AU9 -> 2314 | BB9: =+F9+J9+N9+S9+X9+AB9+AF9+AK9+AO9+AV9 -> 1347
A10: =+A9+1 -> 6 | B10: Rēzekne | C10: =SUM(D10:F10) -> 534 | D10: 0 | E10: 227 | F10: 307 | G10: =SUM(H10:J10) -> 2345 | H10: 1580 | I10: 658 | J10: 107 | K10: =SUM(L10:N10) -> 0 | L10: 0 | M10: 0 | N10: 0 | O10: 0 | P10: =SUM(Q10:S10) -> 0 | Q10: 0 | R10: 0 | S10: 0 | T10: 0 | U10: =SUM(V10:X10) -> 176 | V10: 0 | W10: 14 | X10: 162 | Y10: =SUM(Z10:AB10) -> 96 | Z10: 0 | AA10: 0 | AB10: 96 | AC10: =SUM(AD10:AF10) -> 569 | AD10: 318 | AE10: 142 | AF10: 109 | AG10: 0 | AH10: =SUM(AI10:AK10) -> 0 | AI10: 0 | AJ10: 0 | AK10: 0 | AL10: =SUM(AM10:AO10) -> 0 | AQ10: 649 | AR10: =SUMIF('Spec.sk._uzt.izd. neaprēķina'!B:B,B10,'Spec.sk._uzt.izd. neaprēķina'!G:G) -> 18 | AS10: =SUM(AT10:AV10) -> 83 | AT10: =SUMIF('Spec.sk._uzt.izd. neaprēķina'!B:B,B10,'Spec.sk._uzt.izd. neaprēķina'!D:D) -> 55 | AU10: =SUMIF('Spec.sk._uzt.izd. neaprēķina'!B:B,B10,'Spec.sk._uzt.izd. neaprēķina'!E:E) -> 28 | AV10: =SUMIF('Spec.sk._uzt.izd. neaprēķina'!B:B,B10,'Spec.sk._uzt.izd. neaprēķina'!F:F) -> 0 | AW10: =+C10+G10+K10+O10+P10+T10+U10+Y10+AC10+AG10+AH10+AL10+AP10+AQ10+AR10+AS10 -> 4470 | AX10: =+O10+T10+AG10+AP10+AQ10+AR10 -> 667 | AY10: =+AW10-AX10 -> 3803 | AZ10: =+D10+H10+L10+Q10+V10+Z10+AD10+AI10+AM10+AT10 -> 1953 | BA10: =+E10+I10+M10+R10+W10+AA10+AE10+AJ10+AN10+AU10 -> 1069 | BB10: =+F10+J10+N10+S10+X10+AB10+AF10+AK10+AO10+AV10 -> 781
A11: =+A10+1 -> 7 | B11: Ventspils | C11: =SUM(D11:F11) -> 401 | D11: 0 | E11: 166 | F11: 235 | G11: =SUM(H11:J11) -> 3573 | H11: 2277 | I11: 1006 | J11: 290 | K11: =SUM(L11:N11) -> 0 | L11: 0 | M11: 0 | N11: 0 | O11: 0 | P11: =SUM(Q11:S11) -> 0 | Q11: 0 | R11: 0 | S11: 0 | T11: 0 | U11: =SUM(V11:X11) -> 0 | V11: 0 | W11: 0 | X11: 0 | Y11: =SUM(Z11:AB11) -> 45 | Z11: 0 | AA11: 0 | AB11: 45 | AC11: =SUM(AD11:AF11) -> 0 | AD11: 0 | AE11: 0 | AF11: 0 | AG11: 0 | AH11: =SUM(AI11:AK11) -> 0 | AI11: 0 | AJ11: 0 | AK11: 0 | AL11: =SUM(AM11:AO11) -> 0 | AQ11: 747 | AR11: =SUMIF('Spec.sk._uzt.izd. neaprēķina'!B:B,B11,'Spec.sk._uzt.izd. neaprēķina'!G:G) -> 0 | AS11: =SUM(AT11:AV11) -> 0 | AT11: =SUMIF('Spec.sk._uzt.izd. neaprēķina'!B:B,B11,'Spec.sk._uzt.izd. neaprēķina'!D:D) -> 0 | AU11: =SUMIF('Spec.sk._uzt.izd. neaprēķina'!B:B,B11,'Spec.sk._uzt.izd. neaprēķina'!E:E) -> 0 | AV11: =SUMIF('Spec.sk._uzt.izd. neaprēķina'!B:B,B11,'Spec.sk._uzt.izd. neaprēķina'!F:F) -> 0 | AW11: =+C11+G11+K11+O11+P11+T11+U11+Y11+AC11+AG11+AH11+AL11+AP11+AQ11+AR11+AS11 -> 4766 | AX11: =+O11+T11+AG11+AP11+AQ11+AR11 -> 747 | AY11: =+AW11-AX11 -> 4019 | AZ11: =+D11+H11+L11+Q11+V11+Z11+AD11+AI11+AM11+AT11 -> 2277 | BA11: =+E11+I11+M11+R11+W11+AA11+AE11+AJ11+AN11+AU11 -> 1172 | BB11: =+F11+J11+N11+S11+X11+AB11+AF11+AK11+AO11+AV11 -> 570
A12: =+A11+1 -> 8 | B12: Aizkraukles novads | C12: =SUM(D12:F12) -> 0 | D12: 0 | E12: 0 | F12: 0 | G12: =SUM(H12:J12) -> 2745 | H12: 1612 | I12: 808 | J12: 325 | K12: =SUM(L12:N12) -> 0 | L12: 0 | M12: 0 | N12: 0 | O12: 0 | P12: =SUM(Q12:S12) -> 81 | Q12: 81 | R12: 0 | S12: 0 | T12: 19 | U12: =SUM(V12:X12) -> 0 | V12: 0 | W12: 0 | X12: 0 | Y12: =SUM(Z12:AB12) -> 0 | Z12: 0 | AA12: 0 | AB12: 0 | AC12: =SUM(AD12:AF12) -> 0 | AD12: 0 | AE12: 0 | AF12: 0 | AG12: 0 | AH12: =SUM(AI12:AK12) -> 0 | AI12: 0 | AJ12: 0 | AK12: 0 | AL12: =SUM(AM12:AO12) -> 0 | AQ12: 596 | AR12: =SUMIF('Spec.sk._uzt.izd. neaprēķina'!B:B,B12,'Spec.sk._uzt.izd. neaprēķina'!G:G) -> 0 | AS12: =SUM(AT12:AV12) -> 0 | AT12: =SUMIF('Spec.sk._uzt.izd. neaprēķina'!B:B,B12,'Spec.sk._uzt.izd. neaprēķina'!D:D) -> 0 | AU12: =SUMIF('Spec.sk._uzt.izd. neaprēķina'!B:B,B12,'Spec.sk._uzt.izd. neaprēķina'!E:E) -> 0 | AV12: =SUMIF('Spec.sk._uzt.izd. neaprēķina'!B:B,B12,'Spec.sk._uzt.izd. neaprēķina'!F:F) -> 0 | AW12: =+C12+G12+K12+O12+P12+T12+U12+Y12+AC12+AG12+AH12+AL12+AP12+AQ12+AR12+AS12 -> 3441 | AX12: =+O12+T12+AG12+AP12+AQ12+AR12 -> 615 | AY12: =+AW12-AX12 -> 2826 | AZ12: =+D12+H12+L12+Q12+V12+Z12+AD12+AI12+AM12+AT12 -> 1693 | BA12: =+E12+I12+M12+R12+W12+AA12+AE12+AJ12+AN12+AU12 -> 808 | BB12: =+F12+J12+N12+S12+X12+AB12+AF12+AK12+AO12+AV12 -> 325
A13: =+A12+1 -> 9 | B13: Alūksnes novads | C13: =SUM(D13:F13) -> 287 | D13: 0 | E13: 173 | F13: 114 | G13: =SUM(H13:J13) -> 916 | H13: 654 | I13: 197 | J13: 65 | K13: =SUM(L13:N13) -> 151 | L13: 99 | M13: 52 | N13: 0 | O13: 7 | P13: =SUM(Q13:S13) -> 0 | Q13: 0 | R13: 0 | S13: 0 | T13: 0 | U13: =SUM(V13:X13) -> 0 | V13: 0 | W13: 0 | X13: 0 | Y13: =SUM(Z13:AB13) -> 0 | Z13: 0 | AA13: 0 | AB13: 0 | AC13: =SUM(AD13:AF13) -> 0 | AD13: 0 | AE13: 0 | AF13: 0 | AG13: 0 | AH13: =SUM(AI13:AK13) -> 0 | AI13: 0 | AJ13: 0 | AK13: 0 | AL13: =SUM(AM13:AO13) -> 0 | AQ13: 248 | AR13: =SUMIF('Spec.sk._uzt.izd. neaprēķina'!B:B,B13,'Spec.sk._uzt.izd. neaprēķina'!G:G) -> 0 | AS13: =SUM(AT13:AV13) -> 0 | AT13: =SUMIF('Spec.sk._uzt.izd. neaprēķina'!B:B,B13,'Spec.sk._uzt.izd. neaprēķina'!D:D) -> 0 | AU13: =SUMIF('Spec.sk._uzt.izd. neaprēķina'!B:B,B13,'Spec.sk._uzt.izd. neaprēķina'!E:E) -> 0 | AV13: =SUMIF('Spec.sk._uzt.izd. neaprēķina'!B:B,B13,'Spec.sk._uzt.izd. neaprēķina'!F:F) -> 0 | AW13: =+C13+G13+K13+O13+P13+T13+U13+Y13+AC13+AG13+AH13+AL13+AP13+AQ13+AR13+AS13 -> 1609 | AX13: =+O13+T13+AG13+AP13+AQ13+AR13 -> 255 | AY13: =+AW13-AX13 -> 1354 | AZ13: =+D13+H13+L13+Q13+V13+Z13+AD13+AI13+AM13+AT13 -> 753 | BA13: =+E13+I13+M13+R13+W13+AA13+AE13+AJ13+AN13+AU13 -> 422 | BB13: =+F13+J13+N13+S13+X13+AB13+AF13+AK13+AO13+AV13 -> 179
A14: =+A13+1 -> 10 | B14: Augšdaugavas novads | C14: =SUM(D14:F14) -> 0 | D14: 0 | E14: 0 | F14: 0 | G14: =SUM(H14:J14) -> 1538 | H14: 829 | I14: 481 | J14: 228 | K14: =SUM(L14:N14) -> 163 | L14: 100 | M14: 63 | N14: 0 | O14: 29 | P14: =SUM(Q14:S14) -> 0 | Q14: 0 | R14: 0 | S14: 0 | T14: 0 | U14: =SUM(V14:X14) -> 52 | V14: 0 | W14: 0 | X14: 52 | Y14: =SUM(Z14:AB14) -> 0 | Z14: 0 | AA14: 0 | AB14: 0 | AC14: =SUM(AD14:AF14) -> 0 | AD14: 0 | AE14: 0 | AF14: 0 | AG14: 0 | AH14: =SUM(AI14:AK14) -> 0 | AI14: 0 | AJ14: 0 | AK14: 0 | AL14: =SUM(AM14:AO14) -> 0 | AQ14: 247 | AR14: =SUMIF('Spec.sk._uzt.izd. neaprēķina'!B:B,B14,'Spec.sk._uzt.izd. neaprēķina'!G:G) -> 0 | AS14: =SUM(AT14:AV14) -> 0 | AT14: =SUMIF('Spec.sk._uzt.izd. neaprēķina'!B:B,B14,'Spec.sk._uzt.izd. neaprēķina'!D:D) -> 0 | AU14: =SUMIF('Spec.sk._uzt.izd. neaprēķina'!B:B,B14,'Spec.sk._uzt.izd. neaprēķina'!E:E) -> 0 | AV14: =SUMIF('Spec.sk._uzt.izd. neaprēķina'!B:B,B14,'Spec.sk._uzt.izd. neaprēķina'!F:F) -> 0 | AW14: =+C14+G14+K14+O14+P14+T14+U14+Y14+AC14+AG14+AH14+AL14+AP14+AQ14+AR14+AS14 -> 2029 | AX14: =+O14+T14+AG14+AP14+AQ14+AR14 -> 276 | AY14: =+AW14-AX14 -> 1753 | AZ14: =+D14+H14+L14+Q14+V14+Z14+AD14+AI14+AM14+AT14 -> 929 | BA14: =+E14+I14+M14+R14+W14+AA14+AE14+AJ14+AN14+AU14 -> 544 | BB14: =+F14+J14+N14+S14+X14+AB14+AF14+AK14+AO14+AV14 -> 280
A15: =+A14+1 -> 11 | B15: Ādažu novads | C15: =SUM(D15:F15) -> 0 | D15: 0 | E15: 0 | F15: 0 | G15: =SUM(H15:J15) -> 2545 | H15: 1624 | I15: 695 | J15: 226 | K15: =SUM(L15:N15) -> 0 | L15: 0 | M15: 0 | N15: 0 | O15: 0 | P15: =SUM(Q15:S15) -> 0 | Q15: 0 | R15: 0 | S15: 0 | T15: 0 | U15: =SUM(V15:X15) -> 0 | V15: 0 | W15: 0 | X15: 0 | Y15: =SUM(Z15:AB15) -> 0 | Z15: 0 | AA15: 0 | AB15: 0 | AC15: =SUM(AD15:AF15) -> 0 | AD15: 0 | AE15: 0 | AF15: 0 | AG15: 0 | AH15: =SUM(AI15:AK15) -> 0 | AI15: 0 | AJ15: 0 | AK15: 0 | AL15: =SUM(AM15:AO15) -> 0 | AQ15: 577 | AR15: =SUMIF('Spec.sk._uzt.izd. neaprēķina'!B:B,B15,'Spec.sk._uzt.izd. neaprēķina'!G:G) -> 0 | AS15: =SUM(AT15:AV15) -> 0 | AT15: =SUMIF('Spec.sk._uzt.izd. neaprēķina'!B:B,B15,'Spec.sk._uzt.izd. neaprēķina'!D:D) -> 0 | AU15: =SUMIF('Spec.sk._uzt.izd. neaprēķina'!B:B,B15,'Spec.sk._uzt.izd. neaprēķina'!E:E) -> 0 | AV15: =SUMIF('Spec.sk._uzt.izd. neaprēķina'!B:B,B15,'Spec.sk._uzt.izd. neaprēķina'!F:F) -> 0 | AW15: =+C15+G15+K15+O15+P15+T15+U15+Y15+AC15+AG15+AH15+AL15+AP15+AQ15+AR15+AS15 -> 3122 | AX15: =+O15+T15+AG15+AP15+AQ15+AR15 -> 577 | AY15: =+AW15-AX15 -> 2545 | AZ15: =+D15+H15+L15+Q15+V15+Z15+AD15+AI15+AM15+AT15 -> 1624 | BA15: =+E15+I15+M15+R15+W15+AA15+AE15+AJ15+AN15+AU15 -> 695 | BB15: =+F15+J15+N15+S15+X15+AB15+AF15+AK15+AO15+AV15 -> 226
A16: =+A15+1 -> 12 | B16: Balvu novads | C16: =SUM(D16:F16) -> 412 | D16: 78 | E16: 196 | F16: 138 | G16: =SUM(H16:J16) -> 1153 | H16: 761 | I16: 253 | J16: 139 | K16: =SUM(L16:N16) -> 186 | L16: 114 | M16: 72 | N16: 0 | O16: 19 | P16: =SUM(Q16:S16) -> 0 | Q16: 0 | R16: 0 | S16: 0 | T16: 0 | U16: =SUM(V16:X16) -> 43 | V16: 0 | W16: 0 | X16: 43 | Y16: =SUM(Z16:AB16) -> 0 | Z16: 0 | AA16: 0 | AB16: 0 | AC16: =SUM(AD16:AF16) -> 0 | AD16: 0 | AE16: 0 | AF16: 0 | AG16: 0 | AH16: =SUM(AI16:AK16) -> 0 | AI16: 0 | AJ16: 0 | AK16: 0 | AL16: =SUM(AM16:AO16) -> 0 | AQ16: 303 | AR16: =SUMIF('Spec.sk._uzt.izd. neaprēķina'!B:B,B16,'Spec.sk._uzt.izd. neaprēķina'!G:G) -> 0 | AS16: =SUM(AT16:AV16) -> 0 | AT16: =SUMIF('Spec.sk._uzt.izd. neaprēķina'!B:B,B16,'Spec.sk._uzt.izd. neaprēķina'!D:D) -> 0 | AU16: =SUMIF('Spec.sk._uzt.izd. neaprēķina'!B:B,B16,'Spec.sk._uzt.izd. neaprēķina'!E:E) -> 0 | AV16: =SUMIF('Spec.sk._uzt.izd. neaprēķina'!B:B,B16,'Spec.sk._uzt.izd. neaprēķina'!F:F) -> 0 | AW16: =+C16+G16+K16+O16+P16+T16+U16+Y16+AC16+AG16+AH16+AL16+AP16+AQ16+AR16+AS16 -> 2116 | AX16: =+O16+T16+AG16+AP16+AQ16+AR16 -> 322 | AY16: =+AW16-AX16 -> 1794 | AZ16: =+D16+H16+L16+Q16+V16+Z16+AD16+AI16+AM16+AT16 -> 953 | BA16: =+E16+I16+M16+R16+W16+AA16+AE16+AJ16+AN16+AU16 -> 521 | BB16: =+F16+J16+N16+S16+X16+AB16+AF16+AK16+AO16+AV16 -> 320
A17: =+A16+1 -> 13 | B17: Bauskas novads | C17: =SUM(D17:F17) -> 819 | D17: 453 | E17: 194 | F17: 172 | G17: =SUM(H17:J17) -> 3665 | H17: 2105 | I17: 1165 | J17: 395 | K17: =SUM(L17:N17) -> 0 | L17: 0 | M17: 0 | N17: 0 | O17: 0 | P17: =SUM(Q17:S17) -> 27 | Q17: 27 | R17: 0 | S17: 0 | T17: 6 | U17: =SUM(V17:X17) -> 0 | V17: 0 | W17: 0 | X17: 0 | Y17: =SUM(Z17:AB17) -> 0 | Z17: 0 | AA17: 0 | AB17: 0 | AC17: =SUM(AD17:AF17) -> 0 | AD17: 0 | AE17: 0 | AF17: 0 | AG17: 0 | AH17: =SUM(AI17:AK17) -> 0 | AI17: 0 | AJ17: 0 | AK17: 0 | AL17: =SUM(AM17:AO17) -> 0 | AQ17: 912 | AR17: =SUMIF('Spec.sk._uzt.izd. neaprēķina'!B:B,B17,'Spec.sk._uzt.izd. neaprēķina'!G:G) -> 0 | AS17: =SUM(AT17:AV17) -> 0 | AT17: =SUMIF('Spec.sk._uzt.izd. neaprēķina'!B:B,B17,'Spec.sk._uzt.izd. neaprēķina'!D:D) -> 0 | AU17: =SUMIF('Spec.sk._uzt.izd. neaprēķina'!B:B,B17,'Spec.sk._uzt.izd. neaprēķina'!E:E) -> 0 | AV17: =SUMIF('Spec.sk._uzt.izd. neaprēķina'!B:B,B17,'Spec.sk._uzt.izd. neaprēķina'!F:F) -> 0 | AW17: =+C17+G17+K17+O17+P17+T17+U17+Y17+AC17+AG17+AH17+AL17+AP17+AQ17+AR17+AS17 -> 5429 | AX17: =+O17+T17+AG17+AP17+AQ17+AR17 -> 918 | AY17: =+AW17-AX17 -> 4511 | AZ17: =+D17+H17+L17+Q17+V17+Z17+AD17+AI17+AM17+AT17 -> 2585 | BA17: =+E17+I17+M17+R17+W17+AA17+AE17+AJ17+AN17+AU17 -> 1359 | BB17: =+F17+J17+N17+S17+X17+AB17+AF17+AK17+AO17+AV17 -> 567
... A47: =+A46+1 -> 43 | B47: Ventspils novads | C47: =SUM(D47:F47) -> 0 | D47: 0 | E47: 0 | F47: 0 | G47: =SUM(H47:J47) -> 611 | H47: 393 | I47: 187 | J47: 31 | K47: =SUM(L47:N47) -> 227 | L47: 126 | M47: 101 | N47: 0 | O47: 25 | P47: =SUM(Q47:S47) -> 0 | Q47: 0 | R47: 0 | S47: 0 | T47: 0 | U47: =SUM(V47:X47) -> 0 | V47: 0 | W47: 0 | X47: 0 | Y47: =SUM(Z47:AB47) -> 0 | Z47: 0 | AA47: 0 | AB47: 0 | AC47: =SUM(AD47:AF47) -> 0 | AD47: 0 | AE47: 0 | AF47: 0 | AG47: 0 | AH47: =SUM(AI47:AK47) -> 0 | AI47: 0 | AJ47: 0 | AK47: 0 | AL47: =SUM(AM47:AO47) -> 0 | AQ47: 163 | AR47: =SUMIF('Spec.sk._uzt.izd. neaprēķina'!B:B,B47,'Spec.sk._uzt.izd. neaprēķina'!G:G) -> 0 | AS47: =SUM(AT47:AV47) -> 0 | AT47: =SUMIF('Spec.sk._uzt.izd. neaprēķina'!B:B,B47,'Spec.sk._uzt.izd. neaprēķina'!D:D) -> 0 | AU47: =SUMIF('Spec.sk._uzt.izd. neaprēķina'!B:B,B47,'Spec.sk._uzt.izd. neaprēķina'!E:E) -> 0 | AV47: =SUMIF('Spec.sk._uzt.izd. neaprēķina'!B:B,B47,'Spec.sk._uzt.izd. neaprēķina'!F:F) -> 0 | AW47: =+C47+G47+K47+O47+P47+T47+U47+Y47+AC47+AG47+AH47+AL47+AP47+AQ47+AR47+AS47 -> 1026 | AX47: =+O47+T47+AG47+AP47+AQ47+AR47 -> 188 | AY47: =+AW47-AX47 -> 838 | AZ47: =+D47+H47+L47+Q47+V47+Z47+AD47+AI47+AM47+AT47 -> 519 | BA47: =+E47+I47+M47+R47+W47+AA47+AE47+AJ47+AN47+AU47 -> 288 | BB47: =+F47+J47+N47+S47+X47+AB47+AF47+AK47+AO47+AV47 -> 31
A48: Kopā | C48: =SUM(C5:C47) -> 19118 | D48: =SUM(D5:D47) -> 3998 | E48: =SUM(E5:E47) -> 7561 | F48: =SUM(F5:F47) -> 7559 | G48: =SUM(G5:G47) -> 173708 | H48: =SUM(H5:H47) -> 105690 | I48: =SUM(I5:I47) -> 49157 | J48: =SUM(J5:J47) -> 18861 | ... BB48: =SUM(BB5:BB47) -> 29462
AZ49: =+AZ48+BA48 -> 173954
C50: 19118 | D50: 3998 | E50: 7561 | F50: 7559 | G50: 173708 | H50: 105690 | I50: 49157 | J50: 18861 | K50: 2683 | L50: 1638 | M50: 1032 | N50: 13 | O50: 459 | P50: 602 | Q50: 602 | R50: 0 | S50: 0 | T50: 319 | U50: 1565 | V50: 0 | W50: 140 | X50: 1425 | Y50: 1257 | Z50: 200 | AA50: 125 | AB50: 932 | AC50: 3206 | AD50: 1926 | AE50: 838 | AF50: 442 | AG50: 77 | AH50: 230 | AI50: 1 | AJ50: 62 | AK50: 167 | AL50: 762 | AM50: 527 | AN50: 172 | AO50: 63 | AP50: 11 | AQ50: 38876 | AR50: 107 | AS50: 285 | AT50: 190 | AU50: 95 | AV50: 0 | AW50: 243265 | AX50: 39849 | AY50: 203416 | AZ50: 114772 | BA50: 59182 | BB50: 29462
C51: =+C48-C50 -> 0 | D51: =+D48-D50 -> 0 | E51: =+E48-E50 -> 0 | F51: =+F48-F50 -> 0 | G51: =+G48-G50 -> 0 | H51: =+H48-H50 -> 0 | I51: =+I48-I50 -> 0 | J51: =+J48-J50 -> 0 | ... BB51: =+BB48-BB50 -> 0
A61: * | B61: Aprēķinā iekļauts izglītojamo skaits, kuriem, saskaņā ar MK 15.07.2016. not.Nr.477, finansējumu uzturēšanas izdevumiem neaprēķina. MK 11.03.2021. not.Nr.155, 8.punkts: "8. Ja pašvaldībām finansējums mācību līdzekļu iegādei saskaņā ar likumu par valsts budžetu kārtējam gadam ir iekļauts apstiprinātajā mērķdotācijā pašvaldību speciālās izglītības iestādēm, kas nodrošina internāta pakalpojumus, šīm izglītības iestādēm šo noteikumu 5. punktā minēto finansējumu nepiešķir."
A63: Izglītojamo skaits PRIVĀTAJĀS izglītības iestādēs 01.09.2022. finansējuma mācību literatūras un mācību līdzekļu iegādei aprēķinam
A64: Izglītības iestādes veids | C64: Izglītojamo skaits 01.09.2021. kopā | D64: t.sk.
D65: pirmsskola | E65: 1.-.6. | F65: 7.-9. | G65: 10.-12.
A67: Pamata un vispārējā vidējā izglītība | C67: =SUM(D67:G67) -> 13186 | E67: 4706 | F67: 2971 | G67: 5509
A68: bērni no 5 gadu vecuma (Latvijas+Starpt.sk.) | C68: =SUM(D68:G68) -> 3688 | D68: 3688
A69: bērni līdz 5 gadu vecumam (Starpt.sk.) | C69: =SUM(D69:G69) -> 242 | D69: 242
A70: Kopā | C70: =SUM(C67:C69) -> 17116 | D70: =SUM(D67:D69) -> 3930 | E70: =SUM(E67:E69) -> 4706 | F70: =SUM(F67:F69) -> 2971 | G70: =SUM(G67:G69) -> 5509
E71: =SUM(E70:G70) -> 13186
A73: Izglītojamo skaits izglītības iestādēs 01.09.2021. finansējuma mācību literatūras un mācību līdzekļu iegādei aprēķinam KOPĀ | C73: =+C70+AW48 -> 260381 | D73: =+D70+AX48 -> 43779 | E73: =+E70+AZ48 -> 119478 | F73: =+F70+BA48 -> 62153 | G73: =+G70+BB48 -> 34971
E74: =+E73+F73+G73 -> 216602

Sheet Spec.sk._uzt.izd. neaprēķina
A1: SIS (VIIS - 2.atskaite) SIS-AC (VIIS - 3.atskaite)
A3: Iestādes | B3: Pašvaldība | C3: Izglītijamo skaits 01.09.2022.
C4: Pavisam Kopā | H4: (53) | M4: (54) | R4: (55) | W4: (56) skola | AA4: visp. izgl | AE4: parastā pirmssk. | AG4: Kontrolskaitļi
C5: Kopā 1.-12. | D5: 1.-6. | E5: 7.-9. | F5: 10.-12. | G5: pirmssk. | H5: Kopā 1.-12. | I5: 1.-6. | J5: 7.-9. | K5: 10.-12. | L5: pirmssk. | M5: Kopā 1.-12. | N5: 1.-6. | O5: 7.-9. | P5: 10.-12. | Q5: pirmssk. | R5: Kopā 1.-12. | S5: 1.-6. | T5: 7.-9. | U5: 10.-12. | V5: pirmssk. | W5: Kopā 1.-12. | X5: 1.-6. | Y5: 7.-9. | Z5: 10.-12. | AA5: Kopā 1.-12. | AB5: 1.-6. | AC5: 7.-9. | AD5: 10.-12.
A6: Rīgas 2. pamatskola | B6: RĪGA | C6: =SUBTOTAL(9,D6:F6) -> 0 | D6: =+I6+N6+S6+X6+AB6 -> 0 | E6: =+J6+O6+T6+Y6+AC6 -> 0 | F6: =+K6+P6+U6+Z6+AD6 -> 0 | G6: =+L6+Q6+V6+AE6 -> 0 | H6: =SUBTOTAL(9,I6:K6) -> 0 | M6: =SUBTOTAL(9,N6:P6) -> 0 | R6: =SUBTOTAL(9,S6:U6) -> 0 | W6: =SUBTOTAL(9,X6:Z6) -> 0 | AA6: =SUBTOTAL(9,AB6:AD6) -> 0 | AG6: 0 | AH6: =+AG6-C6-G6 -> 0
A7: Rīgas 4. pamatskola | B7: RĪGA | C7: =SUBTOTAL(9,D7:F7) -> 0 | D7: =+I7+N7+S7+X7+AB7 -> 0 | E7: =+J7+O7+T7+Y7+AC7 -> 0 | F7: =+K7+P7+U7+Z7+AD7 -> 0 | G7: =+L7+Q7+V7+AE7 -> 0 | H7: =SUBTOTAL(9,I7:K7) -> 0 | M7: =SUBTOTAL(9,N7:P7) -> 0 | R7: =SUBTOTAL(9,S7:U7) -> 0 | W7: =SUBTOTAL(9,X7:Z7) -> 0 | AA7: =SUBTOTAL(9,AB7:AD7) -> 0 | AG7: 0 | AH7: =+AG7-C7-G7 -> 0
A8: Rīgas Daugavas pamatskola | B8: RĪGA | C8: =SUBTOTAL(9,D8:F8) -> 0 | D8: =+I8+N8+S8+X8+AB8 -> 0 | E8: =+J8+O8+T8+Y8+AC8 -> 0 | F8: =+K8+P8+U8+Z8+AD8 -> 0 | G8: =+L8+Q8+V8+AE8 -> 0 | H8: =SUBTOTAL(9,I8:K8) -> 0 | M8: =SUBTOTAL(9,N8:P8) -> 0 | R8: =SUBTOTAL(9,S8:U8) -> 0 | W8: =SUBTOTAL(9,X8:Z8) -> 0 | AA8: =SUBTOTAL(9,AB8:AD8) -> 0 | AG8: 0 | AH8: =+AG8-C8-G8 -> 0
A9: Rīgas Ēbelmuižas pamatskola | B9: RĪGA | C9: =SUBTOTAL(9,D9:F9) -> 0 | D9: =+I9+N9+S9+X9+AB9 -> 0 | E9: =+J9+O9+T9+Y9+AC9 -> 0 | F9: =+K9+P9+U9+Z9+AD9 -> 0 | G9: =+L9+Q9+V9+AE9 -> 0 | H9: =SUBTOTAL(9,I9:K9) -> 0 | M9: =SUBTOTAL(9,N9:P9) -> 0 | R9: =SUBTOTAL(9,S9:U9) -> 0 | W9: =SUBTOTAL(9,X9:Z9) -> 0 | AA9: =SUBTOTAL(9,AB9:AD9) -> 0 | AG9: 0 | AH9: =+AG9-C9-G9 -> 0
A10: Jelgavas Paula Bendrupa pamatskola | B10: JELGAVA | C10: =SUBTOTAL(9,D10:F10) -> 0 | D10: =+I10+N10+S10+X10+AB10 -> 0 | E10: =+J10+O10+T10+Y10+AC10 -> 0 | F10: =+K10+P10+U10+Z10+AD10 -> 0 | G10: =+L10+Q10+V10+AE10 -> 0 | H10: =SUBTOTAL(9,I10:K10) -> 0 | M10: =SUBTOTAL(9,N10:P10) -> 0 | R10: =SUBTOTAL(9,S10:U10) -> 0 | W10: =SUBTOTAL(9,X10:Z10) -> 0 | AA10: =SUBTOTAL(9,AB10:AD10) -> 0 | AG10: 0 | AH10: =+AG10-C10-G10 -> 0
A11: Jūrmalas pamatskola | B11: JŪRMALA | C11: =SUBTOTAL(9,D11:F11) -> 0 | D11: =+I11+N11+S11+X11+AB11 -> 0 | E11: =+J11+O11+T11+Y11+AC11 -> 0 | F11: =+K11+P11+U11+Z11+AD11 -> 0 | G11: =+L11+Q11+V11+AE11 -> 0 | H11: =SUBTOTAL(9,I11:K11) -> 0 | M11: =SUBTOTAL(9,N11:P11) -> 0 | R11: =SUBTOTAL(9,S11:U11) -> 0 | W11: =SUBTOTAL(9,X11:Z11) -> 0 | AA11: =SUBTOTAL(9,AB11:AD11) -> 0 | AG11: 0 | AH11: =+AG11-C11-G11 -> 0
A12: Padures pamatskola | B12: DIENVIDKURZEMES NOVADS | C12: =SUBTOTAL(9,D12:F12) -> 0 | D12: =+I12+N12+S12+X12+AB12 -> 0 | E12: =+J12+O12+T12+Y12+AC12 -> 0 | F12: =+K12+P12+U12+Z12+AD12 -> 0 | G12: =+L12+Q12+V12+AE12 -> 0 | H12: =SUBTOTAL(9,I12:K12) -> 0 | M12: =SUBTOTAL(9,N12:P12) -> 0 | R12: =SUBTOTAL(9,S12:U12) -> 0 | W12: =SUBTOTAL(9,X12:Z12) -> 0 | AA12: =SUBTOTAL(9,AB12:AD12) -> 0 | AG12: 0 | AH12: =+AG12-C12-G12 -> 0
A13: Spāres pamatskola | B13: CĒSU NOVADS | C13: =SUBTOTAL(9,D13:F13) -> 0 | D13: =+I13+N13+S13+X13+AB13 -> 0 | E13: =+J13+O13+T13+Y13+AC13 -> 0 | F13: =+K13+P13+U13+Z13+AD13 -> 0 | G13: =+L13+Q13+V13+AE13 -> 0 | H13: =SUBTOTAL(9,I13:K13) -> 0 | M13: =SUBTOTAL(9,N13:P13) -> 0 | R13: =SUBTOTAL(9,S13:U13) -> 0 | W13: =SUBTOTAL(9,X13:Z13) -> 0 | AA13: =SUBTOTAL(9,AB13:AD13) -> 0 | AG13: 0 | AH13: =+AG13-C13-G13 -> 0
A14: Gaujienas pamatskola | B14: SMILTENES NOVADS | C14: =SUBTOTAL(9,D14:F14) -> 0 | D14: =+I14+N14+S14+X14+AB14 -> 0 | E14: =+J14+O14+T14+Y14+AC14 -> 0 | F14: =+K14+P14+U14+Z14+AD14 -> 0 | G14: =+L14+Q14+V14+AE14 -> 0 | H14: =SUBTOTAL(9,I14:K14) -> 0 | M14: =SUBTOTAL(9,N14:P14) -> 0 | R14: =SUBTOTAL(9,S14:U14) -> 0 | W14: =SUBTOTAL(9,X14:Z14) -> 0 | AA14: =SUBTOTAL(9,AB14:AD14) -> 0 | AG14: 0 | AH14: =+AG14-C14-G14 -> 0
A15: Pamūšas speciālā pamatskola | B15: BAUSKAS NOVADS | C15: =SUBTOTAL(9,D15:F15) -> 0 | D15: =+I15+N15+S15+X15+AB15 -> 0 | E15: =+J15+O15+T15+Y15+AC15 -> 0 | F15: =+K15+P15+U15+Z15+AD15 -> 0 | G15: =+L15+Q15+V15+AE15 -> 0 | H15: =SUBTOTAL(9,I15:K15) -> 0 | M15: =SUBTOTAL(9,N15:P15) -> 0 | R15: =SUBTOTAL(9,S15:U15) -> 0 | W15: =SUBTOTAL(9,X15:Z15) -> 0 | AA15: =SUBTOTAL(9,AB15:AD15) -> 0 | AG15: 0 | AH15: =+AG15-C15-G15 -> 0
A16: Aleksandrovas pamatskola | B16: KRĀSLAVAS NOVADS | C16: =SUBTOTAL(9,D16:F16) -> 0 | D16: =+I16+N16+S16+X16+AB16 -> 0 | E16: =+J16+O16+T16+Y16+AC16 -> 0 | F16: =+K16+P16+U16+Z16+AD16 -> 0 | G16: =+L16+Q16+V16+AE16 -> 0 | H16: =SUBTOTAL(9,I16:K16) -> 0 | M16: =SUBTOTAL(9,N16:P16) -> 0 | R16: =SUBTOTAL(9,S16:U16) -> 0 | W16: =SUBTOTAL(9,X16:Z16) -> 0 | AA16: =SUBTOTAL(9,AB16:AD16) -> 0 | AG16: 0 | AH16: =+AG16-C16-G16 -> 0
A17: Medumu speciālā pamatskola | B17: AUGŠDAUGAVAS NOVADS | C17: =SUBTOTAL(9,D17:F17) -> 0 | D17: =+I17+N17+S17+X17+AB17 -> 0 | E17: =+J17+O17+T17+Y17+AC17 -> 0 | F17: =+K17+P17+U17+Z17+AD17 -> 0 | G17: =+L17+Q17+V17+AE17 -> 0 | H17: =SUBTOTAL(9,I17:K17) -> 0 | M17: =SUBTOTAL(9,N17:P17) -> 0 | R17: =SUBTOTAL(9,S17:U17) -> 0 | W17: =SUBTOTAL(9,X17:Z17) -> 0 | AA17: =SUBTOTAL(9,AB17:AD17) -> 0 | AG17: 0 | AH17: =+AG17-C17-G17 -> 0
... A39: Daugavpils Stropu pamatskola - attīstības centrs | B39: DAUGAVPILS | C39: =SUBTOTAL(9,D39:F39) -> 0 | D39: =+I39+N39+S39+X39+AB39 -> 0 | E39: =+J39+O39+T39+Y39+AC39 -> 0 | F39: =+K39+P39+U39+Z39+AD39 -> 0 | G39: =+L39+Q39+V39+AE39 -> 0 | H39: =SUBTOTAL(9,I39:K39) -> 0 | M39: =SUBTOTAL(9,N39:P39) -> 0 | R39: =SUBTOTAL(9,S39:U39) -> 0 | W39: =SUBTOTAL(9,X39:Z39) -> 0 | AA39: =SUBTOTAL(9,AB39:AD39) -> 0 | AG39: 0 | AH39: =+AG39-C39-G39 -> 0
A40: Jelgavas pamatskola "Valdeka" - attīstības centrs | B40: JELGAVA | C40: =SUBTOTAL(9,D40:F40) -> 82 | D40: =+I40+N40+S40+X40+AB40 -> 60 | E40: =+J40+O40+T40+Y40+AC40 -> 22 | F40: =+K40+P40+U40+Z40+AD40 -> 0 | G40: =+L40+Q40+V40+AE40 -> 0 | H40: =SUBTOTAL(9,I40:K40) -> 13 | I40: 5 | J40: 8 | K40: 0 | M40: =SUBTOTAL(9,N40:P40) -> 1 | N40: 1 | O40: 0 | P40: 0 | R40: =SUBTOTAL(9,S40:U40) -> 0 | W40: =SUBTOTAL(9,X40:Z40) -> 68 | X40: 54 | Y40: 14 | Z40: 0 | AA40: =SUBTOTAL(9,AB40:AD40) -> 0 | AG40: 82 | AH40: =+AG40-C40-G40 -> 0
A41: "Liepājas Līvupes pamatskola - attīstības centrs" | B41: LIEPĀJA | C41: =SUBTOTAL(9,D41:F41) -> 0 | D41: =+I41+N41+S41+X41+AB41 -> 0 | E41: =+J41+O41+T41+Y41+AC41 -> 0 | F41: =+K41+P41+U41+Z41+AD41 -> 0 | G41: =+L41+Q41+V41+AE41 -> 0 | H41: =SUBTOTAL(9,I41:K41) -> 0 | M41: =SUBTOTAL(9,N41:P41) -> 0 | R41: =SUBTOTAL(9,S41:U41) -> 0 | W41: =SUBTOTAL(9,X41:Z41) -> 0 | AA41: =SUBTOTAL(9,AB41:AD41) -> 0 | AG41: 0 | AH41: =+AG41-C41-G41 -> 0
A42: Rēzeknes pamatskola-attīstības centrs | B42: RĒZEKNE | C42: =SUBTOTAL(9,D42:F42) -> 83 | D42: =+I42+N42+S42+X42+AB42 -> 55 | E42: =+J42+O42+T42+Y42+AC42 -> 28 | F42: =+K42+P42+U42+Z42+AD42 -> 0 | G42: =+L42+Q42+V42+AE42 -> 18 | H42: =SUBTOTAL(9,I42:K42) -> 0 | L42: 2 | M42: =SUBTOTAL(9,N42:P42) -> 0 | Q42: 7 | R42: =SUBTOTAL(9,S42:U42) -> 38 | S42: 25 | T42: 13 | U42: 0 | V42: 9 | W42: =SUBTOTAL(9,X42:Z42) -> 45 | X42: 30 | Y42: 15 | Z42: 0 | AA42: =SUBTOTAL(9,AB42:AD42) -> 0 | AG42: 101 | AH42: =+AG42-C42-G42 -> 0
A43: Valmieras Gaujas krasta vidusskola - attīstības centrs | B43: VALMIERAS NOVADS | C43: =SUBTOTAL(9,D43:F43) -> 0 | D43: =+I43+N43+S43+X43+AB43 -> 0 | E43: =+J43+O43+T43+Y43+AC43 -> 0 | F43: =+K43+P43+U43+Z43+AD43 -> 0 | G43: =+L43+Q43+V43+AE43 -> 0 | H43: =SUBTOTAL(9,I43:K43) -> 0 | M43: =SUBTOTAL(9,N43:P43) -> 0 | R43: =SUBTOTAL(9,S43:U43) -> 0 | W43: =SUBTOTAL(9,X43:Z43) -> 0 | AA43: =SUBTOTAL(9,AB43:AD43) -> 0 | AG43: 0 | AH43: =+AG43-C43-G43 -> 0
A44: Cēsu Bērzaines pamatskola-attīstības centrs | B44: CĒSU NOVADS | C44: =SUBTOTAL(9,D44:F44) -> 120 | D44: =+I44+N44+S44+X44+AB44 -> 75 | E44: =+J44+O44+T44+Y44+AC44 -> 45 | F44: =+K44+P44+U44+Z44+AD44 -> 0 | G44: =+L44+Q44+V44+AE44 -> 89 | H44: =SUBTOTAL(9,I44:K44) -> 0 | M44: =SUBTOTAL(9,N44:P44) -> 15 | N44: 4 | O44: 11 | P44: 0 | Q44: 3 | R44: =SUBTOTAL(9,S44:U44) -> 9 | S44: 4 | T44: 5 | U44: 0 | V44: 75 | W44: =SUBTOTAL(9,X44:Z44) -> 56 | X44: 31 | Y44: 25 | Z44: 0 | AA44: =SUBTOTAL(9,AB44:AD44) -> 40 | AB44: 36 | AC44: 4 | AD44: 0 | AE44: 11 | AG44: 209 | AH44: =+AG44-C44-G44 -> 0
A45: Kokneses pamatskola - attīstības centrs | B45: AIZKRAUKLES NOVADS | C45: =SUBTOTAL(9,D45:F45) -> 0 | D45: =+I45+N45+S45+X45+AB45 -> 0 | E45: =+J45+O45+T45+Y45+AC45 -> 0 | F45: =+K45+P45+U45+Z45+AD45 -> 0 | G45: =+L45+Q45+V45+AE45 -> 0 | H45: =SUBTOTAL(9,I45:K45) -> 0 | M45: =SUBTOTAL(9,N45:P45) -> 0 | R45: =SUBTOTAL(9,S45:U45) -> 0 | W45: =SUBTOTAL(9,X45:Z45) -> 0 | AA45: =SUBTOTAL(9,AB45:AD45) -> 0 | AG45: 0 | AH45: =+AG45-C45-G45 -> 0
A46: Viduskurzemes pamatskola-attīstības centrs | B46: KULDĪGAS NOVADS | C46: =SUBTOTAL(9,D46:F46) -> 0 | D46: =+I46+N46+S46+X46+AB46 -> 0 | E46: =+J46+O46+T46+Y46+AC46 -> 0 | F46: =+K46+P46+U46+Z46+AD46 -> 0 | G46: =+L46+Q46+V46+AE46 -> 0 | H46: =SUBTOTAL(9,I46:K46) -> 0 | M46: =SUBTOTAL(9,N46:P46) -> 0 | R46: =SUBTOTAL(9,S46:U46) -> 0 | W46: =SUBTOTAL(9,X46:Z46) -> 0 | AA46: =SUBTOTAL(9,AB46:AD46) -> 0 | AG46: 0 | AH46: =+AG46-C46-G46 -> 0
A47: KOPĀ | C47: =SUM(C6:C46) -> 285 | D47: =SUM(D6:D46) -> 190 | E47: =SUM(E6:E46) -> 95 | F47: =SUM(F6:F46) -> 0 | G47: =SUM(G6:G46) -> 107 | H47: =SUM(H6:H46) -> 13 | I47: =SUM(I6:I46) -> 5 | J47: =SUM(J6:J46) -> 8 | ... AE47: =SUM(AE6:AE46) -> 11 | AG47: =SUM(AG6:AG46) -> 392 | AH47: =+AG47-C47-G47 -> 0
