Workbook

Sheet PIRMS
B2: VSIA DAILES TEĀTRIS FINANŠU RĀDĪTĀJI PIRMS ĒKAS PĀRŅEMŠANAS UN MAZĀS ZĀLES RENOVĀCIJAS
B5: PEĻŅAS UN ZAUDĒJUMU APRĒĶINS (EUR) | C5: F 2018 | D5: F 2019 | E5: F 2020 | F5: F 2021 | G5: F 2022 | H5: P 2023 | I5: P 2024 | J5: P 2025 | K5: P 2026 | L5: P 2027 | M5: P 2028
B7: Neto apgrozījums | C7: =SUM(C8:C10) -> 2538446 | D7: =SUM(D8:D10) -> 2633524 | E7: =SUM(E8:E10) -> 1260208 | F7: =SUM(F8:F10) -> 808521 | G7: =SUM(G8:G10) -> 3051699 | H7: =SUM(H8:H10) -> 3300319.3 | I7: =SUM(I8:I10) -> 4066014.9 | J7: =SUM(J8:J10) -> 4305863.2 | ... M7: =SUM(M8:M10) -> 4945697
B8: Biļešu pārdošana | C8: 2276672 | D8: 2389712 | E8: 1153780 | F8: 638502 | G8: 2757500 | H8: =H122+H123 -> 2976700.4 | I8: =I122+I123 -> 3685276.4 | J8: =J122+J123 -> 3915606.2 | K8: =K122+K123 -> 4104169.5 | L8: =L122+L123 -> 4301552.9 | M8: =M122+M123 -> 4525433
B9: Ieņēmumi par telpu nomu | C9: 261774 | D9: 243812 | E9: 106428 | F9: 170019 | G9: 294199 | H9: =H126+H127 -> 323618.9 | I9: =I126+I127 -> 380738.52 | J9: =J126+J127 -> 390256.98 | K9: =K126+K127 -> 400013.4 | L9: =L126+L127 -> 410013.74 | M9: =M126+M127 -> 420264.08
B11: Ražošanas izmaksas | C11: =SUM(C12:C16) -> 3932411 | D11: =SUM(D12:D16) -> 3959004 | E11: =SUM(E12:E16) -> 4159822 | F11: =SUM(F12:F16) -> 3289055 | G11: =SUM(G12:G16) -> 5464835 | H11: =SUM(H12:H16) -> 5836228.6 | I11: =SUM(I12:I16) -> 6380684.4 | J11: =SUM(J12:J16) -> 6695606.7 | ... M11: =SUM(M12:M16) -> 7508312.1
B12: Mākslinieciskā personāla izmaksas | C12: =1734815+421321+304012+69558-6341 -> 2523365 | D12: =2110860+505721-7941 -> 2608640 | E12: =2143177+504217+26888 -> 2674282 | F12: =2055261+472374+3468 -> 2531103 | G12: =2847929+662812+27043 -> 3537784 | H12: =H131+H132 -> 3824622.1 | I12: =I131+I132 -> 4265154.5 | J12: =J131+J132 -> 4478412.2 | K12: =K131+K132 -> 4657548.7 | L12: =L131+L132 -> 4843850.6 | M12: =M131+M132 -> 5037604.6
B13: Komunālie maksājumi | C13: 223225 | D13: =204444+52734 -> 257178 | E13: =179290+72913 -> 252203 | F13: =183340+53958 -> 237298 | G13: =354321+76382 -> 430703 | H13: =H133+H134 -> 473773.3 | I13: =I133+I134 -> 484196.31 | J13: =J133+J134 -> 496301.22 | K13: =K133+K134 -> 508708.75 | L13: =L133+L134 -> 521426.47 | M13: =M133+M134 -> 534462.13
B14: Izrāžu uzturēšanas izmaksas | C14: 642822 | D14: 530376 | E14: 690955 | F14: 298158 | G14: =666569 -> 666569 | H14: =H135+H136 -> 761512.5 | I14: =I135+I136 -> 783489.03 | J14: =J135+J136 -> 816460.87 | K14: =K135+K136 -> 836872.39 | L14: =L135+L136 -> 857794.2 | M14: =M135+M136 -> 879239.05
B15: Autoratlīdzības izmaksas | C15: 371075 | D15: 408950 | E15: 222899 | F15: 62466 | G15: 510677 | H15: =H137+H138 -> 552081.9 | I15: =I137+I138 -> 615672.49 | J15: =J137+J138 -> 646456.12 | K15: =K137+K138 -> 672314.36 | L15: =L137+L138 -> 699206.93 | M15: =M137+M138 -> 727175.21
B16: Citas izmaksas | C16: =4045064-SUM(C12:C15)-C32 -> 171924 | D16: =4088753-SUM(D12:D15)-D32 -> 153860 | E16: =4257512-SUM(E12:E15)-E32 -> 319483 | F16: =3389093-SUM(F12:F15)-F32 -> 160030 | G16: =5778305-SUM(G12:G15)-G32 -> 319102 | H16: =H139+H140 -> 224238.8 | I16: =I139+I140 -> 232172.05 | J16: =J139+J140 -> 257976.35 | K16: =K139+K140 -> 294425.76 | L16: =L139+L140 -> 321786.41 | M16: =M139+M140 -> 329831.07
B18: Bruto peļņa | C18: =C7-C11 -> -1393965 | D18: =D7-D11 -> -1325480 | E18: =E7-E11 -> -2899614 | F18: =F7-F11 -> -2480534 | G18: =G7-G11 -> -2413136 | H18: =H7-H11 -> -2535909.3 | I18: =I7-I11 -> -2314669.4 | J18: =J7-J11 -> -2389743.6 | ... M18: =M7-M11 -> -2562615.1
B20: Pārējie ieņēmumi | C20: =SUM(C21:C23) -> 2090980 | D20: =SUM(D21:D23) -> 2048664 | E20: =SUM(E21:E23) -> 3775609 | F20: =SUM(F21:F23) -> 3266036 | G20: =SUM(G21:G23) -> 3713928 | H20: =SUM(H21:H23) -> 3887030.7 | I20: =SUM(I21:I23) -> 3754196 | J20: =SUM(J21:J23) -> 3841734.7 | ... M20: =SUM(M21:M23) -> 3986111.3
B21: KM dotācijas | C21: =1909307+69274 -> 1978581 | D21: =1897972+46882 -> 1944854 | E21: =2501494+1005157 -> 3506651 | F21: =2944996 -> 2944996 | G21: =3172538+142505 -> 3315043 | H21: =H124 -> 3247258 | I21: =I124 -> 3318697.7 | J21: =J124 -> 3401665.1 | K21: =K124 -> 3486706.7 | L21: =L124 -> 3573874.4 | M21: =M124 -> 3663221.3
B22: Piešķirtā finansējuma pamatlīdzekļiem atzīšana ieņēmumos | C22: 4167 | D22: =25896 -> 25896 | E22: 107860 | F22: 74593 | G22: =142505+84346 -> 226851 | H22: =H125 -> 460859 | I22: =I125 -> 252648.5 | J22: =J125 -> 252648.5 | K22: =K125 -> 252648.5 | L22: =L125 -> 252648.5 | M22: =M125 -> 121058
B23: Citi ieņēmumi | C23: =2090980-C21-C22 -> 108232 | D23: =2036678-D21-D22+11986 -> 77914 | E23: =3774270-E21-E22+1339 -> 161098 | F23: =3266036-F21-F22 -> 246447 | G23: =3713928-G21-G22 -> 172034 | H23: =H128 -> 178913.71 | I23: =I128 -> 182849.81 | J23: =J128 -> 187421.05 | K23: =K128 -> 192106.58 | L23: =L128 -> 196909.24 | M23: =M128 -> 201831.98
B25: Pārējās izmaksas | C25: =SUM(C26:C28) -> 582294 | D25: =SUM(D26:D28) -> 587761 | E25: =SUM(E26:E28) -> 771230 | F25: =SUM(F26:F28) -> 681511 | G25: =SUM(G26:G28) -> 972375 | H25: =SUM(H26:H28) -> 972590.97 | I25: =SUM(I26:I28) -> 1047091.1 | J25: =SUM(J26:J28) -> 1089156.4 | ... M25: =SUM(M26:M28) -> 1204914.7
B26: Administrācijas un reklāmas personāla izmaksas | C26: =46274+12176+213972+49274 -> 321696 | D26: =29486+9602+212313+47955 -> 299356 | E26: =49854+11877+345324+81592 -> 488647 | F26: =268517+60659+98955+23344 -> 451475 | G26: =287182+65823+131454+27988 -> 512447 | H26: =H141+H142 -> 569878.55 | I26: =I141+I142 -> 635519.02 | J26: =J141+J142 -> 667294.97 | K26: =K141+K142 -> 693986.77 | L26: =L141+L142 -> 721746.24 | M26: =M141+M142 -> 750616.09
B27: Citas netiešās izmaksas | C27: =127166+5502+294627-213972-49274+14493 -> 178542 | D27: =126926+4262+293569-212313-47955+23653 -> 188142 | E27: =58317+11085+492462-345324-81592+13284 -> 148232 | F27: =27895+3186+440622-268517-60659 -> 142527 | G27: =75081+86+49765+509716-287182-65823 -> 281643 | H27: =H143+H144 -> 206598.92 | I27: =I143+I144 -> 211144.1 | J27: =J143+J144 -> 216422.7 | K27: =K143+K144 -> 221833.27 | L27: =L143+L144 -> 227379.1 | M27: =M143+M144 -> 233063.58
B28: Reklāmas izmaksas | C28: 82056 | D28: =100263 -> 100263 | E28: 134351 | F28: =87509 -> 87509 | G28: 178285 | H28: =H145+H146 -> 196113.5 | I28: =I145+I146 -> 200428 | J28: =J145+J146 -> 205438.7 | K28: =K145+K146 -> 210574.66 | L28: =L145+L146 -> 215839.03 | M28: =M145+M146 -> 221235.01
B30: Peļņa pirms nolietojuma (EBITDA) | C30: =C18+C20-C25 -> 114721 | D30: =D18+D20-D25 -> 135423 | E30: =E18+E20-E25 -> 104765 | F30: =F18+F20-F25 -> 103991 | G30: =G18+G20-G25 -> 328417 | H30: =H18+H20-H25 -> 378530.44 | I30: =I18+I20-I25 -> 392435.45 | J30: =J18+J20-J25 -> 362834.74 | ... M30: =M18+M20-M25 -> 218581.51
B32: Nolietojums | C32: 112653 | D32: 129749 | E32: 97690 | F32: 100038 | G32: 313470 | H32: =SUM(H153:H154)+H157 -> 365513.23 | I32: =SUM(I153:I154)+I157 -> 364272.06 | J32: =SUM(J153:J154)+J157 -> 333967.83 | K32: =SUM(K153:K154)+K157 -> 312765.77 | L32: =SUM(L153:L154)+L157 -> 299771.06 | M32: =SUM(M153:M154)+M157 -> 193711.97
B34: Peļņa pēc nolietojuma (EBIT) | C34: =C30-C32 -> 2068 | D34: =D30-D32 -> 5674 | E34: =E30-E32 -> 7075 | F34: =F30-F32 -> 3953 | G34: =G30-G32 -> 14947 | H34: =H30-H32 -> 13017.213 | I34: =I30-I32 -> 28163.386 | J34: =J30-J32 -> 28866.904 | ... M34: =M30-M32 -> 24869.543
B36: Procentu maksājumi | C36: 0 | D36: 0 | E36: 0 | F36: 0 | G36: 0 | H36: =H163+H164 -> 11016.788 | I36: =I163+I164 -> 23433.577 | J36: =J163+J164 -> 20783.577 | K36: =K163+K164 -> 18133.577 | L36: =L163+L164 -> 15483.577 | M36: =M163+M164 -> 12833.577
B38: Peļņa pirms nodokļiem (EBT) | C38: =C34-C36 -> 2068 | D38: =D34-D36 -> 5674 | E38: =E34-E36 -> 7075 | F38: =F34-F36 -> 3953 | G38: =G34-G36 -> 14947 | H38: =H34-H36 -> 2000.4253 | I38: =I34-I36 -> 4729.8092 | J38: =J34-J36 -> 8083.3275 | ... M38: =M34-M36 -> 12035.967
B40: Uzņēmuma ienākuma nodoklis | C40: 406 | D40: 841 | E40: 2127 | F40: 0 | G40: 8957 | H40: 0 | I40: 0 | J40: 0 | K40: 0 | L40: 0 | M40: 0
B42: Neto peļņa | C42: =C38-C40 -> 1662 | D42: =D38-D40 -> 4833 | E42: =E38-E40 -> 4948 | F42: =F38-F40 -> 3953 | G42: =G38-G40 -> 5990 | H42: =H38-H40 -> 2000.4253 | I42: =I38-I40 -> 4729.8092 | J42: =J38-J40 -> 8083.3275 | ... M42: =M38-M40 -> 12035.967
B45: BILANCE (EUR) | C45: =C5 -> F 2018 | D45: =D5 -> F 2019 | E45: =E5 -> F 2020 | F45: =F5 -> F 2021 | G45: =G5 -> F 2022 | H45: =H5 -> P 2023 | I45: =I5 -> P 2024 | J45: =J5 -> P 2025 | ... M45: =M5 -> P 2028
B46: AKTĪVI
B47: Nemateriālie aktīvi | C47: 7891 | D47: 5331 | E47: 2772 | F47: 213 | G47: 5958 | H47: =G47-SUM(H153)*0.5% -> 4355.001 | I47: =H47-SUM(I153)*0.5% -> 3072.6018 | J47: =I47-SUM(J153)*0.5% -> 2046.6824 | K47: =J47-SUM(K153)*0.5% -> 1225.947 | L47: =K47-SUM(L153)*0.5% -> 569.35856 | M47: =L47-SUM(M153)*0.5% -> 317.67204
B48: Pamatlīdzekļi | C48: 292520 | D48: 220608 | E48: 518358 | F48: 1153720 | G48: 1597041 | H48: =G48+H152-H153*99.5%-H154+H156-H157 -> 1772091.9 | I48: =H48+I152-I153*99.5%-I154+I156-I157 -> 1514060.9 | J48: =I48+J152-J153*99.5%-J154+J156-J157 -> 1280292.5 | K48: =J48+K152-K153*99.5%-K154+K156-K157 -> 1067521.1 | L48: =K48+L152-L153*99.5%-L154+L156-L157 -> 867580.15 | M48: =L48+M152-M153*99.5%-M154+M156-M157 -> 773293.42
B49: Ilgtermiņa aktīvi kopā | C49: =SUM(C47:C48) -> 300411 | D49: =SUM(D47:D48) -> 225939 | E49: =SUM(E47:E48) -> 521130 | F49: =SUM(F47:F48) -> 1153933 | G49: =SUM(G47:G48) -> 1602999 | H49: =SUM(H47:H48) -> 1776446.9 | I49: =SUM(I47:I48) -> 1517133.5 | J49: =SUM(J47:J48) -> 1282339.2 | ... M49: =SUM(M47:M48) -> 773611.09
B51: Krājumi | C51: 530297 | D51: 545816 | E51: 213767 | F51: 471448 | G51: 772162 | H51: =G51*(1+H170) -> 795326.86 | I51: =H51*(1+I170) -> 819186.67 | J51: =I51*(1+J170) -> 843762.27 | K51: =J51*(1+K170) -> 869075.13 | L51: =K51*(1+L170) -> 895147.39 | M51: =L51*(1+M170) -> 922001.81
B52: Debitori | C52: 55881 | D52: 27657 | E52: 32733 | F52: 49880 | G52: 34655 | H52: =H7/360*H169 -> 45837.768 | I52: =I7/360*I169 -> 56472.43 | J52: =J7/360*J169 -> 59803.655 | K52: =K7/360*K169 -> 62558.096 | L52: =L7/360*L169 -> 65438.426 | M52: =M7/360*M169 -> 68690.237
B53: Nauda | C53: 18990 | D53: 285324 | E53: 568906 | F53: 266776 | G53: 697171 | H53: =H96 -> 599411.69 | I53: =I96 -> 772722.56 | J53: =J96 -> 781352.6 | K53: =K96 -> 753433.18 | L53: =L96 -> 716402.56 | M53: =M96 -> 711142.48
B54: Īstermiņa aktīvi kopā | C54: =SUM(C51:C53) -> 605168 | D54: =SUM(D51:D53) -> 858797 | E54: =SUM(E51:E53) -> 815406 | F54: =SUM(F51:F53) -> 788104 | G54: =SUM(G51:G53) -> 1503988 | H54: =SUM(H51:H53) -> 1440576.3 | I54: =SUM(I51:I53) -> 1648381.7 | J54: =SUM(J51:J53) -> 1684918.5 | ... M54: =SUM(M51:M53) -> 1701834.5
B55: AKTĪVI KOPĀ | C55: =C49+C54 -> 905579 | D55: =D49+D54 -> 1084736 | E55: =E49+E54 -> 1336536 | F55: =F49+F54 -> 1942037 | G55: =G49+G54 -> 3106987 | H55: =H49+H54 -> 3217023.2 | I55: =I49+I54 -> 3165515.2 | J55: =J49+J54 -> 2967257.8 | ... M55: =M49+M54 -> 2475445.6
B57: PAŠU KAPITĀLS UN SAISTĪBAS
B58: Pamatkapitāls | C58: 54228 | D58: 54228 | E58: 54228 | F58: 151318 | G58: 151318 | H58: =G58+H149 -> 151318 | I58: =H58+I149 -> 151318 | J58: =I58+J149 -> 151318 | K58: =J58+K149 -> 151318 | L58: =K58+L149 -> 151318 | M58: =L58+M149 -> 151318
B59: Rezeves | C59: =71 -> 71 | D59: 1 | E59: 1 | F59: 1 | G59: 1 | H59: =G59 -> 1 | I59: =H59 -> 1 | J59: =I59 -> 1 | K59: =J59 -> 1 | L59: =K59 -> 1 | M59: =L59 -> 1
B60: Iepriekšējo gadu uzkrātā peļņa | C60: -29445 | D60: -27783 | E60: =-22950 -> -22950 | F60: -18001 | G60: =-16578 -> -16578 | H60: =G60+G61 -> -10588 | I60: =SUM(H60:H61) -> -8587.5747 | J60: =SUM(I60:I61) -> -3857.7655 | K60: =SUM(J60:J61) -> 4225.562 | L60: =SUM(K60:K61) -> 12706.315 | M60: =SUM(L60:L61) -> 23421.487
B61: Perioda peļņa | C61: =C42 -> 1662 | D61: =D42 -> 4833 | E61: =E42 -> 4948 | F61: =F42 -> 3953 | G61: =G42 -> 5990 | H61: =H42 -> 2000.4253 | I61: =I42 -> 4729.8092 | J61: =J42 -> 8083.3275 | ... M61: =M42 -> 12035.967
B62: Pašu kapitāls kopā | C62: =SUM(C58:C61) -> 26516 | D62: =SUM(D58:D61) -> 31279 | E62: =SUM(E58:E61) -> 36227 | F62: =SUM(F58:F61) -> 137271 | G62: =SUM(G58:G61) -> 140731 | H62: =SUM(H58:H61) -> 142731.43 | I62: =SUM(I58:I61) -> 147461.23 | J62: =SUM(J58:J61) -> 155544.56 | ... M62: =SUM(M58:M61) -> 186776.45
B64: Aizņēmumi no kredītiestādēm | C64: 0 | D64: 0 | E64: 0 | F64: 0 | G64: 0 | H64: =SUM($H161:H161)-SUM($H162:H162) -> 467142.96 | I64: =SUM($H161:I161)-SUM($H162:I162) -> 417142.96 | J64: =SUM($H161:J161)-SUM($H162:J162) -> 367142.96 | K64: =SUM($H161:K161)-SUM($H162:K162) -> 317142.96 | L64: =SUM($H161:L161)-SUM($H162:L162) -> 267142.96 | M64: =SUM($H161:M161)-SUM($H162:M162) -> 217142.96
B65: No pircējiem saņemtie avansi | C65: 388782 | D65: 490872 | E65: 39708 | F65: 263132 | G65: 725717 | H65: =H167*H8 -> 744175.1 | I65: =I167*I8 -> 921319.1 | J65: =J167*J8 -> 978901.55 | K65: =K167*K8 -> 1026042.4 | L65: =L167*L8 -> 1075388.2 | M65: =M167*M8 -> 1131358.2
B66: Parādi piegādātājiem un darbuzņēmējiem | C66: 96568 | D66: 46164 | E66: 42047 | F66: 55228 | G66: 113556 | H66: =(H13+H14+H15+H16+H27+H28)/360*H168 -> 134128.83 | I66: =(I13+I14+I15+I16+I27+I28)/360*I168 -> 140394.55 | J66: =(J13+J14+J15+J16+J27+J28)/360*J168 -> 146614.22 | K66: =(K13+K14+K15+K16+K27+K28)/360*K168 -> 152484.96 | L66: =(L13+L14+L15+L16+L27+L28)/360*L168 -> 157968.45 | M66: =(M13+M14+M15+M16+M27+M28)/360*M168 -> 162500.34
B67: Nodokļi | C67: 156739 | D67: 123218 | E67: 108470 | F67: 125371 | G67: 177598 | H67: =(H12+H26)/12*50% -> 183104.19 | I67: =(I12+I26)/12*50% -> 204194.73 | J67: =(J12+J26)/12*50% -> 214404.46 | K67: =(K12+K26)/12*50% -> 222980.64 | L67: =(L12+L26)/12*50% -> 231899.87 | M67: =(M12+M26)/12*50% -> 241175.86
B68: Uzkrātās saistības | C68: 96057 | D68: 88477 | E68: 130328 | F68: 130836 | G68: 149827 | H68: =4%*(H12+H26) -> 175780.03 | I68: =4%*(I12+I26) -> 196026.94 | J68: =4%*(J12+J26) -> 205828.29 | K68: =4%*(K12+K26) -> 214061.42 | L68: =4%*(L12+L26) -> 222623.87 | M68: =4%*(M12+M26) -> 231528.83
B69: Nākamo periodu ieņēmumi | C69: 110833 | D69: =86679+66677 -> 153356 | E69: =66179+789802 -> 855981 | F69: =221178+863361 -> 1084539 | G69: =869258+723253 -> 1592511 | H69: =G69-H125 -> 1131652 | I69: =H69-I125 -> 879003.5 | J69: =I69-J125 -> 626355 | K69: =J69-K125 -> 373706.5 | L69: =K69-L125 -> 121058 | M69: =L69-M125 -> 0
B70: Pārējie kreditori | C70: =30084 -> 30084 | D70: =151370 -> 151370 | E70: 123775 | F70: 145660 | G70: 207047 | H70: =3.5%*(H11+H25) -> 238308.68 | I70: =3.5%*(I11+I25) -> 259972.14 | J70: =3.5%*(J11+J25) -> 272466.71 | K70: =3.5%*(K11+K25) -> 283369.26 | L70: =3.5%*(L11+L25) -> 294316.01 | M70: =3.5%*(M11+M25) -> 304962.94
B71: Saistības kopā | C71: =SUM(C63:C70) -> 879063 | D71: =SUM(D63:D70) -> 1053457 | E71: =SUM(E63:E70) -> 1300309 | F71: =SUM(F63:F70) -> 1804766 | G71: =SUM(G63:G70) -> 2966256 | H71: =SUM(H63:H70) -> 3074291.8 | I71: =SUM(I63:I70) -> 3018053.9 | J71: =SUM(J63:J70) -> 2811713.2 | ... M71: =SUM(M63:M70) -> 2288669.2
B72: PAŠU KAPITĀLS UN SAISTĪBAS KOPĀ | C72: =C62+C71 -> 905579 | D72: =D62+D71 -> 1084736 | E72: =E62+E71 -> 1336536 | F72: =F62+F71 -> 1942037 | G72: =G62+G71 -> 3106987 | H72: =H62+H71 -> 3217023.2 | I72: =I62+I71 -> 3165515.2 | J72: =J62+J71 -> 2967257.8 | ... M72: =M62+M71 -> 2475445.6
B74: Pārbaude | C74: =ROUND(C55-C72,2) -> 0 | D74: =ROUND(D55-D72,2) -> 0 | E74: =ROUND(E55-E72,2) -> 0 | F74: =ROUND(F55-F72,2) -> 0 | G74: =ROUND(G55-G72,2) -> 0 | H74: =ROUND(H55-H72,2) -> 0 | I74: =ROUND(I55-I72,2) -> 0 | J74: =ROUND(J55-J72,2) -> 0 | ... M74: =ROUND(M55-M72,2) -> 0
B77: NAUDAS PLŪSMAS APRĒĶINS (EUR) | C77: =C5 -> F 2018 | D77: =D5 -> F 2019 | E77: =E5 -> F 2020 | F77: =F5 -> F 2021 | G77: =G5 -> F 2022 | H77: =H5 -> P 2023 | I77: =I5 -> P 2024 | J77: =J5 -> P 2025 | ... M77: =M5 -> P 2028
B78: Neto peļņa | D78: =D42 -> 4833 | E78: =E42 -> 4948 | F78: =F42 -> 3953 | G78: =G42 -> 5990 | H78: =H42 -> 2000.4253 | I78: =I42 -> 4729.8092 | J78: =J42 -> 8083.3275 | K78: =K42 -> 8480.7532 | ... M78: =M42 -> 12035.967
B79: Korekcijas:
B80: Nolietojums | D80: =D32 -> 129749 | E80: =E32 -> 97690 | F80: =F32 -> 100038 | G80: =G32 -> 313470 | H80: =H32 -> 365513.23 | I80: =I32 -> 364272.06 | J80: =J32 -> 333967.83 | K80: =K32 -> 312765.77 | ... M80: =M32 -> 193711.97
B81: Izmaiņas krājumos | D81: =C51-D51 -> -15519 | E81: =D51-E51 -> 332049 | F81: =E51-F51 -> -257681 | G81: =F51-G51 -> -300714 | H81: =G51-H51 -> -23164.86 | I81: =H51-I51 -> -23859.806 | J81: =I51-J51 -> -24575.6 | K81: =J51-K51 -> -25312.868 | ... M81: =L51-M51 -> -26854.422
B82: Izmaiņas debitoros | D82: =C52-D52 -> 28224 | E82: =D52-E52 -> -5076 | F82: =E52-F52 -> -17147 | G82: =F52-G52 -> 15225 | H82: =G52-H52 -> -11182.768 | I82: =H52-I52 -> -10634.662 | J82: =I52-J52 -> -3331.2255 | K82: =J52-K52 -> -2754.4408 | ... M82: =L52-M52 -> -3251.811
B83: Izmaiņas kreditoros | D83: =SUM(D65:D70)-SUM(C65:C70) -> 174394 | E83: =SUM(E65:E70)-SUM(D65:D70) -> 246852 | F83: =SUM(F65:F70)-SUM(E65:E70) -> 504457 | G83: =SUM(G65:G70)-SUM(F65:F70) -> 1161490 | H83: =SUM(H65:H70)-SUM(G65:G70) -> -359107.17 | I83: =SUM(I65:I70)-SUM(H65:H70) -> -6237.8619 | J83: =SUM(J65:J70)-SUM(I65:I70) -> -156340.74 | K83: =SUM(K65:K70)-SUM(J65:J70) -> -171925.07 | ... M83: =SUM(M65:M70)-SUM(L65:L70) -> -31728.231
B84: Naudas plūsmas no pamatdarbības | D84: =SUM(D78:D83) -> 321681 | E84: =SUM(E78:E83) -> 676463 | F84: =SUM(F78:F83) -> 333620 | G84: =SUM(G78:G83) -> 1195461 | H84: =SUM(H78:H83) -> -25941.145 | I84: =SUM(I78:I83) -> 328269.54 | J84: =SUM(J78:J83) -> 157803.59 | K84: =SUM(K78:K83) -> 121254.14 | ... M84: =SUM(M78:M83) -> 143913.47
B86: Pamatlīdzekļu iegāde | D86: =-(D49+D32-C49) -> -55277 | E86: =-(E49+E32-D49) -> -392881 | F86: =-(F49+F32-E49) -> -732841 | G86: =-(G49+G32-F49) -> -762536 | H86: =-(H49+H32-G49) -> -538961.12 | I86: =-(I49+I32-H49) -> -104958.68 | J86: =-(J49+J32-I49) -> -99173.554 | K86: =-(K49+K32-J49) -> -99173.554 | ... M86: =-(M49+M32-L49) -> -99173.554
B87: Naudas plūsma no ieguldījumu darbības | D87: =SUM(D86:D86) -> -55277 | E87: =SUM(E86:E86) -> -392881 | F87: =SUM(F86:F86) -> -732841 | G87: =SUM(G86:G86) -> -762536 | H87: =SUM(H86:H86) -> -538961.12 | I87: =SUM(I86:I86) -> -104958.68 | J87: =SUM(J86:J86) -> -99173.554 | K87: =SUM(K86:K86) -> -99173.554 | ... M87: =SUM(M86:M86) -> -99173.554
B89: Izmaiņas aizņēmumos no kredītiestādēm | D89: =D64-C64 -> 0 | E89: =E64-D64 -> 0 | F89: =F64-E64 -> 0 | G89: =G64-F64 -> 0 | H89: =H64-G64 -> 467142.96 | I89: =I64-H64 -> -50000 | J89: =J64-I64 -> -50000 | K89: =K64-J64 -> -50000 | ... M89: =M64-L64 -> -50000
B90: Izmaiņas pašu kapitālā | D90: =SUM(D58:D60)-SUM(C58:C61) -> -70 | E90: =SUM(E58:E60)-SUM(D58:D61) -> 0 | F90: =SUM(F58:F60)-SUM(E58:E61) -> 97091 | G90: =SUM(G58:G60)-SUM(F58:F61) -> -2530 | H90: =SUM(H58:H60)-SUM(G58:G61) -> 0 | I90: =SUM(I58:I60)-SUM(H58:H61) -> 0 | J90: =SUM(J58:J60)-SUM(I58:I61) -> 0 | K90: =SUM(K58:K60)-SUM(J58:J61) -> 0 | ... M90: =SUM(M58:M60)-SUM(L58:L61) -> 0
B91: Naudas plūsma no finanšu darbības | D91: =SUM(D89:D90) -> -70 | E91: =SUM(E89:E90) -> 0 | F91: =SUM(F89:F90) -> 97091 | G91: =SUM(G89:G90) -> -2530 | H91: =SUM(H89:H90) -> 467142.96 | I91: =SUM(I89:I90) -> -50000 | J91: =SUM(J89:J90) -> -50000 | K91: =SUM(K89:K90) -> -50000 | ... M91: =SUM(M89:M90) -> -50000
B93: Neto naudas plūsma | D93: =D84+D87+D91 -> 266334 | E93: =E84+E87+E91 -> 283582 | F93: =F84+F87+F91 -> -302130 | G93: =G84+G87+G91 -> 430395 | H93: =H84+H87+H91 -> -97759.309 | I93: =I84+I87+I91 -> 173310.87 | J93: =J84+J87+J91 -> 8630.0402 | K93: =K84+K87+K91 -> -27919.414 | ... M93: =M84+M87+M91 -> -5260.0815
B95: Nauda perioda sākumā | D95: =C96 -> 18990 | E95: =D96 -> 285324 | F95: =E96 -> 568906 | G95: =F96 -> 266776 | H95: =G96 -> 697171 | I95: =H96 -> 599411.69 | J95: =I96 -> 772722.56 | K95: =J96 -> 781352.6 | ... M95: =L96 -> 716402.56
B96: Nauda perioda beigās | C96: =C53 -> 18990 | D96: =D95+D93 -> 285324 | E96: =E95+E93 -> 568906 | F96: =F95+F93 -> 266776 | G96: =G95+G93 -> 697171 | H96: =H95+H93 -> 599411.69 | I96: =I95+I93 -> 772722.56 | J96: =J95+J93 -> 781352.6 | K96: =K95+K93 -> 753433.18 | ... M96: =M95+M93 -> 711142.48
B98: Pārbaude | C98: =C96-C53 -> 0 | D98: =D96-D53 -> 0 | E98: =E96-E53 -> 0 | F98: =F96-F53 -> 0 | G98: =G96-G53 -> 0 | H98: =H96-H53 -> 0 | I98: =I96-I53 -> 0 | J98: =J96-J53 -> 0 | ... M98: =M96-M53 -> 0
B102: PIEŅĒMUMI | C102: =C5 -> F 2018 | D102: =D5 -> F 2019 | E102: =E5 -> F 2020 | F102: =F5 -> F 2021 | G102: =G5 -> F 2022 | H102: =H5 -> P 2023 | I102: =I5 -> P 2024 | J102: =J5 -> P 2025 | ... M102: =M5 -> P 2028
B104: Ekonomiskie rādītāji | O104: Finanšu ministrijas prognozes
B105: Patēriņa cenu indekss, izmaiņas % | C105: 0.025 | D105: 0.028 | E105: 0.002 | F105: 0.033 | G105: 0.173 | H105: 0.1 | I105: 0.022 | J105: 0.025 | K105: 0.025 | L105: 0.025 | M105: 0.025 | O105: https://www.fm.gov.lv/lv/ikmenesa-makroekonomikas-un-kopbudzeta-apskats
B106: Bruto darba samaksa, izmaiņas % | C106: 0.084 | D106: 0.072 | E106: 0.062 | F106: 0.117 | G106: 0.075 | H106: 0.085 | I106: 0.065 | J106: 0.05 | K106: 0.04 | L106: 0.04 | M106: 0.04
B107: Darba devēja VSAOI | C107: 0.2409 | D107: 0.2409 | E107: 0.2409 | F107: 0.2359 | G107: 0.2359 | H107: =G107 -> 0.2359 | I107: =H107 -> 0.2359 | J107: =I107 -> 0.2359 | K107: =J107 -> 0.2359 | L107: =K107 -> 0.2359 | M107: =L107 -> 0.2359
B109: Dailes Teātra vispārīgie dati
B110: Skatītāju skaits | C110: 194979 | D110: 191914 | E110: 73088 | F110: 30041 | G110: 108942 | H110: 108389 | I110: 126000 | J110: 127500 | K110: 128500 | L110: 129500 | M110: 131000
B111: Skatītāju skaita izmaiņa Mazās zāles renovācijas rezultātā | H111: =0 -> 0 | I111: =0 -> 0 | J111: =0 -> 0 | K111: =0 -> 0 | L111: =0 -> 0 | M111: =0 -> 0
B112: Izrāžu skaits | C112: 474 | D112: 482 | E112: 243 | F112: 86 | G112: 234 | H112: 298 | I112: 300 | J112: 305 | K112: 305 | L112: 305 | M112: 305
B113: Izrāžu skaita izmaiņa Mazās zāles renovācijas rezultātā | H113: =0 -> 0 | I113: =0 -> 0 | J113: =0 -> 0 | K113: =0 -> 0 | L113: =0 -> 0 | M113: =0 -> 0
B114: Vienas izrādes vidējās uzturēšanas izmaksas, EUR | C114: =C14/C112 -> 1356.1646 | D114: =D14/D112 -> 1100.3651 | E114: =E14/E112 -> 2843.4362 | F114: =F14/F112 -> 3466.9535 | G114: =G14/G112 -> 2848.5855 | H114: =AVERAGE($C114:$G114)*(1+H105) -> 2555.4111 | I114: =H114*(1+I105) -> 2611.6301 | J114: =I114*(1+J105) -> 2676.9209 | K114: =J114*(1+K105) -> 2743.8439 | L114: =K114*(1+L105) -> 2812.44 | M114: =L114*(1+M105) -> 2882.751 | O114: 2023.g. - vidējās izmaksas pēdējo 5 gadu laikā un papildus tiek piemērota FM prognozētā patēriņa cenu izmaiņa
B115: Vidējie neto ieņēmumi no apmeklētāja, EUR | C115: =C8/C110 -> 11.676498 | D115: =D8/D110 -> 12.451994 | E115: =E8/E110 -> 15.786176 | F115: =F8/F110 -> 21.254352 | G115: =G8/G110 -> 25.311634 | H115: =G115*(1+H106) -> 27.463123 | I115: =H115*(1+I106) -> 29.248226 | J115: =I115*(1+J106) -> 30.710637 | K115: =J115*(1+K106) -> 31.939062 | L115: =K115*(1+L106) -> 33.216625 | M115: =L115*(1+M106) -> 34.54529
B116: Vidējais darbinieku skaits | C116: 231 | D116: 231 | E116: 204 | F116: 179 | G116: 191 | H116: 191 | I116: 200 | J116: =I116 -> 200 | K116: =J116 -> 200 | L116: =K116 -> 200 | M116: =L116 -> 200
B117: Vidējais bruto atalgojums, EUR/mēn | C117: =(C12+C26)/(1+C107)/12/C116 -> 827.10676 | D117: =(D12+D26)/(1+D107)/12/D116 -> 845.40302 | E117: =(E12+E26)/(1+E107)/12/E116 -> 1041.217 | F117: =(F12+F26)/(1+F107)/12/F116 -> 1123.5029 | G117: =(G12+G26)/(1+G107)/12/G116 -> 1429.8216 | H117: =G117*(1+H106) -> 1551.3564 | I117: =H117*(1+I106) -> 1652.1946 | J117: =I117*(1+J106) -> 1734.8043 | K117: =J117*(1+K106) -> 1804.1965 | L117: =K117*(1+L106) -> 1876.3643 | M117: =L117*(1+M106) -> 1951.4189 | O117: Tiek piemērota FM prognozētā darba samaksas izmaiņa.
B118: Mākslinieciskā personāla izmaksu īpatsvars, % | C118: =C12/(C12+C26) -> 0.88692826 | D118: =D12/(D12+D26) -> 0.89705763 | E118: =E12/(E12+E26) -> 0.84550807 | F118: =F12/(F12+F26) -> 0.84862927 | G118: =G12/(G12+G26) -> 0.87347709 | H118: =AVERAGE($C118:$G118) -> 0.87032007 | I118: =AVERAGE($C118:$G118) -> 0.87032007 | J118: =AVERAGE($C118:$G118) -> 0.87032007 | K118: =AVERAGE($C118:$G118) -> 0.87032007 | L118: =AVERAGE($C118:$G118) -> 0.87032007 | M118: =AVERAGE($C118:$G118) -> 0.87032007
B119: Administrācijas un reklāmas personāla izmaksu īpatsvars, % | C119: =C26/(C12+C26) -> 0.11307174 | D119: =D26/(D12+D26) -> 0.10294237 | E119: =E26/(E12+E26) -> 0.15449193 | F119: =F26/(F12+F26) -> 0.15137073 | G119: =G26/(G12+G26) -> 0.12652291 | H119: =AVERAGE($C119:$G119) -> 0.12967993 | I119: =AVERAGE($C119:$G119) -> 0.12967993 | J119: =AVERAGE($C119:$G119) -> 0.12967993 | K119: =AVERAGE($C119:$G119) -> 0.12967993 | L119: =AVERAGE($C119:$G119) -> 0.12967993 | M119: =AVERAGE($C119:$G119) -> 0.12967993
B121: Ieņēmumi
B122: =B8 -> Biļešu pārdošana | C122: =C110*C115 -> 2276672 | D122: =D110*D115 -> 2389712 | E122: =E110*E115 -> 1153780 | F122: =F110*F115 -> 638502 | G122: =G110*G115 -> 2757500 | H122: =SUM(H110)*H115 -> 2976700.4 | I122: =SUM(I110)*I115 -> 3685276.4 | J122: =SUM(J110)*J115 -> 3915606.2 | K122: =SUM(K110)*K115 -> 4104169.5 | L122: =SUM(L110)*L115 -> 4301552.9 | M122: =SUM(M110)*M115 -> 4525433 | O122: Skatītāju skaits x vidējie ieņēmumi no apmeklētāja
B123: Biļešu pārdošanas ieņēmumu izmaiņa Mazās zāles renovācijas rezultātā | H123: 0 | I123: 0 | J123: 0 | K123: 0 | L123: 0 | M123: 0
B124: =B21 -> KM dotācijas | C124: =C21 -> 1978581 | D124: =D21 -> 1944854 | E124: =E21 -> 3506651 | F124: =F21 -> 2944996 | G124: =G21 -> 3315043 | H124: 3247258 | I124: =H124*(1+I105) -> 3318697.7 | J124: =I124*(1+J105) -> 3401665.1 | K124: =J124*(1+K105) -> 3486706.7 | L124: =K124*(1+L105) -> 3573874.4 | M124: =L124*(1+M105) -> 3663221.3 | O124: 2023.g. - apstiprinātā summa; no 2024.g - pieaugums patēriņa cenu izmainas apmērā
B125: =B22 -> Piešķirtā finansējuma pamatlīdzekļiem atzīšana ieņēmumos | C125: =C22 -> 4167 | D125: =D22 -> 25896 | E125: =E22 -> 107860 | F125: =F22 -> 74593 | G125: =G22 -> 226851 | H125: =460859 -> 460859 | I125: =MIN((723253+287341)/4,H69) -> 252648.5 | J125: =MIN((723253+287341)/4,I69) -> 252648.5 | K125: =MIN((723253+287341)/4,J69) -> 252648.5 | L125: =MIN((723253+287341)/4,K69) -> 252648.5 | M125: =MIN((723253+287341)/4,L69) -> 121058
B126: =B9 -> Ieņēmumi par telpu nomu | C126: =C9 -> 261774 | D126: =D9 -> 243812 | E126: =E9 -> 106428 | F126: =F9 -> 170019 | G126: =G9 -> 294199 | H126: =G126*(1+H105) -> 323618.9 | I126: =H126*(1+I105)+50000 -> 380738.52 | J126: =I126*(1+J105) -> 390256.98 | K126: =J126*(1+K105) -> 400013.4 | L126: =K126*(1+L105) -> 410013.74 | M126: =L126*(1+M105) -> 420264.08 | O126: Tiek piemērota FM prognozētā patēriņa cenu izmaiņa; no 2024.g. papildus EUR 50 000 apskaņošanas tehnikas iegādes rezultātā
B127: Telpu nomas ieņēmumu izmaiņa Mazās zāles renovācijas rezultātā | H127: 0 | I127: 0 | J127: 0 | K127: 0 | L127: 0 | M127: 0
B128: =B23 -> Citi ieņēmumi | C128: =C23 -> 108232 | D128: =D23 -> 77914 | E128: =E23 -> 161098 | F128: =F23 -> 246447 | G128: =G23 -> 172034 | H128: =3479233-H122-H126 -> 178913.71 | I128: =H128*(1+I105) -> 182849.81 | J128: =I128*(1+J105) -> 187421.05 | K128: =J128*(1+K105) -> 192106.58 | L128: =K128*(1+L105) -> 196909.24 | M128: =L128*(1+M105) -> 201831.98 | O128: 2023.g. - balstoties uz apstiprinātajiem fin mērķiem (kopējie pašu ieņēmumi), turpmāk tiek piemērota FM prognozētā patēriņa cenu izmaiņa
B130: Izmaksas
B131: =B12 -> Mākslinieciskā personāla izmaksas | C131: =C12 -> 2523365 | D131: =D12 -> 2608640 | E131: =E12 -> 2674282 | F131: =F12 -> 2531103 | G131: =G12 -> 3537784 | H131: =H116*H117*12*(1+H107)*H118 -> 3824622.1 | I131: =I116*I117*12*(1+I107)*I118 -> 4265154.5 | J131: =J116*J117*12*(1+J107)*J118 -> 4478412.2 | K131: =K116*K117*12*(1+K107)*K118 -> 4657548.7 | L131: =L116*L117*12*(1+L107)*L118 -> 4843850.6 | M131: =M116*M117*12*(1+M107)*M118 -> 5037604.6 | O131: Darbinieku skaits x vidējā bruto darba samaksa + DD VSAOI
B132: Mākslinieciskā personāla izmaksu izmaiņa Mazās zāles renovācijas rezultātā | H132: 0 | I132: 0 | J132: 0 | K132: 0 | L132: 0 | M132: 0
B133: =B13 -> Komunālie maksājumi | C133: =C13 -> 223225 | D133: =D13 -> 257178 | E133: =E13 -> 252203 | F133: =F13 -> 237298 | G133: =G13 -> 430703 | H133: =G133*(1+H105) -> 473773.3 | I133: =H133*(1+I105) -> 484196.31 | J133: =I133*(1+J105) -> 496301.22 | K133: =J133*(1+K105) -> 508708.75 | L133: =K133*(1+L105) -> 521426.47 | M133: =L133*(1+M105) -> 534462.13 | O133: Tiek piemērota FM prognozētā patēriņa cenu izmaiņa
B134: Komunālo maksājumu izmaiņa Mazās zāles renovācijas rezultātā | H134: 0 | I134: 0 | J134: 0 | K134: 0 | L134: 0 | M134: 0
B135: =B14 -> Izrāžu uzturēšanas izmaksas | C135: =C14 -> 642822 | D135: =D14 -> 530376 | E135: =E14 -> 690955 | F135: =F14 -> 298158 | G135: =G14 -> 666569 | H135: =H112*H114 -> 761512.5 | I135: =I112*I114 -> 783489.03 | J135: =J112*J114 -> 816460.87 | K135: =K112*K114 -> 836872.39 | L135: =L112*L114 -> 857794.2 | M135: =M112*M114 -> 879239.05 | O135: Izrāžu skaits x vidējās uzturēšanas izmaksas
...

Sheet PĒC
B2: VSIA DAILES TEĀTRIS FINANŠU RĀDĪTĀJI PĒC ĒKAS PĀRŅEMŠANAS UN MAZĀS ZĀLES RENOVĀCIJAS
B5: PEĻŅAS UN ZAUDĒJUMU APRĒĶINS (EUR) | C5: F 2018 | D5: F 2019 | E5: F 2020 | F5: F 2021 | G5: F 2022 | H5: P 2023 | I5: P 2024 | J5: P 2025 | K5: P 2026 | L5: P 2027 | M5: P 2028
B7: Neto apgrozījums | C7: =SUM(C8:C10) -> 2538446 | D7: =SUM(D8:D10) -> 2633524 | E7: =SUM(E8:E10) -> 1260208 | F7: =SUM(F8:F10) -> 808521 | G7: =SUM(G8:G10) -> 3051699 | H7: =SUM(H8:H10) -> 3300319.3 | I7: =SUM(I8:I10) -> 3936620.8 | J7: =SUM(J8:J10) -> 5098796.8 | ... M7: =SUM(M8:M10) -> 5833895.1
B8: Biļešu pārdošana | C8: 2276672 | D8: 2389712 | E8: 1153780 | F8: 638502 | G8: 2757500 | H8: =H122+H123 -> 2976700.4 | I8: =I122+I123 -> 3555882.3 | J8: =J122+J123 -> 4630488.4 | K8: =K122+K123 -> 4847647 | L8: =L122+L123 -> 5074769.5 | M8: =M122+M123 -> 5329578.2
B9: Ieņēmumi par telpu nomu | C9: 261774 | D9: 243812 | E9: 106428 | F9: 170019 | G9: 294199 | H9: =H126+H127 -> 323618.9 | I9: =I126+I127 -> 380738.52 | J9: =J126+J127 -> 468308.37 | K9: =K126+K127 -> 480016.08 | L9: =L126+L127 -> 492016.49 | M9: =M126+M127 -> 504316.9
B11: Ražošanas izmaksas | C11: =SUM(C12:C16) -> 3932411 | D11: =SUM(D12:D16) -> 3959004 | E11: =SUM(E12:E16) -> 4159822 | F11: =SUM(F12:F16) -> 3289055 | G11: =SUM(G12:G16) -> 5464835 | H11: =SUM(H12:H16) -> 5836228.6 | I11: =SUM(I12:I16) -> 5727675.2 | J11: =SUM(J12:J16) -> 6664346.2 | ... M11: =SUM(M12:M16) -> 7527609.9
B12: Mākslinieciskā personāla izmaksas | C12: =1734815+421321+304012+69558-6341 -> 2523365 | D12: =2110860+505721-7941 -> 2608640 | E12: =2143177+504217+26888 -> 2674282 | F12: =2055261+472374+3468 -> 2531103 | G12: =2847929+662812+27043 -> 3537784 | H12: =H131+H132 -> 3824622.1 | I12: =I131+I132 -> 4051896.7 | J12: =J131+J132 -> 4567980.4 | K12: =K131+K132 -> 4750699.7 | L12: =L131+L132 -> 4940727.6 | M12: =M131+M132 -> 5138356.7
B13: Komunālie maksājumi | C13: 223225 | D13: =204444+52734 -> 257178 | E13: =179290+72913 -> 252203 | F13: =183340+53958 -> 237298 | G13: =354321+76382 -> 430703 | H13: =H133+H134 -> 473773.3 | I13: =I133+I134 -> 338937.42 | J13: =J133+J134 -> 397040.98 | K13: =K133+K134 -> 406967 | L13: =L133+L134 -> 417141.18 | M13: =M133+M134 -> 427569.71
B14: Izrāžu uzturēšanas izmaksas | C14: 642822 | D14: 530376 | E14: 690955 | F14: 298158 | G14: =666569 -> 666569 | H14: =H135+H136 -> 761512.5 | I14: =I135+I136 -> 577823.16 | J14: =J135+J136 -> 807760.87 | K14: =K135+K136 -> 851277.57 | L14: =L135+L136 -> 884512.38 | M14: =M135+M136 -> 906625.19
B15: Autoratlīdzības izmaksas | C15: 371075 | D15: 408950 | E15: 222899 | F15: 62466 | G15: 510677 | H15: =H137+H138 -> 552081.9 | I15: =I137+I138 -> 584888.87 | J15: =J137+J138 -> 659385.24 | K15: =K137+K138 -> 685760.65 | L15: =L137+L138 -> 713191.07 | M15: =M137+M138 -> 741718.72
B16: Citas izmaksas | C16: =4045064-SUM(C12:C15)-C32 -> 171924 | D16: =4088753-SUM(D12:D15)-D32 -> 153860 | E16: =4257512-SUM(E12:E15)-E32 -> 319483 | F16: =3389093-SUM(F12:F15)-F32 -> 160030 | G16: =5778305-SUM(G12:G15)-G32 -> 319102 | H16: =H139+H140 -> 224238.8 | I16: =I139+I140 -> 174129.04 | J16: =J139+J140 -> 232178.72 | K16: =K139+K140 -> 259983.19 | L16: =L139+L140 -> 289607.77 | M16: =M139+M140 -> 313339.51
B18: Bruto peļņa | C18: =C7-C11 -> -1393965 | D18: =D7-D11 -> -1325480 | E18: =E7-E11 -> -2899614 | F18: =F7-F11 -> -2480534 | G18: =G7-G11 -> -2413136 | H18: =H7-H11 -> -2535909.3 | I18: =I7-I11 -> -1791054.4 | J18: =J7-J11 -> -1565549.5 | ... M18: =M7-M11 -> -1693714.7
B20: Pārējie ieņēmumi | C20: =SUM(C21:C23) -> 2090980 | D20: =SUM(D21:D23) -> 2048664 | E20: =SUM(E21:E23) -> 3775609 | F20: =SUM(F21:F23) -> 3266036 | G20: =SUM(G21:G23) -> 3713928 | H20: =SUM(H21:H23) -> 3887030.7 | I20: =SUM(I21:I23) -> 3754196 | J20: =SUM(J21:J23) -> 3841734.7 | ... M20: =SUM(M21:M23) -> 3986111.3
B21: KM dotācijas | C21: =1909307+69274 -> 1978581 | D21: =1897972+46882 -> 1944854 | E21: =2501494+1005157 -> 3506651 | F21: =2944996 -> 2944996 | G21: =3172538+142505 -> 3315043 | H21: =H124 -> 3247258 | I21: =I124 -> 3318697.7 | J21: =J124 -> 3401665.1 | K21: =K124 -> 3486706.7 | L21: =L124 -> 3573874.4 | M21: =M124 -> 3663221.3
B22: Piešķirtā finansējuma pamatlīdzekļiem atzīšana ieņēmumos | C22: 4167 | D22: =25896 -> 25896 | E22: 107860 | F22: 74593 | G22: =142505+84346 -> 226851 | H22: =H125 -> 460859 | I22: =I125 -> 252648.5 | J22: =J125 -> 252648.5 | K22: =K125 -> 252648.5 | L22: =L125 -> 252648.5 | M22: =M125 -> 121058
B23: Citi ieņēmumi | C23: =2090980-C21-C22 -> 108232 | D23: =2036678-D21-D22+11986 -> 77914 | E23: =3774270-E21-E22+1339 -> 161098 | F23: =3266036-F21-F22 -> 246447 | G23: =3713928-G21-G22 -> 172034 | H23: =H128 -> 178913.71 | I23: =I128 -> 182849.81 | J23: =J128 -> 187421.05 | K23: =K128 -> 192106.58 | L23: =L128 -> 196909.24 | M23: =M128 -> 201831.98
B25: Pārējās izmaksas | C25: =SUM(C26:C28) -> 582294 | D25: =SUM(D26:D28) -> 587761 | E25: =SUM(E26:E28) -> 771230 | F25: =SUM(F26:F28) -> 681511 | G25: =SUM(G26:G28) -> 972375 | H25: =SUM(H26:H28) -> 972590.97 | I25: =SUM(I26:I28) -> 984912.5 | J25: =SUM(J26:J28) -> 1077786 | ... M25: =SUM(M26:M28) -> 1192670.1
B26: Administrācijas un reklāmas personāla izmaksas | C26: =46274+12176+213972+49274 -> 321696 | D26: =29486+9602+212313+47955 -> 299356 | E26: =49854+11877+345324+81592 -> 488647 | F26: =268517+60659+98955+23344 -> 451475 | G26: =287182+65823+131454+27988 -> 512447 | H26: =H141+H142 -> 569878.55 | I26: =I141+I142 -> 635519.02 | J26: =J141+J142 -> 667294.97 | K26: =K141+K142 -> 693986.77 | L26: =L141+L142 -> 721746.24 | M26: =M141+M142 -> 750616.09
B27: Citas netiešās izmaksas | C27: =127166+5502+294627-213972-49274+14493 -> 178542 | D27: =126926+4262+293569-212313-47955+23653 -> 188142 | E27: =58317+11085+492462-345324-81592+13284 -> 148232 | F27: =27895+3186+440622-268517-60659 -> 142527 | G27: =75081+86+49765+509716-287182-65823 -> 281643 | H27: =H143+H144 -> 206598.92 | I27: =I143+I144 -> 179029.69 | J27: =J143+J144 -> 194780.43 | K27: =K143+K144 -> 199649.94 | L27: =L143+L144 -> 204641.19 | M27: =M143+M144 -> 209757.22
B28: Reklāmas izmaksas | C28: 82056 | D28: =100263 -> 100263 | E28: 134351 | F28: =87509 -> 87509 | G28: 178285 | H28: =H145+H146 -> 196113.5 | I28: =I145+I146 -> 170363.8 | J28: =J145+J146 -> 215710.63 | K28: =K145+K146 -> 221103.4 | L28: =L145+L146 -> 226630.98 | M28: =M145+M146 -> 232296.76
B30: Peļņa pirms nolietojuma (EBITDA) | C30: =C18+C20-C25 -> 114721 | D30: =D18+D20-D25 -> 135423 | E30: =E18+E20-E25 -> 104765 | F30: =F18+F20-F25 -> 103991 | G30: =G18+G20-G25 -> 328417 | H30: =H18+H20-H25 -> 378530.44 | I30: =I18+I20-I25 -> 978229.04 | J30: =J18+J20-J25 -> 1198399.2 | ... M30: =M18+M20-M25 -> 1099726.4
B32: Nolietojums | C32: 112653 | D32: 129749 | E32: 97690 | F32: 100038 | G32: 313470 | H32: =SUM(H153:H154)+H157+H161+H164 -> 365513.23 | I32: =SUM(I153:I154)+I157+I161+I164 -> 953397.99 | J32: =SUM(J153:J154)+J157+J161+J164 -> 1158495.2 | K32: =SUM(K153:K154)+K157+K161+K164 -> 1148844.7 | L32: =SUM(L153:L154)+L157+L161+L164 -> 1147401.5 | M32: =SUM(M153:M154)+M157+M161+M164 -> 1052893.9
B34: Peļņa pēc nolietojuma (EBIT) | C34: =C30-C32 -> 2068 | D34: =D30-D32 -> 5674 | E34: =E30-E32 -> 7075 | F34: =F30-F32 -> 3953 | G34: =G30-G32 -> 14947 | H34: =H30-H32 -> 13017.213 | I34: =I30-I32 -> 24831.043 | J34: =J30-J32 -> 39903.928 | ... M34: =M30-M32 -> 46832.587
B36: Procentu maksājumi | C36: 0 | D36: 0 | E36: 0 | F36: 0 | G36: 0 | H36: =H170+H171 -> 11016.788 | I36: =I170+I171 -> 23433.577 | J36: =J170+J171 -> 20783.577 | K36: =K170+K171 -> 18133.577 | L36: =L170+L171 -> 15483.577 | M36: =M170+M171 -> 12833.577
B38: Peļņa pirms nodokļiem (EBT) | C38: =C34-C36 -> 2068 | D38: =D34-D36 -> 5674 | E38: =E34-E36 -> 7075 | F38: =F34-F36 -> 3953 | G38: =G34-G36 -> 14947 | H38: =H34-H36 -> 2000.4253 | I38: =I34-I36 -> 1397.4664 | J38: =J34-J36 -> 19120.351 | ... M38: =M34-M36 -> 33999.01
B40: Uzņēmuma ienākuma nodoklis | C40: 406 | D40: 841 | E40: 2127 | F40: 0 | G40: 8957 | H40: 0 | I40: 0 | J40: 0 | K40: 0 | L40: 0 | M40: 0
B42: Neto peļņa | C42: =C38-C40 -> 1662 | D42: =D38-D40 -> 4833 | E42: =E38-E40 -> 4948 | F42: =F38-F40 -> 3953 | G42: =G38-G40 -> 5990 | H42: =H38-H40 -> 2000.4253 | I42: =I38-I40 -> 1397.4664 | J42: =J38-J40 -> 19120.351 | ... M42: =M38-M40 -> 33999.01
B45: BILANCE (EUR) | C45: =C5 -> F 2018 | D45: =D5 -> F 2019 | E45: =E5 -> F 2020 | F45: =F5 -> F 2021 | G45: =G5 -> F 2022 | H45: =H5 -> P 2023 | I45: =I5 -> P 2024 | J45: =J5 -> P 2025 | ... M45: =M5 -> P 2028
B46: AKTĪVI
B47: Nemateriālie aktīvi | C47: 7891 | D47: 5331 | E47: 2772 | F47: 213 | G47: 5958 | H47: =G47-SUM(H153)*0.5% -> 4355.001 | I47: =H47-SUM(I153)*0.5% -> 3072.6018 | J47: =I47-SUM(J153)*0.5% -> 2046.6824 | K47: =J47-SUM(K153)*0.5% -> 1225.947 | L47: =K47-SUM(L153)*0.5% -> 569.35856 | M47: =L47-SUM(M153)*0.5% -> 317.67204
B48: Pamatlīdzekļi | C48: 292520 | D48: 220608 | E48: 518358 | F48: 1153720 | G48: 1597041 | H48: =G48+H152-H153*99.5%-H154+H156-H157+H159-H161+H163-H164+H160 -> 1772091.9 | I48: =H48+I152-I153*99.5%-I154+I156-I157+I159-I161+I163-I164+I160 -> 43149509 | J48: =I48+J152-J153*99.5%-J154+J156-J157+J159-J161+J163-J164+J160 -> 42668788 | K48: =J48+K152-K153*99.5%-K154+K156-K157+K159-K161+K163-K164+K160 -> 42197512 | L48: =K48+L152-L153*99.5%-L154+L156-L157+L159-L161+L163-L164+L160 -> 41727515 | M48: =L48+M152-M153*99.5%-M154+M156-M157+M159-M161+M163-M164+M160 -> 41351621
B49: Ilgtermiņa aktīvi kopā | C49: =SUM(C47:C48) -> 300411 | D49: =SUM(D47:D48) -> 225939 | E49: =SUM(E47:E48) -> 521130 | F49: =SUM(F47:F48) -> 1153933 | G49: =SUM(G47:G48) -> 1602999 | H49: =SUM(H47:H48) -> 1776446.9 | I49: =SUM(I47:I48) -> 43152582 | J49: =SUM(J47:J48) -> 42670835 | ... M49: =SUM(M47:M48) -> 41351939
B51: Krājumi | C51: 530297 | D51: 545816 | E51: 213767 | F51: 471448 | G51: 772162 | H51: =G51*(1+H177) -> 795326.86 | I51: =H51*(1+I177) -> 819186.67 | J51: =I51*(1+J177) -> 843762.27 | K51: =J51*(1+K177) -> 869075.13 | L51: =K51*(1+L177) -> 895147.39 | M51: =L51*(1+M177) -> 922001.81
B52: Debitori | C52: 55881 | D52: 27657 | E52: 32733 | F52: 49880 | G52: 34655 | H52: =H7/360*H176 -> 45837.768 | I52: =I7/360*I176 -> 54675.289 | J52: =J7/360*J176 -> 70816.622 | K52: =K7/360*K176 -> 73995.321 | L52: =L7/360*L176 -> 77316.472 | M52: =M7/360*M176 -> 81026.321
B53: Nauda | C53: 18990 | D53: 285324 | E53: 568906 | F53: 266776 | G53: 697171 | H53: =H96 -> 599411.69 | I53: =I96 -> 680057.69 | J53: =J96 -> 1213747.6 | K53: =K96 -> 1466818.8 | L53: =L96 -> 1726804.3 | M53: =M96 -> 2034109.5
B54: Īstermiņa aktīvi kopā | C54: =SUM(C51:C53) -> 605168 | D54: =SUM(D51:D53) -> 858797 | E54: =SUM(E51:E53) -> 815406 | F54: =SUM(F51:F53) -> 788104 | G54: =SUM(G51:G53) -> 1503988 | H54: =SUM(H51:H53) -> 1440576.3 | I54: =SUM(I51:I53) -> 1553919.6 | J54: =SUM(J51:J53) -> 2128326.5 | ... M54: =SUM(M51:M53) -> 3037137.6
B55: AKTĪVI KOPĀ | C55: =C49+C54 -> 905579 | D55: =D49+D54 -> 1084736 | E55: =E49+E54 -> 1336536 | F55: =F49+F54 -> 1942037 | G55: =G49+G54 -> 3106987 | H55: =H49+H54 -> 3217023.2 | I55: =I49+I54 -> 44706502 | J55: =J49+J54 -> 44799161 | ... M55: =M49+M54 -> 44389076
B57: PAŠU KAPITĀLS UN SAISTĪBAS
B58: Pamatkapitāls | C58: 54228 | D58: 54228 | E58: 54228 | F58: 151318 | G58: 151318 | H58: =G58+H149 -> 151318 | I58: =H58+I149 -> 41798318 | J58: =I58+J149 -> 41798318 | K58: =J58+K149 -> 41798318 | L58: =K58+L149 -> 41798318 | M58: =L58+M149 -> 41798318
B59: Rezeves | C59: =71 -> 71 | D59: 1 | E59: 1 | F59: 1 | G59: 1 | H59: =G59 -> 1 | I59: =H59 -> 1 | J59: =I59 -> 1 | K59: =J59 -> 1 | L59: =K59 -> 1 | M59: =L59 -> 1
B60: Iepriekšējo gadu uzkrātā peļņa | C60: -29445 | D60: -27783 | E60: =-22950 -> -22950 | F60: -18001 | G60: =-16578 -> -16578 | H60: =G60+G61 -> -10588 | I60: =SUM(H60:H61) -> -8587.5747 | J60: =SUM(I60:I61) -> -7190.1082 | K60: =SUM(J60:J61) -> 11930.243 | L60: =SUM(K60:K61) -> 34648.741 | M60: =SUM(L60:L61) -> 63783.419
B61: Perioda peļņa | C61: =C42 -> 1662 | D61: =D42 -> 4833 | E61: =E42 -> 4948 | F61: =F42 -> 3953 | G61: =G42 -> 5990 | H61: =H42 -> 2000.4253 | I61: =I42 -> 1397.4664 | J61: =J42 -> 19120.351 | ... M61: =M42 -> 33999.01
B62: Pašu kapitāls kopā | C62: =SUM(C58:C61) -> 26516 | D62: =SUM(D58:D61) -> 31279 | E62: =SUM(E58:E61) -> 36227 | F62: =SUM(F58:F61) -> 137271 | G62: =SUM(G58:G61) -> 140731 | H62: =SUM(H58:H61) -> 142731.43 | I62: =SUM(I58:I61) -> 41791129 | J62: =SUM(J58:J61) -> 41810249 | ... M62: =SUM(M58:M61) -> 41896101
B64: Aizņēmumi no kredītiestādēm | C64: 0 | D64: 0 | E64: 0 | F64: 0 | G64: 0 | H64: =SUM($H168:H168)-SUM($H169:H169) -> 467142.96 | I64: =SUM($H168:I168)-SUM($H169:I169) -> 417142.96 | J64: =SUM($H168:J168)-SUM($H169:J169) -> 367142.96 | K64: =SUM($H168:K168)-SUM($H169:K169) -> 317142.96 | L64: =SUM($H168:L168)-SUM($H169:L169) -> 267142.96 | M64: =SUM($H168:M168)-SUM($H169:M169) -> 217142.96
B65: No pircējiem saņemtie avansi | C65: 388782 | D65: 490872 | E65: 39708 | F65: 263132 | G65: 725717 | H65: =H174*H8 -> 744175.1 | I65: =I174*I8 -> 888970.57 | J65: =J174*J8 -> 1157622.1 | K65: =K174*K8 -> 1211911.7 | L65: =L174*L8 -> 1268692.4 | M65: =M174*M8 -> 1332394.6
B66: Parādi piegādātājiem un darbuzņēmējiem | C66: 96568 | D66: 46164 | E66: 42047 | F66: 55228 | G66: 113556 | H66: =(H13+H14+H15+H16+H27+H28)/360*H175 -> 134128.83 | I66: =(I13+I14+I15+I16+I27+I28)/360*I175 -> 112509.55 | J66: =(J13+J14+J15+J16+J27+J28)/360*J175 -> 139269.83 | K66: =(K13+K14+K15+K16+K27+K28)/360*K175 -> 145818.99 | L66: =(L13+L14+L15+L16+L27+L28)/360*L175 -> 151984.7 | M66: =(M13+M14+M15+M16+M27+M28)/360*M175 -> 157294.84
B67: Nodokļi | C67: 156739 | D67: 123218 | E67: 108470 | F67: 125371 | G67: 177598 | H67: =(H12+H26)/12*50% -> 183104.19 | I67: =(I12+I26)/12*50% -> 195308.99 | J67: =(J12+J26)/12*50% -> 218136.48 | K67: =(K12+K26)/12*50% -> 226861.93 | L67: =(L12+L26)/12*50% -> 235936.41 | M67: =(M12+M26)/12*50% -> 245373.87
B68: Uzkrātās saistības | C68: 96057 | D68: 88477 | E68: 130328 | F68: 130836 | G68: 149827 | H68: =4%*(H12+H26) -> 175780.03 | I68: =4%*(I12+I26) -> 187496.63 | J68: =4%*(J12+J26) -> 209411.02 | K68: =4%*(K12+K26) -> 217787.46 | L68: =4%*(L12+L26) -> 226498.95 | M68: =4%*(M12+M26) -> 235558.91
B69: Nākamo periodu ieņēmumi | C69: 110833 | D69: =86679+66677 -> 153356 | E69: =66179+789802 -> 855981 | F69: =221178+863361 -> 1084539 | G69: =869258+723253 -> 1592511 | H69: =G69-H125 -> 1131652 | I69: =H69-I125 -> 879003.5 | J69: =I69-J125 -> 626355 | K69: =J69-K125 -> 373706.5 | L69: =K69-L125 -> 121058 | M69: =L69-M125 -> 0
B70: Pārējie kreditori | C70: =30084 -> 30084 | D70: =151370 -> 151370 | E70: 123775 | F70: 145660 | G70: 207047 | H70: =3.5%*(H11+H25) -> 238308.68 | I70: =3.5%*(I11+I25) -> 234940.57 | J70: =3.5%*(J11+J25) -> 270974.63 | K70: =3.5%*(K11+K25) -> 282429.99 | L70: =3.5%*(L11+L25) -> 293936.95 | M70: =3.5%*(M11+M25) -> 305209.8
B71: Saistības kopā | C71: =SUM(C63:C70) -> 879063 | D71: =SUM(D63:D70) -> 1053457 | E71: =SUM(E63:E70) -> 1300309 | F71: =SUM(F63:F70) -> 1804766 | G71: =SUM(G63:G70) -> 2966256 | H71: =SUM(H63:H70) -> 3074291.8 | I71: =SUM(I63:I70) -> 2915372.8 | J71: =SUM(J63:J70) -> 2988912 | ... M71: =SUM(M63:M70) -> 2492974.9
B72: PAŠU KAPITĀLS UN SAISTĪBAS KOPĀ | C72: =C62+C71 -> 905579 | D72: =D62+D71 -> 1084736 | E72: =E62+E71 -> 1336536 | F72: =F62+F71 -> 1942037 | G72: =G62+G71 -> 3106987 | H72: =H62+H71 -> 3217023.2 | I72: =I62+I71 -> 44706502 | J72: =J62+J71 -> 44799161 | ... M72: =M62+M71 -> 44389076
B74: Pārbaude | C74: =ROUND(C55-C72,2) -> 0 | D74: =ROUND(D55-D72,2) -> 0 | E74: =ROUND(E55-E72,2) -> 0 | F74: =ROUND(F55-F72,2) -> 0 | G74: =ROUND(G55-G72,2) -> 0 | H74: =ROUND(H55-H72,2) -> 0 | I74: =ROUND(I55-I72,2) -> 0 | J74: =ROUND(J55-J72,2) -> 0 | ... M74: =ROUND(M55-M72,2) -> 0
B77: NAUDAS PLŪSMAS APRĒĶINS (EUR) | C77: =C5 -> F 2018 | D77: =D5 -> F 2019 | E77: =E5 -> F 2020 | F77: =F5 -> F 2021 | G77: =G5 -> F 2022 | H77: =H5 -> P 2023 | I77: =I5 -> P 2024 | J77: =J5 -> P 2025 | ... M77: =M5 -> P 2028
B78: Neto peļņa | D78: =D42 -> 4833 | E78: =E42 -> 4948 | F78: =F42 -> 3953 | G78: =G42 -> 5990 | H78: =H42 -> 2000.4253 | I78: =I42 -> 1397.4664 | J78: =J42 -> 19120.351 | K78: =K42 -> 22718.498 | ... M78: =M42 -> 33999.01
B79: Korekcijas:
B80: Nolietojums | D80: =D32 -> 129749 | E80: =E32 -> 97690 | F80: =F32 -> 100038 | G80: =G32 -> 313470 | H80: =H32 -> 365513.23 | I80: =I32 -> 953397.99 | J80: =J32 -> 1158495.2 | K80: =K32 -> 1148844.7 | ... M80: =M32 -> 1052893.9
B81: Izmaiņas krājumos | D81: =C51-D51 -> -15519 | E81: =D51-E51 -> 332049 | F81: =E51-F51 -> -257681 | G81: =F51-G51 -> -300714 | H81: =G51-H51 -> -23164.86 | I81: =H51-I51 -> -23859.806 | J81: =I51-J51 -> -24575.6 | K81: =J51-K51 -> -25312.868 | ... M81: =L51-M51 -> -26854.422
B82: Izmaiņas debitoros | D82: =C52-D52 -> 28224 | E82: =D52-E52 -> -5076 | F82: =E52-F52 -> -17147 | G82: =F52-G52 -> 15225 | H82: =G52-H52 -> -11182.768 | I82: =H52-I52 -> -8837.5207 | J82: =I52-J52 -> -16141.333 | K82: =J52-K52 -> -3178.6987 | ... M82: =L52-M52 -> -3709.849
B83: Izmaiņas kreditoros | D83: =SUM(D65:D70)-SUM(C65:C70) -> 174394 | E83: =SUM(E65:E70)-SUM(D65:D70) -> 246852 | F83: =SUM(F65:F70)-SUM(E65:E70) -> 504457 | G83: =SUM(G65:G70)-SUM(F65:F70) -> 1161490 | H83: =SUM(H65:H70)-SUM(G65:G70) -> -359107.17 | I83: =SUM(I65:I70)-SUM(H65:H70) -> -108919.02 | J83: =SUM(J65:J70)-SUM(I65:I70) -> 123539.23 | K83: =SUM(K65:K70)-SUM(J65:J70) -> -163252.44 | ... M83: =SUM(M65:M70)-SUM(L65:L70) -> -22275.414
B84: Naudas plūsmas no pamatdarbības | D84: =SUM(D78:D83) -> 321681 | E84: =SUM(E78:E83) -> 676463 | F84: =SUM(F78:F83) -> 333620 | G84: =SUM(G78:G83) -> 1195461 | H84: =SUM(H78:H83) -> -25941.145 | I84: =SUM(I78:I83) -> 813179.12 | J84: =SUM(J78:J83) -> 1260437.9 | K84: =SUM(K78:K83) -> 979819.17 | ... M84: =SUM(M78:M83) -> 1034053.2
B86: Pamatlīdzekļu iegāde | D86: =-(D49+D32-C49) -> -55277 | E86: =-(E49+E32-D49) -> -392881 | F86: =-(F49+F32-E49) -> -732841 | G86: =-(G49+G32-F49) -> -762536 | H86: =-(H49+H32-G49) -> -538961.12 | I86: =-(I49+I32-H49) -> -42329533 | J86: =-(J49+J32-I49) -> -676747.99 | K86: =-(K49+K32-J49) -> -676747.99 | ... M86: =-(M49+M32-L49) -> -676747.99
B87: Naudas plūsma no ieguldījumu darbības | D87: =SUM(D86:D86) -> -55277 | E87: =SUM(E86:E86) -> -392881 | F87: =SUM(F86:F86) -> -732841 | G87: =SUM(G86:G86) -> -762536 | H87: =SUM(H86:H86) -> -538961.12 | I87: =SUM(I86:I86) -> -42329533 | J87: =SUM(J86:J86) -> -676747.99 | K87: =SUM(K86:K86) -> -676747.99 | ... M87: =SUM(M86:M86) -> -676747.99
B89: Izmaiņas aizņēmumos no kredītiestādēm | D89: =D64-C64 -> 0 | E89: =E64-D64 -> 0 | F89: =F64-E64 -> 0 | G89: =G64-F64 -> 0 | H89: =H64-G64 -> 467142.96 | I89: =I64-H64 -> -50000 | J89: =J64-I64 -> -50000 | K89: =K64-J64 -> -50000 | ... M89: =M64-L64 -> -50000
B90: Izmaiņas pašu kapitālā | D90: =SUM(D58:D60)-SUM(C58:C61) -> -70 | E90: =SUM(E58:E60)-SUM(D58:D61) -> 0 | F90: =SUM(F58:F60)-SUM(E58:E61) -> 97091 | G90: =SUM(G58:G60)-SUM(F58:F61) -> -2530 | H90: =SUM(H58:H60)-SUM(G58:G61) -> 0 | I90: =SUM(I58:I60)-SUM(H58:H61) -> 41647000 | J90: =SUM(J58:J60)-SUM(I58:I61) -> 0 | K90: =SUM(K58:K60)-SUM(J58:J61) -> 0 | ... M90: =SUM(M58:M60)-SUM(L58:L61) -> 0
B91: Naudas plūsma no finanšu darbības | D91: =SUM(D89:D90) -> -70 | E91: =SUM(E89:E90) -> 0 | F91: =SUM(F89:F90) -> 97091 | G91: =SUM(G89:G90) -> -2530 | H91: =SUM(H89:H90) -> 467142.96 | I91: =SUM(I89:I90) -> 41597000 | J91: =SUM(J89:J90) -> -50000 | K91: =SUM(K89:K90) -> -50000 | ... M91: =SUM(M89:M90) -> -50000
B93: Neto naudas plūsma | D93: =D84+D87+D91 -> 266334 | E93: =E84+E87+E91 -> 283582 | F93: =F84+F87+F91 -> -302130 | G93: =G84+G87+G91 -> 430395 | H93: =H84+H87+H91 -> -97759.309 | I93: =I84+I87+I91 -> 80645.998 | J93: =J84+J87+J91 -> 533689.91 | K93: =K84+K87+K91 -> 253071.18 | ... M93: =M84+M87+M91 -> 307305.19
B95: Nauda perioda sākumā | D95: =C96 -> 18990 | E95: =D96 -> 285324 | F95: =E96 -> 568906 | G95: =F96 -> 266776 | H95: =G96 -> 697171 | I95: =H96 -> 599411.69 | J95: =I96 -> 680057.69 | K95: =J96 -> 1213747.6 | ... M95: =L96 -> 1726804.3
B96: Nauda perioda beigās | C96: =C53 -> 18990 | D96: =D95+D93 -> 285324 | E96: =E95+E93 -> 568906 | F96: =F95+F93 -> 266776 | G96: =G95+G93 -> 697171 | H96: =H95+H93 -> 599411.69 | I96: =I95+I93 -> 680057.69 | J96: =J95+J93 -> 1213747.6 | K96: =K95+K93 -> 1466818.8 | ... M96: =M95+M93 -> 2034109.5
B98: Pārbaude | C98: =C96-C53 -> 0 | D98: =D96-D53 -> 0 | E98: =E96-E53 -> 0 | F98: =F96-F53 -> 0 | G98: =G96-G53 -> 0 | H98: =H96-H53 -> 0 | I98: =I96-I53 -> 0 | J98: =J96-J53 -> 0 | ... M98: =M96-M53 -> 0
B102: PIEŅĒMUMI | C102: =C5 -> F 2018 | D102: =D5 -> F 2019 | E102: =E5 -> F 2020 | F102: =F5 -> F 2021 | G102: =G5 -> F 2022 | H102: =H5 -> P 2023 | I102: =I5 -> P 2024 | J102: =J5 -> P 2025 | ... M102: =M5 -> P 2028
B104: Ekonomiskie rādītāji | O104: Finanšu ministrijas prognozes
B105: Patēriņa cenu indekss, izmaiņas % | C105: 0.025 | D105: 0.028 | E105: 0.002 | F105: 0.033 | G105: 0.173 | H105: 0.1 | I105: 0.022 | J105: 0.025 | K105: 0.025 | L105: 0.025 | M105: 0.025 | O105: https://www.fm.gov.lv/lv/ikmenesa-makroekonomikas-un-kopbudzeta-apskats
B106: Bruto darba samaksa, izmaiņas % | C106: 0.084 | D106: 0.072 | E106: 0.062 | F106: 0.117 | G106: 0.075 | H106: 0.085 | I106: 0.065 | J106: 0.05 | K106: 0.04 | L106: 0.04 | M106: 0.04
B107: Darba devēja VSAOI | C107: 0.2409 | D107: 0.2409 | E107: 0.2409 | F107: 0.2359 | G107: 0.2359 | H107: =G107 -> 0.2359 | I107: =H107 -> 0.2359 | J107: =I107 -> 0.2359 | K107: =J107 -> 0.2359 | L107: =K107 -> 0.2359 | M107: =L107 -> 0.2359
B109: Dailes Teātra vispārīgie dati
B110: Skatītāju skaits | C110: 194979 | D110: 191914 | E110: 73088 | F110: 30041 | G110: 108942 | H110: 108389 | I110: 126000 | J110: 127500 | K110: 128500 | L110: 129500 | M110: 131000 | O110: Skatītāju samazinājums salīdzinot ar 2018./2019. gadu, jo tika samazināts Lielās zāles sēdvietu skaits (900->600 sēdvietas) un 3. zālē vairs nenotiek teātra izrādes, tikai mēģinājumi.
B111: Potenciālā skatītāju skaita izmaiņa | H111: 0 | I111: =4000-(90*156*80%*9/12) -> -4424 | J111: =4000+((90+50)*(350*0.75-156*0.8)) -> 23278 | K111: =4000+((90+50)*(350*0.75-156*0.8)) -> 23278 | L111: =4000+((90+50)*(350*0.75-156*0.8)) -> 23278 | M111: =4000+((90+50)*(350*0.75-156*0.8)) -> 23278
B112: Izrāžu skaits | C112: 474 | D112: 482 | E112: 243 | F112: 86 | G112: 234 | H112: 298 | I112: 300 | J112: 305 | K112: 305 | L112: 305 | M112: 305
B113: Potenciālā izrāžu skaita izmaiņa | H113: 0 | I113: =-(90*9/12) -> -67.5 | J113: 50 | K113: 60 | L113: 65 | M113: 65
B114: Vienas izrādes vidējās uzturēšanas izmaksas, EUR | C114: =C14/C112 -> 1356.1646 | D114: =D14/D112 -> 1100.3651 | E114: =E14/E112 -> 2843.4362 | F114: =F14/F112 -> 3466.9535 | G114: =G14/G112 -> 2848.5855 | H114: =AVERAGE($C114:$G114)*(1+H105) -> 2555.4111 | I114: =H114*(1+I105) -> 2611.6301 | J114: =I114*(1+J105) -> 2676.9209 | K114: =J114*(1+K105) -> 2743.8439 | L114: =K114*(1+L105) -> 2812.44 | M114: =L114*(1+M105) -> 2882.751 | O114: 2023.g. - vidējās izmaksas pēdējo 5 gadu laikā un papildus tiek piemērota FM prognozētā patēriņa cenu izmaiņa
B115: Vidējie neto ieņēmumi no apmeklētāja, EUR | C115: =C8/C110 -> 11.676498 | D115: =D8/D110 -> 12.451994 | E115: =E8/E110 -> 15.786176 | F115: =F8/F110 -> 21.254352 | G115: =G8/G110 -> 25.311634 | H115: =G115*(1+H106) -> 27.463123 | I115: =H115*(1+I106) -> 29.248226 | J115: =I115*(1+J106) -> 30.710637 | K115: =J115*(1+K106) -> 31.939062 | L115: =K115*(1+L106) -> 33.216625 | M115: =L115*(1+M106) -> 34.54529
B116: Vidējais darbinieku skaits | C116: 231 | D116: 231 | E116: 204 | F116: 179 | G116: 191 | H116: 191 | I116: 200 | J116: =I116 -> 200 | K116: =J116 -> 200 | L116: =K116 -> 200 | M116: =L116 -> 200
B117: Vidējais bruto atalgojums, EUR/mēn | C117: =(C12+C26)/(1+C107)/12/C116 -> 827.10676 | D117: =(D12+D26)/(1+D107)/12/D116 -> 845.40302 | E117: =(E12+E26)/(1+E107)/12/E116 -> 1041.217 | F117: =(F12+F26)/(1+F107)/12/F116 -> 1123.5029 | G117: =(G12+G26)/(1+G107)/12/G116 -> 1429.8216 | H117: =G117*(1+H106) -> 1551.3564 | I117: =H117*(1+I106) -> 1652.1946 | J117: =I117*(1+J106) -> 1734.8043 | K117: =J117*(1+K106) -> 1804.1965 | L117: =K117*(1+L106) -> 1876.3643 | M117: =L117*(1+M106) -> 1951.4189 | O117: Tiek piemērota FM prognozētā darba samaksas izmaiņa.
B118: Mākslinieciskā personāla izmaksu īpatsvars, % | C118: =C12/(C12+C26) -> 0.88692826 | D118: =D12/(D12+D26) -> 0.89705763 | E118: =E12/(E12+E26) -> 0.84550807 | F118: =F12/(F12+F26) -> 0.84862927 | G118: =G12/(G12+G26) -> 0.87347709 | H118: =AVERAGE($C118:$G118) -> 0.87032007 | I118: =AVERAGE($C118:$G118) -> 0.87032007 | J118: =AVERAGE($C118:$G118) -> 0.87032007 | K118: =AVERAGE($C118:$G118) -> 0.87032007 | L118: =AVERAGE($C118:$G118) -> 0.87032007 | M118: =AVERAGE($C118:$G118) -> 0.87032007
B119: Administrācijas un reklāmas personāla izmaksu īpatsvars, % | C119: =C26/(C12+C26) -> 0.11307174 | D119: =D26/(D12+D26) -> 0.10294237 | E119: =E26/(E12+E26) -> 0.15449193 | F119: =F26/(F12+F26) -> 0.15137073 | G119: =G26/(G12+G26) -> 0.12652291 | H119: =AVERAGE($C119:$G119) -> 0.12967993 | I119: =AVERAGE($C119:$G119) -> 0.12967993 | J119: =AVERAGE($C119:$G119) -> 0.12967993 | K119: =AVERAGE($C119:$G119) -> 0.12967993 | L119: =AVERAGE($C119:$G119) -> 0.12967993 | M119: =AVERAGE($C119:$G119) -> 0.12967993
B121: Ieņēmumi
B122: =B8 -> Biļešu pārdošana | C122: =C110*C115 -> 2276672 | D122: =D110*D115 -> 2389712 | E122: =E110*E115 -> 1153780 | F122: =F110*F115 -> 638502 | G122: =G110*G115 -> 2757500 | H122: =SUM(H110)*H115 -> 2976700.4 | I122: =SUM(I110)*I115 -> 3685276.4 | J122: =SUM(J110)*J115 -> 3915606.2 | K122: =SUM(K110)*K115 -> 4104169.5 | L122: =SUM(L110)*L115 -> 4301552.9 | M122: =SUM(M110)*M115 -> 4525433 | O122: Skatītāju skaits x vidējie ieņēmumi no apmeklētāja
B123: Potenciālā biļešu pārdošanas ieņēmumu izmaiņa | H123: =SUM(H111)*H115 -> 0 | I123: =SUM(I111)*I115 -> -129394.15 | J123: =SUM(J111)*J115 -> 714882.2 | K123: =SUM(K111)*K115 -> 743477.49 | L123: =SUM(L111)*L115 -> 773216.59 | M123: =SUM(M111)*M115 -> 804145.26
B124: =B21 -> KM dotācijas | C124: =C21 -> 1978581 | D124: =D21 -> 1944854 | E124: =E21 -> 3506651 | F124: =F21 -> 2944996 | G124: =G21 -> 3315043 | H124: 3247258 | I124: =H124*(1+I105) -> 3318697.7 | J124: =I124*(1+J105) -> 3401665.1 | K124: =J124*(1+K105) -> 3486706.7 | L124: =K124*(1+L105) -> 3573874.4 | M124: =L124*(1+M105) -> 3663221.3 | O124: 2023.g. - apstiprinātā summa; no 2024.g - pieaugums patēriņa cenu izmainas apmērā
B125: =B22 -> Piešķirtā finansējuma pamatlīdzekļiem atzīšana ieņēmumos | C125: =C22 -> 4167 | D125: =D22 -> 25896 | E125: =E22 -> 107860 | F125: =F22 -> 74593 | G125: =G22 -> 226851 | H125: =460859 -> 460859 | I125: =MIN((723253+287341)/4,H69) -> 252648.5 | J125: =MIN((723253+287341)/4,I69) -> 252648.5 | K125: =MIN((723253+287341)/4,J69) -> 252648.5 | L125: =MIN((723253+287341)/4,K69) -> 252648.5 | M125: =MIN((723253+287341)/4,L69) -> 121058
B126: =B9 -> Ieņēmumi par telpu nomu | C126: =C9 -> 261774 | D126: =D9 -> 243812 | E126: =E9 -> 106428 | F126: =F9 -> 170019 | G126: =G9 -> 294199 | H126: =G126*(1+H105) -> 323618.9 | I126: =H126*(1+I105)+50000 -> 380738.52 | J126: =I126*(1+J105) -> 390256.98 | K126: =J126*(1+K105) -> 400013.4 | L126: =K126*(1+L105) -> 410013.74 | M126: =L126*(1+M105) -> 420264.08 | O126: Tiek piemērota FM prognozētā patēriņa cenu izmaiņa; no 2024.g. papildus EUR 50 000 apskaņošanas tehnikas iegādes rezultātā
B127: Potenciālā telpu nomas ieņēmumu izmaiņa | H127: 0 | I127: =I126*0.1-I126*0.1 -> 0 | J127: =J126*0.1+J126*0.1 -> 78051.396 | K127: =K126*0.1+K126*0.1 -> 80002.681 | L127: =L126*0.1+L126*0.1 -> 82002.748 | M127: =M126*0.1+M126*0.1 -> 84052.816
B128: =B23 -> Citi ieņēmumi | C128: =C23 -> 108232 | D128: =D23 -> 77914 | E128: =E23 -> 161098 | F128: =F23 -> 246447 | G128: =G23 -> 172034 | H128: =3479233-H122-H126 -> 178913.71 | I128: =H128*(1+I105) -> 182849.81 | J128: =I128*(1+J105) -> 187421.05 | K128: =J128*(1+K105) -> 192106.58 | L128: =K128*(1+L105) -> 196909.24 | M128: =L128*(1+M105) -> 201831.98 | O128: 2023.g. - balstoties uz apstiprinātajiem fin mērķiem (kopējie pašu ieņēmumi), turpmāk tiek piemērota FM prognozētā patēriņa cenu izmaiņa
B130: Izmaksas
B131: =B12 -> Mākslinieciskā personāla izmaksas | C131: =C12 -> 2523365 | D131: =D12 -> 2608640 | E131: =E12 -> 2674282 | F131: =F12 -> 2531103 | G131: =G12 -> 3537784 | H131: =H116*H117*12*(1+H107)*H118 -> 3824622.1 | I131: =I116*I117*12*(1+I107)*I118 -> 4265154.5 | J131: =J116*J117*12*(1+J107)*J118 -> 4478412.2 | K131: =K116*K117*12*(1+K107)*K118 -> 4657548.7 | L131: =L116*L117*12*(1+L107)*L118 -> 4843850.6 | M131: =M116*M117*12*(1+M107)*M118 -> 5037604.6 | O131: Darbinieku skaits x vidējā bruto darba samaksa + DD VSAOI
B132: Potenciālā mākslinieciskā personāla izmaksu izmaiņa | H132: =0 -> 0 | I132: =I131*-0.03+I131*-0.02 -> -213257.72 | J132: =J131*-0.03+J131*0.05 -> 89568.244 | K132: =K131*-0.03+K131*0.05 -> 93150.974 | L132: =L131*-0.03+L131*0.05 -> 96877.012 | M132: =M131*-0.03+M131*0.05 -> 100752.09
B133: =B13 -> Komunālie maksājumi | C133: =C13 -> 223225 | D133: =D13 -> 257178 | E133: =E13 -> 252203 | F133: =F13 -> 237298 | G133: =G13 -> 430703 | H133: =G133*(1+H105) -> 473773.3 | I133: =H133*(1+I105) -> 484196.31 | J133: =I133*(1+J105) -> 496301.22 | K133: =J133*(1+K105) -> 508708.75 | L133: =K133*(1+L105) -> 521426.47 | M133: =L133*(1+M105) -> 534462.13 | O133: Tiek piemērota FM prognozētā patēriņa cenu izmaiņa
B134: Potenciālā komunālo maksājumu izmaiņa | H134: 0 | I134: =I133*-20%+I133*-10% -> -145258.89 | J134: =J133*-20%+J133*0% -> -99260.244 | K134: =K133*-20%+K133*0% -> -101741.75 | L134: =L133*-20%+L133*0% -> -104285.29 | M134: =M133*-20%+M133*0% -> -106892.43
B135: =B14 -> Izrāžu uzturēšanas izmaksas | C135: =C14 -> 642822 | D135: =D14 -> 530376 | E135: =E14 -> 690955 | F135: =F14 -> 298158 | G135: =G14 -> 666569 | H135: =H112*H114 -> 761512.5 | I135: =I112*I114 -> 783489.03 | J135: =J112*J114 -> 816460.87 | K135: =K112*K114 -> 836872.39 | L135: =L112*L114 -> 857794.2 | M135: =M112*M114 -> 879239.05 | O135: Izrāžu skaits x vidējās uzturēšanas izmaksas
...

Sheet IZMAIŅA
B2: VSIA DAILES TEĀTRIS FINANŠU RĀDĪTĀJU IZMAIŅA
B5: PEĻŅAS UN ZAUDĒJUMU APRĒĶINS (EUR) | C5: F 2018 | D5: F 2019 | E5: F 2020 | F5: F 2021 | G5: F 2022 | H5: P 2023 | I5: P 2024 | J5: P 2025 | K5: P 2026 | L5: P 2027 | M5: P 2028
B7: Neto apgrozījums | C7: =PĒC!C7-PIRMS!C7 -> 0 | D7: =PĒC!D7-PIRMS!D7 -> 0 | E7: =PĒC!E7-PIRMS!E7 -> 0 | F7: =PĒC!F7-PIRMS!F7 -> 0 | G7: =PĒC!G7-PIRMS!G7 -> 0 | H7: =PĒC!H7-PIRMS!H7 -> 0 | I7: =PĒC!I7-PIRMS!I7 -> -129394.15 | J7: =PĒC!J7-PIRMS!J7 -> 792933.6 | ... M7: =PĒC!M7-PIRMS!M7 -> 888198.07
B8: Biļešu pārdošana | C8: =PĒC!C8-PIRMS!C8 -> 0 | D8: =PĒC!D8-PIRMS!D8 -> 0 | E8: =PĒC!E8-PIRMS!E8 -> 0 | F8: =PĒC!F8-PIRMS!F8 -> 0 | G8: =PĒC!G8-PIRMS!G8 -> 0 | H8: =PĒC!H8-PIRMS!H8 -> 0 | I8: =PĒC!I8-PIRMS!I8 -> -129394.15 | J8: =PĒC!J8-PIRMS!J8 -> 714882.2 | ... M8: =PĒC!M8-PIRMS!M8 -> 804145.26
B9: Ieņēmumi par telpu nomu | C9: =PĒC!C9-PIRMS!C9 -> 0 | D9: =PĒC!D9-PIRMS!D9 -> 0 | E9: =PĒC!E9-PIRMS!E9 -> 0 | F9: =PĒC!F9-PIRMS!F9 -> 0 | G9: =PĒC!G9-PIRMS!G9 -> 0 | H9: =PĒC!H9-PIRMS!H9 -> 0 | I9: =PĒC!I9-PIRMS!I9 -> 0 | J9: =PĒC!J9-PIRMS!J9 -> 78051.396 | ... M9: =PĒC!M9-PIRMS!M9 -> 84052.816
C10: =PĒC!C10-PIRMS!C10 -> 0 | D10: =PĒC!D10-PIRMS!D10 -> 0 | E10: =PĒC!E10-PIRMS!E10 -> 0 | F10: =PĒC!F10-PIRMS!F10 -> 0 | G10: =PĒC!G10-PIRMS!G10 -> 0 | H10: =PĒC!H10-PIRMS!H10 -> 0 | I10: =PĒC!I10-PIRMS!I10 -> 0 | J10: =PĒC!J10-PIRMS!J10 -> 0 | ... M10: =PĒC!M10-PIRMS!M10 -> 0
B11: Ražošanas izmaksas | C11: =PĒC!C11-PIRMS!C11 -> 0 | D11: =PĒC!D11-PIRMS!D11 -> 0 | E11: =PĒC!E11-PIRMS!E11 -> 0 | F11: =PĒC!F11-PIRMS!F11 -> 0 | G11: =PĒC!G11-PIRMS!G11 -> 0 | H11: =PĒC!H11-PIRMS!H11 -> 0 | I11: =PĒC!I11-PIRMS!I11 -> -653009.13 | J11: =PĒC!J11-PIRMS!J11 -> -31260.506 | ... M11: =PĒC!M11-PIRMS!M11 -> 19297.752
B12: Mākslinieciskā personāla izmaksas | C12: =PĒC!C12-PIRMS!C12 -> 0 | D12: =PĒC!D12-PIRMS!D12 -> 0 | E12: =PĒC!E12-PIRMS!E12 -> 0 | F12: =PĒC!F12-PIRMS!F12 -> 0 | G12: =PĒC!G12-PIRMS!G12 -> 0 | H12: =PĒC!H12-PIRMS!H12 -> 0 | I12: =PĒC!I12-PIRMS!I12 -> -213257.72 | J12: =PĒC!J12-PIRMS!J12 -> 89568.244 | ... M12: =PĒC!M12-PIRMS!M12 -> 100752.09
B13: Komunālie maksājumi | C13: =PĒC!C13-PIRMS!C13 -> 0 | D13: =PĒC!D13-PIRMS!D13 -> 0 | E13: =PĒC!E13-PIRMS!E13 -> 0 | F13: =PĒC!F13-PIRMS!F13 -> 0 | G13: =PĒC!G13-PIRMS!G13 -> 0 | H13: =PĒC!H13-PIRMS!H13 -> 0 | I13: =PĒC!I13-PIRMS!I13 -> -145258.89 | J13: =PĒC!J13-PIRMS!J13 -> -99260.244 | ... M13: =PĒC!M13-PIRMS!M13 -> -106892.43
B14: Izrāžu uzturēšanas izmaksas | C14: =PĒC!C14-PIRMS!C14 -> 0 | D14: =PĒC!D14-PIRMS!D14 -> 0 | E14: =PĒC!E14-PIRMS!E14 -> 0 | F14: =PĒC!F14-PIRMS!F14 -> 0 | G14: =PĒC!G14-PIRMS!G14 -> 0 | H14: =PĒC!H14-PIRMS!H14 -> 0 | I14: =PĒC!I14-PIRMS!I14 -> -205665.87 | J14: =PĒC!J14-PIRMS!J14 -> -8699.9928 | ... M14: =PĒC!M14-PIRMS!M14 -> 27386.134
B15: Autoratlīdzības izmaksas | C15: =PĒC!C15-PIRMS!C15 -> 0 | D15: =PĒC!D15-PIRMS!D15 -> 0 | E15: =PĒC!E15-PIRMS!E15 -> 0 | F15: =PĒC!F15-PIRMS!F15 -> 0 | G15: =PĒC!G15-PIRMS!G15 -> 0 | H15: =PĒC!H15-PIRMS!H15 -> 0 | I15: =PĒC!I15-PIRMS!I15 -> -30783.625 | J15: =PĒC!J15-PIRMS!J15 -> 12929.122 | ... M15: =PĒC!M15-PIRMS!M15 -> 14543.504
B16: Citas izmaksas | C16: =PĒC!C16-PIRMS!C16 -> 0 | D16: =PĒC!D16-PIRMS!D16 -> 0 | E16: =PĒC!E16-PIRMS!E16 -> 0 | F16: =PĒC!F16-PIRMS!F16 -> 0 | G16: =PĒC!G16-PIRMS!G16 -> 0 | H16: =PĒC!H16-PIRMS!H16 -> 0 | I16: =PĒC!I16-PIRMS!I16 -> -58043.013 | J16: =PĒC!J16-PIRMS!J16 -> -25797.635 | ... M16: =PĒC!M16-PIRMS!M16 -> -16491.553
C17: =PĒC!C17-PIRMS!C17 -> 0 | D17: =PĒC!D17-PIRMS!D17 -> 0 | E17: =PĒC!E17-PIRMS!E17 -> 0 | F17: =PĒC!F17-PIRMS!F17 -> 0 | G17: =PĒC!G17-PIRMS!G17 -> 0 | H17: =PĒC!H17-PIRMS!H17 -> 0 | I17: =PĒC!I17-PIRMS!I17 -> 0 | J17: =PĒC!J17-PIRMS!J17 -> 0 | ... M17: =PĒC!M17-PIRMS!M17 -> 0
B18: Bruto peļņa | C18: =PĒC!C18-PIRMS!C18 -> 0 | D18: =PĒC!D18-PIRMS!D18 -> 0 | E18: =PĒC!E18-PIRMS!E18 -> 0 | F18: =PĒC!F18-PIRMS!F18 -> 0 | G18: =PĒC!G18-PIRMS!G18 -> 0 | H18: =PĒC!H18-PIRMS!H18 -> 0 | I18: =PĒC!I18-PIRMS!I18 -> 523614.98 | J18: =PĒC!J18-PIRMS!J18 -> 824194.11 | ... M18: =PĒC!M18-PIRMS!M18 -> 868900.32
C19: =PĒC!C19-PIRMS!C19 -> 0 | D19: =PĒC!D19-PIRMS!D19 -> 0 | E19: =PĒC!E19-PIRMS!E19 -> 0 | F19: =PĒC!F19-PIRMS!F19 -> 0 | G19: =PĒC!G19-PIRMS!G19 -> 0 | H19: =PĒC!H19-PIRMS!H19 -> 0 | I19: =PĒC!I19-PIRMS!I19 -> 0 | J19: =PĒC!J19-PIRMS!J19 -> 0 | ... M19: =PĒC!M19-PIRMS!M19 -> 0
B20: Pārējie ieņēmumi | C20: =PĒC!C20-PIRMS!C20 -> 0 | D20: =PĒC!D20-PIRMS!D20 -> 0 | E20: =PĒC!E20-PIRMS!E20 -> 0 | F20: =PĒC!F20-PIRMS!F20 -> 0 | G20: =PĒC!G20-PIRMS!G20 -> 0 | H20: =PĒC!H20-PIRMS!H20 -> 0 | I20: =PĒC!I20-PIRMS!I20 -> 0 | J20: =PĒC!J20-PIRMS!J20 -> 0 | ... M20: =PĒC!M20-PIRMS!M20 -> 0
B21: KM dotācijas | C21: =PĒC!C21-PIRMS!C21 -> 0 | D21: =PĒC!D21-PIRMS!D21 -> 0 | E21: =PĒC!E21-PIRMS!E21 -> 0 | F21: =PĒC!F21-PIRMS!F21 -> 0 | G21: =PĒC!G21-PIRMS!G21 -> 0 | H21: =PĒC!H21-PIRMS!H21 -> 0 | I21: =PĒC!I21-PIRMS!I21 -> 0 | J21: =PĒC!J21-PIRMS!J21 -> 0 | ... M21: =PĒC!M21-PIRMS!M21 -> 0
B22: Piešķirtā finansējuma pamatlīdzekļiem atzīšana ieņēmumos | C22: =PĒC!C22-PIRMS!C22 -> 0 | D22: =PĒC!D22-PIRMS!D22 -> 0 | E22: =PĒC!E22-PIRMS!E22 -> 0 | F22: =PĒC!F22-PIRMS!F22 -> 0 | G22: =PĒC!G22-PIRMS!G22 -> 0 | H22: =PĒC!H22-PIRMS!H22 -> 0 | I22: =PĒC!I22-PIRMS!I22 -> 0 | J22: =PĒC!J22-PIRMS!J22 -> 0 | ... M22: =PĒC!M22-PIRMS!M22 -> 0
B23: Citi ieņēmumi | C23: =PĒC!C23-PIRMS!C23 -> 0 | D23: =PĒC!D23-PIRMS!D23 -> 0 | E23: =PĒC!E23-PIRMS!E23 -> 0 | F23: =PĒC!F23-PIRMS!F23 -> 0 | G23: =PĒC!G23-PIRMS!G23 -> 0 | H23: =PĒC!H23-PIRMS!H23 -> 0 | I23: =PĒC!I23-PIRMS!I23 -> 0 | J23: =PĒC!J23-PIRMS!J23 -> 0 | ... M23: =PĒC!M23-PIRMS!M23 -> 0
C24: =PĒC!C24-PIRMS!C24 -> 0 | D24: =PĒC!D24-PIRMS!D24 -> 0 | E24: =PĒC!E24-PIRMS!E24 -> 0 | F24: =PĒC!F24-PIRMS!F24 -> 0 | G24: =PĒC!G24-PIRMS!G24 -> 0 | H24: =PĒC!H24-PIRMS!H24 -> 0 | I24: =PĒC!I24-PIRMS!I24 -> 0 | J24: =PĒC!J24-PIRMS!J24 -> 0 | ... M24: =PĒC!M24-PIRMS!M24 -> 0
B25: Pārējās izmaksas | C25: =PĒC!C25-PIRMS!C25 -> 0 | D25: =PĒC!D25-PIRMS!D25 -> 0 | E25: =PĒC!E25-PIRMS!E25 -> 0 | F25: =PĒC!F25-PIRMS!F25 -> 0 | G25: =PĒC!G25-PIRMS!G25 -> 0 | H25: =PĒC!H25-PIRMS!H25 -> 0 | I25: =PĒC!I25-PIRMS!I25 -> -62178.609 | J25: =PĒC!J25-PIRMS!J25 -> -11370.335 | ... M25: =PĒC!M25-PIRMS!M25 -> -12244.607
B26: Administrācijas un reklāmas personāla izmaksas | C26: =PĒC!C26-PIRMS!C26 -> 0 | D26: =PĒC!D26-PIRMS!D26 -> 0 | E26: =PĒC!E26-PIRMS!E26 -> 0 | F26: =PĒC!F26-PIRMS!F26 -> 0 | G26: =PĒC!G26-PIRMS!G26 -> 0 | H26: =PĒC!H26-PIRMS!H26 -> 0 | I26: =PĒC!I26-PIRMS!I26 -> 0 | J26: =PĒC!J26-PIRMS!J26 -> 0 | ... M26: =PĒC!M26-PIRMS!M26 -> 0
B27: Citas netiešās izmaksas | C27: =PĒC!C27-PIRMS!C27 -> 0 | D27: =PĒC!D27-PIRMS!D27 -> 0 | E27: =PĒC!E27-PIRMS!E27 -> 0 | F27: =PĒC!F27-PIRMS!F27 -> 0 | G27: =PĒC!G27-PIRMS!G27 -> 0 | H27: =PĒC!H27-PIRMS!H27 -> 0 | I27: =PĒC!I27-PIRMS!I27 -> -32114.41 | J27: =PĒC!J27-PIRMS!J27 -> -21642.27 | ... M27: =PĒC!M27-PIRMS!M27 -> -23306.358
B28: Reklāmas izmaksas | C28: =PĒC!C28-PIRMS!C28 -> 0 | D28: =PĒC!D28-PIRMS!D28 -> 0 | E28: =PĒC!E28-PIRMS!E28 -> 0 | F28: =PĒC!F28-PIRMS!F28 -> 0 | G28: =PĒC!G28-PIRMS!G28 -> 0 | H28: =PĒC!H28-PIRMS!H28 -> 0 | I28: =PĒC!I28-PIRMS!I28 -> -30064.2 | J28: =PĒC!J28-PIRMS!J28 -> 10271.935 | ... M28: =PĒC!M28-PIRMS!M28 -> 11061.75
C29: =PĒC!C29-PIRMS!C29 -> 0 | D29: =PĒC!D29-PIRMS!D29 -> 0 | E29: =PĒC!E29-PIRMS!E29 -> 0 | F29: =PĒC!F29-PIRMS!F29 -> 0 | G29: =PĒC!G29-PIRMS!G29 -> 0 | H29: =PĒC!H29-PIRMS!H29 -> 0 | I29: =PĒC!I29-PIRMS!I29 -> 0 | J29: =PĒC!J29-PIRMS!J29 -> 0 | ... M29: =PĒC!M29-PIRMS!M29 -> 0
B30: Peļņa pirms nolietojuma (EBITDA) | C30: =PĒC!C30-PIRMS!C30 -> 0 | D30: =PĒC!D30-PIRMS!D30 -> 0 | E30: =PĒC!E30-PIRMS!E30 -> 0 | F30: =PĒC!F30-PIRMS!F30 -> 0 | G30: =PĒC!G30-PIRMS!G30 -> 0 | H30: =PĒC!H30-PIRMS!H30 -> 0 | I30: =PĒC!I30-PIRMS!I30 -> 585793.59 | J30: =PĒC!J30-PIRMS!J30 -> 835564.44 | ... M30: =PĒC!M30-PIRMS!M30 -> 881144.93
C31: =PĒC!C31-PIRMS!C31 -> 0 | D31: =PĒC!D31-PIRMS!D31 -> 0 | E31: =PĒC!E31-PIRMS!E31 -> 0 | F31: =PĒC!F31-PIRMS!F31 -> 0 | G31: =PĒC!G31-PIRMS!G31 -> 0 | H31: =PĒC!H31-PIRMS!H31 -> 0 | I31: =PĒC!I31-PIRMS!I31 -> 0 | J31: =PĒC!J31-PIRMS!J31 -> 0 | ... M31: =PĒC!M31-PIRMS!M31 -> 0
B32: Nolietojums | C32: =PĒC!C32-PIRMS!C32 -> 0 | D32: =PĒC!D32-PIRMS!D32 -> 0 | E32: =PĒC!E32-PIRMS!E32 -> 0 | F32: =PĒC!F32-PIRMS!F32 -> 0 | G32: =PĒC!G32-PIRMS!G32 -> 0 | H32: =PĒC!H32-PIRMS!H32 -> 0 | I32: =PĒC!I32-PIRMS!I32 -> 589125.93 | J32: =PĒC!J32-PIRMS!J32 -> 824527.42 | ... M32: =PĒC!M32-PIRMS!M32 -> 859181.88
C33: =PĒC!C33-PIRMS!C33 -> 0 | D33: =PĒC!D33-PIRMS!D33 -> 0 | E33: =PĒC!E33-PIRMS!E33 -> 0 | F33: =PĒC!F33-PIRMS!F33 -> 0 | G33: =PĒC!G33-PIRMS!G33 -> 0 | H33: =PĒC!H33-PIRMS!H33 -> 0 | I33: =PĒC!I33-PIRMS!I33 -> 0 | J33: =PĒC!J33-PIRMS!J33 -> 0 | ... M33: =PĒC!M33-PIRMS!M33 -> 0
B34: Peļņa pēc nolietojuma (EBIT) | C34: =PĒC!C34-PIRMS!C34 -> 0 | D34: =PĒC!D34-PIRMS!D34 -> 0 | E34: =PĒC!E34-PIRMS!E34 -> 0 | F34: =PĒC!F34-PIRMS!F34 -> 0 | G34: =PĒC!G34-PIRMS!G34 -> 0 | H34: =PĒC!H34-PIRMS!H34 -> 0 | I34: =PĒC!I34-PIRMS!I34 -> -3332.3428 | J34: =PĒC!J34-PIRMS!J34 -> 11037.023 | ... M34: =PĒC!M34-PIRMS!M34 -> 21963.043
C35: =PĒC!C35-PIRMS!C35 -> 0 | D35: =PĒC!D35-PIRMS!D35 -> 0 | E35: =PĒC!E35-PIRMS!E35 -> 0 | F35: =PĒC!F35-PIRMS!F35 -> 0 | G35: =PĒC!G35-PIRMS!G35 -> 0 | H35: =PĒC!H35-PIRMS!H35 -> 0 | I35: =PĒC!I35-PIRMS!I35 -> 0 | J35: =PĒC!J35-PIRMS!J35 -> 0 | ... M35: =PĒC!M35-PIRMS!M35 -> 0
B36: Procentu maksājumi | C36: =PĒC!C36-PIRMS!C36 -> 0 | D36: =PĒC!D36-PIRMS!D36 -> 0 | E36: =PĒC!E36-PIRMS!E36 -> 0 | F36: =PĒC!F36-PIRMS!F36 -> 0 | G36: =PĒC!G36-PIRMS!G36 -> 0 | H36: =PĒC!H36-PIRMS!H36 -> 0 | I36: =PĒC!I36-PIRMS!I36 -> 0 | J36: =PĒC!J36-PIRMS!J36 -> 0 | ... M36: =PĒC!M36-PIRMS!M36 -> 0
C37: =PĒC!C37-PIRMS!C37 -> 0 | D37: =PĒC!D37-PIRMS!D37 -> 0 | E37: =PĒC!E37-PIRMS!E37 -> 0 | F37: =PĒC!F37-PIRMS!F37 -> 0 | G37: =PĒC!G37-PIRMS!G37 -> 0 | H37: =PĒC!H37-PIRMS!H37 -> 0 | I37: =PĒC!I37-PIRMS!I37 -> 0 | J37: =PĒC!J37-PIRMS!J37 -> 0 | ... M37: =PĒC!M37-PIRMS!M37 -> 0
B38: Peļņa pirms nodokļiem (EBT) | C38: =PĒC!C38-PIRMS!C38 -> 0 | D38: =PĒC!D38-PIRMS!D38 -> 0 | E38: =PĒC!E38-PIRMS!E38 -> 0 | F38: =PĒC!F38-PIRMS!F38 -> 0 | G38: =PĒC!G38-PIRMS!G38 -> 0 | H38: =PĒC!H38-PIRMS!H38 -> 0 | I38: =PĒC!I38-PIRMS!I38 -> -3332.3428 | J38: =PĒC!J38-PIRMS!J38 -> 11037.023 | ... M38: =PĒC!M38-PIRMS!M38 -> 21963.043
C39: =PĒC!C39-PIRMS!C39 -> 0 | D39: =PĒC!D39-PIRMS!D39 -> 0 | E39: =PĒC!E39-PIRMS!E39 -> 0 | F39: =PĒC!F39-PIRMS!F39 -> 0 | G39: =PĒC!G39-PIRMS!G39 -> 0 | H39: =PĒC!H39-PIRMS!H39 -> 0 | I39: =PĒC!I39-PIRMS!I39 -> 0 | J39: =PĒC!J39-PIRMS!J39 -> 0 | ... M39: =PĒC!M39-PIRMS!M39 -> 0
B40: Uzņēmuma ienākuma nodoklis | C40: =PĒC!C40-PIRMS!C40 -> 0 | D40: =PĒC!D40-PIRMS!D40 -> 0 | E40: =PĒC!E40-PIRMS!E40 -> 0 | F40: =PĒC!F40-PIRMS!F40 -> 0 | G40: =PĒC!G40-PIRMS!G40 -> 0 | H40: =PĒC!H40-PIRMS!H40 -> 0 | I40: =PĒC!I40-PIRMS!I40 -> 0 | J40: =PĒC!J40-PIRMS!J40 -> 0 | ... M40: =PĒC!M40-PIRMS!M40 -> 0
C41: =PĒC!C41-PIRMS!C41 -> 0 | D41: =PĒC!D41-PIRMS!D41 -> 0 | E41: =PĒC!E41-PIRMS!E41 -> 0 | F41: =PĒC!F41-PIRMS!F41 -> 0 | G41: =PĒC!G41-PIRMS!G41 -> 0 | H41: =PĒC!H41-PIRMS!H41 -> 0 | I41: =PĒC!I41-PIRMS!I41 -> 0 | J41: =PĒC!J41-PIRMS!J41 -> 0 | ... M41: =PĒC!M41-PIRMS!M41 -> 0
B42: Neto peļņa | C42: =PĒC!C42-PIRMS!C42 -> 0 | D42: =PĒC!D42-PIRMS!D42 -> 0 | E42: =PĒC!E42-PIRMS!E42 -> 0 | F42: =PĒC!F42-PIRMS!F42 -> 0 | G42: =PĒC!G42-PIRMS!G42 -> 0 | H42: =PĒC!H42-PIRMS!H42 -> 0 | I42: =PĒC!I42-PIRMS!I42 -> -3332.3428 | J42: =PĒC!J42-PIRMS!J42 -> 11037.023 | ... M42: =PĒC!M42-PIRMS!M42 -> 21963.043
B45: BILANCE (EUR) | C45: =C5 -> F 2018 | D45: =D5 -> F 2019 | E45: =E5 -> F 2020 | F45: =F5 -> F 2021 | G45: =G5 -> F 2022 | H45: =H5 -> P 2023 | I45: =I5 -> P 2024 | J45: =J5 -> P 2025 | ... M45: =M5 -> P 2028
B46: AKTĪVI
B47: Nemateriālie aktīvi | C47: =PĒC!C47-PIRMS!C47 -> 0 | D47: =PĒC!D47-PIRMS!D47 -> 0 | E47: =PĒC!E47-PIRMS!E47 -> 0 | F47: =PĒC!F47-PIRMS!F47 -> 0 | G47: =PĒC!G47-PIRMS!G47 -> 0 | H47: =PĒC!H47-PIRMS!H47 -> 0 | I47: =PĒC!I47-PIRMS!I47 -> 0 | J47: =PĒC!J47-PIRMS!J47 -> 0 | ... M47: =PĒC!M47-PIRMS!M47 -> 0
B48: Pamatlīdzekļi | C48: =PĒC!C48-PIRMS!C48 -> 0 | D48: =PĒC!D48-PIRMS!D48 -> 0 | E48: =PĒC!E48-PIRMS!E48 -> 0 | F48: =PĒC!F48-PIRMS!F48 -> 0 | G48: =PĒC!G48-PIRMS!G48 -> 0 | H48: =PĒC!H48-PIRMS!H48 -> 0 | I48: =PĒC!I48-PIRMS!I48 -> 41635449 | J48: =PĒC!J48-PIRMS!J48 -> 41388496 | ... M48: =PĒC!M48-PIRMS!M48 -> 40578328
B49: Ilgtermiņa aktīvi kopā | C49: =PĒC!C49-PIRMS!C49 -> 0 | D49: =PĒC!D49-PIRMS!D49 -> 0 | E49: =PĒC!E49-PIRMS!E49 -> 0 | F49: =PĒC!F49-PIRMS!F49 -> 0 | G49: =PĒC!G49-PIRMS!G49 -> 0 | H49: =PĒC!H49-PIRMS!H49 -> 0 | I49: =PĒC!I49-PIRMS!I49 -> 41635449 | J49: =PĒC!J49-PIRMS!J49 -> 41388496 | ... M49: =PĒC!M49-PIRMS!M49 -> 40578328
C50: =PĒC!C50-PIRMS!C50 -> 0 | D50: =PĒC!D50-PIRMS!D50 -> 0 | E50: =PĒC!E50-PIRMS!E50 -> 0 | F50: =PĒC!F50-PIRMS!F50 -> 0 | G50: =PĒC!G50-PIRMS!G50 -> 0 | H50: =PĒC!H50-PIRMS!H50 -> 0 | I50: =PĒC!I50-PIRMS!I50 -> 0 | J50: =PĒC!J50-PIRMS!J50 -> 0 | ... M50: =PĒC!M50-PIRMS!M50 -> 0
B51: Krājumi | C51: =PĒC!C51-PIRMS!C51 -> 0 | D51: =PĒC!D51-PIRMS!D51 -> 0 | E51: =PĒC!E51-PIRMS!E51 -> 0 | F51: =PĒC!F51-PIRMS!F51 -> 0 | G51: =PĒC!G51-PIRMS!G51 -> 0 | H51: =PĒC!H51-PIRMS!H51 -> 0 | I51: =PĒC!I51-PIRMS!I51 -> 0 | J51: =PĒC!J51-PIRMS!J51 -> 0 | ... M51: =PĒC!M51-PIRMS!M51 -> 0
B52: Debitori | C52: =PĒC!C52-PIRMS!C52 -> 0 | D52: =PĒC!D52-PIRMS!D52 -> 0 | E52: =PĒC!E52-PIRMS!E52 -> 0 | F52: =PĒC!F52-PIRMS!F52 -> 0 | G52: =PĒC!G52-PIRMS!G52 -> 0 | H52: =PĒC!H52-PIRMS!H52 -> 0 | I52: =PĒC!I52-PIRMS!I52 -> -1797.141 | J52: =PĒC!J52-PIRMS!J52 -> 11012.967 | ... M52: =PĒC!M52-PIRMS!M52 -> 12336.084
B53: Nauda | C53: =PĒC!C53-PIRMS!C53 -> 0 | D53: =PĒC!D53-PIRMS!D53 -> 0 | E53: =PĒC!E53-PIRMS!E53 -> 0 | F53: =PĒC!F53-PIRMS!F53 -> 0 | G53: =PĒC!G53-PIRMS!G53 -> 0 | H53: =PĒC!H53-PIRMS!H53 -> 0 | I53: =PĒC!I53-PIRMS!I53 -> -92664.869 | J53: =PĒC!J53-PIRMS!J53 -> 432395 | ... M53: =PĒC!M53-PIRMS!M53 -> 1322967
B54: Īstermiņa aktīvi kopā | C54: =PĒC!C54-PIRMS!C54 -> 0 | D54: =PĒC!D54-PIRMS!D54 -> 0 | E54: =PĒC!E54-PIRMS!E54 -> 0 | F54: =PĒC!F54-PIRMS!F54 -> 0 | G54: =PĒC!G54-PIRMS!G54 -> 0 | H54: =PĒC!H54-PIRMS!H54 -> 0 | I54: =PĒC!I54-PIRMS!I54 -> -94462.01 | J54: =PĒC!J54-PIRMS!J54 -> 443407.96 | ... M54: =PĒC!M54-PIRMS!M54 -> 1335303.1
B55: AKTĪVI KOPĀ | C55: =PĒC!C55-PIRMS!C55 -> 0 | D55: =PĒC!D55-PIRMS!D55 -> 0 | E55: =PĒC!E55-PIRMS!E55 -> 0 | F55: =PĒC!F55-PIRMS!F55 -> 0 | G55: =PĒC!G55-PIRMS!G55 -> 0 | H55: =PĒC!H55-PIRMS!H55 -> 0 | I55: =PĒC!I55-PIRMS!I55 -> 41540987 | J55: =PĒC!J55-PIRMS!J55 -> 41831903 | ... M55: =PĒC!M55-PIRMS!M55 -> 41913631
B57: PAŠU KAPITĀLS UN SAISTĪBAS
B58: Pamatkapitāls | C58: =PĒC!C58-PIRMS!C58 -> 0 | D58: =PĒC!D58-PIRMS!D58 -> 0 | E58: =PĒC!E58-PIRMS!E58 -> 0 | F58: =PĒC!F58-PIRMS!F58 -> 0 | G58: =PĒC!G58-PIRMS!G58 -> 0 | H58: =PĒC!H58-PIRMS!H58 -> 0 | I58: =PĒC!I58-PIRMS!I58 -> 41647000 | J58: =PĒC!J58-PIRMS!J58 -> 41647000 | ... M58: =PĒC!M58-PIRMS!M58 -> 41647000
B59: Rezeves | C59: =PĒC!C59-PIRMS!C59 -> 0 | D59: =PĒC!D59-PIRMS!D59 -> 0 | E59: =PĒC!E59-PIRMS!E59 -> 0 | F59: =PĒC!F59-PIRMS!F59 -> 0 | G59: =PĒC!G59-PIRMS!G59 -> 0 | H59: =PĒC!H59-PIRMS!H59 -> 0 | I59: =PĒC!I59-PIRMS!I59 -> 0 | J59: =PĒC!J59-PIRMS!J59 -> 0 | ... M59: =PĒC!M59-PIRMS!M59 -> 0
B60: Iepriekšējo gadu uzkrātā peļņa | C60: =PĒC!C60-PIRMS!C60 -> 0 | D60: =PĒC!D60-PIRMS!D60 -> 0 | E60: =PĒC!E60-PIRMS!E60 -> 0 | F60: =PĒC!F60-PIRMS!F60 -> 0 | G60: =PĒC!G60-PIRMS!G60 -> 0 | H60: =PĒC!H60-PIRMS!H60 -> 0 | I60: =PĒC!I60-PIRMS!I60 -> 0 | J60: =PĒC!J60-PIRMS!J60 -> -3332.3428 | ... M60: =PĒC!M60-PIRMS!M60 -> 40361.932
B61: Perioda peļņa | C61: =PĒC!C61-PIRMS!C61 -> 0 | D61: =PĒC!D61-PIRMS!D61 -> 0 | E61: =PĒC!E61-PIRMS!E61 -> 0 | F61: =PĒC!F61-PIRMS!F61 -> 0 | G61: =PĒC!G61-PIRMS!G61 -> 0 | H61: =PĒC!H61-PIRMS!H61 -> 0 | I61: =PĒC!I61-PIRMS!I61 -> -3332.3428 | J61: =PĒC!J61-PIRMS!J61 -> 11037.023 | ... M61: =PĒC!M61-PIRMS!M61 -> 21963.043
B62: Pašu kapitāls kopā | C62: =PĒC!C62-PIRMS!C62 -> 0 | D62: =PĒC!D62-PIRMS!D62 -> 0 | E62: =PĒC!E62-PIRMS!E62 -> 0 | F62: =PĒC!F62-PIRMS!F62 -> 0 | G62: =PĒC!G62-PIRMS!G62 -> 0 | H62: =PĒC!H62-PIRMS!H62 -> 0 | I62: =PĒC!I62-PIRMS!I62 -> 41643668 | J62: =PĒC!J62-PIRMS!J62 -> 41654705 | ... M62: =PĒC!M62-PIRMS!M62 -> 41709325
C63: =PĒC!C63-PIRMS!C63 -> 0 | D63: =PĒC!D63-PIRMS!D63 -> 0 | E63: =PĒC!E63-PIRMS!E63 -> 0 | F63: =PĒC!F63-PIRMS!F63 -> 0 | G63: =PĒC!G63-PIRMS!G63 -> 0 | H63: =PĒC!H63-PIRMS!H63 -> 0 | I63: =PĒC!I63-PIRMS!I63 -> 0 | J63: =PĒC!J63-PIRMS!J63 -> 0 | ... M63: =PĒC!M63-PIRMS!M63 -> 0
B64: Aizņēmumi no kredītiestādēm | C64: =PĒC!C64-PIRMS!C64 -> 0 | D64: =PĒC!D64-PIRMS!D64 -> 0 | E64: =PĒC!E64-PIRMS!E64 -> 0 | F64: =PĒC!F64-PIRMS!F64 -> 0 | G64: =PĒC!G64-PIRMS!G64 -> 0 | H64: =PĒC!H64-PIRMS!H64 -> 0 | I64: =PĒC!I64-PIRMS!I64 -> 0 | J64: =PĒC!J64-PIRMS!J64 -> 0 | ... M64: =PĒC!M64-PIRMS!M64 -> 0
B65: No pircējiem saņemtie avansi | C65: =PĒC!C65-PIRMS!C65 -> 0 | D65: =PĒC!D65-PIRMS!D65 -> 0 | E65: =PĒC!E65-PIRMS!E65 -> 0 | F65: =PĒC!F65-PIRMS!F65 -> 0 | G65: =PĒC!G65-PIRMS!G65 -> 0 | H65: =PĒC!H65-PIRMS!H65 -> 0 | I65: =PĒC!I65-PIRMS!I65 -> -32348.537 | J65: =PĒC!J65-PIRMS!J65 -> 178720.55 | ... M65: =PĒC!M65-PIRMS!M65 -> 201036.31
B66: Parādi piegādātājiem un darbuzņēmējiem | C66: =PĒC!C66-PIRMS!C66 -> 0 | D66: =PĒC!D66-PIRMS!D66 -> 0 | E66: =PĒC!E66-PIRMS!E66 -> 0 | F66: =PĒC!F66-PIRMS!F66 -> 0 | G66: =PĒC!G66-PIRMS!G66 -> 0 | H66: =PĒC!H66-PIRMS!H66 -> 0 | I66: =PĒC!I66-PIRMS!I66 -> -27885.001 | J66: =PĒC!J66-PIRMS!J66 -> -7344.3936 | ... M66: =PĒC!M66-PIRMS!M66 -> -5205.4971
B67: Nodokļi | C67: =PĒC!C67-PIRMS!C67 -> 0 | D67: =PĒC!D67-PIRMS!D67 -> 0 | E67: =PĒC!E67-PIRMS!E67 -> 0 | F67: =PĒC!F67-PIRMS!F67 -> 0 | G67: =PĒC!G67-PIRMS!G67 -> 0 | H67: =PĒC!H67-PIRMS!H67 -> 0 | I67: =PĒC!I67-PIRMS!I67 -> -8885.7385 | J67: =PĒC!J67-PIRMS!J67 -> 3732.0102 | ... M67: =PĒC!M67-PIRMS!M67 -> 4198.0039
B68: Uzkrātās saistības | C68: =PĒC!C68-PIRMS!C68 -> 0 | D68: =PĒC!D68-PIRMS!D68 -> 0 | E68: =PĒC!E68-PIRMS!E68 -> 0 | F68: =PĒC!F68-PIRMS!F68 -> 0 | G68: =PĒC!G68-PIRMS!G68 -> 0 | H68: =PĒC!H68-PIRMS!H68 -> 0 | I68: =PĒC!I68-PIRMS!I68 -> -8530.3089 | J68: =PĒC!J68-PIRMS!J68 -> 3582.7298 | ... M68: =PĒC!M68-PIRMS!M68 -> 4030.0837
B69: Nākamo periodu ieņēmumi | C69: =PĒC!C69-PIRMS!C69 -> 0 | D69: =PĒC!D69-PIRMS!D69 -> 0 | E69: =PĒC!E69-PIRMS!E69 -> 0 | F69: =PĒC!F69-PIRMS!F69 -> 0 | G69: =PĒC!G69-PIRMS!G69 -> 0 | H69: =PĒC!H69-PIRMS!H69 -> 0 | I69: =PĒC!I69-PIRMS!I69 -> 0 | J69: =PĒC!J69-PIRMS!J69 -> 0 | ... M69: =PĒC!M69-PIRMS!M69 -> 0
B70: Pārējie kreditori | C70: =PĒC!C70-PIRMS!C70 -> 0 | D70: =PĒC!D70-PIRMS!D70 -> 0 | E70: =PĒC!E70-PIRMS!E70 -> 0 | F70: =PĒC!F70-PIRMS!F70 -> 0 | G70: =PĒC!G70-PIRMS!G70 -> 0 | H70: =PĒC!H70-PIRMS!H70 -> 0 | I70: =PĒC!I70-PIRMS!I70 -> -25031.571 | J70: =PĒC!J70-PIRMS!J70 -> -1492.0794 | ... M70: =PĒC!M70-PIRMS!M70 -> 246.86007
B71: Saistības kopā | C71: =PĒC!C71-PIRMS!C71 -> 0 | D71: =PĒC!D71-PIRMS!D71 -> 0 | E71: =PĒC!E71-PIRMS!E71 -> 0 | F71: =PĒC!F71-PIRMS!F71 -> 0 | G71: =PĒC!G71-PIRMS!G71 -> 0 | H71: =PĒC!H71-PIRMS!H71 -> 0 | I71: =PĒC!I71-PIRMS!I71 -> -102681.16 | J71: =PĒC!J71-PIRMS!J71 -> 177198.82 | ... M71: =PĒC!M71-PIRMS!M71 -> 204305.76
B72: PAŠU KAPITĀLS UN SAISTĪBAS KOPĀ | C72: =PĒC!C72-PIRMS!C72 -> 0 | D72: =PĒC!D72-PIRMS!D72 -> 0 | E72: =PĒC!E72-PIRMS!E72 -> 0 | F72: =PĒC!F72-PIRMS!F72 -> 0 | G72: =PĒC!G72-PIRMS!G72 -> 0 | H72: =PĒC!H72-PIRMS!H72 -> 0 | I72: =PĒC!I72-PIRMS!I72 -> 41540987 | J72: =PĒC!J72-PIRMS!J72 -> 41831903 | ... M72: =PĒC!M72-PIRMS!M72 -> 41913631
B74: Pārbaude | C74: =ROUND(C55-C72,2) -> 0 | D74: =ROUND(D55-D72,2) -> 0 | E74: =ROUND(E55-E72,2) -> 0 | F74: =ROUND(F55-F72,2) -> 0 | G74: =ROUND(G55-G72,2) -> 0 | H74: =ROUND(H55-H72,2) -> 0 | I74: =ROUND(I55-I72,2) -> 0 | J74: =ROUND(J55-J72,2) -> 0 | ... M74: =ROUND(M55-M72,2) -> 0
B77: NAUDAS PLŪSMAS APRĒĶINS (EUR) | C77: =C5 -> F 2018 | D77: =D5 -> F 2019 | E77: =E5 -> F 2020 | F77: =F5 -> F 2021 | G77: =G5 -> F 2022 | H77: =H5 -> P 2023 | I77: =I5 -> P 2024 | J77: =J5 -> P 2025 | ... M77: =M5 -> P 2028
B78: Neto peļņa | C78: =PĒC!C78-PIRMS!C78 -> 0 | D78: =PĒC!D78-PIRMS!D78 -> 0 | E78: =PĒC!E78-PIRMS!E78 -> 0 | F78: =PĒC!F78-PIRMS!F78 -> 0 | G78: =PĒC!G78-PIRMS!G78 -> 0 | H78: =PĒC!H78-PIRMS!H78 -> 0 | I78: =PĒC!I78-PIRMS!I78 -> -3332.3428 | J78: =PĒC!J78-PIRMS!J78 -> 11037.023 | ... M78: =PĒC!M78-PIRMS!M78 -> 21963.043
B79: Korekcijas: | C79: =PĒC!C79-PIRMS!C79 -> 0 | D79: =PĒC!D79-PIRMS!D79 -> 0 | E79: =PĒC!E79-PIRMS!E79 -> 0 | F79: =PĒC!F79-PIRMS!F79 -> 0 | G79: =PĒC!G79-PIRMS!G79 -> 0 | H79: =PĒC!H79-PIRMS!H79 -> 0 | I79: =PĒC!I79-PIRMS!I79 -> 0 | J79: =PĒC!J79-PIRMS!J79 -> 0 | ... M79: =PĒC!M79-PIRMS!M79 -> 0
B80: Nolietojums | C80: =PĒC!C80-PIRMS!C80 -> 0 | D80: =PĒC!D80-PIRMS!D80 -> 0 | E80: =PĒC!E80-PIRMS!E80 -> 0 | F80: =PĒC!F80-PIRMS!F80 -> 0 | G80: =PĒC!G80-PIRMS!G80 -> 0 | H80: =PĒC!H80-PIRMS!H80 -> 0 | I80: =PĒC!I80-PIRMS!I80 -> 589125.93 | J80: =PĒC!J80-PIRMS!J80 -> 824527.42 | ... M80: =PĒC!M80-PIRMS!M80 -> 859181.88
B81: Izmaiņas krājumos | C81: =PĒC!C81-PIRMS!C81 -> 0 | D81: =PĒC!D81-PIRMS!D81 -> 0 | E81: =PĒC!E81-PIRMS!E81 -> 0 | F81: =PĒC!F81-PIRMS!F81 -> 0 | G81: =PĒC!G81-PIRMS!G81 -> 0 | H81: =PĒC!H81-PIRMS!H81 -> 0 | I81: =PĒC!I81-PIRMS!I81 -> 0 | J81: =PĒC!J81-PIRMS!J81 -> 0 | ... M81: =PĒC!M81-PIRMS!M81 -> 0
B82: Izmaiņas debitoros | C82: =PĒC!C82-PIRMS!C82 -> 0 | D82: =PĒC!D82-PIRMS!D82 -> 0 | E82: =PĒC!E82-PIRMS!E82 -> 0 | F82: =PĒC!F82-PIRMS!F82 -> 0 | G82: =PĒC!G82-PIRMS!G82 -> 0 | H82: =PĒC!H82-PIRMS!H82 -> 0 | I82: =PĒC!I82-PIRMS!I82 -> 1797.141 | J82: =PĒC!J82-PIRMS!J82 -> -12810.108 | ... M82: =PĒC!M82-PIRMS!M82 -> -458.03795
B83: Izmaiņas kreditoros | C83: =PĒC!C83-PIRMS!C83 -> 0 | D83: =PĒC!D83-PIRMS!D83 -> 0 | E83: =PĒC!E83-PIRMS!E83 -> 0 | F83: =PĒC!F83-PIRMS!F83 -> 0 | G83: =PĒC!G83-PIRMS!G83 -> 0 | H83: =PĒC!H83-PIRMS!H83 -> 0 | I83: =PĒC!I83-PIRMS!I83 -> -102681.16 | J83: =PĒC!J83-PIRMS!J83 -> 279879.97 | ... M83: =PĒC!M83-PIRMS!M83 -> 9452.8176
B84: Naudas plūsmas no pamatdarbības | C84: =PĒC!C84-PIRMS!C84 -> 0 | D84: =PĒC!D84-PIRMS!D84 -> 0 | E84: =PĒC!E84-PIRMS!E84 -> 0 | F84: =PĒC!F84-PIRMS!F84 -> 0 | G84: =PĒC!G84-PIRMS!G84 -> 0 | H84: =PĒC!H84-PIRMS!H84 -> 0 | I84: =PĒC!I84-PIRMS!I84 -> 484909.57 | J84: =PĒC!J84-PIRMS!J84 -> 1102634.3 | ... M84: =PĒC!M84-PIRMS!M84 -> 890139.71
C85: =PĒC!C85-PIRMS!C85 -> 0 | D85: =PĒC!D85-PIRMS!D85 -> 0 | E85: =PĒC!E85-PIRMS!E85 -> 0 | F85: =PĒC!F85-PIRMS!F85 -> 0 | G85: =PĒC!G85-PIRMS!G85 -> 0 | H85: =PĒC!H85-PIRMS!H85 -> 0 | I85: =PĒC!I85-PIRMS!I85 -> 0 | J85: =PĒC!J85-PIRMS!J85 -> 0 | ... M85: =PĒC!M85-PIRMS!M85 -> 0
B86: Pamatlīdzekļu iegāde | C86: =PĒC!C86-PIRMS!C86 -> 0 | D86: =PĒC!D86-PIRMS!D86 -> 0 | E86: =PĒC!E86-PIRMS!E86 -> 0 | F86: =PĒC!F86-PIRMS!F86 -> 0 | G86: =PĒC!G86-PIRMS!G86 -> 0 | H86: =PĒC!H86-PIRMS!H86 -> 0 | I86: =PĒC!I86-PIRMS!I86 -> -42224574 | J86: =PĒC!J86-PIRMS!J86 -> -577574.44 | ... M86: =PĒC!M86-PIRMS!M86 -> -577574.44
B87: Naudas plūsma no ieguldījumu darbības | C87: =PĒC!C87-PIRMS!C87 -> 0 | D87: =PĒC!D87-PIRMS!D87 -> 0 | E87: =PĒC!E87-PIRMS!E87 -> 0 | F87: =PĒC!F87-PIRMS!F87 -> 0 | G87: =PĒC!G87-PIRMS!G87 -> 0 | H87: =PĒC!H87-PIRMS!H87 -> 0 | I87: =PĒC!I87-PIRMS!I87 -> -42224574 | J87: =PĒC!J87-PIRMS!J87 -> -577574.44 | ... M87: =PĒC!M87-PIRMS!M87 -> -577574.44
C88: =PĒC!C88-PIRMS!C88 -> 0 | D88: =PĒC!D88-PIRMS!D88 -> 0 | E88: =PĒC!E88-PIRMS!E88 -> 0 | F88: =PĒC!F88-PIRMS!F88 -> 0 | G88: =PĒC!G88-PIRMS!G88 -> 0 | H88: =PĒC!H88-PIRMS!H88 -> 0 | I88: =PĒC!I88-PIRMS!I88 -> 0 | J88: =PĒC!J88-PIRMS!J88 -> 0 | ... M88: =PĒC!M88-PIRMS!M88 -> 0
B89: Izmaiņas aizņēmumos no kredītiestādēm | C89: =PĒC!C89-PIRMS!C89 -> 0 | D89: =PĒC!D89-PIRMS!D89 -> 0 | E89: =PĒC!E89-PIRMS!E89 -> 0 | F89: =PĒC!F89-PIRMS!F89 -> 0 | G89: =PĒC!G89-PIRMS!G89 -> 0 | H89: =PĒC!H89-PIRMS!H89 -> 0 | I89: =PĒC!I89-PIRMS!I89 -> 0 | J89: =PĒC!J89-PIRMS!J89 -> 0 | ... M89: =PĒC!M89-PIRMS!M89 -> 0
B90: Izmaiņas pašu kapitālā | C90: =PĒC!C90-PIRMS!C90 -> 0 | D90: =PĒC!D90-PIRMS!D90 -> 0 | E90: =PĒC!E90-PIRMS!E90 -> 0 | F90: =PĒC!F90-PIRMS!F90 -> 0 | G90: =PĒC!G90-PIRMS!G90 -> 0 | H90: =PĒC!H90-PIRMS!H90 -> 0 | I90: =PĒC!I90-PIRMS!I90 -> 41647000 | J90: =PĒC!J90-PIRMS!J90 -> 0 | ... M90: =PĒC!M90-PIRMS!M90 -> 0
B91: Naudas plūsma no finanšu darbības | C91: =PĒC!C91-PIRMS!C91 -> 0 | D91: =PĒC!D91-PIRMS!D91 -> 0 | E91: =PĒC!E91-PIRMS!E91 -> 0 | F91: =PĒC!F91-PIRMS!F91 -> 0 | G91: =PĒC!G91-PIRMS!G91 -> 0 | H91: =PĒC!H91-PIRMS!H91 -> 0 | I91: =PĒC!I91-PIRMS!I91 -> 41647000 | J91: =PĒC!J91-PIRMS!J91 -> 0 | ... M91: =PĒC!M91-PIRMS!M91 -> 0
C92: =PĒC!C92-PIRMS!C92 -> 0 | D92: =PĒC!D92-PIRMS!D92 -> 0 | E92: =PĒC!E92-PIRMS!E92 -> 0 | F92: =PĒC!F92-PIRMS!F92 -> 0 | G92: =PĒC!G92-PIRMS!G92 -> 0 | H92: =PĒC!H92-PIRMS!H92 -> 0 | I92: =PĒC!I92-PIRMS!I92 -> 0 | J92: =PĒC!J92-PIRMS!J92 -> 0 | ... M92: =PĒC!M92-PIRMS!M92 -> 0
B93: Neto naudas plūsma | C93: =PĒC!C93-PIRMS!C93 -> 0 | D93: =PĒC!D93-PIRMS!D93 -> 0 | E93: =PĒC!E93-PIRMS!E93 -> 0 | F93: =PĒC!F93-PIRMS!F93 -> 0 | G93: =PĒC!G93-PIRMS!G93 -> 0 | H93: =PĒC!H93-PIRMS!H93 -> 0 | I93: =PĒC!I93-PIRMS!I93 -> -92664.869 | J93: =PĒC!J93-PIRMS!J93 -> 525059.87 | ... M93: =PĒC!M93-PIRMS!M93 -> 312565.27
C94: =PĒC!C94-PIRMS!C94 -> 0 | D94: =PĒC!D94-PIRMS!D94 -> 0 | E94: =PĒC!E94-PIRMS!E94 -> 0 | F94: =PĒC!F94-PIRMS!F94 -> 0 | G94: =PĒC!G94-PIRMS!G94 -> 0 | H94: =PĒC!H94-PIRMS!H94 -> 0 | I94: =PĒC!I94-PIRMS!I94 -> 0 | J94: =PĒC!J94-PIRMS!J94 -> 0 | ... M94: =PĒC!M94-PIRMS!M94 -> 0
B95: Nauda perioda sākumā | C95: =PĒC!C95-PIRMS!C95 -> 0 | D95: =PĒC!D95-PIRMS!D95 -> 0 | E95: =PĒC!E95-PIRMS!E95 -> 0 | F95: =PĒC!F95-PIRMS!F95 -> 0 | G95: =PĒC!G95-PIRMS!G95 -> 0 | H95: =PĒC!H95-PIRMS!H95 -> 0 | I95: =PĒC!I95-PIRMS!I95 -> 0 | J95: =PĒC!J95-PIRMS!J95 -> -92664.869 | ... M95: =PĒC!M95-PIRMS!M95 -> 1010401.7
B96: Nauda perioda beigās | C96: =PĒC!C96-PIRMS!C96 -> 0 | D96: =PĒC!D96-PIRMS!D96 -> 0 | E96: =PĒC!E96-PIRMS!E96 -> 0 | F96: =PĒC!F96-PIRMS!F96 -> 0 | G96: =PĒC!G96-PIRMS!G96 -> 0 | H96: =PĒC!H96-PIRMS!H96 -> 0 | I96: =PĒC!I96-PIRMS!I96 -> -92664.869 | J96: =PĒC!J96-PIRMS!J96 -> 432395 | ... M96: =PĒC!M96-PIRMS!M96 -> 1322967
B98: Pārbaude | C98: =C96-C53 -> 0 | D98: =D96-D53 -> 0 | E98: =E96-E53 -> 0 | F98: =F96-F53 -> 0 | G98: =G96-G53 -> 0 | H98: =H96-H53 -> 0 | I98: =I96-I53 -> 0 | J98: =J96-J53 -> 0 | ... M98: =M96-M53 -> 0

Sheet raditaji
C2: VSIA DAILES TEĀTRIS
B4: Kapitālsabiedrības finanšu mērķi un finanšu rādītāji
A7: Rādītāji | C7: Fakts | D7: Fakts | E7: Plāns
C8: 2014. gads | D8: 2015. gads | E8: 2022. gads | F8: 2023.gads | G8: 2024. gads | H8: 2025. gads | I8: 2026.gads | J8: 2027.gads
A9: Apgrozījums, EUR | B9: Kultūras iestāžu darbība | C9: =PIRMS!C7+PIRMS!C20 -> 4629426 | D9: =PIRMS!E7+PIRMS!E20 -> 5035817 | E9: =PIRMS!G7+PIRMS!G20 -> 6765627 | F9: =PIRMS!H7+PIRMS!H20 -> 7187350 | G9: =PIRMS!I7+PIRMS!I20 -> 7820210.9 | H9: =PIRMS!J7+PIRMS!J20 -> 8147597.8 | I9: =PIRMS!K7+PIRMS!K20 -> 8435644.7 | J9: =PIRMS!L7+PIRMS!L20 -> 8734998.8
A11: Bruto peļņa, EUR | C11: =PIRMS!C18 -> -1393965 | D11: =PIRMS!E18 -> -2899614 | E11: =PIRMS!G18 -> -2413136 | F11: =PIRMS!H18 -> -2535909.3 | G11: =PIRMS!I18 -> -2314669.4 | H11: =PIRMS!J18 -> -2389743.6 | I11: =PIRMS!K18 -> -2465687 | J11: =PIRMS!L18 -> -2532498
A12: Peļņa pirms procentu maksājumiem, nodokļiem, nolietojuma EBITDA, EUR | C12: =PIRMS!C30 -> 114721 | D12: =PIRMS!E30 -> 104765 | E12: =PIRMS!G30 -> 328417 | F12: =PIRMS!H30 -> 378530.44 | G12: =PIRMS!I30 -> 392435.45 | H12: =PIRMS!J30 -> 362834.74 | I12: =PIRMS!K30 -> 339380.1 | J12: =PIRMS!L30 -> 325969.81
A13: Peļņa pirms procentu maksājumiem, nodokļiem EBIT, EUR | C13: =PIRMS!C34 -> 2068 | D13: =PIRMS!E34 -> 7075 | E13: =PIRMS!G34 -> 14947 | F13: =PIRMS!H34 -> 13017.213 | G13: =PIRMS!I34 -> 28163.386 | H13: =PIRMS!J34 -> 28866.904 | I13: =PIRMS!K34 -> 26614.33 | J13: =PIRMS!L34 -> 26198.749
A14: Peļņa vai zaudējumi, EUR | C14: =PIRMS!C42 -> 1662 | D14: =PIRMS!E42 -> 4948 | E14: =PIRMS!G42 -> 5990 | F14: =PIRMS!H42 -> 2000.4253 | G14: =PIRMS!I42 -> 4729.8092 | H14: =PIRMS!J42 -> 8083.3275 | I14: =PIRMS!K42 -> 8480.7532 | J14: =PIRMS!L42 -> 10715.172
A15: Pamatkapitāls, EUR | C15: =PIRMS!C58 -> 54228 | D15: =PIRMS!E58 -> 54228 | E15: =PIRMS!G58 -> 151318 | F15: =PIRMS!H58 -> 151318 | G15: =PIRMS!I58 -> 151318 | H15: =PIRMS!J58 -> 151318 | I15: =PIRMS!K58 -> 151318 | J15: =PIRMS!L58 -> 151318
A16: Pašu kapitāls, EUR | C16: =PIRMS!C62 -> 26516 | D16: =PIRMS!E62 -> 36227 | E16: =PIRMS!G62 -> 140731 | F16: =PIRMS!H62 -> 142731.43 | G16: =PIRMS!I62 -> 147461.23 | H16: =PIRMS!J62 -> 155544.56 | I16: =PIRMS!K62 -> 164025.32 | J16: =PIRMS!L62 -> 174740.49
A17: Kopējo saistību kopsumma, EUR | C17: =PIRMS!C71 -> 879063 | D17: =PIRMS!E71 -> 1300309 | E17: =PIRMS!G71 -> 2966256 | F17: =PIRMS!H72 -> 3217023.2 | G17: =PIRMS!I72 -> 3165515.2 | H17: =PIRMS!J72 -> 2967257.8 | I17: =PIRMS!K72 -> 2753813.4 | J17: =PIRMS!L72 -> 2545137.9
A18: Finanšu saistību kopsumma, EUR | C18: - | D18: - | E18: - | F18: - | G18: - | H18: - | I18: - | J18: -
A19: Pašu kapitāla atdeve, ROE | C19: =PIRMS!C42/PIRMS!C62 -> 0.062679137 | D19: =PIRMS!E42/PIRMS!E62 -> 0.13658321 | E19: =PIRMS!G42/PIRMS!G62 -> 0.042563472 | F19: =PIRMS!H42/PIRMS!H62 -> 0.014015311 | G19: =PIRMS!I42/PIRMS!I62 -> 0.032074933 | H19: =PIRMS!J42/PIRMS!J62 -> 0.051967921 | I19: =PIRMS!K42/PIRMS!K62 -> 0.051703929 | J19: =PIRMS!L42/PIRMS!L62 -> 0.06132049
A20: Neto peļņa/ pašu kapitāls
A21: Aktīvu atdeve, ROA- neto peļņa/ aktīvu kopsumma | C21: =PIRMS!C42/PIRMS!C55 -> 0.0018352899 | D21: =PIRMS!E42/PIRMS!E55 -> 0.0037021075 | E21: =PIRMS!G42/PIRMS!G55 -> 0.0019279128 | F21: =PIRMS!H42/PIRMS!H55 -> 0.00062182496 | G21: =PIRMS!I42/PIRMS!I55 -> 0.0014941673 | H21: =PIRMS!J42/PIRMS!J55 -> 0.0027241744 | I21: =PIRMS!K42/PIRMS!K55 -> 0.0030796397 | J21: =PIRMS!L42/PIRMS!L55 -> 0.0042100557
A22: Kopējais likviditātes rādītājs – apgr. līdz./īst. saistības | C22: 0.7 | D22: 0.7 | E22: =PIRMS!G54/(PIRMS!G67+PIRMS!G70) -> 3.9100677 | F22: =PIRMS!H54/(PIRMS!H67+PIRMS!H70) -> 3.418444 | G22: =PIRMS!I54/(PIRMS!I67+PIRMS!I70) -> 3.5512695 | H22: =PIRMS!J54/(PIRMS!J67+PIRMS!J70) -> 3.4607071 | I22: =PIRMS!K54/(PIRMS!K67+PIRMS!K70) -> 3.3278695 | J22: =PIRMS!L54/(PIRMS!L67+PIRMS!L70) -> 3.1868828
A23: Tekošās likviditātes | C23: =(PIRMS!C54-PIRMS!C51)/PIRMS!C71 -> 0.08517137 | D23: =(PIRMS!E54-PIRMS!E51)/PIRMS!E71 -> 0.46268925 | E23: =(PIRMS!G54-PIRMS!G51)/PIRMS!G71 -> 0.24671707 | F23: =(PIRMS!H54-PIRMS!H51)/PIRMS!H71 -> 0.20988556 | G23: =(PIRMS!I54-PIRMS!I51)/PIRMS!I71 -> 0.27474492 | H23: =(PIRMS!J54-PIRMS!J51)/PIRMS!J71 -> 0.29916147 | I23: =(PIRMS!K54-PIRMS!K51)/PIRMS!K71 -> 0.31508032 | J23: =(PIRMS!L54-PIRMS!L51)/PIRMS!L71 -> 0.32983541
A24: rādītājs – apgr. līdz.- krājumi /īst. saist.
A25: Saistību pret pašu kapitālu attiecība | C25: =PIRMS!C71/PIRMS!C62 -> 33.152172 | D25: =PIRMS!E71/PIRMS!E62 -> 35.893367 | E25: =PIRMS!G71/PIRMS!G62 -> 21.077488 | F25: =PIRMS!H71/PIRMS!H62 -> 21.538997 | G25: =PIRMS!I71/PIRMS!I62 -> 20.466762 | H25: =PIRMS!J71/PIRMS!J62 -> 18.076577 | I25: =PIRMS!K71/PIRMS!K62 -> 15.788954 | J25: =PIRMS!L71/PIRMS!L62 -> 13.565244
A26: Ilgtermiņa ieguldījumi (investīcijas) | C26: 32293 | D26: 99701 | E26: =PIRMS!#REF! -> #REF! | F26: =PIRMS!#REF! -> #REF! | G26: =PIRMS!#REF! -> #REF! | H26: =PIRMS!#REF! -> #REF! | I26: =PIRMS!#REF! -> #REF! | J26: =PIRMS!#REF! -> #REF!
A27: Valsts budžetā prognozējamās dividendes, EUR | C27: - | D27: 280 | E27: =ROUND(PIRMS!G42*90%,2) -> 5391 | F27: =ROUND(PIRMS!H42*90%,2) -> 1800.38 | G27: =ROUND(PIRMS!I42*90%,2) -> 4256.83 | H27: =ROUND(PIRMS!J42*90%,2) -> 7274.99 | I27: =ROUND(PIRMS!K42*90%,2) -> 7632.68 | J27: =ROUND(PIRMS!L42*90%,2) -> 9643.66
A30: Plānotās valsts dotācijas, EUR | C30: =PIRMS!#REF! -> #REF! | D30: =PIRMS!#REF! -> #REF! | E30: =PIRMS!G21 -> 3315043 | F30: =PIRMS!H21 -> 3247258 | G30: =PIRMS!I21 -> 3318697.7 | H30: =PIRMS!J21 -> 3401665.1 | I30: =PIRMS!K21 -> 3486706.7 | J30: =PIRMS!L21 -> 3573874.4

Sheet tirgus
D2: 2018 | E2: 2019 | F2: 2020 | G2: 2021
B3: Valsts teātri | C3: Izrāžu skaits | D3: 2989 | E3: 3003 | F3: 1522 | G3: 750
C4: Apmeklējumu skaits | D4: 682962 | E4: 730065 | F4: 289087 | G4: 176614
C6: DT daļa - izrādes | D6: =PIRMS!C112/D3 -> 0.15858147 | E6: =PIRMS!D112/E3 -> 0.16050616 | F6: =PIRMS!E112/F3 -> 0.15965834 | G6: =PIRMS!F112/G3 -> 0.11466667
C7: DT daļa - apmeklētāji | D7: =PIRMS!C110/tirgus!D4 -> 0.28549026 | E7: =PIRMS!D110/tirgus!E4 -> 0.26287248 | F7: =PIRMS!E110/tirgus!F4 -> 0.25282354 | G7: =PIRMS!F110/tirgus!G4 -> 0.1700941
D12: 2018 | E12: =D12+1 -> 2019 | F12: =E12+1 -> 2020 | G12: =F12+1 -> 2021 | H12: =G12+1 -> 2022
C13: Vidējā biļešu cena, EUR | D13: 12.45 | E13: 12.45 | F13: 15.79 | G13: 20.5 | H13: 26.74
B17: Izmaksas 2022
B18: Mākslinieciskā personāla izmaksas | C18: =PIRMS!G12 -> 3537784
B19: Komunālie maksājumi | C19: =PIRMS!G13 -> 430703
B20: Izrāžu uzturēšanas izmaksas | C20: =PIRMS!G14 -> 666569
B21: Autoratlīdzības izmaksas | C21: =PIRMS!G15 -> 510677
B22: Citas izmaksas | C22: =PIRMS!G16 -> 319102
B23: Administrācijas un reklāmas personāla izmaksas | C23: =PIRMS!G26 -> 512447
B24: Citas netiešās izmaksas | C24: =PIRMS!G27 -> 281643
B25: Reklāmas izmaksas | C25: =PIRMS!G28 -> 178285
