Workbook

Sheet PIRMS
B2: VSIA DAILES TEĀTRIS FINANŠU RĀDĪTĀJI PIRMS ĒKAS PĀRŅEMŠANAS UN MAZĀS ZĀLES RENOVĀCIJAS
B5: PEĻŅAS UN ZAUDĒJUMU APRĒĶINS (EUR) | C5: F 2018 | D5: F 2019 | E5: F 2020 | F5: F 2021 | G5: F 2022 | H5: P 2023 | I5: P 2024 | J5: P 2025 | K5: P 2026 | L5: P 2027 | M5: P 2028
B7: Neto apgrozījums | C7: =SUM(C8:C10) -> 2538446 | D7: =SUM(D8:D10) -> 2633524 | E7: =SUM(E8:E10) -> 1260208 | F7: =SUM(F8:F10) -> 808521 | G7: =SUM(G8:G10) -> 3051699 | H7: =SUM(H8:H10) -> 3300319.3 | I7: =SUM(I8:I10) -> 4066014.9 | J7: =SUM(J8:J10) -> 4305863.2 | ... M7: =SUM(M8:M10) -> 4945697
B8: Biļešu pārdošana | C8: 2276672 | D8: 2389712 | E8: 1153780 | F8: 638502 | G8: 2757500 | H8: =H122+H123 -> 2976700.4 | I8: =I122+I123 -> 3685276.4 | J8: =J122+J123 -> 3915606.2 | K8: =K122+K123 -> 4104169.5 | L8: =L122+L123 -> 4301552.9 | M8: =M122+M123 -> 4525433
B9: Ieņēmumi par telpu nomu | C9: 261774 | D9: 243812 | E9: 106428 | F9: 170019 | G9: 294199 | H9: =H126+H127 -> 323618.9 | I9: =I126+I127 -> 380738.52 | J9: =J126+J127 -> 390256.98 | K9: =K126+K127 -> 400013.4 | L9: =L126+L127 -> 410013.74 | M9: =M126+M127 -> 420264.08
B11: Ražošanas izmaksas | C11: =SUM(C12:C16) -> 3932411 | D11: =SUM(D12:D16) -> 3959004 | E11: =SUM(E12:E16) -> 4159822 | F11: =SUM(F12:F16) -> 3289055 | G11: =SUM(G12:G16) -> 5464835 | H11: =SUM(H12:H16) -> 5836228.6 | I11: =SUM(I12:I16) -> 6380684.4 | J11: =SUM(J12:J16) -> 6695606.7 | ... M11: =SUM(M12:M16) -> 7508312.1
B12: Mākslinieciskā personāla izmaksas | C12: =1734815+421321+304012+69558-6341 -> 2523365 | D12: =2110860+505721-7941 -> 2608640 | E12: =2143177+504217+26888 -> 2674282 | F12: =2055261+472374+3468 -> 2531103 | G12: =2847929+662812+27043 -> 3537784 | H12: =H131+H132 -> 3824622.1 | I12: =I131+I132 -> 4265154.5 | J12: =J131+J132 -> 4478412.2 | K12: =K131+K132 -> 4657548.7 | L12: =L131+L132 -> 4843850.6 | M12: =M131+M132 -> 5037604.6
B13: Komunālie maksājumi | C13: 223225 | D13: =204444+52734 -> 257178 | E13: =179290+72913 -> 252203 | F13: =183340+53958 -> 237298 | G13: =354321+76382 -> 430703 | H13: =H133+H134 -> 473773.3 | I13: =I133+I134 -> 484196.31 | J13: =J133+J134 -> 496301.22 | K13: =K133+K134 -> 508708.75 | L13: =L133+L134 -> 521426.47 | M13: =M133+M134 -> 534462.13
B14: Izrāžu uzturēšanas izmaksas | C14: 642822 | D14: 530376 | E14: 690955 | F14: 298158 | G14: =666569 -> 666569 | H14: =H135+H136 -> 761512.5 | I14: =I135+I136 -> 783489.03 | J14: =J135+J136 -> 816460.87 | K14: =K135+K136 -> 836872.39 | L14: =L135+L136 -> 857794.2 | M14: =M135+M136 -> 879239.05
B15: Autoratlīdzības izmaksas | C15: 371075 | D15: 408950 | E15: 222899 | F15: 62466 | G15: 510677 | H15: =H137+H138 -> 552081.9 | I15: =I137+I138 -> 615672.49 | J15: =J137+J138 -> 646456.12 | K15: =K137+K138 -> 672314.36 | L15: =L137+L138 -> 699206.93 | M15: =M137+M138 -> 727175.21
B16: Citas izmaksas | C16: =4045064-SUM(C12:C15)-C32 -> 171924 | D16: =4088753-SUM(D12:D15)-D32 -> 153860 | E16: =4257512-SUM(E12:E15)-E32 -> 319483 | F16: =3389093-SUM(F12:F15)-F32 -> 160030 | G16: =5778305-SUM(G12:G15)-G32 -> 319102 | H16: =H139+H140 -> 224238.8 | I16: =I139+I140 -> 232172.05 | J16: =J139+J140 -> 257976.35 | K16: =K139+K140 -> 294425.76 | L16: =L139+L140 -> 321786.41 | M16: =M139+M140 -> 329831.07
B18: Bruto peļņa | C18: =C7-C11 -> -1393965 | D18: =D7-D11 -> -1325480 | E18: =E7-E11 -> -2899614 | F18: =F7-F11 -> -2480534 | G18: =G7-G11 -> -2413136 | H18: =H7-H11 -> -2535909.3 | I18: =I7-I11 -> -2314669.4 | J18: =J7-J11 -> -2389743.6 | ... M18: =M7-M11 -> -2562615.1
B20: Pārējie ieņēmumi | C20: =SUM(C21:C23) -> 2090980 | D20: =SUM(D21:D23) -> 2048664 | E20: =SUM(E21:E23) -> 3775609 | F20: =SUM(F21:F23) -> 3266036 | G20: =SUM(G21:G23) -> 3713928 | H20: =SUM(H21:H23) -> 3887030.7 | I20: =SUM(I21:I23) -> 3754196 | J20: =SUM(J21:J23) -> 3841734.7 | ... M20: =SUM(M21:M23) -> 3986111.3
B21: KM dotācijas | C21: =1909307+69274 -> 1978581 | D21: =1897972+46882 -> 1944854 | E21: =2501494+1005157 -> 3506651 | F21: =2944996 -> 2944996 | G21: =3172538+142505 -> 3315043 | H21: =H124 -> 3247258 | I21: =I124 -> 3318697.7 | J21: =J124 -> 3401665.1 | K21: =K124 -> 3486706.7 | L21: =L124 -> 3573874.4 | M21: =M124 -> 3663221.3
B22: Piešķirtā finansējuma pamatlīdzekļiem atzīšana ieņēmumos | C22: 4167 | D22: =25896 -> 25896 | E22: 107860 | F22: 74593 | G22: =142505+84346 -> 226851 | H22: =H125 -> 460859 | I22: =I125 -> 252648.5 | J22: =J125 -> 252648.5 | K22: =K125 -> 252648.5 | L22: =L125 -> 252648.5 | M22: =M125 -> 121058
B23: Citi ieņēmumi | C23: =2090980-C21-C22 -> 108232 | D23: =2036678-D21-D22+11986 -> 77914 | E23: =3774270-E21-E22+1339 -> 161098 | F23: =3266036-F21-F22 -> 246447 | G23: =3713928-G21-G22 -> 172034 | H23: =H128 -> 178913.71 | I23: =I128 -> 182849.81 | J23: =J128 -> 187421.05 | K23: =K128 -> 192106.58 | L23: =L128 -> 196909.24 | M23: =M128 -> 201831.98
B25: Pārējās izmaksas | C25: =SUM(C26:C28) -> 582294 | D25: =SUM(D26:D28) -> 587761 | E25: =SUM(E26:E28) -> 771230 | F25: =SUM(F26:F28) -> 681511 | G25: =SUM(G26:G28) -> 972375 | H25: =SUM(H26:H28) -> 972590.97 | I25: =SUM(I26:I28) -> 1047091.1 | J25: =SUM(J26:J28) -> 1089156.4 | ... M25: =SUM(M26:M28) -> 1204914.7
B26: Administrācijas un reklāmas personāla izmaksas | C26: =46274+12176+213972+49274 -> 321696 | D26: =29486+9602+212313+47955 -> 299356 | E26: =49854+11877+345324+81592 -> 488647 | F26: =268517+60659+98955+23344 -> 451475 | G26: =287182+65823+131454+27988 -> 512447 | H26: =H141+H142 -> 569878.55 | I26: =I141+I142 -> 635519.02 | J26: =J141+J142 -> 667294.97 | K26: =K141+K142 -> 693986.77 | L26: =L141+L142 -> 721746.24 | M26: =M141+M142 -> 750616.09
B27: Citas netiešās izmaksas | C27: =127166+5502+294627-213972-49274+14493 -> 178542 | D27: =126926+4262+293569-212313-47955+23653 -> 188142 | E27: =58317+11085+492462-345324-81592+13284 -> 148232 | F27: =27895+3186+440622-268517-60659 -> 142527 | G27: =75081+86+49765+509716-287182-65823 -> 281643 | H27: =H143+H144 -> 206598.92 | I27: =I143+I144 -> 211144.1 | J27: =J143+J144 -> 216422.7 | K27: =K143+K144 -> 221833.27 | L27: =L143+L144 -> 227379.1 | M27: =M143+M144 -> 233063.58
B28: Reklāmas izmaksas | C28: 82056 | D28: =100263 -> 100263 | E28: 134351 | F28: =87509 -> 87509 | G28: 178285 | H28: =H145+H146 -> 196113.5 | I28: =I145+I146 -> 200428 | J28: =J145+J146 -> 205438.7 | K28: =K145+K146 -> 210574.66 | L28: =L145+L146 -> 215839.03 | M28: =M145+M146 -> 221235.01
B30: Peļņa pirms nolietojuma (EBITDA) | C30: =C18+C20-C25 -> 114721 | D30: =D18+D20-D25 -> 135423 | E30: =E18+E20-E25 -> 104765 | F30: =F18+F20-F25 -> 103991 | G30: =G18+G20-G25 -> 328417 | H30: =H18+H20-H25 -> 378530.44 | I30: =I18+I20-I25 -> 392435.45 | J30: =J18+J20-J25 -> 362834.74 | ... M30: =M18+M20-M25 -> 218581.51
B32: Nolietojums | C32: 112653 | D32: 129749 | E32: 97690 | F32: 100038 | G32: 313470 | H32: =SUM(H153:H154)+H157 -> 365513.23 | I32: =SUM(I153:I154)+I157 -> 364272.06 | J32: =SUM(J153:J154)+J157 -> 333967.83 | K32: =SUM(K153:K154)+K157 -> 312765.77 | L32: =SUM(L153:L154)+L157 -> 299771.06 | M32: =SUM(M153:M154)+M157 -> 193711.97
B34: Peļņa pēc nolietojuma (EBIT) | C34: =C30-C32 -> 2068 | D34: =D30-D32 -> 5674 | E34: =E30-E32 -> 7075 | F34: =F30-F32 -> 3953 | G34: =G30-G32 -> 14947 | H34: =H30-H32 -> 13017.213 | I34: =I30-I32 -> 28163.386 | J34: =J30-J32 -> 28866.904 | ... M34: =M30-M32 -> 24869.543
B36: Procentu maksājumi | C36: 0 | D36: 0 | E36: 0 | F36: 0 | G36: 0 | H36: =H163+H164 -> 11016.788 | I36: =I163+I164 -> 23433.577 | J36: =J163+J164 -> 20783.577 | K36: =K163+K164 -> 18133.577 | L36: =L163+L164 -> 15483.577 | M36: =M163+M164 -> 12833.577
B38: Peļņa pirms nodokļiem (EBT) | C38: =C34-C36 -> 2068 | D38: =D34-D36 -> 5674 | E38: =E34-E36 -> 7075 | F38: =F34-F36 -> 3953 | G38: =G34-G36 -> 14947 | H38: =H34-H36 -> 2000.4253 | I38: =I34-I36 -> 4729.8092 | J38: =J34-J36 -> 8083.3275 | ... M38: =M34-M36 -> 12035.967
B40: Uzņēmuma ienākuma nodoklis | C40: 406 | D40: 841 | E40: 2127 | F40: 0 | G40: 8957 | H40: 0 | I40: 0 | J40: 0 | K40: 0 | L40: 0 | M40: 0
B42: Neto peļņa | C42: =C38-C40 -> 1662 | D42: =D38-D40 -> 4833 | E42: =E38-E40 -> 4948 | F42: =F38-F40 -> 3953 | G42: =G38-G40 -> 5990 | H42: =H38-H40 -> 2000.4253 | I42: =I38-I40 -> 4729.8092 | J42: =J38-J40 -> 8083.3275 | ... M42: =M38-M40 -> 12035.967
B45: BILANCE (EUR) | C45: =C5 -> F 2018 | D45: =D5 -> F 2019 | E45: =E5 -> F 2020 | F45: =F5 -> F 2021 | G45: =G5 -> F 2022 | H45: =H5 -> P 2023 | I45: =I5 -> P 2024 | J45: =J5 -> P 2025 | ... M45: =M5 -> P 2028
B46: AKTĪVI
B47: Nemateriālie aktīvi | C47: 7891 | D47: 5331 | E47: 2772 | F47: 213 | G47: 5958 | H47: =G47-SUM(H153)*0.5% -> 4355.001 | I47: =H47-SUM(I153)*0.5% -> 3072.6018 | J47: =I47-SUM(J153)*0.5% -> 2046.6824 | K47: =J47-SUM(K153)*0.5% -> 1225.947 | L47: =K47-SUM(L153)*0.5% -> 569.35856 | M47: =L47-SUM(M153)*0.5% -> 317.67204
B48: Pamatlīdzekļi | C48: 292520 | D48: 220608 | E48: 518358 | F48: 1153720 | G48: 1597041 | H48: =G48+H152-H153*99.5%-H154+H156-H157 -> 1772091.9 | I48: =H48+I152-I153*99.5%-I154+I156-I157 -> 1514060.9 | J48: =I48+J152-J153*99.5%-J154+J156-J157 -> 1280292.5 | K48: =J48+K152-K153*99.5%-K154+K156-K157 -> 1067521.1 | L48: =K48+L152-L153*99.5%-L154+L156-L157 -> 867580.15 | M48: =L48+M152-M153*99.5%-M154+M156-M157 -> 773293.42
B49: Ilgtermiņa aktīvi kopā | C49: =SUM(C47:C48) -> 300411 | D49: =SUM(D47:D48) -> 225939 | E49: =SUM(E47:E48) -> 521130 | F49: =SUM(F47:F48) -> 1153933 | G49: =SUM(G47:G48) -> 1602999 | H49: =SUM(H47:H48) -> 1776446.9 | I49: =SUM(I47:I48) -> 1517133.5 | J49: =SUM(J47:J48) -> 1282339.2 | ... M49: =SUM(M47:M48) -> 773611.09
B51: Krājumi | C51: 530297 | D51: 545816 | E51: 213767 | F51: 471448 | G51: 772162 | H51: =G51*(1+H170) -> 795326.86 | I51: =H51*(1+I170) -> 819186.67 | J51: =I51*(1+J170) -> 843762.27 | K51: =J51*(1+K170) -> 869075.13 | L51: =K51*(1+L170) -> 895147.39 | M51: =L51*(1+M170) -> 922001.81
B52: Debitori | C52: 55881 | D52: 27657 | E52: 32733 | F52: 49880 | G52: 34655 | H52: =H7/360*H169 -> 45837.768 | I52: =I7/360*I169 -> 56472.43 | J52: =J7/360*J169 -> 59803.655 | K52: =K7/360*K169 -> 62558.096 | L52: =L7/360*L169 -> 65438.426 | M52: =M7/360*M169 -> 68690.237
B53: Nauda | C53: 18990 | D53: 285324 | E53: 568906 | F53: 266776 | G53: 697171 | H53: =H96 -> 599411.69 | I53: =I96 -> 772722.56 | J53: =J96 -> 781352.6 | K53: =K96 -> 753433.18 | L53: =L96 -> 716402.56 | M53: =M96 -> 711142.48
B54: Īstermiņa aktīvi kopā | C54: =SUM(C51:C53) -> 605168 | D54: =SUM(D51:D53) -> 858797 | E54: =SUM(E51:E53) -> 815406 | F54: =SUM(F51:F53) -> 788104 | G54: =SUM(G51:G53) -> 1503988 | H54: =SUM(H51:H53) -> 1440576.3 | I54: =SUM(I51:I53) -> 1648381.7 | J54: =SUM(J51:J53) -> 1684918.5 | ... M54: =SUM(M51:M53) -> 1701834.5
B55: AKTĪVI KOPĀ | C55: =C49+C54 -> 905579 | D55: =D49+D54 -> 1084736 | E55: =E49+E54 -> 1336536 | F55: =F49+F54 -> 1942037 | G55: =G49+G54 -> 3106987 | H55: =H49+H54 -> 3217023.2 | I55: =I49+I54 -> 3165515.2 | J55: =J49+J54 -> 2967257.8 | ... M55: =M49+M54 -> 2475445.6
B57: PAŠU KAPITĀLS UN SAISTĪBAS
B58: Pamatkapitāls | C58: 54228 | D58: 54228 | E58: 54228 | F58: 151318 | G58: 151318 | H58: =G58+H149 -> 151318 | I58: =H58+I149 -> 151318 | J58: =I58+J149 -> 151318 | K58: =J58+K149 -> 151318 | L58: =K58+L149 -> 151318 | M58: =L58+M149 -> 151318
B59: Rezeves | C59: =71 -> 71 | D59: 1 | E59: 1 | F59: 1 | G59: 1 | H59: =G59 -> 1 | I59: =H59 -> 1 | J59: =I59 -> 1 | K59: =J59 -> 1 | L59: =K59 -> 1 | M59: =L59 -> 1
...

Sheet PĒC
B2: VSIA DAILES TEĀTRIS FINANŠU RĀDĪTĀJI PĒC ĒKAS PĀRŅEMŠANAS UN MAZĀS ZĀLES RENOVĀCIJAS
B5: PEĻŅAS UN ZAUDĒJUMU APRĒĶINS (EUR) | C5: F 2018 | D5: F 2019 | E5: F 2020 | F5: F 2021 | G5: F 2022 | H5: P 2023 | I5: P 2024 | J5: P 2025 | K5: P 2026 | L5: P 2027 | M5: P 2028
B7: Neto apgrozījums | C7: =SUM(C8:C10) -> 2538446 | D7: =SUM(D8:D10) -> 2633524 | E7: =SUM(E8:E10) -> 1260208 | F7: =SUM(F8:F10) -> 808521 | G7: =SUM(G8:G10) -> 3051699 | H7: =SUM(H8:H10) -> 3300319.3 | I7: =SUM(I8:I10) -> 3936620.8 | J7: =SUM(J8:J10) -> 5098796.8 | ... M7: =SUM(M8:M10) -> 5833895.1
B8: Biļešu pārdošana | C8: 2276672 | D8: 2389712 | E8: 1153780 | F8: 638502 | G8: 2757500 | H8: =H122+H123 -> 2976700.4 | I8: =I122+I123 -> 3555882.3 | J8: =J122+J123 -> 4630488.4 | K8: =K122+K123 -> 4847647 | L8: =L122+L123 -> 5074769.5 | M8: =M122+M123 -> 5329578.2
B9: Ieņēmumi par telpu nomu | C9: 261774 | D9: 243812 | E9: 106428 | F9: 170019 | G9: 294199 | H9: =H126+H127 -> 323618.9 | I9: =I126+I127 -> 380738.52 | J9: =J126+J127 -> 468308.37 | K9: =K126+K127 -> 480016.08 | L9: =L126+L127 -> 492016.49 | M9: =M126+M127 -> 504316.9
B11: Ražošanas izmaksas | C11: =SUM(C12:C16) -> 3932411 | D11: =SUM(D12:D16) -> 3959004 | E11: =SUM(E12:E16) -> 4159822 | F11: =SUM(F12:F16) -> 3289055 | G11: =SUM(G12:G16) -> 5464835 | H11: =SUM(H12:H16) -> 5836228.6 | I11: =SUM(I12:I16) -> 5727675.2 | J11: =SUM(J12:J16) -> 6664346.2 | ... M11: =SUM(M12:M16) -> 7527609.9
B12: Mākslinieciskā personāla izmaksas | C12: =1734815+421321+304012+69558-6341 -> 2523365 | D12: =2110860+505721-7941 -> 2608640 | E12: =2143177+504217+26888 -> 2674282 | F12: =2055261+472374+3468 -> 2531103 | G12: =2847929+662812+27043 -> 3537784 | H12: =H131+H132 -> 3824622.1 | I12: =I131+I132 -> 4051896.7 | J12: =J131+J132 -> 4567980.4 | K12: =K131+K132 -> 4750699.7 | L12: =L131+L132 -> 4940727.6 | M12: =M131+M132 -> 5138356.7
B13: Komunālie maksājumi | C13: 223225 | D13: =204444+52734 -> 257178 | E13: =179290+72913 -> 252203 | F13: =183340+53958 -> 237298 | G13: =354321+76382 -> 430703 | H13: =H133+H134 -> 473773.3 | I13: =I133+I134 -> 338937.42 | J13: =J133+J134 -> 397040.98 | K13: =K133+K134 -> 406967 | L13: =L133+L134 -> 417141.18 | M13: =M133+M134 -> 427569.71
B14: Izrāžu uzturēšanas izmaksas | C14: 642822 | D14: 530376 | E14: 690955 | F14: 298158 | G14: =666569 -> 666569 | H14: =H135+H136 -> 761512.5 | I14: =I135+I136 -> 577823.16 | J14: =J135+J136 -> 807760.87 | K14: =K135+K136 -> 851277.57 | L14: =L135+L136 -> 884512.38 | M14: =M135+M136 -> 906625.19
B15: Autoratlīdzības izmaksas | C15: 371075 | D15: 408950 | E15: 222899 | F15: 62466 | G15: 510677 | H15: =H137+H138 -> 552081.9 | I15: =I137+I138 -> 584888.87 | J15: =J137+J138 -> 659385.24 | K15: =K137+K138 -> 685760.65 | L15: =L137+L138 -> 713191.07 | M15: =M137+M138 -> 741718.72
B16: Citas izmaksas | C16: =4045064-SUM(C12:C15)-C32 -> 171924 | D16: =4088753-SUM(D12:D15)-D32 -> 153860 | E16: =4257512-SUM(E12:E15)-E32 -> 319483 | F16: =3389093-SUM(F12:F15)-F32 -> 160030 | G16: =5778305-SUM(G12:G15)-G32 -> 319102 | H16: =H139+H140 -> 224238.8 | I16: =I139+I140 -> 174129.04 | J16: =J139+J140 -> 232178.72 | K16: =K139+K140 -> 259983.19 | L16: =L139+L140 -> 289607.77 | M16: =M139+M140 -> 313339.51
B18: Bruto peļņa | C18: =C7-C11 -> -1393965 | D18: =D7-D11 -> -1325480 | E18: =E7-E11 -> -2899614 | F18: =F7-F11 -> -2480534 | G18: =G7-G11 -> -2413136 | H18: =H7-H11 -> -2535909.3 | I18: =I7-I11 -> -1791054.4 | J18: =J7-J11 -> -1565549.5 | ... M18: =M7-M11 -> -1693714.7
B20: Pārējie ieņēmumi | C20: =SUM(C21:C23) -> 2090980 | D20: =SUM(D21:D23) -> 2048664 | E20: =SUM(E21:E23) -> 3775609 | F20: =SUM(F21:F23) -> 3266036 | G20: =SUM(G21:G23) -> 3713928 | H20: =SUM(H21:H23) -> 3887030.7 | I20: =SUM(I21:I23) -> 3754196 | J20: =SUM(J21:J23) -> 3841734.7 | ... M20: =SUM(M21:M23) -> 3986111.3
B21: KM dotācijas | C21: =1909307+69274 -> 1978581 | D21: =1897972+46882 -> 1944854 | E21: =2501494+1005157 -> 3506651 | F21: =2944996 -> 2944996 | G21: =3172538+142505 -> 3315043 | H21: =H124 -> 3247258 | I21: =I124 -> 3318697.7 | J21: =J124 -> 3401665.1 | K21: =K124 -> 3486706.7 | L21: =L124 -> 3573874.4 | M21: =M124 -> 3663221.3
B22: Piešķirtā finansējuma pamatlīdzekļiem atzīšana ieņēmumos | C22: 4167 | D22: =25896 -> 25896 | E22: 107860 | F22: 74593 | G22: =142505+84346 -> 226851 | H22: =H125 -> 460859 | I22: =I125 -> 252648.5 | J22: =J125 -> 252648.5 | K22: =K125 -> 252648.5 | L22: =L125 -> 252648.5 | M22: =M125 -> 121058
B23: Citi ieņēmumi | C23: =2090980-C21-C22 -> 108232 | D23: =2036678-D21-D22+11986 -> 77914 | E23: =3774270-E21-E22+1339 -> 161098 | F23: =3266036-F21-F22 -> 246447 | G23: =3713928-G21-G22 -> 172034 | H23: =H128 -> 178913.71 | I23: =I128 -> 182849.81 | J23: =J128 -> 187421.05 | K23: =K128 -> 192106.58 | L23: =L128 -> 196909.24 | M23: =M128 -> 201831.98
B25: Pārējās izmaksas | C25: =SUM(C26:C28) -> 582294 | D25: =SUM(D26:D28) -> 587761 | E25: =SUM(E26:E28) -> 771230 | F25: =SUM(F26:F28) -> 681511 | G25: =SUM(G26:G28) -> 972375 | H25: =SUM(H26:H28) -> 972590.97 | I25: =SUM(I26:I28) -> 984912.5 | J25: =SUM(J26:J28) -> 1077786 | ... M25: =SUM(M26:M28) -> 1192670.1
B26: Administrācijas un reklāmas personāla izmaksas | C26: =46274+12176+213972+49274 -> 321696 | D26: =29486+9602+212313+47955 -> 299356 | E26: =49854+11877+345324+81592 -> 488647 | F26: =268517+60659+98955+23344 -> 451475 | G26: =287182+65823+131454+27988 -> 512447 | H26: =H141+H142 -> 569878.55 | I26: =I141+I142 -> 635519.02 | J26: =J141+J142 -> 667294.97 | K26: =K141+K142 -> 693986.77 | L26: =L141+L142 -> 721746.24 | M26: =M141+M142 -> 750616.09
B27: Citas netiešās izmaksas | C27: =127166+5502+294627-213972-49274+14493 -> 178542 | D27: =126926+4262+293569-212313-47955+23653 -> 188142 | E27: =58317+11085+492462-345324-81592+13284 -> 148232 | F27: =27895+3186+440622-268517-60659 -> 142527 | G27: =75081+86+49765+509716-287182-65823 -> 281643 | H27: =H143+H144 -> 206598.92 | I27: =I143+I144 -> 179029.69 | J27: =J143+J144 -> 194780.43 | K27: =K143+K144 -> 199649.94 | L27: =L143+L144 -> 204641.19 | M27: =M143+M144 -> 209757.22
B28: Reklāmas izmaksas | C28: 82056 | D28: =100263 -> 100263 | E28: 134351 | F28: =87509 -> 87509 | G28: 178285 | H28: =H145+H146 -> 196113.5 | I28: =I145+I146 -> 170363.8 | J28: =J145+J146 -> 215710.63 | K28: =K145+K146 -> 221103.4 | L28: =L145+L146 -> 226630.98 | M28: =M145+M146 -> 232296.76
B30: Peļņa pirms nolietojuma (EBITDA) | C30: =C18+C20-C25 -> 114721 | D30: =D18+D20-D25 -> 135423 | E30: =E18+E20-E25 -> 104765 | F30: =F18+F20-F25 -> 103991 | G30: =G18+G20-G25 -> 328417 | H30: =H18+H20-H25 -> 378530.44 | I30: =I18+I20-I25 -> 978229.04 | J30: =J18+J20-J25 -> 1198399.2 | ... M30: =M18+M20-M25 -> 1099726.4
B32: Nolietojums | C32: 112653 | D32: 129749 | E32: 97690 | F32: 100038 | G32: 313470 | H32: =SUM(H153:H154)+H157+H161+H164 -> 365513.23 | I32: =SUM(I153:I154)+I157+I161+I164 -> 953397.99 | J32: =SUM(J153:J154)+J157+J161+J164 -> 1158495.2 | K32: =SUM(K153:K154)+K157+K161+K164 -> 1148844.7 | L32: =SUM(L153:L154)+L157+L161+L164 -> 1147401.5 | M32: =SUM(M153:M154)+M157+M161+M164 -> 1052893.9
B34: Peļņa pēc nolietojuma (EBIT) | C34: =C30-C32 -> 2068 | D34: =D30-D32 -> 5674 | E34: =E30-E32 -> 7075 | F34: =F30-F32 -> 3953 | G34: =G30-G32 -> 14947 | H34: =H30-H32 -> 13017.213 | I34: =I30-I32 -> 24831.043 | J34: =J30-J32 -> 39903.928 | ... M34: =M30-M32 -> 46832.587
B36: Procentu maksājumi | C36: 0 | D36: 0 | E36: 0 | F36: 0 | G36: 0 | H36: =H170+H171 -> 11016.788 | I36: =I170+I171 -> 23433.577 | J36: =J170+J171 -> 20783.577 | K36: =K170+K171 -> 18133.577 | L36: =L170+L171 -> 15483.577 | M36: =M170+M171 -> 12833.577
B38: Peļņa pirms nodokļiem (EBT) | C38: =C34-C36 -> 2068 | D38: =D34-D36 -> 5674 | E38: =E34-E36 -> 7075 | F38: =F34-F36 -> 3953 | G38: =G34-G36 -> 14947 | H38: =H34-H36 -> 2000.4253 | I38: =I34-I36 -> 1397.4664 | J38: =J34-J36 -> 19120.351 | ... M38: =M34-M36 -> 33999.01
B40: Uzņēmuma ienākuma nodoklis | C40: 406 | D40: 841 | E40: 2127 | F40: 0 | G40: 8957 | H40: 0 | I40: 0 | J40: 0 | K40: 0 | L40: 0 | M40: 0
B42: Neto peļņa | C42: =C38-C40 -> 1662 | D42: =D38-D40 -> 4833 | E42: =E38-E40 -> 4948 | F42: =F38-F40 -> 3953 | G42: =G38-G40 -> 5990 | H42: =H38-H40 -> 2000.4253 | I42: =I38-I40 -> 1397.4664 | J42: =J38-J40 -> 19120.351 | ... M42: =M38-M40 -> 33999.01
B45: BILANCE (EUR) | C45: =C5 -> F 2018 | D45: =D5 -> F 2019 | E45: =E5 -> F 2020 | F45: =F5 -> F 2021 | G45: =G5 -> F 2022 | H45: =H5 -> P 2023 | I45: =I5 -> P 2024 | J45: =J5 -> P 2025 | ... M45: =M5 -> P 2028
B46: AKTĪVI
B47: Nemateriālie aktīvi | C47: 7891 | D47: 5331 | E47: 2772 | F47: 213 | G47: 5958 | H47: =G47-SUM(H153)*0.5% -> 4355.001 | I47: =H47-SUM(I153)*0.5% -> 3072.6018 | J47: =I47-SUM(J153)*0.5% -> 2046.6824 | K47: =J47-SUM(K153)*0.5% -> 1225.947 | L47: =K47-SUM(L153)*0.5% -> 569.35856 | M47: =L47-SUM(M153)*0.5% -> 317.67204
B48: Pamatlīdzekļi | C48: 292520 | D48: 220608 | E48: 518358 | F48: 1153720 | G48: 1597041 | H48: =G48+H152-H153*99.5%-H154+H156-H157+H159-H161+H163-H164+H160 -> 1772091.9 | I48: =H48+I152-I153*99.5%-I154+I156-I157+I159-I161+I163-I164+I160 -> 43149509 | J48: =I48+J152-J153*99.5%-J154+J156-J157+J159-J161+J163-J164+J160 -> 42668788 | K48: =J48+K152-K153*99.5%-K154+K156-K157+K159-K161+K163-K164+K160 -> 42197512 | L48: =K48+L152-L153*99.5%-L154+L156-L157+L159-L161+L163-L164+L160 -> 41727515 | M48: =L48+M152-M153*99.5%-M154+M156-M157+M159-M161+M163-M164+M160 -> 41351621
B49: Ilgtermiņa aktīvi kopā | C49: =SUM(C47:C48) -> 300411 | D49: =SUM(D47:D48) -> 225939 | E49: =SUM(E47:E48) -> 521130 | F49: =SUM(F47:F48) -> 1153933 | G49: =SUM(G47:G48) -> 1602999 | H49: =SUM(H47:H48) -> 1776446.9 | I49: =SUM(I47:I48) -> 43152582 | J49: =SUM(J47:J48) -> 42670835 | ... M49: =SUM(M47:M48) -> 41351939
B51: Krājumi | C51: 530297 | D51: 545816 | E51: 213767 | F51: 471448 | G51: 772162 | H51: =G51*(1+H177) -> 795326.86 | I51: =H51*(1+I177) -> 819186.67 | J51: =I51*(1+J177) -> 843762.27 | K51: =J51*(1+K177) -> 869075.13 | L51: =K51*(1+L177) -> 895147.39 | M51: =L51*(1+M177) -> 922001.81
B52: Debitori | C52: 55881 | D52: 27657 | E52: 32733 | F52: 49880 | G52: 34655 | H52: =H7/360*H176 -> 45837.768 | I52: =I7/360*I176 -> 54675.289 | J52: =J7/360*J176 -> 70816.622 | K52: =K7/360*K176 -> 73995.321 | L52: =L7/360*L176 -> 77316.472 | M52: =M7/360*M176 -> 81026.321
B53: Nauda | C53: 18990 | D53: 285324 | E53: 568906 | F53: 266776 | G53: 697171 | H53: =H96 -> 599411.69 | I53: =I96 -> 680057.69 | J53: =J96 -> 1213747.6 | K53: =K96 -> 1466818.8 | L53: =L96 -> 1726804.3 | M53: =M96 -> 2034109.5
B54: Īstermiņa aktīvi kopā | C54: =SUM(C51:C53) -> 605168 | D54: =SUM(D51:D53) -> 858797 | E54: =SUM(E51:E53) -> 815406 | F54: =SUM(F51:F53) -> 788104 | G54: =SUM(G51:G53) -> 1503988 | H54: =SUM(H51:H53) -> 1440576.3 | I54: =SUM(I51:I53) -> 1553919.6 | J54: =SUM(J51:J53) -> 2128326.5 | ... M54: =SUM(M51:M53) -> 3037137.6
B55: AKTĪVI KOPĀ | C55: =C49+C54 -> 905579 | D55: =D49+D54 -> 1084736 | E55: =E49+E54 -> 1336536 | F55: =F49+F54 -> 1942037 | G55: =G49+G54 -> 3106987 | H55: =H49+H54 -> 3217023.2 | I55: =I49+I54 -> 44706502 | J55: =J49+J54 -> 44799161 | ... M55: =M49+M54 -> 44389076
B57: PAŠU KAPITĀLS UN SAISTĪBAS
B58: Pamatkapitāls | C58: 54228 | D58: 54228 | E58: 54228 | F58: 151318 | G58: 151318 | H58: =G58+H149 -> 151318 | I58: =H58+I149 -> 41798318 | J58: =I58+J149 -> 41798318 | K58: =J58+K149 -> 41798318 | L58: =K58+L149 -> 41798318 | M58: =L58+M149 -> 41798318
B59: Rezeves | C59: =71 -> 71 | D59: 1 | E59: 1 | F59: 1 | G59: 1 | H59: =G59 -> 1 | I59: =H59 -> 1 | J59: =I59 -> 1 | K59: =J59 -> 1 | L59: =K59 -> 1 | M59: =L59 -> 1
...

Sheet IZMAIŅA
B2: VSIA DAILES TEĀTRIS FINANŠU RĀDĪTĀJU IZMAIŅA
B5: PEĻŅAS UN ZAUDĒJUMU APRĒĶINS (EUR) | C5: F 2018 | D5: F 2019 | E5: F 2020 | F5: F 2021 | G5: F 2022 | H5: P 2023 | I5: P 2024 | J5: P 2025 | K5: P 2026 | L5: P 2027 | M5: P 2028
B7: Neto apgrozījums | C7: =PĒC!C7-PIRMS!C7 -> 0 | D7: =PĒC!D7-PIRMS!D7 -> 0 | E7: =PĒC!E7-PIRMS!E7 -> 0 | F7: =PĒC!F7-PIRMS!F7 -> 0 | G7: =PĒC!G7-PIRMS!G7 -> 0 | H7: =PĒC!H7-PIRMS!H7 -> 0 | I7: =PĒC!I7-PIRMS!I7 -> -129394.15 | J7: =PĒC!J7-PIRMS!J7 -> 792933.6 | ... M7: =PĒC!M7-PIRMS!M7 -> 888198.07
B8: Biļešu pārdošana | C8: =PĒC!C8-PIRMS!C8 -> 0 | D8: =PĒC!D8-PIRMS!D8 -> 0 | E8: =PĒC!E8-PIRMS!E8 -> 0 | F8: =PĒC!F8-PIRMS!F8 -> 0 | G8: =PĒC!G8-PIRMS!G8 -> 0 | H8: =PĒC!H8-PIRMS!H8 -> 0 | I8: =PĒC!I8-PIRMS!I8 -> -129394.15 | J8: =PĒC!J8-PIRMS!J8 -> 714882.2 | ... M8: =PĒC!M8-PIRMS!M8 -> 804145.26
B9: Ieņēmumi par telpu nomu | C9: =PĒC!C9-PIRMS!C9 -> 0 | D9: =PĒC!D9-PIRMS!D9 -> 0 | E9: =PĒC!E9-PIRMS!E9 -> 0 | F9: =PĒC!F9-PIRMS!F9 -> 0 | G9: =PĒC!G9-PIRMS!G9 -> 0 | H9: =PĒC!H9-PIRMS!H9 -> 0 | I9: =PĒC!I9-PIRMS!I9 -> 0 | J9: =PĒC!J9-PIRMS!J9 -> 78051.396 | ... M9: =PĒC!M9-PIRMS!M9 -> 84052.816
C10: =PĒC!C10-PIRMS!C10 -> 0 | D10: =PĒC!D10-PIRMS!D10 -> 0 | E10: =PĒC!E10-PIRMS!E10 -> 0 | F10: =PĒC!F10-PIRMS!F10 -> 0 | G10: =PĒC!G10-PIRMS!G10 -> 0 | H10: =PĒC!H10-PIRMS!H10 -> 0 | I10: =PĒC!I10-PIRMS!I10 -> 0 | J10: =PĒC!J10-PIRMS!J10 -> 0 | ... M10: =PĒC!M10-PIRMS!M10 -> 0
B11: Ražošanas izmaksas | C11: =PĒC!C11-PIRMS!C11 -> 0 | D11: =PĒC!D11-PIRMS!D11 -> 0 | E11: =PĒC!E11-PIRMS!E11 -> 0 | F11: =PĒC!F11-PIRMS!F11 -> 0 | G11: =PĒC!G11-PIRMS!G11 -> 0 | H11: =PĒC!H11-PIRMS!H11 -> 0 | I11: =PĒC!I11-PIRMS!I11 -> -653009.13 | J11: =PĒC!J11-PIRMS!J11 -> -31260.506 | ... M11: =PĒC!M11-PIRMS!M11 -> 19297.752
B12: Mākslinieciskā personāla izmaksas | C12: =PĒC!C12-PIRMS!C12 -> 0 | D12: =PĒC!D12-PIRMS!D12 -> 0 | E12: =PĒC!E12-PIRMS!E12 -> 0 | F12: =PĒC!F12-PIRMS!F12 -> 0 | G12: =PĒC!G12-PIRMS!G12 -> 0 | H12: =PĒC!H12-PIRMS!H12 -> 0 | I12: =PĒC!I12-PIRMS!I12 -> -213257.72 | J12: =PĒC!J12-PIRMS!J12 -> 89568.244 | ... M12: =PĒC!M12-PIRMS!M12 -> 100752.09
B13: Komunālie maksājumi | C13: =PĒC!C13-PIRMS!C13 -> 0 | D13: =PĒC!D13-PIRMS!D13 -> 0 | E13: =PĒC!E13-PIRMS!E13 -> 0 | F13: =PĒC!F13-PIRMS!F13 -> 0 | G13: =PĒC!G13-PIRMS!G13 -> 0 | H13: =PĒC!H13-PIRMS!H13 -> 0 | I13: =PĒC!I13-PIRMS!I13 -> -145258.89 | J13: =PĒC!J13-PIRMS!J13 -> -99260.244 | ... M13: =PĒC!M13-PIRMS!M13 -> -106892.43
B14: Izrāžu uzturēšanas izmaksas | C14: =PĒC!C14-PIRMS!C14 -> 0 | D14: =PĒC!D14-PIRMS!D14 -> 0 | E14: =PĒC!E14-PIRMS!E14 -> 0 | F14: =PĒC!F14-PIRMS!F14 -> 0 | G14: =PĒC!G14-PIRMS!G14 -> 0 | H14: =PĒC!H14-PIRMS!H14 -> 0 | I14: =PĒC!I14-PIRMS!I14 -> -205665.87 | J14: =PĒC!J14-PIRMS!J14 -> -8699.9928 | ... M14: =PĒC!M14-PIRMS!M14 -> 27386.134
B15: Autoratlīdzības izmaksas | C15: =PĒC!C15-PIRMS!C15 -> 0 | D15: =PĒC!D15-PIRMS!D15 -> 0 | E15: =PĒC!E15-PIRMS!E15 -> 0 | F15: =PĒC!F15-PIRMS!F15 -> 0 | G15: =PĒC!G15-PIRMS!G15 -> 0 | H15: =PĒC!H15-PIRMS!H15 -> 0 | I15: =PĒC!I15-PIRMS!I15 -> -30783.625 | J15: =PĒC!J15-PIRMS!J15 -> 12929.122 | ... M15: =PĒC!M15-PIRMS!M15 -> 14543.504
B16: Citas izmaksas | C16: =PĒC!C16-PIRMS!C16 -> 0 | D16: =PĒC!D16-PIRMS!D16 -> 0 | E16: =PĒC!E16-PIRMS!E16 -> 0 | F16: =PĒC!F16-PIRMS!F16 -> 0 | G16: =PĒC!G16-PIRMS!G16 -> 0 | H16: =PĒC!H16-PIRMS!H16 -> 0 | I16: =PĒC!I16-PIRMS!I16 -> -58043.013 | J16: =PĒC!J16-PIRMS!J16 -> -25797.635 | ... M16: =PĒC!M16-PIRMS!M16 -> -16491.553
C17: =PĒC!C17-PIRMS!C17 -> 0 | D17: =PĒC!D17-PIRMS!D17 -> 0 | E17: =PĒC!E17-PIRMS!E17 -> 0 | F17: =PĒC!F17-PIRMS!F17 -> 0 | G17: =PĒC!G17-PIRMS!G17 -> 0 | H17: =PĒC!H17-PIRMS!H17 -> 0 | I17: =PĒC!I17-PIRMS!I17 -> 0 | J17: =PĒC!J17-PIRMS!J17 -> 0 | ... M17: =PĒC!M17-PIRMS!M17 -> 0
B18: Bruto peļņa | C18: =PĒC!C18-PIRMS!C18 -> 0 | D18: =PĒC!D18-PIRMS!D18 -> 0 | E18: =PĒC!E18-PIRMS!E18 -> 0 | F18: =PĒC!F18-PIRMS!F18 -> 0 | G18: =PĒC!G18-PIRMS!G18 -> 0 | H18: =PĒC!H18-PIRMS!H18 -> 0 | I18: =PĒC!I18-PIRMS!I18 -> 523614.98 | J18: =PĒC!J18-PIRMS!J18 -> 824194.11 | ... M18: =PĒC!M18-PIRMS!M18 -> 868900.32
C19: =PĒC!C19-PIRMS!C19 -> 0 | D19: =PĒC!D19-PIRMS!D19 -> 0 | E19: =PĒC!E19-PIRMS!E19 -> 0 | F19: =PĒC!F19-PIRMS!F19 -> 0 | G19: =PĒC!G19-PIRMS!G19 -> 0 | H19: =PĒC!H19-PIRMS!H19 -> 0 | I19: =PĒC!I19-PIRMS!I19 -> 0 | J19: =PĒC!J19-PIRMS!J19 -> 0 | ... M19: =PĒC!M19-PIRMS!M19 -> 0
B20: Pārējie ieņēmumi | C20: =PĒC!C20-PIRMS!C20 -> 0 | D20: =PĒC!D20-PIRMS!D20 -> 0 | E20: =PĒC!E20-PIRMS!E20 -> 0 | F20: =PĒC!F20-PIRMS!F20 -> 0 | G20: =PĒC!G20-PIRMS!G20 -> 0 | H20: =PĒC!H20-PIRMS!H20 -> 0 | I20: =PĒC!I20-PIRMS!I20 -> 0 | J20: =PĒC!J20-PIRMS!J20 -> 0 | ... M20: =PĒC!M20-PIRMS!M20 -> 0
B21: KM dotācijas | C21: =PĒC!C21-PIRMS!C21 -> 0 | D21: =PĒC!D21-PIRMS!D21 -> 0 | E21: =PĒC!E21-PIRMS!E21 -> 0 | F21: =PĒC!F21-PIRMS!F21 -> 0 | G21: =PĒC!G21-PIRMS!G21 -> 0 | H21: =PĒC!H21-PIRMS!H21 -> 0 | I21: =PĒC!I21-PIRMS!I21 -> 0 | J21: =PĒC!J21-PIRMS!J21 -> 0 | ... M21: =PĒC!M21-PIRMS!M21 -> 0
B22: Piešķirtā finansējuma pamatlīdzekļiem atzīšana ieņēmumos | C22: =PĒC!C22-PIRMS!C22 -> 0 | D22: =PĒC!D22-PIRMS!D22 -> 0 | E22: =PĒC!E22-PIRMS!E22 -> 0 | F22: =PĒC!F22-PIRMS!F22 -> 0 | G22: =PĒC!G22-PIRMS!G22 -> 0 | H22: =PĒC!H22-PIRMS!H22 -> 0 | I22: =PĒC!I22-PIRMS!I22 -> 0 | J22: =PĒC!J22-PIRMS!J22 -> 0 | ... M22: =PĒC!M22-PIRMS!M22 -> 0
B23: Citi ieņēmumi | C23: =PĒC!C23-PIRMS!C23 -> 0 | D23: =PĒC!D23-PIRMS!D23 -> 0 | E23: =PĒC!E23-PIRMS!E23 -> 0 | F23: =PĒC!F23-PIRMS!F23 -> 0 | G23: =PĒC!G23-PIRMS!G23 -> 0 | H23: =PĒC!H23-PIRMS!H23 -> 0 | I23: =PĒC!I23-PIRMS!I23 -> 0 | J23: =PĒC!J23-PIRMS!J23 -> 0 | ... M23: =PĒC!M23-PIRMS!M23 -> 0
C24: =PĒC!C24-PIRMS!C24 -> 0 | D24: =PĒC!D24-PIRMS!D24 -> 0 | E24: =PĒC!E24-PIRMS!E24 -> 0 | F24: =PĒC!F24-PIRMS!F24 -> 0 | G24: =PĒC!G24-PIRMS!G24 -> 0 | H24: =PĒC!H24-PIRMS!H24 -> 0 | I24: =PĒC!I24-PIRMS!I24 -> 0 | J24: =PĒC!J24-PIRMS!J24 -> 0 | ... M24: =PĒC!M24-PIRMS!M24 -> 0
B25: Pārējās izmaksas | C25: =PĒC!C25-PIRMS!C25 -> 0 | D25: =PĒC!D25-PIRMS!D25 -> 0 | E25: =PĒC!E25-PIRMS!E25 -> 0 | F25: =PĒC!F25-PIRMS!F25 -> 0 | G25: =PĒC!G25-PIRMS!G25 -> 0 | H25: =PĒC!H25-PIRMS!H25 -> 0 | I25: =PĒC!I25-PIRMS!I25 -> -62178.609 | J25: =PĒC!J25-PIRMS!J25 -> -11370.335 | ... M25: =PĒC!M25-PIRMS!M25 -> -12244.607
B26: Administrācijas un reklāmas personāla izmaksas | C26: =PĒC!C26-PIRMS!C26 -> 0 | D26: =PĒC!D26-PIRMS!D26 -> 0 | E26: =PĒC!E26-PIRMS!E26 -> 0 | F26: =PĒC!F26-PIRMS!F26 -> 0 | G26: =PĒC!G26-PIRMS!G26 -> 0 | H26: =PĒC!H26-PIRMS!H26 -> 0 | I26: =PĒC!I26-PIRMS!I26 -> 0 | J26: =PĒC!J26-PIRMS!J26 -> 0 | ... M26: =PĒC!M26-PIRMS!M26 -> 0
B27: Citas netiešās izmaksas | C27: =PĒC!C27-PIRMS!C27 -> 0 | D27: =PĒC!D27-PIRMS!D27 -> 0 | E27: =PĒC!E27-PIRMS!E27 -> 0 | F27: =PĒC!F27-PIRMS!F27 -> 0 | G27: =PĒC!G27-PIRMS!G27 -> 0 | H27: =PĒC!H27-PIRMS!H27 -> 0 | I27: =PĒC!I27-PIRMS!I27 -> -32114.41 | J27: =PĒC!J27-PIRMS!J27 -> -21642.27 | ... M27: =PĒC!M27-PIRMS!M27 -> -23306.358
B28: Reklāmas izmaksas | C28: =PĒC!C28-PIRMS!C28 -> 0 | D28: =PĒC!D28-PIRMS!D28 -> 0 | E28: =PĒC!E28-PIRMS!E28 -> 0 | F28: =PĒC!F28-PIRMS!F28 -> 0 | G28: =PĒC!G28-PIRMS!G28 -> 0 | H28: =PĒC!H28-PIRMS!H28 -> 0 | I28: =PĒC!I28-PIRMS!I28 -> -30064.2 | J28: =PĒC!J28-PIRMS!J28 -> 10271.935 | ... M28: =PĒC!M28-PIRMS!M28 -> 11061.75
C29: =PĒC!C29-PIRMS!C29 -> 0 | D29: =PĒC!D29-PIRMS!D29 -> 0 | E29: =PĒC!E29-PIRMS!E29 -> 0 | F29: =PĒC!F29-PIRMS!F29 -> 0 | G29: =PĒC!G29-PIRMS!G29 -> 0 | H29: =PĒC!H29-PIRMS!H29 -> 0 | I29: =PĒC!I29-PIRMS!I29 -> 0 | J29: =PĒC!J29-PIRMS!J29 -> 0 | ... M29: =PĒC!M29-PIRMS!M29 -> 0
B30: Peļņa pirms nolietojuma (EBITDA) | C30: =PĒC!C30-PIRMS!C30 -> 0 | D30: =PĒC!D30-PIRMS!D30 -> 0 | E30: =PĒC!E30-PIRMS!E30 -> 0 | F30: =PĒC!F30-PIRMS!F30 -> 0 | G30: =PĒC!G30-PIRMS!G30 -> 0 | H30: =PĒC!H30-PIRMS!H30 -> 0 | I30: =PĒC!I30-PIRMS!I30 -> 585793.59 | J30: =PĒC!J30-PIRMS!J30 -> 835564.44 | ... M30: =PĒC!M30-PIRMS!M30 -> 881144.93
C31: =PĒC!C31-PIRMS!C31 -> 0 | D31: =PĒC!D31-PIRMS!D31 -> 0 | E31: =PĒC!E31-PIRMS!E31 -> 0 | F31: =PĒC!F31-PIRMS!F31 -> 0 | G31: =PĒC!G31-PIRMS!G31 -> 0 | H31: =PĒC!H31-PIRMS!H31 -> 0 | I31: =PĒC!I31-PIRMS!I31 -> 0 | J31: =PĒC!J31-PIRMS!J31 -> 0 | ... M31: =PĒC!M31-PIRMS!M31 -> 0
B32: Nolietojums | C32: =PĒC!C32-PIRMS!C32 -> 0 | D32: =PĒC!D32-PIRMS!D32 -> 0 | E32: =PĒC!E32-PIRMS!E32 -> 0 | F32: =PĒC!F32-PIRMS!F32 -> 0 | G32: =PĒC!G32-PIRMS!G32 -> 0 | H32: =PĒC!H32-PIRMS!H32 -> 0 | I32: =PĒC!I32-PIRMS!I32 -> 589125.93 | J32: =PĒC!J32-PIRMS!J32 -> 824527.42 | ... M32: =PĒC!M32-PIRMS!M32 -> 859181.88
C33: =PĒC!C33-PIRMS!C33 -> 0 | D33: =PĒC!D33-PIRMS!D33 -> 0 | E33: =PĒC!E33-PIRMS!E33 -> 0 | F33: =PĒC!F33-PIRMS!F33 -> 0 | G33: =PĒC!G33-PIRMS!G33 -> 0 | H33: =PĒC!H33-PIRMS!H33 -> 0 | I33: =PĒC!I33-PIRMS!I33 -> 0 | J33: =PĒC!J33-PIRMS!J33 -> 0 | ... M33: =PĒC!M33-PIRMS!M33 -> 0
B34: Peļņa pēc nolietojuma (EBIT) | C34: =PĒC!C34-PIRMS!C34 -> 0 | D34: =PĒC!D34-PIRMS!D34 -> 0 | E34: =PĒC!E34-PIRMS!E34 -> 0 | F34: =PĒC!F34-PIRMS!F34 -> 0 | G34: =PĒC!G34-PIRMS!G34 -> 0 | H34: =PĒC!H34-PIRMS!H34 -> 0 | I34: =PĒC!I34-PIRMS!I34 -> -3332.3428 | J34: =PĒC!J34-PIRMS!J34 -> 11037.023 | ... M34: =PĒC!M34-PIRMS!M34 -> 21963.043
C35: =PĒC!C35-PIRMS!C35 -> 0 | D35: =PĒC!D35-PIRMS!D35 -> 0 | E35: =PĒC!E35-PIRMS!E35 -> 0 | F35: =PĒC!F35-PIRMS!F35 -> 0 | G35: =PĒC!G35-PIRMS!G35 -> 0 | H35: =PĒC!H35-PIRMS!H35 -> 0 | I35: =PĒC!I35-PIRMS!I35 -> 0 | J35: =PĒC!J35-PIRMS!J35 -> 0 | ... M35: =PĒC!M35-PIRMS!M35 -> 0
B36: Procentu maksājumi | C36: =PĒC!C36-PIRMS!C36 -> 0 | D36: =PĒC!D36-PIRMS!D36 -> 0 | E36: =PĒC!E36-PIRMS!E36 -> 0 | F36: =PĒC!F36-PIRMS!F36 -> 0 | G36: =PĒC!G36-PIRMS!G36 -> 0 | H36: =PĒC!H36-PIRMS!H36 -> 0 | I36: =PĒC!I36-PIRMS!I36 -> 0 | J36: =PĒC!J36-PIRMS!J36 -> 0 | ... M36: =PĒC!M36-PIRMS!M36 -> 0
C37: =PĒC!C37-PIRMS!C37 -> 0 | D37: =PĒC!D37-PIRMS!D37 -> 0 | E37: =PĒC!E37-PIRMS!E37 -> 0 | F37: =PĒC!F37-PIRMS!F37 -> 0 | G37: =PĒC!G37-PIRMS!G37 -> 0 | H37: =PĒC!H37-PIRMS!H37 -> 0 | I37: =PĒC!I37-PIRMS!I37 -> 0 | J37: =PĒC!J37-PIRMS!J37 -> 0 | ... M37: =PĒC!M37-PIRMS!M37 -> 0
B38: Peļņa pirms nodokļiem (EBT) | C38: =PĒC!C38-PIRMS!C38 -> 0 | D38: =PĒC!D38-PIRMS!D38 -> 0 | E38: =PĒC!E38-PIRMS!E38 -> 0 | F38: =PĒC!F38-PIRMS!F38 -> 0 | G38: =PĒC!G38-PIRMS!G38 -> 0 | H38: =PĒC!H38-PIRMS!H38 -> 0 | I38: =PĒC!I38-PIRMS!I38 -> -3332.3428 | J38: =PĒC!J38-PIRMS!J38 -> 11037.023 | ... M38: =PĒC!M38-PIRMS!M38 -> 21963.043
C39: =PĒC!C39-PIRMS!C39 -> 0 | D39: =PĒC!D39-PIRMS!D39 -> 0 | E39: =PĒC!E39-PIRMS!E39 -> 0 | F39: =PĒC!F39-PIRMS!F39 -> 0 | G39: =PĒC!G39-PIRMS!G39 -> 0 | H39: =PĒC!H39-PIRMS!H39 -> 0 | I39: =PĒC!I39-PIRMS!I39 -> 0 | J39: =PĒC!J39-PIRMS!J39 -> 0 | ... M39: =PĒC!M39-PIRMS!M39 -> 0
B40: Uzņēmuma ienākuma nodoklis | C40: =PĒC!C40-PIRMS!C40 -> 0 | D40: =PĒC!D40-PIRMS!D40 -> 0 | E40: =PĒC!E40-PIRMS!E40 -> 0 | F40: =PĒC!F40-PIRMS!F40 -> 0 | G40: =PĒC!G40-PIRMS!G40 -> 0 | H40: =PĒC!H40-PIRMS!H40 -> 0 | I40: =PĒC!I40-PIRMS!I40 -> 0 | J40: =PĒC!J40-PIRMS!J40 -> 0 | ... M40: =PĒC!M40-PIRMS!M40 -> 0
C41: =PĒC!C41-PIRMS!C41 -> 0 | D41: =PĒC!D41-PIRMS!D41 -> 0 | E41: =PĒC!E41-PIRMS!E41 -> 0 | F41: =PĒC!F41-PIRMS!F41 -> 0 | G41: =PĒC!G41-PIRMS!G41 -> 0 | H41: =PĒC!H41-PIRMS!H41 -> 0 | I41: =PĒC!I41-PIRMS!I41 -> 0 | J41: =PĒC!J41-PIRMS!J41 -> 0 | ... M41: =PĒC!M41-PIRMS!M41 -> 0
B42: Neto peļņa | C42: =PĒC!C42-PIRMS!C42 -> 0 | D42: =PĒC!D42-PIRMS!D42 -> 0 | E42: =PĒC!E42-PIRMS!E42 -> 0 | F42: =PĒC!F42-PIRMS!F42 -> 0 | G42: =PĒC!G42-PIRMS!G42 -> 0 | H42: =PĒC!H42-PIRMS!H42 -> 0 | I42: =PĒC!I42-PIRMS!I42 -> -3332.3428 | J42: =PĒC!J42-PIRMS!J42 -> 11037.023 | ... M42: =PĒC!M42-PIRMS!M42 -> 21963.043
B45: BILANCE (EUR) | C45: =C5 -> F 2018 | D45: =D5 -> F 2019 | E45: =E5 -> F 2020 | F45: =F5 -> F 2021 | G45: =G5 -> F 2022 | H45: =H5 -> P 2023 | I45: =I5 -> P 2024 | J45: =J5 -> P 2025 | ... M45: =M5 -> P 2028
B46: AKTĪVI
...

Sheet raditaji
C2: VSIA DAILES TEĀTRIS
B4: Kapitālsabiedrības finanšu mērķi un finanšu rādītāji
A7: Rādītāji | C7: Fakts | D7: Fakts | E7: Plāns
C8: 2014. gads | D8: 2015. gads | E8: 2022. gads | F8: 2023.gads | G8: 2024. gads | H8: 2025. gads | I8: 2026.gads | J8: 2027.gads
A9: Apgrozījums, EUR | B9: Kultūras iestāžu darbība | C9: =PIRMS!C7+PIRMS!C20 -> 4629426 | D9: =PIRMS!E7+PIRMS!E20 -> 5035817 | E9: =PIRMS!G7+PIRMS!G20 -> 6765627 | F9: =PIRMS!H7+PIRMS!H20 -> 7187350 | G9: =PIRMS!I7+PIRMS!I20 -> 7820210.9 | H9: =PIRMS!J7+PIRMS!J20 -> 8147597.8 | I9: =PIRMS!K7+PIRMS!K20 -> 8435644.7 | J9: =PIRMS!L7+PIRMS!L20 -> 8734998.8
A11: Bruto peļņa, EUR | C11: =PIRMS!C18 -> -1393965 | D11: =PIRMS!E18 -> -2899614 | E11: =PIRMS!G18 -> -2413136 | F11: =PIRMS!H18 -> -2535909.3 | G11: =PIRMS!I18 -> -2314669.4 | H11: =PIRMS!J18 -> -2389743.6 | I11: =PIRMS!K18 -> -2465687 | J11: =PIRMS!L18 -> -2532498
A12: Peļņa pirms procentu maksājumiem, nodokļiem, nolietojuma EBITDA, EUR | C12: =PIRMS!C30 -> 114721 | D12: =PIRMS!E30 -> 104765 | E12: =PIRMS!G30 -> 328417 | F12: =PIRMS!H30 -> 378530.44 | G12: =PIRMS!I30 -> 392435.45 | H12: =PIRMS!J30 -> 362834.74 | I12: =PIRMS!K30 -> 339380.1 | J12: =PIRMS!L30 -> 325969.81
A13: Peļņa pirms procentu maksājumiem, nodokļiem EBIT, EUR | C13: =PIRMS!C34 -> 2068 | D13: =PIRMS!E34 -> 7075 | E13: =PIRMS!G34 -> 14947 | F13: =PIRMS!H34 -> 13017.213 | G13: =PIRMS!I34 -> 28163.386 | H13: =PIRMS!J34 -> 28866.904 | I13: =PIRMS!K34 -> 26614.33 | J13: =PIRMS!L34 -> 26198.749
A14: Peļņa vai zaudējumi, EUR | C14: =PIRMS!C42 -> 1662 | D14: =PIRMS!E42 -> 4948 | E14: =PIRMS!G42 -> 5990 | F14: =PIRMS!H42 -> 2000.4253 | G14: =PIRMS!I42 -> 4729.8092 | H14: =PIRMS!J42 -> 8083.3275 | I14: =PIRMS!K42 -> 8480.7532 | J14: =PIRMS!L42 -> 10715.172
A15: Pamatkapitāls, EUR | C15: =PIRMS!C58 -> 54228 | D15: =PIRMS!E58 -> 54228 | E15: =PIRMS!G58 -> 151318 | F15: =PIRMS!H58 -> 151318 | G15: =PIRMS!I58 -> 151318 | H15: =PIRMS!J58 -> 151318 | I15: =PIRMS!K58 -> 151318 | J15: =PIRMS!L58 -> 151318
A16: Pašu kapitāls, EUR | C16: =PIRMS!C62 -> 26516 | D16: =PIRMS!E62 -> 36227 | E16: =PIRMS!G62 -> 140731 | F16: =PIRMS!H62 -> 142731.43 | G16: =PIRMS!I62 -> 147461.23 | H16: =PIRMS!J62 -> 155544.56 | I16: =PIRMS!K62 -> 164025.32 | J16: =PIRMS!L62 -> 174740.49
A17: Kopējo saistību kopsumma, EUR | C17: =PIRMS!C71 -> 879063 | D17: =PIRMS!E71 -> 1300309 | E17: =PIRMS!G71 -> 2966256 | F17: =PIRMS!H72 -> 3217023.2 | G17: =PIRMS!I72 -> 3165515.2 | H17: =PIRMS!J72 -> 2967257.8 | I17: =PIRMS!K72 -> 2753813.4 | J17: =PIRMS!L72 -> 2545137.9
A18: Finanšu saistību kopsumma, EUR | C18: - | D18: - | E18: - | F18: - | G18: - | H18: - | I18: - | J18: -
A19: Pašu kapitāla atdeve, ROE | C19: =PIRMS!C42/PIRMS!C62 -> 0.062679137 | D19: =PIRMS!E42/PIRMS!E62 -> 0.13658321 | E19: =PIRMS!G42/PIRMS!G62 -> 0.042563472 | F19: =PIRMS!H42/PIRMS!H62 -> 0.014015311 | G19: =PIRMS!I42/PIRMS!I62 -> 0.032074933 | H19: =PIRMS!J42/PIRMS!J62 -> 0.051967921 | I19: =PIRMS!K42/PIRMS!K62 -> 0.051703929 | J19: =PIRMS!L42/PIRMS!L62 -> 0.06132049
A20: Neto peļņa/ pašu kapitāls
A21: Aktīvu atdeve, ROA- neto peļņa/ aktīvu kopsumma | C21: =PIRMS!C42/PIRMS!C55 -> 0.0018352899 | D21: =PIRMS!E42/PIRMS!E55 -> 0.0037021075 | E21: =PIRMS!G42/PIRMS!G55 -> 0.0019279128 | F21: =PIRMS!H42/PIRMS!H55 -> 0.00062182496 | G21: =PIRMS!I42/PIRMS!I55 -> 0.0014941673 | H21: =PIRMS!J42/PIRMS!J55 -> 0.0027241744 | I21: =PIRMS!K42/PIRMS!K55 -> 0.0030796397 | J21: =PIRMS!L42/PIRMS!L55 -> 0.0042100557
A22: Kopējais likviditātes rādītājs – apgr. līdz./īst. saistības | C22: 0.7 | D22: 0.7 | E22: =PIRMS!G54/(PIRMS!G67+PIRMS!G70) -> 3.9100677 | F22: =PIRMS!H54/(PIRMS!H67+PIRMS!H70) -> 3.418444 | G22: =PIRMS!I54/(PIRMS!I67+PIRMS!I70) -> 3.5512695 | H22: =PIRMS!J54/(PIRMS!J67+PIRMS!J70) -> 3.4607071 | I22: =PIRMS!K54/(PIRMS!K67+PIRMS!K70) -> 3.3278695 | J22: =PIRMS!L54/(PIRMS!L67+PIRMS!L70) -> 3.1868828
A23: Tekošās likviditātes | C23: =(PIRMS!C54-PIRMS!C51)/PIRMS!C71 -> 0.08517137 | D23: =(PIRMS!E54-PIRMS!E51)/PIRMS!E71 -> 0.46268925 | E23: =(PIRMS!G54-PIRMS!G51)/PIRMS!G71 -> 0.24671707 | F23: =(PIRMS!H54-PIRMS!H51)/PIRMS!H71 -> 0.20988556 | G23: =(PIRMS!I54-PIRMS!I51)/PIRMS!I71 -> 0.27474492 | H23: =(PIRMS!J54-PIRMS!J51)/PIRMS!J71 -> 0.29916147 | I23: =(PIRMS!K54-PIRMS!K51)/PIRMS!K71 -> 0.31508032 | J23: =(PIRMS!L54-PIRMS!L51)/PIRMS!L71 -> 0.32983541
A24: rādītājs – apgr. līdz.- krājumi /īst. saist.
A25: Saistību pret pašu kapitālu attiecība | C25: =PIRMS!C71/PIRMS!C62 -> 33.152172 | D25: =PIRMS!E71/PIRMS!E62 -> 35.893367 | E25: =PIRMS!G71/PIRMS!G62 -> 21.077488 | F25: =PIRMS!H71/PIRMS!H62 -> 21.538997 | G25: =PIRMS!I71/PIRMS!I62 -> 20.466762 | H25: =PIRMS!J71/PIRMS!J62 -> 18.076577 | I25: =PIRMS!K71/PIRMS!K62 -> 15.788954 | J25: =PIRMS!L71/PIRMS!L62 -> 13.565244
A26: Ilgtermiņa ieguldījumi (investīcijas) | C26: 32293 | D26: 99701 | E26: =PIRMS!#REF! -> #REF! | F26: =PIRMS!#REF! -> #REF! | G26: =PIRMS!#REF! -> #REF! | H26: =PIRMS!#REF! -> #REF! | I26: =PIRMS!#REF! -> #REF! | J26: =PIRMS!#REF! -> #REF!
A27: Valsts budžetā prognozējamās dividendes, EUR | C27: - | D27: 280 | E27: =ROUND(PIRMS!G42*90%,2) -> 5391 | F27: =ROUND(PIRMS!H42*90%,2) -> 1800.38 | G27: =ROUND(PIRMS!I42*90%,2) -> 4256.83 | H27: =ROUND(PIRMS!J42*90%,2) -> 7274.99 | I27: =ROUND(PIRMS!K42*90%,2) -> 7632.68 | J27: =ROUND(PIRMS!L42*90%,2) -> 9643.66
A30: Plānotās valsts dotācijas, EUR | C30: =PIRMS!#REF! -> #REF! | D30: =PIRMS!#REF! -> #REF! | E30: =PIRMS!G21 -> 3315043 | F30: =PIRMS!H21 -> 3247258 | G30: =PIRMS!I21 -> 3318697.7 | H30: =PIRMS!J21 -> 3401665.1 | I30: =PIRMS!K21 -> 3486706.7 | J30: =PIRMS!L21 -> 3573874.4

Sheet tirgus
D2: 2018 | E2: 2019 | F2: 2020 | G2: 2021
B3: Valsts teātri | C3: Izrāžu skaits | D3: 2989 | E3: 3003 | F3: 1522 | G3: 750
C4: Apmeklējumu skaits | D4: 682962 | E4: 730065 | F4: 289087 | G4: 176614
C6: DT daļa - izrādes | D6: =PIRMS!C112/D3 -> 0.15858147 | E6: =PIRMS!D112/E3 -> 0.16050616 | F6: =PIRMS!E112/F3 -> 0.15965834 | G6: =PIRMS!F112/G3 -> 0.11466667
C7: DT daļa - apmeklētāji | D7: =PIRMS!C110/tirgus!D4 -> 0.28549026 | E7: =PIRMS!D110/tirgus!E4 -> 0.26287248 | F7: =PIRMS!E110/tirgus!F4 -> 0.25282354 | G7: =PIRMS!F110/tirgus!G4 -> 0.1700941
D12: 2018 | E12: =D12+1 -> 2019 | F12: =E12+1 -> 2020 | G12: =F12+1 -> 2021 | H12: =G12+1 -> 2022
C13: Vidējā biļešu cena, EUR | D13: 12.45 | E13: 12.45 | F13: 15.79 | G13: 20.5 | H13: 26.74
B17: Izmaksas 2022
B18: Mākslinieciskā personāla izmaksas | C18: =PIRMS!G12 -> 3537784
B19: Komunālie maksājumi | C19: =PIRMS!G13 -> 430703
B20: Izrāžu uzturēšanas izmaksas | C20: =PIRMS!G14 -> 666569
B21: Autoratlīdzības izmaksas | C21: =PIRMS!G15 -> 510677
B22: Citas izmaksas | C22: =PIRMS!G16 -> 319102
B23: Administrācijas un reklāmas personāla izmaksas | C23: =PIRMS!G26 -> 512447
B24: Citas netiešās izmaksas | C24: =PIRMS!G27 -> 281643
B25: Reklāmas izmaksas | C25: =PIRMS!G28 -> 178285
