Workbook

Sheet Kopsavilkums
B1: Pielikums Nr.1 Ministru kabineta noteikumu projekts “Grozījumi Ministru kabineta 2014. gada 11. marta noteikumos Nr. 134 "Noteikumi par vienoto veselības nozares elektronisko informācijas sistēmu"” sākotnējās ietekmes novērtējuma ziņojumam (anotācijai)
A3: Izdevumu pozīcija | B3: 2023.gads | C3: 2024.gadā un turpmāk ik gadu
A4: Ar noteiktām slimībām slimojošu pacientu reģistra papildināšana un uzturēšana | B4: =noteiktas_slimibas!G6 -> 600000 | C4: =noteiktas_slimibas!K6 -> 200000
A5: Laboratoriju portāla izstrāde/ pielāgošana | B5: =laboratorija!H7 -> 998250
A6: Laboratorijas sistēma/modulis uzturēšana | B6: =laboratorija!H16 -> 24971.375 | C6: =laboratorija!I16 -> 94864
A7: ONKO populācijas reģistrs uzturēšana | B7: =onko_uzturesana!H7 -> 30787.4 | C7: =onko_uzturesana!I7 -> 105512
A8: KOPÄ: | B8: =SUM(B4:B7) -> 1654008.8 | C8: =SUM(C4:C7) -> 400376

Sheet noteiktas_slimibas
I1: Pielikums Nr.2 Ministru kabineta noteikumu projekts “Grozījumi Ministru kabineta 2014. gada 11. marta noteikumos Nr. 134 "Noteikumi par vienoto veselības nozares elektronisko informācijas sistēmu"” sākotnējās ietekmes novērtējuma ziņojumam (anotācijai)
B2: Ar noteiktām slimībām slimojošu pacientu reģistra papildināšana un uzturēšana
A3: Nr.p.k. | B3: Nosaukums | C3: Precizēts apraksts | D3: Vienību skaits | E3: Vienību nosaukums | F3: Vienības cena, euro | G3: Papildu nepieciešamais finansējums 2023.gadam, euro | H3: Vienību skaits | I3: Vienību nosaukums | J3: Vienības cena, euro | K3: Papildu nepieciešamais finansējums 2024.gadam un turpmāk ik gadu, euro
A4: 1 | B4: Uzturēšanas izmaksas | C4: Atbilstoši VARAM metodoloģijai lielo IT sistēmu uzturēšanas izmaksas, ja sistēmai ir arī starpsistēmu integrācijas saskarnes, kuras tiek izmantotas citās sistēmās (šajā gadījumā - vairāki datu avoti, ārstniecībsa iestāžu/aptieku IS) sastāda 15-17% no kopējām izmaksām. NVD piemēro 16%, kas paredzēti izstrādātās programmatūras uzturēšanas nodrošināšanai atbilstoši tehniskās realizācijas un drošības prasībām, t.sk. līdzekļi funkcionēšanas problēmu profilaksei, kļūdu novēršanai un sistēmas lietotāju atbalstam, sistēmas ekspluatācijas laikā konstatēto kļūdu novēršanai, sistēmas darbības nepārtrauktības nodrošināšanai, pielāgošanas darbiem, kas saistīti izmaiņām izmantotajos tehnoloģiskajos risinājumos, sistēmas darbības pielāgojumi atbilstoši lietotāju vajadzībām u.c | D4: 2085224 | E4: procenti | F4: 0.16 | G4: =ROUNDUP((D4*F4)*1.21,0) -> 403700 | H4: 540000 | I4: procenti | J4: 0.16 | K4: =ROUND((H4*J4)*1.21,0) -> 104544
A5: 2 | B5: Izmaiņu/ pielāgojumu veikšanas izmaksas | C5: Atbalsta pakalpojumi un konsultācijas risinājumu pielāgošanā saistībā ar dažāda veida izmaiņām (normatīvie, sistēmiskie u.c.) | D5: 2027.89 | E5: cilvēkstundas | F5: 80 | G5: =ROUND((D5*F5)*1.21,0) -> 196300 | H5: 986.11 | I5: cilvēkstundas | J5: 80 | K5: =ROUNDUP((H5*J5)*1.21,0) -> 95456
A6: Kopā: | G6: =ROUND(SUM(G4:G5),0) -> 600000 | K6: =ROUND(SUM(K4:K5),0) -> 200000
B7: t.sk., pa EKK :
A8: EKK 2000 | G8: =ROUND(SUM(G4),0) -> 403700 | K8: =SUM(K4) -> 104544
A9: EKK 5000 | G9: =ROUND(G5,0) -> 196300 | K9: =ROUND(K5,0) -> 95456
B10: Budžeta apakšorogrammas 45.01.00 "Veselības aprūpes finansējuma administrēšana un ekonomiskā novērtēšana" ietvaros - prioritārais pasākums “Veselības aprūpes pakalpojumu onkoloģijas jomā uzlabošana” nodrošinot veselības aprūpes pakalpojumu saņēmēju datubāzes darbības nepārtrauktību (MK 13.01.2023. sēdes prot. Nr.2 1.§ 2. punkts).
B11: Reģistrs ir valsts informācijas sistēma, kas satur datus par pacientiem, kuri slimo ar noteiktām slimībām.

Sheet laboratorija
G1: Pielikums Nr.3 Ministru kabineta noteikumu projekts “Grozījumi Ministru kabineta 2014. gada 11. marta noteikumos Nr. 134 "Noteikumi par vienoto veselības nozares elektronisko informācijas sistēmu"” sākotnējās ietekmes novērtējuma ziņojumam (anotācijai)
A2: Laboratoriju portāla izstrāde/ pielāgošana
A3: Nr.p.k. | B3: Nosaukums | C3: Precizēts apraksts | D3: Vienību skaits | E3: Vienību nosaukums | F3: Vienības cena | G3: EKK | H3: Papildu nepieciešamais finansējums 2023.gadam EUR
A4: 1 | B4: Pielāgošanas/ izstrādes izmaksas | C4: Portāla izveide, vai esošo portālu papildināšana ar ierspēju apskatīt laboratoriju informāciju, kā arī šo datu centralizēta apstrāde un saņemšana no laboratorijām | D4: 12500 | E4: Cilvēkstunda | F4: 66 | G4: 5000 | H4: =D4*F4 -> 825000
A5: Kopā bez PVN: | H5: =SUM(H4:H4) -> 825000
B6: PVN 21%: | H6: =SUM(H5)*0.21 -> 173250
B7: Kopā ar PVN: | H7: =SUM(H5:H6) -> 998250
C8: t.sk., pa EKK
A9: EKK 5000 | H9: =SUM(H7) -> 998250
A12: Laboratorijas sistēma/modulis uzturēšana
A13: Nr.p.k. | B13: Nosaukums | C13: Precizēts apraksts | D13: Vienību skaits | E13: Vienību nosaukums | F13: Vienības cena | G13: EKK | H13: Papildu nepieciešamais finansējums 2023.gadam, EUR | I13: Papildu nepieciešamais finansējums 2024.gadam un turpmāk ik gadu, EUR
A14: 1 | B14: Uzturēšanas izmaksas | C14: Uzturēšnas izmaksas sistēmai, kura tiek vēl izstrādāta | D14: 650000 | E14: procenti | F14: 0.03175 | G14: 2000 | H14: =(D14*F14)*1.21 -> 24971.375 | I14: -
B15: Uzturēšanas izmaksas | C15: Atbilstoši VARAM metodoloģijai lielo IT sistēmu uzturēšanas izmaksas, ja sistēmai ir arī starpsistēmu integrācijas saskarnes, kuras tiek izmantotas citās sistēmās (šajā gadījumā - vairāki datu avoti, ārstniecībsa iestāžu/aptieku IS) sastāda 15-17% no kopējām izmaksām. NVD piemēro 16%, kas paredzēti izstrādātās programmatūras uzturēšanas nodrošināšanai atbilstoši tehniskās realizācijas un drošības prasībām, t.sk. līdzekļi funkcionēšanas problēmu profilaksei, kļūdu novēršanai un sistēmas lietotāju atbalstam, sistēmas ekspluatācijas laikā konstatēto kļūdu novēršanai, sistēmas darbības nepārtrauktības nodrošināšanai, pielāgošanas darbiem, kas saistīti izmaiņām izmantotajos tehnoloģiskajos risinājumos, sistēmas darbības pielāgojumi atbilstoši lietotāju vajadzībām u.c | D15: =D14+950000 -> 1600000 | E15: procenti | F15: 0.049 | G15: 2000 | H15: - | I15: =(D15*F15)*1.21 -> 94864
A16: Kopā: | H16: =SUM(H14:H14) -> 24971.375 | I16: =I15 -> 94864
C17: t.sk., pa EKK
A18: EKK 2000 | H18: =ROUND((H14),0) -> 24971 | I18: =I16 -> 94864
A20: Palielināti izdevumi, lai nodrošinātu laboratorijas izmeklējumu sistēmas izstrādi un citu informācijas un komunikācijas sistēmu attīstību un nepārtrauktas darbības nodrošināšanu un uzturēšanu, pārdalot finansējumu no apakšprogrammas 33.18.00 “Plānveida stacionāro veselības aprūpes pakalpojumu nodrošināšana” (MK 11.10.2022. sēdes prot. Nr.52 5.§ 75. punkts)

Sheet onko_uzturesana
G1: Pielikums Nr.4 Ministru kabineta noteikumu projekts “Grozījumi Ministru kabineta 2014. gada 11. marta noteikumos Nr. 134 "Noteikumi par vienoto veselības nozares elektronisko informācijas sistēmu"” sākotnējās ietekmes novērtējuma ziņojumam (anotācijai)
A3: ONKO populācijas reģistrs I kārtas uzturēšana
A4: Nr.p.k. | B4: Nosaukums | C4: Precizēts apraksts | D4: Vienību skaits | E4: Vienību nosaukums | F4: Vienības cena | G4: EKK | H4: Papildu nepieciešamais finansējums 2023.gadam, EUR | I4: Papildu nepieciešamais finansējums 2024.gadamun turpmāk ik gadu, EUR
A5: 1 | B5: Uzturēšanas izmaksas | C5: Uzturēšnas izmaksas I kārtai | D5: 800000 | E5: procenti | F5: 0.0318 | G5: 2000 | H5: =(D5*F5)*1.21+5 -> 30787.4 | I5: -
B6: Uzturēšanas izmaksas | C6: Atbilstoši VARAM metodoloģijai lielo IT sistēmu uzturēšanas izmaksas, ja sistēmai ir arī starpsistēmu integrācijas saskarnes, kuras tiek izmantotas citās sistēmās (šajā gadījumā - vairāki datu avoti, ārstniecībsa iestāžu/aptieku IS) sastāda 15-17% no kopējām izmaksām. NVD piemēro 16%, kas paredzēti izstrādātās programmatūras uzturēšanas nodrošināšanai atbilstoši tehniskās realizācijas un drošības prasībām, t.sk. līdzekļi funkcionēšanas problēmu profilaksei, kļūdu novēršanai un sistēmas lietotāju atbalstam, sistēmas ekspluatācijas laikā konstatēto kļūdu novēršanai, sistēmas darbības nepārtrauktības nodrošināšanai, pielāgošanas darbiem, kas saistīti izmaiņām izmantotajos tehnoloģiskajos risinājumos, sistēmas darbības pielāgojumi atbilstoši lietotāju vajadzībām u.c | D6: =D5+1200000 -> 2000000 | E6: procenti | F6: 0.0436 | G6: 2000 | H6: - | I6: =(D6*F6)*1.21 -> 105512
A7: Kopā: | C7: KOPÄ: | H7: =SUM(H5:H5) -> 30787.4 | I7: =SUM(I5:I6) -> 105512
B8: t.sk., pa EKK
A9: EKK 2000 | H9: =H5 -> 30787.4 | I9: =SUM(I5:I6) -> 105512
A11: Palielināti izdevumi, lai nodrošinātu laboratorijas izmeklējumu sistēmas izstrādi un citu informācijas un komunikācijas sistēmu attīstību un nepārtrauktas darbības nodrošināšanu un uzturēšanu, pārdalot finansējumu no apakšprogrammas 33.18.00 “Plānveida stacionāro veselības aprūpes pakalpojumu nodrošināšana” (MK 11.10.2022. sēdes prot. Nr.52 5.§ 75. punkts)
