Workbook
Name _1_2_d_NMP_lim: #REF!
Name aa: #REF!
Name b: #REF!
Name bt: #REF!
Name BX: #REF!
Name CalendarYear: #REF!
Name ccc: #REF!
Name d: #REF!
Name D_Evija3: #REF!
Name DaysAndWeeks: {0,1,2,3,4,5,6} + {0;1;2;3;4;5}*7
Name de: #REF!
Name dff: #NAME?
Name DRGNAMES: #REF!
Name e: #REF!
Name ee: #REF!
Name Excel_BuiltIn__FilterDatabase_2: #REF!
Name Excel_BuiltIn__FilterDatabase_3: #REF!
Name Excel_BuiltIn_Print_Titles_2: #REF!
Name Excel_BuiltIn_Print_Titles_3: #REF!
Name gad_skaits: #REF!
Name gad_skaits_1: #REF!
Name gala: {0,1,2,3,4,5,6} + {0;1;2;3;4;5}*7
Name Gala_kopsavilkums: #REF!
Name gggg: #REF!
Name ghy: #REF!
Name h: #REF!
Name hh: #REF!
Name hjh: #REF!
Name hyh: #REF!
Name i: #REF!
Name izm.kods: #REF!
Name izm.kods_1: [2]izm.posteni!$A$2:$A$216
Name izm.nos: #REF!
Name izm.nos_1: [2]izm.posteni!$B$2:$B$216
Name jhg: #REF!
Name kk: #REF!
Name l: #REF!
Name Limeni_7_9group: #REF!
Name Macro1: #REF!
Name Macro2: #REF!
Name Macro3: #REF!
Name Macro4: #REF!
Name Macro5: #REF!
Name Macro6: #REF!
Name Macro7: #REF!
Name Macro8: #REF!
Name n: #REF!
Name P_Dati_rikojums: #REF!
Name pp: #REF!
Name Recover: [3]Macro1!$A$135
Name Rikojums2222: [4]Macro1!$A$106
Name rr: #REF!
Name rt: #REF!
Name rty: #REF!
Name S5\: #REF!
Name ss: #REF!
Name Str.: #REF!
Name Str.vien.nos.: #REF!
Name Struktura: #REF!
Name Struktūrvien.kodi2: #REF!

Sheet 2.
F1: 2. Pielikums MK rīkojuma projekta "Par apropriācijas pārdali no budžeta resora "74. Gadskārtējā valsts budžeta izpildes procesā pārdalāmais finansējums" programmas 20.00.00 "Veselības aprūpes pasākumu īstenošana" uz budžeta resoru "29. Veselības ministrija"" anotācijai | U1: 1.pielikums
A3: Nodrošināt nātrijurētisko peptīdu (B-tipa nātrijurētiskais peptīds vai N termināla pro-B tipa nātrijurētiskais peptīds) izmeklējumu veikšanu
D5: 2024 | E5: 2025 | F5: 2026 | G5: Turpmāk ik gadu (ja pasākums nav terminēts)
C6: 33.17.00 Neatliekamās medicīniskās palīdzības nodrošināšana stacionārās ārstniecības iestādēs | D6: =M22 -> 220938 | E6: =M34 -> 378743 | F6: =E6 -> 378743 | G6: =F6 -> 378743
C7: 33.15.00 Laboratorisko izmeklējumu nodrošināšana ambulatorajā aprūpē | D7: =J22 -> 177875 | E7: =J34 -> 304920 | F7: =E7 -> 304920 | G7: =F7 -> 304920
C8: Kopā: | D8: =SUM(D6:D7) -> 398813 | E8: =SUM(E6:E7) -> 683663 | F8: =SUM(F6:F7) -> 683663 | G8: =SUM(G6:G7) -> 683663
A12: Papildu finansējums Apmaksas nosacījumu paplašināšanai+veidojot manipulāciju kā vienzvaigžņotu
A15: 2024. gads
A16: Apmaksas nosacījumu paplašināšana | B16: Manipulācijas kods | C16: Manipulācijas plānotais nosaukums | D16: Manip. tarifs, EUR | E16: Plānotais pacientu skaits gadā | F16: Plānotais manipulāciju skaits vienam pacientam gadā | G16: Nepieciešamais finansējums gadā, EUR | H16: Papildu informācija par finanšu ietekmes aprēķināšanu | I16: Plānotie apmaksas nosacījumi
A17: Apmaksas nosacījumu izmaiņas - paplašināšana | I17: Ambulatori | J17: Ambulatori, EUR | K17: Dienas stacionārā | L17: Stacionārā | M17: Stacionāri, EUR | N17: Zvaigznītes (* vai **)
A18: Izmeklējuma apmaksa pacientiem ar sirds mazspēju (diagnozes I50.0, I50.1, I50.9), Hipertensīvām sirds slimībām (diagnozes I13.2 , I13.2), Stenokardiju ( diagnozes I20.0; I20.8, I20.9), Priekškambaru mirdzēšana un plandīšanās (diagnozes I48.2, I48.3, I48.9). Priekškambaru mirdzēšana un plandīšanās | B18: 41212 | C18: Nātrijurētisko peptīdu (B-tipa nātrijurētiskais peptīds vai N termināla pro-B tipa nātrijurētiskais peptīds) noteikšana | D18: ='2.1.'!$T$13 -> 10.89 | E18: =ROUND(E30/12*7,0) -> 11667 | F18: 1 | G18: =D18*E18*F18 -> 127053.63 | H18: - | I18: 0.6 | J18: =G18*I18 -> 76232.178 | K18: - | L18: 0.4 | M18: =G18*L18 -> 50821.452 | N18: *
A19: Izmeklējuma apmaksa pacientiem ar Esenciālu (primāra) hipertensiju (diagnoze I10); Cukura diabētu (diagnozes E10-E14), Hroniskām nieru slimībām (diagnoze N18) | B19: 41212 | C19: Nātrijurētisko peptīdu (B-tipa nātrijurētiskais peptīds vai N termināla pro-B tipa nātrijurētiskais peptīds) noteikšana | D19: ='2.1.'!$T$13 -> 10.89 | E19: =ROUND(E31/12*7,0) -> 11667 | F19: 1 | G19: =D19*E19*F19 -> 127053.63 | H19: - | I19: 0.8 | J19: =G19*I19 -> 101642.9 | L19: 0.2 | M19: =G19*L19 -> 25410.726 | N19: *
A20: Manipulāciju veidojot kā vienzvaigžnotu (*) manipulāciju* | B20: 41212 | C20: Nātrijurētisko peptīdu (B-tipa nātrijurētiskais peptīds vai N termināla pro-B tipa nātrijurētiskais peptīds) noteikšana | D20: ='2.1.'!$T$13 -> 10.89 | E20: =ROUND(E32/12*7,0) -> 13288 | F20: 1 | G20: =D20*E20*F20 -> 144706.32 | H20: - | I20: 0 | J20: =G20*I20 -> 0 | L20: 1 | M20: =G20*L20 -> 144706.32 | N20: *
F21: Kopā, eiro | G21: =SUM(G18:G20) -> 398813.58 | J21: =SUM(J18:J20) -> 177875.08 | M21: =SUM(M18:M20) -> 220938.5
F22: Nepieciešamais finansējums, eiro | G22: =J22+M22 -> 398813 | J22: =ROUND(J21,0) -> 177875 | M22: =ROUND(M21,0) -> 220938
A24: * šobrīd izmeklējumu atsevišķi neapmaksā stacionārā, taču nav ierobežojumu tā veikšanai, pacientu skaits atbilstoši 2023. gadā veiktajam apjomam stacionārā
A27: 2025. gads un turpmāk ik gadu
A28: Apmaksas nosacījumu paplašināšana | B28: Manipulācijas kods | C28: Manipulācijas plānotais nosaukums | D28: Manip. tarifs, EUR | E28: Plānotais pacientu skaits gadā | F28: Plānotais manipulāciju skaits vienam pacientam gadā | G28: Nepieciešamais finansējums gadā, EUR | H28: Papildu informācija par finanšu ietekmes aprēķināšanu | I28: Plānotie apmaksas nosacījumi
A29: Apmaksas nosacījumu izmaiņas - paplašināšana | I29: Ambulatori | J29: Ambulatori, EUR | K29: Dienas stacionārā | L29: Stacionārā | M29: Stacionāri, EUR | N29: Zvaigznītes (* vai **)
A30: Izmeklējuma apmaksa pacientiem ar sirds mazspēju (diagnozes I50.0, I50.1, I50.9), Hipertensīvām sirds slimībām (diagnozes I13.2 , I13.2), Stenokardiju ( diagnozes I20.0; I20.8, I20.9), Priekškambaru mirdzēšana un plandīšanās (diagnozes I48.2, I48.3, I48.9). Priekškambaru mirdzēšana un plandīšanās | B30: 41212 | C30: Nātrijurētisko peptīdu (B-tipa nātrijurētiskais peptīds vai N termināla pro-B tipa nātrijurētiskais peptīds) noteikšana | D30: ='2.1.'!$T$13 -> 10.89 | E30: 20000 | F30: 1 | G30: =D30*E30*F30 -> 217800 | H30: - | I30: 0.6 | J30: =G30*I30 -> 130680 | K30: - | L30: 0.4 | M30: =G30*L30 -> 87120 | N30: *
A31: Izmeklējuma apmaksa pacientiem ar Esenciālu (primāra) hipertensiju (diagnoze I10); Cukura diabētu (diagnozes E10-E14), Hroniskām nieru slimībām (diagnoze N18) | B31: 41212 | C31: Nātrijurētisko peptīdu (B-tipa nātrijurētiskais peptīds vai N termināla pro-B tipa nātrijurētiskais peptīds) noteikšana | D31: ='2.1.'!$T$13 -> 10.89 | E31: 20000 | F31: 1 | G31: =D31*E31*F31 -> 217800 | H31: - | I31: 0.8 | J31: =G31*I31 -> 174240 | L31: 0.2 | M31: =G31*L31 -> 43560 | N31: *
A32: Manipulāciju veidojot kā vienzvaigžnotu (*) manipulāciju* | B32: 41212 | C32: Nātrijurētisko peptīdu (B-tipa nātrijurētiskais peptīds vai N termināla pro-B tipa nātrijurētiskais peptīds) noteikšana | D32: ='2.1.'!$T$13 -> 10.89 | E32: =22779 -> 22779 | F32: 1 | G32: =D32*E32*F32 -> 248063.31 | H32: - | I32: 0 | J32: =G32*I32 -> 0 | L32: 1 | M32: =G32*L32 -> 248063.31 | N32: *
F33: Kopā, eiro | G33: =SUM(G30:G32) -> 683663.31 | J33: =SUM(J30:J32) -> 304920 | M33: =SUM(M30:M32) -> 378743.31
F34: Nepieciešamais finansējums, eiro | G34: =J34+M34 -> 683663 | J34: =ROUND(J33,0) -> 304920 | M34: =ROUND(M33,0) -> 378743
A36: * šobrīd izmeklējumu atsevišķi neapmaksā stacionārā, taču nav ierobežojumu tā veikšanai, pacientu skaits atbilstoši 2023. gadā veiktajam apjomam stacionārā

Sheet 2.1.
L1: 2.1. Pielikums MK rīkojuma projekta "Par apropriācijas pārdali no budžeta resora "74. Gadskārtējā valsts budžeta izpildes procesā pārdalāmais finansējums" programmas 20.00.00 "Veselības aprūpes pasākumu īstenošana" uz budžeta resoru "29. Veselības ministrija"" anotācijai
D3: “Nātrijurētisko peptīdu (B-tipa nātrijurētiskais peptīds vai N termināla pro-B tipa nātrijurētiskais peptīds) noteikšana”
G5: Ārsts | H5: Māsa | I5: Palīgpersonāls | J5: Soc.nodoklis | O5: Pieskaitāmās un netiešās ražošanas izmaksas | P5: Administratīvās izmaksas | Q5: Pārējo pamatlīdzekļu amortizācija
F6: Mēneša darba samaksa | G6: 2304 | H6: 1388 | I6: 925
F7: 1 minūtes vērtība darba samaksai | G7: =ROUND(G6/9600,4) -> 0.24 | H7: =ROUND(H6/9600,4) -> 0.1446 | I7: =ROUND(I6/9600,4) -> 0.0964 | J7: 0.2359 | N7: Koeficienti | O7: 0.2857 | P7: 0.0202 | Q7: 0.0322
B9: Manipulācijas kods | C9: Manipulācijas nosaukums | D9: Mainīgās izmaksas | R9: Kopējās izmaksas, EUR | S9: Pacienta līdzmaksājums, EUR | T9: Tarifs, EUR | U9: D | V9: S | W9: M | X9: E | Y9: U | Z9: A | AA9: N | AB9: P | AC9: Kopējās izmaksas | AD9: Pacienta līdzmaksājums | AE9: Tarifs
D10: Darba laiks (minūtes) | G10: Darba samaksa D, EUR | J10: Valsts sociālās adrošināšanas obligātās iemaksas S, EUR | K10: Ārstniecības līdzekļi M, EUR | N10: Iekārtu amortizācija N, EUR | O10: Pieskaitāmās un netiešās ražošanas izmaksas U, EUR | P10: Administratīvās izmaksas A, EUR | Q10: Pārējo pamatlīdzekļu amortizācija n, EUR
D11: ārstam | E11: māsai | F11: jaunākajam personālām | G11: ārstam | H11: māsai | I11: jaunākajam personālam | J11: ārstam, māsai un jaunākajam personālām kopā | K11: M kopā | L11: Medikamenti | M11: Materiāli
B12: 1 | C12: 2 | D12: 3 | E12: 4 | F12: 5 | G12: 6 | H12: 7 | I12: 8 | J12: 9 | K12: 10 | L12: 11 | M12: 12 | N12: 13 | O12: 14 | P12: 15 | Q12: 16 | R12: 17 | S12: 18 | T12: 19 | U12: 20 | V12: 21 | W12: 22 | X12: 23 | Y12: 24 | Z12: 25 | AA12: 26 | AB12: 27 | AC12: 28 | AD12: 29 | AE12: 30
B13: 41212 | C13: Nātrijurētisko peptīdu (B-tipa nātrijurētiskais peptīds vai N termināla pro-B tipa nātrijurētiskais peptīds) noteikšana | D13: 3 | E13: 7 | F13: 0 | G13: =ROUND((D13*$G$7),2) -> 0.72 | H13: =ROUND((E13*$H$7),2) -> 1.01 | I13: =ROUND((F13*$I$7),2) -> 0 | J13: =ROUND(((G13+H13+I13)*$J$7),2) -> 0.41 | K13: =L13+M13 -> 7.5 | L13: 0 | M13: 7.5 | N13: 0.67 | O13: =ROUND((G13+H13+I13)*$O$7,2) -> 0.49 | P13: =ROUND((G13+H13+I13)*$P$7,2) -> 0.03 | Q13: =ROUND((G13+H13+I13)*$Q$7,2) -> 0.06 | R13: =ROUND((G13+H13+I13+J13+K13+N13+O13+P13+Q13),2) -> 10.89 | S13: 0 | T13: =R13-S13 -> 10.89 | U13: =G13+H13+I13 -> 1.73 | V13: =J13 -> 0.41 | W13: =K13 -> 7.5 | Y13: =O13 -> 0.49 | Z13: =P13 -> 0.03 | AA13: =N13+Q13 -> 0.73 | AC13: =SUM(U13:AB13) -> 10.89 | AD13: =S13 -> 0 | AE13: =AC13-AD13 -> 10.89
