Workbook

Sheet KOPĀ 2023-2025
A1: Kapitālsabiedrību finanšu rezultātu un dividenžu apkopojums laika periodā no 2023. līdz 2025.gadam
A2: kapitālsabiedrība | B2: 2023.gada peļņa vai zaudējumi | C2: valsts dividendes par 2023.gadu 64% | D2: 2024.gada peļņa vai zaudējumi | E2: valsts dividendes par 2024.gadu 70% | F2: 2025.gada peļņa | G2: valsts dividendes par 2025.gadu 90% | H2: KS rīcībā atstājamā dividenžu daļa 10% | I2: kopējā likviditāte 31.12.2025.7
A3: Nacionālais psihiskās veselības centrs, Valsts SIA1 | B3: 1452 | C3: 0 | D3: 18606 | E3: 0 | F3: 542059 | G3: =(Tabula2[[#This Row],[2025.gada peļņa ]]-199686)*0.9 -> 308135.7 | H3: =Tabula2[[#This Row],[2025.gada peļņa ]]-Tabula2[[#This Row],[valsts dividendes par 2025.gadu 90% ]] -> 233923.3 | I3: 1.1
A4: VSIA"Nacionālais rehabilitācijas centrs "Vaivari"" 2 | B4: 562891 | C4: 0 | D4: 323040 | E4: =Tabula2[[#This Row],[2024.gada peļņa vai zaudējumi]]*0.7 -> 226128 | F4: 242917 | G4: =Tabula2[[#This Row],[2025.gada peļņa ]]*0.9 -> 218625.3 | H4: =Tabula2[[#This Row],[2025.gada peļņa ]]-Tabula2[[#This Row],[valsts dividendes par 2025.gadu 90% ]] -> 24291.7 | I4: 0.95
A5: VSIA ""Daugavpils psihoneiroloģiskā slimnīca" 3 | B5: 976659 | C5: 0 | D5: 30077 | E5: =Tabula2[[#This Row],[2024.gada peļņa vai zaudējumi]]*0.7 -> 21053.9 | F5: 224206 | G5: =Tabula2[[#This Row],[2025.gada peļņa ]]*0.9 -> 201785.4 | H5: =Tabula2[[#This Row],[2025.gada peļņa ]]-Tabula2[[#This Row],[valsts dividendes par 2025.gadu 90% ]] -> 22420.6 | I5: 1.46
A6: VSIA"Piejūras slimnīca" 4 | B6: 201660 | C6: 0 | D6: 33266 | E6: =Tabula2[[#This Row],[2024.gada peļņa vai zaudējumi]]*0.7 -> 23286.2 | F6: 100028 | G6: =Tabula2[[#This Row],[2025.gada peļņa ]]*0.9 -> 90025.2 | H6: =Tabula2[[#This Row],[2025.gada peļņa ]]-Tabula2[[#This Row],[valsts dividendes par 2025.gadu 90% ]] -> 10002.8 | I6: 1.83
A7: VSIA"Strenču psihoneiroloģiskā slimnīca" 5 | B7: 971032 | C7: 0 | D7: 1590243 | E7: =Tabula2[[#This Row],[2024.gada peļņa vai zaudējumi]]*0.7 -> 1113170.1 | F7: 87172 | G7: =Tabula2[[#This Row],[2025.gada peļņa ]]*0.9 -> 78454.8 | H7: =Tabula2[[#This Row],[2025.gada peļņa ]]-Tabula2[[#This Row],[valsts dividendes par 2025.gadu 90% ]] -> 8717.2 | I7: 1.56
A8: VSIA"Slimnīca "Ģintermuiža"" 6 | B8: 63244 | C8: 0 | D8: 5628 | E8: =Tabula2[[#This Row],[2024.gada peļņa vai zaudējumi]]*0.7 -> 3939.6 | F8: 35110 | G8: =Tabula2[[#This Row],[2025.gada peļņa ]]*0.9 -> 31599 | H8: =Tabula2[[#This Row],[2025.gada peļņa ]]-Tabula2[[#This Row],[valsts dividendes par 2025.gadu 90% ]] -> 3511 | I8: 1.44
A9: VSIA"Bērnu psihoneiroloģiskā slimnīca "Ainaži"" | B9: -128110 | C9: 0 | D9: 67557 | E9: =Tabula2[[#This Row],[2024.gada peļņa vai zaudējumi]]*0.7 -> 47289.9 | F9: 5355 | G9: =Tabula2[[#This Row],[2025.gada peļņa ]]*0.9 -> 4819.5 | H9: =Tabula2[[#This Row],[2025.gada peļņa ]]-Tabula2[[#This Row],[valsts dividendes par 2025.gadu 90% ]] -> 535.5 | I9: 1.67
A10: Kopsumma | B10: =SUBTOTAL(109,Tabula2[2023.gada peļņa vai zaudējumi]) -> 2648828 | C10: =SUBTOTAL(109,Tabula2[valsts dividendes par 2023.gadu 64%]) -> 0 | D10: =SUBTOTAL(109,Tabula2[2024.gada peļņa vai zaudējumi]) -> 2068417 | E10: =SUBTOTAL(109,Tabula2[ valsts dividendes par 2024.gadu 70%]) -> 1434867.7 | F10: =SUBTOTAL(109,Tabula2[2025.gada peļņa ]) -> 1236847 | G10: =SUBTOTAL(109,Tabula2[valsts dividendes par 2025.gadu 90% ]) -> 933444.9 | H10: =SUBTOTAL(109,Tabula2[KS rīcībā atstājamā dividenžu daļa 10%]) -> 303402.1
A12: 1 2023. un 2024.gadā NPVC pašu kapitāls bija mazāks par pamatkapitālu, līdz ar to dividendes saskaņā ar Komerclikuma 161.pantu nav jāmaksā.
A13: 2 2024.gadā NRC Vaivari, pamatojoties uz Ministru kabineta 2024. gada 29. oktobra rīkojumu Nr. 896 “Par valstij dividendēs izmaksājamo valsts sabiedrības ar ierobežotu atbildību "Nacionālais rehabilitācijas centrs "Vaivari"" peļņas daļu par 2023. gadu” 2023.gada peļņu novirzīja investīcijām - ambulatorās ēkas būvniecībai.
A14: 3 2024.gadfā DPNS, pamatojoties uz Ministru kabineta 2024.gada 10.decembra rīkojumu Nr.1062 “Par valstij dividendēs izmaksājamo valsts sabiedrības ar ierobežotu atbildību “Daugavpils psihoneiroloģiskā slimnīca” peļņas daļu par 2023.gadu" 2023. gada peļņu novirzīja infrastruktūras projektu īstenošanai un medicīnas iekārtu iegādei.
A15: 4 2024.gadā Piejīūras slimnīca, pamatojoties uz Mnistru kabineta 2024.gada 29.oktobra rīkojumu Nr.895 “Par valstij dividendēs izmaksājamo valsts sabiedrības ar ierobežotu atbildību "Piejūras slimnīca" peļņas daļu par 2023. gadu” 2023.gada peļņu novirzīja investīcijām – Uzņemšanas nodaļas aprīkojuma iegādei pēc plānotās Uzņemšanas nodaļas rekonstrukcijas.
A16: 5 2024.gadā Strenču PNS, pamatojoties uz Ministru kabinets 2024.gada 1. oktobra rīkojumu Nr.789 “Par valstij dividendēs izmaksājamo valsts sabiedrības ar ierobežotu atbildību “Strenču psihoneiroloģiskā slimnīca” peļņas daļu” 2023.gada peļņa novirzīja Osvalda mājas fasādes un iekštelpu pārbūvei un citiem infrastruktūras projektiem.
A17: 6 2024.gadā Slimnīca "Ģintermuiža", pamatojoties uz Ministru kabineta rīkojumu Nr.894 “Par valstij dividendēs izmaksājamo valsts sabiedrības ar ierobežotu atbildību “Slimnīca “Ģintermuiža”” peļņas daļu par 2023. gadu” 2023.gada peļņu novirzīja slimnīcas teritorijas labiekārtošanai.
A18: 7 Kopējās likviditātes rādītāju var ietekmēt arī kapitālsabiedrību saņemtais un pārskata perioda beigās vēl neizlietotais Eiropas Savienības fondu finansējums projektu īstenošanai. Minētie līdzekļi ir paredzēti konkrētu projektu izdevumu segšanai un nav uzskatāmi par brīvi pieejamiem finanšu līdzekļiem.

Sheet ERAF projekts
A1: Eiropas Reģionālās attīstības fonda projekts Nr. 4.1.1.1/3/24/I/001 “Psihiskās veselības ārstniecības iestāžu infrastruktūras attīstība”
A2: kapitālsabiedrība | B2: kopā | C2: ERAF finansējums | D2: valsts budžeta līdzfinansējums | E2: pašu finansējums | F2: 2025.gada peļņas daļa ERAF projektam | G2: iepirkums EIS | H2: papildu skaidrojumi
A3: “Nacionālais psihiskās veselības centrs”, Valsts SIA | B3: 1400000 | C3: 1190000 | D3: 207545.21 | E3: 2454.79 | F3: 0 | G3: N!A | H3: 2025.gada peļņa uz projektu nav attiecināta
A4: VSIA "Piejūras slimnīca" | B4: 757886 | C4: 644203 | D4: 113683 | F4: 60650 | G4: https://www.eis.gov.lv/EKEIS/Supplier/Procurement/154801 | H4: 2025.gadā Piejūras slimnīca uzsākusi būvniecības ieceres dokumentācijas izstrādi un autoruzraudzības pakalpojumu nodrošināšanu ārstniecības ēkas Jūrmalas ielā 2, Liepājā, telpu pārbūvei un atjaunošanai, kas ir pirmais posms ambulatorās un rehabilitācijas ārstniecības ēkas izveidē. Projekta rezultātā tiks izveidots mūsdienu prasībām atbilstošs ambulatorās un rehabilitācijas pakalpojumu centrs, uzlabojot veselības aprūpes pakalpojumu pieejamību un kvalitāti.Ar ERAF Projekta ietvaros veiktajiem projektēšanas darbiem saistīto kapitālsabiedrības finansējuma daļu paredzēts segt no pašu līdzekļiem. Papildus Piejūras slimnīca īsteno slimnīcas teritorijas centrālās daļas infrastruktūras labiekārtošanu Jūrmalas ielā 2, Liepājā. Iepirkuma PS 2025/8 rezultātā līguma slēgšanas tiesības piešķirtas par 89 777,70 euro bez PVN. Piejūras slimnīcas 2025. gada peļņu 100 028 euro apmērā plānots novirzīt ERAF Projekta ietvaros veikto projektēšanas darbu kapitālsabiedrības finansējuma daļas segšanai 60 650 EUR un slimnīcas teritorijas centrālās daļas infrastruktūras labiekārtošanas izdevumu daļējai segšanai.39 378 EUR (izklājlapā "citi investīciju projekti').
G5: https://www.eis.gov.lv/EKEIS/Supplier/Procurement/156918
A6: VSIA "Strenču psihoneiroloģiskā slimnīca" | B6: 1400000 | C6: 1190000 | D6: 210000 | F6: ='KOPĀ 2023-2025'!F7 -> 87172 | G6: https://www.eis.gov.lv/EKEIS/Supplier/Procurement/161011 | H6: 2026. gada 16. martā noslēgts būvdarbu līgums ar SIA "Woltec" par 2 337 369,84 euro bez PVN. Pārbūves rezultātā tiks palielināts observācijas gultu skaits, uzlabota pacientu drošība un radīta mūsdienu prasībām atbilstoša ārstniecības vide. Minētie pasākumi ir saistīti ar Strenču PNS vidēja termiņa darbības stratēģijā noteiktajiem mērķiem uzlabot veselības aprūpes pakalpojumu pieejamību un kvalitātes uzlabošanu, ārstniecības infrastruktūras attīstību. Pārbūves rezultātā tiks palielināts observācijas gultu skaits un nodrošināta pacientiem droša, funkcionāla un mūsdienu prasībām atbilstoša ārstniecības vide. Tas ļaus efektīvāk organizēt pacientu plūsmu, veicināt ambulatorās aprūpes attīstību un samazināt nepieciešamību pēc ilgstošas stacionārās ārstēšanas. Būvdarbi jau ir uzsākti un plānotais projekta realizācijas laiks ir 31.12.2029.
A7: VSIA "Daugavpils psihoneiroloģiskā slimnīca" | B7: 3000000 | C7: 2550000 | D7: 450000 | F7: ='KOPĀ 2023-2025'!F5 -> 224206 | G7: https://www.eis.gov.lv/EKEIS/Supplier/Procurement/158640 | H7: 17.12.2025. ir noslēgts līgums par būvniecību ar SIA “SHENBERG”. Kopējas būvniecības izmaksas EUR 5 455 429.76 ar PVN. 2025. gada peļņu 224 206 euro apmērā plāno novirzīt būvprojekta līdzfinansējuma nodrošināšanainai (konkrēti: aiļu aizpildījumu elementiem). Būvprojekta “Telpu pārbūve un teritorijas labiekārtošana Siguldas ielā 24, Daugavpilī” ietvaros plānots izveidot šādas aktivitātes: 1) uzņemšanas nodaļas ar observācijas gultām (uzgaidāmo telpu, pacientu izmeklēšanas telpu, observācijas gultu telpas, sanitārās telpas u.c. nepieciešamās telpas) izveidošana 2) Psihiatriskās nodaļas (1., 2.stāvs) izveidošana 3) Iekšējie specializētie darbi 1., 2. un 3. stāvā (t.sk. apkure, ventilācija, aukstumapgāde A1, gaisa kondicionēšana, daļa no siltummezgla, iekšējais ūdensvads Ū1, Ū2, ūdensmērītājs N1-2, karstā ūdens ūdensvads S3, S4, sadzīves kanalizācija K1 un iekšējie elektrotehniskie darbi). Būvniecības ietvaros tiek plānots veikt ēkas iekštelpu pārbūvi, t.sk., vispārējos celtniecības darbus, iekšējos specializētos darbus, iekšējos specializētos darbus (attiecināmi uz visu slimnīcas ēku) un darbus, kas saistīti ar ārējiem inženiertīkliem. VSIA “Daugavpils psihoneiroloģiskā slimnīca” būvprojektā arī ir paredzētas prasības attiecībā uz ēkas ilgtspēju – efektīvus ēkas būvniecības materiālus un inženiertīklu risinājumus, lai nodrošinātu energoefektīvus risinājumus un energoresursu taupīšanu nākotnē.
A8: VSIA "Slimnīca “Ģintermuiža”” | B8: 1400000 | C8: 1190000 | D8: 210000 | F8: ='KOPĀ 2023-2025'!F8 -> 35110 | G8: https://www.eis.gov.lv/EKEIS/Supplier/Procurement/147480 | H8: 2025.gadā noslēgts būvniecības līgums un nodots ekspluatācijā objekts “ Gerontopsihiatrijas pacientu medicīniskās rehabilitācijas telpu izveide” līguma summa 395371.51 euro (plānots 370361 euro), visas izmaksas attiecinātas uz projektu. 2025.gadā veikts iepirkums “Pacientu ārstniecības un aprūpes aprīkojums, inventārs” kopējās līguma izmaksas 112434.64 euro ( plānots 107 141 euro) , starpība nav iekļauta attiecināmajās izmaksās 5293.64 euro. 2026.gadā noslēgts būvniecības līgums “Psihiatriskās medicīniskās rehabilitācijas mākslas terapijas (drāmas, mūzikas, vizuāli plastiskās mākslas terapijas) studijas izveide” līguma summa 338 755.86 euro. Noslēgts būvniecības līgums “Psihiatriskās medicīniskās rehabilitācijas (ergoterapijas) vides (Dārzkopības terapijas) izveide” līguma summa 345 023.92 euro. Veikti iepirkumi “Medicīniskās rehabilitācijas aprīkojums, inventārs”, kopējā līguma summa 158 261.66 euro ( plānots 125 008 euro) . KOPĀ projektā plānoti 1400 000 euro, šobrīd līgumi par 1 344 553.95, bet nav vēl noslēdzies iepirkums par 2026.gada būvniecības objektos izvietojamām mēbelēm un iekārtām. Papildus ERAF projekta attiecināmajām izmaksām slimnīca no pašu līdzekļiem finansē būvniecības ieceru izstrādi, būvuzraudzību, autoruzraudzību un projekta administrēšanas izmaksas, kas kopā veido 66 952,12 euro. Minētās izmaksas nav attiecinātas uz ERAF finansējumu. Būvniecības ieceru izstrāde: 30 613,00 EUR Būvuzraudzība: 16 335,00 EUR Autoruzraudzība: 11 107,80 EUR Projekta administrēšanas izmaksas: 8 896,32 EUR
G9: https://www.eis.gov.lv/EKEIS/Supplier/Procurement/163394
G10: https://www.eis.gov.lv/EKEIS/Supplier/Procurement/163873
G11: https://www.eis.gov.lv/EKEIS/Supplier/Procurement/170147
A12: kopā | B12: =B3+B4+B6+B7+B8 -> 7957886 | C12: =C3+C4+C6+C7+C8 -> 6764203 | D12: =D3+D4+D6+D7+D8 -> 1191228.2 | E12: =E3+E4+E6+E7+E8 -> 2454.79
A14: kopā Rīkojuma projektā uz ERAF projektu attiecināma daļa | F14: =F3+F6+F7+F8+F4 -> 407138
B15: tai skaitā valsts dividenžu daļa 90% apmērā | F15: =F14*0.9 -> 366424.2

Sheet citi investīciju projekti
A1: citas investīcijas
A2: kapitālsabiedrība | B2: 2025.gada peļņas daļa investīciju projektiem | C2: papildu skaidrojumi
A3: “Nacionālais psihiskās veselības centrs”, Valsts SIA | B3: ='KOPĀ 2023-2025'!F3-199686 -> 342373 | C3: Peļņas novirzīšana reorganizācijas pasākumu īstenošanai nodrošinās Ministru kabineta 2026. gada 16. aprīļa rīkojumā Nr. 216 “Par valsts sabiedrības ar ierobežotu atbildību “Nacionālais psihiskās veselības centrs”, valsts sabiedrības ar ierobežotu atbildību “Daugavpils psihoneiroloģiskā slimnīca”, valsts sabiedrības ar ierobežotu atbildību “Strenču psihoneiroloģiskā slimnīca”, valsts sabiedrības ar ierobežotu atbildību “Piejūras slimnīca”, valsts sabiedrības ar ierobežotu atbildību “Slimnīca “Ģintermuiža”” un valsts sabiedrības ar ierobežotu atbildību “Bērnu psihoneiroloģiskā slimnīca “Ainaži”” reorganizāciju” noteiktās reorganizācijas sekmīgu īstenošanu un sešu valsts psihiatrisko ārstniecības iestāžu apvienošanu vienotā pārvaldības modelī. Peļņa tiks novirzīta sekojošu pasākumu daļējai finansēšanai: -grāmatvedības sistēmu pārveide un pilnveide jaunajā modelī ~ 26 000 euro; -grāmatvedības sistēmu integrēšana ~120 000 euro; -IT sistēmu integrācija ~ 360 000 euro (60 000 euro uz iestādi);
A4: VSIA"Nacionālais rehabilitācijas centrs "Vaivari"" | B4: ='KOPĀ 2023-2025'!F4 -> 242917 | C4: 2025. gada peļņu plānots novirzīt ERAF projekta "Nacionālā rehabilitācijas centra "Vaivari" infrastruktūras attīstība, paaugstinot veselības aprūpes pakalpojumu kvalitāti, vienlīdzīgu piekļuvi un izmaksu efektivitāti" līdzfinansēšanai (176 213 euro), tai skaitā 4. nodaļas remontdarbiem, un kiberdrošības uzlabošanas pasākumu īstenošanai – jauna ugunsmūra iegādei un uzstādīšanai (66 704 euro).
A6: VSIA"Bērnu psihoneiroloģiskā slimnīca "Ainaži"" | B6: ='KOPĀ 2023-2025'!F9 -> 5355 | C6: Peļņu plānots novirzīt BPNS Ainaži stacionāro meiteņu un zēnu nodaļu TV istabu kosmētiskajam remontam.
A7: VSIA "Piejūras slimnīca" | B7: 39378 | C7: 2025. gada peļņu 100 028 euro plānots novirzīt ERAF Projekta ietvaros veikto projektēšanas darbu s segšanai 60 650 EUR apmērā un slimnīcas teritorijas centrālās daļas infrastruktūras labiekārtošanas izdevumu daļējai segšanai.39 378 EUR
A8: kopā Rīkojuma projektā uz citiem projektiem attiecināma daļa | B8: =SUM(B3:B7) -> 630023
A9: tai skaitā valsts dividenžu daļa 90% apmērā | B9: =B8*0.9 -> 567020.7
