Workbook

Sheet KOPSAVILKUMS
A2: KOPSAVILKUMA APRĒĶINS
A5: Pasūtītājs: | C5: Rīgas Metropolijas Romas katoļu kūrija
A6: Objekts: | C6: Plaisu konstruktīva nostiprināšana, iekštelpu restaurācija, inženiertīkli Rīgas Sāpju Dievmātes Romas katoļu baznīcā
A7: Objekta adrese: | C7: Pils iela 5, Rīgā
A8: Būvuzņēmējs:
C9: Par kopējo summu, EUR | D9: =D16 -> 375088.3 | E9: bez PVN
C10: Kopējā darbietilpība, c/h | D10: =SUM(H17:H18) -> 8719.658
C12: Tāme sastādīta 02.06.2026
A14: Nr.p.k. | B14: Lokālās tāmes Nr. | C14: Darba veids vai konstruktīvā elementa nosaukums | D14: Tāmes izmaksa (EUR) | E14: Tai skaitā | H14: Darbietilpība (c/h)
E15: Darba alga (EUR) | F15: Būvizstrādājumi (EUR) | G15: Mehān., instr.īre, amortizācija (EUR)
C16: 2026.gada bīstamības novēršanas darbi kopā: | D16: =SUM(D17:D20) -> 375088.3 | E16: =SUM(E17:E18) -> 178960.19 | F16: =SUM(F17:F18) -> 124079.84 | G16: =SUM(G17:G18) -> 41077.669 | H16: =SUM(H17:H18) -> 8719.658
A17: 1 | C17: Plaisu konstruktīva nostiptināšana, baznīcas iekštelpās, draudzes zāles sānjoma sienas un griestu restaurācija, inženiertīklu izbūve | D17: =SUM(E17:G17) -> 189327.23 | E17: =koptāme!E15+koptāme!E16+koptāme!E20 -> 114754.14 | F17: 45485.756 | G17: 29087.329 | H17: 5463.048
A18: 2 | C18: Inženierkomunikāciju izbūve, grīdu izbūve | D18: =SUM(E18:G18) -> 154790.48 | E18: =koptāme!E17+koptāme!E18+koptāme!E19 -> 64206.052 | F18: =koptāme!F17+koptāme!F18+koptāme!F19 -> 78594.084 | G18: =koptāme!G17+koptāme!G18+koptāme!G19 -> 11990.34 | H18: =koptāme!H17+koptāme!H18+koptāme!H19 -> 3256.61
C19: Autoruzraudzība | D19: =koptāme!D23 -> 6882.3541
C20: Būvuzraudzība | D20: =koptāme!D22 -> 24088.239
C23: Sastādija: Aleksandrs Manakovs(sert.nr. 4-04521)
C24: paraksts, paraksta atšifrējums, datums
C27: Pārbaudīja:
C28: paraksts, paraksta atšifrējums, datums

Sheet koptāme
A2: Koptāme
A4: Pasūtītājs: | C4: Rīgas Metropolijas Romas katoļu kūrija
A5: Objekts: | C5: Rīgas Sāpju Dievmātes Romas katoļu baznīca
C6: Plaisu konstruktīva nostiprināšana, iekštelpu restaurācija, inženiertīkli Rīgas Sāpju Dievmātes Romas katoļu baznīcā
A7: Objekta adrese: | C7: Pils iela 5, Rīga
C9: Par kopējo summu, EUR | D9: =D24 -> 375088.3
C10: Kopējā darbietilpība, c/h | D10: =H21 -> 8719.658
A13: Nr.p.k. | B13: Lokālās tāmes Nr. | C13: Darba veids vai konstruktīvā elementa nosaukums | D13: Tāmes izmaksa (EUR) | E13: Tai skaitā | H13: Darbietilpība (c/h)
E14: Darba alga (EUR) | F14: Būvizstrādājumi (EUR) | G14: Mehān., instr.īre, amortizācija (EUR)
A15: 1 | B15: 5-1 | C15: Būvlaukums, sastatnes | D15: =SUM(E15:G15) -> 22799.79 | E15: 2772 | F15: 270 | G15: 19757.79 | H15: 120.5
A16: 2 | B16: 5-3 | C16: Plaisu nostiprināšana sienās un griestos no iekšpuses, draudzes zāles sānjoma sienas un griestu restaurācija | D16: =SUM(E16:G16) -> 120688.49 | E16: 89727.23 | F16: 22884.78 | G16: 8076.48 | H16: 4415.26
A17: 3 | B17: 1-1 | C17: Grīdas draudzes zāle, ziemeļu jomā ierīkošana | D17: =SUM(E17:G17) -> 24356.376 | E17: 10989 | F17: 11309.76 | G17: 2057.616 | H17: 495
A18: 4 | B18: 1-2 | C18: Draudzes zāles grīdas flīzēšana | D18: =SUM(E18:G18) -> 91489.008 | E18: 41960.532 | F18: 44759.376 | G18: 4769.1 | H18: 1890.11
A19: 5 | B19: 1-3 | C19: Siltās grīdas apkures ierīkošana , ziemeļu joms | D19: =SUM(E19:G19) -> 38945.092 | E19: 11256.52 | F19: 22524.948 | G19: 5163.624 | H19: 871.5
A20: 6 | B20: 5-5 | C20: Elektrības un vājstrāvas tīkli (EL, ESS, UAS) (puse no apjoma) | D20: =SUM(E20:G20) -> 45838.948 | E20: 22254.912 | F20: 22330.976 | G20: 1253.0592 | H20: 927.288
A21: Izmaksas kopā: | D21: =SUM(D15:D20) -> 344117.7 | E21: 101499.23 | F21: 23154.78 | G21: 27834.27 | H21: 8719.658
A22: Būvuzraudzība 7% | D22: =D21*0.07 -> 24088.239
A23: Autoruzraudzība 2% | D23: =D21*0.02 -> 6882.3541
A24: Kopā bez PVN: | D24: =SUM(D21:D23) -> 375088.3
B27: Sastādija: Aleksandrs Manakovs(sert.nr. 4-04521)
B28: paraksts, paraksta atšifrējums, datums
B31: Pārbaudīja:
B32: paraksts, paraksta atšifrējums, datums
