Workbook
Name _1_2_d_NMP_lim: #REF!
Name _1_2_d_NMP_lim: #REF!
Name _1_2_d_NMP_lim: #REF!
Name _Hlk121240980: Kopsavilkums!$B$7
Name aa: #REF!
Name aa: #REF!
Name aa: #REF!
Name b: #REF!
Name b: #REF!
Name bt: #REF!
Name bt: #REF!
Name bt: #REF!
Name BX: #REF!
Name BX: #REF!
Name BX: #REF!
Name CalendarYear: #REF!
Name CalendarYear: #REF!
Name CalendarYear: #REF!
Name ccc: #REF!
Name d: #REF!
Name D_Evija3: #REF!
Name DaysAndWeeks: {0,1,2,3,4,5,6} + {0;1;2;3;4;5}*7
Name DaysAndWeeks: {0,1,2,3,4,5,6} + {0;1;2;3;4;5}*7
Name DaysAndWeeks: {0,1,2,3,4,5,6} + {0;1;2;3;4;5}*7
Name de: #REF!
Name de: #REF!
Name de: #REF!
Name dff: #NAME?
Name DRGNAMES: #REF!
Name DRGNAMES: #REF!
Name DRGNAMES: #REF!
Name e: #REF!
Name e: #REF!
Name e: #REF!
Name ee: #REF!
Name ee: #REF!
Name ee: #REF!
Name Excel_BuiltIn__FilterDatabase_2: #REF!
Name Excel_BuiltIn__FilterDatabase_3: #REF!
Name Excel_BuiltIn_Print_Titles_2: #REF!
Name Excel_BuiltIn_Print_Titles_3: #REF!
Name gad_skaits: #REF!
Name gad_skaits_1: #REF!
Name gala: {0,1,2,3,4,5,6} + {0;1;2;3;4;5}*7
Name gala: {0,1,2,3,4,5,6} + {0;1;2;3;4;5}*7
Name Gala_kopsavilkums: #REF!
Name Gala_kopsavilkums: #REF!
Name gggg: #REF!
Name gggg: #REF!
Name ghy: #REF!
Name ghy: #REF!
Name h: #REF!
Name hh: #REF!
Name hjh: #REF!
Name hyh: #REF!
Name i: #REF!
Name izm.kods: #REF!
Name izm.kods_1: [3]izm.posteni!$A$2:$A$216
Name izm.nos: #REF!
Name izm.nos: #REF!

Sheet Kopsavilkums
D1: 1.pielikums
B3: Papildus nepieciešamais finansējums, lai nodrošinātu neatliekamu un prioritāru pasākumu finansēšanu veselības nozarē 2023. gadā
A5: N.P.K. | B5: Pasākums | C5: Pakalpojumu/izmeklējumu/pacientu skaits | D5: Papildus nepieciešams finnasējums, euro
A6: 1 | B6: Ambulatorajai ārstēšanai paredzēto kompensējamo zāļu izdevumi pa diagnožu grupām 2023.gada | C6: =medikamenti!R34 -> 43906.445 | D6: =medikamenti!Q34 -> 7324270
A7: 2 | B7: Saistību izpilde par ES sociālā nodrošinājuma sistēmu ietvaros saņemtajiem veselības aprūpes pakalpojumiem citās ES un EEZ dalībvalstīs | D7: =ES_EEZsaistības!K307 -> 16015852
A8: 3 | B8: Laboratorisko izmeklējumu pieejamība | C8: 60108 | D8: =laboratorijas!K14 -> 2953100
A9: 4 | B9: Sekundārās ambulatorās veselības aprūpes pakalpojumu pieejamība | C9: =sava!I5 -> 137220 | D9: =sava!K5 -> 4552395
A10: 5 | B10: Gāzmaskas | C10: =gazmaskas!D5 -> 400 | D10: =gazmaskas!F5 -> 30600
A11: Kopā | D11: =SUM(D6:D10) -> 30876217

Sheet medikamenti
O1: 1.8.pielikums | R1: 1.1. pielikums
A2: Papildus nepieciešamais finansējums kompensējamiem medikamentiem
A5: Diagnožu grupas un citi apmaksas nosacījumi** | B5: Finansējums 2023.gadam atbilstoši budžetam un FM rīkojumiem uz 07.07.2023. un prognozēto virsplāna pašu ieņēmumu apjomu | C5: Finanšu ministrijas 2023.gada 11.augusta rīkojums Nr.258 “Par apropriācijas izmaiņām" | D5: Ministru kabineta 2023.gada 26.septembra rīkojums Nr. 631 "Par finanšu līdzekļu piešķiršanu no valsts budžeta programmas "Līdzekļi neparedzētiem gadījumiem"" | E5: Finansējums 2023.gadam atbilstoši budžetam un FM, MK rīkojumiem uz 03.10.2023. | F5: 2023.gada faktiskā izpilde 8 mēnešos, euro | G5: tai skaitā: | H5: Pacientu skaits 8 mēnešos | I5: Vidējās viena pacienta Izmaksas, euro | J5: Prognozētā izpilde 2023.gada 11 mēnešiem, euro | K5: t.sk. | M5: Finanšu līdzekļu iztrūkums (+) /pārpalikums (-) 2023.gadam | N5: Prognozēts pacientu skaits atbilstoši 2022.gada 1 pacienta faktiskām vidējām izmaksām | O5: Viena pacienta faktiskās vidējās izmaksas 2022.gadā, EUR | P5: Prognozētā 2023.gada decembra izpilde, euro | Q5: Papildu nepieciešamais finansējuma apjoms 2023.gada daļējiem norēķiniem par 2023.gada decembra mēnesi, euro | R5: Prognozējamais pacientu skaits
G6: 2023.gada faktiskā izpilde 8 mēnešos papildu piešķirtais finansējums atbilstoši Finanšu ministrijas 2023.gada 11.augusta rīkojums Nr.258 “Par apropriācijas izmaiņām", euro | K6: Norēķini par 2022.gadu, euro | L6: Prognozētā izpilde 2023.gada 11 mēnešiem bez 2022.gada norēķiniem, euro
A9: Acu un to palīgorgānu slimības | B9: 2640283 | C9: 663185 | D9: 1219194.7 | E9: =SUM(B9:D9) -> 4522662.7 | F9: 2807038.9 | G9: 166756 | H9: 58705 | I9: 47.82 | J9: =SUM(F9)/8*11+C9+D9-G9 -> 5575302.2 | K9: 357889 | L9: =J9-K9 -> 5217413.2 | P9: 351007.61 | Q9: =P9*$R$35/100 -> 114577.82 | R9: =Q9/I9 -> 2396.0229
A10: Ausu un aizauss paugura slimības | B10: 32165 | D10: 0.38285714 | E10: =SUM(B10:D10) -> 32165.383 | F10: 21315.94 | H10: 2580 | I10: 8.26 | J10: =SUM(F10)/8*11+C10+D10-G10 -> 29309.8 | K10: 5829 | L10: =J10-K10 -> 23480.8 | P10: 847.06 | Q10: =P10*$R$35/100 -> 276.50194 | R10: =Q10/I10 -> 33.474811
A11: Asins un asinsrades orgānu slimības un imūnsistēmas traucējumi | B11: 5010730 | D11: 0.084285714 | E11: =SUM(B11:D11) -> 5010730.1 | F11: 3823140.4 | H11: 383 | I11: 9982.09 | J11: =SUM(F11)/8*11+C11+D11-G11 -> 5256818.1 | K11: 521402 | L11: =J11-K11 -> 4735416.1 | P11: 653245.72 | Q11: =P11*$R$35/100 -> 213236.03 | R11: =Q11/I11 -> 21.361862
A12: Asinsrites sistēmas slimības | B12: 27677486 | C12: 3743285 | D12: 7741234.8 | E12: =SUM(B12:D12) -> 39162006 | F12: 25515787 | H12: 467555 | I12: 54.57 | J12: =SUM(F12)/8*11+C12+D12-G12 -> 46568727 | K12: 3240360 | L12: =J12-K12 -> 43328367 | P12: 3270000.9 | Q12: =P12*$R$35/100 -> 1067411.5 | R12: =Q12/I12 -> 19560.409
A13: Audzēji | B13: 73416405 | D13: -2769311 | E13: =SUM(B13:D13) -> 70647094 | F13: 44217792 | H13: 19367 | I13: 1947.73 | J13: =SUM(F13)/8*11+C13+D13-G13 -> 58030153 | K13: =5300371+19736 -> 5320107 | L13: =J13-K13 -> 52710046 | P13: 6227120 | Q13: =P13*$R$35/100 -> 2032690.4 | R13: =Q13/I13 -> 1043.6202
A14: Ādas un zemādas audu slimības | B14: 1941837 | C14: 895329 | D14: 1313372.4 | E14: =SUM(B14:D14) -> 4150538.4 | F14: 2718359.8 | G14: =438886+419959 -> 858845 | H14: 15439 | I14: 176.07 | J14: =SUM(F14)/8*11+C14+D14-G14 -> 5087601.1 | K14: 277948 | L14: =J14-K14 -> 4809653.1 | P14: 419958.5 | Q14: =P14*$R$35/100 -> 137085.14 | R14: =Q14/I14 -> 778.58319
A15: Elpošanas sistēmas slimības | B15: 6495704 | D15: 355900.12 | E15: =SUM(B15:D15) -> 6851604.1 | F15: 4932562.7 | H15: 83569 | I15: 59.02 | J15: =SUM(F15)/8*11+C15+D15-G15 -> 7138173.8 | K15: 760199 | L15: =J15-K15 -> 6377974.8 | P15: 618935.44 | Q15: =P15*$R$35/100 -> 202036.28 | R15: =Q15/I15 -> 3423.1833
A16: Endokrīnās, uztures un vielmaiņas slimības | B16: 33483215 | C16: 6310252 | D16: 2018096.5 | E16: =SUM(B16:D16) -> 41811563 | F16: 25955608 | H16: 196045 | I16: 132.4 | J16: =SUM(F16)/8*11+C16+D16-G16 -> 44017309 | K16: 3321380 | L16: =J16-K16 -> 40695929 | P16: 3363864 | Q16: =P16*$R$35/100 -> 1098050.8 | R16: =Q16/I16 -> 8293.4352
A17: Gremošanas sistēmas slimības | B17: 2675986 | D17: -0.10428571 | E17: =SUM(B17:D17) -> 2675985.9 | F17: 1929656.9 | H17: 9151 | I17: 210.87 | J17: =SUM(F17)/8*11+C17+D17-G17 -> 2653278.1 | K17: 242374 | L17: =J17-K17 -> 2410904.1 | P17: 241403.31 | Q17: =P17*$R$35/100 -> 78800.184 | R17: =Q17/I17 -> 373.69082
A18: Infekcijas un parazitāras slimības | B18: 20850519 | D18: -0.43 | E18: =SUM(B18:D18) -> 20850519 | F18: 14752778 | H18: 4694 | I18: 3142.9 | J18: =SUM(F18)/8*11+C18+D18-G18 -> 20285069 | K18: 1841082 | L18: =J18-K18 -> 18443987 | P18: 1699858 | Q18: =P18*$R$35/100 -> 554876.91 | R18: =Q18/I18 -> 176.54934
A19: Skeleta, muskuļu un saistaudu slimības | B19: 10357699 | D19: 0.48571429 | E19: =SUM(B19:D19) -> 10357699 | F19: 7513100.8 | H19: 36932 | I19: 203.43 | J19: =SUM(F19)/8*11+C19+D19-G19 -> 10330514 | K19: 935898 | L19: =J19-K19 -> 9394616.1 | P19: 999322.38 | Q19: =P19*$R$35/100 -> 326204.26 | R19: =Q19/I19 -> 1603.5209
A20: Iedzimtas kroplības, deformācijas un hromosomu anomālijas | B20: 145887 | D20: -0.19142857 | E20: =SUM(B20:D20) -> 145886.81 | F20: 106707.29 | H20: 53 | I20: 2013.35 | J20: =SUM(F20)/8*11+C20+D20-G20 -> 146722.33 | K20: 21473 | L20: =J20-K20 -> 125249.33 | P20: 13870.23 | Q20: =P20*$R$35/100 -> 4527.5961 | R20: =Q20/I20 -> 2.2487874
A21: Nervu sistēmas slimības | B21: 9671486 | C21: 3138910 | D21: 5524831.3 | E21: =SUM(B21:D21) -> 18335227 | F21: 11244363 | G21: =226352+1575908 -> 1802260 | H21: 28036 | I21: 401.07 | J21: =SUM(F21)/8*11+C21+D21-G21 -> 22322480 | K21: 1289179 | L21: =J21-K21 -> 21033301 | P21: 1575907.1 | Q21: =P21*$R$35/100 -> 514416.17 | R21: =Q21/I21 -> 1282.6094
A22: Psihiski un uzvedības traucējumi | B22: 4693624 | D22: 0.19428571 | E22: =SUM(B22:D22) -> 4693624.2 | F22: 3416038 | H22: 35844 | I22: 95.3 | J22: =SUM(F22)/8*11+C22+D22-G22 -> 4697052.4 | K22: 412348 | L22: =J22-K22 -> 4284704.4 | P22: 429186.24 | Q22: =P22*$R$35/100 -> 140097.31 | R22: =Q22/I22 -> 1470.0662
A23: Faktori, kas ietekmē veselību un saskari ar veselības aprūpes darbiniekiem | B23: 6832451 | C23: 703440 | D23: 1361268 | E23: =SUM(B23:D23) -> 8897159 | F23: 5987712.5 | H23: 32779 | I23: 182.67 | J23: =SUM(F23)/8*11+C23+D23-G23 -> 10297813 | K23: 775470 | L23: =J23-K23 -> 9522342.7 | P23: 750243.77 | Q23: =P23*$R$35/100 -> 244898.66 | R23: =Q23/I23 -> 1340.6616
A24: Uroģenitālās sistēmas slimības | B24: 5257027 | D24: 0.49428571 | E24: =SUM(B24:D24) -> 5257027.5 | F24: 3830684.9 | H24: 35764 | I24: 107.11 | J24: =SUM(F24)/8*11+C24+D24-G24 -> 5267192.3 | K24: 496068 | L24: =J24-K24 -> 4771124.3 | P24: 514208.06 | Q24: =P24*$R$35/100 -> 167850.6 | R24: =Q24/I24 -> 1567.0861
A25: Ievainojumi, saindēšanās un citas ārējas iedarbes sekas | B25: 85170 | D25: -0.095714286 | E25: =SUM(B25:D25) -> 85169.904 | F25: 61838.71 | H25: 684 | I25: 90.41 | J25: =SUM(F25)/8*11+C25+D25-G25 -> 85028.131 | K25: 7504 | L25: =J25-K25 -> 77524.131 | P25: 7639.68 | Q25: =P25*$R$35/100 -> 2493.786 | R25: =Q25/I25 -> 27.583077
A26: Grūtniecība, dzemdības un pēcdzemdību periods | B26: 175221 | D26: 0.34142857 | E26: =SUM(B26:D26) -> 175221.34 | F26: 130443.21 | H26: 1354 | I26: 96.34 | J26: =SUM(F26)/8*11+C26+D26-G26 -> 179359.76 | K26: 12542 | L26: =J26-K26 -> 166817.76 | P26: 18938.72 | Q26: =P26*$R$35/100 -> 6182.0802 | R26: =Q26/I26 -> 64.169402
A27: Noteikti perinatālā perioda stāvokļi | D27: 0 | E27: =SUM(B27:D27) -> 0 | J27: =SUM(F27)/8*11+C27+D27-G27 -> 0 | Q27: =P27*$R$35/100 -> 0
A28: Bērni līdz 2 gadu vecumam MB | B28: 351069 | D28: 0.32142857 | E28: =SUM(B28:D28) -> 351069.32 | F28: 240899.72 | H28: 15839 | I28: 15.21 | J28: =SUM(F28)/8*11+C28+D28-G28 -> 331237.44 | K28: 21319 | L28: =J28-K28 -> 309918.44 | P28: 17491.97 | Q28: =P28*$R$35/100 -> 5709.8242 | R28: =Q28/I28 -> 375.39935
A29: Grūtnieces un sievietes pēcdzemdību periodā MG | B29: 22061 | D29: -0.12285714 | E29: =SUM(B29:D29) -> 22060.877 | F29: 16422.13 | H29: 1431 | I29: 11.48 | J29: =SUM(F29)/8*11+C29+D29-G29 -> 22580.306 | K29: 2227 | L29: =J29-K29 -> 20353.306 | P29: 2383.39 | Q29: =P29*$R$35/100 -> 777.99915 | R29: =Q29/I29 -> 67.769961
A30: Individuālie pacienti | B30: 3692227 | D30: -1501177.2 | E30: =SUM(B30:D30) -> 2191049.8 | F30: 1593490.7 | H30: 715 | I30: 2228.65 | J30: =SUM(F30)/8*11+C30+D30-G30 -> 689872.51 | K30: 323361 | L30: =J30-K30 -> 366511.51 | Q30: =P30*$R$35/100 -> 0
A31: Atbalsta maksājums individuālām aptiekām | B31: 20000 | D31: -17928.04 | E31: =SUM(B31:D31) -> 2071.96 | F31: 1286.52 | J31: =SUM(F31)/8*11+C31+D31-G31 -> -16159.075 | L31: =J31-K31 -> -16159.075 | Q31: =P31*$R$35/100 -> 0
A32: Reto slimību ārstēšana | B32: 15025177 | D32: -477996.5 | E32: =SUM(B32:D32) -> 14547180 | F32: 8419667.9 | H32: 97 | I32: 86800.7 | J32: =SUM(F32)/8*11+C32+D32-G32 -> 11099047 | K32: 1569356 | L32: =J32-K32 -> 9529690.9 | P32: 1262371.2 | Q32: =P32*$R$35/100 -> 412070.09 | R32: 5
A34: Kopā | B34: =SUM(B9:B32) -> 230553429 | C34: =SUM(C9:C32) -> 15454401 | D34: =SUM(D9:D32) -> 14767486 | E34: =SUM(E9:E32) -> 2.6077532e+08 | F34: =SUM(F9:F32) -> 1.6923669e+08 | G34: =SUM(G9:G32) -> 2827861 | J34: =SUM(J9:J32) -> 2.6009448e+08 | K34: =SUM(K9:K33) -> 21755315 | L34: =SUM(L9:L32) -> 2.3833917e+08 | M34: =ROUNDUP(SUM(J34)-B38,0) -> -680835 | N34: =SUM(N9:N33) -> 0 | P34: =SUM(P9:P33) -> 22437803 | Q34: =SUM(Q9:Q33) -> 7324270 | R34: =SUM(R9:R33) -> 43906.445
R35: =$R$39/P34*100 -> 32.642545
A36: Izdevumos 230 553 429 euro ir iekļauti izdevumi, kurus tiek plānots segt no prognozētās pašu ieņēmumu pārpildes 8 816 069 euro apmērā (Veselības ministrija sniegs Finanšu ministrijai priekšlikumu par finanšu iestrādi 2023. gada valsts budžetā)
A38: RESURSI | B38: =SUM(B39:B46) -> 260775316
A39: Apakšprogramma 33.03.00 "Kompensējamo medikamentu un materiālu apmaksāšana" (Likums "Par valsts budžetu 2023.gadam") | B39: 219339382 | P39: avanss | R39: =6000000+1324270 -> 7324270
A40: Finanšu ministrijas 2023.gada 5.jūnija rīkojums Nr.156 “Par apropriācijas izmaiņām" | B40: 454435
A41: Finanšu ministrijas 2023.gada 3.jūlija rīkojums Nr.201 “Par apropriācijas izmaiņām" | B41: 1612936
A42: Apakšprogramma 33.19.00 “"Krievijas Federācijas militāro pensionāru veselības aprūpe” | B42: 330607
A43: Finanšu ministrijas 2023.gada 11.augusta rīkojums Nr.258“Par apropriācijas izmaiņām" kompensējamo medikamentu pieejamības nodrošināšanai | B43: 15454401
A44: Papildus piešķirtie līdzekļi | B44: 14767486
A45: Prognozēto pašu ieņēmumu pārpilde (Veselības ministrija sniegs Finanšu ministrijai priekšlikumu par finanšu iestrādi 2023. gada valsts budžetā) | B45: 5703474
A46: Prognozēto pašu ieņēmumu pārpilde (Veselības ministrija sniegs Finanšu ministrijai priekšlikumu par finanšu iestrādi 2023. gada valsts budžetā) | B46: 3112595
...

Sheet ES_EEZsaistības
M1: 1.2. pielikums
B2: Papildus nepieciešamais finnašejums, lai nodrošinātu daļēju apmaksu par Latvijas iedzīvotājiem sniegtajiem veselības aprūpes pakalpojumiem ES sociālā nodrošinājuma sistēmas ietvaros atbilstoši no ES un EEZ dalībvalstīm saņemtajiem rēķiniem
A4: Numurs | B4: Dok. datums | C4: Izpildes datums | D4: Apmaksas termiņš | E4: P.Kods | F4: K.Kods | G4: Valsts | H4: Rēķina summa, EUR* | I4: Rēķina summa valūtā | J4: Valūta | K4: Rēķina summa, EUR* | L4: Rēķinu summa, kuriem apamksas termiņš iestājas 31.12.2023., EUR* | M4: Rēķinu summa, kuriem apamksas termiņš līdz 31.12.2024., EUR*
A5: 2494(31.05.2019)_ | B5: 44459 | C5: 44459 | D5: 45005 | E5: ES_E127 | F5: 5133 | G5: Lielbritānija | H5: 1153211.8 | I5: 1022818.2 | J5: GBP | K5: 1153211.8 | L5: =SUM(H5) -> 1153211.8
A6: VBO/73/1072/TV_13.09.2021 | B6: 44463 | C6: 44463 | D6: 45007 | E6: ES_E125 | F6: 1324 | G6: Nīderlande | H6: 209322.48 | I6: 209322.48 | J6: EUR | K6: 209322.48 | L6: =SUM(H6) -> 209322.48
A7: 210550550222 (11.10.2021) | B7: 44484 | C7: 44484 | D7: 45027 | E7: ES_E125 | F7: 1336 | G7: Zviedrija | H7: 504156.94 | I7: 5607132.6 | J7: SEK | K7: 504156.94 | L7: =SUM(H7) -> 504156.94
A8: 367A0006211(03.11.21) | B8: 44733 | C8: 44733 | D8: 45054 | E8: ES_E125 | F8: 1326 | G8: Vācija | H8: 27745.69 | I8: 27745.69 | J8: EUR | K8: 27745.69 | L8: =SUM(H8) -> 27745.69
A9: 367A0006211_03.11.2021 | B9: 44529 | C9: 44529 | D9: 45054 | E9: ES_E125 | F9: 1326 | G9: Vācija | H9: 832532.74 | I9: 832532.74 | J9: EUR | K9: 832532.74 | L9: =SUM(H9) -> 832532.74
A10: VSO/2021-01212_25.11.2021 | B10: 44546 | C10: 44546 | D10: 45083 | E10: ES_E125 | F10: 1358 | G10: Igaunija | H10: 71625.83 | I10: 71625.83 | J10: EUR | K10: 71625.83 | L10: =SUM(H10) -> 71625.83
A11: LV/E127/2018_(29.11.2019) | B11: 44544 | C11: 44544 | D11: 45091 | E11: ES_E127 | F11: K-5719 | G11: ĪRIJA | H11: 339483.57 | I11: 339483.57 | J11: EUR | K11: 339483.57 | L11: =SUM(H11) -> 339483.57
A12: LV/E127/2018(29.11.2019) | B12: 45028 | C12: 45028 | D12: 45091 | E12: ES_E127 | F12: K-5719 | G12: ĪRIJA | H12: 16152.99 | I12: 16152.99 | J12: EUR | K12: 16152.99 | L12: =SUM(H12) -> 16152.99
A13: 2021-002(12.11.2021) | B13: 44557 | C13: 44557 | D13: 45091 | E13: ES_E125 | F13: K-0279 | G13: Dānija | H13: 287051.12 | I13: 2134655.7 | J13: DKK | K13: 287051.12 | L13: =SUM(H13) -> 287051.12
A14: 11071211MM2101E_17.12.21 | B14: 44561 | C14: 44561 | D14: 45097 | E14: ES_E125 | F14: 1334 | G14: Francija | H14: 186085.5 | I14: 186085.5 | J14: EUR | K14: 186085.5 | L14: =SUM(H14) -> 186085.5
A15: HU-LV/2021/3(20.12.2021) | B15: 44561 | C15: 44561 | D15: 45098 | E15: ES_E125 | F15: K-0268 | G15: Ungārija | H15: 217.36 | I15: 217.36 | J15: EUR | K15: 217.36 | L15: =SUM(H15) -> 217.36
A16: 5620/A135/20.2/20IN1/JA_2 | B16: 44561 | C16: 44561 | D16: 45098 | E16: ES_E125 | F16: K-0328 | G16: Beļģijas Karaliste | H16: 396058.29 | I16: 396058.29 | J16: EUR | K16: 396058.29 | L16: =SUM(H16) -> 396058.29
... A110: LV1S08000001722_30.06.22 | B110: 44750 | C110: 44750 | D110: 45290 | E110: ES_E125 | F110: 1326 | G110: Vācija | H110: 289.11 | I110: 289.11 | J110: EUR | K110: 289.11 | L110: =SUM(H110) -> 289.11
A111: LV/03/2022/00002_27.06.22 | B111: 44750 | C111: 44750 | D111: 45295 | E111: ES_E125 | F111: 5131 | G111: Vācija | H111: 25935.73 | I111: 25935.73 | J111: EUR | K111: 25935.73 | M111: =SUM(H111) -> 25935.73
A112: LV22061_30.06.2022 | B112: 44750 | C112: 44750 | D112: 45295 | E112: ES_E125 | F112: 1304 | G112: Šveice | H112: 60953.23 | I112: 60020.65 | J112: CHF | K112: 60953.23 | M112: =SUM(H112) -> 60953.23
A113: Int-Mal-212308_17.06.22 | B113: 44750 | C113: 44750 | D113: 45296 | E113: ES_E125 | F113: 5215 | G113: Luksemburga | H113: 6738.49 | I113: 6738.49 | J113: EUR | K113: 6738.49 | M113: =SUM(H113) -> 6738.49
A114: 5620/A135/21.2/020/CLA_22 | B114: 44768 | C114: 44768 | D114: 45296 | E114: ES_E125 | F114: K-0328 | G114: Beļģijas Karaliste | H114: 191368.27 | I114: 191368.27 | J114: EUR | K114: 191368.27 | M114: =SUM(H114) -> 191368.27
A115: 11071211MM2201E_07.07.22 | B115: 44756 | C115: 44756 | D115: 45298 | E115: ES_E125 | F115: 1334 | G115: Francija | H115: 211998.74 | I115: 211998.74 | J115: EUR | K115: 211998.74 | M115: =SUM(H115) -> 211998.74
A116: batch/2022/s1/00000072_07 | B116: 44756 | C116: 44756 | D116: 45298 | E116: ES_E125 | F116: 5180 | G116: Malta | H116: 5123.86 | I116: 5123.86 | J116: EUR | K116: 5123.86 | M116: =SUM(H116) -> 5123.86
A117: batch/2022/s2/00000072/07 | B117: 44830 | C117: 44830 | D117: 45298 | E117: ES_E125 | F117: 5180 | G117: Malta | H117: 93.2 | I117: 93.2 | J117: EUR | K117: 93.2 | M117: =SUM(H117) -> 93.2
A118: 15-07-2022 LV_19.07.22 | B118: 44770 | C118: 44770 | D118: 45310 | E118: ES_E125 | F118: K-0220 | G118: Kipra | H118: 445.67 | I118: 445.67 | J118: EUR | K118: 445.67 | M118: =SUM(H118) -> 445.67
A119: AT-LV/22-203 (20.07.2022) | B119: 44771 | C119: 44771 | D119: 45311 | E119: ES_E125 | F119: 1339 | G119: Austrija | H119: 82836.1 | I119: 82836.1 | J119: EUR | K119: 82836.1 | M119: =SUM(H119) -> 82836.1
A120: AT-LV/22-203_20.07.2022 | B120: 44771 | C120: 44771 | D120: 45311 | E120: ES_E125 | F120: 1339 | G120: Austrija | H120: 22374.62 | I120: 22374.62 | J120: EUR | K120: 22374.62 | M120: =SUM(H120) -> 22374.62
A121: 2312201_080_21.07.2022 | B121: 44774 | C121: 44774 | D121: 45312 | E121: ES_E125 | F121: 1296 | G121: Slovākija | H121: 1617.03 | I121: 1617.03 | J121: EUR | K121: 1617.03 | M121: =SUM(H121) -> 1617.03
A122: LV1S08000001922_22.07.22 | B122: 44775 | C122: 44775 | D122: 45313 | E122: ES_E125 | F122: 1326 | G122: Vācija | H122: 26485.5 | I122: 26485.5 | J122: EUR | K122: 26485.5 | M122: =SUM(H122) -> 26485.5
... A150: 6d858b89-69..(13.10.2022) | B150: 44855 | C150: 44855 | D150: 45395 | E150: ES_E125 | F150: 1297 | G150: Somija | H150: 2222 | I150: 2222 | J150: EUR | K150: 2222 | M150: =SUM(H150) -> 2222
A151: 1E-2022-10263_14.10.2022 | B151: 44862 | C151: 44862 | D151: 45396 | E151: ES_E125 | F151: 1337 | G151: Lietuva | H151: 1003005.3 | I151: 1003005.3 | J151: EUR | K151: =1003005.28 -> 1003005.3 | M151: =SUM(H151) -> 1003005.3
A152: LV/E127/2019(22.06.2020) | B152: 44872 | C152: 44872 | D152: 45399 | E152: ES_E127 | F152: K-5719 | G152: ĪRIJA | H152: 572837.09 | I152: 572837.09 | J152: EUR | K152: 547852.71 | M152: =SUM(H152) -> 572837.09
A153: 5620/A135/20.1/20/IN2/JA_ | B153: 44867 | C153: 44867 | D153: 45399 | E153: ES_E125 | F153: K-0328 | G153: Beļģijas Karaliste | H153: 51.49 | I153: 51.49 | J153: EUR | M153: =SUM(H153) -> 51.49
A154: 5620/A135/21.2/20/CLA_22- | B154: 44852 | C154: 44852 | D154: 45399 | E154: ES_E125 | F154: K-0328 | G154: Beļģijas Karaliste | H154: 237593.72 | I154: 237593.72 | J154: EUR | M154: =SUM(H154) -> 237593.72
A155: AT-LV/22-204_20.10.2022 | B155: 44867 | C155: 44867 | D155: 45402 | E155: ES_E125 | F155: 1339 | G155: Austrija | H155: 47383.89 | I155: 47383.89 | J155: EUR | M155: =SUM(H155) -> 47383.89
A156: LV1S08000002922/25.11.22 | B156: 45071 | C156: 45071 | D156: 45407 | E156: ES_E125 | F156: 1326 | G156: Vācija | H156: 2966.17 | I156: 2966.17 | J156: EUR | M156: =SUM(H156) -> 2966.17
A157: LV1S08000002622_27.10.22 | B157: 44881 | C157: 44881 | D157: 45409 | E157: ES_E125 | F157: 1326 | G157: Vācija | H157: 787627.14 | I157: 787627.14 | J157: EUR | M157: =SUM(H157) -> 787627.14
A158: LV1S08000002822_27.10.22 | B158: 44868 | C158: 44868 | D158: 45409 | E158: ES_E125 | F158: 1326 | G158: Vācija | H158: 309440.04 | I158: 309440.04 | J158: EUR | M158: =SUM(H158) -> 309440.04
A159: LV1S08000002722_27.10.22 | B159: 44868 | C159: 44868 | D159: 45409 | E159: ES_E125 | F159: 1326 | G159: Vācija | H159: 36878.88 | I159: 36878.88 | J159: EUR | M159: =SUM(H159) -> 36878.88
A160: LV/22_1/SHS_31.10.2022 | B160: 44886 | C160: 44886 | D160: 45412 | E160: ES_E125 | F160: 1353 | G160: ISLANDE | H160: 163410.17 | I160: 163410.17 | J160: EUR | M160: =SUM(H160) -> 163410.17
A161: LV/22_1/SHS__31.10.2022 | B161: 44909 | C161: 44909 | D161: 45412 | E161: ES_E125 | F161: 1353 | G161: ISLANDE | H161: 243.79 | I161: 243.79 | J161: EUR | M161: =SUM(H161) -> 243.79
...

Sheet laboratorijas
N1: 1.3. pielikums
B2: Līgumu izpilde 8 mēnešos un izpildes prognoze 33.15.00 apakšprogrammai "Laboratorisko izmeklējumu nodrošināšanai ambulatorajā aprūpē" 2023.gadā, euro
A3: Pakalpojuma programmas kods | B3: Pakalpojuma programmas nosaukums | C3: Līguma summa 2023.gadam atbilstoši budžetam (gada sākumā) | D3: Precizētā līguma summa 2023.gadam atbilstoši budžetam un FM rīkojumiem uz 05.10.2023. | E3: Līguma summa 8 mēnešos | F3: Veiktais darbs janvāris - marts | G3: Veiktais darbs aprīlis - augusts | H3: Veiktais darbs 8 mēnešos | I3: Pārstrāde 8 mēnešos | J3: Prognozētā izpilde 12 mēnešos, EUR | K3: Papildu nepieciešamais finansējums 2023.gadam decembra mēnesim (indikatīvs novērtējums) | L3: Naudas plūsmas prognoze 2023.gadam, EUR 11 mēnešiem un veiktie norēķini par 2022.gada decembri | M3: Naudas plūsma pret 2023.gadā ar papildu finansējumu bez uzkrātajām saistībām par 2022.gadu | N3: Indikatīvi prognozētās pārejošās saistības uz 2024.gadu norēķiniem par 2023.gada decembri
A5: AP53 | B5: AP53 - Laboratorijas pakalpojumi | C5: =32870596+202126 -> 33072722 | D5: =C5+8017532+3176637 -> 44266891 | E5: =SUM(C5)/12*8+C18+(C19/6*2) -> 31124892 | F5: 13575491 | G5: 18740109 | H5: =F5+G5 -> 32315599 | I5: =SUM(H5-E5) -> 1190707.1 | J5: =F5+(G5/5*9) -> 47307686 | K5: =J5-D5*1.013 -> 2465325.7 | L5: =ROUNDDOWN((F5+(G5/5*8)*1.01942983),0) -> 44142251 | M5: =L5+K5 -> 46607577 | N5: =SUM(J5-M5) -> 700109.58
A6: AP52 | B6: AP52 - Histoloģiskie izmeklējumi | C6: 3143628 | D6: =C6 -> 3143628 | E6: =SUM(C6)/12*8 -> 2095752 | F6: 924884.2 | G6: 1447719.1 | H6: =F6+G6 -> 2372603.3 | I6: =SUM(H6-E6) -> 276851.31 | J6: =F6+(G6/5*9) -> 3530778.6 | K6: =(J6-D6)*0.74 -> 286491.44 | L6: =F6+(G6/5*8) -> 3241234.8 | M6: =L6+K6 -> 3527726.2 | N6: =SUM(J6-M6) -> 3052.3795
A7: AP68 | B7: AP134 - Laboratoriskie izmeklējumi pacientiem ar ļaundabīgo audzēju | C7: 2267384 | D7: =C7 -> 2267384 | E7: =SUM(C7)/12*8 -> 1511589.3 | G7: 1365468 | H7: =F7+G7 -> 1365468 | I7: =SUM(H7-E7) -> -146121.3 | J7: =F7+(G7/5*9) -> 2457842.5 | K7: =J7-D7 -> 190458.45 | L7: =F7+(G7/5*8) -> 2184748.8 | M7: =L7+K7 -> 2375207.3 | N7: =SUM(J7-M7) -> 82635.152
B8: AP68 - Mutāciju noteikšana audzēju šūnās | C8: 412519 | D8: =C8 -> 412519 | E8: =SUM(C8)/12*8 -> 275012.67 | F8: 78405.78 | G8: 127576.94 | H8: =F8+G8 -> 205982.72 | I8: =SUM(H8-E8) -> -69029.947 | J8: =F8+(G8/5*9) -> 308044.27 | L8: =F8+(G8/5*8) -> 282528.88 | M8: =L8+K8 -> 282528.88 | N8: =SUM(J8-M8) -> 25515.388
B9: AP129 - HLA noteikšana transplantācijas pakalpojumiem | C9: 114255 | D9: =C9 -> 114255 | E9: =SUM(C9)/12*8 -> 76170 | F9: 34373.38 | G9: 54124.97 | H9: =F9+G9 -> 88498.35 | I9: =SUM(H9-E9) -> 12328.35 | J9: =F9+(G9/5*9) -> 131798.33 | K9: =J9-D9-6719 -> 10824.326 | L9: =F9+(G9/5*8) -> 120973.33 | M9: =L9+K9 -> 131797.66 | N9: =SUM(J9-M9) -> 0.668
B10: AP133 - Reto slimību laboratorā diagnostika | C10: 708077 | D10: =C10 -> 708077 | E10: =SUM(C10)/12*8 -> 472051.33 | F10: 80091.38 | G10: 271737.73 | H10: =F10+G10 -> 351829.11 | I10: =SUM(H10-E10) -> -120222.22 | J10: =F10+(G10/5*9) -> 569219.29 | L10: =F10+(G10/5*8) -> 514871.75 | M10: =L10+K10 -> 514871.75 | N10: =SUM(J10-M10) -> 54347.546
B11: AP71 - References laboratorijas pakalpojumi | C11: =4493329 -> 4493329 | D11: =C11 -> 4493329 | E11: =SUM(C11)/12*8 -> 2995552.7 | F11: =1007552+112076 -> 1119628 | G11: =1370791.36+186797 -> 1557588.4 | H11: =F11+G11 -> 2677216.4 | I11: =SUM(H11-E11) -> -318336.31 | J11: =F11+(G11/5*9) -> 3923287 | L11: =F11+(G11/5*8) -> 3611769.4 | M11: =L11+K11 -> 3611769.4 | N11: =SUM(J11-M11) -> 311517.67
B12: Norēķini par 2022.gada decembri | L12: 1307704.6
B13: Samazinājums pēc naudas plūsmas uz decembra norēķiniem
B14: KOPÄ | C14: =SUM(C5:C12) -> 44211914 | D14: =SUM(D5:D12) -> 55406083 | E14: =SUM(E5:E12) -> 38551020 | F14: =SUM(F5:F12) -> 15812874 | G14: =SUM(G5:G12) -> 23564324 | H14: =SUM(H5:H12) -> 39377197 | I14: =SUM(I5:I12) -> 826177.01 | J14: =SUM(J5:J12) -> 58228656 | K14: =ROUND(SUM(K5:K12),0) -> 2953100 | L14: =SUM(L5:L12) -> 55406083 | M14: =SUM(M5:M13) -> 57051478 | N14: =SUM(N5:N13) -> 1177178.4
B16: RESURSI | C16: =SUM(C17:C19) -> 55406083
B17: Apakšprogramma 33.15.00 "Laboratorisko izmeklējumu nodrošināšana ambulatorajā aprūpē" | C17: 44211914
B18: Programma 02.00.00 "Līdzekļi neparedzētiem gadījumiem" - par 2023.gada 1.pusgadā faktiski sniegtajiem pakalpojumiem (FM 21.09.2023. rīkojums Nr.318) | C18: 8017532
B19: Programma 02.00.00 "Līdzekļi neparedzētiem gadījumiem" - par 2023. gada jūliju- decembri | C19: 3176637
B22: Papildu prognozējamais piešķirtais finansējums 2023.gadā | C22: =SUM(C18+C19+K14+N14) -> 15324447

Sheet sava
K1: 1.4. pielikums
A2: Papildus nepieciešamais finansējums pakalpojuma pieejamības uzlabošanai 2023.gadam
A4: Pakalpojumu programmas nosaukums | B4: Līguma summa 2023.gadam | C4: Līgums uz periodu 2023.gada janvāris-augusts | D4: Veiktais darbs uz periodu 2023.gada janvāris-augusts | E4: Papildus finansējuma apjoms, EUR | F4: Vidējais rindu gaidīšanas garums | G4: Viena izmeklējuma vidējā izmaksa 2023.gadam VALSTĪ, EUR | H4: Pacienta līdzmaksājuma kompensācija 2023.gadam, EUR, VALSTĪ | I4: Papildus plānotais izmeklējumu/ manipulāciju skaits skaits | J4: Papildus plānotā pacientu līdzmaksājuma kompensācija | K4: Pavisam kopā papildus nepieciešamais finansējums 2023. gadā
A5: KOPĀ | B5: =SUM(B6:B23) -> 79090335 | C5: =SUM(C6:C23) -> 53936809 | D5: =SUM(D6:D23) -> 52353246 | E5: =SUM(E6:E23) -> 4354499.3 | I5: =SUM(I6:I23) -> 137220 | J5: =SUM(J6:J23) -> 197896 | K5: =ROUND(SUM(K6:K23),0) -> 4552395
A6: Ķirurģiskie pakalpojumi oftalmoloģijas dienas stacionārā | B6: 12539885 | C6: 8447733.1 | D6: 7748843.9 | E6: =G6*I6 -> 355895.25 | F6: 239 | G6: 490.89 | H6: 0.01466 | I6: 725 | J6: =ROUND(E6*H6,0) -> 5217 | K6: =E6+J6 -> 361112.25
A7: Tiesu psihiatriskā un psiholoģiskā ekspertīze | B7: 546875 | C7: 368587.26 | D7: 360306.25 | E7: =G7*I7 -> 16555.95 | F7: 147 | G7: 367.91 | H7: 0.00066 | I7: 45 | J7: =ROUND(E7*H7,0) -> 11 | K7: =E7+J7 -> 16566.95
A8: Rehabilitācija dienas stacionārā pieaugušajiem | B8: 8565229 | C8: 5965275.8 | D8: 5685056.2 | E8: =G8*I8 -> 449171.7 | F8: 145.21053 | G8: 92.1 | H8: 0.03731 | I8: 4877 | J8: =ROUND(E8*H8,0) -> 16759 | K8: =E8+J8 -> 465930.7
A9: Rehabilitācija dienas stacionārā bērniem | B9: 2624884 | C9: 1735501.8 | D9: 1915909.8 | E9: =G9*I9 -> 63484.8 | F9: 145.21053 | G9: 93.36 | H9: 0.79944 | I9: 680 | J9: =ROUND(E9*H9,0) -> 50752 | K9: =E9+J9 -> 114236.8
A10: Dienas stacionārs hronisko sāpju pacientu ārstēšanai | B10: 253742 | C10: 175165 | D10: 186072.31 | E10: =G10*I10 -> 40031.28 | F10: 141 | G10: 155.16 | H10: 0.01475 | I10: 258 | J10: =ROUND(E10*H10,0) -> 590 | K10: =E10+J10 -> 40621.28
A11: Neiroelektrofizioloģiskie funkcionālie izmeklējumi | B11: 1319351 | C11: 896855.08 | D11: 901240.87 | E11: =G11*I11 -> 85585.8 | F11: 137.625 | G11: 63.87 | H11: 0.02595 | I11: 1340 | J11: =ROUND(E11*H11,0) -> 2221 | K11: =E11+J11 -> 87806.8
A12: Kodolmagnētiskās rezonanse | B12: 8422529 | C12: 5767311.8 | D12: 5732639 | E12: =G12*I12 -> 868765.8 | F12: 131.55 | G12: 137.55 | H12: 0.0473 | I12: 6316 | J12: =ROUND(E12*H12,0) -> 41093 | K12: =E12+J12 -> 909858.8
A13: Doplerogrāfija | B13: 3684548 | C13: 2462719 | D13: 2378150.9 | E13: =G13*I13 -> 195920.63 | F13: 117.2359 | G13: 30.23 | H13: 0.02758 | I13: 6481 | J13: =ROUND(E13*H13,0) -> 5403 | K13: =E13+J13 -> 201323.63
A14: Endokrinoloģija | B14: 4316181 | C14: 2849856.8 | D14: 2676959.6 | E14: =G14*I14 -> 159875.42 | F14: 109.19726 | G14: 27.07 | H14: 0.04925 | I14: 5906 | J14: =ROUND(E14*H14,0) -> 7874 | K14: =E14+J14 -> 167749.42
A15: Gastrointestinālās endoskopijas dienas stacionārā | B15: 2787068 | C15: 1931161 | D15: 1943481.5 | E15: =G15*I15 -> 137952.19 | F15: 105.26316 | G15: 247.67 | H15: 0.00958 | I15: 557 | J15: =ROUND(E15*H15,0) -> 1322 | K15: =E15+J15 -> 139274.19
A16: Reimatoloģija | B16: 651734 | C16: 442497.67 | D16: 436906.81 | E16: =G16*I16 -> 63716.79 | F16: 96.9 | G16: 34.99 | H16: 0.11577 | I16: 1821 | J16: =ROUND(E16*H16,0) -> 7376 | K16: =E16+J16 -> 71092.79
A17: Rehabilitācijas pakalpojumi pieaugušajiem | B17: 8690356 | C17: 6069038.6 | D17: 6127164.6 | E17: =G17*I17 -> 754216.56 | F17: 90.852383 | G17: 15.48 | H17: 0.00435 | I17: 48722 | J17: =ROUND(E17*H17,0) -> 3281 | K17: =E17+J17 -> 757497.56
... A23: Kardioloģija | B23: 2255015 | C23: 1480716 | D23: 1322974.8 | E23: =G23*I23 -> 53141.6 | F23: 77.115942 | G23: 29.36 | H23: 0.08651 | I23: 1810 | J23: =ROUND(E23*H23,0) -> 4597 | K23: =E23+J23 -> 57738.6
A1308: Kolonoskopija ar narkozi 46 dienas

Sheet gazmaskas
F1: 1.5. pielikums
B2: Papildus nepieciešamais finansējums, lai nodrošinātu gāzmasku iegādi aizsardzībai pret ķīmisko, bioloģisko, radioloģisko un kodolenerģijas apdraudējumu.
B4: Nosaukums | C4: Mērvienība | D4: Plānotās piegādes | E4: Plānotā cena ar PVN par 1 vienību, euro | F4: Plānotā summa ar PVN, euro
B5: Pilna sejas aizsargmaska (atkārtojami lietojama, dažādu veidu) | C5: gabals | D5: 400 | E5: 76.5 | F5: =D5*E5 -> 30600
