Workbook

Sheet KOPĀ MARTS
E1: 5.pielikums
A2: Līdzekļu izlietojums par Ukrainas civiliedzīvotājiem sniegtajiem veselības aprūpes pakalpojumiem 2026.gada martā, euro
A3: Pakalpojumi | B3: Izdevumi 2026.gada martā | C3: EKK 3000 | D3: EKK 7460 | E3: Budžeta apakšprogramma
A4: Līdzekļu izlietojums ambulatorajai ārstēšanai paredzēto zāļu un medicīnisko ierīču iegādes izdevumu kompensācijai diagnožu grupu un diagnožu griezumā 135.pacientu grupai | B4: =C4 -> 0 | E4: 33.03.00
A5: Parenterālo C saraksta zāļu izlietojums | B5: =C5 -> 22598.72 | C5: ='Parent C saraksts'!F6 -> 22598.72 | E5: 33.03.00
A6: Līdzekļu izlietojums ambulatorajai ārstēšanai paredzēto zāļu un medicīnisko ierīču iegādes izdevumu kompensācijai individuāliem pacientiem | B6: =C6 -> 6374.03 | C6: =Individ!P10 -> 6374.03 | E6: 33.03.00
A7: Centralizēta medikamentu un materiālu iegāde Ukrainas civiliedzīvotājiem (Fenilketonūrija,peritoneālā dialīze, redzes korekcija) | B7: =C7 -> 8227.67 | C7: =CM!D9 -> 8227.67 | E7: 33.04.00
A8: Centralizēti iepērkamo parenterāli ievadāmo zāļu onkoloģisko saslimšanu ārstēšanai izlietojums Ukrainas civiliedzīvotājiem | B8: =C8 -> 32.91 | C8: ='CM-parent.ONKO'!C8 -> 32.91 | E8: 33.04.00
A9: Prettuberkulozes medikamenti - ambulators | B9: =C9 -> 58.32 | C9: ='Tuberk medik AMB'!D15 -> 58.32 | E9: 33.16.00
A10: Prettuberkulozes medikamenti - stacionārs | B10: =C10 -> 0 | E10: 33.21.00
A11: Glikozes monitorēšanas sistēmu aprīkojuma un piederumu izlietojums | B11: =C11 -> 1136.7 | C11: =glikozes!F10 -> 1136.7 | E11: 33.21.00
A12: Insulīna ievadīšanas ierīču (insulīna sūkņu) un to piederumu (katetru un rezervuāru) izlietojums | B12: =C12 -> 0 | E12: 33.21.00
A13: Medicīniskās pārtikas izlietojums | B13: =C13 -> 0 | E13: 33.21.00
A14: Medicīniskās palīdzības nodrošināšana stacionārās ārstniecības iestādēs | B14: =C14 -> 448837.65 | C14: =STAC!D204 -> 448837.65 | E14: 33.21.00
A15: Pacientu nogādāšana no stacionārās ārstniecības iestādes uz citu stacionāro ārstniecības iestādi | B15: =C15 -> 4179.62 | C15: =transports!D7 -> 4179.62 | E15: 33.21.00
A16: Līdzekļu izlietojums par Ukrainas civiliedzīvotājiem sniegtajiem ambulatorās veselības aprūpes pakalpojumiem | B16: =SUM(B17:B20) -> 143370.11 | C16: =SUM(C17:C20) -> 143356.91 | D16: =SUM(D17:D20) -> 13.2
A17: Primārās ambulatorās veselības aprūpes nodrošināšana | B17: =SUM(C17:D17) -> 49304.05 | C17: =PVA!L3 -> 49290.85 | D17: =PVA!M3 -> 13.2 | E17: 33.16.00
A18: Zobārstniecība | B18: =SUM(C18:D18) -> 4202.42 | C18: =ZOB!H4 -> 4202.42 | E18: 33.14.00
A19: Laboratorisko izmeklējumu nodrošināšana ambulatorajā aprūpē | B19: =SUM(C19:D19) -> 8899.33 | C19: =LAB!K3 -> 8899.33 | E19: 33.16.00
A20: Sekundāro ambulatoro veselības aprūpes pakalpojumu nodrošināšana | B20: =SUM(C20:D20) -> 80964.31 | C20: =SAVA!L3 -> 80964.31 | E20: 33.16.00
A22: KOPĀ | B22: =SUM(B4:B16)+B21 -> 634815.73 | C22: =SUM(C4:C16)+C21 -> 634802.53 | D22: =SUM(D4:D16) -> 13.2
C24: =C4+C5+C6 -> 28972.75 | D24: EKK 3000 | E24: 33.03.00
C25: =C7+C8 -> 8260.58 | D25: EKK 3000 | E25: 33.04.00
C26: =C18 -> 4202.42 | D26: EKK 3000 | E26: 33.14.00
C27: =C9+C13+C17+C19+C20 -> 139212.81 | D27: EKK 3000 | E27: 33.16.00
C28: =D17+D20 -> 13.2 | D28: EKK 7460
C29: =C11+C12+C14+C15+C21+C10 -> 454153.97 | D29: EKK 3000 | E29: 33.21.00
C32: =C28 -> 13.2 | D32: =D28 -> EKK 7460
C33: =C24+C25+C26+C27+C29 -> 634802.53 | D33: =D29 -> EKK 3000
C34: =C33+C32 -> 634815.73 | D34: pavisam kopā

Sheet Individ
A2: Līdzekļu izlietojums ambulatorajai ārstēšanai paredzēto zāļu un medicīnisko ierīču iegādes izdevumu kompensācijai individuāliem pacientiem UA iedzīvotājiem (bēgļiem) marts 2026.gads
A3: N.p.k. | B3: P.I. | C3: Aptieka | D3: Rindas Nr. | E3: Rindas nosaukums | F3: Diagnoze | G3: Rēķina Nr. | H3: Rēķina datums | I3: Zāļu izsniegšanas datums | J3: Atprečoto zāļu nosaukums | K3: Zāļu viena iepakojuma cena | L3: Atprečoto zāļu daudzums (iepak.) | M3: Recepšu skaits | N3: Farmaceita pakalpojuma apmaksa | O3: Unikālo pacientu skaits | P3: Kopējās zāļu un farmaceita pakalpojuma izmaksas (euro)
A4: 1 | B4: S.Y. | C4: AS “SENTOR FARM APTIEKAS” Mēness aptieka 7 | D4: 3 | E4: Asins un asinsrades orgānu slimības un imūnsistēmas traucējumi | F4: D69.3 | G4: S2866-000035 | H4: 13.03.2026. | I4: 13.03.2026. | J4: Rituximabum 500mg/50ml koncentrāts infūziju šķīduma pagatavošanai N1 | K4: 405.13 | L4: 1 | M4: 1 | N4: 1.5 | O4: 1 | P4: =ROUND((L4*K4)+N4,2) -> 406.63
A5: 2 | B5: S.Y. | C5: AS “SENTOR FARM APTIEKAS” Mēness aptieka 7 | D5: 3 | E5: Asins un asinsrades orgānu slimības un imūnsistēmas traucējumi | F5: D69.3 | G5: S2866-000035 | H5: 13.03.2026. | I5: 13.03.2026. | J5: Rituximabum 100mg/10ml koncentrāts infūziju šķīduma pagatavošanai N2 | K5: 163.73 | L5: 1.5 | M5: 1 | N5: 1.5 | O5: 1 | P5: =ROUND((L5*K5)+N5,2) -> 247.1
A6: 3 | B6: S.Y. | C6: AS “SENTOR FARM APTIEKAS” Mēness aptieka 7 | D6: 3 | E6: Asins un asinsrades orgānu slimības un imūnsistēmas traucējumi | F6: D69.3 | G6: S2866-000038 | H6: 20.03.2026. | I6: 20.03.2026. | J6: Rituximabum 500mg/50ml koncentrāts infūziju šķīduma pagatavošanai N1 | K6: 405.13 | L6: 3 | M6: 1 | N6: 1.5 | O6: 1 | P6: =ROUND((L6*K6)+N6,2) -> 1216.89
A7: 4 | B7: S.Y. | C7: AS “SENTOR FARM APTIEKAS” Mēness aptieka 7 | D7: 3 | E7: Asins un asinsrades orgānu slimības un imūnsistēmas traucējumi | F7: D69.3 | G7: S2866-000038 | H7: 20.03.2026. | I7: 20.03.2026. | J7: Rituximabum 100mg/10ml koncentrāts infūziju šķīduma pagatavošanai N2 | K7: 163.73 | L7: 4.5 | M7: 1 | N7: 1.5 | O7: 1 | P7: =ROUND((L7*K7)+N7,2) -> 738.29
A8: 5 | B8: H.V. | C8: AS “SENTOR FARM APTIEKAS” Mēness aptieka 184 | D8: 7 | E8: Elpošanas sistēmas slimības | F8: J82 | G8: SA376-000005 | H8: 23.03.2026. | I8: 23.03.2026. | J8: Nucala 100mg N1 | K8: 1262.87 | L8: 1 | M8: 1 | N8: 0.75 | O8: 1 | P8: =(L8*K8)+N8 -> 1263.62
A9: 6 | B9: A.R. | C9: AS “SENTOR FARM APTIEKAS” Mēness aptieka 125 | D9: 5 | E9: Audzēji | F9: C73 | G9: S2366-000007 | H9: 26.03.2026. | I9: 26.03.2026. | J9: Cabometyx 60mg apvalkotas tabletes N30 | K9: 4428.59 | L9: 1 | M9: 1 | N9: 1.5 | O9: 0 | P9: =2500+N9 -> 2501.5
A10: PAVISAM KOPĀ: | O10: 3 | P10: =SUM(P4:P9) -> 6374.03

Sheet Parent C saraksts
A2: Parenterālo C saraksta zāļu izlietojums UA iedzīvotājiem (bēgļiem) 2026.gada marts. RAKUS
A3: N.p.k. | B3: Atprečoto zāļu nosaukums | C3: Zāļu viena iepakojuma cena | D3: Atprečoto zāļu daudzums (iepak.) | E3: Unikālo pacientu skaits | F3: Kopējās zāļu izmaksas (euro)
A4: 1 | B4: Phesgo 600mg/600mg inj.šķīd. 10ml; N1 (oriģ/1) - ONKO. | C4: 3045.68 | D4: 4 | E4: 3 | F4: 12182.72
A5: 2 | B5: Enhertu 100 mg pulv. inf. šķīd. pag. N1 | C5: 5208 | D5: 2 | E5: 1 | F5: 10416
C6: PAVISAM KOPĀ | F6: =SUM(F4:F5) -> 22598.72

Sheet CM
A1: Centralizēta medikamentu un materiālu iegāde Ukrainas civiliedzīvotājiem
A3: Periods : 2026.gada marts
A5: Pasākums | B5: Piegādātājs | C5: Pacientu skaits | D5: Pavadzīmju summa, EUR | E5: Pavadzīmju Nr.
A6: Fenilketonūrijas un citu iedzimto vielmaiņas slimību korekcijas produkti | B6: SIA "Oribalt Rīga" | C6: 2 | D6: =4766.4+141.39 -> 4907.79 | E6: NVD-5/2-2026-2026-03-31
A7: Fenilketonūrijas un citu iedzimto vielmaiņas slimību korekcijas produkti | B7: SIA "Tamro" | C7: 2 | D7: =107.09+3212.79 -> 3319.88 | E7: 20250030
A8: Enterālās un parenterālās barošanas līdzekļi | B8: AS "Recipe Plus"
A9: KOPĀ | D9: =SUM(D6:D8) -> 8227.67

Sheet CM-parent.ONKO
A1: Centralizēti iepērkamo parenterāli ievadāmo zāļu onkoloģisko saslimšanu ārstēšanai izlietojums Ukrainas civiliedzīvotājiem
A3: Periods : 2026.gada marts
A5: Ārstniecības iestāde | B5: Pacientu skaits | C5: Izdevumi ar PVN, EUR
A6: Paula Stradiņa klīniskā universitātes slimnīca | B6: 2 | C6: 32.91
A7: Liepājas reģionālā slimnīca | B7: 0 | C7: 0
A8: KOPĀ : | B8: =B6+B7 -> 2 | C8: =C6+C7 -> 32.91

Sheet Tuberk medik AMB
A2: Prettuberkulozes medikamenti - ambulators
A4: B.P. 02269
A5: marts, 2026
A6: Medikamentu, ārstnieciskās pārtikas, terapijas, medicīnas ierīču un/ vai materiālu nosaukums | B6: Vienas vienības cena EUR (ar PVN) | C6: Izlietotais daudzums/ skaits | D6: Summa
A7: Amiobutols 400mg | B7: 0.118533 | C7: 60 | D7: =B7*C7 -> 7.11198
A8: Benemicin 300 mg caps | B8: 0.232849 | C8: 30 | D8: =B8*C8 -> 6.98547
A9: Eremfat 150 mg apv. tabl. | B9: 1.12 | C9: 30 | D9: =B9*C9 -> 33.6
A10: Isozid 300 mg | B10: 0.35391835 | C10: 30 | D10: =B10*C10 -> 10.61755
A11: Kopā: | D11: =SUM(D7:D10) -> 58.315
D15: 58.32

Sheet glikozes
A2: Pārskats par glikozes monitorēšanas sistēmu aprīkojuma un piederumu izlietojumu
A4: Pārskata periods (mēnesis) 2026.gada marts
A6: Nr. p. k. | B6: Ierīces/ piederumu izsniegšanas datums | C6: Ierīces/ piederumu nosaukums | D6: Cena par vienu vienību (ar PVN), EUR | E6: Izsniegto ierīču/ piederumu vienību skaits | F6: Summa , EUR
A7: 1 | B7: 46083 | C7: Dexcom One+ Sensor Kit | D7: 42.1 | E7: 9 | F7: =D7*E7 -> 378.9
A8: 2 | B8: 46087 | C8: Dexcom One+ Sensor Kit | D8: 42.1 | E8: 9 | F8: =D8*E8 -> 378.9
A9: 3 | B9: 46110 | C9: Dexcom One+ Sensor Kit | D9: 42.1 | E9: 9 | F9: =D9*E9 -> 378.9
A10: KOPĀ | F10: =SUM(F7:F9) -> 1136.7

Sheet STAC
A1: Pakalpojumi Ukrainas iedzīvotājiem saistībā ar KF militāro konfliktu 2026.gada martu
A3: Ārsniecības iestādes nosaukums | B3: Uzskaites dokumenta Nr. | C3: Pielikuma Nr. | D3: Mēnesis | E3: Apmaksāto gultas dienu skaits | F3: Kartes summa, EUR | G3: Valsts kompensētais pacienta līdzmaksājums, EUR | H3: Kopsumma, EUR
A4: Alūksnes slimnīca, Sabiedrība ar ierobežotu atbildību | B4: 003972026 | C4: 0 | D4: 3 | E4: 3 | F4: 404.9 | G4: 0 | H4: 404.9
A5: Alūksnes slimnīca, Sabiedrība ar ierobežotu atbildību | B5: 004062026 | C5: 0 | D5: 3 | E5: 7 | F5: 809.08 | G5: 0 | H5: 809.08
A6: Alūksnes slimnīca, Sabiedrība ar ierobežotu atbildību | B6: 004092026 | C6: 0 | D6: 3 | E6: 6 | F6: 700.61 | G6: 0 | H6: 700.61
A7: Bauskas slimnīca, SIA | B7: 002492026 | C7: 0 | D7: 3 | E7: 8 | F7: 867.76 | G7: 0 | H7: 867.76
A8: Bērnu klīniskā universitātes slimnīca, Valsts sabiedrība ar ierobežotu atbildību | B8: 020502026 | C8: 0 | D8: 3 | E8: 13 | F8: 3128.02 | G8: 130 | H8: 3258.02
A9: Bērnu klīniskā universitātes slimnīca, Valsts sabiedrība ar ierobežotu atbildību | B9: 020742026 | C9: 0 | D9: 3 | E9: 11 | F9: 5420.32 | G9: 110 | H9: 5530.32
A10: Bērnu klīniskā universitātes slimnīca, Valsts sabiedrība ar ierobežotu atbildību | B10: 021902026 | C10: 0 | D10: 3 | E10: 7 | F10: 843.33 | G10: 70 | H10: 913.33
A11: Bērnu klīniskā universitātes slimnīca, Valsts sabiedrība ar ierobežotu atbildību | B11: 022022026 | C11: 0 | D11: 3 | E11: 11 | F11: 1201.83 | G11: 110 | H11: 1311.83
A12: Bērnu klīniskā universitātes slimnīca, Valsts sabiedrība ar ierobežotu atbildību | B12: 022982026 | C12: 0 | D12: 3 | E12: 4 | F12: 433.88 | G12: 40 | H12: 473.88
A13: Bērnu klīniskā universitātes slimnīca, Valsts sabiedrība ar ierobežotu atbildību | B13: 023662026 | C13: 0 | D13: 3 | E13: 2 | F13: 277.25 | G13: 20 | H13: 297.25
A14: Bērnu klīniskā universitātes slimnīca, Valsts sabiedrība ar ierobežotu atbildību | B14: 024012026 | C14: 0 | D14: 3 | E14: 2 | F14: 345.34 | G14: 20 | H14: 365.34
A15: Bērnu klīniskā universitātes slimnīca, Valsts sabiedrība ar ierobežotu atbildību | B15: 024292026 | C15: 0 | D15: 3 | E15: 4 | F15: 833.31 | G15: 47 | H15: 880.31
... A72: Rehabilitācijas centrs "Līgatne", SIA | B72: 000022026 | C72: 0 | D72: 3 | E72: 64 | F72: 8480.18 | G72: 96 | H72: 8576.18
A73: Rehabilitācijas centrs "Līgatne", SIA | B73: 000032026 | C73: 0 | D73: 3 | E73: 43 | F73: 5198.38 | G73: 64.5 | H73: 5262.88
A74: Rehabilitācijas centrs "Līgatne", SIA | B74: 000052026 | C74: 0 | D74: 3 | E74: 10 | F74: 1264.92 | G74: 15 | H74: 1279.92
A75: Rehabilitācijas centrs "Līgatne", SIA | B75: 000092026 | C75: 0 | D75: 3 | E75: 7 | F75: 779.98 | G75: 46152 | H75: 790.48
A76: Rehabilitācijas centrs "Līgatne", SIA | B76: 000502025 | C76: 0 | D76: 3 | E76: 101 | F76: 12551.42 | G76: 151.5 | H76: 12702.92
A77: Rehabilitācijas centrs "Līgatne", SIA | B77: 000582025 | C77: 0 | D77: 3 | E77: 94 | F77: 11657.08 | G77: 141 | H77: 11798.08
A78: RĒZEKNES SLIMNĪCA, Sabiedrība ar ierobežotu atbildību | B78: 015452026 | C78: 0 | D78: 3 | E78: 9 | F78: 1056.75 | G78: 0 | H78: 1056.75
A79: RĒZEKNES SLIMNĪCA, Sabiedrība ar ierobežotu atbildību | B79: 016802026 | C79: 0 | D79: 3 | E79: 6 | F79: 1911.15 | G79: 60 | H79: 1971.15
A80: RĒZEKNES SLIMNĪCA, Sabiedrība ar ierobežotu atbildību | B80: 020682026 | C80: 0 | D80: 3 | E80: 2 | F80: 284.51 | G80: 0 | H80: 284.51
A81: RĒZEKNES SLIMNĪCA, Sabiedrība ar ierobežotu atbildību | B81: 021812026 | C81: 0 | D81: 3 | E81: 3 | F81: 391.15 | G81: 30 | H81: 421.15
A82: RĒZEKNES SLIMNĪCA, Sabiedrība ar ierobežotu atbildību | B82: 023612026 | C82: 0 | D82: 3 | E82: 6 | F82: 1518.58 | G82: 91 | H82: 1609.58
A83: Rīgas Austrumu klīniskā universitātes slimnīca, SIA | B83: 093532026 | C83: 0 | D83: 3 | E83: 25 | F83: 9481.56 | G83: 271 | H83: 9752.56
A84: Rīgas Austrumu klīniskā universitātes slimnīca, SIA | B84: 095072026 | C84: 0 | D84: 3 | E84: 7 | F84: 1795.71 | G84: 98 | H84: 1893.71
A85: Rīgas Austrumu klīniskā universitātes slimnīca, SIA | B85: 095352026 | C85: 0 | D85: 3 | E85: 7 | F85: 2346.8 | G85: 70 | H85: 2416.8
A86: Rīgas Austrumu klīniskā universitātes slimnīca, SIA | B86: 104152026 | C86: 0 | D86: 3 | E86: 20 | F86: 3429.04 | G86: 0 | H86: 3429.04
A87: Rīgas Austrumu klīniskā universitātes slimnīca, SIA | B87: 105782026 | C87: 0 | D87: 3 | E87: 7 | F87: 835.53 | G87: 0 | H87: 835.53
A88: Rīgas Austrumu klīniskā universitātes slimnīca, SIA | B88: 107692026 | C88: 0 | D88: 3 | E88: 15 | F88: 1685.24 | G88: 0 | H88: 1685.24
... A176: Ziemeļkurzemes reģionālā slimnīca, SIA | B176: 017192026 | C176: 0 | D176: 3 | E176: 2 | F176: 216.94 | G176: 20 | H176: 236.94
H177: =SUM(H4:H176) -> 448837.65
A178: Ārsniecības iestādes nosaukums | B178: Kartes summa, EUR | C178: Valsts kompensētais pacienta līdzmaksājums, EUR | D178: Kopsumma, EUR
A179: Alūksnes slimnīca, Sabiedrība ar ierobežotu atbildību | B179: 1914.59 | C179: 0 | D179: 1914.59
A180: Bauskas slimnīca, SIA | B180: 867.76 | C180: 0 | D180: 867.76
A181: Bērnu klīniskā universitātes slimnīca, Valsts sabiedrība ar ierobežotu atbildību | B181: 27101.31 | C181: 1002 | D181: 28103.31
A182: CĒSU KLĪNIKA, Sabiedrība ar ierobežotu atbildību | B182: 919.09 | C182: 0 | D182: 919.09
A183: Daugavpils psihoneiroloģiskā slimnīca, Valsts sabiedrība ar ierobežotu atbildību | B183: 2442.59 | C183: 130 | D183: 2572.59
A184: Daugavpils reģionālā slimnīca, Sabiedrība ar ierobežotu atbildību | B184: 9788.9 | C184: 514 | D184: 10302.9
...

Sheet transports
A2: Pacientu nogādāšana UKR - Ukrainas militārpersonu (personas, kas atbilst 135. un 145. pacientu grupas kritērijiem) no stacionārās ārstniecības iestādes uz citu stacionāro ārstniecības iestādi
A3: Pakalpojuma programmas nosaukums | B3: Ārstniecības iestādes nosaukums | C3: Piemaksājamo manipulāciju veids | D3: 2026.gada marts
A4: Pacientu transportēšanas izmaksas | B4: Rīgas Austrumu klīniskā universitātes slimnīca | C4: Pacientu transportēšanas izmaksas - ukraiņi | D4: 219.98
A5: Pacientu transportēšanas izmaksas | B5: Sanare KRC Jaunķemeri | C5: Pacientu transportēšanas izmaksas - ukraiņi | D5: 1099.9
A6: Pacientu transportēšanas izmaksas | B6: Līgatne, rehabilitācijas centrs | C6: Pacientu transportēšanas izmaksas - ukraiņi | D6: 2859.74
B7: KOPĀ | D7: =SUM(D4:D6) -> 4179.62

Sheet PVA
A1: Veikto pakalpojumu summa pacientu grupām 135 - "Ukrainas iedzīvotājs, kurš izceļo no Ukrainas saistībā ar Krievijas Federācijas izraisīto militāro konfliktu tajā, vai kurš atrodas Latvijas Republikā un nevar atgriezties Ukrainā minētā konflikta laikā" par 2026.gada marta rēķinos iekļautiem ambulatorajiem taloniem - PVA
A2: NVD TN (pakalpojuma sniedzēja) | B2: ĀI (pakalpojumu sniedzēja) kods | C2: ĀI (pakalpojumu sniedzēja) nosaukums | D2: Periods | E2: EP/MP | F2: Manipulācijas kods | G2: Manipulācijas nosaukums | H2: Manipulāciju/epizožu skaits | I2: Pakalpojumu summa, euro | J2: Valsts pacienta iemaksas kompensācija, euro | K2: Valsts izmaksas, euro | L2: EKK 3000 | M2: EKK 7460
A3: KOPĀ | H3: =SUM(H4:H1270) -> 5885 | I3: =SUM(I4:I1270) -> 47056.6 | J3: =SUM(J4:J1270) -> 2247.45 | K3: =SUM(K4:K1270) -> 49304.05 | L3: =SUM(L4:L1270) -> 49290.85 | M3: =SUM(M4:M1270) -> 13.2
A4: NVD Kurzemes nodaļa | B4: 005000018 | C4: Zahidas Butajevas ģimenes ārsta prakse, SIA | D4: 2026-03 | E4: EP | F4: - | H4: 19 | I4: 165.49 | J4: 11 | K4: 176.49 | L4: =K4 -> 176.49
A5: NVD Kurzemes nodaļa | B5: 005000018 | C5: Zahidas Butajevas ģimenes ārsta prakse, SIA | D5: 2026-03 | E5: MP | F5: 01068 | G5: Piemaksa ģimenes ārstam par katru patvēruma meklētāja vai ārzemnieka, kurš izceļo no Ukrainas militāro konfliktu dēļ, apmeklējumu | H5: 20 | I5: 185.8 | J5: 0 | K5: 185.8 | L5: =K5 -> 185.8
A6: NVD Kurzemes nodaļa | B6: 005000044 | C6: Ineses Flaksas ģimenes ārsta prakse, SIA | D6: 2026-03 | E6: EP | F6: - | H6: 1 | I6: 8.71 | J6: 0 | K6: 8.71 | L6: =K6 -> 8.71
A7: NVD Kurzemes nodaļa | B7: 005000044 | C7: Ineses Flaksas ģimenes ārsta prakse, SIA | D7: 2026-03 | E7: MP | F7: 01068 | G7: Piemaksa ģimenes ārstam par katru patvēruma meklētāja vai ārzemnieka, kurš izceļo no Ukrainas militāro konfliktu dēļ, apmeklējumu | H7: 1 | I7: 9.29 | J7: 0 | K7: 9.29 | L7: =K7 -> 9.29
A8: NVD Kurzemes nodaļa | B8: 005000045 | C8: Dr. Eihleres prakse, SIA | D8: 2026-03 | E8: EP | F8: - | H8: 15 | I8: 130.65 | J8: 5 | K8: 135.65 | L8: =K8 -> 135.65
A9: NVD Kurzemes nodaļa | B9: 005000045 | C9: Dr. Eihleres prakse, SIA | D9: 2026-03 | E9: MP | F9: 01018 | G9: Konsultācija pirms vakcinācijas | H9: 4 | I9: 16.24 | J9: 0 | K9: 16.24 | L9: =K9 -> 16.24
A10: NVD Kurzemes nodaļa | B10: 005000045 | C10: Dr. Eihleres prakse, SIA | D10: 2026-03 | E10: MP | F10: 01061 | G10: Bērnu profilaktiskās apskates, ko veic ģimenes ārsts | H10: 2 | I10: 23.36 | J10: 0 | K10: 23.36 | L10: =K10 -> 23.36
A11: NVD Kurzemes nodaļa | B11: 005000045 | C11: Dr. Eihleres prakse, SIA | D11: 2026-03 | E11: MP | F11: 01068 | G11: Piemaksa ģimenes ārstam par katru patvēruma meklētāja vai ārzemnieka, kurš izceļo no Ukrainas militāro konfliktu dēļ, apmeklējumu | H11: 25 | I11: 232.25 | J11: 0 | K11: 232.25 | L11: =K11 -> 232.25
A12: NVD Kurzemes nodaļa | B12: 005000045 | C12: Dr. Eihleres prakse, SIA | D12: 2026-03 | E12: MP | F12: 03081 | G12: Vakcīnas ievade | H12: 4 | I12: 5 | J12: 0 | K12: 5 | L12: =K12 -> 5
A13: NVD Kurzemes nodaļa | B13: 005000045 | C13: Dr. Eihleres prakse, SIA | D13: 2026-03 | E13: MP | F13: 60036 | G13: Maksājums ģimenes ārstam par pacienta vecumā no 65 gadiem attālinātu konsultāciju darba dienā | H13: 2 | I13: 2 | J13: 0 | K13: 2 | L13: =K13 -> 2
A14: NVD Kurzemes nodaļa | B14: 007000004 | C14: Sabiedrība ar ierobežotu atbildību Anitas Ņevzorovas doktorāts | D14: 2026-03 | E14: EP | F14: - | H14: 2 | I14: 17.42 | J14: 0 | K14: 17.42 | L14: =K14 -> 17.42
A15: NVD Kurzemes nodaļa | B15: 007000004 | C15: Sabiedrība ar ierobežotu atbildību Anitas Ņevzorovas doktorāts | D15: 2026-03 | E15: MP | F15: 01068 | G15: Piemaksa ģimenes ārstam par katru patvēruma meklētāja vai ārzemnieka, kurš izceļo no Ukrainas militāro konfliktu dēļ, apmeklējumu | H15: 4 | I15: 37.16 | J15: 0 | K15: 37.16 | L15: =K15 -> 37.16
A16: NVD Kurzemes nodaļa | B16: 033000012 | C16: Daces Sudrabas ģimenes ārsta prakse, SIA | D16: 2026-03 | E16: EP | F16: - | H16: 2 | I16: 17.42 | J16: 0 | K16: 17.42 | L16: =K16 -> 17.42
A17: NVD Kurzemes nodaļa | B17: 046000004 | C17: Brocēnu doktorāts, SIA | D17: 2026-03 | E17: EP | F17: - | H17: 5 | I17: 43.55 | J17: 0 | K17: 43.55 | L17: =K17 -> 43.55
A18: NVD Kurzemes nodaļa | B18: 046000004 | C18: Brocēnu doktorāts, SIA | D18: 2026-03 | E18: MP | F18: 41095 | G18: Glikoze asinīs | H18: 1 | I18: 1.15 | J18: 0 | K18: 1.15 | L18: =K18 -> 1.15
A19: NVD Kurzemes nodaļa | B19: 051000001 | C19: Kociņa Ginta - ģimenes ārsta prakse | D19: 2026-02 | E19: EP | F19: - | H19: 1 | I19: 8.71 | J19: 4 | K19: 12.71 | L19: =K19 -> 12.71
A20: NVD Kurzemes nodaļa | B20: 051000001 | C20: Kociņa Ginta - ģimenes ārsta prakse | D20: 2026-03 | E20: EP | F20: - | H20: 1 | I20: 8.71 | J20: 2 | K20: 10.71 | L20: =K20 -> 10.71
A21: NVD Kurzemes nodaļa | B21: 052000014 | C21: doktorāts Skuja, SIA | D21: 2026-01 | E21: EP | F21: - | H21: 2 | I21: 17.42 | J21: 0 | K21: 17.42 | L21: =K21 -> 17.42
A22: NVD Kurzemes nodaļa | B22: 052000014 | C22: doktorāts Skuja, SIA | D22: 2026-03 | E22: EP | F22: - | H22: 17 | I22: 148.07 | J22: 2 | K22: 150.07 | L22: =K22 -> 150.07
A23: NVD Kurzemes nodaļa | B23: 052000014 | C23: doktorāts Skuja, SIA | D23: 2026-01 | E23: MP | F23: 01068 | G23: Piemaksa ģimenes ārstam par katru patvēruma meklētāja vai ārzemnieka, kurš izceļo no Ukrainas militāro konfliktu dēļ, apmeklējumu | H23: 2 | I23: 18.58 | J23: 0 | K23: 18.58 | L23: =K23 -> 18.58
A24: NVD Kurzemes nodaļa | B24: 052000014 | C24: doktorāts Skuja, SIA | D24: 2026-03 | E24: MP | F24: 01068 | G24: Piemaksa ģimenes ārstam par katru patvēruma meklētāja vai ārzemnieka, kurš izceļo no Ukrainas militāro konfliktu dēļ, apmeklējumu | H24: 17 | I24: 157.93 | J24: 0 | K24: 157.93 | L24: =K24 -> 157.93
A25: NVD Kurzemes nodaļa | B25: 170000017 | C25: Tatjanas Kosovas ģimenes ārsta prakse, SIA | D25: 2026-02 | E25: EP | F25: - | H25: 1 | I25: 8.71 | J25: 2 | K25: 10.71 | L25: =K25 -> 10.71
A26: NVD Kurzemes nodaļa | B26: 170000017 | C26: Tatjanas Kosovas ģimenes ārsta prakse, SIA | D26: 2026-03 | E26: EP | F26: - | H26: 15 | I26: 130.65 | J26: 13 | K26: 143.65 | L26: =K26 -> 143.65
A27: NVD Kurzemes nodaļa | B27: 170000017 | C27: Tatjanas Kosovas ģimenes ārsta prakse, SIA | D27: 2026-02 | E27: MP | F27: 01068 | G27: Piemaksa ģimenes ārstam par katru patvēruma meklētāja vai ārzemnieka, kurš izceļo no Ukrainas militāro konfliktu dēļ, apmeklējumu | H27: 4 | I27: 37.16 | J27: 0 | K27: 37.16 | L27: =K27 -> 37.16
A28: NVD Kurzemes nodaļa | B28: 170000017 | C28: Tatjanas Kosovas ģimenes ārsta prakse, SIA | D28: 2026-02 | E28: MP | F28: 60035 | G28: Maksājums ģimenes ārstam par pacienta vecumā līdz 65 gadiem attālinātu konsultāciju darba dienā | H28: 20 | I28: 40 | J28: 0 | K28: 40 | L28: =K28 -> 40
A29: NVD Kurzemes nodaļa | B29: 170000017 | C29: Tatjanas Kosovas ģimenes ārsta prakse, SIA | D29: 2026-02 | E29: MP | F29: 60036 | G29: Maksājums ģimenes ārstam par pacienta vecumā no 65 gadiem attālinātu konsultāciju darba dienā | H29: 16 | I29: 16 | J29: 0 | K29: 16 | L29: =K29 -> 16
A30: NVD Kurzemes nodaļa | B30: 170000017 | C30: Tatjanas Kosovas ģimenes ārsta prakse, SIA | D30: 2026-03 | E30: MP | F30: 01061 | G30: Bērnu profilaktiskās apskates, ko veic ģimenes ārsts | H30: 3 | I30: 35.04 | J30: 0 | K30: 35.04 | L30: =K30 -> 35.04
A31: NVD Kurzemes nodaļa | B31: 170000017 | C31: Tatjanas Kosovas ģimenes ārsta prakse, SIA | D31: 2026-03 | E31: MP | F31: 01068 | G31: Piemaksa ģimenes ārstam par katru patvēruma meklētāja vai ārzemnieka, kurš izceļo no Ukrainas militāro konfliktu dēļ, apmeklējumu | H31: 19 | I31: 176.51 | J31: 0 | K31: 176.51 | L31: =K31 -> 176.51
A32: NVD Kurzemes nodaļa | B32: 170000017 | C32: Tatjanas Kosovas ģimenes ārsta prakse, SIA | D32: 2026-03 | E32: MP | F32: 03081 | G32: Vakcīnas ievade | H32: 1 | I32: 1.25 | J32: 0 | K32: 1.25 | L32: =K32 -> 1.25
A33: NVD Kurzemes nodaļa | B33: 170000017 | C33: Tatjanas Kosovas ģimenes ārsta prakse, SIA | D33: 2026-03 | E33: MP | F33: 06085 | G33: Digitālo artēriju pulsa pierakstīšana vai spiediena mērīšana | H33: 28 | I33: 115.64 | J33: 8 | K33: 123.64 | L33: =K33 -> 123.64
A34: NVD Kurzemes nodaļa | B34: 170000017 | C34: Tatjanas Kosovas ģimenes ārsta prakse, SIA | D34: 2026-03 | E34: MP | F34: 20013 | G34: Lielas brūces primārā apdare. Dzīstošu brūču pārsiešana (garums lielāks par 5 cm, virsma lielāka par 10 cm2, tilpums lielāks par 3 cm3) | H34: 1 | I34: 12.36 | J34: 0 | K34: 12.36 | L34: =K34 -> 12.36
A35: NVD Kurzemes nodaļa | B35: 170000017 | C35: Tatjanas Kosovas ģimenes ārsta prakse, SIA | D35: 2026-03 | E35: MP | F35: 41095 | G35: Glikoze asinīs | H35: 8 | I35: 9.2 | J35: 0 | K35: 9.2 | L35: =K35 -> 9.2
A36: NVD Kurzemes nodaļa | B36: 170000017 | C36: Tatjanas Kosovas ģimenes ārsta prakse, SIA | D36: 2026-03 | E36: MP | F36: 60035 | G36: Maksājums ģimenes ārstam par pacienta vecumā līdz 65 gadiem attālinātu konsultāciju darba dienā | H36: 31 | I36: 62 | J36: 0 | K36: 62 | L36: =K36 -> 62
A37: NVD Kurzemes nodaļa | B37: 170000017 | C37: Tatjanas Kosovas ģimenes ārsta prakse, SIA | D37: 2026-03 | E37: MP | F37: 60036 | G37: Maksājums ģimenes ārstam par pacienta vecumā no 65 gadiem attālinātu konsultāciju darba dienā | H37: 42 | I37: 42 | J37: 0 | K37: 42 | L37: =K37 -> 42
A38: NVD Kurzemes nodaļa | B38: 170000170 | C38: Ribakova Tatjana - ģimenes ārsta prakse | D38: 2026-03 | E38: EP | F38: - | H38: 45 | I38: 391.95 | J38: 40 | K38: 431.95 | L38: =K38 -> 431.95
A39: NVD Kurzemes nodaļa | B39: 170000170 | C39: Ribakova Tatjana - ģimenes ārsta prakse | D39: 2026-03 | E39: MP | F39: 01061 | G39: Bērnu profilaktiskās apskates, ko veic ģimenes ārsts | H39: 3 | I39: 35.04 | J39: 0 | K39: 35.04 | L39: =K39 -> 35.04
A40: NVD Kurzemes nodaļa | B40: 170000170 | C40: Ribakova Tatjana - ģimenes ārsta prakse | D40: 2026-03 | E40: MP | F40: 01068 | G40: Piemaksa ģimenes ārstam par katru patvēruma meklētāja vai ārzemnieka, kurš izceļo no Ukrainas militāro konfliktu dēļ, apmeklējumu | H40: 64 | I40: 594.56 | J40: 0 | K40: 594.56 | L40: =K40 -> 594.56
...

Sheet ZOB
A1: Veikto pakalpojumu summa zobārstniecībā 135. grupai par 2026.gada martā ievadītiem taloniem
A2: "135 - Ukrainas iedzīvotājs, kurš izceļo no Ukrainas saistībā ar Krievijas Federācijas izraisīto militāro konfliktu tajā, vai kurš atrodas Latvijas Republikā un nevar atgriezties Ukrainā minētā konflikta laikā." Zobārstniecības pakalpojumi sniegti bērniem vecumā līdz 18 gadiem
A3: NVD TN | B3: Ārstniecības iestādes kods | C3: Ārstniecības iestādes nosaukums | D3: Rēķina nr. | E3: Manipulāciju kods | F3: Tarifs, EUR | G3: Manipulāciju skaits | H3: Pakalpojumu summa, EUR
A4: KOPĀ | G4: =SUM(G5:G171) -> 423 | H4: =SUM(H5:H171) -> 4202.42
A5: NVD Latgales nodaļa | B5: 50024301 | C5: Daugavpils zobārstniecības poliklīnika, Sabiedrība ar ierobežotu atbildību | D5: 1526ZP010071 | E5: 70001 | F5: =H5/G5 -> 4.52 | G5: 3 | H5: 13.56
A6: NVD Latgales nodaļa | B6: 50024301 | C6: Daugavpils zobārstniecības poliklīnika, Sabiedrība ar ierobežotu atbildību | D6: 1526ZP010071 | E6: 70002 | F6: =H6/G6 -> 12.29 | G6: 1 | H6: 12.29
A7: NVD Latgales nodaļa | B7: 50024301 | C7: Daugavpils zobārstniecības poliklīnika, Sabiedrība ar ierobežotu atbildību | D7: 1526ZP010071 | E7: 70101 | F7: =H7/G7 -> 6.41 | G7: 1 | H7: 6.41
A8: NVD Latgales nodaļa | B8: 50024301 | C8: Daugavpils zobārstniecības poliklīnika, Sabiedrība ar ierobežotu atbildību | D8: 1526ZP010071 | E8: 70251 | F8: =H8/G8 -> 31.7 | G8: 1 | H8: 31.7
A9: NVD Latgales nodaļa | B9: 50024301 | C9: Daugavpils zobārstniecības poliklīnika, Sabiedrība ar ierobežotu atbildību | D9: 1526ZP010071 | E9: 70252 | F9: =H9/G9 -> 36.95 | G9: 1 | H9: 36.95
A10: NVD Latgales nodaļa | B10: 50024301 | C10: Daugavpils zobārstniecības poliklīnika, Sabiedrība ar ierobežotu atbildību | D10: 1526ZP010071 | E10: 70258 | F10: =H10/G10 -> 12.77 | G10: 1 | H10: 12.77
A11: NVD Latgales nodaļa | B11: 50024301 | C11: Daugavpils zobārstniecības poliklīnika, Sabiedrība ar ierobežotu atbildību | D11: 1526ZP010071 | E11: 70401 | F11: =H11/G11 -> 9.54 | G11: 1 | H11: 9.54
A12: NVD Latgales nodaļa | B12: 50024301 | C12: Daugavpils zobārstniecības poliklīnika, Sabiedrība ar ierobežotu atbildību | D12: 1526ZP010071 | E12: 70901 | F12: =H12/G12 -> 1.43 | G12: 1 | H12: 1.43
A13: NVD Latgales nodaļa | B13: 50024301 | C13: Daugavpils zobārstniecības poliklīnika, Sabiedrība ar ierobežotu atbildību | D13: 1526ZP010071 | E13: 70903 | F13: =H13/G13 -> 3.84 | G13: 1 | H13: 3.84
A14: NVD Latgales nodaļa | B14: 210020301 | C14: RĒZEKNES SLIMNĪCA, Sabiedrība ar ierobežotu atbildību | D14: 1526ZP010079 | E14: 70001 | F14: =H14/G14 -> 4.52 | G14: 7 | H14: 31.64
A15: NVD Latgales nodaļa | B15: 210020301 | C15: RĒZEKNES SLIMNĪCA, Sabiedrība ar ierobežotu atbildību | D15: 1526ZP010079 | E15: 70003 | F15: =H15/G15 -> 6.09 | G15: 1 | H15: 6.09
A16: NVD Latgales nodaļa | B16: 210020301 | C16: RĒZEKNES SLIMNĪCA, Sabiedrība ar ierobežotu atbildību | D16: 1526ZP010079 | E16: 70101 | F16: =H16/G16 -> 6.41 | G16: 1 | H16: 6.41
... A171: NVD Zemgales nodaļa | B171: 406477201 | C171: Brants Egils - ārsta prakse zobārstniecībā | D171: 1326ZP010120 | E171: 70904 | F171: =H171/G171 -> 5.11 | G171: 1 | H171: 5.11

Sheet LAB
A1: Veikto pakalpojumu summa pacientu grupām 135 - "Ukrainas iedzīvotājs, kurš izceļo no Ukrainas saistībā ar Krievijas Federācijas izraisīto militāro konfliktu tajā, vai kurš atrodas Latvijas Republikā un nevar atgriezties Ukrainā minētā konflikta laikā" par 2026.gada marta rēķinos iekļautiem ambulatorajiem taloniem - Laboratoriskie izmeklējumi
A2: NVD TN (pakalpojuma sniedzēja) | B2: ĀI (pakalpojumu sniedzēja) kods | C2: ĀI (pakalpojumu sniedzēja) nosaukums | D2: Periods | E2: EP/MP | F2: Manipulācijas kods | G2: Manipulācijas nosaukums | H2: Manipulāciju/epizožu skaits | I2: Pakalpojumu summa, euro | J2: Valsts pacienta iemaksas kompensācija, euro | K2: Valsts izmaksas, euro
A3: KOPĀ | H3: =SUM(H4:H380) -> 2565 | I3: =SUM(I4:I380) -> 8899.33 | J3: =SUM(J4:J380) -> 0 | K3: =SUM(K4:K380) -> 8899.33
A4: NVD Rīgas nodaļa | B4: 010000234 | C4: Rīgas Austrumu klīniskā universitātes slimnīca, SIA | D4: 2026-03 | E4: MP | F4: 40002 | G4: Seruma (plazmas) iegūšana | H4: 1 | I4: 0.55 | J4: 0 | K4: 0.55
A5: NVD Rīgas nodaļa | B5: 010000234 | C5: Rīgas Austrumu klīniskā universitātes slimnīca, SIA | D5: 2026-03 | E5: MP | F5: 40004 | G5: Asins ņemšana ar slēgtu sistēmu divos stobriņos | H5: 1 | I5: 1.67 | J5: 0 | K5: 1.67
A6: NVD Rīgas nodaļa | B6: 010000234 | C6: Rīgas Austrumu klīniskā universitātes slimnīca, SIA | D6: 2026-03 | E6: MP | F6: 40016 | G6: Eritrocītu grimšanas ātrums, izmantojot speciālo ņemšanas komplektu (seditainers u. c.) | H6: 1 | I6: 0.76 | J6: 0 | K6: 0.76
A7: NVD Rīgas nodaļa | B7: 010000234 | C7: Rīgas Austrumu klīniskā universitātes slimnīca, SIA | D7: 2026-03 | E7: MP | F7: 40042 | G7: Pilna asins aina (hemoglobīns, eritrocīti, leikocīti, trombocīti, hematokrīts, leikocītu formula (vismaz neitrofīli, eozinofīli, bazofīli, limfocīti, monocīti)). Papildus nenorādīt manipulācijas 40010, 40014 | H7: 7 | I7: 27.51 | J7: 0 | K7: 27.51
A8: NVD Rīgas nodaļa | B8: 010000234 | C8: Rīgas Austrumu klīniskā universitātes slimnīca, SIA | D8: 2026-03 | E8: MP | F8: 40042U | G8: Pilna asins aina (hemoglobīns, eritrocīti, leikocīti, trombocīti, hematokrīts, leikocītu formula (vismaz neitrofīli, eozinofīli, bazofīli, limfocīti, monocīti)). Papildus nenorādīt manipulācijas 40010, 40014 | H8: 16 | I8: 76.32 | J8: 0 | K8: 76.32
A9: NVD Rīgas nodaļa | B9: 010000234 | C9: Rīgas Austrumu klīniskā universitātes slimnīca, SIA | D9: 2026-03 | E9: MP | F9: 40086 | G9: Protrombīns, protrombīna komplekss un INR | H9: 1 | I9: 1.87 | J9: 0 | K9: 1.87
A10: NVD Rīgas nodaļa | B10: 010000234 | C10: Rīgas Austrumu klīniskā universitātes slimnīca, SIA | D10: 2026-03 | E10: MP | F10: 40086U | G10: Protrombīns, protrombīna komplekss un INR | H10: 9 | I10: 25.11 | J10: 0 | K10: 25.11
A11: NVD Rīgas nodaļa | B11: 010000234 | C11: Rīgas Austrumu klīniskā universitātes slimnīca, SIA | D11: 2026-03 | E11: MP | F11: 40087U | G11: Aktivētais parciālais tromboplastīna laiks (APTL) | H11: 5 | I11: 16.15 | J11: 0 | K11: 16.15
A12: NVD Rīgas nodaļa | B12: 010000234 | C12: Rīgas Austrumu klīniskā universitātes slimnīca, SIA | D12: 2026-03 | E12: MP | F12: 40088 | G12: Fibrinogēns | H12: 2 | I12: 6.46 | J12: 0 | K12: 6.46
A13: NVD Rīgas nodaļa | B13: 010000234 | C13: Rīgas Austrumu klīniskā universitātes slimnīca, SIA | D13: 2026-03 | E13: MP | F13: 40123U | G13: D-dimēri (kvantitatīvi) | H13: 4 | I13: 33.56 | J13: 0 | K13: 33.56
A14: NVD Rīgas nodaļa | B14: 010000234 | C14: Rīgas Austrumu klīniskā universitātes slimnīca, SIA | D14: 2026-03 | E14: MP | F14: 40148 | G14: Urīna analīze ar teststrēmeli (9-10 parametri) | H14: 6 | I14: 10.32 | J14: 0 | K14: 10.32
A15: NVD Rīgas nodaļa | B15: 010000234 | C15: Rīgas Austrumu klīniskā universitātes slimnīca, SIA | D15: 2026-03 | E15: MP | F15: 40190 | G15: Materiāla (nagi, āda, mati) izmeklēšana uz sēnītēm | H15: 2 | I15: 10 | J15: 0 | K15: 10
... A380: NVD Zemgales nodaļa | B380: 460200036 | C380: Dobeles un apkārtnes slimnīca, SIA | D380: 2026-03 | E380: MP | F380: 41127U | G380: CRO (kvantitatīvi) | H380: 1 | I380: 2.91 | J380: 0 | K380: 2.91

Sheet SAVA
A1: Veikto pakalpojumu summa pacientu grupām 135 - "Ukrainas iedzīvotājs, kurš izceļo no Ukrainas saistībā ar Krievijas Federācijas izraisīto militāro konfliktu tajā, vai kurš atrodas Latvijas Republikā un nevar atgriezties Ukrainā minētā konflikta laikā" par 2026.gada marta rēķinos iekļautiem ambulatorajiem taloniem - SAVA
A2: NVD TN (pakalpojuma sniedzēja) | B2: ĀI (pakalpojumu sniedzēja) kods | C2: ĀI (pakalpojumu sniedzēja) nosaukums | D2: Periods | E2: EP/MP | F2: Manipulācijas kods | G2: Manipulācijas nosaukums | H2: Manipulāciju/epizožu skaits | I2: Pakalpojumu summa, euro | J2: Valsts pacienta iemaksas kompensācija, euro | K2: Valsts izmaksas, euro | L2: EKK 3000 | M2: EKK 7460
A3: KOPĀ | H3: =SUM(H4:H1476) -> 5922 | I3: =SUM(I4:I1476) -> 77237.31 | J3: =SUM(J4:J1476) -> 3727 | K3: =SUM(K4:K1476) -> 80964.31 | L3: =SUM(L4:L1476) -> 80964.31 | M3: =SUM(M4:M1476) -> 0
A4: NVD Kurzemes nodaļa | B4: 005000025 | C4: Ķuda Ingūna - vecmātes prakse | D4: 2026-03 | E4: MP | F4: 01029 | G4: Vecmātes veikta pirmreizēja vai atkārtota grūtnieces vai nedēļnieces apskate (atbilstoši Ministru kabineta 2006. gada 25. jūlija noteikumiem Nr. 611 "Dzemdību palīdzības nodrošināšanas kārtība") | H4: 1 | I4: 21.08 | J4: 0 | K4: 21.08 | L4: =K4 -> 21.08
A5: NVD Kurzemes nodaļa | B5: 005000025 | C5: Ķuda Ingūna - vecmātes prakse | D5: 2026-03 | E5: MP | F5: 06042 | G5: Doplerogrāfiskās manipulācijas grūtnieces un augļa izmeklēšanā | H5: 1 | I5: 14.99 | J5: 0 | K5: 14.99 | L5: =K5 -> 14.99
A6: NVD Kurzemes nodaļa | B6: 170000010 | C6: Vēvere Inga - ārsta prakse ginekoloģijā, dzemdniecībā | D6: 2026-03 | E6: MP | F6: 01083 | G6: Materiāla paņemšana bakterioloģiskiem uzsējumiem seksuāli transmisīvo slimību diagnostikai | H6: 1 | I6: 4.21 | J6: 0 | K6: 4.21 | L6: =K6 -> 4.21
A7: NVD Kurzemes nodaļa | B7: 170000010 | C7: Vēvere Inga - ārsta prakse ginekoloģijā, dzemdniecībā | D7: 2026-03 | E7: MP | F7: 60484 | G7: SAVA speciālista atkārtota konsultācija klātienē, t.sk. dokumentācijas aizpildīšana | H7: 3 | I7: 46.5 | J7: 0 | K7: 46.5 | L7: =K7 -> 46.5
A8: NVD Kurzemes nodaļa | B8: 170000162 | C8: Pavlovska Ina - ārsta prakse otolaringoloģijā | D8: 2026-03 | E8: EP | F8: - | H8: 2 | I8: 29.48 | J8: 4 | K8: 33.48 | L8: =K8 -> 33.48
A9: NVD Kurzemes nodaļa | B9: 170000162 | C9: Pavlovska Ina - ārsta prakse otolaringoloģijā | D9: 2026-03 | E9: MP | F9: 04101 | G9: Virsmas anestēzija rīkles, balsenes, bronhu rajonam, dziļākiem deguna rajoniem, bungādiņai, bungu dobumam vai urīnvadam un urīnpūslim | H9: 2 | I9: 19.28 | J9: 0 | K9: 19.28 | L9: =K9 -> 19.28
A10: NVD Kurzemes nodaļa | B10: 170000162 | C10: Pavlovska Ina - ārsta prakse otolaringoloģijā | D10: 2026-03 | E10: MP | F10: 18115 | G10: Sēra korķu izņemšana, arī abpusēja | H10: 2 | I10: 14.8 | J10: 0 | K10: 14.8 | L10: =K10 -> 14.8
A11: NVD Kurzemes nodaļa | B11: 170000162 | C11: Pavlovska Ina - ārsta prakse otolaringoloģijā | D11: 2026-03 | E11: MP | F11: 18135 | G11: Bungādiņas un/vai bungu dobuma izmeklēšana ar binokulārmikroskopiju. Norāda vienu reizi apmeklējuma laikā | H11: 2 | I11: 19.04 | J11: 0 | K11: 19.04 | L11: =K11 -> 19.04
A12: NVD Kurzemes nodaļa | B12: 170000162 | C12: Pavlovska Ina - ārsta prakse otolaringoloģijā | D12: 2026-03 | E12: MP | F12: 18284 | G12: Timpanometrija ar impedances mērīšanu, bungādiņas dzirdes skriemeļu aparāta kustīguma noteikšana ar grafisku līknes ceļa attēlošanu (vienpusēji vai abpusēji) | H12: 1 | I12: 16.46 | J12: 0 | K12: 16.46 | L12: =K12 -> 16.46
A13: NVD Kurzemes nodaļa | B13: 170000192 | C13: Ilzes Lagzdiņas ārsta prakse ENDO, SIA | D13: 2026-03 | E13: EP | F13: - | H13: 1 | I13: 26.76 | J13: 0 | K13: 26.76 | L13: =K13 -> 26.76
A14: NVD Kurzemes nodaļa | B14: 170010601 | C14: Piejūras slimnīca, Valsts sabiedrība ar ierobežotu atbildību | D14: 2026-02 | E14: EP | F14: - | H14: 1 | I14: 0 | J14: 4 | K14: 4 | L14: =K14 -> 4
A15: NVD Kurzemes nodaļa | B15: 170010601 | C15: Piejūras slimnīca, Valsts sabiedrība ar ierobežotu atbildību | D15: 2026-03 | E15: EP | F15: - | H15: 1 | I15: 0 | J15: 4 | K15: 4 | L15: =K15 -> 4
A16: NVD Kurzemes nodaļa | B16: 170010601 | C16: Piejūras slimnīca, Valsts sabiedrība ar ierobežotu atbildību | D16: 2026-02 | E16: MP | F16: 55108 | G16: Intensīvs multiprofesionāls rehabilitācijas pakalpojums dienas stacionārā (3-4 stundas), ko nodrošina 1-2 speciālisti | H16: 17 | I16: 1466.59 | J16: 0 | K16: 1466.59 | L16: =K16 -> 1466.59
A17: NVD Kurzemes nodaļa | B17: 170010601 | C17: Piejūras slimnīca, Valsts sabiedrība ar ierobežotu atbildību | D17: 2026-02 | E17: MP | F17: 60124 | G17: Pacienta ārstēšanās psihiatrijas dienas stacionārā ar papildus piemaksu psihiatram par darbu, strādājot ar pacientiem ar garīgiem un psihiskiem traucējumiem | H17: 44 | I17: 1323.08 | J17: 308 | K17: 1631.08 | L17: =K17 -> 1631.08
A18: NVD Kurzemes nodaļa | B18: 170010601 | C18: Piejūras slimnīca, Valsts sabiedrība ar ierobežotu atbildību | D18: 2026-03 | E18: MP | F18: 60124 | G18: Pacienta ārstēšanās psihiatrijas dienas stacionārā ar papildus piemaksu psihiatram par darbu, strādājot ar pacientiem ar garīgiem un psihiskiem traucējumiem | H18: 5 | I18: 150.35 | J18: 35 | K18: 185.35 | L18: =K18 -> 185.35
A19: NVD Kurzemes nodaļa | B19: 170020401 | C19: LIEPĀJAS REĢIONĀLĀ SLIMNĪCA, Sabiedrība ar ierobežotu atbildību | D19: 2026-02 | E19: EP | F19: - | H19: 1 | I19: 17.49 | J19: 16 | K19: 33.49 | L19: =K19 -> 33.49
A20: NVD Kurzemes nodaļa | B20: 170020401 | C20: LIEPĀJAS REĢIONĀLĀ SLIMNĪCA, Sabiedrība ar ierobežotu atbildību | D20: 2026-03 | E20: EP | F20: - | H20: 24 | I20: 151.91 | J20: 132 | K20: 283.91 | L20: =K20 -> 283.91
A21: NVD Kurzemes nodaļa | B21: 170020401 | C21: LIEPĀJAS REĢIONĀLĀ SLIMNĪCA, Sabiedrība ar ierobežotu atbildību | D21: 2026-03 | E21: MP | F21: 06003 | G21: Elektrokardiogrammas ar 12 novadījumiem pieraksts | H21: 1 | I21: 0 | J21: 2 | K21: 2 | L21: =K21 -> 2
A22: NVD Kurzemes nodaļa | B22: 170020401 | C22: LIEPĀJAS REĢIONĀLĀ SLIMNĪCA, Sabiedrība ar ierobežotu atbildību | D22: 2026-03 | E22: MP | F22: 07018 | G22: Spirogrāfija (pneimotahogrāfija) ar automātisku datoranalīzi un bronhodilatācijas testu | H22: 1 | I22: 11.59 | J22: 0 | K22: 11.59 | L22: =K22 -> 11.59
A23: NVD Kurzemes nodaļa | B23: 170020401 | C23: LIEPĀJAS REĢIONĀLĀ SLIMNĪCA, Sabiedrība ar ierobežotu atbildību | D23: 2026-03 | E23: MP | F23: 18135 | G23: Bungādiņas un/vai bungu dobuma izmeklēšana ar binokulārmikroskopiju. Norāda vienu reizi apmeklējuma laikā | H23: 1 | I23: 9.52 | J23: 0 | K23: 9.52 | L23: =K23 -> 9.52
A24: NVD Kurzemes nodaļa | B24: 170020401 | C24: LIEPĀJAS REĢIONĀLĀ SLIMNĪCA, Sabiedrība ar ierobežotu atbildību | D24: 2026-03 | E24: MP | F24: 20014 | G24: Brūču primārā ķirurģiskā apdare, ieskaitot izgriešanu un noslēgšanu | H24: 1 | I24: 0 | J24: 4 | K24: 4 | L24: =K24 -> 4
A25: NVD Kurzemes nodaļa | B25: 170020401 | C25: LIEPĀJAS REĢIONĀLĀ SLIMNĪCA, Sabiedrība ar ierobežotu atbildību | D25: 2026-03 | E25: MP | F25: 50013 | G25: Rentgenogrāfijas izmeklējumi (tai skaitā amortizācijas izmaksas) divās projekcijās | H25: 3 | I25: 41.16 | J25: 9 | K25: 50.16 | L25: =K25 -> 50.16
A26: NVD Kurzemes nodaļa | B26: 170020401 | C26: LIEPĀJAS REĢIONĀLĀ SLIMNĪCA, Sabiedrība ar ierobežotu atbildību | D26: 2026-03 | E26: MP | F26: 50014 | G26: Rentgenogrāfijas izmeklējumi (tai skaitā amortizācijas izmaksas) 3-4 projekcijās | H26: 3 | I26: 69.45 | J26: 6 | K26: 75.45 | L26: =K26 -> 75.45
A27: NVD Kurzemes nodaļa | B27: 170020401 | C27: LIEPĀJAS REĢIONĀLĀ SLIMNĪCA, Sabiedrība ar ierobežotu atbildību | D27: 2026-03 | E27: MP | F27: 50178 | G27: Piemaksa par radioloģisko izmeklējumu attēlu glabāšanu | H27: 9 | I27: 9.9 | J27: 0 | K27: 9.9 | L27: =K27 -> 9.9
A28: NVD Kurzemes nodaļa | B28: 170020401 | C28: LIEPĀJAS REĢIONĀLĀ SLIMNĪCA, Sabiedrība ar ierobežotu atbildību | D28: 2026-03 | E28: MP | F28: 50509 | G28: Galvas, deguna blakusdobumu vai kakla mīksto audu CT bez kontrastēšanas | H28: 1 | I28: 17.44 | J28: 14 | K28: 31.44 | L28: =K28 -> 31.44
A29: NVD Kurzemes nodaļa | B29: 170020401 | C29: LIEPĀJAS REĢIONĀLĀ SLIMNĪCA, Sabiedrība ar ierobežotu atbildību | D29: 2026-03 | E29: MP | F29: 50540 | G29: CT angiogrāfija | H29: 1 | I29: 93.09 | J29: 14 | K29: 107.09 | L29: =K29 -> 107.09
A30: NVD Kurzemes nodaļa | B30: 170020401 | C30: LIEPĀJAS REĢIONĀLĀ SLIMNĪCA, Sabiedrība ar ierobežotu atbildību | D30: 2026-03 | E30: MP | F30: 50552 | G30: Piemaksa par Bolus injektora lietošanu. Nenorādīt kopā ar manipulāciju 50551 | H30: 1 | I30: 15.08 | J30: 0 | K30: 15.08 | L30: =K30 -> 15.08
A31: NVD Kurzemes nodaļa | B31: 170020401 | C31: LIEPĀJAS REĢIONĀLĀ SLIMNĪCA, Sabiedrība ar ierobežotu atbildību | D31: 2026-03 | E31: MP | F31: 50574 | G31: Piemaksa par kontrastvielu Iohexalum 350 (100 ml) | H31: 1 | I31: 44.88 | J31: 7 | K31: 51.88 | L31: =K31 -> 51.88
A32: NVD Kurzemes nodaļa | B32: 170020401 | C32: LIEPĀJAS REĢIONĀLĀ SLIMNĪCA, Sabiedrība ar ierobežotu atbildību | D32: 2026-03 | E32: MP | F32: 50606 | G32: Piemaksa manipulācijām 50509, 50515, 50521, 50529, 50531, 50539, 50504, 50540 un 50542 par izmeklējuma veikšanu ar CT aparātu, sākot no 64 slāņiem. Piemaksu manipulācijai 50504 apmaksā vienu reizi vienam izmeklējumam | H32: 2 | I32: 41.48 | J32: 0 | K32: 41.48 | L32: =K32 -> 41.48
... A36: NVD Kurzemes nodaļa | B36: 170020401 | C36: LIEPĀJAS REĢIONĀLĀ SLIMNĪCA, Sabiedrība ar ierobežotu atbildību | D36: 2026-03 | E36: MP | F36: 55201 | G36: Rehabilitācijas plāna monitorēšana | H36: 2 | I36: 15.66 | J36: 0 | K36: 15.66 | L36: =K36 -> 15.66
A37: NVD Kurzemes nodaļa | B37: 170024104 | C37: JAUNLIEPĀJAS PRIMĀRĀS VESELĪBAS APRŪPES CENTRS, Sabiedrība ar ierobežotu atbildību | D37: 2026-03 | E37: EP | F37: - | H37: 6 | I37: 88.44 | J37: 4 | K37: 92.44 | L37: =K37 -> 92.44
A38: NVD Kurzemes nodaļa | B38: 170024104 | C38: JAUNLIEPĀJAS PRIMĀRĀS VESELĪBAS APRŪPES CENTRS, Sabiedrība ar ierobežotu atbildību | D38: 2026-03 | E38: MP | F38: 01004 | G38: Ginekologa, dzemdību speciālista ginekoloģiskā apskate valsts organizētās vēža skrīningprogrammas ietvaros | H38: 2 | I38: 21 | J38: 8 | K38: 29 | L38: =K38 -> 29
A39: NVD Kurzemes nodaļa | B39: 170024104 | C39: JAUNLIEPĀJAS PRIMĀRĀS VESELĪBAS APRŪPES CENTRS, Sabiedrība ar ierobežotu atbildību | D39: 2026-03 | E39: MP | F39: 01078 | G39: Iztriepes paņemšana seksuāli transmisīvo slimību diagnostikai | H39: 1 | I39: 2.4 | J39: 0 | K39: 2.4 | L39: =K39 -> 2.4
A40: NVD Kurzemes nodaļa | B40: 170024104 | C40: JAUNLIEPĀJAS PRIMĀRĀS VESELĪBAS APRŪPES CENTRS, Sabiedrība ar ierobežotu atbildību | D40: 2026-03 | E40: MP | F40: 01083 | G40: Materiāla paņemšana bakterioloģiskiem uzsējumiem seksuāli transmisīvo slimību diagnostikai | H40: 1 | I40: 4.21 | J40: 0 | K40: 4.21 | L40: =K40 -> 4.21
A41: NVD Kurzemes nodaļa | B41: 170024104 | C41: JAUNLIEPĀJAS PRIMĀRĀS VESELĪBAS APRŪPES CENTRS, Sabiedrība ar ierobežotu atbildību | D41: 2026-03 | E41: MP | F41: 01095 | G41: Dzemdes kakla materiāla paņemšana šķidruma citoloģijas vai CPV noteikšanai | H41: 2 | I41: 6.36 | J41: 0 | K41: 6.36 | L41: =K41 -> 6.36
A42: NVD Kurzemes nodaļa | B42: 170024104 | C42: JAUNLIEPĀJAS PRIMĀRĀS VESELĪBAS APRŪPES CENTRS, Sabiedrība ar ierobežotu atbildību | D42: 2026-03 | E42: MP | F42: 16009 | G42: Dzemdes dobuma aspirācija un sagatavošana citoloģiskai vai histoloģiskai izmeklēšanai | H42: 1 | I42: 11.09 | J42: 0 | K42: 11.09 | L42: =K42 -> 11.09
A43: NVD Kurzemes nodaļa | B43: 170024104 | C43: JAUNLIEPĀJAS PRIMĀRĀS VESELĪBAS APRŪPES CENTRS, Sabiedrība ar ierobežotu atbildību | D43: 2026-03 | E43: MP | F43: 06003 | G43: Elektrokardiogrammas ar 12 novadījumiem pieraksts | H43: 1 | I43: 1.83 | J43: 0 | K43: 1.83 | L43: =K43 -> 1.83
...
