Workbook

Sheet Saturs
B1: 1.pielikums
B2: Ministru kabineta noteikumu projekta "Grozījumi Ministru kabineta
A3: 2013.gada 24.septembra noteikumos Nr.1002 "Sociālās
B4: integrācijas valstas aģentūras sniegto maksas pakalpojumu cenrādis""
B5: sākotnējās ietekmes novērtējuma ziņojumam (anotācijai)
B8: Satura rādītājs
B10: 4 | C10: Rehabilitāciajs pakalpojumi
B11: 4.1.1.1. | C11: Rehabilitācijas kurss Dubultu prospektā 71, Jūrmalā, 2.korpuss (viena vieta vienvietīgā numurā)
B12: 4.1.1.2.1. | C12: Rehabilitācijas kurss Dubultu prospektā 71, Jūrmalā, 2.korpuss (viena vieta vienvietīgā pielāgotā numurā)
B13: 4.1.1.2.2. | C13: Rehabilitācijas kurss Dubultu prospektā 71, Jūrmalā, 2.korpuss (viena vieta divvietīgā pielāgotā numurā)
B14: 4.1.1.3. | C14: Rehabilitācijas kurss Dubultu prospektā 71, Jūrmalā, 2.korpuss (viena vieta divvietīgā numurā)
B15: 4.1.1.4. | C15: Rehabilitācijas kurss Dubultu prospektā 71, Jūrmalā, 2.korpuss (viena vieta divvietīgā divistabu numurā)
B16: 4.1.1.5. | C16: Rehabilitācijas kurss Dubultu prospektā 71, Jūrmalā, 2.korpuss bērnam no 2 līdz 14 gadu vecumam (papildus gultasvieta)
B17: 4.1.1.6. | C17: Rehabilitācijas kurss Dubultu prospektā 71, Jūrmala, 2.korpuss, programma Harmonija (viena vieta divvietīgā numurā)
B18: 4.1.2.1. | C18: Rehabilitācijas kurss Dubultu prospektā 71, Jūrmalā, 1.korpuss ( viena vieta vienvietīgā numurā)
B19: 4.1.2.2. | C19: Rehabilitācijas kurss Dubultu prospektā 71, Jūrmalā, 1.korpuss ( viena vieta divvietīgā numurā)
B20: 4.1.2.3. | C20: Rehabilitācijas kurss Dubultu prospektā 71,Jūrmalā, 1.korpuss (viena vieta divvietīgā divistabu numurā)
B21: 4.1.2.4. | C21: Rehabilitācijas kurss Dubultu prospektā 71, Jūrmalā, 1.korpuss bērnam no 2 līdz 14 gadu vecumam (papildus gultasvieta)
B22: 4.1.2.5. | C22: Rehabilitācijas kurss Dubultu prospektā 71, Jūrmalā, 1.korpuss programma Harmonija (viena vieta divvietīgā numurā)
... B44: 4.3.2.10. | C44: Programma "Restartē darba spējas" Dubultu prospektā 71, Jūrmalā, 1.korpuss (viena vieta divvietīgā numurā)

Sheet 4.1.1.1.
C1: SASKAŅOTS
B2: Sociālās integrācijas valsts aģentūras
C3: direktore I.Jurševska
C6: 2021. gada 30.augustā
A8: Maksas pakalpojuma izcenojuma aprēķins
A10: Sociālās integrācijas valsts aģentūra
A11: Publiskā pakalpojuma veids:
B12: 4. Rehabilitācijas pakalpojumi
B13: 4.1.Rehabilitācijas kurss Dubultu prospektā 71, Jūrmalā,
B14: 4.1.1. Rehabilitācijas kurss Dubultu prospektā 71, 2.korpuss, Jūrmalā
B15: 4.1.1.1. Rehabilitācijas kurss (viena vieta vienvietīgā numurā)
A16: Laikposms | B16: 2022.gadā un turpmāk
A17: Izdevumu klasifikācijas kods | B17: Rādītājs (materiāla/izejvielas nosaukums, atlīdzība un citi izmaksu veidi) | C17: Izmaksu apjoms noteiktā laikposmā viena maksas pakalpojuma veida nodrošināšanai
A18: 1 | B18: 2 | C18: 3
B19: Tiešās izmaksas
A20: 1100 | B20: Atalgojums | C20: =23.91*50 -> 1195.5
A21: 1200 | B21: Darba devēja valsts sociālās apdrošināšanas obligātās iemaksas, pabalsti un kompensācijas | C21: 282.02
A22: 2222 | B22: Izdevumi par ūdensapgādi un kanalizāciju | C22: =1.17*50 -> 58.5
A23: 2223 | B23: Izdevumi par elektroenerģiju | C23: =1.27*50 -> 63.5
A24: 2243 | B24: Iekārtas, inventāra un aparatūras remonts, tehniskā apkalpošana | C24: =0.28*50 -> 14
A25: 2244 | B25: Nekustamā īpašuma uzturēšana | C25: =2.12*50 -> 106
A26: 2312 | B26: Inventārs | C26: 14.2
A27: 2321 | B27: Kurināmais | C27: 76
A28: 2341 | B28: Zāles, ķimikālijas, laboratorijas preces | C28: 113.08
A29: 2361 | B29: Mīkstais inventārs | C29: =0.28*50+1.97*50 -> 112.5
A30: 2363 | B30: Ēdināšanas izdevumi | C30: 406
A31: 5239 | B31: Pārējie iepriekš neklasificētie pamatlīdzekļi un ieguldījuma īpašumi | C31: 62.6
B32: Tiešās izmaksas kopā | C32: =SUM(C20:C31) -> 2503.9
B33: Netiešās izmaksas
A34: 1100 | B34: Atalgojums | C34: 851.32
A35: 1200 | B35: Darba devēja valsts sociālās apdrošināšanas obligātās iemaksas, pabalsti un kompensācijas | C35: 200.83
A36: 2100 | B36: Mācību, darba un dienesta komandējumi, dienesta, darba braucieni | C36: 2.41
A37: 2210 | B37: Izdevumi par sakaru pakalpojumiem | C37: 15.7
A38: 2222 | B38: Izdevumi par ūdensapgādi un kanalizāciju | C38: 19.63
A39: 2223 | B39: Izdevumi par elektroenerģiju | C39: 39.3
A40: 2224 | B40: Izdevumi par atkritumu savākšanu, izvešanu no apdzīvotām vietām un teritorijām ārpus apdzīvotām vietām un atkritumu utilizāciju | C40: =10.23 -> 10.23
A41: 2231 | B41: Izdevumi iestādes sabiedrisko aktivitāšu īstenošanai | C41: 3.2
A42: 2235 | B42: Izdevumi par saņemtajiem mācību pakalpojumiem | C42: 3.41
A43: 2239 | B43: Pārējie neklasificētie pakalpojumi | C43: 9.11
A44: 2241 | B44: Ēku, būvju un telpu būvdarbi | C44: 34.09
...

Sheet 4.1.1.2.1.
D1: SASKAŅOTS
B2: Sociālās integrācijas valsts aģentūras
B3: direktore I.Jurševska
B6: 2021. gada 30.augustā
A8: Maksas pakalpojuma izcenojuma aprēķins
A10: Sociālās integrācijas valsts aģentūra
A11: Publiskā pakalpojuma veids:
B12: 4. Rehabilitācijas pakalpojumi
B13: 4.1. Rehabilitācijas kurss Dubultu prospektā 71, Jūrmalā,
B14: 4.1.1. Rehabilitācijas kurss Dubultu prospektā 71, 2.korpuss, Jūrmalā
B15: 4.1.1.2. Rehabilitācijas kurss pielāgotā numurā
B16: 4.1.1.2.1. Viena vieta vienvietīgā pielāgotā numurā
A17: Laikposms | B17: 2022.gadā un turpmāk
A18: Izdevumu klasifikācijas kods | B18: Rādītājs (materiāla/izejvielas nosaukums, atlīdzība un citi izmaksu veidi) | D18: Izmaksu apjoms noteiktā laikposmā viena maksas pakalpojuma veida nodrošināšanai
A19: 1 | B19: 2 | D19: 3
B20: Tiešās izmaksas
A21: 1100 | B21: Atalgojums | D21: =23.91*290 -> 6933.9
A22: 1200 | B22: Darba devēja valsts sociālās apdrošināšanas obligātās iemaksas, pabalsti un kompensācijas | D22: 1635.71
A23: 2222 | B23: Izdevumi par ūdensapgādi un kanalizāciju | D23: 339.1
A24: 2223 | B24: Izdevumi par elektroenerģiju | D24: 368.16
A25: 2243 | B25: Iekārtas, inventāra un aparatūras remonts, tehniskā apkalpošana | D25: 0
A26: 2244 | B26: Nekustamā īpašuma uzturēšana | D26: =106/50*290 -> 614.8
A27: 2312 | B27: Inventārs | D27: 88.27
A28: 2321 | B28: Kurināmais | D28: 440.8
A29: 2341 | B29: Zāles, ķimikālijas, laboratorijas preces | D29: 655.84
A30: 2361 | B30: Mīkstais inventārs | D30: =112.5/50*290 -> 652.5
A31: 2363 | B31: Ēdināšanas izdevumi | D31: 2354.8
A32: 5239 | B32: Pārējie iepriekš neklasificētie pamatlīdzekļi un ieguldījuma īpašumi | D32: 378.57
B33: Tiešās izmaksas kopā | D33: =SUM(D21:D32) -> 14462.45
B34: Netiešās izmaksas
A35: 1100 | B35: Atalgojums | C35: =0.388+0.024 -> 0.412 | D35: 4917.74
A36: 1200 | B36: Darba devēja valsts sociālās apdrošināšanas obligātās iemaksas, pabalsti un kompensācijas | C36: =C35*0.2359 -> 0.0971908 | D36: 1160.09
A37: 2100 | B37: Mācību, darba un dienesta komandējumi, dienesta, darba braucieni | C37: 0.001166 | D37: 13.92
A38: 2210 | B38: Izdevumi par sakaru pakalpojumiem | C38: 0.0076 | D38: 90.72
A39: 2222 | B39: Izdevumi par ūdensapgādi un kanalizāciju | C39: 0.0095 | D39: 113.39
A40: 2223 | B40: Izdevumi par elektroenerģiju | C40: 0.01902 | D40: 227.03
A41: 2224 | B41: Izdevumi par atkritumu savākšanu, izvešanu no apdzīvotām vietām un teritorijām ārpus apdzīvotām vietām un atkritumu utilizāciju | C41: 0.00495 | D41: 59.08
A42: 2231 | B42: Izdevumi iestādes sabiedrisko aktivitāšu īstenošanai | C42: 0.00155 | D42: 18.5
A43: 2235 | B43: Izdevumi par saņemtajiem mācību pakalpojumiem | C43: 0.00165 | D43: 19.69
A44: 2239 | B44: Pārējie neklasificētie pakalpojumi | C44: 0.00441 | D44: 52.64
...

Sheet 4.1.1.2.2.
D1: SASKAŅOTS
B2: Sociālās integrācijas valsts aģentūras
B3: direktore I.Jurševska
B6: 2021. gada 30. augustā
A8: Maksas pakalpojuma izcenojuma aprēķins
A10: Sociālās integrācijas valsts aģentūra
A11: Publiskā pakalpojuma veids:
B12: 4. Rehabilitācijas pakalpojumi
B13: 4.1. Rehabilitācijas kurss Dubultu prospektā 71, Jūrmalā,
B14: 4.1.1. Rehabilitācijas kurss Dubultu prospektā 71, 2.korpuss, Jūrmalā
B15: 4.1.1.2. Rehabilitācijas kurss pielāgotā numurā
B16: 4.1.1.2.2. Viena vieta divvietīgā pielāgotā numurā
A17: Laikposms | B17: 2022.gadā un turpmāk
A18: Izdevumu klasifikācijas kods | B18: Rādītājs (materiāla/izejvielas nosaukums, atlīdzība un citi izmaksu veidi) | D18: Izmaksu apjoms noteiktā laikposmā viena maksas pakalpojuma veida nodrošināšanai
A19: 1 | B19: 2 | D19: 3
B20: Tiešās izmaksas
A21: 1100 | B21: Atalgojums | D21: =23.91*20 -> 478.2
A22: 1200 | B22: Darba devēja valsts sociālās apdrošināšanas obligātās iemaksas, pabalsti un kompensācijas | D22: 112.81
A23: 2222 | B23: Izdevumi par ūdensapgādi un kanalizāciju | D23: 22.25
A24: 2223 | B24: Izdevumi par elektroenerģiju | D24: 26.51
A25: 2243 | B25: Iekārtas, inventāra un aparatūras remonts, tehniskā apkalpošana | D25: 0
A26: 2244 | B26: Nekustamā īpašuma uzturēšana | D26: 21.2
A27: 2312 | B27: Inventārs | D27: 5.68
A28: 2321 | B28: Kurināmais | D28: 31.25
A29: 2341 | B29: Zāles, ķimikālijas, laboratorijas preces | D29: 45.18
A30: 2361 | B30: Mīkstais inventārs | D30: 45
A31: 2363 | B31: Ēdināšanas izdevumi | D31: 162.4
A32: 5239 | B32: Pārējie iepriekš neklasificētie pamatlīdzekļi un ieguldījuma īpašumi | D32: 13.05
B33: Tiešās izmaksas kopā | D33: =SUM(D21:D32) -> 963.53
B34: Netiešās izmaksas
A35: 1100 | B35: Atalgojums | C35: =0.388+0.024 -> 0.412 | D35: 243.08
A36: 1200 | B36: Darba devēja valsts sociālās apdrošināšanas obligātās iemaksas, pabalsti un kompensācijas | C36: =C35*0.2359 -> 0.0971908 | D36: 57.34
A37: 2100 | B37: Mācību, darba un dienesta komandējumi, dienesta, darba braucieni | C37: 0.001166 | D37: 0.66
A38: 2210 | B38: Izdevumi par sakaru pakalpojumiem | C38: 0.0076 | D38: 4.3
A39: 2222 | B39: Izdevumi par ūdensapgādi un kanalizāciju | C39: 0.0095 | D39: 5.37
A40: 2223 | B40: Izdevumi par elektroenerģiju | C40: 0.01902 | D40: 10.76
A41: 2224 | B41: Izdevumi par atkritumu savākšanu, izvešanu no apdzīvotām vietām un teritorijām ārpus apdzīvotām vietām un atkritumu utilizāciju | C41: 0.00495 | D41: 2.8
A42: 2231 | B42: Izdevumi iestādes sabiedrisko aktivitāšu īstenošanai | C42: 0.00155 | D42: 0.88
A43: 2235 | B43: Izdevumi par saņemtajiem mācību pakalpojumiem | C43: 0.00165 | D43: 0.93
A44: 2239 | B44: Pārējie neklasificētie pakalpojumi | C44: 0.00441 | D44: 2.49
...

Sheet 4.1.1.3.
D1: SASKAŅOTS
C2: Sociālās integrācijas valsts aģentūras
D3: direktore I.Jurševska
D5: 2021. gada 30. augustā
A7: Maksas pakalpojuma izcenojuma aprēķins
A9: Sociālās integrācijas valsts aģentūra
A10: Publiskā pakalpojuma veids:
B11: 4. Rehabilitācijas pakalpojumi
B12: 4.1. Rehabilitācijas kurss Dubultu prospektā 71, Jūrmalā,
B13: 4.1.1. Rehabilitācijas kurss Dubultu prospektā 71, 2.korpuss, Jūrmalā
B14: 4.1.1.3. Rehabilitācijas kurss (viena vieta divvietīgā numurā)
A16: Laikposms | B16: 2022.gadā un turpmāk
A17: Izdevumu klasifikācijas kods | B17: Rādītājs (materiāla/izejvielas nosaukums, atlīdzība un citi izmaksu veidi) | D17: Izmaksu apjoms noteiktā laikposmā viena maksas pakalpojuma veida nodrošināšanai
A18: 1 | B18: 2 | D18: 3
B19: Tiešās izmaksas
A20: 1100 | B20: Atalgojums | D20: =23.91*250 -> 5977.5
A21: 1200 | B21: Darba devēja valsts sociālās apdrošināšanas obligātās iemaksas, pabalsti un kompensācijas | D21: 1410.09
A22: 2222 | B22: Izdevumi par ūdensapgādi un kanalizāciju | D22: 278.09
A23: 2223 | B23: Izdevumi par elektroenerģiju | D23: 331.41
A24: 2243 | B24: Iekārtas, inventāra un aparatūras remonts, tehniskā apkalpošana | D24: 0
A25: 2244 | B25: Nekustamā īpašuma uzturēšana | D25: =2.12*250/2 -> 265
A26: 2312 | B26: Inventārs | D26: 70.96
A27: 2321 | B27: Kurināmais | D27: 390.63
A28: 2341 | B28: Zāles, ķimikālijas, laboratorijas preces | D28: 564.75
A29: 2361 | B29: Mīkstais inventārs | D29: =2.25*250 -> 562.5
A30: 2363 | B30: Ēdināšanas izdevumi | D30: =8.12*250 -> 2030
A31: 5239 | B31: Pārējie iepriekš neklasificētie pamatlīdzekļi un ieguldījuma īpašumi | D31: 320.81
B32: Tiešās izmaksas kopā | D32: =SUM(D20:D31) -> 12201.74
B33: Netiešās izmaksas
A34: 1100 | B34: Atalgojums | C34: =0.388+0.024 -> 0.412 | D34: 2707.48
A35: 1200 | B35: Darba devēja valsts sociālās apdrošināšanas obligātās iemaksas, pabalsti un kompensācijas | C35: =C34*0.2359 -> 0.0971908 | D35: 638.69
A36: 2100 | B36: Mācību, darba un dienesta komandējumi, dienesta, darba braucieni | C36: 0.001166 | D36: 7.66
A37: 2210 | B37: Izdevumi par sakaru pakalpojumiem | C37: 0.0076 | D37: 49.94
A38: 2222 | B38: Izdevumi par ūdensapgādi un kanalizāciju | C38: 0.0095 | D38: 62.43
A39: 2223 | B39: Izdevumi par elektroenerģiju | C39: 0.01902 | D39: 124.99
A40: 2224 | B40: Izdevumi par atkritumu savākšanu, izvešanu no apdzīvotām vietām un teritorijām ārpus apdzīvotām vietām un atkritumu utilizāciju | C40: 0.00495 | D40: 32.53
A41: 2231 | B41: Izdevumi iestādes sabiedrisko aktivitāšu īstenošanai | C41: 0.00155 | D41: 10.19
A42: 2235 | B42: Izdevumi par saņemtajiem mācību pakalpojumiem | C42: 0.00165 | D42: 10.84
A43: 2239 | B43: Pārējie neklasificētie pakalpojumi | C43: 0.00441 | D43: 28.98
A44: 2241 | B44: Ēku, būvju un telpu būvdarbi | C44: 0.0165 | D44: 108.43
...

Sheet 4.1.1.4.
D1: SASKAŅOTS
D2: Sociālās integrācijas valsts aģentūras
D3: direktore I.Jurševska
D5: 2021. gada 30.augustā
A7: Maksas pakalpojuma izcenojuma aprēķins
A9: Sociālās integrācijas valsts aģentūra
A10: Publiskā pakalpojuma veids:
B11: 4. Rehabilitācijas pakalpojumi
B12: 4.1. Rehabilitācijas kurss Dubultu prospektā 71, Jūrmalā,
B13: 4.1.1. Rehabilitācijas kurss Dubultu prospektā 71, 2.korpuss, Jūrmalā
B14: 4.1.1.4. Rehabilitācijas kurss (viena vieta divvietīgā divistabu numurā)
A16: Laikposms | B16: 2022.gadā un turpmāk
A17: Izdevumu klasifikācijas kods | B17: Rādītājs (materiāla/izejvielas nosaukums, atlīdzība un citi izmaksu veidi) | D17: Izmaksu apjoms noteiktā laikposmā viena maksas pakalpojuma veida nodrošināšanai
A18: 1 | B18: 2 | D18: 3
B19: Tiešās izmaksas
A20: 1100 | B20: Atalgojums | D20: =23.91*50 -> 1195.5
A21: 1200 | B21: Darba devēja valsts sociālās apdrošināšanas obligātās iemaksas, pabalsti un kompensācijas | D21: 282.02
A22: 2222 | B22: Izdevumi par ūdensapgādi un kanalizāciju | D22: 55.17
A23: 2223 | B23: Izdevumi par elektroenerģiju | D23: 75.65
A24: 2243 | B24: Iekārtas, inventāra un aparatūras remonts, tehniskā apkalpošana | D24: 0
A25: 2244 | B25: Nekustamā īpašuma uzturēšana | D25: 106
A26: 2312 | B26: Inventārs | D26: 14.18
A27: 2321 | B27: Kurināmais | D27: 82.5
A28: 2341 | B28: Zāles, ķimikālijas, laboratorijas preces | D28: 113.08
A29: 2361 | B29: Mīkstais inventārs | D29: 112.5
A30: 2363 | B30: Ēdināšanas izdevumi | D30: 406
A31: 5239 | B31: Pārējie iepriekš neklasificētie pamatlīdzekļi un ieguldījuma īpašumi | D31: 57.5
B32: Tiešās izmaksas kopā | D32: =SUM(D20:D31) -> 2500.1
B33: Netiešās izmaksas
A34: 1100 | B34: Atalgojums | C34: =0.388+0.024 -> 0.412 | D34: 572.43
A35: 1200 | B35: Darba devēja valsts sociālās apdrošināšanas obligātās iemaksas, pabalsti un kompensācijas | C35: =C34*0.2359 -> 0.0971908 | D35: 135.04
A36: 2100 | B36: Mācību, darba un dienesta komandējumi, dienesta, darba braucieni | C36: 0.001166 | D36: 1.62
A37: 2210 | B37: Izdevumi par sakaru pakalpojumiem | C37: 0.0076 | D37: 10.56
A38: 2222 | B38: Izdevumi par ūdensapgādi un kanalizāciju | C38: 0.0095 | D38: 13.7
A39: 2223 | B39: Izdevumi par elektroenerģiju | C39: 0.01902 | D39: 26.43
A40: 2224 | B40: Izdevumi par atkritumu savākšanu, izvešanu no apdzīvotām vietām un teritorijām ārpus apdzīvotām vietām un atkritumu utilizāciju | C40: 0.00495 | D40: 6.88
A41: 2231 | B41: Izdevumi iestādes sabiedrisko aktivitāšu īstenošanai | C41: 0.00155 | D41: 2.15
A42: 2235 | B42: Izdevumi par saņemtajiem mācību pakalpojumiem | C42: 0.00165 | D42: 2.29
A43: 2239 | B43: Pārējie neklasificētie pakalpojumi | C43: 0.00441 | D43: 6.13
A44: 2241 | B44: Ēku, būvju un telpu būvdarbi | C44: 0.0165 | D44: 22.93
...

Sheet 4.1.1.5.
B1: SASKAŅOTS
B2: Sociālās integrācijas valsts aģentūras
D3: direktores p.i. G.Apele
D5: 2019. gada 15. martā
A7: Maksas pakalpojuma izcenojuma aprēķins
A9: Sociālās integrācijas valsts aģentūra
A10: Publiskā pakalpojuma veids:
B11: 4. Rehabilitācijas pakalpojumi
B12: 4.1. Rehabilitācijas kurss Dubultu prospektā 71, Jūrmalā,
B13: 4.1.1. Rehabilitācijas kurss Dubultu prospektā 71, 2.korpuss, Jūrmalā
B14: 4.1.1.5. Rehabilitācijas kurss bērnam no 2 līdz 14 gadu vecumam (papildus gultasvieta)
A15: Laikposms | B15: 2019
A16: Izdevumu klasifikācijas kods | B16: Rādītājs (materiāla/izejvielas nosaukums, atlīdzība un citi izmaksu veidi) | D16: Izmaksu apjoms noteiktā laikposmā viena maksas pakalpojuma veida nodrošināšanai
A17: 1 | B17: 2 | D17: 3
B18: Tiešās izmaksas
A19: 1100 | B19: Atalgojums | C19: =789.02+100*0.96 -> 885.02 | D19: 536.5
A20: 1200 | B20: Darba devēja valsts sociālās apdrošināšanas obligātās iemaksas, sociāla rakstura pabalsti un kompensācijas | C20: =190.08+100*0.23 -> 213.08 | D20: 129.24
A21: 2222 | B21: Izdevumi par ūdeni un kanalizāciju | C21: 55.49 | D21: 27.75
A22: 2223 | B22: Izdevumi par elektroenerģiju | C22: 52.91 | D22: 26.46
A23: 2243 | B23: Iekārtas, inventāra un aparatūras remonts, tehniskā apkalpošana | C23: 14.2 | D23: 7.1
A24: 2249 | B24: Pārējie remonta darbu un iestāžu uzturēšanas pakalpojumi | C24: 0 | D24: =C24/100*50 -> 0
A25: 2321 | B25: Kurināmais | C25: 78.34 | D25: 39.17
A26: 2341 | B26: Zāles, ķimikālijas, laboratorijas preces | C26: 35.66 | D26: 17.83
A27: 2350 | B27: Kārtējā remonta un iestāžu uzturēšanas materiāli | C27: 0 | D27: =C27/100*50 -> 0
A28: 2363 | B28: Ēdināšanas izdevumi | C28: 352 | D28: 196
A29: 5232 | B29: Saimniecības pamatlīdzekļi | C29: 22.27 | D29: 11.14
B30: Tiešās izmaksas kopā | C30: =SUM(C19:C29) -> 1708.97 | D30: =SUM(D19:D29) -> 991.19
B31: Netiešās izmaksas
A32: 1100 | B32: Atalgojums | C32: 713.12 | D32: =C32/100*50 -> 356.56
A33: 1200 | B33: Darba devēja valsts sociālās apdrošināšanas obligātās iemaksas, sociāla rakstura pabalsti un kompensācijas | C33: 171.79 | D33: =C33/100*50 -> 85.895
A34: 2100 | B34: Mācību, darba un dienesta komandējumi, dienesta, darba braucieni | C34: 0 | D34: =C34/100*50 -> 0
A35: 2210 | B35: Pasta, telefona un citu sakaru pakalpojumi | C35: 11.22 | D35: =C35/100*50 -> 5.61
A36: 2222 | B36: Izdevumi par ūdeni un kanalizāciju | C36: 88.35 | D36: =C36/100*50 -> 44.175
A37: 2223 | B37: Izdevumi par elektroenerģiju | C37: 112.41 | D37: =C37/100*50 -> 56.205
A38: 2230 | B38: Iestādes administratīvie izdevumi un ar iestādes darbības nodrošināšanu saistītie izdevumi | C38: 7.64 | D38: =C38/100*50 -> 3.82
A39: 2241 | B39: Ēku, būvju un telpu kārtējais remonts | C39: 0 | D39: =C39/100*50 -> 0
A40: 2242 | B40: Transportlīdzekļu uzturēšana un remonts | C40: 2.07 | D40: =C40/100*50 -> 1.035
A41: 2243 | B41: Iekārtas, inventāra un aparatūras remonts, tehniskā apkalpošana | C41: 11 | D41: =C41/100*50 -> 5.5
A42: 2244 | B42: Ēku, būvju un telpu uzturēšana | C42: 224.42 | D42: 179
A43: 2247 | B43: Apdrošināšanas izdevumi | C43: 0.69 | D43: =C43/100*50 -> 0.345
...

Sheet 4.1.1.6.
D1: SASKAŅOTS
D2: Sociālās integrācijas valsts aģentūras
D3: direktore I.Jurševska
D5: 2021. gada 30. augustā
A7: Maksas pakalpojuma izcenojuma aprēķins
A9: Sociālās integrācijas valsts aģentūra
A10: Publiskā pakalpojuma veids:
B11: 4. Rehabilitācijas pakalpojumi
B12: 4.1. Rehabilitācijas kurss Dubultu prospektā 71, Jūrmalā,
B13: 4.1.1. Rehabilitācijas kurss Dubultu prospektā 71, 2.korpuss, Jūrmalā
B14: 4.1.1.6. Rehabilitācijas programma "Harmonija" (viena vieta divvietīgā numurā)
A16: Laikposms | B16: 2022.gadā un turpmāk
A17: Izdevumu klasifikācijas kods | B17: Rādītājs (materiāla/izejvielas nosaukums, atlīdzība un citi izmaksu veidi) | D17: Izmaksu apjoms noteiktā laikposmā viena maksas pakalpojuma veida nodrošināšanai
A18: 1 | B18: 2 | D18: 3
B19: Tiešās izmaksas
A20: 1100 | B20: Atalgojums | D20: =15.23*95 -> 1446.85
A21: 1200 | B21: Darba devēja valsts sociālās apdrošināšanas obligātās iemaksas, pabalsti un kompensācijas | D21: 341.31
A22: 2222 | B22: Izdevumi par ūdensapgādi un kanalizāciju | D22: 56.07
A23: 2223 | B23: Izdevumi par elektroenerģiju | D23: 61.43
A24: 2243 | B24: Iekārtas, inventāra un aparatūras remonts, tehniskā apkalpošana | D24: 0
A25: 2244 | B25: Nekustamā īpašuma uzturēšana | D25: 100.7
A26: 2312 | B26: Inventārs | D26: =0.28*95 -> 26.6
A27: 2321 | B27: Kurināmais | D27: 67.2
A28: 2341 | B28: Zāles, ķimikālijas, laboratorijas preces | D28: 59.18
A29: 2361 | B29: Mīkstais inventārs | D29: 213.75
A30: 2363 | B30: Ēdināšanas izdevumi | D30: =8.12*95 -> 771.4
A31: 5239 | B31: Pārējie iepriekš neklasificētie pamatlīdzekļi un ieguldījuma īpašumi | D31: 23.84
B32: Tiešās izmaksas kopā | D32: =SUM(D20:D31) -> 3168.33
B33: Netiešās izmaksas
A34: 1100 | B34: Atalgojums | C34: =0.388+0.024 -> 0.412 | D34: 902.01
A35: 1200 | B35: Darba devēja valsts sociālās apdrošināšanas obligātās iemaksas, pabalsti un kompensācijas | C35: =C34*0.2359 -> 0.0971908 | D35: 212.78
A36: 2100 | B36: Mācību, darba un dienesta komandējumi, dienesta, darba braucieni | C36: 0.001166 | D36: 2.69
A37: 2210 | B37: Izdevumi par sakaru pakalpojumiem | C37: 0.0076 | D37: 17.51
A38: 2222 | B38: Izdevumi par ūdensapgādi un kanalizāciju | C38: 0.0095 | D38: 21.88
A39: 2223 | B39: Izdevumi par elektroenerģiju | C39: 0.01902 | D39: 43.81
A40: 2224 | B40: Izdevumi par atkritumu savākšanu, izvešanu no apdzīvotām vietām un teritorijām ārpus apdzīvotām vietām un atkritumu utilizāciju | C40: 0.00495 | D40: 11.4
A41: 2231 | B41: Izdevumi iestādes sabiedrisko aktivitāšu īstenošanai | C41: 0.00155 | D41: 3.57
A42: 2235 | B42: Izdevumi par saņemtajiem mācību pakalpojumiem | C42: 0.00165 | D42: 3.8
A43: 2239 | B43: Pārējie neklasificētie pakalpojumi | C43: 0.00441 | D43: 10.16
A44: 2241 | B44: Ēku, būvju un telpu būvdarbi | C44: 0.0165 | D44: 38.01
...

Sheet 4.1.2.1.
D1: SASKAŅOTS
D2: Sociālās integrācijas valsts aģentūras
D3: direktore I.Jurševska
D5: 2021. gada 30. augustā
A7: Maksas pakalpojuma izcenojuma aprēķins
A9: Sociālās integrācijas valsts aģentūra
A10: Publiskā pakalpojuma veids:
B11: 4. Rehabilitācijas pakalpojumi
B12: 4.1. Rehabilitācijas kurss Dubultu prospektā 71, Jūrmalā,
B13: 4.1.2. Rehabilitācijas kurss – Dubultu prospekts 71, 1. korpuss, Jūrmala
B14: 4.1.2.1. Rehabilitācijas kurss (viena vieta vienvietīgā numurā)
A16: Laikposms | B16: 2022.gadā un turpmāk
A17: Izdevumu klasifikācijas kods | B17: Rādītājs (materiāla/izejvielas nosaukums, atlīdzība un citi izmaksu veidi) | D17: Izmaksu apjoms noteiktā laikposmā viena maksas pakalpojuma veida nodrošināšanai
A18: 1 | B18: 2 | D18: 3
B19: Tiešās izmaksas
A20: 1100 | B20: Atalgojums | D20: =23.91*350 -> 8368.5
A21: 1200 | B21: Darba devēja valsts sociālās apdrošināšanas obligātās iemaksas, pabalsti un kompensācijas | D21: 1974.13
A22: 2222 | B22: Izdevumi par ūdensapgādi un kanalizāciju | D22: 268.88
A23: 2223 | B23: Izdevumi par elektroenerģiju | D23: 295.8
A24: 2243 | B24: Iekārtas, inventāra un aparatūras remonts, tehniskā apkalpošana | D24: 0
A25: 2244 | B25: Nekustamā īpašuma uzturēšana | D25: =2.12*350 -> 742
A26: 2312 | B26: Inventārs | D26: =0.28*350 -> 98
A27: 2321 | B27: Kurināmais | D27: 459.05
A28: 2341 | B28: Zāles, ķimikālijas, laboratorijas preces | D28: 457.93
A29: 2361 | B29: Mīkstais inventārs | D29: =2.25*350 -> 787.5
A30: 2363 | B30: Ēdināšanas izdevumi | D30: =8.12*350 -> 2842
A31: 5239 | B31: Pārējie iepriekš neklasificētie pamatlīdzekļi un ieguldījuma īpašumi | D31: 113.61
B32: Tiešās izmaksas kopā | D32: =SUM(D20:D31) -> 16407.4
B33: Netiešās izmaksas
A34: 1100 | B34: Atalgojums | C34: =0.388+0.024 -> 0.412 | D34: 3999.07
A35: 1200 | B35: Darba devēja valsts sociālās apdrošināšanas obligātās iemaksas, pabalsti un kompensācijas | C35: =C34*0.2359 -> 0.0971908 | D35: 943.38
A36: 2100 | B36: Mācību, darba un dienesta komandējumi, dienesta, darba braucieni | C36: 0.001166 | D36: 11.32
A37: 2210 | B37: Izdevumi par sakaru pakalpojumiem | C37: 0.0076 | D37: 73.77
A38: 2222 | B38: Izdevumi par ūdensapgādi un kanalizāciju | C38: 0.0095 | D38: 92.21
A39: 2223 | B39: Izdevumi par elektroenerģiju | C39: 0.01902 | D39: 184.62
A40: 2224 | B40: Izdevumi par atkritumu savākšanu, izvešanu no apdzīvotām vietām un teritorijām ārpus apdzīvotām vietām un atkritumu utilizāciju | C40: 0.00495 | D40: 48.05
A41: 2231 | B41: Izdevumi iestādes sabiedrisko aktivitāšu īstenošanai | C41: 0.00155 | D41: 15.05
A42: 2235 | B42: Izdevumi par saņemtajiem mācību pakalpojumiem | C42: 0.00165 | D42: 16.02
A43: 2239 | B43: Pārējie neklasificētie pakalpojumi | C43: 0.00441 | D43: 42.81
A44: 2241 | B44: Ēku, būvju un telpu būvdarbi | C44: 0.0165 | D44: 160.16
...

Sheet 4.1.2.2.
D1: SASKAŅOTS
D2: Sociālās integrācijas valsts aģentūras
D3: direktore I.Jurševska
D5: 2021. gada 30. augustā
A7: Maksas pakalpojuma izcenojuma aprēķins
A9: Sociālās integrācijas valsts aģentūra
A10: Publiskā pakalpojuma veids:
B11: 4. Rehabilitācijas pakalpojumi
B12: 4.1. Rehabilitācijas kurss Dubultu prospektā 71, Jūrmalā,
B13: 4.1.2. Rehabilitācijas kurss – Dubultu prospekts 71, 1. korpuss, Jūrmala
B14: 4.1.2.2. Rehabilitācijas kurss (viena vieta divvvietīgā numurā)
A16: Laikposms | B16: 2022.gadā un turpmāk
A17: Izdevumu klasifikācijas kods | B17: Rādītājs (materiāla/izejvielas nosaukums, atlīdzība un citi izmaksu veidi) | D17: Izmaksu apjoms noteiktā laikposmā viena maksas pakalpojuma veida nodrošināšanai
A18: 1 | B18: 2 | D18: 3
B19: Tiešās izmaksas
A20: 1100 | B20: Atalgojums | D20: =23.91*200 -> 4782
A21: 1200 | B21: Darba devēja valsts sociālās apdrošināšanas obligātās iemaksas, pabalsti un kompensācijas | D21: 1128.07
A22: 2222 | B22: Izdevumi par ūdensapgādi un kanalizāciju | D22: 145.97
A23: 2223 | B23: Izdevumi par elektroenerģiju | D23: 160.58
A24: 2243 | B24: Iekārtas, inventāra un aparatūras remonts, tehniskā apkalpošana | D24: 0
A25: 2244 | B25: Nekustamā īpašuma uzturēšana | D25: =2.12*200/2 -> 212
A26: 2312 | B26: Inventārs | D26: =0.28*200 -> 56
A27: 2321 | B27: Kurināmais | D27: 249.2
A28: 2341 | B28: Zāles, ķimikālijas, laboratorijas preces | D28: 248.59
A29: 2361 | B29: Mīkstais inventārs | D29: =2.25*200 -> 450
A30: 2363 | B30: Ēdināšanas izdevumi | D30: =8.12*200 -> 1624
A31: 5239 | B31: Pārējie iepriekš neklasificētie pamatlīdzekļi un ieguldījuma īpašumi | D31: 61.68
B32: Tiešās izmaksas kopā | D32: =SUM(D20:D31) -> 9118.09
B33: Netiešās izmaksas
A34: 1100 | B34: Atalgojums | C34: =0.388+0.024 -> 0.412 | D34: 2163.64
A35: 1200 | B35: Darba devēja valsts sociālās apdrošināšanas obligātās iemaksas, pabalsti un kompensācijas | C35: =C34*0.2359 -> 0.0971908 | D35: 510.4
A36: 2100 | B36: Mācību, darba un dienesta komandējumi, dienesta, darba braucieni | C36: 0.001166 | D36: 5.32
A37: 2210 | B37: Izdevumi par sakaru pakalpojumiem | C37: 0.0076 | D37: 30.2
A38: 2222 | B38: Izdevumi par ūdensapgādi un kanalizāciju | C38: 0.0095 | D38: 40.5
A39: 2223 | B39: Izdevumi par elektroenerģiju | C39: 0.01902 | D39: 92.12
A40: 2224 | B40: Izdevumi par atkritumu savākšanu, izvešanu no apdzīvotām vietām un teritorijām ārpus apdzīvotām vietām un atkritumu utilizāciju | C40: 0.00495 | D40: 20.84
A41: 2231 | B41: Izdevumi iestādes sabiedrisko aktivitāšu īstenošanai | C41: 0.00155 | D41: 7.4
A42: 2235 | B42: Izdevumi par saņemtajiem mācību pakalpojumiem | C42: 0.00165 | D42: 7.95
A43: 2239 | B43: Pārējie neklasificētie pakalpojumi | C43: 0.00441 | D43: 22.91
A44: 2241 | B44: Ēku, būvju un telpu būvdarbi | C44: 0.0165 | D44: 88.45
...

Sheet 4.1.2.3.
D1: SASKAŅOTS
D2: Sociālās integrācijas valsts aģentūras
D3: direktore I.Jurševska
D5: 2021. gada 30. augustā
A7: Maksas pakalpojuma izcenojuma aprēķins
A9: Sociālās integrācijas valsts aģentūra
A10: Publiskā pakalpojuma veids:
B11: 4. Rehabilitācijas pakalpojumi
B12: 4.1. Rehabilitācijas kurss Dubultu prospektā 71, Jūrmalā,
B13: 4.1.2. Rehabilitācijas kurss – Dubultu prospekts 71, 1. korpuss, Jūrmala
B14: 4.1.2.3. Rehabilitācijas kurss (viena vieta divvvietīgā divistabu numurā)
A16: Laikposms | B16: 2022.gadā un turpmāk
A17: Izdevumu klasifikācijas kods | B17: Rādītājs (materiāla/izejvielas nosaukums, atlīdzība un citi izmaksu veidi) | D17: Izmaksu apjoms noteiktā laikposmā viena maksas pakalpojuma veida nodrošināšanai
A18: 1 | B18: 2 | D18: 3
B19: Tiešās izmaksas
A20: 1100 | B20: Atalgojums | D20: =23.91*50 -> 1195.5
A21: 1200 | B21: Darba devēja valsts sociālās apdrošināšanas obligātās iemaksas, pabalsti un kompensācijas | D21: 282.02
A22: 2222 | B22: Izdevumi par ūdensapgādi un kanalizāciju | D22: 37.59
A23: 2223 | B23: Izdevumi par elektroenerģiju | D23: 41.35
A24: 2243 | B24: Iekārtas, inventāra un aparatūras remonts, tehniskā apkalpošana | D24: 0
A25: 2244 | B25: Nekustamā īpašuma uzturēšana | D25: =2.12*50 -> 106
A26: 2312 | B26: Inventārs | D26: =0.28*50 -> 14
A27: 2321 | B27: Kurināmais | D27: 64.17
A28: 2341 | B28: Zāles, ķimikālijas, laboratorijas preces | D28: 64.01
A29: 2361 | B29: Mīkstais inventārs | D29: =2.25*50 -> 112.5
A30: 2363 | B30: Ēdināšanas izdevumi | D30: =8.12*50 -> 406
A31: 5239 | B31: Pārējie iepriekš neklasificētie pamatlīdzekļi un ieguldījuma īpašumi | D31: 15.88
B32: Tiešās izmaksas kopā | D32: =SUM(D20:D31) -> 2339.02
B33: Netiešās izmaksas
A34: 1100 | B34: Atalgojums | C34: =0.388+0.024 -> 0.412 | D34: 561.16
A35: 1200 | B35: Darba devēja valsts sociālās apdrošināšanas obligātās iemaksas, pabalsti un kompensācijas | C35: =C34*0.2359 -> 0.0971908 | D35: 132.38
A36: 2100 | B36: Mācību, darba un dienesta komandējumi, dienesta, darba braucieni | C36: 0.001166 | D36: 1.62
A37: 2210 | B37: Izdevumi par sakaru pakalpojumiem | C37: 0.0076 | D37: 10.54
A38: 2222 | B38: Izdevumi par ūdensapgādi un kanalizāciju | C38: 0.0095 | D38: 13.17
A39: 2223 | B39: Izdevumi par elektroenerģiju | C39: 0.01902 | D39: 26.37
A40: 2224 | B40: Izdevumi par atkritumu savākšanu, izvešanu no apdzīvotām vietām un teritorijām ārpus apdzīvotām vietām un atkritumu utilizāciju | C40: 0.00495 | D40: 6.86
A41: 2231 | B41: Izdevumi iestādes sabiedrisko aktivitāšu īstenošanai | C41: 0.00155 | D41: 2.15
A42: 2235 | B42: Izdevumi par saņemtajiem mācību pakalpojumiem | C42: 0.00165 | D42: 2.29
A43: 2239 | B43: Pārējie neklasificētie pakalpojumi | C43: 0.00441 | D43: 6.11
A44: 2241 | B44: Ēku, būvju un telpu būvdarbi | C44: 0.0165 | D44: 22.87
...

Sheet 4.1.2.4.
B1: SASKAŅOTS
B2: Sociālās integrācijas valsts aģentūras
D3: direktores p.i. G.Apele
D5: 2019. gada 15. martā
A7: Maksas pakalpojuma izcenojuma aprēķins
A9: Sociālās integrācijas valsts aģentūra
A10: Publiskā pakalpojuma veids:
B11: 4. Rehabilitācijas pakalpojumi
B12: 4.1. Rehabilitācijas kurss Dubultu prospektā 71, Jūrmalā,
B13: 4.1.2. Rehabilitācijas kurss Dubultu prospektā 71, 1.korpuss, Jūrmalā
B14: 4.1.2.4. Rehabilitācijas kurss bērnam no 2 līdz 14 gadu vecumam (papildus gultasvieta)
A15: Laikposms | B15: ='4.1.1.1.'!B14 -> 4.1.1. Rehabilitācijas kurss Dubultu prospektā 71, 2.korpuss, Jūrmalā
A16: Izdevumu klasifikācijas kods | B16: Rādītājs (materiāla/izejvielas nosaukums, atlīdzība un citi izmaksu veidi) | D16: Izmaksu apjoms noteiktā laikposmā viena maksas pakalpojuma veida nodrošināšanai
A17: 1 | B17: 2 | D17: 3
B18: Tiešās izmaksas
A19: 1100 | B19: Atalgojums | C19: =795+0.96*100 -> 891 | D19: 540
A20: 1200 | B20: Darba devēja valsts sociālās apdrošināšanas obligātās iemaksas, sociāla rakstura pabalsti un kompensācijas | C20: =191.51+0.23*100 -> 214.51 | D20: 130.09
A21: 2222 | B21: Izdevumi par ūdeni un kanalizāciju | C21: 55.83 | D21: =C21/100*50 -> 27.915
A22: 2223 | B22: Izdevumi par elektroenerģiju | C22: 53.25 | D22: =C22/100*50 -> 26.625
A23: 2243 | B23: Iekārtas, inventāra un aparatūras remonts, tehniskā apkalpošana | C23: 14.62 | D23: =C23/100*50 -> 7.31
A24: 2249 | B24: Pārējie remonta darbu un iestāžu uzturēšanas pakalpojumi | C24: 0 | D24: =C24/100*50 -> 0
A25: 2321 | B25: Kurināmais | C25: 82.5 | D25: =C25/100*50 -> 41.25
A26: 2341 | B26: Zāles, ķimikālijas, laboratorijas preces | C26: 35.66 | D26: =C26/100*50 -> 17.83
A27: 2350 | B27: Kārtējā remonta un iestāžu uzturēšanas materiāli | C27: 0 | D27: =C27/100*50 -> 0
A28: 2363 | B28: Ēdināšanas izdevumi | C28: 352 | D28: 196
A29: 5232 | B29: Saimniecības pamatlīdzekļi | C29: 5.2 | D29: =C29/100*50 -> 2.6
B30: Tiešās izmaksas kopā | C30: =SUM(C19:C29) -> 1704.57 | D30: =SUM(D19:D29) -> 989.62
B31: Netiešās izmaksas
A32: 1100 | B32: Atalgojums | C32: 734.52 | D32: =C32/100*50 -> 367.26
A33: 1200 | B33: Darba devēja valsts sociālās apdrošināšanas obligātās iemaksas, sociāla rakstura pabalsti un kompensācijas | C33: 176.94 | D33: =C33/100*50 -> 88.47
A34: 2100 | B34: Mācību, darba un dienesta komandējumi, dienesta, darba braucieni | C34: 0 | D34: =C34/100*50 -> 0
A35: 2210 | B35: Pasta, telefona un citu sakaru pakalpojumi | C35: 11.56 | D35: =C35/100*50 -> 5.78
A36: 2222 | B36: Izdevumi par ūdeni un kanalizāciju | C36: 83.52 | D36: =C36/100*50 -> 41.76
A37: 2223 | B37: Izdevumi par elektroenerģiju | C37: 114.36 | D37: =C37/100*50 -> 57.18
A38: 2230 | B38: Iestādes administratīvie izdevumi un ar iestādes darbības nodrošināšanu saistītie izdevumi | C38: 7.89 | D38: =C38/100*50 -> 3.945
A39: 2241 | B39: Ēku, būvju un telpu kārtējais remonts | C39: 0 | D39: =C39/100*50 -> 0
A40: 2242 | B40: Transportlīdzekļu uzturēšana un remonts | C40: 2.12 | D40: =C40/100*50 -> 1.06
A41: 2243 | B41: Iekārtas, inventāra un aparatūras remonts, tehniskā apkalpošana | C41: 11.33 | D41: =C41/100*50 -> 5.665
A42: 2244 | B42: Ēku, būvju un telpu uzturēšana | C42: 224.5 | D42: 178.41
A43: 2247 | B43: Apdrošināšanas izdevumi | C43: 0.71 | D43: =C43/100*50 -> 0.355
...

Sheet 4.1.2.5.
D1: SASKAŅOTS
D2: Sociālās integrācijas valsts aģentūras
D3: direktore I.Jurševska
D5: 2021. gada 30. augustā
A7: Maksas pakalpojuma izcenojuma aprēķins
A9: Sociālās integrācijas valsts aģentūra
A10: Publiskā pakalpojuma veids:
B11: 4. Rehabilitācijas pakalpojumi
B12: 4.1. Rehabilitācijas kurss Dubultu prospektā 71, Jūrmalā,
B13: 4.1.2. Rehabilitācijas kurss – Dubultu prospekts 71, 1. korpuss, Jūrmala
B14: 4.1.2.5. Rehabilitācijas programma "Harmonija"(viena vieta divvvietīgā numurā)
A16: Laikposms | B16: 2022.gadā un turpmāk
A17: Izdevumu klasifikācijas kods | B17: Rādītājs (materiāla/izejvielas nosaukums, atlīdzība un citi izmaksu veidi) | D17: Izmaksu apjoms noteiktā laikposmā viena maksas pakalpojuma veida nodrošināšanai
A18: 1 | B18: 2 | D18: 3
B19: Tiešās izmaksas
A20: 1100 | B20: Atalgojums | D20: =15.23*395 -> 6015.85
A21: 1200 | B21: Darba devēja valsts sociālās apdrošināšanas obligātās iemaksas, pabalsti un kompensācijas | D21: 1419.14
A22: 2222 | B22: Izdevumi par ūdensapgādi un kanalizāciju | D22: 236.32
A23: 2223 | B23: Izdevumi par elektroenerģiju | D23: 255.41
A24: 2243 | B24: Iekārtas, inventāra un aparatūras remonts, tehniskā apkalpošana | D24: 0
A25: 2244 | B25: Nekustamā īpašuma uzturēšana | D25: =2.12*395/2 -> 418.7
A26: 2312 | B26: Inventārs | D26: =0.28*395/2 -> 55.3
A27: 2321 | B27: Kurināmais | D27: 238.46
A28: 2341 | B28: Zāles, ķimikālijas, laboratorijas preces | D28: 246.05
A29: 2361 | B29: Mīkstais inventārs | D29: =2.25*50 -> 112.5
A30: 2363 | B30: Ēdināšanas izdevumi | D30: =8.12*395 -> 3207.4
A31: 5239 | B31: Pārējie iepriekš neklasificētie pamatlīdzekļi un ieguldījuma īpašumi | D31: 62.74
B32: Tiešās izmaksas kopā | D32: =SUM(D20:D31) -> 12267.87
B33: Netiešās izmaksas
A34: 1100 | B34: Atalgojums | C34: =0.388+0.024 -> 0.412 | D34: 3692.91
A35: 1200 | B35: Darba devēja valsts sociālās apdrošināšanas obligātās iemaksas, pabalsti un kompensācijas | C35: =C34*0.2359 -> 0.0971908 | D35: 871.16
A36: 2100 | B36: Mācību, darba un dienesta komandējumi, dienesta, darba braucieni | C36: 0.001166 | D36: 10.45
A37: 2210 | B37: Izdevumi par sakaru pakalpojumiem | C37: 0.0076 | D37: 68.12
A38: 2222 | B38: Izdevumi par ūdensapgādi un kanalizāciju | C38: 0.0095 | D38: 85.15
A39: 2223 | B39: Izdevumi par elektroenerģiju | C39: 0.01902 | D39: 170.48
A40: 2224 | B40: Izdevumi par atkritumu savākšanu, izvešanu no apdzīvotām vietām un teritorijām ārpus apdzīvotām vietām un atkritumu utilizāciju | C40: 0.00495 | D40: 44.37
A41: 2231 | B41: Izdevumi iestādes sabiedrisko aktivitāšu īstenošanai | C41: 0.00155 | D41: 13.89
A42: 2235 | B42: Izdevumi par saņemtajiem mācību pakalpojumiem | C42: 0.00165 | D42: 14.79
A43: 2239 | B43: Pārējie neklasificētie pakalpojumi | C43: 0.00441 | D43: 39.53
A44: 2241 | B44: Ēku, būvju un telpu būvdarbi | C44: 0.0165 | D44: 147.9
...

Sheet 4.2.1.
D1: SASKAŅOTS
D2: Sociālās integrācijas valsts aģentūras
D3: direktores p.i. G.Apele
D5: 2021. gada
A7: Maksas pakalpojuma izcenojuma aprēķins
A9: Sociālās integrācijas valsts aģentūra
A10: Publiskā pakalpojuma veids:
B11: 4. Rehabilitācijas pakalpojumi
B12: 4.2. Citi pakalpojumi
B13: 4.2.1. Piemaksa par uzturēšanos vienvietīgā numurā personai, kura saņem sociālās rehabilitācijas pakalpojumus par valsts budžeta līdzekļiem
A14: Laikposms | B14: 2021.gadā un turpmāk
A16: Izdevumu klasifikācijas kods | B16: Rādītājs (materiāla/izejvielas nosaukums, atlīdzība un citi izmaksu veidi) | D16: Izmaksu apjoms noteiktā laikposmā viena maksas pakalpojuma veida nodrošināšanai
A17: 1 | B17: 2 | D17: 3
B18: Tiešās izmaksas
A19: 1100 | B19: Atalgojums | C19: 576.62 | D19: =C19/1500*800 -> 307.53067
A20: 1200 | B20: Darba devēja valsts sociālās apdrošināšanas obligātās iemaksas, pabalsti un kompensācijas | C20: 138.91 | D20: =C20/1500*800 -> 74.085333
A21: 2222 | B21: Izdevumi par ūdensapgādi un kanalizāciju | C21: 360.14 | D21: =C21/1500*800 -> 192.07467
A22: 2223 | B22: Izdevumi par elektroenerģiju | C22: 428.63 | D22: =C22/1500*800 -> 228.60267
A23: 2243 | B23: Iekārtas, inventāra un aparatūras remonts, tehniskā apkalpošana | C23: 0 | D23: =C23/1500*800 -> 0
A24: 2249 | B24: Pārējie remonta darbu un iestāžu uzturēšanas pakalpojumi | C24: 0 | D24: =C24/1500*800 -> 0
A25: 2321 | B25: Kurināmais | C25: 737.48 | D25: =C25/1500*800 -> 393.32267
A26: 2341 | B26: Zāles, ķimikālijas, laboratorijas preces | C26: 0 | D26: 0
A27: 2350 | B27: Kārtējā remonta un iestāžu uzturēšanas materiāli | C27: 0 | D27: 0
A28: 2363 | B28: Ēdināšanas izdevumi | C28: 0 | D28: 0
A29: 5232 | B29: Saimniecības pamatlīdzekļi | C29: 0 | D29: 0
B30: Tiešās izmaksas kopā | C30: =SUM(C19:C29) -> 2241.78 | D30: =SUM(D19:D29) -> 1195.616
B31: Netiešās izmaksas
A32: 1100 | B32: Atalgojums | C32: 5005.55 | D32: =C32/1500*800 -> 2669.6267
A33: 1200 | B33: Darba devēja valsts sociālās apdrošināšanas obligātās iemaksas, pabalsti un kompensācijas | C33: 1205.84 | D33: =C33/1500*800 -> 643.11467
A34: 2100 | B34: Mācību, darba un dienesta komandējumi, dienesta, darba braucieni | C34: 0 | D34: =C34/1500*800 -> 0
A35: 2210 | B35: Izdevumi par sakaru pakalpojumiem | C35: 71.68 | D35: =C35/1500*800 -> 38.229333
A36: 2222 | B36: Izdevumi par ūdensapgādi un kanalizāciju | C36: 1200.2 | D36: =C36/1500*800 -> 640.10667
A37: 2223 | B37: Izdevumi par elektroenerģiju | C37: 2201.19 | D37: =C37/1500*800 -> 1173.968
A38: 2231 | B38: Izdevumi iestādes sabiedrisko aktivitāšu īstenošanai | C38: 44.97 | D38: =C38/1500*800 -> 23.984
A39: 2239 | B39: Pārējie neklasificētie pakalpojumi | C39: 189.75 | D39: =C39/1500*800 -> 101.2
A40: 2241 | B40: Ēku, būvju un telpu būvdarbi | C40: 0 | D40: =C40/1500*800 -> 0
A41: 2242 | B41: Transportlīdzekļu uzturēšana un remonts | C41: 16.37 | D41: =C41/1500*800 -> 8.7306667
A42: 2243 | B42: Iekārtas, inventāra un aparatūras remonts, tehniskā apkalpošana | C42: 55.82 | D42: =C42/1500*800 -> 29.770667
A43: 2244 | B43: Nekustamā īpašuma uzturēšana | C43: 1105.36 | D43: 1893.53
A44: 2247 | B44: Apdrošināšanas izdevumi | C44: 4.49 | D44: =C44/1500*800 -> 2.3946667
...

Sheet 4.3.1.1.
D1: SASKAŅOTS
B2: Sociālās integrācijas valsts aģentūras
D3: direktore I.Jurševska
D5: 2021. gada 30. augustā
A7: Maksas pakalpojuma izcenojuma aprēķins
A9: Sociālās integrācijas valsts aģentūra
A10: Publiskā pakalpojuma veids:
B11: 4. Rehabilitācijas pakalpojumi
B12: 4.3. Veselības veicināšanas programmas
B13: 4.3.1. Dubultu prospektā 71, 2.korpuss, Jūrmalā
B14: 4.3.1.1. Programma "Muguras veselība", 5 dienu kurss (viena vieta vienvietīgā numurā)
A15: Laikposms | B15: 2022.gadā un turpmāk
A16: Izdevumu klasifikācijas kods | B16: Rādītājs (materiāla/izejvielas nosaukums, atlīdzība un citi izmaksu veidi) | D16: Izmaksu apjoms noteiktā laikposmā viena maksas pakalpojuma veida nodrošināšanai
A17: 1 | B17: 2 | D17: 3
B18: Tiešās izmaksas
A19: 1100 | B19: Atalgojums | D19: 717.6
A20: 1200 | B20: Darba devēja valsts sociālās apdrošināšanas obligātās iemaksas, pabalsti un kompensācijas | D20: 169.28
A21: 2222 | B21: Izdevumi par ūdensapgādi un kanalizāciju | D21: 30.49
A22: 2223 | B22: Izdevumi par elektroenerģiju | D22: 38.02
A23: 2243 | B23: Iekārtas, inventāra un aparatūras remonts, tehniskā apkalpošana | D23: 0
A24: 2244 | B24: Nekustamā īpašuma uzturēšana | D24: =2.12*5*5 -> 53
A25: 2312 | B25: Inventārs | D25: 7.1
A26: 2321 | B26: Kurināmais | D26: 45.78
A27: 2341 | B27: Zāles, ķimikālijas, laboratorijas preces | D27: 67.87
A28: 2361 | B28: Mīkstais inventārs | D28: =0.28*5*5+1.97*5*5 -> 56.25
A29: 2363 | B29: Ēdināšanas izdevumi | D29: =8.12*5*5 -> 203
A30: 5239 | B30: Pārējie iepriekš neklasificētie pamatlīdzekļi un ieguldījuma īpašumi | D30: 32.45
B31: Tiešās izmaksas kopā | D31: =SUM(D19:D30) -> 1420.84
B32: Netiešās izmaksas
A33: 1100 | B33: Atalgojums | C33: =0.388+0.024 -> 0.412 | D33: 457.77
A34: 1200 | B34: Darba devēja valsts sociālās apdrošināšanas obligātās iemaksas, pabalsti un kompensācijas | C34: =C33*0.2359 -> 0.0971908 | D34: 107.99
A35: 2100 | B35: Mācību, darba un dienesta komandējumi, dienesta, darba braucieni | C35: 0.001166 | D35: 1.3
A36: 2210 | B36: Izdevumi par sakaru pakalpojumiem | C36: 0.0076 | D36: 8.44
A37: 2222 | B37: Izdevumi par ūdensapgādi un kanalizāciju | C37: 0.0095 | D37: 10.56
A38: 2223 | B38: Izdevumi par elektroenerģiju | C38: 0.01902 | D38: 21.13
A39: 2224 | B39: Izdevumi par atkritumu savākšanu, izvešanu no apdzīvotām vietām un teritorijām ārpus apdzīvotām vietām un atkritumu utilizāciju | C39: 0.00495 | D39: 5.5
A40: 2231 | B40: Izdevumi iestādes sabiedrisko aktivitāšu īstenošanai | C40: 0.00155 | D40: 1.72
A41: 2235 | B41: Izdevumi par saņemtajiem mācību pakalpojumiem | C41: 0.00165 | D41: 1.83
A42: 2239 | B42: Pārējie neklasificētie pakalpojumi | C42: 0.00441 | D42: 4.9
A43: 2241 | B43: Ēku, būvju un telpu būvdarbi | C43: 0.0165 | D43: 18.33
...

Sheet 4.3.1.2.
D1: SASKAŅOTS
B2: Sociālās integrācijas valsts aģentūras
D3: direktore I.Jurševska
D5: 2021. gada 30. augustā
A7: Maksas pakalpojuma izcenojuma aprēķins
A9: Sociālās integrācijas valsts aģentūra
A10: Publiskā pakalpojuma veids:
B11: 4. Rehabilitācijas pakalpojumi
B12: 4.3. Veselības veicināšanas programmas
B13: 4.3.1. Dubultu prospektā 71, 2.korpuss, Jūrmalā
B14: 4.3.1.2. Programma "Muguras veselība", 5 dienu kurss (viena vieta divvietīgā numurā)
A15: Laikposms | B15: 2022.gadā un turpmāk
A16: Izdevumu klasifikācijas kods | B16: Rādītājs (materiāla/izejvielas nosaukums, atlīdzība un citi izmaksu veidi) | D16: Izmaksu apjoms noteiktā laikposmā viena maksas pakalpojuma veida nodrošināšanai
A17: 1 | B17: 2 | D17: 3
B18: Tiešās izmaksas
A19: 1100 | B19: Atalgojums | D19: 717.6
A20: 1200 | B20: Darba devēja valsts sociālās apdrošināšanas obligātās iemaksas, pabalsti un kompensācijas | D20: 169.28
A21: 2222 | B21: Izdevumi par ūdensapgādi un kanalizāciju | D21: 29.06
A22: 2223 | B22: Izdevumi par elektroenerģiju | D22: 39.42
A23: 2243 | B23: Iekārtas, inventāra un aparatūras remonts, tehniskā apkalpošana | D23: 0
A24: 2244 | B24: Nekustamā īpašuma uzturēšana | D24: =2.12*5*5/2 -> 26.5
A25: 2312 | B25: Inventārs | D25: 7.1
A26: 2321 | B26: Kurināmais | D26: 46.84
A27: 2341 | B27: Zāles, ķimikālijas, laboratorijas preces | D27: 67.81
A28: 2361 | B28: Mīkstais inventārs | D28: =0.28*5*5+1.97*5*5 -> 56.25
A29: 2363 | B29: Ēdināšanas izdevumi | D29: 203
A30: 5239 | B30: Pārējie iepriekš neklasificētie pamatlīdzekļi un ieguldījuma īpašumi | D30: 33.23
B31: Tiešās izmaksas kopā | D31: =SUM(D19:D30) -> 1396.09
B32: Netiešās izmaksas
A33: 1100 | B33: Atalgojums | C33: =0.388+0.024 -> 0.412 | D33: 305.05
A34: 1200 | B34: Darba devēja valsts sociālās apdrošināšanas obligātās iemaksas, pabalsti un kompensācijas | C34: =C33*0.2359 -> 0.0971908 | D34: 71.96
A35: 2100 | B35: Mācību, darba un dienesta komandējumi, dienesta, darba braucieni | C35: 0.001166 | D35: 0.86
A36: 2210 | B36: Izdevumi par sakaru pakalpojumiem | C36: 0.0076 | D36: 5.63
A37: 2222 | B37: Izdevumi par ūdensapgādi un kanalizāciju | C37: 0.0095 | D37: 7.03
A38: 2223 | B38: Izdevumi par elektroenerģiju | C38: 0.01902 | D38: 14.08
A39: 2224 | B39: Izdevumi par atkritumu savākšanu, izvešanu no apdzīvotām vietām un teritorijām ārpus apdzīvotām vietām un atkritumu utilizāciju | C39: 0.00495 | D39: 3.67
A40: 2231 | B40: Izdevumi iestādes sabiedrisko aktivitāšu īstenošanai | C40: 0.00155 | D40: 1.15
A41: 2235 | B41: Izdevumi par saņemtajiem mācību pakalpojumiem | C41: 0.00165 | D41: 1.22
A42: 2239 | B42: Pārējie neklasificētie pakalpojumi | C42: 0.00441 | D42: 3.27
A43: 2241 | B43: Ēku, būvju un telpu būvdarbi | C43: 0.0165 | D43: 12.22
...

Sheet 4.3.1.3.
D1: SASKAŅOTS
B2: Sociālās integrācijas valsts aģentūras
D3: direktore I.Jurševska
D5: 2021. gada 30. augustā
A7: Maksas pakalpojuma izcenojuma aprēķins
A9: Sociālās integrācijas valsts aģentūra
A10: Publiskā pakalpojuma veids:
B11: 4. Rehabilitācijas pakalpojumi
B12: 4.3. Veselības veicināšanas programmas
B13: 4.3.1. Dubultu prospektā 71, 2.korpuss, Jūrmalā
B14: 4.3.1.3. Programma "Relaksācija" , 5 dienu kurss (viena vieta vienvietīgā numurā)
A15: Laikposms | B15: 2022.gadā un turpmāk
A16: Izdevumu klasifikācijas kods | B16: Rādītājs (materiāla/izejvielas nosaukums, atlīdzība un citi izmaksu veidi) | D16: Izmaksu apjoms noteiktā laikposmā viena maksas pakalpojuma veida nodrošināšanai
A17: 1 | B17: 2 | D17: 3
B18: Tiešās izmaksas
A19: 1100 | B19: Atalgojums | D19: 535.85
A20: 1200 | B20: Darba devēja valsts sociālās apdrošināšanas obligātās iemaksas, pabalsti un kompensācijas | D20: 126.41
A21: 2222 | B21: Izdevumi par ūdensapgādi un kanalizāciju | D21: 30.54
A22: 2223 | B22: Izdevumi par elektroenerģiju | D22: 32.66
A23: 2243 | B23: Iekārtas, inventāra un aparatūras remonts, tehniskā apkalpošana | D23: 0
A24: 2244 | B24: Nekustamā īpašuma uzturēšana | D24: ='4.3.1.1.'!D24 -> 53
A25: 2312 | B25: Inventārs | D25: ='4.3.1.1.'!D25 -> 7.1
A26: 2321 | B26: Kurināmais | D26: 39.92
A27: 2341 | B27: Zāles, ķimikālijas, laboratorijas preces | D27: 57.18
A28: 2361 | B28: Mīkstais inventārs | D28: ='4.3.1.1.'!D28 -> 56.25
A29: 2363 | B29: Ēdināšanas izdevumi | D29: 203
A30: 5239 | B30: Pārējie iepriekš neklasificētie pamatlīdzekļi un ieguldījuma īpašumi | D30: 31.61
B31: Tiešās izmaksas kopā | D31: =SUM(D19:D30) -> 1173.52
B32: Netiešās izmaksas
A33: 1100 | B33: Atalgojums | C33: =0.388+0.024 -> 0.412 | D33: 420.57
A34: 1200 | B34: Darba devēja valsts sociālās apdrošināšanas obligātās iemaksas, pabalsti un kompensācijas | C34: =C33*0.2359 -> 0.0971908 | D34: 99.21
A35: 2100 | B35: Mācību, darba un dienesta komandējumi, dienesta, darba braucieni | C35: 0.001166 | D35: 1.19
A36: 2210 | B36: Izdevumi par sakaru pakalpojumiem | C36: 0.0076 | D36: 7.76
A37: 2222 | B37: Izdevumi par ūdensapgādi un kanalizāciju | C37: 0.0095 | D37: 9.7
A38: 2223 | B38: Izdevumi par elektroenerģiju | C38: 0.01902 | D38: 19.42
A39: 2224 | B39: Izdevumi par atkritumu savākšanu, izvešanu no apdzīvotām vietām un teritorijām ārpus apdzīvotām vietām un atkritumu utilizāciju | C39: 0.00495 | D39: 5.05
A40: 2231 | B40: Izdevumi iestādes sabiedrisko aktivitāšu īstenošanai | C40: 0.00155 | D40: 1.58
A41: 2235 | B41: Izdevumi par saņemtajiem mācību pakalpojumiem | C41: 0.00165 | D41: 1.68
A42: 2239 | B42: Pārējie neklasificētie pakalpojumi | C42: 0.00441 | D42: 4.5
A43: 2241 | B43: Ēku, būvju un telpu būvdarbi | C43: 0.0165 | D43: 16.84
...

Sheet 4.3.1.4.
C1: SASKAŅOTS
B2: Sociālās integrācijas valsts aģentūras
C3: direktore I.Jurševska
C5: 2021. gada 30. augustā
A7: Maksas pakalpojuma izcenojuma aprēķins
A9: Sociālās integrācijas valsts aģentūra
A10: Publiskā pakalpojuma veids:
B11: 4. Rehabilitācijas pakalpojumi
B12: 4.3. Veselības veicināšanas programmas
B13: 4.3.1. Dubultu prospektā 71, 2.korpuss, Jūrmalā
B14: 4.3.1.4. Programma "Relaksācija" , 5 dienu kurss (viena vieta divvietīgā numurā)
A15: Laikposms | B15: 2022.gadā un turpmāk
A16: Izdevumu klasifikācijas kods | B16: Rādītājs (materiāla/izejvielas nosaukums, atlīdzība un citi izmaksu veidi) | C16: Izmaksu apjoms noteiktā laikposmā viena maksas pakalpojuma veida nodrošināšanai
A17: 1 | B17: 2 | C17: 3
B18: Tiešās izmaksas
A19: 1100 | B19: Atalgojums | C19: 535.85
A20: 1200 | B20: Darba devēja valsts sociālās apdrošināšanas obligātās iemaksas, pabalsti un kompensācijas | C20: 126.41
A21: 2222 | B21: Izdevumi par ūdensapgādi un kanalizāciju | C21: 29.12
A22: 2223 | B22: Izdevumi par elektroenerģiju | C22: 34.06
A23: 2243 | B23: Iekārtas, inventāra un aparatūras remonts, tehniskā apkalpošana | C23: 0
A24: 2244 | B24: Nekustamā īpašuma uzturēšana | C24: ='4.3.1.2.'!D24 -> 26.5
A25: 2312 | B25: Inventārs | C25: 7.1
A26: 2321 | B26: Kurināmais | C26: 40.98
A27: 2341 | B27: Zāles, ķimikālijas, laboratorijas preces | C27: 57.12
A28: 2361 | B28: Mīkstais inventārs | C28: 56.25
A29: 2363 | B29: Ēdināšanas izdevumi | C29: 203
A30: 5239 | B30: Pārējie iepriekš neklasificētie pamatlīdzekļi un ieguldījuma īpašumi | C30: 32.39
B31: Tiešās izmaksas kopā | C31: =SUM(C19:C30) -> 1148.78
B32: Netiešās izmaksas
A33: 1100 | B33: Atalgojums | C33: 267.81
A34: 1200 | B34: Darba devēja valsts sociālās apdrošināšanas obligātās iemaksas, pabalsti un kompensācijas | C34: 63.18
A35: 2100 | B35: Mācību, darba un dienesta komandējumi, dienesta, darba braucieni | C35: 0.76
A36: 2210 | B36: Izdevumi par sakaru pakalpojumiem | C36: 4.94
A37: 2222 | B37: Izdevumi par ūdensapgādi un kanalizāciju | C37: 6.18
A38: 2223 | B38: Izdevumi par elektroenerģiju | C38: 12.36
A39: 2224 | B39: Izdevumi par atkritumu savākšanu, izvešanu no apdzīvotām vietām un teritorijām ārpus apdzīvotām vietām un atkritumu utilizāciju | C39: 3.22
A40: 2231 | B40: Izdevumi iestādes sabiedrisko aktivitāšu īstenošanai | C40: 1.01
A41: 2235 | B41: Izdevumi par saņemtajiem mācību pakalpojumiem | C41: 1.07
A42: 2239 | B42: Pārējie neklasificētie pakalpojumi | C42: 2.87
A43: 2241 | B43: Ēku, būvju un telpu būvdarbi | C43: 10.73
...

Sheet 4.3.1.5.
D1: SASKAŅOTS
B2: Sociālās integrācijas valsts aģentūras
D3: direktore I.Jurševska
D5: 2021. gada 30. augustā
A7: Maksas pakalpojuma izcenojuma aprēķins
A9: Sociālās integrācijas valsts aģentūra
A10: Publiskā pakalpojuma veids:
B11: 4. Rehabilitācijas pakalpojumi
B12: 4.3. Veselības veicināšanas programmas
B13: 4.3.1. Dubultu prospektā 71, 2.korpuss, Jūrmalā
B14: 4.3.1.5. Programma "Vitalitāte" , 7 dienu kurss (viena vieta vienvietīgā numurā)
A15: Laikposms | B15: 2022.gadā un turpmāk
A16: Izdevumu klasifikācijas kods | B16: Rādītājs (materiāla/izejvielas nosaukums, atlīdzība un citi izmaksu veidi) | D16: Izmaksu apjoms noteiktā laikposmā viena maksas pakalpojuma veida nodrošināšanai
A17: 1 | B17: 2 | D17: 3
B18: Tiešās izmaksas
A19: 1100 | B19: Atalgojums | D19: 1009.32
A20: 1200 | B20: Darba devēja valsts sociālās apdrošināšanas obligātās iemaksas, pabalsti un kompensācijas | D20: 238.1
A21: 2222 | B21: Izdevumi par ūdensapgādi un kanalizāciju | D21: 57.3
A22: 2223 | B22: Izdevumi par elektroenerģiju | D22: 62.21
A23: 2243 | B23: Iekārtas, inventāra un aparatūras remonts, tehniskā apkalpošana | D23: 0
A24: 2244 | B24: Nekustamā īpašuma uzturēšana | D24: =2.12*7*5 -> 74.2
A25: 2312 | B25: Inventārs | D25: 13.91
A26: 2321 | B26: Kurināmais | D26: 74.48
A27: 2341 | B27: Zāles, ķimikālijas, laboratorijas preces | D27: 110.81
A28: 2361 | B28: Mīkstais inventārs | D28: =56.25/5/5*7*5 -> 78.75
A29: 2363 | B29: Ēdināšanas izdevumi | D29: =8.12*7*5 -> 284.2
A30: 5239 | B30: Pārējie iepriekš neklasificētie pamatlīdzekļi un ieguldījuma īpašumi | D30: 61.34
B31: Tiešās izmaksas kopā | D31: =SUM(D19:D30) -> 2064.62
B32: Netiešās izmaksas
A33: 1100 | B33: Atalgojums | C33: =0.388+0.024 -> 0.412 | D33: 779.12
A34: 1200 | B34: Darba devēja valsts sociālās apdrošināšanas obligātās iemaksas, pabalsti un kompensācijas | C34: =C33*0.2359 -> 0.0971908 | D34: 183.79
A35: 2100 | B35: Mācību, darba un dienesta komandējumi, dienesta, darba braucieni | C35: 0.001166 | D35: 2.2
A36: 2210 | B36: Izdevumi par sakaru pakalpojumiem | C36: 0.0076 | D36: 14.37
A37: 2222 | B37: Izdevumi par ūdensapgādi un kanalizāciju | C37: 0.0095 | D37: 17.97
A38: 2223 | B38: Izdevumi par elektroenerģiju | C38: 0.01902 | D38: 35.97
A39: 2224 | B39: Izdevumi par atkritumu savākšanu, izvešanu no apdzīvotām vietām un teritorijām ārpus apdzīvotām vietām un atkritumu utilizāciju | C39: 0.00495 | D39: 9.36
A40: 2231 | B40: Izdevumi iestādes sabiedrisko aktivitāšu īstenošanai | C40: 0.00155 | D40: 2.93
A41: 2235 | B41: Izdevumi par saņemtajiem mācību pakalpojumiem | C41: 0.00165 | D41: 3.12
A42: 2239 | B42: Pārējie neklasificētie pakalpojumi | C42: 0.00441 | D42: 8.34
A43: 2241 | B43: Ēku, būvju un telpu būvdarbi | C43: 0.0165 | D43: 31.2
...

Sheet 4.3.1.6.
D1: SASKAŅOTS
B2: Sociālās integrācijas valsts aģentūras
D3: direktore I.Jurševska
D5: 2021. gada 30. augustā
A7: Maksas pakalpojuma izcenojuma aprēķins
A9: Sociālās integrācijas valsts aģentūra
A10: Publiskā pakalpojuma veids:
B11: 4. Rehabilitācijas pakalpojumi
B12: 4.3. Veselības veicināšanas programmas
B13: 4.3.1. Dubultu prospektā 71, 2.korpuss, Jūrmalā
B14: 4.3.1.6. Programma "Vitalitāte" , 7 dienu kurss (viena vieta divvietīgā numurā)
A15: Laikposms | B15: 2022.gadā un turpmāk
A16: Izdevumu klasifikācijas kods | B16: Rādītājs (materiāla/izejvielas nosaukums, atlīdzība un citi izmaksu veidi) | D16: Izmaksu apjoms noteiktā laikposmā viena maksas pakalpojuma veida nodrošināšanai
A17: 1 | B17: 2 | D17: 3
B18: Tiešās izmaksas
A19: 1100 | B19: Atalgojums | D19: 1009.32
A20: 1200 | B20: Darba devēja valsts sociālās apdrošināšanas obligātās iemaksas, pabalsti un kompensācijas | D20: 238.1
A21: 2222 | B21: Izdevumi par ūdensapgādi un kanalizāciju | D21: 56.46
A22: 2223 | B22: Izdevumi par elektroenerģiju | D22: 67.27
A23: 2243 | B23: Iekārtas, inventāra un aparatūras remonts, tehniskā apkalpošana | D23: 0
A24: 2244 | B24: Nekustamā īpašuma uzturēšana | D24: =2.12*7*5/2 -> 37.1
A25: 2312 | B25: Inventārs | D25: 14.41
A26: 2321 | B26: Kurināmais | D26: 79.3
A27: 2341 | B27: Zāles, ķimikālijas, laboratorijas preces | D27: 114.65
A28: 2361 | B28: Mīkstais inventārs | D28: =56.25/5*7 -> 78.75
A29: 2363 | B29: Ēdināšanas izdevumi | D29: =8.12*7*5 -> 284.2
A30: 5239 | B30: Pārējie iepriekš neklasificētie pamatlīdzekļi un ieguldījuma īpašumi | D30: 65.12
B31: Tiešās izmaksas kopā | D31: =SUM(D19:D30) -> 2044.68
B32: Netiešās izmaksas
A33: 1100 | B33: Atalgojums | C33: =0.388+0.024 -> 0.412 | D33: 559.22
A34: 1200 | B34: Darba devēja valsts sociālās apdrošināšanas obligātās iemaksas, pabalsti un kompensācijas | C34: =C33*0.2359 -> 0.0971908 | D34: 131.92
A35: 2100 | B35: Mācību, darba un dienesta komandējumi, dienesta, darba braucieni | C35: 0.001166 | D35: 1.58
A36: 2210 | B36: Izdevumi par sakaru pakalpojumiem | C36: 0.0076 | D36: 10.32
A37: 2222 | B37: Izdevumi par ūdensapgādi un kanalizāciju | C37: 0.0095 | D37: 12.89
A38: 2223 | B38: Izdevumi par elektroenerģiju | C38: 0.01902 | D38: 25.82
A39: 2224 | B39: Izdevumi par atkritumu savākšanu, izvešanu no apdzīvotām vietām un teritorijām ārpus apdzīvotām vietām un atkritumu utilizāciju | C39: 0.00495 | D39: 6.72
A40: 2231 | B40: Izdevumi iestādes sabiedrisko aktivitāšu īstenošanai | C40: 0.00155 | D40: 2.1
A41: 2235 | B41: Izdevumi par saņemtajiem mācību pakalpojumiem | C41: 0.00165 | D41: 2.24
A42: 2239 | B42: Pārējie neklasificētie pakalpojumi | C42: 0.00441 | D42: 5.99
A43: 2241 | B43: Ēku, būvju un telpu būvdarbi | C43: 0.0165 | D43: 22.4
...

Sheet 4.3.1.7.
D1: SASKAŅOTS
B2: Sociālās integrācijas valsts aģentūras
D3: direktore I.Jurševska
D5: 2021. gada 30. augustā
A7: Maksas pakalpojuma izcenojuma aprēķins
A9: Sociālās integrācijas valsts aģentūra
A10: Publiskā pakalpojuma veids:
B11: 4. Rehabilitācijas pakalpojumi
B12: 4.3. Veselības veicināšanas programmas
B13: 4.3.1. Dubultu prospektā 71, 2.korpuss, Jūrmalā
B14: 4.3.1.7. Programma "Organisma attīrīšanas kūre" , 10 dienu kurss (viena vieta vienvietīgā numurā)
A15: Laikposms | B15: 2022.gadā un turpmāk
A16: Izdevumu klasifikācijas kods | B16: Rādītājs (materiāla/izejvielas nosaukums, atlīdzība un citi izmaksu veidi) | D16: Izmaksu apjoms noteiktā laikposmā viena maksas pakalpojuma veida nodrošināšanai
A17: 1 | B17: 2 | D17: 3
B18: Tiešās izmaksas
A19: 1100 | B19: Atalgojums | D19: 1139.14
A20: 1200 | B20: Darba devēja valsts sociālās apdrošināšanas obligātās iemaksas, pabalsti un kompensācijas | D20: 268.72
A21: 2222 | B21: Izdevumi par ūdensapgādi un kanalizāciju | D21: 52.39
A22: 2223 | B22: Izdevumi par elektroenerģiju | D22: 56.88
A23: 2243 | B23: Iekārtas, inventāra un aparatūras remonts, tehniskā apkalpošana | D23: 0
A24: 2244 | B24: Nekustamā īpašuma uzturēšana | D24: =2.12*10*5 -> 106
A25: 2312 | B25: Inventārs | D25: 12.72
A26: 2321 | B26: Kurināmais | D26: 68.09
A27: 2341 | B27: Zāles, ķimikālijas, laboratorijas preces | D27: 101.32
A28: 2361 | B28: Mīkstais inventārs | D28: =56.25/5/5*10*4 -> 90
A29: 2363 | B29: Ēdināšanas izdevumi | D29: =8.12*10*4 -> 324.8
A30: 5239 | B30: Pārējie iepriekš neklasificētie pamatlīdzekļi un ieguldījuma īpašumi | D30: 56.09
B31: Tiešās izmaksas kopā | D31: =SUM(D19:D30) -> 2276.15
B32: Netiešās izmaksas
A33: 1100 | B33: Atalgojums | C33: =0.388+0.024 -> 0.412 | D33: 732.1
A34: 1200 | B34: Darba devēja valsts sociālās apdrošināšanas obligātās iemaksas, pabalsti un kompensācijas | C34: =C33*0.2359 -> 0.0971908 | D34: 172.7
A35: 2100 | B35: Mācību, darba un dienesta komandējumi, dienesta, darba braucieni | C35: 0.001166 | D35: 2.07
A36: 2210 | B36: Izdevumi par sakaru pakalpojumiem | C36: 0.0076 | D36: 13.5
A37: 2222 | B37: Izdevumi par ūdensapgādi un kanalizāciju | C37: 0.0095 | D37: 16.88
A38: 2223 | B38: Izdevumi par elektroenerģiju | C38: 0.01902 | D38: 33.8
A39: 2224 | B39: Izdevumi par atkritumu savākšanu, izvešanu no apdzīvotām vietām un teritorijām ārpus apdzīvotām vietām un atkritumu utilizāciju | C39: 0.00495 | D39: 8.8
A40: 2231 | B40: Izdevumi iestādes sabiedrisko aktivitāšu īstenošanai | C40: 0.00155 | D40: 2.75
A41: 2235 | B41: Izdevumi par saņemtajiem mācību pakalpojumiem | C41: 0.00165 | D41: 2.93
A42: 2239 | B42: Pārējie neklasificētie pakalpojumi | C42: 0.00441 | D42: 7.84
A43: 2241 | B43: Ēku, būvju un telpu būvdarbi | C43: 0.0165 | D43: 29.32
...

Sheet 4.3.1.8.
D1: SASKAŅOTS
B2: Sociālās integrācijas valsts aģentūras
D3: direktore I.Jurševska
D5: 2021. gada 30. augustā
A7: Maksas pakalpojuma izcenojuma aprēķins
A9: Sociālās integrācijas valsts aģentūra
A10: Publiskā pakalpojuma veids:
B11: 4. Rehabilitācijas pakalpojumi
B12: 4.3. Veselības veicināšanas programmas
B13: 4.3.1. Dubultu prospektā 71, 2.korpuss, Jūrmalā
B14: 4.3.1.8. Programma "Organisma attīrīšanas kūre" , 10 dienu kurss (viena vieta divvietīgā numurā)
A15: Laikposms | B15: 2022.gadā un turpmāk
A16: Izdevumu klasifikācijas kods | B16: Rādītājs (materiāla/izejvielas nosaukums, atlīdzība un citi izmaksu veidi) | D16: Izmaksu apjoms noteiktā laikposmā viena maksas pakalpojuma veida nodrošināšanai
A17: 1 | B17: 2 | D17: 3
B18: Tiešās izmaksas
A19: 1100 | B19: Atalgojums | D19: 1139.14
A20: 1200 | B20: Darba devēja valsts sociālās apdrošināšanas obligātās iemaksas, pabalsti un kompensācijas | D20: 268.72
A21: 2222 | B21: Izdevumi par ūdensapgādi un kanalizāciju | D21: 51.17
A22: 2223 | B22: Izdevumi par elektroenerģiju | D22: 60.97
A23: 2243 | B23: Iekārtas, inventāra un aparatūras remonts, tehniskā apkalpošana | D23: 0
A24: 2244 | B24: Nekustamā īpašuma uzturēšana | D24: =2.12*10*5/2 -> 53
A25: 2312 | B25: Inventārs | D25: 13.05
A26: 2321 | B26: Kurināmais | D26: 71.88
A27: 2341 | B27: Zāles, ķimikālijas, laboratorijas preces | D27: 103.95
A28: 2361 | B28: Mīkstais inventārs | D28: =56.25/5/5*10*4 -> 90
A29: 2363 | B29: Ēdināšanas izdevumi | D29: =8.12*10*4 -> 324.8
A30: 5239 | B30: Pārējie iepriekš neklasificētie pamatlīdzekļi un ieguldījuma īpašumi | D30: 59.03
