Workbook

Sheet Saturs
B1: 1.pielikums
B2: Ministru kabineta noteikumu projekta "Grozījumi Ministru kabineta
A3: 2013.gada 24.septembra noteikumos Nr.1002 "Sociālās
B4: integrācijas valstas aģentūras sniegto maksas pakalpojumu cenrādis""
B5: sākotnējās ietekmes novērtējuma ziņojumam (anotācijai)
B8: Satura rādītājs
B10: 4 | C10: Rehabilitāciajs pakalpojumi
B11: 4.1.1.1. | C11: Rehabilitācijas kurss Dubultu prospektā 71, Jūrmalā, 2.korpuss (viena vieta vienvietīgā numurā)
B12: 4.1.1.2.1. | C12: Rehabilitācijas kurss Dubultu prospektā 71, Jūrmalā, 2.korpuss (viena vieta vienvietīgā pielāgotā numurā)
B13: 4.1.1.2.2. | C13: Rehabilitācijas kurss Dubultu prospektā 71, Jūrmalā, 2.korpuss (viena vieta divvietīgā pielāgotā numurā)
B14: 4.1.1.3. | C14: Rehabilitācijas kurss Dubultu prospektā 71, Jūrmalā, 2.korpuss (viena vieta divvietīgā numurā)
B15: 4.1.1.4. | C15: Rehabilitācijas kurss Dubultu prospektā 71, Jūrmalā, 2.korpuss (viena vieta divvietīgā divistabu numurā)
B16: 4.1.1.5. | C16: Rehabilitācijas kurss Dubultu prospektā 71, Jūrmalā, 2.korpuss bērnam no 2 līdz 14 gadu vecumam (papildus gultasvieta)
B17: 4.1.1.6. | C17: Rehabilitācijas kurss Dubultu prospektā 71, Jūrmala, 2.korpuss, programma Harmonija (viena vieta divvietīgā numurā)
B18: 4.1.2.1. | C18: Rehabilitācijas kurss Dubultu prospektā 71, Jūrmalā, 1.korpuss ( viena vieta vienvietīgā numurā)
B19: 4.1.2.2. | C19: Rehabilitācijas kurss Dubultu prospektā 71, Jūrmalā, 1.korpuss ( viena vieta divvietīgā numurā)
B20: 4.1.2.3. | C20: Rehabilitācijas kurss Dubultu prospektā 71,Jūrmalā, 1.korpuss (viena vieta divvietīgā divistabu numurā)
B21: 4.1.2.4. | C21: Rehabilitācijas kurss Dubultu prospektā 71, Jūrmalā, 1.korpuss bērnam no 2 līdz 14 gadu vecumam (papildus gultasvieta)
B22: 4.1.2.5. | C22: Rehabilitācijas kurss Dubultu prospektā 71, Jūrmalā, 1.korpuss programma Harmonija (viena vieta divvietīgā numurā)
... B44: 4.3.2.10. | C44: Programma "Restartē darba spējas" Dubultu prospektā 71, Jūrmalā, 1.korpuss (viena vieta divvietīgā numurā)

Sheet 4.1.1.1.
C1: SASKAŅOTS
B2: Sociālās integrācijas valsts aģentūras
C3: direktore I.Jurševska
C6: 2021. gada 30.augustā
A8: Maksas pakalpojuma izcenojuma aprēķins
A10: Sociālās integrācijas valsts aģentūra
A11: Publiskā pakalpojuma veids:
B12: 4. Rehabilitācijas pakalpojumi
B13: 4.1.Rehabilitācijas kurss Dubultu prospektā 71, Jūrmalā,
B14: 4.1.1. Rehabilitācijas kurss Dubultu prospektā 71, 2.korpuss, Jūrmalā
B15: 4.1.1.1. Rehabilitācijas kurss (viena vieta vienvietīgā numurā)
A16: Laikposms | B16: 2022.gadā un turpmāk
A17: Izdevumu klasifikācijas kods | B17: Rādītājs (materiāla/izejvielas nosaukums, atlīdzība un citi izmaksu veidi) | C17: Izmaksu apjoms noteiktā laikposmā viena maksas pakalpojuma veida nodrošināšanai
A18: 1 | B18: 2 | C18: 3
B19: Tiešās izmaksas
A20: 1100 | B20: Atalgojums | C20: =23.91*50 -> 1195.5
A21: 1200 | B21: Darba devēja valsts sociālās apdrošināšanas obligātās iemaksas, pabalsti un kompensācijas | C21: 282.02
A22: 2222 | B22: Izdevumi par ūdensapgādi un kanalizāciju | C22: =1.17*50 -> 58.5
A23: 2223 | B23: Izdevumi par elektroenerģiju | C23: =1.27*50 -> 63.5
A24: 2243 | B24: Iekārtas, inventāra un aparatūras remonts, tehniskā apkalpošana | C24: =0.28*50 -> 14
A25: 2244 | B25: Nekustamā īpašuma uzturēšana | C25: =2.12*50 -> 106
A26: 2312 | B26: Inventārs | C26: 14.2
A27: 2321 | B27: Kurināmais | C27: 76
A28: 2341 | B28: Zāles, ķimikālijas, laboratorijas preces | C28: 113.08
A29: 2361 | B29: Mīkstais inventārs | C29: =0.28*50+1.97*50 -> 112.5
A30: 2363 | B30: Ēdināšanas izdevumi | C30: 406
A31: 5239 | B31: Pārējie iepriekš neklasificētie pamatlīdzekļi un ieguldījuma īpašumi | C31: 62.6
B32: Tiešās izmaksas kopā | C32: =SUM(C20:C31) -> 2503.9
B33: Netiešās izmaksas
A34: 1100 | B34: Atalgojums | C34: 851.32
A35: 1200 | B35: Darba devēja valsts sociālās apdrošināšanas obligātās iemaksas, pabalsti un kompensācijas | C35: 200.83
A36: 2100 | B36: Mācību, darba un dienesta komandējumi, dienesta, darba braucieni | C36: 2.41
A37: 2210 | B37: Izdevumi par sakaru pakalpojumiem | C37: 15.7
A38: 2222 | B38: Izdevumi par ūdensapgādi un kanalizāciju | C38: 19.63
A39: 2223 | B39: Izdevumi par elektroenerģiju | C39: 39.3
A40: 2224 | B40: Izdevumi par atkritumu savākšanu, izvešanu no apdzīvotām vietām un teritorijām ārpus apdzīvotām vietām un atkritumu utilizāciju | C40: =10.23 -> 10.23
A41: 2231 | B41: Izdevumi iestādes sabiedrisko aktivitāšu īstenošanai | C41: 3.2
A42: 2235 | B42: Izdevumi par saņemtajiem mācību pakalpojumiem | C42: 3.41
A43: 2239 | B43: Pārējie neklasificētie pakalpojumi | C43: 9.11
A44: 2241 | B44: Ēku, būvju un telpu būvdarbi | C44: 34.09
A45: 2242 | B45: Transportlīdzekļu uzturēšana un remonts | C45: 4.67
A46: 2243 | B46: Iekārtas, inventāra un aparatūras remonts, tehniskā apkalpošana | C46: 67.36
A47: 2244 | B47: Nekustamā īpašuma uzturēšana | C47: 421.47
A48: 2247 | B48: Apdrošināšanas izdevumi | C48: 1.49
A49: 2249 | B49: Pārējie remontdarbu un iestāžu uzturēšanas pakalpojum | C49: 0.48
A50: 2250 | B50: Informācijas tehnoloģiju pakalpojumi | C50: 49.65
A51: 2261 | B51: Ēku, telpu īre un noma | C51: 0
A52: 2262 | B52: Transportlīdzekļu noma | C52: 12.94
... A72: 5238 | B72: Datortehnika, sakaru un cita biroja tehnika | C72: 3.41
A73: 5239 | B73: Pārējie iepriekš neklasificētie pamatlīdzekļi un ieguldījuma īpašumi | C73: =35.91-2.43-7 -> 26.48
A74: 5250 | B74: Kapitālais remonts un rekonstrukcija | C74: =40.17-3.01-7-0.05 -> 30.11
B75: Netiešās izmaksas kopā | C75: =SUM(C34:C74) -> 2040.1
B76: Pakalpojumu izmaksas kopā | C76: =C32+C75 -> 4544
A78: Maksas pakalpojuma vienību skaits noteiktā laikposmā (gab.) | C78: 50
A79: Maksas pakalpojuma izcenojums (euro) | C79: =C76/C78 -> 90.88
A81: Prognozētais maksas pakalpojumu skaits gadā (gab.)*
A82: Prognozētie ieņēmumi gadā (euro)*
A84: Piezīme. *Ailes neaizpilda, ja izvēlētais laikposms ir viens gads.
A86: Aprēķinu sastādīja: SIVA Finanšu nodaļas vecākā finanšu ekonomiste Anita Ozoliņa

Sheet 4.1.1.2.1.
D1: SASKAŅOTS
B2: Sociālās integrācijas valsts aģentūras
B3: direktore I.Jurševska
B6: 2021. gada 30.augustā
A8: Maksas pakalpojuma izcenojuma aprēķins
A10: Sociālās integrācijas valsts aģentūra
A11: Publiskā pakalpojuma veids:
B12: 4. Rehabilitācijas pakalpojumi
B13: 4.1. Rehabilitācijas kurss Dubultu prospektā 71, Jūrmalā,
B14: 4.1.1. Rehabilitācijas kurss Dubultu prospektā 71, 2.korpuss, Jūrmalā
B15: 4.1.1.2. Rehabilitācijas kurss pielāgotā numurā
B16: 4.1.1.2.1. Viena vieta vienvietīgā pielāgotā numurā
A17: Laikposms | B17: 2022.gadā un turpmāk
A18: Izdevumu klasifikācijas kods | B18: Rādītājs (materiāla/izejvielas nosaukums, atlīdzība un citi izmaksu veidi) | D18: Izmaksu apjoms noteiktā laikposmā viena maksas pakalpojuma veida nodrošināšanai
A19: 1 | B19: 2 | D19: 3
B20: Tiešās izmaksas
A21: 1100 | B21: Atalgojums | D21: =23.91*290 -> 6933.9
A22: 1200 | B22: Darba devēja valsts sociālās apdrošināšanas obligātās iemaksas, pabalsti un kompensācijas | D22: 1635.71
A23: 2222 | B23: Izdevumi par ūdensapgādi un kanalizāciju | D23: 339.1
A24: 2223 | B24: Izdevumi par elektroenerģiju | D24: 368.16
A25: 2243 | B25: Iekārtas, inventāra un aparatūras remonts, tehniskā apkalpošana | D25: 0
A26: 2244 | B26: Nekustamā īpašuma uzturēšana | D26: =106/50*290 -> 614.8
A27: 2312 | B27: Inventārs | D27: 88.27
A28: 2321 | B28: Kurināmais | D28: 440.8
A29: 2341 | B29: Zāles, ķimikālijas, laboratorijas preces | D29: 655.84
A30: 2361 | B30: Mīkstais inventārs | D30: =112.5/50*290 -> 652.5
A31: 2363 | B31: Ēdināšanas izdevumi | D31: 2354.8
A32: 5239 | B32: Pārējie iepriekš neklasificētie pamatlīdzekļi un ieguldījuma īpašumi | D32: 378.57
B33: Tiešās izmaksas kopā | D33: =SUM(D21:D32) -> 14462.45
B34: Netiešās izmaksas
A35: 1100 | B35: Atalgojums | C35: =0.388+0.024 -> 0.412 | D35: 4917.74
A36: 1200 | B36: Darba devēja valsts sociālās apdrošināšanas obligātās iemaksas, pabalsti un kompensācijas | C36: =C35*0.2359 -> 0.0971908 | D36: 1160.09
A37: 2100 | B37: Mācību, darba un dienesta komandējumi, dienesta, darba braucieni | C37: 0.001166 | D37: 13.92
A38: 2210 | B38: Izdevumi par sakaru pakalpojumiem | C38: 0.0076 | D38: 90.72
A39: 2222 | B39: Izdevumi par ūdensapgādi un kanalizāciju | C39: 0.0095 | D39: 113.39
A40: 2223 | B40: Izdevumi par elektroenerģiju | C40: 0.01902 | D40: 227.03
A41: 2224 | B41: Izdevumi par atkritumu savākšanu, izvešanu no apdzīvotām vietām un teritorijām ārpus apdzīvotām vietām un atkritumu utilizāciju | C41: 0.00495 | D41: 59.08
A42: 2231 | B42: Izdevumi iestādes sabiedrisko aktivitāšu īstenošanai | C42: 0.00155 | D42: 18.5
A43: 2235 | B43: Izdevumi par saņemtajiem mācību pakalpojumiem | C43: 0.00165 | D43: 19.69
A44: 2239 | B44: Pārējie neklasificētie pakalpojumi | C44: 0.00441 | D44: 52.64
A45: 2241 | B45: Ēku, būvju un telpu būvdarbi | C45: 0.0165 | D45: 196.95
A46: 2242 | B46: Transportlīdzekļu uzturēšana un remonts | C46: 0.00226 | D46: 26.98
A47: 2243 | B47: Iekārtas, inventāra un aparatūras remonts, tehniskā apkalpošana | C47: 0.0326 | D47: 389.12
A48: 2244 | B48: Nekustamā īpašuma uzturēšana | C48: 0.20397 | D48: 2434.64
... A51: 2250 | B51: Informācijas tehnoloģiju pakalpojumi | C51: 0.024026 | D51: 286.78
A52: 2261 | B52: Ēku, telpu īre un noma | C52: 0 | D52: =C52*11936.25 -> 0
A53: 2262 | B53: Transportlīdzekļu noma | C53: 0.00626 | D53: 74.72
A54: 2263 | B54: Zemes noma | C54: 0.0458 | D54: 546.68
A55: 2264 | B55: Iekārtu, aparatūras un inventāra īre un noma | C55: 0.00149 | D55: 17.79
A56: 2311 | B56: Biroja preces | C56: 0.00477 | D56: 56.94
A57: 2312 | B57: Inventārs | C57: 0.00579 | D57: 69.11
A58: 2314 | B58: Izdevumi par precēm iestādes sabiedrisko aktivitāšu īstenošanai | C58: 0.00222 | D58: 26.5
A59: 2321 | B59: Kurināmais | C59: 0.0198 | D59: =236.34+1.37 -> 237.71
A60: 2322 | B60: Degviela | C60: 0.0035 | D60: 41.78
A61: 2341 | B61: Zāles, ķimikālijas, laboratorijas preces | D61: =C61*11936.25 -> 0
A62: 2350 | B62: Iestāžu uzturēšanas materiāli un preces | C62: 0.0085 | D62: 101.46
A63: 2361 | B63: Mīkstais inventārs | C63: 0 | D63: =C63*11936.25 -> 0
A64: 2362 | B64: Virtuves inventārs, trauki un galda piederumi | C64: 0 | D64: =C64*11936.25 -> 0
A65: 2363 | B65: Ēdināšanas izdevumi | C65: 0 | D65: =C65*11936.25 -> 0
A66: 2370 | B66: Mācību līdzekļi un materiāli | C66: 0 | D66: =C66*11936.25 -> 0
A67: 2400 | B67: Izdevumi periodikas iegādei | C67: 0 | D67: =C67*11936.25 -> 0
A68: 2512 | B68: Budžeta iestāžu pievienotās vērtības nodokļa maksājumi | C68: 0 | D68: =C68*11936.25 -> 0
A69: 2513 | B69: Budžeta iestāžu nekustamā īpašuma nodokļa maksājumi | C69: 0.00146 | D69: 17.43
A70: 2515 | B70: Budžeta iestāžu dabas resursu nodokļa maksājumi | C70: 0.0019 | D70: 22.68
A71: 2519 | B71: Pārējie budžeta iestāžu pārskaitītie nodokļi un nodevas | C71: 0.002 | D71: 23.87
A72: 5220 | B72: Tehnoloģiskās iekārtas un mašīnas | C72: 0.0106 | D72: 126.52
A73: 5238 | B73: Datortehnika, sakaru un cita biroja tehnika | C73: 0.00165 | D73: 19.69
A74: 5239 | B74: Pārējie iepriekš neklasificētie pamatlīdzekļi un ieguldījuma īpašumi | C74: 0.0198 | D74: 236.34
A75: 5250 | B75: Kapitālais remonts un rekonstrukcija | C75: 0.025 | D75: 298.41
B76: Netiešās izmaksas kopā | D76: =SUM(D35:D75) -> 11936.25
B77: Pakalpojumu izmaksas kopā | D77: =D76+D33 -> 26398.7
A79: Maksas pakalpojuma vienību skaits noteiktā laikposmā (gab.) | D79: 290
A80: Maksas pakalpojuma izcenojums (euro) | D80: =D77/D79 -> 91.03
A82: Prognozētais maksas pakalpojumu skaits gadā (gab.)*
A83: Prognozētie ieņēmumi gadā (euro)*
A85: Piezīme. *Ailes neaizpilda, ja izvēlētais laikposms ir viens gads.
A87: Aprēķinu sastādīja: SIVA Finanšu nodaļas vecākā finanšu ekonomiste Anita Ozoliņa

Sheet 4.1.1.2.2.
D1: SASKAŅOTS
B2: Sociālās integrācijas valsts aģentūras
B3: direktore I.Jurševska
B6: 2021. gada 30. augustā
A8: Maksas pakalpojuma izcenojuma aprēķins
A10: Sociālās integrācijas valsts aģentūra
A11: Publiskā pakalpojuma veids:
B12: 4. Rehabilitācijas pakalpojumi
B13: 4.1. Rehabilitācijas kurss Dubultu prospektā 71, Jūrmalā,
B14: 4.1.1. Rehabilitācijas kurss Dubultu prospektā 71, 2.korpuss, Jūrmalā
B15: 4.1.1.2. Rehabilitācijas kurss pielāgotā numurā
B16: 4.1.1.2.2. Viena vieta divvietīgā pielāgotā numurā
A17: Laikposms | B17: 2022.gadā un turpmāk
A18: Izdevumu klasifikācijas kods | B18: Rādītājs (materiāla/izejvielas nosaukums, atlīdzība un citi izmaksu veidi) | D18: Izmaksu apjoms noteiktā laikposmā viena maksas pakalpojuma veida nodrošināšanai
A19: 1 | B19: 2 | D19: 3
B20: Tiešās izmaksas
A21: 1100 | B21: Atalgojums | D21: =23.91*20 -> 478.2
A22: 1200 | B22: Darba devēja valsts sociālās apdrošināšanas obligātās iemaksas, pabalsti un kompensācijas | D22: 112.81
A23: 2222 | B23: Izdevumi par ūdensapgādi un kanalizāciju | D23: 22.25
A24: 2223 | B24: Izdevumi par elektroenerģiju | D24: 26.51
A25: 2243 | B25: Iekārtas, inventāra un aparatūras remonts, tehniskā apkalpošana | D25: 0
A26: 2244 | B26: Nekustamā īpašuma uzturēšana | D26: 21.2
A27: 2312 | B27: Inventārs | D27: 5.68
A28: 2321 | B28: Kurināmais | D28: 31.25
A29: 2341 | B29: Zāles, ķimikālijas, laboratorijas preces | D29: 45.18
A30: 2361 | B30: Mīkstais inventārs | D30: 45
A31: 2363 | B31: Ēdināšanas izdevumi | D31: 162.4
A32: 5239 | B32: Pārējie iepriekš neklasificētie pamatlīdzekļi un ieguldījuma īpašumi | D32: 13.05
B33: Tiešās izmaksas kopā | D33: =SUM(D21:D32) -> 963.53
B34: Netiešās izmaksas
A35: 1100 | B35: Atalgojums | C35: =0.388+0.024 -> 0.412 | D35: 243.08
A36: 1200 | B36: Darba devēja valsts sociālās apdrošināšanas obligātās iemaksas, pabalsti un kompensācijas | C36: =C35*0.2359 -> 0.0971908 | D36: 57.34
A37: 2100 | B37: Mācību, darba un dienesta komandējumi, dienesta, darba braucieni | C37: 0.001166 | D37: 0.66
A38: 2210 | B38: Izdevumi par sakaru pakalpojumiem | C38: 0.0076 | D38: 4.3
A39: 2222 | B39: Izdevumi par ūdensapgādi un kanalizāciju | C39: 0.0095 | D39: 5.37
A40: 2223 | B40: Izdevumi par elektroenerģiju | C40: 0.01902 | D40: 10.76
A41: 2224 | B41: Izdevumi par atkritumu savākšanu, izvešanu no apdzīvotām vietām un teritorijām ārpus apdzīvotām vietām un atkritumu utilizāciju | C41: 0.00495 | D41: 2.8
A42: 2231 | B42: Izdevumi iestādes sabiedrisko aktivitāšu īstenošanai | C42: 0.00155 | D42: 0.88
A43: 2235 | B43: Izdevumi par saņemtajiem mācību pakalpojumiem | C43: 0.00165 | D43: 0.93
A44: 2239 | B44: Pārējie neklasificētie pakalpojumi | C44: 0.00441 | D44: 2.49
A45: 2241 | B45: Ēku, būvju un telpu būvdarbi | C45: 0.0165 | D45: 9.33
A46: 2242 | B46: Transportlīdzekļu uzturēšana un remonts | C46: 0.00226 | D46: 1.28
A47: 2243 | B47: Iekārtas, inventāra un aparatūras remonts, tehniskā apkalpošana | C47: 0.0326 | D47: 18.44
A48: 2244 | B48: Nekustamā īpašuma uzturēšana | C48: 0.20397 | D48: =115.39-29.63 -> 85.76
A49: 2247 | B49: Apdrošināšanas izdevumi | C49: 0.000719 | D49: 0.41
A50: 2249 | B50: Pārējie remontdarbu un iestāžu uzturēšanas pakalpojum | C50: 0.000232 | D50: 0.13
A51: 2250 | B51: Informācijas tehnoloģiju pakalpojumi | C51: 0.024026 | D51: 13.59
A52: 2261 | B52: Ēku, telpu īre un noma | C52: 0 | D52: 0
A53: 2262 | B53: Transportlīdzekļu noma | C53: 0.00626 | D53: 3.54
A54: 2263 | B54: Zemes noma | C54: 0.0458 | D54: 25.91
A55: 2264 | B55: Iekārtu, aparatūras un inventāra īre un noma | C55: 0.00149 | D55: 0.84
A56: 2311 | B56: Biroja preces | C56: 0.00477 | D56: 2.7
A57: 2312 | B57: Inventārs | C57: 0.00579 | D57: 10.08
A58: 2314 | B58: Izdevumi par precēm iestādes sabiedrisko aktivitāšu īstenošanai | C58: 0.00222 | D58: 1.26
A59: 2321 | B59: Kurināmais | C59: 0.0198 | D59: 21.2
A60: 2322 | B60: Degviela | C60: 0.0035 | D60: 1.98
A61: 2341 | B61: Zāles, ķimikālijas, laboratorijas preces | D61: 0
A62: 2350 | B62: Iestāžu uzturēšanas materiāli un preces | C62: 0.0085 | D62: 4.81
A63: 2361 | B63: Mīkstais inventārs | C63: 0 | D63: 0
A64: 2362 | B64: Virtuves inventārs, trauki un galda piederumi | C64: 0 | D64: 0
A65: 2363 | B65: Ēdināšanas izdevumi | C65: 0 | D65: 0
A66: 2370 | B66: Mācību līdzekļi un materiāli | C66: 0 | D66: 0
A67: 2400 | B67: Izdevumi periodikas iegādei | C67: 0 | D67: 0
A68: 2512 | B68: Budžeta iestāžu pievienotās vērtības nodokļa maksājumi | C68: 0 | D68: 0
A69: 2513 | B69: Budžeta iestāžu nekustamā īpašuma nodokļa maksājumi | C69: 0.00146 | D69: 0.83
A70: 2515 | B70: Budžeta iestāžu dabas resursu nodokļa maksājumi | C70: 0.0019 | D70: 1.07
A71: 2519 | B71: Pārējie budžeta iestāžu pārskaitītie nodokļi un nodevas | C71: 0.002 | D71: 1.13
A72: 5220 | B72: Tehnoloģiskās iekārtas un mašīnas | C72: 0.0106 | D72: 6
A73: 5238 | B73: Datortehnika, sakaru un cita biroja tehnika | C73: 0.00165 | D73: 1.03
A74: 5239 | B74: Pārējie iepriekš neklasificētie pamatlīdzekļi un ieguldījuma īpašumi | C74: 0.0198 | D74: 11.2
A75: 5250 | B75: Kapitālais remonts un rekonstrukcija | C75: 0.025 | D75: =14.14 -> 14.14
B76: Netiešās izmaksas kopā | D76: =SUM(D35:D75) -> 565.27
B77: Pakalpojumu izmaksas kopā | D77: =D76+D33 -> 1528.8
A79: Maksas pakalpojuma vienību skaits noteiktā laikposmā (gab.) | D79: 20
A80: Maksas pakalpojuma izcenojums (euro) | D80: =D77/D79 -> 76.44
A82: Prognozētais maksas pakalpojumu skaits gadā (gab.)*
A83: Prognozētie ieņēmumi gadā (euro)*
A85: Piezīme. *Ailes neaizpilda, ja izvēlētais laikposms ir viens gads.
A87: Aprēķinu sastādīja: SIVA Finanšu nodaļas vecākā finanšu ekonomiste Anita Ozoliņa

Sheet 4.1.1.3.
D1: SASKAŅOTS
C2: Sociālās integrācijas valsts aģentūras
D3: direktore I.Jurševska
D5: 2021. gada 30. augustā
A7: Maksas pakalpojuma izcenojuma aprēķins
A9: Sociālās integrācijas valsts aģentūra
A10: Publiskā pakalpojuma veids:
B11: 4. Rehabilitācijas pakalpojumi
B12: 4.1. Rehabilitācijas kurss Dubultu prospektā 71, Jūrmalā,
B13: 4.1.1. Rehabilitācijas kurss Dubultu prospektā 71, 2.korpuss, Jūrmalā
B14: 4.1.1.3. Rehabilitācijas kurss (viena vieta divvietīgā numurā)
A16: Laikposms | B16: 2022.gadā un turpmāk
A17: Izdevumu klasifikācijas kods | B17: Rādītājs (materiāla/izejvielas nosaukums, atlīdzība un citi izmaksu veidi) | D17: Izmaksu apjoms noteiktā laikposmā viena maksas pakalpojuma veida nodrošināšanai
A18: 1 | B18: 2 | D18: 3
B19: Tiešās izmaksas
A20: 1100 | B20: Atalgojums | D20: =23.91*250 -> 5977.5
A21: 1200 | B21: Darba devēja valsts sociālās apdrošināšanas obligātās iemaksas, pabalsti un kompensācijas | D21: 1410.09
A22: 2222 | B22: Izdevumi par ūdensapgādi un kanalizāciju | D22: 278.09
A23: 2223 | B23: Izdevumi par elektroenerģiju | D23: 331.41
A24: 2243 | B24: Iekārtas, inventāra un aparatūras remonts, tehniskā apkalpošana | D24: 0
A25: 2244 | B25: Nekustamā īpašuma uzturēšana | D25: =2.12*250/2 -> 265
A26: 2312 | B26: Inventārs | D26: 70.96
A27: 2321 | B27: Kurināmais | D27: 390.63
A28: 2341 | B28: Zāles, ķimikālijas, laboratorijas preces | D28: 564.75
A29: 2361 | B29: Mīkstais inventārs | D29: =2.25*250 -> 562.5
A30: 2363 | B30: Ēdināšanas izdevumi | D30: =8.12*250 -> 2030
A31: 5239 | B31: Pārējie iepriekš neklasificētie pamatlīdzekļi un ieguldījuma īpašumi | D31: 320.81
B32: Tiešās izmaksas kopā | D32: =SUM(D20:D31) -> 12201.74
B33: Netiešās izmaksas
A34: 1100 | B34: Atalgojums | C34: =0.388+0.024 -> 0.412 | D34: 2707.48
A35: 1200 | B35: Darba devēja valsts sociālās apdrošināšanas obligātās iemaksas, pabalsti un kompensācijas | C35: =C34*0.2359 -> 0.0971908 | D35: 638.69
A36: 2100 | B36: Mācību, darba un dienesta komandējumi, dienesta, darba braucieni | C36: 0.001166 | D36: 7.66
A37: 2210 | B37: Izdevumi par sakaru pakalpojumiem | C37: 0.0076 | D37: 49.94
A38: 2222 | B38: Izdevumi par ūdensapgādi un kanalizāciju | C38: 0.0095 | D38: 62.43
A39: 2223 | B39: Izdevumi par elektroenerģiju | C39: 0.01902 | D39: 124.99
A40: 2224 | B40: Izdevumi par atkritumu savākšanu, izvešanu no apdzīvotām vietām un teritorijām ārpus apdzīvotām vietām un atkritumu utilizāciju | C40: 0.00495 | D40: 32.53
A41: 2231 | B41: Izdevumi iestādes sabiedrisko aktivitāšu īstenošanai | C41: 0.00155 | D41: 10.19
A42: 2235 | B42: Izdevumi par saņemtajiem mācību pakalpojumiem | C42: 0.00165 | D42: 10.84
A43: 2239 | B43: Pārējie neklasificētie pakalpojumi | C43: 0.00441 | D43: 28.98
A44: 2241 | B44: Ēku, būvju un telpu būvdarbi | C44: 0.0165 | D44: 108.43
A45: 2242 | B45: Transportlīdzekļu uzturēšana un remonts | C45: 0.00226 | D45: 14.85
A46: 2243 | B46: Iekārtas, inventāra un aparatūras remonts, tehniskā apkalpošana | C46: 0.0326 | D46: =214.23+24.72 -> 238.95
A47: 2244 | B47: Nekustamā īpašuma uzturēšana | C47: 0.20397 | D47: 1340.4
A48: 2247 | B48: Apdrošināšanas izdevumi | C48: 0.000719 | D48: 4.72
A49: 2249 | B49: Pārējie remontdarbu un iestāžu uzturēšanas pakalpojum | C49: 0.000232 | D49: 1.52
A50: 2250 | B50: Informācijas tehnoloģiju pakalpojumi | C50: 0.024026 | D50: 157.89
A51: 2261 | B51: Ēku, telpu īre un noma | C51: 0 | D51: 0
A52: 2262 | B52: Transportlīdzekļu noma | C52: 0.00626 | D52: 41.14
A53: 2263 | B53: Zemes noma | C53: 0.0458 | D53: 300.98
A54: 2264 | B54: Iekārtu, aparatūras un inventāra īre un noma | C54: 0.00149 | D54: 9.79
A55: 2311 | B55: Biroja preces | C55: 0.00477 | D55: 31.35
A56: 2312 | B56: Inventārs | C56: 0.00579 | D56: 38.05
A57: 2314 | B57: Izdevumi par precēm iestādes sabiedrisko aktivitāšu īstenošanai | C57: 0.00222 | D57: 14.59
A58: 2321 | B58: Kurināmais | C58: 0.0198 | D58: 130.12
A59: 2322 | B59: Degviela | C59: 0.0035 | D59: 23
A60: 2341 | B60: Zāles, ķimikālijas, laboratorijas preces | D60: 0
A61: 2350 | B61: Iestāžu uzturēšanas materiāli un preces | C61: 0.0085 | D61: =55.86+0.77 -> 56.63
A62: 2361 | B62: Mīkstais inventārs | C62: 0 | D62: 0
A63: 2362 | B63: Virtuves inventārs, trauki un galda piederumi | C63: 0 | D63: 0
A64: 2363 | B64: Ēdināšanas izdevumi | C64: 0 | D64: 0
A65: 2370 | B65: Mācību līdzekļi un materiāli | C65: 0 | D65: 0
A66: 2400 | B66: Izdevumi periodikas iegādei | C66: 0 | D66: 0
A67: 2512 | B67: Budžeta iestāžu pievienotās vērtības nodokļa maksājumi | C67: 0 | D67: 0
A68: 2513 | B68: Budžeta iestāžu nekustamā īpašuma nodokļa maksājumi | C68: 0.00146 | D68: 9.59
A69: 2515 | B69: Budžeta iestāžu dabas resursu nodokļa maksājumi | C69: 0.0019 | D69: 12.49
A70: 2519 | B70: Pārējie budžeta iestāžu pārskaitītie nodokļi un nodevas | C70: 0.002 | D70: 13.14
A71: 5220 | B71: Tehnoloģiskās iekārtas un mašīnas | C71: 0.0106 | D71: 69.66
A72: 5238 | B72: Datortehnika, sakaru un cita biroja tehnika | C72: 0.00165 | D72: 10.84
A73: 5239 | B73: Pārējie iepriekš neklasificētie pamatlīdzekļi un ieguldījuma īpašumi | C73: 0.0198 | D73: =130.12-12 -> 118.12
A74: 5250 | B74: Kapitālais remonts un rekonstrukcija | C74: 0.025 | D74: =164.29-12.72-8.29 -> 143.28
B75: Netiešās izmaksas kopā | D75: =SUM(D34:D74) -> 6563.26
B76: Pakalpojumu izmaksas kopā | D76: =D75+D32 -> 18765
A78: Maksas pakalpojuma vienību skaits noteiktā laikposmā (gab.) | D78: 250
A79: Maksas pakalpojuma izcenojums (euro) | D79: =D76/D78 -> 75.06
A81: Prognozētais maksas pakalpojumu skaits gadā (gab.)*
A82: Prognozētie ieņēmumi gadā (euro)*
A84: Piezīme. *Ailes neaizpilda, ja izvēlētais laikposms ir viens gads.
A86: Aprēķinu sastādīja: SIVA Finanšu nodaļas vecākā finanšu ekonomiste Anita Ozoliņa

Sheet 4.1.1.4.
D1: SASKAŅOTS
D2: Sociālās integrācijas valsts aģentūras
D3: direktore I.Jurševska
D5: 2021. gada 30.augustā
A7: Maksas pakalpojuma izcenojuma aprēķins
A9: Sociālās integrācijas valsts aģentūra
A10: Publiskā pakalpojuma veids:
B11: 4. Rehabilitācijas pakalpojumi
B12: 4.1. Rehabilitācijas kurss Dubultu prospektā 71, Jūrmalā,
B13: 4.1.1. Rehabilitācijas kurss Dubultu prospektā 71, 2.korpuss, Jūrmalā
B14: 4.1.1.4. Rehabilitācijas kurss (viena vieta divvietīgā divistabu numurā)
A16: Laikposms | B16: 2022.gadā un turpmāk
A17: Izdevumu klasifikācijas kods | B17: Rādītājs (materiāla/izejvielas nosaukums, atlīdzība un citi izmaksu veidi) | D17: Izmaksu apjoms noteiktā laikposmā viena maksas pakalpojuma veida nodrošināšanai
A18: 1 | B18: 2 | D18: 3
B19: Tiešās izmaksas
A20: 1100 | B20: Atalgojums | D20: =23.91*50 -> 1195.5
A21: 1200 | B21: Darba devēja valsts sociālās apdrošināšanas obligātās iemaksas, pabalsti un kompensācijas | D21: 282.02
A22: 2222 | B22: Izdevumi par ūdensapgādi un kanalizāciju | D22: 55.17
A23: 2223 | B23: Izdevumi par elektroenerģiju | D23: 75.65
A24: 2243 | B24: Iekārtas, inventāra un aparatūras remonts, tehniskā apkalpošana | D24: 0
A25: 2244 | B25: Nekustamā īpašuma uzturēšana | D25: 106
A26: 2312 | B26: Inventārs | D26: 14.18
A27: 2321 | B27: Kurināmais | D27: 82.5
A28: 2341 | B28: Zāles, ķimikālijas, laboratorijas preces | D28: 113.08
A29: 2361 | B29: Mīkstais inventārs | D29: 112.5
A30: 2363 | B30: Ēdināšanas izdevumi | D30: 406
A31: 5239 | B31: Pārējie iepriekš neklasificētie pamatlīdzekļi un ieguldījuma īpašumi | D31: 57.5
B32: Tiešās izmaksas kopā | D32: =SUM(D20:D31) -> 2500.1
B33: Netiešās izmaksas
A34: 1100 | B34: Atalgojums | C34: =0.388+0.024 -> 0.412 | D34: 572.43
A35: 1200 | B35: Darba devēja valsts sociālās apdrošināšanas obligātās iemaksas, pabalsti un kompensācijas | C35: =C34*0.2359 -> 0.0971908 | D35: 135.04
A36: 2100 | B36: Mācību, darba un dienesta komandējumi, dienesta, darba braucieni | C36: 0.001166 | D36: 1.62
A37: 2210 | B37: Izdevumi par sakaru pakalpojumiem | C37: 0.0076 | D37: 10.56
A38: 2222 | B38: Izdevumi par ūdensapgādi un kanalizāciju | C38: 0.0095 | D38: 13.7
A39: 2223 | B39: Izdevumi par elektroenerģiju | C39: 0.01902 | D39: 26.43
A40: 2224 | B40: Izdevumi par atkritumu savākšanu, izvešanu no apdzīvotām vietām un teritorijām ārpus apdzīvotām vietām un atkritumu utilizāciju | C40: 0.00495 | D40: 6.88
A41: 2231 | B41: Izdevumi iestādes sabiedrisko aktivitāšu īstenošanai | C41: 0.00155 | D41: 2.15
A42: 2235 | B42: Izdevumi par saņemtajiem mācību pakalpojumiem | C42: 0.00165 | D42: 2.29
A43: 2239 | B43: Pārējie neklasificētie pakalpojumi | C43: 0.00441 | D43: 6.13
A44: 2241 | B44: Ēku, būvju un telpu būvdarbi | C44: 0.0165 | D44: 22.93
A45: 2242 | B45: Transportlīdzekļu uzturēšana un remonts | C45: 0.00226 | D45: 3.14
A46: 2243 | B46: Iekārtas, inventāra un aparatūras remonts, tehniskā apkalpošana | C46: 0.0326 | D46: 45.29
A47: 2244 | B47: Nekustamā īpašuma uzturēšana | C47: 0.20397 | D47: 283.4
... A59: 2322 | B59: Degviela | C59: 0.0035 | D59: 4.86
A60: 2341 | B60: Zāles, ķimikālijas, laboratorijas preces | D60: 0
A61: 2350 | B61: Iestāžu uzturēšanas materiāli un preces | C61: 0.0085 | D61: 11.81
A62: 2361 | B62: Mīkstais inventārs | C62: 0 | D62: 0
A63: 2362 | B63: Virtuves inventārs, trauki un galda piederumi | C63: 0 | D63: 0
A64: 2363 | B64: Ēdināšanas izdevumi | C64: 0 | D64: 0
A65: 2370 | B65: Mācību līdzekļi un materiāli | C65: 0 | D65: 0
A66: 2400 | B66: Izdevumi periodikas iegādei | C66: 0 | D66: 0
A67: 2512 | B67: Budžeta iestāžu pievienotās vērtības nodokļa maksājumi | C67: 0 | D67: 0
A68: 2513 | B68: Budžeta iestāžu nekustamā īpašuma nodokļa maksājumi | C68: 0.00146 | D68: 2.03
A69: 2515 | B69: Budžeta iestāžu dabas resursu nodokļa maksājumi | C69: 0.0019 | D69: 2.64
A70: 2519 | B70: Pārējie budžeta iestāžu pārskaitītie nodokļi un nodevas | C70: 0.002 | D70: 2.78
A71: 5220 | B71: Tehnoloģiskās iekārtas un mašīnas | C71: 0.0106 | D71: 14.73
A72: 5238 | B72: Datortehnika, sakaru un cita biroja tehnika | C72: 0.00165 | D72: 2.29
A73: 5239 | B73: Pārējie iepriekš neklasificētie pamatlīdzekļi un ieguldījuma īpašumi | C73: 0.0198 | D73: 27.51
A74: 5250 | B74: Kapitālais remonts un rekonstrukcija | C74: 0.025 | D74: =34.74-0.34 -> 34.4
B75: Netiešās izmaksas kopā | D75: =SUM(D34:D74) -> 1389.4
B76: Pakalpojumu izmaksas kopā | D76: =D75+D32 -> 3889.5
A78: Maksas pakalpojuma vienību skaits noteiktā laikposmā (gab.) | D78: 50
A79: Maksas pakalpojuma izcenojums (euro) | D79: =D76/D78 -> 77.79
A81: Prognozētais maksas pakalpojumu skaits gadā (gab.)*
A82: Prognozētie ieņēmumi gadā (euro)*
A84: Piezīme. *Ailes neaizpilda, ja izvēlētais laikposms ir viens gads.
A86: Aprēķinu sastādīja: SIVA Finanšu nodaļas vecākā finanšu ekonomiste Anita Ozoliņa

Sheet 4.1.1.5.
B1: SASKAŅOTS
B2: Sociālās integrācijas valsts aģentūras
D3: direktores p.i. G.Apele
D5: 2019. gada 15. martā
A7: Maksas pakalpojuma izcenojuma aprēķins
A9: Sociālās integrācijas valsts aģentūra
A10: Publiskā pakalpojuma veids:
B11: 4. Rehabilitācijas pakalpojumi
B12: 4.1. Rehabilitācijas kurss Dubultu prospektā 71, Jūrmalā,
B13: 4.1.1. Rehabilitācijas kurss Dubultu prospektā 71, 2.korpuss, Jūrmalā
B14: 4.1.1.5. Rehabilitācijas kurss bērnam no 2 līdz 14 gadu vecumam (papildus gultasvieta)
A15: Laikposms | B15: 2019
A16: Izdevumu klasifikācijas kods | B16: Rādītājs (materiāla/izejvielas nosaukums, atlīdzība un citi izmaksu veidi) | D16: Izmaksu apjoms noteiktā laikposmā viena maksas pakalpojuma veida nodrošināšanai
A17: 1 | B17: 2 | D17: 3
B18: Tiešās izmaksas
A19: 1100 | B19: Atalgojums | C19: =789.02+100*0.96 -> 885.02 | D19: 536.5
A20: 1200 | B20: Darba devēja valsts sociālās apdrošināšanas obligātās iemaksas, sociāla rakstura pabalsti un kompensācijas | C20: =190.08+100*0.23 -> 213.08 | D20: 129.24
A21: 2222 | B21: Izdevumi par ūdeni un kanalizāciju | C21: 55.49 | D21: 27.75
A22: 2223 | B22: Izdevumi par elektroenerģiju | C22: 52.91 | D22: 26.46
A23: 2243 | B23: Iekārtas, inventāra un aparatūras remonts, tehniskā apkalpošana | C23: 14.2 | D23: 7.1
A24: 2249 | B24: Pārējie remonta darbu un iestāžu uzturēšanas pakalpojumi | C24: 0 | D24: =C24/100*50 -> 0
A25: 2321 | B25: Kurināmais | C25: 78.34 | D25: 39.17
A26: 2341 | B26: Zāles, ķimikālijas, laboratorijas preces | C26: 35.66 | D26: 17.83
A27: 2350 | B27: Kārtējā remonta un iestāžu uzturēšanas materiāli | C27: 0 | D27: =C27/100*50 -> 0
A28: 2363 | B28: Ēdināšanas izdevumi | C28: 352 | D28: 196
A29: 5232 | B29: Saimniecības pamatlīdzekļi | C29: 22.27 | D29: 11.14
B30: Tiešās izmaksas kopā | C30: =SUM(C19:C29) -> 1708.97 | D30: =SUM(D19:D29) -> 991.19
B31: Netiešās izmaksas
A32: 1100 | B32: Atalgojums | C32: 713.12 | D32: =C32/100*50 -> 356.56
A33: 1200 | B33: Darba devēja valsts sociālās apdrošināšanas obligātās iemaksas, sociāla rakstura pabalsti un kompensācijas | C33: 171.79 | D33: =C33/100*50 -> 85.895
A34: 2100 | B34: Mācību, darba un dienesta komandējumi, dienesta, darba braucieni | C34: 0 | D34: =C34/100*50 -> 0
A35: 2210 | B35: Pasta, telefona un citu sakaru pakalpojumi | C35: 11.22 | D35: =C35/100*50 -> 5.61
A36: 2222 | B36: Izdevumi par ūdeni un kanalizāciju | C36: 88.35 | D36: =C36/100*50 -> 44.175
A37: 2223 | B37: Izdevumi par elektroenerģiju | C37: 112.41 | D37: =C37/100*50 -> 56.205
A38: 2230 | B38: Iestādes administratīvie izdevumi un ar iestādes darbības nodrošināšanu saistītie izdevumi | C38: 7.64 | D38: =C38/100*50 -> 3.82
A39: 2241 | B39: Ēku, būvju un telpu kārtējais remonts | C39: 0 | D39: =C39/100*50 -> 0
A40: 2242 | B40: Transportlīdzekļu uzturēšana un remonts | C40: 2.07 | D40: =C40/100*50 -> 1.035
A41: 2243 | B41: Iekārtas, inventāra un aparatūras remonts, tehniskā apkalpošana | C41: 11 | D41: =C41/100*50 -> 5.5
A42: 2244 | B42: Ēku, būvju un telpu uzturēšana | C42: 224.42 | D42: 179
A43: 2247 | B43: Apdrošināšanas izdevumi | C43: 0.69 | D43: =C43/100*50 -> 0.345
A44: 2249 | B44: Pārējie remonta darbu un iestāžu uzturēšanas pakalpojumi | C44: 2.86 | D44: =C44/100*50 -> 1.43
A45: 2251 | B45: Informācijas sistēmas uzturēšana | C45: 28.72 | D45: =C45/100*50 -> 14.36
A46: 2252 | B46: Informācijas sistēmas licenču nomas izdevumi | C46: 0 | D46: =C46/100*50 -> 0
A47: 2259 | B47: Pārējie informācijas tehnoloģiju pakalpojumi | C47: 0.08 | D47: =C47/100*50 -> 0.04
A48: 2261 | B48: Ēku, telpu īre un noma | C48: 0 | D48: =C48/100*50 -> 0
A49: 2262 | B49: Transportlīdzekļu noma | C49: 8.04 | D49: =C49/100*50 -> 4.02
A50: 2263 | B50: Zemes noma | C50: 28.68 | D50: =C50/100*50 -> 14.34
A51: 2264 | B51: Iekārtu un inventāra īre un noma | C51: 0.08 | D51: =C51/100*50 -> 0.04
A52: 2279 | B52: Pārējie iepriekš neklasificētie pakalpojumu veidi | C52: 38.34 | D52: =C52/100*50 -> 19.17
A53: 2311 | B53: Biroja preces | C53: 12.53 | D53: =C53/100*50 -> 6.265
A54: 2312 | B54: Inventārs | C54: 38.68 | D54: =C54/100*50 -> 19.34
... A72: 5238 | B72: Datortehnika, sakaru un cita biroja tehnika | C72: 0 | D72: =C72/100*50 -> 0
A73: 5240 | B73: Pamatlīdzekļu izveidošana un nepabeigtā būvniecība | C73: 15.34 | D73: 7.67
A74: 5250 | B74: Kapitālais remonts un rekonstrukcija
B75: Netiešās izmaksas kopā | C75: =SUM(C32:C74) -> 1835.03 | D75: =SUM(D32:D74) -> 984.305
B76: Pakalpojumu izmaksas kopā | C76: =C75+C30 -> 3544 | D76: =D75+D30 -> 1975.495
A78: Maksas pakalpojuma vienību skaits noteiktā laikposmā | C78: 100 | D78: 50
A79: Maksas pakalpojuma izcenojums (euro) | C79: =C76/C78 -> 35.44 | D79: =D76/D78 -> 39.5099
A81: Prognozētais maksas pakalpojumu skaits gadā (gab.)* | C81: 34.25
A82: Prognozētie ieņēmumi gadā (euro)*
A84: Piezīme. *Ailes neaizpilda, ja izvēlētais laikposms ir viens gads.
A86: Aprēķinu sastādīja: SIVA Finanšu nodaļas vecākā finanšu ekonomiste Anita Ozoliņa

Sheet 4.1.1.6.
D1: SASKAŅOTS
D2: Sociālās integrācijas valsts aģentūras
D3: direktore I.Jurševska
D5: 2021. gada 30. augustā
A7: Maksas pakalpojuma izcenojuma aprēķins
A9: Sociālās integrācijas valsts aģentūra
A10: Publiskā pakalpojuma veids:
B11: 4. Rehabilitācijas pakalpojumi
B12: 4.1. Rehabilitācijas kurss Dubultu prospektā 71, Jūrmalā,
B13: 4.1.1. Rehabilitācijas kurss Dubultu prospektā 71, 2.korpuss, Jūrmalā
B14: 4.1.1.6. Rehabilitācijas programma "Harmonija" (viena vieta divvietīgā numurā)
A16: Laikposms | B16: 2022.gadā un turpmāk
A17: Izdevumu klasifikācijas kods | B17: Rādītājs (materiāla/izejvielas nosaukums, atlīdzība un citi izmaksu veidi) | D17: Izmaksu apjoms noteiktā laikposmā viena maksas pakalpojuma veida nodrošināšanai
A18: 1 | B18: 2 | D18: 3
B19: Tiešās izmaksas
A20: 1100 | B20: Atalgojums | D20: =15.23*95 -> 1446.85
A21: 1200 | B21: Darba devēja valsts sociālās apdrošināšanas obligātās iemaksas, pabalsti un kompensācijas | D21: 341.31
A22: 2222 | B22: Izdevumi par ūdensapgādi un kanalizāciju | D22: 56.07
A23: 2223 | B23: Izdevumi par elektroenerģiju | D23: 61.43
A24: 2243 | B24: Iekārtas, inventāra un aparatūras remonts, tehniskā apkalpošana | D24: 0
A25: 2244 | B25: Nekustamā īpašuma uzturēšana | D25: 100.7
A26: 2312 | B26: Inventārs | D26: =0.28*95 -> 26.6
A27: 2321 | B27: Kurināmais | D27: 67.2
A28: 2341 | B28: Zāles, ķimikālijas, laboratorijas preces | D28: 59.18
A29: 2361 | B29: Mīkstais inventārs | D29: 213.75
A30: 2363 | B30: Ēdināšanas izdevumi | D30: =8.12*95 -> 771.4
A31: 5239 | B31: Pārējie iepriekš neklasificētie pamatlīdzekļi un ieguldījuma īpašumi | D31: 23.84
B32: Tiešās izmaksas kopā | D32: =SUM(D20:D31) -> 3168.33
B33: Netiešās izmaksas
A34: 1100 | B34: Atalgojums | C34: =0.388+0.024 -> 0.412 | D34: 902.01
A35: 1200 | B35: Darba devēja valsts sociālās apdrošināšanas obligātās iemaksas, pabalsti un kompensācijas | C35: =C34*0.2359 -> 0.0971908 | D35: 212.78
A36: 2100 | B36: Mācību, darba un dienesta komandējumi, dienesta, darba braucieni | C36: 0.001166 | D36: 2.69
A37: 2210 | B37: Izdevumi par sakaru pakalpojumiem | C37: 0.0076 | D37: 17.51
A38: 2222 | B38: Izdevumi par ūdensapgādi un kanalizāciju | C38: 0.0095 | D38: 21.88
A39: 2223 | B39: Izdevumi par elektroenerģiju | C39: 0.01902 | D39: 43.81
A40: 2224 | B40: Izdevumi par atkritumu savākšanu, izvešanu no apdzīvotām vietām un teritorijām ārpus apdzīvotām vietām un atkritumu utilizāciju | C40: 0.00495 | D40: 11.4
A41: 2231 | B41: Izdevumi iestādes sabiedrisko aktivitāšu īstenošanai | C41: 0.00155 | D41: 3.57
A42: 2235 | B42: Izdevumi par saņemtajiem mācību pakalpojumiem | C42: 0.00165 | D42: 3.8
A43: 2239 | B43: Pārējie neklasificētie pakalpojumi | C43: 0.00441 | D43: 10.16
A44: 2241 | B44: Ēku, būvju un telpu būvdarbi | C44: 0.0165 | D44: 38.01
A45: 2242 | B45: Transportlīdzekļu uzturēšana un remonts | C45: 0.00226 | D45: 5.21
A46: 2243 | B46: Iekārtas, inventāra un aparatūras remonts, tehniskā apkalpošana | C46: 0.0326 | D46: =75.09 -> 75.09
A47: 2244 | B47: Nekustamā īpašuma uzturēšana | C47: 0.20397 | D47: 469.83
A48: 2247 | B48: Apdrošināšanas izdevumi | C48: 0.000719 | D48: 1.66
A49: 2249 | B49: Pārējie remontdarbu un iestāžu uzturēšanas pakalpojum | C49: 0.000232 | D49: 0.53
A50: 2250 | B50: Informācijas tehnoloģiju pakalpojumi | C50: 0.024026 | D50: 55.34
A51: 2261 | B51: Ēku, telpu īre un noma | C51: 0 | D51: 0
A52: 2262 | B52: Transportlīdzekļu noma | C52: 0.00626 | D52: 14.42
A53: 2263 | B53: Zemes noma | C53: 0.0458 | D53: 105.5
A54: 2264 | B54: Iekārtu, aparatūras un inventāra īre un noma | C54: 0.00149 | D54: 3.43
A55: 2311 | B55: Biroja preces | C55: 0.00477 | D55: 10.99
A56: 2312 | B56: Inventārs | C56: 0.00579 | D56: 13.34
A57: 2314 | B57: Izdevumi par precēm iestādes sabiedrisko aktivitāšu īstenošanai | C57: 0.00222 | D57: 5.11
A58: 2321 | B58: Kurināmais | C58: 0.0198 | D58: 53.5
A59: 2322 | B59: Degviela | C59: 0.0035 | D59: 8.06
A60: 2341 | B60: Zāles, ķimikālijas, laboratorijas preces | D60: 0
A61: 2350 | B61: Iestāžu uzturēšanas materiāli un preces | C61: 0.0085 | D61: 19.58
A62: 2361 | B62: Mīkstais inventārs | C62: 0 | D62: 0
A63: 2362 | B63: Virtuves inventārs, trauki un galda piederumi | C63: 0 | D63: 0
A64: 2363 | B64: Ēdināšanas izdevumi | C64: 0 | D64: 0
A65: 2370 | B65: Mācību līdzekļi un materiāli | C65: 0 | D65: 0
A66: 2400 | B66: Izdevumi periodikas iegādei | C66: 0 | D66: 0
A67: 2512 | B67: Budžeta iestāžu pievienotās vērtības nodokļa maksājumi | C67: 0 | D67: 0
A68: 2513 | B68: Budžeta iestāžu nekustamā īpašuma nodokļa maksājumi | C68: 0.00146 | D68: 3.36
A69: 2515 | B69: Budžeta iestāžu dabas resursu nodokļa maksājumi | C69: 0.0019 | D69: 4.38
A70: 2519 | B70: Pārējie budžeta iestāžu pārskaitītie nodokļi un nodevas | C70: 0.002 | D70: 4.61
A71: 5220 | B71: Tehnoloģiskās iekārtas un mašīnas | C71: 0.0106 | D71: 24.42
A72: 5238 | B72: Datortehnika, sakaru un cita biroja tehnika | C72: 0.00165 | D72: 3.8
... A74: 5250 | B74: Kapitālais remonts un rekonstrukcija | C74: 0.025 | D74: 57.59
B75: Netiešās izmaksas kopā | D75: =SUM(D34:D74) -> 2252.37
B76: Pakalpojumu izmaksas kopā | D76: =D75+D32 -> 5420.7
A78: Maksas pakalpojuma vienību skaits noteiktā laikposmā (gab.) | D78: 95
A79: Maksas pakalpojuma izcenojums (euro) | D79: =D76/D78 -> 57.06
A81: Prognozētais maksas pakalpojumu skaits gadā (gab.)*
A82: Prognozētie ieņēmumi gadā (euro)*
A84: Piezīme. *Ailes neaizpilda, ja izvēlētais laikposms ir viens gads.
A86: Aprēķinu sastādīja: SIVA Finanšu nodaļas vecākā finanšu ekonomiste Anita Ozoliņa

Sheet 4.1.2.1.
D1: SASKAŅOTS
D2: Sociālās integrācijas valsts aģentūras
D3: direktore I.Jurševska
D5: 2021. gada 30. augustā
A7: Maksas pakalpojuma izcenojuma aprēķins
A9: Sociālās integrācijas valsts aģentūra
A10: Publiskā pakalpojuma veids:
B11: 4. Rehabilitācijas pakalpojumi
B12: 4.1. Rehabilitācijas kurss Dubultu prospektā 71, Jūrmalā,
B13: 4.1.2. Rehabilitācijas kurss – Dubultu prospekts 71, 1. korpuss, Jūrmala
B14: 4.1.2.1. Rehabilitācijas kurss (viena vieta vienvietīgā numurā)
A16: Laikposms | B16: 2022.gadā un turpmāk
A17: Izdevumu klasifikācijas kods | B17: Rādītājs (materiāla/izejvielas nosaukums, atlīdzība un citi izmaksu veidi) | D17: Izmaksu apjoms noteiktā laikposmā viena maksas pakalpojuma veida nodrošināšanai
A18: 1 | B18: 2 | D18: 3
B19: Tiešās izmaksas
A20: 1100 | B20: Atalgojums | D20: =23.91*350 -> 8368.5
A21: 1200 | B21: Darba devēja valsts sociālās apdrošināšanas obligātās iemaksas, pabalsti un kompensācijas | D21: 1974.13
A22: 2222 | B22: Izdevumi par ūdensapgādi un kanalizāciju | D22: 268.88
A23: 2223 | B23: Izdevumi par elektroenerģiju | D23: 295.8
A24: 2243 | B24: Iekārtas, inventāra un aparatūras remonts, tehniskā apkalpošana | D24: 0
A25: 2244 | B25: Nekustamā īpašuma uzturēšana | D25: =2.12*350 -> 742
A26: 2312 | B26: Inventārs | D26: =0.28*350 -> 98
A27: 2321 | B27: Kurināmais | D27: 459.05
A28: 2341 | B28: Zāles, ķimikālijas, laboratorijas preces | D28: 457.93
A29: 2361 | B29: Mīkstais inventārs | D29: =2.25*350 -> 787.5
A30: 2363 | B30: Ēdināšanas izdevumi | D30: =8.12*350 -> 2842
A31: 5239 | B31: Pārējie iepriekš neklasificētie pamatlīdzekļi un ieguldījuma īpašumi | D31: 113.61
B32: Tiešās izmaksas kopā | D32: =SUM(D20:D31) -> 16407.4
B33: Netiešās izmaksas
A34: 1100 | B34: Atalgojums | C34: =0.388+0.024 -> 0.412 | D34: 3999.07
A35: 1200 | B35: Darba devēja valsts sociālās apdrošināšanas obligātās iemaksas, pabalsti un kompensācijas | C35: =C34*0.2359 -> 0.0971908 | D35: 943.38
A36: 2100 | B36: Mācību, darba un dienesta komandējumi, dienesta, darba braucieni | C36: 0.001166 | D36: 11.32
A37: 2210 | B37: Izdevumi par sakaru pakalpojumiem | C37: 0.0076 | D37: 73.77
A38: 2222 | B38: Izdevumi par ūdensapgādi un kanalizāciju | C38: 0.0095 | D38: 92.21
A39: 2223 | B39: Izdevumi par elektroenerģiju | C39: 0.01902 | D39: 184.62
A40: 2224 | B40: Izdevumi par atkritumu savākšanu, izvešanu no apdzīvotām vietām un teritorijām ārpus apdzīvotām vietām un atkritumu utilizāciju | C40: 0.00495 | D40: 48.05
A41: 2231 | B41: Izdevumi iestādes sabiedrisko aktivitāšu īstenošanai | C41: 0.00155 | D41: 15.05
A42: 2235 | B42: Izdevumi par saņemtajiem mācību pakalpojumiem | C42: 0.00165 | D42: 16.02
A43: 2239 | B43: Pārējie neklasificētie pakalpojumi | C43: 0.00441 | D43: 42.81
A44: 2241 | B44: Ēku, būvju un telpu būvdarbi | C44: 0.0165 | D44: 160.16
A45: 2242 | B45: Transportlīdzekļu uzturēšana un remonts | C45: 0.00226 | D45: 21.94
A46: 2243 | B46: Iekārtas, inventāra un aparatūras remonts, tehniskā apkalpošana | C46: 0.0326 | D46: =316.43+2.59 -> 319.02
A47: 2244 | B47: Nekustamā īpašuma uzturēšana | C47: 0.20397 | D47: 1979.83
A48: 2247 | B48: Apdrošināšanas izdevumi | C48: 0.000719 | D48: 6.98
A49: 2249 | B49: Pārējie remontdarbu un iestāžu uzturēšanas pakalpojum | C49: 0.000232 | D49: 2.25
A50: 2250 | B50: Informācijas tehnoloģiju pakalpojumi | C50: 0.024026 | D50: 233.21
A51: 2261 | B51: Ēku, telpu īre un noma | C51: 0 | D51: 0
A52: 2262 | B52: Transportlīdzekļu noma | C52: 0.00626 | D52: 60.76
A53: 2263 | B53: Zemes noma | C53: 0.0458 | D53: 444.56
A54: 2264 | B54: Iekārtu, aparatūras un inventāra īre un noma | C54: 0.00149 | D54: 14.46
A55: 2311 | B55: Biroja preces | C55: 0.00477 | D55: 46.3
A56: 2312 | B56: Inventārs | C56: 0.00579 | D56: 56.2
A57: 2314 | B57: Izdevumi par precēm iestādes sabiedrisko aktivitāšu īstenošanai | C57: 0.00222 | D57: 21.55
A58: 2321 | B58: Kurināmais | C58: 0.0198 | D58: 192.19
A59: 2322 | B59: Degviela | C59: 0.0035 | D59: 33.97
A60: 2341 | B60: Zāles, ķimikālijas, laboratorijas preces | D60: 0
A61: 2350 | B61: Iestāžu uzturēšanas materiāli un preces | C61: 0.0085 | D61: 82.5
A62: 2361 | B62: Mīkstais inventārs | C62: 0 | D62: 0
A63: 2362 | B63: Virtuves inventārs, trauki un galda piederumi | C63: 0 | D63: 0
A64: 2363 | B64: Ēdināšanas izdevumi | C64: 0 | D64: 0
A65: 2370 | B65: Mācību līdzekļi un materiāli | C65: 0 | D65: 0
A66: 2400 | B66: Izdevumi periodikas iegādei | C66: 0 | D66: 0
A67: 2512 | B67: Budžeta iestāžu pievienotās vērtības nodokļa maksājumi | C67: 0 | D67: 0
A68: 2513 | B68: Budžeta iestāžu nekustamā īpašuma nodokļa maksājumi | C68: 0.00146 | D68: 14.17
A69: 2515 | B69: Budžeta iestāžu dabas resursu nodokļa maksājumi | C69: 0.0019 | D69: 18.44
A70: 2519 | B70: Pārējie budžeta iestāžu pārskaitītie nodokļi un nodevas | C70: 0.002 | D70: 19.41
A71: 5220 | B71: Tehnoloģiskās iekārtas un mašīnas | C71: 0.0106 | D71: 102.89
A72: 5238 | B72: Datortehnika, sakaru un cita biroja tehnika | C72: 0.00165 | D72: 17.12
A73: 5239 | B73: Pārējie iepriekš neklasificētie pamatlīdzekļi un ieguldījuma īpašumi | C73: 0.0198 | D73: =192.19 -> 192.19
A74: 5250 | B74: Kapitālais remonts un rekonstrukcija | C74: 0.025 | D74: =242.66-2.96 -> 239.7
B75: Netiešās izmaksas kopā | D75: =SUM(D34:D74) -> 9706.1
B76: Pakalpojumu izmaksas kopā | D76: =D75+D32 -> 26113.5
A78: Maksas pakalpojuma vienību skaits noteiktā laikposmā (gab.) | D78: 350
A79: Maksas pakalpojuma izcenojums (euro) | D79: =D76/D78 -> 74.61
A81: Prognozētais maksas pakalpojumu skaits gadā (gab.)*
A82: Prognozētie ieņēmumi gadā (euro)*
A84: Piezīme. *Ailes neaizpilda, ja izvēlētais laikposms ir viens gads.
A86: Aprēķinu sastādīja: SIVA Finanšu nodaļas vecākā finanšu ekonomiste Anita Ozoliņa

Sheet 4.1.2.2.
D1: SASKAŅOTS
D2: Sociālās integrācijas valsts aģentūras
D3: direktore I.Jurševska
D5: 2021. gada 30. augustā
A7: Maksas pakalpojuma izcenojuma aprēķins
A9: Sociālās integrācijas valsts aģentūra
A10: Publiskā pakalpojuma veids:
B11: 4. Rehabilitācijas pakalpojumi
B12: 4.1. Rehabilitācijas kurss Dubultu prospektā 71, Jūrmalā,
B13: 4.1.2. Rehabilitācijas kurss – Dubultu prospekts 71, 1. korpuss, Jūrmala
B14: 4.1.2.2. Rehabilitācijas kurss (viena vieta divvvietīgā numurā)
A16: Laikposms | B16: 2022.gadā un turpmāk
A17: Izdevumu klasifikācijas kods | B17: Rādītājs (materiāla/izejvielas nosaukums, atlīdzība un citi izmaksu veidi) | D17: Izmaksu apjoms noteiktā laikposmā viena maksas pakalpojuma veida nodrošināšanai
A18: 1 | B18: 2 | D18: 3
B19: Tiešās izmaksas
A20: 1100 | B20: Atalgojums | D20: =23.91*200 -> 4782
A21: 1200 | B21: Darba devēja valsts sociālās apdrošināšanas obligātās iemaksas, pabalsti un kompensācijas | D21: 1128.07
A22: 2222 | B22: Izdevumi par ūdensapgādi un kanalizāciju | D22: 145.97
A23: 2223 | B23: Izdevumi par elektroenerģiju | D23: 160.58
A24: 2243 | B24: Iekārtas, inventāra un aparatūras remonts, tehniskā apkalpošana | D24: 0
A25: 2244 | B25: Nekustamā īpašuma uzturēšana | D25: =2.12*200/2 -> 212
A26: 2312 | B26: Inventārs | D26: =0.28*200 -> 56
A27: 2321 | B27: Kurināmais | D27: 249.2
A28: 2341 | B28: Zāles, ķimikālijas, laboratorijas preces | D28: 248.59
A29: 2361 | B29: Mīkstais inventārs | D29: =2.25*200 -> 450
A30: 2363 | B30: Ēdināšanas izdevumi | D30: =8.12*200 -> 1624
A31: 5239 | B31: Pārējie iepriekš neklasificētie pamatlīdzekļi un ieguldījuma īpašumi | D31: 61.68
B32: Tiešās izmaksas kopā | D32: =SUM(D20:D31) -> 9118.09
B33: Netiešās izmaksas
A34: 1100 | B34: Atalgojums | C34: =0.388+0.024 -> 0.412 | D34: 2163.64
A35: 1200 | B35: Darba devēja valsts sociālās apdrošināšanas obligātās iemaksas, pabalsti un kompensācijas | C35: =C34*0.2359 -> 0.0971908 | D35: 510.4
A36: 2100 | B36: Mācību, darba un dienesta komandējumi, dienesta, darba braucieni | C36: 0.001166 | D36: 5.32
A37: 2210 | B37: Izdevumi par sakaru pakalpojumiem | C37: 0.0076 | D37: 30.2
A38: 2222 | B38: Izdevumi par ūdensapgādi un kanalizāciju | C38: 0.0095 | D38: 40.5
A39: 2223 | B39: Izdevumi par elektroenerģiju | C39: 0.01902 | D39: 92.12
A40: 2224 | B40: Izdevumi par atkritumu savākšanu, izvešanu no apdzīvotām vietām un teritorijām ārpus apdzīvotām vietām un atkritumu utilizāciju | C40: 0.00495 | D40: 20.84
A41: 2231 | B41: Izdevumi iestādes sabiedrisko aktivitāšu īstenošanai | C41: 0.00155 | D41: 7.4
A42: 2235 | B42: Izdevumi par saņemtajiem mācību pakalpojumiem | C42: 0.00165 | D42: 7.95
A43: 2239 | B43: Pārējie neklasificētie pakalpojumi | C43: 0.00441 | D43: 22.91
A44: 2241 | B44: Ēku, būvju un telpu būvdarbi | C44: 0.0165 | D44: 88.45
A45: 2242 | B45: Transportlīdzekļu uzturēšana un remonts | C45: 0.00226 | D45: 11.25
A46: 2243 | B46: Iekārtas, inventāra un aparatūras remonts, tehniskā apkalpošana | C46: 0.0326 | D46: 153.74
A47: 2244 | B47: Nekustamā īpašuma uzturēšana | C47: 0.20397 | D47: 1105.82
... A59: 2322 | B59: Degviela | C59: 0.0035 | D59: 17.98
A60: 2341 | B60: Zāles, ķimikālijas, laboratorijas preces | D60: 0
A61: 2350 | B61: Iestāžu uzturēšanas materiāli un preces | C61: 0.0085 | D61: 45.08
A62: 2361 | B62: Mīkstais inventārs | C62: 0 | D62: 0
A63: 2362 | B63: Virtuves inventārs, trauki un galda piederumi | C63: 0 | D63: 0
A64: 2363 | B64: Ēdināšanas izdevumi | C64: 0 | D64: 0
A65: 2370 | B65: Mācību līdzekļi un materiāli | C65: 0 | D65: 0
A66: 2400 | B66: Izdevumi periodikas iegādei | C66: 0 | D66: 0
A67: 2512 | B67: Budžeta iestāžu pievienotās vērtības nodokļa maksājumi | C67: 0 | D67: 0
A68: 2513 | B68: Budžeta iestāžu nekustamā īpašuma nodokļa maksājumi | C68: 0.00146 | D68: 6.92
A69: 2515 | B69: Budžeta iestāžu dabas resursu nodokļa maksājumi | C69: 0.0019 | D69: 9.3
A70: 2519 | B70: Pārējie budžeta iestāžu pārskaitītie nodokļi un nodevas | C70: 0.002 | D70: 9.84
A71: 5220 | B71: Tehnoloģiskās iekārtas un mašīnas | C71: 0.0106 | D71: 56.47
A72: 5238 | B72: Datortehnika, sakaru un cita biroja tehnika | C72: 0.00165 | D72: 7.95
... A74: 5250 | B74: Kapitālais remonts un rekonstrukcija | C74: 0.025 | D74: 130.51
B75: Netiešās izmaksas kopā | D75: =SUM(D34:D74) -> 5231.91
B76: Pakalpojumu izmaksas kopā | D76: =D75+D32 -> 14350
A78: Maksas pakalpojuma vienību skaits noteiktā laikposmā (gab.) | D78: 200
A79: Maksas pakalpojuma izcenojums (euro) | D79: =D76/D78 -> 71.75
A81: Prognozētais maksas pakalpojumu skaits gadā (gab.)*
A82: Prognozētie ieņēmumi gadā (euro)*
A84: Piezīme. *Ailes neaizpilda, ja izvēlētais laikposms ir viens gads.
A86: Aprēķinu sastādīja: SIVA Finanšu nodaļas vecākā finanšu ekonomiste Anita Ozoliņa

Sheet 4.1.2.3.
D1: SASKAŅOTS
D2: Sociālās integrācijas valsts aģentūras
D3: direktore I.Jurševska
D5: 2021. gada 30. augustā
A7: Maksas pakalpojuma izcenojuma aprēķins
A9: Sociālās integrācijas valsts aģentūra
A10: Publiskā pakalpojuma veids:
B11: 4. Rehabilitācijas pakalpojumi
B12: 4.1. Rehabilitācijas kurss Dubultu prospektā 71, Jūrmalā,
B13: 4.1.2. Rehabilitācijas kurss – Dubultu prospekts 71, 1. korpuss, Jūrmala
B14: 4.1.2.3. Rehabilitācijas kurss (viena vieta divvvietīgā divistabu numurā)
A16: Laikposms | B16: 2022.gadā un turpmāk
A17: Izdevumu klasifikācijas kods | B17: Rādītājs (materiāla/izejvielas nosaukums, atlīdzība un citi izmaksu veidi) | D17: Izmaksu apjoms noteiktā laikposmā viena maksas pakalpojuma veida nodrošināšanai
A18: 1 | B18: 2 | D18: 3
B19: Tiešās izmaksas
A20: 1100 | B20: Atalgojums | D20: =23.91*50 -> 1195.5
A21: 1200 | B21: Darba devēja valsts sociālās apdrošināšanas obligātās iemaksas, pabalsti un kompensācijas | D21: 282.02
A22: 2222 | B22: Izdevumi par ūdensapgādi un kanalizāciju | D22: 37.59
A23: 2223 | B23: Izdevumi par elektroenerģiju | D23: 41.35
A24: 2243 | B24: Iekārtas, inventāra un aparatūras remonts, tehniskā apkalpošana | D24: 0
A25: 2244 | B25: Nekustamā īpašuma uzturēšana | D25: =2.12*50 -> 106
A26: 2312 | B26: Inventārs | D26: =0.28*50 -> 14
A27: 2321 | B27: Kurināmais | D27: 64.17
A28: 2341 | B28: Zāles, ķimikālijas, laboratorijas preces | D28: 64.01
A29: 2361 | B29: Mīkstais inventārs | D29: =2.25*50 -> 112.5
A30: 2363 | B30: Ēdināšanas izdevumi | D30: =8.12*50 -> 406
A31: 5239 | B31: Pārējie iepriekš neklasificētie pamatlīdzekļi un ieguldījuma īpašumi | D31: 15.88
B32: Tiešās izmaksas kopā | D32: =SUM(D20:D31) -> 2339.02
B33: Netiešās izmaksas
A34: 1100 | B34: Atalgojums | C34: =0.388+0.024 -> 0.412 | D34: 561.16
A35: 1200 | B35: Darba devēja valsts sociālās apdrošināšanas obligātās iemaksas, pabalsti un kompensācijas | C35: =C34*0.2359 -> 0.0971908 | D35: 132.38
A36: 2100 | B36: Mācību, darba un dienesta komandējumi, dienesta, darba braucieni | C36: 0.001166 | D36: 1.62
A37: 2210 | B37: Izdevumi par sakaru pakalpojumiem | C37: 0.0076 | D37: 10.54
A38: 2222 | B38: Izdevumi par ūdensapgādi un kanalizāciju | C38: 0.0095 | D38: 13.17
A39: 2223 | B39: Izdevumi par elektroenerģiju | C39: 0.01902 | D39: 26.37
A40: 2224 | B40: Izdevumi par atkritumu savākšanu, izvešanu no apdzīvotām vietām un teritorijām ārpus apdzīvotām vietām un atkritumu utilizāciju | C40: 0.00495 | D40: 6.86
A41: 2231 | B41: Izdevumi iestādes sabiedrisko aktivitāšu īstenošanai | C41: 0.00155 | D41: 2.15
A42: 2235 | B42: Izdevumi par saņemtajiem mācību pakalpojumiem | C42: 0.00165 | D42: 2.29
A43: 2239 | B43: Pārējie neklasificētie pakalpojumi | C43: 0.00441 | D43: 6.11
A44: 2241 | B44: Ēku, būvju un telpu būvdarbi | C44: 0.0165 | D44: 22.87
A45: 2242 | B45: Transportlīdzekļu uzturēšana un remonts | C45: 0.00226 | D45: 3.13
A46: 2243 | B46: Iekārtas, inventāra un aparatūras remonts, tehniskā apkalpošana | C46: 0.0326 | D46: 45.35
A47: 2244 | B47: Nekustamā īpašuma uzturēšana | C47: 0.20397 | D47: 282.76
... A59: 2322 | B59: Degviela | C59: 0.0035 | D59: 4.85
A60: 2341 | B60: Zāles, ķimikālijas, laboratorijas preces | D60: 0
A61: 2350 | B61: Iestāžu uzturēšanas materiāli un preces | C61: 0.0085 | D61: 11.78
A62: 2361 | B62: Mīkstais inventārs | C62: 0 | D62: 0
A63: 2362 | B63: Virtuves inventārs, trauki un galda piederumi | C63: 0 | D63: 0
A64: 2363 | B64: Ēdināšanas izdevumi | C64: 0 | D64: 0
A65: 2370 | B65: Mācību līdzekļi un materiāli | C65: 0 | D65: 0
A66: 2400 | B66: Izdevumi periodikas iegādei | C66: 0 | D66: 0
A67: 2512 | B67: Budžeta iestāžu pievienotās vērtības nodokļa maksājumi | C67: 0 | D67: 0
A68: 2513 | B68: Budžeta iestāžu nekustamā īpašuma nodokļa maksājumi | C68: 0.00146 | D68: 2.02
A69: 2515 | B69: Budžeta iestāžu dabas resursu nodokļa maksājumi | C69: 0.0019 | D69: 2.63
A70: 2519 | B70: Pārējie budžeta iestāžu pārskaitītie nodokļi un nodevas | C70: 0.002 | D70: 2.77
A71: 5220 | B71: Tehnoloģiskās iekārtas un mašīnas | C71: 0.0106 | D71: 14.69
A72: 5238 | B72: Datortehnika, sakaru un cita biroja tehnika | C72: 0.00165 | D72: 2.29
... A74: 5250 | B74: Kapitālais remonts un rekonstrukcija | C74: 0.025 | D74: 30.2
B75: Netiešās izmaksas kopā | D75: =SUM(D34:D74) -> 1365.48
B76: Pakalpojumu izmaksas kopā | D76: =D75+D32 -> 3704.5
A78: Maksas pakalpojuma vienību skaits noteiktā laikposmā (gab.) | D78: 50
A79: Maksas pakalpojuma izcenojums (euro) | D79: =D76/D78 -> 74.09
A81: Prognozētais maksas pakalpojumu skaits gadā (gab.)*
A82: Prognozētie ieņēmumi gadā (euro)*
A84: Piezīme. *Ailes neaizpilda, ja izvēlētais laikposms ir viens gads.
A86: Aprēķinu sastādīja: SIVA Finanšu nodaļas vecākā finanšu ekonomiste Anita Ozoliņa

Sheet 4.1.2.4.
B1: SASKAŅOTS
B2: Sociālās integrācijas valsts aģentūras
D3: direktores p.i. G.Apele
D5: 2019. gada 15. martā
A7: Maksas pakalpojuma izcenojuma aprēķins
A9: Sociālās integrācijas valsts aģentūra
A10: Publiskā pakalpojuma veids:
B11: 4. Rehabilitācijas pakalpojumi
B12: 4.1. Rehabilitācijas kurss Dubultu prospektā 71, Jūrmalā,
B13: 4.1.2. Rehabilitācijas kurss Dubultu prospektā 71, 1.korpuss, Jūrmalā
B14: 4.1.2.4. Rehabilitācijas kurss bērnam no 2 līdz 14 gadu vecumam (papildus gultasvieta)
A15: Laikposms | B15: ='4.1.1.1.'!B14 -> 4.1.1. Rehabilitācijas kurss Dubultu prospektā 71, 2.korpuss, Jūrmalā
A16: Izdevumu klasifikācijas kods | B16: Rādītājs (materiāla/izejvielas nosaukums, atlīdzība un citi izmaksu veidi) | D16: Izmaksu apjoms noteiktā laikposmā viena maksas pakalpojuma veida nodrošināšanai
A17: 1 | B17: 2 | D17: 3
B18: Tiešās izmaksas
A19: 1100 | B19: Atalgojums | C19: =795+0.96*100 -> 891 | D19: 540
A20: 1200 | B20: Darba devēja valsts sociālās apdrošināšanas obligātās iemaksas, sociāla rakstura pabalsti un kompensācijas | C20: =191.51+0.23*100 -> 214.51 | D20: 130.09
A21: 2222 | B21: Izdevumi par ūdeni un kanalizāciju | C21: 55.83 | D21: =C21/100*50 -> 27.915
A22: 2223 | B22: Izdevumi par elektroenerģiju | C22: 53.25 | D22: =C22/100*50 -> 26.625
A23: 2243 | B23: Iekārtas, inventāra un aparatūras remonts, tehniskā apkalpošana | C23: 14.62 | D23: =C23/100*50 -> 7.31
A24: 2249 | B24: Pārējie remonta darbu un iestāžu uzturēšanas pakalpojumi | C24: 0 | D24: =C24/100*50 -> 0
A25: 2321 | B25: Kurināmais | C25: 82.5 | D25: =C25/100*50 -> 41.25
A26: 2341 | B26: Zāles, ķimikālijas, laboratorijas preces | C26: 35.66 | D26: =C26/100*50 -> 17.83
A27: 2350 | B27: Kārtējā remonta un iestāžu uzturēšanas materiāli | C27: 0 | D27: =C27/100*50 -> 0
A28: 2363 | B28: Ēdināšanas izdevumi | C28: 352 | D28: 196
A29: 5232 | B29: Saimniecības pamatlīdzekļi | C29: 5.2 | D29: =C29/100*50 -> 2.6
B30: Tiešās izmaksas kopā | C30: =SUM(C19:C29) -> 1704.57 | D30: =SUM(D19:D29) -> 989.62
B31: Netiešās izmaksas
A32: 1100 | B32: Atalgojums | C32: 734.52 | D32: =C32/100*50 -> 367.26
A33: 1200 | B33: Darba devēja valsts sociālās apdrošināšanas obligātās iemaksas, sociāla rakstura pabalsti un kompensācijas | C33: 176.94 | D33: =C33/100*50 -> 88.47
A34: 2100 | B34: Mācību, darba un dienesta komandējumi, dienesta, darba braucieni | C34: 0 | D34: =C34/100*50 -> 0
A35: 2210 | B35: Pasta, telefona un citu sakaru pakalpojumi | C35: 11.56 | D35: =C35/100*50 -> 5.78
A36: 2222 | B36: Izdevumi par ūdeni un kanalizāciju | C36: 83.52 | D36: =C36/100*50 -> 41.76
A37: 2223 | B37: Izdevumi par elektroenerģiju | C37: 114.36 | D37: =C37/100*50 -> 57.18
A38: 2230 | B38: Iestādes administratīvie izdevumi un ar iestādes darbības nodrošināšanu saistītie izdevumi | C38: 7.89 | D38: =C38/100*50 -> 3.945
A39: 2241 | B39: Ēku, būvju un telpu kārtējais remonts | C39: 0 | D39: =C39/100*50 -> 0
A40: 2242 | B40: Transportlīdzekļu uzturēšana un remonts | C40: 2.12 | D40: =C40/100*50 -> 1.06
A41: 2243 | B41: Iekārtas, inventāra un aparatūras remonts, tehniskā apkalpošana | C41: 11.33 | D41: =C41/100*50 -> 5.665
A42: 2244 | B42: Ēku, būvju un telpu uzturēšana | C42: 224.5 | D42: 178.41
A43: 2247 | B43: Apdrošināšanas izdevumi | C43: 0.71 | D43: =C43/100*50 -> 0.355
A44: 2249 | B44: Pārējie remonta darbu un iestāžu uzturēšanas pakalpojumi | C44: 2.94 | D44: =C44/100*50 -> 1.47
A45: 2251 | B45: Informācijas sistēmas uzturēšana | C45: 27.01 | D45: =C45/100*50 -> 13.505
A46: 2252 | B46: Informācijas sistēmas licenču nomas izdevumi | C46: 0 | D46: =C46/100*50 -> 0
A47: 2259 | B47: Pārējie informācijas tehnoloģiju pakalpojumi | C47: 0.09 | D47: =C47/100*50 -> 0.045
A48: 2261 | B48: Ēku, telpu īre un noma | D48: =C48/100*50 -> 0
A49: 2262 | B49: Transportlīdzekļu noma | C49: 8.28 | D49: =C49/100*50 -> 4.14
A50: 2263 | B50: Zemes noma | C50: 29.52 | D50: =C50/100*50 -> 14.76
A51: 2264 | B51: Iekārtu un inventāra īre un noma | C51: 0.08 | D51: =C51/100*50 -> 0.04
A52: 2279 | B52: Pārējie iepriekš neklasificētie pakalpojumu veidi | C52: 39.49 | D52: =C52/100*50 -> 19.745
A53: 2311 | B53: Biroja preces | C53: 2.6 | D53: =C53/100*50 -> 1.3
A54: 2312 | B54: Inventārs | C54: 8.94 | D54: =C54/100*50 -> 4.47
A55: 2321 | B55: Kurināmais | C55: 201.52 | D55: =C55/100*50 -> 100.76
A56: 2322 | B56: Degviela | C56: 20.75 | D56: =C56/100*50 -> 10.375
A57: 2341 | B57: Zāles, ķimikālijas, laboratorijas preces | C57: 1.36 | D57: =C57/100*50 -> 0.68
A58: 2344 | B58: Medicīnas instrumenti, laboratorijas dzīvnieki un to uzturēšana | C58: 0.02 | D58: =C58/100*50 -> 0.01
A59: 2350 | B59: Kārtējā remonta un iestāžu uzturēšanas materiāli | C59: 28.78 | D59: =C59/100*50 -> 14.39
A60: 2361 | B60: Mīkstais inventārs | C60: 21.46 | D60: =C60/100*50 -> 10.73
... A74: 5250 | B74: Kapitālais remonts un rekonstrukcija | C74: 2.13 | D74: =C74/100*50 -> 1.065
B75: Netiešās izmaksas kopā | C75: =SUM(C32:C74) -> 1809.43 | D75: =SUM(D32:D74) -> 970.875
B76: Pakalpojumu izmaksas kopā | C76: =C75+C30 -> 3514 | D76: =D75+D30 -> 1960.495
A78: Maksas pakalpojuma vienību skaits noteiktā laikposmā | C78: 100 | D78: 50
A79: Maksas pakalpojuma izcenojums (euro) | C79: =C76/C78 -> 35.14 | D79: =D76/D78 -> 39.2099
A81: Prognozētais maksas pakalpojumu skaits gadā (gab.)* | C81: 33.95
A82: Prognozētie ieņēmumi gadā (euro)*
A84: Piezīme. *Ailes neaizpilda, ja izvēlētais laikposms ir viens gads.
A86: Aprēķinu sastādīja: SIVA Finanšu nodaļas vecākā finanšu ekonomiste Anita Ozoliņa

Sheet 4.1.2.5.
D1: SASKAŅOTS
D2: Sociālās integrācijas valsts aģentūras
D3: direktore I.Jurševska
D5: 2021. gada 30. augustā
A7: Maksas pakalpojuma izcenojuma aprēķins
A9: Sociālās integrācijas valsts aģentūra
A10: Publiskā pakalpojuma veids:
B11: 4. Rehabilitācijas pakalpojumi
B12: 4.1. Rehabilitācijas kurss Dubultu prospektā 71, Jūrmalā,
B13: 4.1.2. Rehabilitācijas kurss – Dubultu prospekts 71, 1. korpuss, Jūrmala
B14: 4.1.2.5. Rehabilitācijas programma "Harmonija"(viena vieta divvvietīgā numurā)
A16: Laikposms | B16: 2022.gadā un turpmāk
A17: Izdevumu klasifikācijas kods | B17: Rādītājs (materiāla/izejvielas nosaukums, atlīdzība un citi izmaksu veidi) | D17: Izmaksu apjoms noteiktā laikposmā viena maksas pakalpojuma veida nodrošināšanai
A18: 1 | B18: 2 | D18: 3
B19: Tiešās izmaksas
A20: 1100 | B20: Atalgojums | D20: =15.23*395 -> 6015.85
A21: 1200 | B21: Darba devēja valsts sociālās apdrošināšanas obligātās iemaksas, pabalsti un kompensācijas | D21: 1419.14
A22: 2222 | B22: Izdevumi par ūdensapgādi un kanalizāciju | D22: 236.32
A23: 2223 | B23: Izdevumi par elektroenerģiju | D23: 255.41
A24: 2243 | B24: Iekārtas, inventāra un aparatūras remonts, tehniskā apkalpošana | D24: 0
A25: 2244 | B25: Nekustamā īpašuma uzturēšana | D25: =2.12*395/2 -> 418.7
A26: 2312 | B26: Inventārs | D26: =0.28*395/2 -> 55.3
A27: 2321 | B27: Kurināmais | D27: 238.46
A28: 2341 | B28: Zāles, ķimikālijas, laboratorijas preces | D28: 246.05
A29: 2361 | B29: Mīkstais inventārs | D29: =2.25*50 -> 112.5
A30: 2363 | B30: Ēdināšanas izdevumi | D30: =8.12*395 -> 3207.4
A31: 5239 | B31: Pārējie iepriekš neklasificētie pamatlīdzekļi un ieguldījuma īpašumi | D31: 62.74
B32: Tiešās izmaksas kopā | D32: =SUM(D20:D31) -> 12267.87
B33: Netiešās izmaksas
A34: 1100 | B34: Atalgojums | C34: =0.388+0.024 -> 0.412 | D34: 3692.91
A35: 1200 | B35: Darba devēja valsts sociālās apdrošināšanas obligātās iemaksas, pabalsti un kompensācijas | C35: =C34*0.2359 -> 0.0971908 | D35: 871.16
A36: 2100 | B36: Mācību, darba un dienesta komandējumi, dienesta, darba braucieni | C36: 0.001166 | D36: 10.45
A37: 2210 | B37: Izdevumi par sakaru pakalpojumiem | C37: 0.0076 | D37: 68.12
A38: 2222 | B38: Izdevumi par ūdensapgādi un kanalizāciju | C38: 0.0095 | D38: 85.15
A39: 2223 | B39: Izdevumi par elektroenerģiju | C39: 0.01902 | D39: 170.48
A40: 2224 | B40: Izdevumi par atkritumu savākšanu, izvešanu no apdzīvotām vietām un teritorijām ārpus apdzīvotām vietām un atkritumu utilizāciju | C40: 0.00495 | D40: 44.37
A41: 2231 | B41: Izdevumi iestādes sabiedrisko aktivitāšu īstenošanai | C41: 0.00155 | D41: 13.89
A42: 2235 | B42: Izdevumi par saņemtajiem mācību pakalpojumiem | C42: 0.00165 | D42: 14.79
A43: 2239 | B43: Pārējie neklasificētie pakalpojumi | C43: 0.00441 | D43: 39.53
A44: 2241 | B44: Ēku, būvju un telpu būvdarbi | C44: 0.0165 | D44: 147.9
A45: 2242 | B45: Transportlīdzekļu uzturēšana un remonts | C45: 0.00226 | D45: 20.26
A46: 2243 | B46: Iekārtas, inventāra un aparatūras remonts, tehniskā apkalpošana | C46: 0.0326 | D46: 292.21
A47: 2244 | B47: Nekustamā īpašuma uzturēšana | C47: 0.20397 | D47: 1828.26
... A50: 2250 | B50: Informācijas tehnoloģiju pakalpojumi | C50: 0.024026 | D50: 215.35
A51: 2261 | B51: Ēku, telpu īre un noma | C51: 0 | D51: =C51*8963.38 -> 0
A52: 2262 | B52: Transportlīdzekļu noma | C52: 0.00626 | D52: 56.11
A53: 2263 | B53: Zemes noma | C53: 0.0458 | D53: 410.52
A54: 2264 | B54: Iekārtu, aparatūras un inventāra īre un noma | C54: 0.00149 | D54: 13.36
A55: 2311 | B55: Biroja preces | C55: 0.00477 | D55: 42.76
A56: 2312 | B56: Inventārs | C56: 0.00579 | D56: 51.9
A57: 2314 | B57: Izdevumi par precēm iestādes sabiedrisko aktivitāšu īstenošanai | C57: 0.00222 | D57: 19.9
A58: 2321 | B58: Kurināmais | C58: 0.0198 | D58: 178.52
A59: 2322 | B59: Degviela | C59: 0.0035 | D59: 31.37
A60: 2341 | B60: Zāles, ķimikālijas, laboratorijas preces | D60: =C60*8963.38 -> 0
A61: 2350 | B61: Iestāžu uzturēšanas materiāli un preces | C61: 0.0085 | D61: 76.19
A62: 2361 | B62: Mīkstais inventārs | C62: 0 | D62: =C62*8963.38 -> 0
A63: 2362 | B63: Virtuves inventārs, trauki un galda piederumi | C63: 0 | D63: =C63*8963.38 -> 0
A64: 2363 | B64: Ēdināšanas izdevumi | C64: 0 | D64: =C64*8963.38 -> 0
A65: 2370 | B65: Mācību līdzekļi un materiāli | C65: 0 | D65: =C65*8963.38 -> 0
A66: 2400 | B66: Izdevumi periodikas iegādei | C66: 0 | D66: =C66*8963.38 -> 0
A67: 2512 | B67: Budžeta iestāžu pievienotās vērtības nodokļa maksājumi | C67: 0 | D67: =C67*8963.38 -> 0
A68: 2513 | B68: Budžeta iestāžu nekustamā īpašuma nodokļa maksājumi | C68: 0.00146 | D68: 13.09
A69: 2515 | B69: Budžeta iestāžu dabas resursu nodokļa maksājumi | C69: 0.0019 | D69: 17.03
A70: 2519 | B70: Pārējie budžeta iestāžu pārskaitītie nodokļi un nodevas | C70: 0.002 | D70: 17.93
A71: 5220 | B71: Tehnoloģiskās iekārtas un mašīnas | C71: 0.0106 | D71: 95.01
A72: 5238 | B72: Datortehnika, sakaru un cita biroja tehnika | C72: 0.00165 | D72: 14.79
A73: 5239 | B73: Pārējie iepriekš neklasificētie pamatlīdzekļi un ieguldījuma īpašumi | C73: 0.0198 | D73: 177.47
A74: 5250 | B74: Kapitālais remonts un rekonstrukcija | C74: 0.025 | D74: 224.08
B75: Netiešās izmaksas kopā | D75: =SUM(D34:D74) -> 8963.38
B76: Pakalpojumu izmaksas kopā | D76: =D75+D32 -> 21231.25
A78: Maksas pakalpojuma vienību skaits noteiktā laikposmā (gab.) | D78: 395
A79: Maksas pakalpojuma izcenojums (euro) | D79: =D76/D78 -> 53.75
A81: Prognozētais maksas pakalpojumu skaits gadā (gab.)*
A82: Prognozētie ieņēmumi gadā (euro)*
A84: Piezīme. *Ailes neaizpilda, ja izvēlētais laikposms ir viens gads.
A86: Aprēķinu sastādīja: SIVA Finanšu nodaļas vecākā finanšu ekonomiste Anita Ozoliņa

Sheet 4.2.1.
D1: SASKAŅOTS
D2: Sociālās integrācijas valsts aģentūras
D3: direktores p.i. G.Apele
D5: 2021. gada
A7: Maksas pakalpojuma izcenojuma aprēķins
A9: Sociālās integrācijas valsts aģentūra
A10: Publiskā pakalpojuma veids:
B11: 4. Rehabilitācijas pakalpojumi
B12: 4.2. Citi pakalpojumi
B13: 4.2.1. Piemaksa par uzturēšanos vienvietīgā numurā personai, kura saņem sociālās rehabilitācijas pakalpojumus par valsts budžeta līdzekļiem
A14: Laikposms | B14: 2021.gadā un turpmāk
A16: Izdevumu klasifikācijas kods | B16: Rādītājs (materiāla/izejvielas nosaukums, atlīdzība un citi izmaksu veidi) | D16: Izmaksu apjoms noteiktā laikposmā viena maksas pakalpojuma veida nodrošināšanai
A17: 1 | B17: 2 | D17: 3
B18: Tiešās izmaksas
A19: 1100 | B19: Atalgojums | C19: 576.62 | D19: =C19/1500*800 -> 307.53067
A20: 1200 | B20: Darba devēja valsts sociālās apdrošināšanas obligātās iemaksas, pabalsti un kompensācijas | C20: 138.91 | D20: =C20/1500*800 -> 74.085333
A21: 2222 | B21: Izdevumi par ūdensapgādi un kanalizāciju | C21: 360.14 | D21: =C21/1500*800 -> 192.07467
A22: 2223 | B22: Izdevumi par elektroenerģiju | C22: 428.63 | D22: =C22/1500*800 -> 228.60267
A23: 2243 | B23: Iekārtas, inventāra un aparatūras remonts, tehniskā apkalpošana | C23: 0 | D23: =C23/1500*800 -> 0
A24: 2249 | B24: Pārējie remonta darbu un iestāžu uzturēšanas pakalpojumi | C24: 0 | D24: =C24/1500*800 -> 0
A25: 2321 | B25: Kurināmais | C25: 737.48 | D25: =C25/1500*800 -> 393.32267
A26: 2341 | B26: Zāles, ķimikālijas, laboratorijas preces | C26: 0 | D26: 0
A27: 2350 | B27: Kārtējā remonta un iestāžu uzturēšanas materiāli | C27: 0 | D27: 0
A28: 2363 | B28: Ēdināšanas izdevumi | C28: 0 | D28: 0
A29: 5232 | B29: Saimniecības pamatlīdzekļi | C29: 0 | D29: 0
B30: Tiešās izmaksas kopā | C30: =SUM(C19:C29) -> 2241.78 | D30: =SUM(D19:D29) -> 1195.616
B31: Netiešās izmaksas
A32: 1100 | B32: Atalgojums | C32: 5005.55 | D32: =C32/1500*800 -> 2669.6267
A33: 1200 | B33: Darba devēja valsts sociālās apdrošināšanas obligātās iemaksas, pabalsti un kompensācijas | C33: 1205.84 | D33: =C33/1500*800 -> 643.11467
A34: 2100 | B34: Mācību, darba un dienesta komandējumi, dienesta, darba braucieni | C34: 0 | D34: =C34/1500*800 -> 0
A35: 2210 | B35: Izdevumi par sakaru pakalpojumiem | C35: 71.68 | D35: =C35/1500*800 -> 38.229333
A36: 2222 | B36: Izdevumi par ūdensapgādi un kanalizāciju | C36: 1200.2 | D36: =C36/1500*800 -> 640.10667
A37: 2223 | B37: Izdevumi par elektroenerģiju | C37: 2201.19 | D37: =C37/1500*800 -> 1173.968
A38: 2231 | B38: Izdevumi iestādes sabiedrisko aktivitāšu īstenošanai | C38: 44.97 | D38: =C38/1500*800 -> 23.984
A39: 2239 | B39: Pārējie neklasificētie pakalpojumi | C39: 189.75 | D39: =C39/1500*800 -> 101.2
A40: 2241 | B40: Ēku, būvju un telpu būvdarbi | C40: 0 | D40: =C40/1500*800 -> 0
A41: 2242 | B41: Transportlīdzekļu uzturēšana un remonts | C41: 16.37 | D41: =C41/1500*800 -> 8.7306667
A42: 2243 | B42: Iekārtas, inventāra un aparatūras remonts, tehniskā apkalpošana | C42: 55.82 | D42: =C42/1500*800 -> 29.770667
A43: 2244 | B43: Nekustamā īpašuma uzturēšana | C43: 1105.36 | D43: 1893.53
A44: 2247 | B44: Apdrošināšanas izdevumi | C44: 4.49 | D44: =C44/1500*800 -> 2.3946667
A45: 2249 | B45: Pārējie remontdarbu un iestāžu uzturēšanas pakalpojum | C45: 20.24 | D45: =C45/1500*800 -> 10.794667
A46: 2250 | B46: Informācijas tehnoloģiju pakalpojumi | C46: 315.21 | D46: =C46/1500*800+0.79 -> 168.902
A47: 2261 | B47: Ēku, telpu īre un noma | C47: 0 | D47: =C47/1500*800 -> 0
A48: 2262 | B48: Transportlīdzekļu noma | C48: 48.49 | D48: =C48/1500*800 -> 25.861333
A49: 2263 | B49: Zemes noma | C49: 179.01 | D49: =C49/1500*800 -> 95.472
A50: 2264 | B50: Iekārtu, aparatūras un inventāra īre un noma | C50: 0.85 | D50: =C50/1500*800 -> 0.45333333
A51: 2311 | B51: Biroja preces | C51: 18.36 | D51: =C51/1500*800 -> 9.792
A52: 2312 | B52: Inventārs | C52: 134.9 | D52: =C52/1500*800 -> 71.946667
A53: 2321 | B53: Kurināmais | C53: 3606.42 | D53: =C53/1500*800 -> 1923.424
A54: 2322 | B54: Degviela | C54: 130.01 | D54: =C54/1500*800 -> 69.338667
A55: 2341 | B55: Zāles, ķimikālijas, laboratorijas preces | C55: 0 | D55: =C55/1500*800 -> 0
A56: 2344 | B56: Medicīnas instrumenti, laboratorijas dzīvnieki un to uzturēšana | C56: 0 | D56: =C56/1500*800 -> 0
A57: 2350 | B57: Iestāžu uzturēšanas materiāli un preces | C57: 159.28 | D57: =C57/1500*800 -> 84.949333
A58: 2361 | B58: Mīkstais inventārs | C58: 17.84 | D58: =C58/1500*800 -> 9.5146667
... A68: 6290 | B68: Stipendijas | C68: 0 | D68: =C68/1500*800 -> 0
A69: 5238 | B69: Datortehnika, sakaru un cita biroja tehnika | C69: 0 | D69: 12.22
A70: 5239 | B70: Pārējie iepriekš neklasificētie pamatlīdzekļi un ieguldījuma īpašumi | C70: 3.13 | D70: =108.67+1.67 -> 110.34
A71: 5250 | B71: Kapitālais remonts un rekonstrukcija | C71: 453.6 | D71: =C71/1500*800 -> 241.92
B72: Netiešās izmaksas kopā | C72: =SUM(C32:C71) -> 16355.06 | D72: =SUM(D32:D71) -> 10148.384
B73: Pakalpojumu izmaksas kopā | C73: =C72+C30 -> 18596.84 | D73: =D72+D30 -> 11344
A75: Maksas pakalpojuma vienību skaits noteiktā laikposmā (gab.) | C75: 1500 | D75: 800
A76: Maksas pakalpojuma izcenojums (euro) | C76: =C73/C75 -> 12.397893 | D76: =D73/D75 -> 14.18
A78: Prognozētais maksas pakalpojumu skaits gadā (gab.)* | C78: 12.55
A79: Prognozētie ieņēmumi gadā (euro)*
A81: Piezīme. *Ailes neaizpilda, ja izvēlētais laikposms ir viens gads.
A83: Aprēķinu sastādīja: SIVA Finanšu nodaļas vecākā finanšu ekonomiste Anita Ozoliņa

Sheet 4.3.1.1.
D1: SASKAŅOTS
B2: Sociālās integrācijas valsts aģentūras
D3: direktore I.Jurševska
D5: 2021. gada 30. augustā
A7: Maksas pakalpojuma izcenojuma aprēķins
A9: Sociālās integrācijas valsts aģentūra
A10: Publiskā pakalpojuma veids:
B11: 4. Rehabilitācijas pakalpojumi
B12: 4.3. Veselības veicināšanas programmas
B13: 4.3.1. Dubultu prospektā 71, 2.korpuss, Jūrmalā
B14: 4.3.1.1. Programma "Muguras veselība", 5 dienu kurss (viena vieta vienvietīgā numurā)
A15: Laikposms | B15: 2022.gadā un turpmāk
A16: Izdevumu klasifikācijas kods | B16: Rādītājs (materiāla/izejvielas nosaukums, atlīdzība un citi izmaksu veidi) | D16: Izmaksu apjoms noteiktā laikposmā viena maksas pakalpojuma veida nodrošināšanai
A17: 1 | B17: 2 | D17: 3
B18: Tiešās izmaksas
A19: 1100 | B19: Atalgojums | D19: 717.6
A20: 1200 | B20: Darba devēja valsts sociālās apdrošināšanas obligātās iemaksas, pabalsti un kompensācijas | D20: 169.28
A21: 2222 | B21: Izdevumi par ūdensapgādi un kanalizāciju | D21: 30.49
A22: 2223 | B22: Izdevumi par elektroenerģiju | D22: 38.02
A23: 2243 | B23: Iekārtas, inventāra un aparatūras remonts, tehniskā apkalpošana | D23: 0
A24: 2244 | B24: Nekustamā īpašuma uzturēšana | D24: =2.12*5*5 -> 53
A25: 2312 | B25: Inventārs | D25: 7.1
A26: 2321 | B26: Kurināmais | D26: 45.78
A27: 2341 | B27: Zāles, ķimikālijas, laboratorijas preces | D27: 67.87
A28: 2361 | B28: Mīkstais inventārs | D28: =0.28*5*5+1.97*5*5 -> 56.25
A29: 2363 | B29: Ēdināšanas izdevumi | D29: =8.12*5*5 -> 203
A30: 5239 | B30: Pārējie iepriekš neklasificētie pamatlīdzekļi un ieguldījuma īpašumi | D30: 32.45
B31: Tiešās izmaksas kopā | D31: =SUM(D19:D30) -> 1420.84
B32: Netiešās izmaksas
A33: 1100 | B33: Atalgojums | C33: =0.388+0.024 -> 0.412 | D33: 457.77
A34: 1200 | B34: Darba devēja valsts sociālās apdrošināšanas obligātās iemaksas, pabalsti un kompensācijas | C34: =C33*0.2359 -> 0.0971908 | D34: 107.99
A35: 2100 | B35: Mācību, darba un dienesta komandējumi, dienesta, darba braucieni | C35: 0.001166 | D35: 1.3
A36: 2210 | B36: Izdevumi par sakaru pakalpojumiem | C36: 0.0076 | D36: 8.44
A37: 2222 | B37: Izdevumi par ūdensapgādi un kanalizāciju | C37: 0.0095 | D37: 10.56
A38: 2223 | B38: Izdevumi par elektroenerģiju | C38: 0.01902 | D38: 21.13
A39: 2224 | B39: Izdevumi par atkritumu savākšanu, izvešanu no apdzīvotām vietām un teritorijām ārpus apdzīvotām vietām un atkritumu utilizāciju | C39: 0.00495 | D39: 5.5
A40: 2231 | B40: Izdevumi iestādes sabiedrisko aktivitāšu īstenošanai | C40: 0.00155 | D40: 1.72
A41: 2235 | B41: Izdevumi par saņemtajiem mācību pakalpojumiem | C41: 0.00165 | D41: 1.83
A42: 2239 | B42: Pārējie neklasificētie pakalpojumi | C42: 0.00441 | D42: 4.9
A43: 2241 | B43: Ēku, būvju un telpu būvdarbi | C43: 0.0165 | D43: 18.33
A44: 2242 | B44: Transportlīdzekļu uzturēšana un remonts | C44: 0.00226 | D44: 2.51
A45: 2243 | B45: Iekārtas, inventāra un aparatūras remonts, tehniskā apkalpošana | C45: 0.0326 | D45: 36.22
A46: 2244 | B46: Nekustamā īpašuma uzturēšana | C46: 0.20397 | D46: 226.63
... A49: 2250 | B49: Informācijas tehnoloģiju pakalpojumi | C49: 0.024026 | D49: 26.7
A50: 2261 | B50: Ēku, telpu īre un noma | C50: 0 | D50: =C50*1111.1 -> 0
A51: 2262 | B51: Transportlīdzekļu noma | C51: 0.00626 | D51: 6.96
A52: 2263 | B52: Zemes noma | C52: 0.0458 | D52: 50.89
A53: 2264 | B53: Iekārtu, aparatūras un inventāra īre un noma | C53: 0.00149 | D53: 1.66
A54: 2311 | B54: Biroja preces | C54: 0.00477 | D54: 5.3
A55: 2312 | B55: Inventārs | C55: 0.00579 | D55: 6.43
A56: 2314 | B56: Izdevumi par precēm iestādes sabiedrisko aktivitāšu īstenošanai | C56: 0.00222 | D56: 2.47
A57: 2321 | B57: Kurināmais | C57: 0.0198 | D57: 22
A58: 2322 | B58: Degviela | C58: 0.0035 | D58: 3.89
A59: 2341 | B59: Zāles, ķimikālijas, laboratorijas preces | D59: =C59*1111.1 -> 0
A60: 2350 | B60: Iestāžu uzturēšanas materiāli un preces | C60: 0.0085 | D60: 9.44
A61: 2361 | B61: Mīkstais inventārs | C61: 0 | D61: =C61*1111.1 -> 0
A62: 2362 | B62: Virtuves inventārs, trauki un galda piederumi | C62: 0 | D62: =C62*1111.1 -> 0
A63: 2363 | B63: Ēdināšanas izdevumi | C63: 0 | D63: =C63*1111.1 -> 0
A64: 2370 | B64: Mācību līdzekļi un materiāli | C64: 0 | D64: =C64*1111.1 -> 0
A65: 2400 | B65: Izdevumi periodikas iegādei | C65: 0 | D65: =C65*1111.1 -> 0
A66: 2512 | B66: Budžeta iestāžu pievienotās vērtības nodokļa maksājumi | C66: 0 | D66: =C66*1111.1 -> 0
A67: 2513 | B67: Budžeta iestāžu nekustamā īpašuma nodokļa maksājumi | C67: 0.00146 | D67: 1.62
A68: 2515 | B68: Budžeta iestāžu dabas resursu nodokļa maksājumi | C68: 0.0019 | D68: 2.11
A69: 2519 | B69: Pārējie budžeta iestāžu pārskaitītie nodokļi un nodevas | C69: 0.002 | D69: 2.22
A70: 5220 | B70: Tehnoloģiskās iekārtas un mašīnas | C70: 0.0106 | D70: 11.78
A71: 5238 | B71: Datortehnika, sakaru un cita biroja tehnika | C71: 0.00165 | D71: 2.02
A72: 5239 | B72: Pārējie iepriekš neklasificētie pamatlīdzekļi un ieguldījuma īpašumi | C72: 0.0198 | D72: 22
A73: 5250 | B73: Kapitālais remonts un rekonstrukcija | C73: 0.025 | D73: 27.78
B74: Netiešās izmaksas kopā | C74: =SUM(C33:C73) -> 0.9998838 | D74: =SUM(D33:D73) -> 1111.16
B75: Pakalpojumu izmaksas kopā | D75: =D31+D74 -> 2532
A77: Maksas pakalpojuma vienību skaits noteiktā laikposmā (gab.) | D77: 5
A78: Maksas pakalpojuma izcenojums (euro) | D78: =D75/D77 -> 506.4
A80: Prognozētais maksas pakalpojumu skaits gadā (gab.)*
A81: Prognozētie ieņēmumi gadā (euro)*
A83: Piezīme. *Ailes neaizpilda, ja izvēlētais laikposms ir viens gads.
A85: Aprēķinu sastādīja: SIVA Finanšu nodaļas vecākā finanšu ekonomiste Anita Ozoliņa

Sheet 4.3.1.2.
D1: SASKAŅOTS
B2: Sociālās integrācijas valsts aģentūras
D3: direktore I.Jurševska
D5: 2021. gada 30. augustā
A7: Maksas pakalpojuma izcenojuma aprēķins
A9: Sociālās integrācijas valsts aģentūra
A10: Publiskā pakalpojuma veids:
B11: 4. Rehabilitācijas pakalpojumi
B12: 4.3. Veselības veicināšanas programmas
B13: 4.3.1. Dubultu prospektā 71, 2.korpuss, Jūrmalā
B14: 4.3.1.2. Programma "Muguras veselība", 5 dienu kurss (viena vieta divvietīgā numurā)
A15: Laikposms | B15: 2022.gadā un turpmāk
A16: Izdevumu klasifikācijas kods | B16: Rādītājs (materiāla/izejvielas nosaukums, atlīdzība un citi izmaksu veidi) | D16: Izmaksu apjoms noteiktā laikposmā viena maksas pakalpojuma veida nodrošināšanai
A17: 1 | B17: 2 | D17: 3
B18: Tiešās izmaksas
A19: 1100 | B19: Atalgojums | D19: 717.6
A20: 1200 | B20: Darba devēja valsts sociālās apdrošināšanas obligātās iemaksas, pabalsti un kompensācijas | D20: 169.28
A21: 2222 | B21: Izdevumi par ūdensapgādi un kanalizāciju | D21: 29.06
A22: 2223 | B22: Izdevumi par elektroenerģiju | D22: 39.42
A23: 2243 | B23: Iekārtas, inventāra un aparatūras remonts, tehniskā apkalpošana | D23: 0
A24: 2244 | B24: Nekustamā īpašuma uzturēšana | D24: =2.12*5*5/2 -> 26.5
A25: 2312 | B25: Inventārs | D25: 7.1
A26: 2321 | B26: Kurināmais | D26: 46.84
A27: 2341 | B27: Zāles, ķimikālijas, laboratorijas preces | D27: 67.81
A28: 2361 | B28: Mīkstais inventārs | D28: =0.28*5*5+1.97*5*5 -> 56.25
A29: 2363 | B29: Ēdināšanas izdevumi | D29: 203
A30: 5239 | B30: Pārējie iepriekš neklasificētie pamatlīdzekļi un ieguldījuma īpašumi | D30: 33.23
B31: Tiešās izmaksas kopā | D31: =SUM(D19:D30) -> 1396.09
B32: Netiešās izmaksas
A33: 1100 | B33: Atalgojums | C33: =0.388+0.024 -> 0.412 | D33: 305.05
A34: 1200 | B34: Darba devēja valsts sociālās apdrošināšanas obligātās iemaksas, pabalsti un kompensācijas | C34: =C33*0.2359 -> 0.0971908 | D34: 71.96
A35: 2100 | B35: Mācību, darba un dienesta komandējumi, dienesta, darba braucieni | C35: 0.001166 | D35: 0.86
A36: 2210 | B36: Izdevumi par sakaru pakalpojumiem | C36: 0.0076 | D36: 5.63
A37: 2222 | B37: Izdevumi par ūdensapgādi un kanalizāciju | C37: 0.0095 | D37: 7.03
A38: 2223 | B38: Izdevumi par elektroenerģiju | C38: 0.01902 | D38: 14.08
A39: 2224 | B39: Izdevumi par atkritumu savākšanu, izvešanu no apdzīvotām vietām un teritorijām ārpus apdzīvotām vietām un atkritumu utilizāciju | C39: 0.00495 | D39: 3.67
A40: 2231 | B40: Izdevumi iestādes sabiedrisko aktivitāšu īstenošanai | C40: 0.00155 | D40: 1.15
A41: 2235 | B41: Izdevumi par saņemtajiem mācību pakalpojumiem | C41: 0.00165 | D41: 1.22
A42: 2239 | B42: Pārējie neklasificētie pakalpojumi | C42: 0.00441 | D42: 3.27
A43: 2241 | B43: Ēku, būvju un telpu būvdarbi | C43: 0.0165 | D43: 12.22
A44: 2242 | B44: Transportlīdzekļu uzturēšana un remonts | C44: 0.00226 | D44: 1.67
A45: 2243 | B45: Iekārtas, inventāra un aparatūras remonts, tehniskā apkalpošana | C45: 0.0326 | D45: 24.14
A46: 2244 | B46: Nekustamā īpašuma uzturēšana | C46: 0.20397 | D46: 151.02
... A49: 2250 | B49: Informācijas tehnoloģiju pakalpojumi | C49: 0.024026 | D49: 17.79
A50: 2261 | B50: Ēku, telpu īre un noma | C50: 0 | D50: =C50*740.41 -> 0
A51: 2262 | B51: Transportlīdzekļu noma | C51: 0.00626 | D51: 4.63
A52: 2263 | B52: Zemes noma | C52: 0.0458 | D52: 33.91
A53: 2264 | B53: Iekārtu, aparatūras un inventāra īre un noma | C53: 0.00149 | D53: 1.1
A54: 2311 | B54: Biroja preces | C54: 0.00477 | D54: 3.53
A55: 2312 | B55: Inventārs | C55: 0.00579 | D55: 4.29
A56: 2314 | B56: Izdevumi par precēm iestādes sabiedrisko aktivitāšu īstenošanai | C56: 0.00222 | D56: 1.64
A57: 2321 | B57: Kurināmais | C57: 0.0198 | D57: 14.66
A58: 2322 | B58: Degviela | C58: 0.0035 | D58: 2.59
A59: 2341 | B59: Zāles, ķimikālijas, laboratorijas preces | D59: =C59*740.41 -> 0
A60: 2350 | B60: Iestāžu uzturēšanas materiāli un preces | C60: 0.0085 | D60: 6.29
A61: 2361 | B61: Mīkstais inventārs | C61: 0 | D61: =C61*740.41 -> 0
A62: 2362 | B62: Virtuves inventārs, trauki un galda piederumi | C62: 0 | D62: =C62*740.41 -> 0
A63: 2363 | B63: Ēdināšanas izdevumi | C63: 0 | D63: =C63*740.41 -> 0
A64: 2370 | B64: Mācību līdzekļi un materiāli | C64: 0 | D64: =C64*740.41 -> 0
A65: 2400 | B65: Izdevumi periodikas iegādei | C65: 0 | D65: =C65*740.41 -> 0
A66: 2512 | B66: Budžeta iestāžu pievienotās vērtības nodokļa maksājumi | C66: 0 | D66: =C66*740.41 -> 0
A67: 2513 | B67: Budžeta iestāžu nekustamā īpašuma nodokļa maksājumi | C67: 0.00146 | D67: 1.08
A68: 2515 | B68: Budžeta iestāžu dabas resursu nodokļa maksājumi | C68: 0.0019 | D68: 1.41
A69: 2519 | B69: Pārējie budžeta iestāžu pārskaitītie nodokļi un nodevas | C69: 0.002 | D69: 1.48
A70: 5220 | B70: Tehnoloģiskās iekārtas un mašīnas | C70: 0.0106 | D70: 7.85
A71: 5238 | B71: Datortehnika, sakaru un cita biroja tehnika | C71: 0.00165 | D71: 1.32
A72: 5239 | B72: Pārējie iepriekš neklasificētie pamatlīdzekļi un ieguldījuma īpašumi | C72: 0.0198 | D72: 14.66
A73: 5250 | B73: Kapitālais remonts un rekonstrukcija | C73: 0.025 | D73: 18.51
B74: Netiešās izmaksas kopā | C74: =SUM(C33:C73) -> 0.9998838 | D74: =SUM(D33:D73) -> 740.41
B75: Pakalpojumu izmaksas kopā | D75: =D31+D74 -> 2136.5
A77: Maksas pakalpojuma vienību skaits noteiktā laikposmā (gab.) | D77: 5
A78: Maksas pakalpojuma izcenojums (euro) | D78: =D75/D77 -> 427.3
A80: Prognozētais maksas pakalpojumu skaits gadā (gab.)*
A81: Prognozētie ieņēmumi gadā (euro)*
A83: Piezīme. *Ailes neaizpilda, ja izvēlētais laikposms ir viens gads.
A85: Aprēķinu sastādīja: SIVA Finanšu nodaļas vecākā finanšu ekonomiste Anita Ozoliņa

Sheet 4.3.1.3.
D1: SASKAŅOTS
B2: Sociālās integrācijas valsts aģentūras
D3: direktore I.Jurševska
D5: 2021. gada 30. augustā
A7: Maksas pakalpojuma izcenojuma aprēķins
A9: Sociālās integrācijas valsts aģentūra
A10: Publiskā pakalpojuma veids:
B11: 4. Rehabilitācijas pakalpojumi
B12: 4.3. Veselības veicināšanas programmas
B13: 4.3.1. Dubultu prospektā 71, 2.korpuss, Jūrmalā
B14: 4.3.1.3. Programma "Relaksācija" , 5 dienu kurss (viena vieta vienvietīgā numurā)
A15: Laikposms | B15: 2022.gadā un turpmāk
A16: Izdevumu klasifikācijas kods | B16: Rādītājs (materiāla/izejvielas nosaukums, atlīdzība un citi izmaksu veidi) | D16: Izmaksu apjoms noteiktā laikposmā viena maksas pakalpojuma veida nodrošināšanai
A17: 1 | B17: 2 | D17: 3
B18: Tiešās izmaksas
A19: 1100 | B19: Atalgojums | D19: 535.85
A20: 1200 | B20: Darba devēja valsts sociālās apdrošināšanas obligātās iemaksas, pabalsti un kompensācijas | D20: 126.41
A21: 2222 | B21: Izdevumi par ūdensapgādi un kanalizāciju | D21: 30.54
A22: 2223 | B22: Izdevumi par elektroenerģiju | D22: 32.66
A23: 2243 | B23: Iekārtas, inventāra un aparatūras remonts, tehniskā apkalpošana | D23: 0
A24: 2244 | B24: Nekustamā īpašuma uzturēšana | D24: ='4.3.1.1.'!D24 -> 53
A25: 2312 | B25: Inventārs | D25: ='4.3.1.1.'!D25 -> 7.1
A26: 2321 | B26: Kurināmais | D26: 39.92
A27: 2341 | B27: Zāles, ķimikālijas, laboratorijas preces | D27: 57.18
A28: 2361 | B28: Mīkstais inventārs | D28: ='4.3.1.1.'!D28 -> 56.25
A29: 2363 | B29: Ēdināšanas izdevumi | D29: 203
A30: 5239 | B30: Pārējie iepriekš neklasificētie pamatlīdzekļi un ieguldījuma īpašumi | D30: 31.61
B31: Tiešās izmaksas kopā | D31: =SUM(D19:D30) -> 1173.52
B32: Netiešās izmaksas
A33: 1100 | B33: Atalgojums | C33: =0.388+0.024 -> 0.412 | D33: 420.57
A34: 1200 | B34: Darba devēja valsts sociālās apdrošināšanas obligātās iemaksas, pabalsti un kompensācijas | C34: =C33*0.2359 -> 0.0971908 | D34: 99.21
A35: 2100 | B35: Mācību, darba un dienesta komandējumi, dienesta, darba braucieni | C35: 0.001166 | D35: 1.19
A36: 2210 | B36: Izdevumi par sakaru pakalpojumiem | C36: 0.0076 | D36: 7.76
A37: 2222 | B37: Izdevumi par ūdensapgādi un kanalizāciju | C37: 0.0095 | D37: 9.7
A38: 2223 | B38: Izdevumi par elektroenerģiju | C38: 0.01902 | D38: 19.42
A39: 2224 | B39: Izdevumi par atkritumu savākšanu, izvešanu no apdzīvotām vietām un teritorijām ārpus apdzīvotām vietām un atkritumu utilizāciju | C39: 0.00495 | D39: 5.05
A40: 2231 | B40: Izdevumi iestādes sabiedrisko aktivitāšu īstenošanai | C40: 0.00155 | D40: 1.58
A41: 2235 | B41: Izdevumi par saņemtajiem mācību pakalpojumiem | C41: 0.00165 | D41: 1.68
A42: 2239 | B42: Pārējie neklasificētie pakalpojumi | C42: 0.00441 | D42: 4.5
A43: 2241 | B43: Ēku, būvju un telpu būvdarbi | C43: 0.0165 | D43: 16.84
A44: 2242 | B44: Transportlīdzekļu uzturēšana un remonts | C44: 0.00226 | D44: 2.31
A45: 2243 | B45: Iekārtas, inventāra un aparatūras remonts, tehniskā apkalpošana | C45: 0.0326 | D45: 33.28
A46: 2244 | B46: Nekustamā īpašuma uzturēšana | C46: 0.20397 | D46: 208.21
... A49: 2250 | B49: Informācijas tehnoloģiju pakalpojumi | C49: 0.024026 | D49: 25.53
A50: 2261 | B50: Ēku, telpu īre un noma | C50: 0 | D50: =C50*1020.79 -> 0
A51: 2262 | B51: Transportlīdzekļu noma | C51: 0.00626 | D51: 6.39
A52: 2263 | B52: Zemes noma | C52: 0.0458 | D52: 46.75
A53: 2264 | B53: Iekārtu, aparatūras un inventāra īre un noma | C53: 0.00149 | D53: 1.52
A54: 2311 | B54: Biroja preces | C54: 0.00477 | D54: 5.87
A55: 2312 | B55: Inventārs | C55: 0.00579 | D55: 5.91
A56: 2314 | B56: Izdevumi par precēm iestādes sabiedrisko aktivitāšu īstenošanai | C56: 0.00222 | D56: 2.27
A57: 2321 | B57: Kurināmais | C57: 0.0198 | D57: 21.21
A58: 2322 | B58: Degviela | C58: 0.0035 | D58: 3.57
A59: 2341 | B59: Zāles, ķimikālijas, laboratorijas preces | D59: =C59*1020.79 -> 0
A60: 2350 | B60: Iestāžu uzturēšanas materiāli un preces | C60: 0.0085 | D60: 8.68
A61: 2361 | B61: Mīkstais inventārs | C61: 0 | D61: =C61*1020.79 -> 0
A62: 2362 | B62: Virtuves inventārs, trauki un galda piederumi | C62: 0 | D62: =C62*1020.79 -> 0
A63: 2363 | B63: Ēdināšanas izdevumi | C63: 0 | D63: =C63*1020.79 -> 0
A64: 2370 | B64: Mācību līdzekļi un materiāli | C64: 0 | D64: =C64*1020.79 -> 0
A65: 2400 | B65: Izdevumi periodikas iegādei | C65: 0 | D65: =C65*1020.79 -> 0
A66: 2512 | B66: Budžeta iestāžu pievienotās vērtības nodokļa maksājumi | C66: 0 | D66: =C66*1020.79 -> 0
A67: 2513 | B67: Budžeta iestāžu nekustamā īpašuma nodokļa maksājumi | C67: 0.00146 | D67: 1.49
A68: 2515 | B68: Budžeta iestāžu dabas resursu nodokļa maksājumi | C68: 0.0019 | D68: 1.94
A69: 2519 | B69: Pārējie budžeta iestāžu pārskaitītie nodokļi un nodevas | C69: 0.002 | D69: 2.68
A70: 5220 | B70: Tehnoloģiskās iekārtas un mašīnas | C70: 0.0106 | D70: 10.82
A71: 5238 | B71: Datortehnika, sakaru un cita biroja tehnika | C71: 0.00165 | D71: 3.1
A72: 5239 | B72: Pārējie iepriekš neklasificētie pamatlīdzekļi un ieguldījuma īpašumi | C72: 0.0198 | D72: 20.21
A73: 5250 | B73: Kapitālais remonts un rekonstrukcija | C73: 0.025 | D73: 25.52
B74: Netiešās izmaksas kopā | C74: =SUM(C33:C73) -> 0.9998838 | D74: =SUM(D33:D73) -> 1025.73
B75: Pakalpojumu izmaksas kopā | D75: =D31+D74 -> 2199.25
A77: Maksas pakalpojuma vienību skaits noteiktā laikposmā (gab.) | D77: 5
A78: Maksas pakalpojuma izcenojums (euro) | D78: =D75/D77 -> 439.85
A80: Prognozētais maksas pakalpojumu skaits gadā (gab.)*
A81: Prognozētie ieņēmumi gadā (euro)*
A83: Piezīme. *Ailes neaizpilda, ja izvēlētais laikposms ir viens gads.
A85: Aprēķinu sastādīja: SIVA Finanšu nodaļas vecākā finanšu ekonomiste Anita Ozoliņa

Sheet 4.3.1.4.
C1: SASKAŅOTS
B2: Sociālās integrācijas valsts aģentūras
C3: direktore I.Jurševska
C5: 2021. gada 30. augustā
A7: Maksas pakalpojuma izcenojuma aprēķins
A9: Sociālās integrācijas valsts aģentūra
A10: Publiskā pakalpojuma veids:
B11: 4. Rehabilitācijas pakalpojumi
B12: 4.3. Veselības veicināšanas programmas
B13: 4.3.1. Dubultu prospektā 71, 2.korpuss, Jūrmalā
B14: 4.3.1.4. Programma "Relaksācija" , 5 dienu kurss (viena vieta divvietīgā numurā)
A15: Laikposms | B15: 2022.gadā un turpmāk
A16: Izdevumu klasifikācijas kods | B16: Rādītājs (materiāla/izejvielas nosaukums, atlīdzība un citi izmaksu veidi) | C16: Izmaksu apjoms noteiktā laikposmā viena maksas pakalpojuma veida nodrošināšanai
A17: 1 | B17: 2 | C17: 3
B18: Tiešās izmaksas
A19: 1100 | B19: Atalgojums | C19: 535.85
A20: 1200 | B20: Darba devēja valsts sociālās apdrošināšanas obligātās iemaksas, pabalsti un kompensācijas | C20: 126.41
A21: 2222 | B21: Izdevumi par ūdensapgādi un kanalizāciju | C21: 29.12
A22: 2223 | B22: Izdevumi par elektroenerģiju | C22: 34.06
A23: 2243 | B23: Iekārtas, inventāra un aparatūras remonts, tehniskā apkalpošana | C23: 0
A24: 2244 | B24: Nekustamā īpašuma uzturēšana | C24: ='4.3.1.2.'!D24 -> 26.5
A25: 2312 | B25: Inventārs | C25: 7.1
A26: 2321 | B26: Kurināmais | C26: 40.98
A27: 2341 | B27: Zāles, ķimikālijas, laboratorijas preces | C27: 57.12
A28: 2361 | B28: Mīkstais inventārs | C28: 56.25
A29: 2363 | B29: Ēdināšanas izdevumi | C29: 203
A30: 5239 | B30: Pārējie iepriekš neklasificētie pamatlīdzekļi un ieguldījuma īpašumi | C30: 32.39
B31: Tiešās izmaksas kopā | C31: =SUM(C19:C30) -> 1148.78
B32: Netiešās izmaksas
A33: 1100 | B33: Atalgojums | C33: 267.81
A34: 1200 | B34: Darba devēja valsts sociālās apdrošināšanas obligātās iemaksas, pabalsti un kompensācijas | C34: 63.18
A35: 2100 | B35: Mācību, darba un dienesta komandējumi, dienesta, darba braucieni | C35: 0.76
A36: 2210 | B36: Izdevumi par sakaru pakalpojumiem | C36: 4.94
A37: 2222 | B37: Izdevumi par ūdensapgādi un kanalizāciju | C37: 6.18
A38: 2223 | B38: Izdevumi par elektroenerģiju | C38: 12.36
A39: 2224 | B39: Izdevumi par atkritumu savākšanu, izvešanu no apdzīvotām vietām un teritorijām ārpus apdzīvotām vietām un atkritumu utilizāciju | C39: 3.22
A40: 2231 | B40: Izdevumi iestādes sabiedrisko aktivitāšu īstenošanai | C40: 1.01
A41: 2235 | B41: Izdevumi par saņemtajiem mācību pakalpojumiem | C41: 1.07
A42: 2239 | B42: Pārējie neklasificētie pakalpojumi | C42: 2.87
A43: 2241 | B43: Ēku, būvju un telpu būvdarbi | C43: 10.73
A44: 2242 | B44: Transportlīdzekļu uzturēšana un remonts | C44: 1.47
... A49: 2250 | B49: Informācijas tehnoloģiju pakalpojumi | C49: 15.62
A50: 2261 | B50: Ēku, telpu īre un noma
A51: 2262 | B51: Transportlīdzekļu noma | C51: 4.07
A52: 2263 | B52: Zemes noma | C52: 29.77
A53: 2264 | B53: Iekārtu, aparatūras un inventāra īre un noma | C53: 0.97
A54: 2311 | B54: Biroja preces | C54: 3.1
A55: 2312 | B55: Inventārs | C55: 3.76
A56: 2314 | B56: Izdevumi par precēm iestādes sabiedrisko aktivitāšu īstenošanai | C56: 1.44
A57: 2321 | B57: Kurināmais | C57: 12.87
A58: 2322 | B58: Degviela | C58: 2.28
A59: 2341 | B59: Zāles, ķimikālijas, laboratorijas preces
A60: 2350 | B60: Iestāžu uzturēšanas materiāli un preces | C60: 5.97
A61: 2361 | B61: Mīkstais inventārs
A62: 2362 | B62: Virtuves inventārs, trauki un galda piederumi
A63: 2363 | B63: Ēdināšanas izdevumi
A64: 2370 | B64: Mācību līdzekļi un materiāli
A65: 2400 | B65: Izdevumi periodikas iegādei
A66: 2512 | B66: Budžeta iestāžu pievienotās vērtības nodokļa maksājumi
A67: 2513 | B67: Budžeta iestāžu nekustamā īpašuma nodokļa maksājumi | C67: 1.05
A68: 2515 | B68: Budžeta iestāžu dabas resursu nodokļa maksājumi | C68: 1.24
A69: 2519 | B69: Pārējie budžeta iestāžu pārskaitītie nodokļi un nodevas | C69: 1.7
A70: 5220 | B70: Tehnoloģiskās iekārtas un mašīnas | C70: 7.89
A71: 5238 | B71: Datortehnika, sakaru un cita biroja tehnika | C71: 2.12
A72: 5239 | B72: Pārējie iepriekš neklasificētie pamatlīdzekļi un ieguldījuma īpašumi | C72: 13.87
A73: 5250 | B73: Kapitālais remonts un rekonstrukcija | C73: 17.25
B74: Netiešās izmaksas kopā | C74: =SUM(C33:C73) -> 654.97
B75: Pakalpojumu izmaksas kopā | C75: =C31+C74 -> 1803.75
A77: Maksas pakalpojuma vienību skaits noteiktā laikposmā (gab.) | C77: 5
A78: Maksas pakalpojuma izcenojums (euro) | C78: =C75/C77 -> 360.75
A80: Prognozētais maksas pakalpojumu skaits gadā (gab.)*
A81: Prognozētie ieņēmumi gadā (euro)*
A83: Piezīme. *Ailes neaizpilda, ja izvēlētais laikposms ir viens gads.
A85: Aprēķinu sastādīja: SIVA Finanšu nodaļas vecākā finanšu ekonomiste Anita Ozoliņa

Sheet 4.3.1.5.
D1: SASKAŅOTS
B2: Sociālās integrācijas valsts aģentūras
D3: direktore I.Jurševska
D5: 2021. gada 30. augustā
A7: Maksas pakalpojuma izcenojuma aprēķins
A9: Sociālās integrācijas valsts aģentūra
A10: Publiskā pakalpojuma veids:
B11: 4. Rehabilitācijas pakalpojumi
B12: 4.3. Veselības veicināšanas programmas
B13: 4.3.1. Dubultu prospektā 71, 2.korpuss, Jūrmalā
B14: 4.3.1.5. Programma "Vitalitāte" , 7 dienu kurss (viena vieta vienvietīgā numurā)
A15: Laikposms | B15: 2022.gadā un turpmāk
A16: Izdevumu klasifikācijas kods | B16: Rādītājs (materiāla/izejvielas nosaukums, atlīdzība un citi izmaksu veidi) | D16: Izmaksu apjoms noteiktā laikposmā viena maksas pakalpojuma veida nodrošināšanai
A17: 1 | B17: 2 | D17: 3
B18: Tiešās izmaksas
A19: 1100 | B19: Atalgojums | D19: 1009.32
A20: 1200 | B20: Darba devēja valsts sociālās apdrošināšanas obligātās iemaksas, pabalsti un kompensācijas | D20: 238.1
A21: 2222 | B21: Izdevumi par ūdensapgādi un kanalizāciju | D21: 57.3
A22: 2223 | B22: Izdevumi par elektroenerģiju | D22: 62.21
A23: 2243 | B23: Iekārtas, inventāra un aparatūras remonts, tehniskā apkalpošana | D23: 0
A24: 2244 | B24: Nekustamā īpašuma uzturēšana | D24: =2.12*7*5 -> 74.2
A25: 2312 | B25: Inventārs | D25: 13.91
A26: 2321 | B26: Kurināmais | D26: 74.48
A27: 2341 | B27: Zāles, ķimikālijas, laboratorijas preces | D27: 110.81
A28: 2361 | B28: Mīkstais inventārs | D28: =56.25/5/5*7*5 -> 78.75
A29: 2363 | B29: Ēdināšanas izdevumi | D29: =8.12*7*5 -> 284.2
A30: 5239 | B30: Pārējie iepriekš neklasificētie pamatlīdzekļi un ieguldījuma īpašumi | D30: 61.34
B31: Tiešās izmaksas kopā | D31: =SUM(D19:D30) -> 2064.62
B32: Netiešās izmaksas
A33: 1100 | B33: Atalgojums | C33: =0.388+0.024 -> 0.412 | D33: 779.12
A34: 1200 | B34: Darba devēja valsts sociālās apdrošināšanas obligātās iemaksas, pabalsti un kompensācijas | C34: =C33*0.2359 -> 0.0971908 | D34: 183.79
A35: 2100 | B35: Mācību, darba un dienesta komandējumi, dienesta, darba braucieni | C35: 0.001166 | D35: 2.2
A36: 2210 | B36: Izdevumi par sakaru pakalpojumiem | C36: 0.0076 | D36: 14.37
A37: 2222 | B37: Izdevumi par ūdensapgādi un kanalizāciju | C37: 0.0095 | D37: 17.97
A38: 2223 | B38: Izdevumi par elektroenerģiju | C38: 0.01902 | D38: 35.97
A39: 2224 | B39: Izdevumi par atkritumu savākšanu, izvešanu no apdzīvotām vietām un teritorijām ārpus apdzīvotām vietām un atkritumu utilizāciju | C39: 0.00495 | D39: 9.36
A40: 2231 | B40: Izdevumi iestādes sabiedrisko aktivitāšu īstenošanai | C40: 0.00155 | D40: 2.93
A41: 2235 | B41: Izdevumi par saņemtajiem mācību pakalpojumiem | C41: 0.00165 | D41: 3.12
A42: 2239 | B42: Pārējie neklasificētie pakalpojumi | C42: 0.00441 | D42: 8.34
A43: 2241 | B43: Ēku, būvju un telpu būvdarbi | C43: 0.0165 | D43: 31.2
A44: 2242 | B44: Transportlīdzekļu uzturēšana un remonts | C44: 0.00226 | D44: 4.27
A45: 2243 | B45: Iekārtas, inventāra un aparatūras remonts, tehniskā apkalpošana | C45: 0.0326 | D45: 61.65
A46: 2244 | B46: Nekustamā īpašuma uzturēšana | C46: 0.20397 | D46: 385.72
... A49: 2250 | B49: Informācijas tehnoloģiju pakalpojumi | C49: 0.024026 | D49: 45.44
A50: 2261 | B50: Ēku, telpu īre un noma | C50: 0 | D50: =C50*1891.08 -> 0
A51: 2262 | B51: Transportlīdzekļu noma | C51: 0.00626 | D51: 11.84
A52: 2263 | B52: Zemes noma | C52: 0.0458 | D52: 86.61
A53: 2264 | B53: Iekārtu, aparatūras un inventāra īre un noma | C53: 0.00149 | D53: 2.82
A54: 2311 | B54: Biroja preces | C54: 0.00477 | D54: 9.02
A55: 2312 | B55: Inventārs | C55: 0.00579 | D55: 10.95
A56: 2314 | B56: Izdevumi par precēm iestādes sabiedrisko aktivitāšu īstenošanai | C56: 0.00222 | D56: 4.2
A57: 2321 | B57: Kurināmais | C57: 0.0198 | D57: 37.44
A58: 2322 | B58: Degviela | C58: 0.0035 | D58: 6.62
A59: 2341 | B59: Zāles, ķimikālijas, laboratorijas preces | D59: =C59*1891.08 -> 0
A60: 2350 | B60: Iestāžu uzturēšanas materiāli un preces | C60: 0.0085 | D60: 16.07
A61: 2361 | B61: Mīkstais inventārs | C61: 0 | D61: =C61*1891.08 -> 0
A62: 2362 | B62: Virtuves inventārs, trauki un galda piederumi | C62: 0 | D62: =C62*1891.08 -> 0
A63: 2363 | B63: Ēdināšanas izdevumi | C63: 0 | D63: =C63*1891.08 -> 0
A64: 2370 | B64: Mācību līdzekļi un materiāli | C64: 0 | D64: =C64*1891.08 -> 0
A65: 2400 | B65: Izdevumi periodikas iegādei | C65: 0 | D65: =C65*1891.08 -> 0
A66: 2512 | B66: Budžeta iestāžu pievienotās vērtības nodokļa maksājumi | C66: 0 | D66: =C66*1891.08 -> 0
A67: 2513 | B67: Budžeta iestāžu nekustamā īpašuma nodokļa maksājumi | C67: 0.00146 | D67: 2.76
A68: 2515 | B68: Budžeta iestāžu dabas resursu nodokļa maksājumi | C68: 0.0019 | D68: 3.59
A69: 2519 | B69: Pārējie budžeta iestāžu pārskaitītie nodokļi un nodevas | C69: 0.002 | D69: 3.78
A70: 5220 | B70: Tehnoloģiskās iekārtas un mašīnas | C70: 0.0106 | D70: 20.05
A71: 5238 | B71: Datortehnika, sakaru un cita biroja tehnika | C71: 0.00165 | D71: 3.36
A72: 5239 | B72: Pārējie iepriekš neklasificētie pamatlīdzekļi un ieguldījuma īpašumi | C72: 0.0198 | D72: 37.44
A73: 5250 | B73: Kapitālais remonts un rekonstrukcija | C73: 0.025 | D73: 47.28
B74: Netiešās izmaksas kopā | C74: =SUM(C33:C73) -> 0.9998838 | D74: =SUM(D33:D73) -> 1891.08
B75: Pakalpojumu izmaksas kopā | D75: =D31+D74 -> 3955.7
A77: Maksas pakalpojuma vienību skaits noteiktā laikposmā (gab.) | D77: 5
A78: Maksas pakalpojuma izcenojums (euro) | D78: =D75/D77 -> 791.14
A80: Prognozētais maksas pakalpojumu skaits gadā (gab.)*
A81: Prognozētie ieņēmumi gadā (euro)*
A83: Piezīme. *Ailes neaizpilda, ja izvēlētais laikposms ir viens gads.
A85: Aprēķinu sastādīja: SIVA Finanšu nodaļas vecākā finanšu ekonomiste Anita Ozoliņa

Sheet 4.3.1.6.
D1: SASKAŅOTS
B2: Sociālās integrācijas valsts aģentūras
D3: direktore I.Jurševska
D5: 2021. gada 30. augustā
A7: Maksas pakalpojuma izcenojuma aprēķins
A9: Sociālās integrācijas valsts aģentūra
A10: Publiskā pakalpojuma veids:
B11: 4. Rehabilitācijas pakalpojumi
B12: 4.3. Veselības veicināšanas programmas
B13: 4.3.1. Dubultu prospektā 71, 2.korpuss, Jūrmalā
B14: 4.3.1.6. Programma "Vitalitāte" , 7 dienu kurss (viena vieta divvietīgā numurā)
A15: Laikposms | B15: 2022.gadā un turpmāk
A16: Izdevumu klasifikācijas kods | B16: Rādītājs (materiāla/izejvielas nosaukums, atlīdzība un citi izmaksu veidi) | D16: Izmaksu apjoms noteiktā laikposmā viena maksas pakalpojuma veida nodrošināšanai
A17: 1 | B17: 2 | D17: 3
B18: Tiešās izmaksas
A19: 1100 | B19: Atalgojums | D19: 1009.32
A20: 1200 | B20: Darba devēja valsts sociālās apdrošināšanas obligātās iemaksas, pabalsti un kompensācijas | D20: 238.1
A21: 2222 | B21: Izdevumi par ūdensapgādi un kanalizāciju | D21: 56.46
A22: 2223 | B22: Izdevumi par elektroenerģiju | D22: 67.27
A23: 2243 | B23: Iekārtas, inventāra un aparatūras remonts, tehniskā apkalpošana | D23: 0
A24: 2244 | B24: Nekustamā īpašuma uzturēšana | D24: =2.12*7*5/2 -> 37.1
A25: 2312 | B25: Inventārs | D25: 14.41
A26: 2321 | B26: Kurināmais | D26: 79.3
A27: 2341 | B27: Zāles, ķimikālijas, laboratorijas preces | D27: 114.65
A28: 2361 | B28: Mīkstais inventārs | D28: =56.25/5*7 -> 78.75
A29: 2363 | B29: Ēdināšanas izdevumi | D29: =8.12*7*5 -> 284.2
A30: 5239 | B30: Pārējie iepriekš neklasificētie pamatlīdzekļi un ieguldījuma īpašumi | D30: 65.12
B31: Tiešās izmaksas kopā | D31: =SUM(D19:D30) -> 2044.68
B32: Netiešās izmaksas
A33: 1100 | B33: Atalgojums | C33: =0.388+0.024 -> 0.412 | D33: 559.22
A34: 1200 | B34: Darba devēja valsts sociālās apdrošināšanas obligātās iemaksas, pabalsti un kompensācijas | C34: =C33*0.2359 -> 0.0971908 | D34: 131.92
A35: 2100 | B35: Mācību, darba un dienesta komandējumi, dienesta, darba braucieni | C35: 0.001166 | D35: 1.58
A36: 2210 | B36: Izdevumi par sakaru pakalpojumiem | C36: 0.0076 | D36: 10.32
A37: 2222 | B37: Izdevumi par ūdensapgādi un kanalizāciju | C37: 0.0095 | D37: 12.89
A38: 2223 | B38: Izdevumi par elektroenerģiju | C38: 0.01902 | D38: 25.82
A39: 2224 | B39: Izdevumi par atkritumu savākšanu, izvešanu no apdzīvotām vietām un teritorijām ārpus apdzīvotām vietām un atkritumu utilizāciju | C39: 0.00495 | D39: 6.72
A40: 2231 | B40: Izdevumi iestādes sabiedrisko aktivitāšu īstenošanai | C40: 0.00155 | D40: 2.1
A41: 2235 | B41: Izdevumi par saņemtajiem mācību pakalpojumiem | C41: 0.00165 | D41: 2.24
A42: 2239 | B42: Pārējie neklasificētie pakalpojumi | C42: 0.00441 | D42: 5.99
A43: 2241 | B43: Ēku, būvju un telpu būvdarbi | C43: 0.0165 | D43: 22.4
A44: 2242 | B44: Transportlīdzekļu uzturēšana un remonts | C44: 0.00226 | D44: 3.07
A45: 2243 | B45: Iekārtas, inventāra un aparatūras remonts, tehniskā apkalpošana | C45: 0.0326 | D45: 44.25
A46: 2244 | B46: Nekustamā īpašuma uzturēšana | C46: 0.20397 | D46: 276.85
... A49: 2250 | B49: Informācijas tehnoloģiju pakalpojumi | C49: 0.024026 | D49: 32.61
A50: 2261 | B50: Ēku, telpu īre un noma | C50: 0 | D50: =C50*1357.32 -> 0
A51: 2262 | B51: Transportlīdzekļu noma | C51: 0.00626 | D51: 8.5
A52: 2263 | B52: Zemes noma | C52: 0.0458 | D52: 62.17
A53: 2264 | B53: Iekārtu, aparatūras un inventāra īre un noma | C53: 0.00149 | D53: 2.02
A54: 2311 | B54: Biroja preces | C54: 0.00477 | D54: 6.47
A55: 2312 | B55: Inventārs | C55: 0.00579 | D55: 7.86
A56: 2314 | B56: Izdevumi par precēm iestādes sabiedrisko aktivitāšu īstenošanai | C56: 0.00222 | D56: 3.01
A57: 2321 | B57: Kurināmais | C57: 0.0198 | D57: 26.87
A58: 2322 | B58: Degviela | C58: 0.0035 | D58: 4.75
A59: 2341 | B59: Zāles, ķimikālijas, laboratorijas preces | D59: =C59*1357.32 -> 0
A60: 2350 | B60: Iestāžu uzturēšanas materiāli un preces | C60: 0.0085 | D60: 11.54
A61: 2361 | B61: Mīkstais inventārs | C61: 0 | D61: =C61*1357.32 -> 0
A62: 2362 | B62: Virtuves inventārs, trauki un galda piederumi | C62: 0 | D62: =C62*1357.32 -> 0
A63: 2363 | B63: Ēdināšanas izdevumi | C63: 0 | D63: =C63*1357.32 -> 0
A64: 2370 | B64: Mācību līdzekļi un materiāli | C64: 0 | D64: =C64*1357.32 -> 0
A65: 2400 | B65: Izdevumi periodikas iegādei | C65: 0 | D65: =C65*1357.32 -> 0
A66: 2512 | B66: Budžeta iestāžu pievienotās vērtības nodokļa maksājumi | C66: 0 | D66: =C66*1357.32 -> 0
A67: 2513 | B67: Budžeta iestāžu nekustamā īpašuma nodokļa maksājumi | C67: 0.00146 | D67: 1.98
A68: 2515 | B68: Budžeta iestāžu dabas resursu nodokļa maksājumi | C68: 0.0019 | D68: 2.58
A69: 2519 | B69: Pārējie budžeta iestāžu pārskaitītie nodokļi un nodevas | C69: 0.002 | D69: 2.71
A70: 5220 | B70: Tehnoloģiskās iekārtas un mašīnas | C70: 0.0106 | D70: 14.39
A71: 5238 | B71: Datortehnika, sakaru un cita biroja tehnika | C71: 0.00165 | D71: 2.4
A72: 5239 | B72: Pārējie iepriekš neklasificētie pamatlīdzekļi un ieguldījuma īpašumi | C72: 0.0198 | D72: 26.87
A73: 5250 | B73: Kapitālais remonts un rekonstrukcija | C73: 0.025 | D73: 33.93
B74: Netiešās izmaksas kopā | C74: =SUM(C33:C73) -> 0.9998838 | D74: =SUM(D33:D73) -> 1357.32
B75: Pakalpojumu izmaksas kopā | D75: =D31+D74 -> 3402
A77: Maksas pakalpojuma vienību skaits noteiktā laikposmā (gab.) | D77: 5
A78: Maksas pakalpojuma izcenojums (euro) | D78: =D75/D77 -> 680.4
A80: Prognozētais maksas pakalpojumu skaits gadā (gab.)*
A81: Prognozētie ieņēmumi gadā (euro)*
A83: Piezīme. *Ailes neaizpilda, ja izvēlētais laikposms ir viens gads.
A85: Aprēķinu sastādīja: SIVA Finanšu nodaļas vecākā finanšu ekonomiste Anita Ozoliņa

Sheet 4.3.1.7.
D1: SASKAŅOTS
B2: Sociālās integrācijas valsts aģentūras
D3: direktore I.Jurševska
D5: 2021. gada 30. augustā
A7: Maksas pakalpojuma izcenojuma aprēķins
A9: Sociālās integrācijas valsts aģentūra
A10: Publiskā pakalpojuma veids:
B11: 4. Rehabilitācijas pakalpojumi
B12: 4.3. Veselības veicināšanas programmas
B13: 4.3.1. Dubultu prospektā 71, 2.korpuss, Jūrmalā
B14: 4.3.1.7. Programma "Organisma attīrīšanas kūre" , 10 dienu kurss (viena vieta vienvietīgā numurā)
A15: Laikposms | B15: 2022.gadā un turpmāk
A16: Izdevumu klasifikācijas kods | B16: Rādītājs (materiāla/izejvielas nosaukums, atlīdzība un citi izmaksu veidi) | D16: Izmaksu apjoms noteiktā laikposmā viena maksas pakalpojuma veida nodrošināšanai
A17: 1 | B17: 2 | D17: 3
B18: Tiešās izmaksas
A19: 1100 | B19: Atalgojums | D19: 1139.14
A20: 1200 | B20: Darba devēja valsts sociālās apdrošināšanas obligātās iemaksas, pabalsti un kompensācijas | D20: 268.72
A21: 2222 | B21: Izdevumi par ūdensapgādi un kanalizāciju | D21: 52.39
A22: 2223 | B22: Izdevumi par elektroenerģiju | D22: 56.88
A23: 2243 | B23: Iekārtas, inventāra un aparatūras remonts, tehniskā apkalpošana | D23: 0
A24: 2244 | B24: Nekustamā īpašuma uzturēšana | D24: =2.12*10*5 -> 106
A25: 2312 | B25: Inventārs | D25: 12.72
A26: 2321 | B26: Kurināmais | D26: 68.09
A27: 2341 | B27: Zāles, ķimikālijas, laboratorijas preces | D27: 101.32
A28: 2361 | B28: Mīkstais inventārs | D28: =56.25/5/5*10*4 -> 90
A29: 2363 | B29: Ēdināšanas izdevumi | D29: =8.12*10*4 -> 324.8
A30: 5239 | B30: Pārējie iepriekš neklasificētie pamatlīdzekļi un ieguldījuma īpašumi | D30: 56.09
B31: Tiešās izmaksas kopā | D31: =SUM(D19:D30) -> 2276.15
B32: Netiešās izmaksas
A33: 1100 | B33: Atalgojums | C33: =0.388+0.024 -> 0.412 | D33: 732.1
A34: 1200 | B34: Darba devēja valsts sociālās apdrošināšanas obligātās iemaksas, pabalsti un kompensācijas | C34: =C33*0.2359 -> 0.0971908 | D34: 172.7
A35: 2100 | B35: Mācību, darba un dienesta komandējumi, dienesta, darba braucieni | C35: 0.001166 | D35: 2.07
A36: 2210 | B36: Izdevumi par sakaru pakalpojumiem | C36: 0.0076 | D36: 13.5
A37: 2222 | B37: Izdevumi par ūdensapgādi un kanalizāciju | C37: 0.0095 | D37: 16.88
A38: 2223 | B38: Izdevumi par elektroenerģiju | C38: 0.01902 | D38: 33.8
A39: 2224 | B39: Izdevumi par atkritumu savākšanu, izvešanu no apdzīvotām vietām un teritorijām ārpus apdzīvotām vietām un atkritumu utilizāciju | C39: 0.00495 | D39: 8.8
A40: 2231 | B40: Izdevumi iestādes sabiedrisko aktivitāšu īstenošanai | C40: 0.00155 | D40: 2.75
A41: 2235 | B41: Izdevumi par saņemtajiem mācību pakalpojumiem | C41: 0.00165 | D41: 2.93
A42: 2239 | B42: Pārējie neklasificētie pakalpojumi | C42: 0.00441 | D42: 7.84
A43: 2241 | B43: Ēku, būvju un telpu būvdarbi | C43: 0.0165 | D43: 29.32
A44: 2242 | B44: Transportlīdzekļu uzturēšana un remonts | C44: 0.00226 | D44: 4.02
A45: 2243 | B45: Iekārtas, inventāra un aparatūras remonts, tehniskā apkalpošana | C45: 0.0326 | D45: 57.93
A46: 2244 | B46: Nekustamā īpašuma uzturēšana | C46: 0.20397 | D46: 362.44
... A49: 2250 | B49: Informācijas tehnoloģiju pakalpojumi | C49: 0.024026 | D49: 42.69
A50: 2261 | B50: Ēku, telpu īre un noma | C50: 0 | D50: =C50*1776.93 -> 0
A51: 2262 | B51: Transportlīdzekļu noma | C51: 0.00626 | D51: 11.12
A52: 2263 | B52: Zemes noma | C52: 0.0458 | D52: 81.38
A53: 2264 | B53: Iekārtu, aparatūras un inventāra īre un noma | C53: 0.00149 | D53: 2.65
A54: 2311 | B54: Biroja preces | C54: 0.00477 | D54: 8.48
A55: 2312 | B55: Inventārs | C55: 0.00579 | D55: 10.29
A56: 2314 | B56: Izdevumi par precēm iestādes sabiedrisko aktivitāšu īstenošanai | C56: 0.00222 | D56: 3.94
A57: 2321 | B57: Kurināmais | C57: 0.0198 | D57: 35.18
A58: 2322 | B58: Degviela | C58: 0.0035 | D58: 6.22
A59: 2341 | B59: Zāles, ķimikālijas, laboratorijas preces | D59: =C59*1776.93 -> 0
A60: 2350 | B60: Iestāžu uzturēšanas materiāli un preces | C60: 0.0085 | D60: 15.1
A61: 2361 | B61: Mīkstais inventārs | C61: 0 | D61: =C61*1776.93 -> 0
A62: 2362 | B62: Virtuves inventārs, trauki un galda piederumi | C62: 0 | D62: =C62*1776.93 -> 0
A63: 2363 | B63: Ēdināšanas izdevumi | C63: 0 | D63: =C63*1776.93 -> 0
A64: 2370 | B64: Mācību līdzekļi un materiāli | C64: 0 | D64: =C64*1776.93 -> 0
A65: 2400 | B65: Izdevumi periodikas iegādei | C65: 0 | D65: =C65*1776.93 -> 0
A66: 2512 | B66: Budžeta iestāžu pievienotās vērtības nodokļa maksājumi | C66: 0 | D66: =C66*1776.93 -> 0
A67: 2513 | B67: Budžeta iestāžu nekustamā īpašuma nodokļa maksājumi | C67: 0.00146 | D67: 2.59
A68: 2515 | B68: Budžeta iestāžu dabas resursu nodokļa maksājumi | C68: 0.0019 | D68: 3.38
A69: 2519 | B69: Pārējie budžeta iestāžu pārskaitītie nodokļi un nodevas | C69: 0.002 | D69: 3.55
A70: 5220 | B70: Tehnoloģiskās iekārtas un mašīnas | C70: 0.0106 | D70: 18.84
A71: 5238 | B71: Datortehnika, sakaru un cita biroja tehnika | C71: 0.00165 | D71: 3.15
A72: 5239 | B72: Pārējie iepriekš neklasificētie pamatlīdzekļi un ieguldījuma īpašumi | C72: 0.0198 | D72: 35.18
A73: 5250 | B73: Kapitālais remonts un rekonstrukcija | C73: 0.025 | D73: 44.42
B74: Netiešās izmaksas kopā | C74: =SUM(C33:C73) -> 0.9998838 | D74: =SUM(D33:D73) -> 1776.93
B75: Pakalpojumu izmaksas kopā | D75: =D31+D74 -> 4053.08
A77: Maksas pakalpojuma vienību skaits noteiktā laikposmā (gab.) | D77: 4
A78: Maksas pakalpojuma izcenojums (euro) | D78: =D75/D77 -> 1013.27
A80: Prognozētais maksas pakalpojumu skaits gadā (gab.)*
A81: Prognozētie ieņēmumi gadā (euro)*
A83: Piezīme. *Ailes neaizpilda, ja izvēlētais laikposms ir viens gads.
A85: Aprēķinu sastādīja: SIVA Finanšu nodaļas vecākā finanšu ekonomiste Anita Ozoliņa

Sheet 4.3.1.8.
D1: SASKAŅOTS
B2: Sociālās integrācijas valsts aģentūras
D3: direktore I.Jurševska
D5: 2021. gada 30. augustā
A7: Maksas pakalpojuma izcenojuma aprēķins
A9: Sociālās integrācijas valsts aģentūra
A10: Publiskā pakalpojuma veids:
B11: 4. Rehabilitācijas pakalpojumi
B12: 4.3. Veselības veicināšanas programmas
B13: 4.3.1. Dubultu prospektā 71, 2.korpuss, Jūrmalā
B14: 4.3.1.8. Programma "Organisma attīrīšanas kūre" , 10 dienu kurss (viena vieta divvietīgā numurā)
A15: Laikposms | B15: 2022.gadā un turpmāk
A16: Izdevumu klasifikācijas kods | B16: Rādītājs (materiāla/izejvielas nosaukums, atlīdzība un citi izmaksu veidi) | D16: Izmaksu apjoms noteiktā laikposmā viena maksas pakalpojuma veida nodrošināšanai
A17: 1 | B17: 2 | D17: 3
B18: Tiešās izmaksas
A19: 1100 | B19: Atalgojums | D19: 1139.14
A20: 1200 | B20: Darba devēja valsts sociālās apdrošināšanas obligātās iemaksas, pabalsti un kompensācijas | D20: 268.72
A21: 2222 | B21: Izdevumi par ūdensapgādi un kanalizāciju | D21: 51.17
A22: 2223 | B22: Izdevumi par elektroenerģiju | D22: 60.97
A23: 2243 | B23: Iekārtas, inventāra un aparatūras remonts, tehniskā apkalpošana | D23: 0
A24: 2244 | B24: Nekustamā īpašuma uzturēšana | D24: =2.12*10*5/2 -> 53
A25: 2312 | B25: Inventārs | D25: 13.05
A26: 2321 | B26: Kurināmais | D26: 71.88
A27: 2341 | B27: Zāles, ķimikālijas, laboratorijas preces | D27: 103.95
A28: 2361 | B28: Mīkstais inventārs | D28: =56.25/5/5*10*4 -> 90
A29: 2363 | B29: Ēdināšanas izdevumi | D29: =8.12*10*4 -> 324.8
A30: 5239 | B30: Pārējie iepriekš neklasificētie pamatlīdzekļi un ieguldījuma īpašumi | D30: 59.03
B31: Tiešās izmaksas kopā | D31: =SUM(D19:D30) -> 2235.71
B32: Netiešās izmaksas
A33: 1100 | B33: Atalgojums | C33: =0.388+0.024 -> 0.412 | D33: 488.04
A34: 1200 | B34: Darba devēja valsts sociālās apdrošināšanas obligātās iemaksas, pabalsti un kompensācijas | C34: =C33*0.2359 -> 0.0971908 | D34: 115.13
A35: 2100 | B35: Mācību, darba un dienesta komandējumi, dienesta, darba braucieni | C35: 0.001166 | D35: 1.38
A36: 2210 | B36: Izdevumi par sakaru pakalpojumiem | C36: 0.0076 | D36: 9
A37: 2222 | B37: Izdevumi par ūdensapgādi un kanalizāciju | C37: 0.0095 | D37: 11.25
A38: 2223 | B38: Izdevumi par elektroenerģiju | C38: 0.01902 | D38: 22.53
A39: 2224 | B39: Izdevumi par atkritumu savākšanu, izvešanu no apdzīvotām vietām un teritorijām ārpus apdzīvotām vietām un atkritumu utilizāciju | C39: 0.00495 | D39: 5.86
A40: 2231 | B40: Izdevumi iestādes sabiedrisko aktivitāšu īstenošanai | C40: 0.00155 | D40: 1.84
A41: 2235 | B41: Izdevumi par saņemtajiem mācību pakalpojumiem | C41: 0.00165 | D41: 1.95
A42: 2239 | B42: Pārējie neklasificētie pakalpojumi | C42: 0.00441 | D42: 5.22
A43: 2241 | B43: Ēku, būvju un telpu būvdarbi | C43: 0.0165 | D43: 19.55
A44: 2242 | B44: Transportlīdzekļu uzturēšana un remonts | C44: 0.00226 | D44: 2.68
A45: 2243 | B45: Iekārtas, inventāra un aparatūras remonts, tehniskā apkalpošana | C45: 0.0326 | D45: 38.62
A46: 2244 | B46: Nekustamā īpašuma uzturēšana | C46: 0.20397 | D46: 241.62
... A49: 2250 | B49: Informācijas tehnoloģiju pakalpojumi | C49: 0.024026 | D49: 28.46
A50: 2261 | B50: Ēku, telpu īre un noma | C50: 0 | D50: =C50*1184.57 -> 0
A51: 2262 | B51: Transportlīdzekļu noma | C51: 0.00626 | D51: 7.42
A52: 2263 | B52: Zemes noma | C52: 0.0458 | D52: 54.25
A53: 2264 | B53: Iekārtu, aparatūras un inventāra īre un noma | C53: 0.00149 | D53: 1.77
A54: 2311 | B54: Biroja preces | C54: 0.00477 | D54: 5.65
A55: 2312 | B55: Inventārs | C55: 0.00579 | D55: 6.86
A56: 2314 | B56: Izdevumi par precēm iestādes sabiedrisko aktivitāšu īstenošanai | C56: 0.00222 | D56: 2.63
A57: 2321 | B57: Kurināmais | C57: 0.0198 | D57: 23.45
A58: 2322 | B58: Degviela | C58: 0.0035 | D58: 4.15
A59: 2341 | B59: Zāles, ķimikālijas, laboratorijas preces | D59: =C59*1184.57 -> 0
A60: 2350 | B60: Iestāžu uzturēšanas materiāli un preces | C60: 0.0085 | D60: 10.07
A61: 2361 | B61: Mīkstais inventārs | C61: 0 | D61: =C61*1184.57 -> 0
A62: 2362 | B62: Virtuves inventārs, trauki un galda piederumi | C62: 0 | D62: =C62*1184.57 -> 0
A63: 2363 | B63: Ēdināšanas izdevumi | C63: 0 | D63: =C63*1184.57 -> 0
A64: 2370 | B64: Mācību līdzekļi un materiāli | C64: 0 | D64: =C64*1184.57 -> 0
A65: 2400 | B65: Izdevumi periodikas iegādei | C65: 0 | D65: =C65*1184.57 -> 0
A66: 2512 | B66: Budžeta iestāžu pievienotās vērtības nodokļa maksājumi | C66: 0 | D66: =C66*1184.57 -> 0
A67: 2513 | B67: Budžeta iestāžu nekustamā īpašuma nodokļa maksājumi | C67: 0.00146 | D67: 1.73
A68: 2515 | B68: Budžeta iestāžu dabas resursu nodokļa maksājumi | C68: 0.0019 | D68: 2.25
A69: 2519 | B69: Pārējie budžeta iestāžu pārskaitītie nodokļi un nodevas | C69: 0.002 | D69: 2.37
A70: 5220 | B70: Tehnoloģiskās iekārtas un mašīnas | C70: 0.0106 | D70: 12.56
A71: 5238 | B71: Datortehnika, sakaru un cita biroja tehnika | C71: 0.00165 | D71: 2.1
A72: 5239 | B72: Pārējie iepriekš neklasificētie pamatlīdzekļi un ieguldījuma īpašumi | C72: 0.0198 | D72: 23.45
A73: 5250 | B73: Kapitālais remonts un rekonstrukcija | C73: 0.025 | D73: 29.61
B74: Netiešās izmaksas kopā | C74: =SUM(C33:C73) -> 0.9998838 | D74: =SUM(D33:D73) -> 1184.57
B75: Pakalpojumu izmaksas kopā | D75: =D31+D74 -> 3420.28
A77: Maksas pakalpojuma vienību skaits noteiktā laikposmā (gab.) | D77: 4
A78: Maksas pakalpojuma izcenojums (euro) | D78: =D75/D77 -> 855.07
A80: Prognozētais maksas pakalpojumu skaits gadā (gab.)*
A81: Prognozētie ieņēmumi gadā (euro)*
A83: Piezīme. *Ailes neaizpilda, ja izvēlētais laikposms ir viens gads.
A85: Aprēķinu sastādīja: SIVA Finanšu nodaļas vecākā finanšu ekonomiste Anita Ozoliņa

Sheet 4.3.1.9.
D1: SASKAŅOTS
B2: Sociālās integrācijas valsts aģentūras
D3: direktore I.Jurševska
D5: 2021. gada 30. augustā
A7: Maksas pakalpojuma izcenojuma aprēķins
A9: Sociālās integrācijas valsts aģentūra
A10: Publiskā pakalpojuma veids:
B11: 4. Rehabilitācijas pakalpojumi
B12: 4.3. Veselības veicināšanas programmas
B13: 4.3.1. Dubultu prospektā 71, 2.korpuss, Jūrmalā
B14: 4.3.1.9. Programma "Restartē darba spējas" , 3 dienu kurss (viena vieta vienvietīgā numurā)
A15: Laikposms | B15: 2022.gadā un turpmāk
A16: Izdevumu klasifikācijas kods | B16: Rādītājs (materiāla/izejvielas nosaukums, atlīdzība un citi izmaksu veidi) | D16: Izmaksu apjoms noteiktā laikposmā viena maksas pakalpojuma veida nodrošināšanai
A17: 1 | B17: 2 | D17: 3
B18: Tiešās izmaksas
A19: 1100 | B19: Atalgojums | D19: 461.78
A20: 1200 | B20: Darba devēja valsts sociālās apdrošināšanas obligātās iemaksas, pabalsti un kompensācijas | D20: 108.93
A21: 2222 | B21: Izdevumi par ūdensapgādi un kanalizāciju | D21: 27.3
A22: 2223 | B22: Izdevumi par elektroenerģiju | D22: 24.76
A23: 2243 | B23: Iekārtas, inventāra un aparatūras remonts, tehniskā apkalpošana | D23: 0
A24: 2244 | B24: Nekustamā īpašuma uzturēšana | D24: =2.12*3*5 -> 31.8
A25: 2312 | B25: Inventārs | D25: 5.54
A26: 2321 | B26: Kurināmais | D26: 29.64
A27: 2341 | B27: Zāles, ķimikālijas, laboratorijas preces | D27: 44.1
A28: 2361 | B28: Mīkstais inventārs | D28: =56.25/5/5*3*5 -> 33.75
A29: 2363 | B29: Ēdināšanas izdevumi | D29: =8.12*3*5 -> 121.8
A30: 5239 | B30: Pārējie iepriekš neklasificētie pamatlīdzekļi un ieguldījuma īpašumi | D30: 24.42
B31: Tiešās izmaksas kopā | D31: =SUM(D19:D30) -> 913.82
B32: Netiešās izmaksas
A33: 1100 | B33: Atalgojums | C33: =0.388+0.024 -> 0.412 | D33: 333.98
A34: 1200 | B34: Darba devēja valsts sociālās apdrošināšanas obligātās iemaksas, pabalsti un kompensācijas | C34: =C33*0.2359 -> 0.0971908 | D34: 78.79
A35: 2100 | B35: Mācību, darba un dienesta komandējumi, dienesta, darba braucieni | C35: 0.001166 | D35: 0.95
A36: 2210 | B36: Izdevumi par sakaru pakalpojumiem | C36: 0.0076 | D36: 6.16
A37: 2222 | B37: Izdevumi par ūdensapgādi un kanalizāciju | C37: 0.0095 | D37: 7.7
A38: 2223 | B38: Izdevumi par elektroenerģiju | C38: 0.01902 | D38: 15.42
A39: 2224 | B39: Izdevumi par atkritumu savākšanu, izvešanu no apdzīvotām vietām un teritorijām ārpus apdzīvotām vietām un atkritumu utilizāciju | C39: 0.00495 | D39: 4.01
A40: 2231 | B40: Izdevumi iestādes sabiedrisko aktivitāšu īstenošanai | C40: 0.00155 | D40: 1.26
A41: 2235 | B41: Izdevumi par saņemtajiem mācību pakalpojumiem | C41: 0.00165 | D41: 1.34
A42: 2239 | B42: Pārējie neklasificētie pakalpojumi | C42: 0.00441 | D42: 3.57
A43: 2241 | B43: Ēku, būvju un telpu būvdarbi | C43: 0.0165 | D43: 13.38
A44: 2242 | B44: Transportlīdzekļu uzturēšana un remonts | C44: 0.00226 | D44: 1.83
A45: 2243 | B45: Iekārtas, inventāra un aparatūras remonts, tehniskā apkalpošana | C45: 0.0326 | D45: 26.43
A46: 2244 | B46: Nekustamā īpašuma uzturēšana | C46: 0.20397 | D46: 165.34
... A49: 2250 | B49: Informācijas tehnoloģiju pakalpojumi | C49: 0.024026 | D49: 19.48
A50: 2261 | B50: Ēku, telpu īre un noma | C50: 0 | D50: =C50*810.62 -> 0
A51: 2262 | B51: Transportlīdzekļu noma | C51: 0.00626 | D51: 5.07
A52: 2263 | B52: Zemes noma | C52: 0.0458 | D52: 37.13
A53: 2264 | B53: Iekārtu, aparatūras un inventāra īre un noma | C53: 0.00149 | D53: 1.21
A54: 2311 | B54: Biroja preces | C54: 0.00477 | D54: 3.87
A55: 2312 | B55: Inventārs | C55: 0.00579 | D55: 4.69
A56: 2314 | B56: Izdevumi par precēm iestādes sabiedrisko aktivitāšu īstenošanai | C56: 0.00222 | D56: 1.8
A57: 2321 | B57: Kurināmais | C57: 0.0198 | D57: 16.05
A58: 2322 | B58: Degviela | C58: 0.0035 | D58: 2.84
A59: 2341 | B59: Zāles, ķimikālijas, laboratorijas preces | D59: =C59*810.62 -> 0
A60: 2350 | B60: Iestāžu uzturēšanas materiāli un preces | C60: 0.0085 | D60: 6.89
A61: 2361 | B61: Mīkstais inventārs | C61: 0 | D61: =C61*810.62 -> 0
A62: 2362 | B62: Virtuves inventārs, trauki un galda piederumi | C62: 0 | D62: =C62*810.62 -> 0
A63: 2363 | B63: Ēdināšanas izdevumi | C63: 0 | D63: =C63*810.62 -> 0
A64: 2370 | B64: Mācību līdzekļi un materiāli | C64: 0 | D64: =C64*810.62 -> 0
A65: 2400 | B65: Izdevumi periodikas iegādei | C65: 0 | D65: =C65*810.62 -> 0
A66: 2512 | B66: Budžeta iestāžu pievienotās vērtības nodokļa maksājumi | C66: 0 | D66: =C66*810.62 -> 0
A67: 2513 | B67: Budžeta iestāžu nekustamā īpašuma nodokļa maksājumi | C67: 0.00146 | D67: 1.18
A68: 2515 | B68: Budžeta iestāžu dabas resursu nodokļa maksājumi | C68: 0.0019 | D68: 1.54
A69: 2519 | B69: Pārējie budžeta iestāžu pārskaitītie nodokļi un nodevas | C69: 0.002 | D69: 1.62
A70: 5220 | B70: Tehnoloģiskās iekārtas un mašīnas | C70: 0.0106 | D70: 8.59
A71: 5238 | B71: Datortehnika, sakaru un cita biroja tehnika | C71: 0.00165 | D71: 1.42
A72: 5239 | B72: Pārējie iepriekš neklasificētie pamatlīdzekļi un ieguldījuma īpašumi | C72: 0.0198 | D72: 16.05
A73: 5250 | B73: Kapitālais remonts un rekonstrukcija | C73: 0.025 | D73: 20.27
B74: Netiešās izmaksas kopā | C74: =SUM(C33:C73) -> 0.9998838 | D74: =SUM(D33:D73) -> 810.63
B75: Pakalpojumu izmaksas kopā | D75: =D31+D74 -> 1724.45
A77: Maksas pakalpojuma vienību skaits noteiktā laikposmā (gab.) | D77: 5
A78: Maksas pakalpojuma izcenojums (euro) | D78: =D75/D77 -> 344.89
A80: Prognozētais maksas pakalpojumu skaits gadā (gab.)*
A81: Prognozētie ieņēmumi gadā (euro)*
A83: Piezīme. *Ailes neaizpilda, ja izvēlētais laikposms ir viens gads.
A85: Aprēķinu sastādīja: SIVA Finanšu nodaļas vecākā finanšu ekonomiste Anita Ozoliņa

Sheet 4.3.1.10.
D1: SASKAŅOTS
B2: Sociālās integrācijas valsts aģentūras
D3: direktore I.Jurševska
D5: 2021. gada 30. augustā
A7: Maksas pakalpojuma izcenojuma aprēķins
A9: Sociālās integrācijas valsts aģentūra
A10: Publiskā pakalpojuma veids:
B11: 4. Rehabilitācijas pakalpojumi
B12: 4.3. Veselības veicināšanas programmas
B13: 4.3.1. Dubultu prospektā 71, 2.korpuss, Jūrmalā
B14: 4.3.1.10. Programma "Restartē darba spējas" , 3 dienu kurss (viena vieta divvietīgā numurā)
A15: Laikposms | B15: 2022.gadā un turpmāk
A16: Izdevumu klasifikācijas kods | B16: Rādītājs (materiāla/izejvielas nosaukums, atlīdzība un citi izmaksu veidi) | D16: Izmaksu apjoms noteiktā laikposmā viena maksas pakalpojuma veida nodrošināšanai
A17: 1 | B17: 2 | D17: 3
B18: Tiešās izmaksas
A19: 1100 | B19: Atalgojums | D19: 461.78
A20: 1200 | B20: Darba devēja valsts sociālās apdrošināšanas obligātās iemaksas, pabalsti un kompensācijas | D20: 108.93
A21: 2222 | B21: Izdevumi par ūdensapgādi un kanalizāciju | D21: 27.3
A22: 2223 | B22: Izdevumi par elektroenerģiju | D22: 24.76
A23: 2243 | B23: Iekārtas, inventāra un aparatūras remonts, tehniskā apkalpošana | D23: 0
A24: 2244 | B24: Nekustamā īpašuma uzturēšana | D24: =2.12*3*5/2 -> 15.9
A25: 2312 | B25: Inventārs | D25: 5.54
A26: 2321 | B26: Kurināmais | D26: 29.64
A27: 2341 | B27: Zāles, ķimikālijas, laboratorijas preces | D27: 44.1
A28: 2361 | B28: Mīkstais inventārs | D28: =56.25/5/5*3*5 -> 33.75
A29: 2363 | B29: Ēdināšanas izdevumi | D29: =8.12*3*5 -> 121.8
A30: 5239 | B30: Pārējie iepriekš neklasificētie pamatlīdzekļi un ieguldījuma īpašumi | D30: 24.42
B31: Tiešās izmaksas kopā | D31: =SUM(D19:D30) -> 897.92
B32: Netiešās izmaksas
A33: 1100 | B33: Atalgojums | C33: =0.388+0.024 -> 0.412 | D33: 242.76
A34: 1200 | B34: Darba devēja valsts sociālās apdrošināšanas obligātās iemaksas, pabalsti un kompensācijas | C34: =C33*0.2359 -> 0.0971908 | D34: 57.27
A35: 2100 | B35: Mācību, darba un dienesta komandējumi, dienesta, darba braucieni | C35: 0.001166 | D35: 0.69
A36: 2210 | B36: Izdevumi par sakaru pakalpojumiem | C36: 0.0076 | D36: 4.48
A37: 2222 | B37: Izdevumi par ūdensapgādi un kanalizāciju | C37: 0.0095 | D37: 5.6
A38: 2223 | B38: Izdevumi par elektroenerģiju | C38: 0.01902 | D38: 11.21
A39: 2224 | B39: Izdevumi par atkritumu savākšanu, izvešanu no apdzīvotām vietām un teritorijām ārpus apdzīvotām vietām un atkritumu utilizāciju | C39: 0.00495 | D39: 2.92
A40: 2231 | B40: Izdevumi iestādes sabiedrisko aktivitāšu īstenošanai | C40: 0.00155 | D40: 0.91
A41: 2235 | B41: Izdevumi par saņemtajiem mācību pakalpojumiem | C41: 0.00165 | D41: 0.97
A42: 2239 | B42: Pārējie neklasificētie pakalpojumi | C42: 0.00441 | D42: 2.6
A43: 2241 | B43: Ēku, būvju un telpu būvdarbi | C43: 0.0165 | D43: 9.72
A44: 2242 | B44: Transportlīdzekļu uzturēšana un remonts | C44: 0.00226 | D44: 1.33
A45: 2243 | B45: Iekārtas, inventāra un aparatūras remonts, tehniskā apkalpošana | C45: 0.0326 | D45: 19.21
A46: 2244 | B46: Nekustamā īpašuma uzturēšana | C46: 0.20397 | D46: 120.19
... A49: 2250 | B49: Informācijas tehnoloģiju pakalpojumi | C49: 0.024026 | D49: 14.16
A50: 2261 | B50: Ēku, telpu īre un noma | C50: 0 | D50: =C50*589.23 -> 0
A51: 2262 | B51: Transportlīdzekļu noma | C51: 0.00626 | D51: 3.69
A52: 2263 | B52: Zemes noma | C52: 0.0458 | D52: 26.99
A53: 2264 | B53: Iekārtu, aparatūras un inventāra īre un noma | C53: 0.00149 | D53: 0.88
A54: 2311 | B54: Biroja preces | C54: 0.00477 | D54: 2.81
A55: 2312 | B55: Inventārs | C55: 0.00579 | D55: 3.41
A56: 2314 | B56: Izdevumi par precēm iestādes sabiedrisko aktivitāšu īstenošanai | C56: 0.00222 | D56: 1.31
A57: 2321 | B57: Kurināmais | C57: 0.0198 | D57: 11.67
A58: 2322 | B58: Degviela | C58: 0.0035 | D58: 2.06
A59: 2341 | B59: Zāles, ķimikālijas, laboratorijas preces | D59: =C59*589.23 -> 0
A60: 2350 | B60: Iestāžu uzturēšanas materiāli un preces | C60: 0.0085 | D60: 5.01
A61: 2361 | B61: Mīkstais inventārs | C61: 0 | D61: =C61*589.23 -> 0
A62: 2362 | B62: Virtuves inventārs, trauki un galda piederumi | C62: 0 | D62: =C62*589.23 -> 0
A63: 2363 | B63: Ēdināšanas izdevumi | C63: 0 | D63: =C63*589.23 -> 0
A64: 2370 | B64: Mācību līdzekļi un materiāli | C64: 0 | D64: =C64*589.23 -> 0
A65: 2400 | B65: Izdevumi periodikas iegādei | C65: 0 | D65: =C65*589.23 -> 0
A66: 2512 | B66: Budžeta iestāžu pievienotās vērtības nodokļa maksājumi | C66: 0 | D66: =C66*589.23 -> 0
A67: 2513 | B67: Budžeta iestāžu nekustamā īpašuma nodokļa maksājumi | C67: 0.00146 | D67: 0.86
A68: 2515 | B68: Budžeta iestāžu dabas resursu nodokļa maksājumi | C68: 0.0019 | D68: 1.12
A69: 2519 | B69: Pārējie budžeta iestāžu pārskaitītie nodokļi un nodevas | C69: 0.002 | D69: 1.18
A70: 5220 | B70: Tehnoloģiskās iekārtas un mašīnas | C70: 0.0106 | D70: 6.25
A71: 5238 | B71: Datortehnika, sakaru un cita biroja tehnika | C71: 0.00165 | D71: 1.01
A72: 5239 | B72: Pārējie iepriekš neklasificētie pamatlīdzekļi un ieguldījuma īpašumi | C72: 0.0198 | D72: 11.67
A73: 5250 | B73: Kapitālais remonts un rekonstrukcija | C73: 0.025 | D73: 14.73
B74: Netiešās izmaksas kopā | C74: =SUM(C33:C73) -> 0.9998838 | D74: =SUM(D33:D73) -> 589.23
B75: Pakalpojumu izmaksas kopā | D75: =D31+D74 -> 1487.15
A77: Maksas pakalpojuma vienību skaits noteiktā laikposmā (gab.) | D77: 5
A78: Maksas pakalpojuma izcenojums (euro) | D78: =D75/D77 -> 297.43
A80: Prognozētais maksas pakalpojumu skaits gadā (gab.)*
A81: Prognozētie ieņēmumi gadā (euro)*
A83: Piezīme. *Ailes neaizpilda, ja izvēlētais laikposms ir viens gads.
A85: Aprēķinu sastādīja: SIVA Finanšu nodaļas vecākā finanšu ekonomiste Anita Ozoliņa

Sheet 4.3.2.1.
D1: SASKAŅOTS
B2: Sociālās integrācijas valsts aģentūras
D3: direktore I.Jurševska
D5: 2021. gada 30. augustā
A7: Maksas pakalpojuma izcenojuma aprēķins
A9: Sociālās integrācijas valsts aģentūra
A10: Publiskā pakalpojuma veids:
B11: 4. Rehabilitācijas pakalpojumi
B12: 4.3. Veselības veicināšanas programmas
B13: 4.3.2. Dubultu prospektā 71, 1.korpuss, Jūrmalā
B14: 4.3.2.1. Programma "Muguras veselība", 5 dienu kurss (viena vieta vienvietīgā numurā)
A15: Laikposms | B15: 2022.gadā un turpmāk
A16: Izdevumu klasifikācijas kods | B16: Rādītājs (materiāla/izejvielas nosaukums, atlīdzība un citi izmaksu veidi) | D16: Izmaksu apjoms noteiktā laikposmā viena maksas pakalpojuma veida nodrošināšanai
A17: 1 | B17: 2 | D17: 3
B18: Tiešās izmaksas
A19: 1100 | B19: Atalgojums | D19: 717.6
A20: 1200 | B20: Darba devēja valsts sociālās apdrošināšanas obligātās iemaksas, pabalsti un kompensācijas | D20: 169.28
A21: 2222 | B21: Izdevumi par ūdensapgādi un kanalizāciju | D21: 30.49
A22: 2223 | B22: Izdevumi par elektroenerģiju | D22: 32.41
A23: 2243 | B23: Iekārtas, inventāra un aparatūras remonts, tehniskā apkalpošana | D23: 0
A24: 2244 | B24: Nekustamā īpašuma uzturēšana | D24: =53/20*14 -> 37.1
A25: 2312 | B25: Inventārs | D25: 7.1
A26: 2321 | B26: Kurināmais | D26: 45.57
A27: 2341 | B27: Zāles, ķimikālijas, laboratorijas preces | D27: 67.87
A28: 2361 | B28: Mīkstais inventārs | D28: =0.28*5*5+1.97*5*5 -> 56.25
A29: 2363 | B29: Ēdināšanas izdevumi | D29: =8.12*5*5 -> 203
A30: 5239 | B30: Pārējie iepriekš neklasificētie pamatlīdzekļi un ieguldījuma īpašumi | D30: 9.27
B31: Tiešās izmaksas kopā | D31: =SUM(D19:D30) -> 1375.94
B32: Netiešās izmaksas
A33: 1100 | B33: Atalgojums | C33: =0.388+0.024 -> 0.412 | D33: 309.63
A34: 1200 | B34: Darba devēja valsts sociālās apdrošināšanas obligātās iemaksas, pabalsti un kompensācijas | C34: =C33*0.2359 -> 0.0971908 | D34: 73.04
A35: 2100 | B35: Mācību, darba un dienesta komandējumi, dienesta, darba braucieni | C35: 0.001166 | D35: 0.9
A36: 2210 | B36: Izdevumi par sakaru pakalpojumiem | C36: 0.0076 | D36: 5.9
A37: 2222 | B37: Izdevumi par ūdensapgādi un kanalizāciju | C37: 0.0095 | D37: 7.37
A38: 2223 | B38: Izdevumi par elektroenerģiju | C38: 0.01902 | D38: 14.76
A39: 2224 | B39: Izdevumi par atkritumu savākšanu, izvešanu no apdzīvotām vietām un teritorijām ārpus apdzīvotām vietām un atkritumu utilizāciju | C39: 0.00495 | D39: 3.84
A40: 2231 | B40: Izdevumi iestādes sabiedrisko aktivitāšu īstenošanai | C40: 0.00155 | D40: 1.2
A41: 2235 | B41: Izdevumi par saņemtajiem mācību pakalpojumiem | C41: 0.00165 | D41: 1.28
A42: 2239 | B42: Pārējie neklasificētie pakalpojumi | C42: 0.00441 | D42: 3.42
A43: 2241 | B43: Ēku, būvju un telpu būvdarbi | C43: 0.0165 | D43: 12.8
A44: 2242 | B44: Transportlīdzekļu uzturēšana un remonts | C44: 0.00226 | D44: 1.75
A45: 2243 | B45: Iekārtas, inventāra un aparatūras remonts, tehniskā apkalpošana | C45: 0.0326 | D45: 25.29
A46: 2244 | B46: Nekustamā īpašuma uzturēšana | C46: 0.20397 | D46: 148.24
... A49: 2250 | B49: Informācijas tehnoloģiju pakalpojumi | C49: 0.024026 | D49: 18.64
A50: 2261 | B50: Ēku, telpu īre un noma | C50: 0 | D50: =C50*775.79 -> 0
A51: 2262 | B51: Transportlīdzekļu noma | C51: 0.00626 | D51: 4.86
A52: 2263 | B52: Zemes noma | C52: 0.0458 | D52: 35.53
A53: 2264 | B53: Iekārtu, aparatūras un inventāra īre un noma | C53: 0.00149 | D53: 1.16
A54: 2311 | B54: Biroja preces | C54: 0.00477 | D54: 3.7
A55: 2312 | B55: Inventārs | C55: 0.00579 | D55: 4.49
A56: 2314 | B56: Izdevumi par precēm iestādes sabiedrisko aktivitāšu īstenošanai | C56: 0.00222 | D56: 1.72
A57: 2321 | B57: Kurināmais | C57: 0.0198 | D57: 15.36
A58: 2322 | B58: Degviela | C58: 0.0035 | D58: 2.72
A59: 2341 | B59: Zāles, ķimikālijas, laboratorijas preces | D59: =C59*775.79 -> 0
A60: 2350 | B60: Iestāžu uzturēšanas materiāli un preces | C60: 0.0085 | D60: 6.59
A61: 2361 | B61: Mīkstais inventārs | C61: 0 | D61: =C61*775.79 -> 0
A62: 2362 | B62: Virtuves inventārs, trauki un galda piederumi | C62: 0 | D62: =C62*775.79 -> 0
A63: 2363 | B63: Ēdināšanas izdevumi | C63: 0 | D63: =C63*775.79 -> 0
A64: 2370 | B64: Mācību līdzekļi un materiāli | C64: 0 | D64: =C64*775.79 -> 0
A65: 2400 | B65: Izdevumi periodikas iegādei | C65: 0 | D65: =C65*775.79 -> 0
A66: 2512 | B66: Budžeta iestāžu pievienotās vērtības nodokļa maksājumi | C66: 0 | D66: =C66*775.79 -> 0
A67: 2513 | B67: Budžeta iestāžu nekustamā īpašuma nodokļa maksājumi | C67: 0.00146 | D67: 1.13
A68: 2515 | B68: Budžeta iestāžu dabas resursu nodokļa maksājumi | C68: 0.0019 | D68: 1.47
A69: 2519 | B69: Pārējie budžeta iestāžu pārskaitītie nodokļi un nodevas | C69: 0.002 | D69: 1.55
A70: 5220 | B70: Tehnoloģiskās iekārtas un mašīnas | C70: 0.0106 | D70: 8.22
A71: 5238 | B71: Datortehnika, sakaru un cita biroja tehnika | C71: 0.00165 | D71: 1.38
A72: 5239 | B72: Pārējie iepriekš neklasificētie pamatlīdzekļi un ieguldījuma īpašumi | C72: 0.0198 | D72: 15.36
A73: 5250 | B73: Kapitālais remonts un rekonstrukcija | C73: 0.025 | D73: 15.27
B74: Netiešās izmaksas kopā | C74: =SUM(C33:C73) -> 0.9998838 | D74: =SUM(D33:D73) -> 749.31
B75: Pakalpojumu izmaksas kopā | D75: =D31+D74 -> 2125.25
A77: Maksas pakalpojuma vienību skaits noteiktā laikposmā (gab.) | D77: 5
A78: Maksas pakalpojuma izcenojums (euro) | D78: =D75/D77 -> 425.05
A80: Prognozētais maksas pakalpojumu skaits gadā (gab.)*
A81: Prognozētie ieņēmumi gadā (euro)*
A83: Piezīme. *Ailes neaizpilda, ja izvēlētais laikposms ir viens gads.
A85: Aprēķinu sastādīja: SIVA Finanšu nodaļas vecākā finanšu ekonomiste Anita Ozoliņa

Sheet 4.3.2.2.
D1: SASKAŅOTS
B2: Sociālās integrācijas valsts aģentūras
D3: direktore I.Jurševska
D5: 2021. gada 30. augustā
A7: Maksas pakalpojuma izcenojuma aprēķins
A9: Sociālās integrācijas valsts aģentūra
A10: Publiskā pakalpojuma veids:
B11: 4. Rehabilitācijas pakalpojumi
B12: 4.3. Veselības veicināšanas programmas
B13: 4.3.2. Dubultu prospektā 71, 1.korpuss, Jūrmalā
B14: 4.3.2.2. Programma "Muguras veselība", 5 dienu kurss (viena vieta divvietīgā numurā)
A15: Laikposms | B15: 2022.gadā un turpmāk
A16: Izdevumu klasifikācijas kods | B16: Rādītājs (materiāla/izejvielas nosaukums, atlīdzība un citi izmaksu veidi) | D16: Izmaksu apjoms noteiktā laikposmā viena maksas pakalpojuma veida nodrošināšanai
A17: 1 | B17: 2 | D17: 3
B18: Tiešās izmaksas
A19: 1100 | B19: Atalgojums | D19: 717.6
A20: 1200 | B20: Darba devēja valsts sociālās apdrošināšanas obligātās iemaksas, pabalsti un kompensācijas | D20: 169.28
A21: 2222 | B21: Izdevumi par ūdensapgādi un kanalizāciju | D21: ='4.3.1.2.'!D21 -> 29.06
A22: 2223 | B22: Izdevumi par elektroenerģiju | D22: 29.85
A23: 2243 | B23: Iekārtas, inventāra un aparatūras remonts, tehniskā apkalpošana | D23: 0
A24: 2244 | B24: Nekustamā īpašuma uzturēšana | D24: 21.2
A25: 2312 | B25: Inventārs | D25: 6.74
A26: 2321 | B26: Kurināmais | D26: 40.93
A27: 2341 | B27: Zāles, ķimikālijas, laboratorijas preces | D27: 67.87
A28: 2361 | B28: Mīkstais inventārs | D28: =0.28*5*5+1.97*5*5 -> 56.25
A29: 2363 | B29: Ēdināšanas izdevumi | D29: 203
A30: 5239 | B30: Pārējie iepriekš neklasificētie pamatlīdzekļi un ieguldījuma īpašumi | D30: 8.86
B31: Tiešās izmaksas kopā | D31: =SUM(D19:D30) -> 1350.64
B32: Netiešās izmaksas
A33: 1100 | B33: Atalgojums | C33: =0.388+0.024 -> 0.412 | D33: 286.91
A34: 1200 | B34: Darba devēja valsts sociālās apdrošināšanas obligātās iemaksas, pabalsti un kompensācijas | C34: =C33*0.2359 -> 0.0971908 | D34: 67.68
A35: 2100 | B35: Mācību, darba un dienesta komandējumi, dienesta, darba braucieni | C35: 0.001166 | D35: 0.81
A36: 2210 | B36: Izdevumi par sakaru pakalpojumiem | C36: 0.0076 | D36: 5.29
A37: 2222 | B37: Izdevumi par ūdensapgādi un kanalizāciju | C37: 0.0095 | D37: 6.62
A38: 2223 | B38: Izdevumi par elektroenerģiju | C38: 0.01902 | D38: 13.25
A39: 2224 | B39: Izdevumi par atkritumu savākšanu, izvešanu no apdzīvotām vietām un teritorijām ārpus apdzīvotām vietām un atkritumu utilizāciju | C39: 0.00495 | D39: 3.45
A40: 2231 | B40: Izdevumi iestādes sabiedrisko aktivitāšu īstenošanai | C40: 0.00155 | D40: 1.08
A41: 2235 | B41: Izdevumi par saņemtajiem mācību pakalpojumiem | C41: 0.00165 | D41: 1.15
A42: 2239 | B42: Pārējie neklasificētie pakalpojumi | C42: 0.00441 | D42: 3.07
A43: 2241 | B43: Ēku, būvju un telpu būvdarbi | C43: 0.0165 | D43: 11.49
A44: 2242 | B44: Transportlīdzekļu uzturēšana un remonts | C44: 0.00226 | D44: 1.57
A45: 2243 | B45: Iekārtas, inventāra un aparatūras remonts, tehniskā apkalpošana | C45: 0.0326 | D45: 24
A46: 2244 | B46: Nekustamā īpašuma uzturēšana | C46: 0.20397 | D46: 142.04
... A49: 2250 | B49: Informācijas tehnoloģiju pakalpojumi | C49: 0.024026 | D49: 16.73
A50: 2261 | B50: Ēku, telpu īre un noma | C50: 0 | D50: =C50*696.38 -> 0
A51: 2262 | B51: Transportlīdzekļu noma | C51: 0.00626 | D51: 4.36
A52: 2263 | B52: Zemes noma | C52: 0.0458 | D52: 31.89
A53: 2264 | B53: Iekārtu, aparatūras un inventāra īre un noma | C53: 0.00149 | D53: 1.04
A54: 2311 | B54: Biroja preces | C54: 0.00477 | D54: 3.32
A55: 2312 | B55: Inventārs | C55: 0.00579 | D55: 4.03
A56: 2314 | B56: Izdevumi par precēm iestādes sabiedrisko aktivitāšu īstenošanai | C56: 0.00222 | D56: 1.55
A57: 2321 | B57: Kurināmais | C57: 0.0198 | D57: 14.72
A58: 2322 | B58: Degviela | C58: 0.0035 | D58: 2.44
A59: 2341 | B59: Zāles, ķimikālijas, laboratorijas preces | D59: =C59*696.38 -> 0
A60: 2350 | B60: Iestāžu uzturēšanas materiāli un preces | C60: 0.0085 | D60: 6.92
A61: 2361 | B61: Mīkstais inventārs | C61: 0 | D61: =C61*696.38 -> 0
A62: 2362 | B62: Virtuves inventārs, trauki un galda piederumi | C62: 0 | D62: =C62*696.38 -> 0
A63: 2363 | B63: Ēdināšanas izdevumi | C63: 0 | D63: =C63*696.38 -> 0
A64: 2370 | B64: Mācību līdzekļi un materiāli | C64: 0 | D64: =C64*696.38 -> 0
A65: 2400 | B65: Izdevumi periodikas iegādei | C65: 0 | D65: =C65*696.38 -> 0
A66: 2512 | B66: Budžeta iestāžu pievienotās vērtības nodokļa maksājumi | C66: 0 | D66: =C66*696.38 -> 0
A67: 2513 | B67: Budžeta iestāžu nekustamā īpašuma nodokļa maksājumi | C67: 0.00146 | D67: 1.02
A68: 2515 | B68: Budžeta iestāžu dabas resursu nodokļa maksājumi | C68: 0.0019 | D68: 1.32
A69: 2519 | B69: Pārējie budžeta iestāžu pārskaitītie nodokļi un nodevas | C69: 0.002 | D69: 1.39
A70: 5220 | B70: Tehnoloģiskās iekārtas un mašīnas | C70: 0.0106 | D70: 7.38
A71: 5238 | B71: Datortehnika, sakaru un cita biroja tehnika | C71: 0.00165 | D71: 4.73
A72: 5239 | B72: Pārējie iepriekš neklasificētie pamatlīdzekļi un ieguldījuma īpašumi | C72: 0.0198 | D72: 13.79
A73: 5250 | B73: Kapitālais remonts un rekonstrukcija | C73: 0.025 | D73: 17.41
B74: Netiešās izmaksas kopā | C74: =SUM(C33:C73) -> 0.9998838 | D74: =SUM(D33:D73) -> 703.11
B75: Pakalpojumu izmaksas kopā | D75: =D31+D74 -> 2053.75
A77: Maksas pakalpojuma vienību skaits noteiktā laikposmā (gab.) | D77: 5
A78: Maksas pakalpojuma izcenojums (euro) | D78: =D75/D77 -> 410.75
A80: Prognozētais maksas pakalpojumu skaits gadā (gab.)*
A81: Prognozētie ieņēmumi gadā (euro)*
A83: Piezīme. *Ailes neaizpilda, ja izvēlētais laikposms ir viens gads.
A85: Aprēķinu sastādīja: SIVA Finanšu nodaļas vecākā finanšu ekonomiste Anita Ozoliņa

Sheet 4.3.2.3.
D1: SASKAŅOTS
B2: Sociālās integrācijas valsts aģentūras
D3: direktore I.Jurševska
D5: 2021. gada 30. augustā
A7: Maksas pakalpojuma izcenojuma aprēķins
A9: Sociālās integrācijas valsts aģentūra
A10: Publiskā pakalpojuma veids:
B11: 4. Rehabilitācijas pakalpojumi
B12: 4.3. Veselības veicināšanas programmas
B13: 4.3.2. Dubultu prospektā 71, 1.korpuss, Jūrmalā
B14: 4.3.2.3. Programma "Relaksācija" , 5 dienu kurss (viena vieta vienvietīgā numurā)
A15: Laikposms | B15: 2022.gadā un turpmāk
A16: Izdevumu klasifikācijas kods | B16: Rādītājs (materiāla/izejvielas nosaukums, atlīdzība un citi izmaksu veidi) | D16: Izmaksu apjoms noteiktā laikposmā viena maksas pakalpojuma veida nodrošināšanai
A17: 1 | B17: 2 | D17: 3
B18: Tiešās izmaksas
A19: 1100 | B19: Atalgojums | D19: 535.85
A20: 1200 | B20: Darba devēja valsts sociālās apdrošināšanas obligātās iemaksas, pabalsti un kompensācijas | D20: 126.41
A21: 2222 | B21: Izdevumi par ūdensapgādi un kanalizāciju | D21: 30.54
A22: 2223 | B22: Izdevumi par elektroenerģiju | D22: 22.05
A23: 2243 | B23: Iekārtas, inventāra un aparatūras remonts, tehniskā apkalpošana | D23: 0
A24: 2244 | B24: Nekustamā īpašuma uzturēšana | D24: 37.1
A25: 2312 | B25: Inventārs | D25: 7.1
A26: 2321 | B26: Kurināmais | D26: 34.71
A27: 2341 | B27: Zāles, ķimikālijas, laboratorijas preces | D27: 57.18
A28: 2361 | B28: Mīkstais inventārs | D28: 56.25
A29: 2363 | B29: Ēdināšanas izdevumi | D29: 203
A30: 5239 | B30: Pārējie iepriekš neklasificētie pamatlīdzekļi un ieguldījuma īpašumi | D30: 8.42
B31: Tiešās izmaksas kopā | D31: =SUM(D19:D30) -> 1118.61
B32: Netiešās izmaksas
A33: 1100 | B33: Atalgojums | C33: =0.388+0.024 -> 0.412 | D33: 279.47
A34: 1200 | B34: Darba devēja valsts sociālās apdrošināšanas obligātās iemaksas, pabalsti un kompensācijas | C34: =C33*0.2359 -> 0.0971908 | D34: 65.93
A35: 2100 | B35: Mācību, darba un dienesta komandējumi, dienesta, darba braucieni | C35: 0.001166 | D35: 0.79
A36: 2210 | B36: Izdevumi par sakaru pakalpojumiem | C36: 0.0076 | D36: 5.16
A37: 2222 | B37: Izdevumi par ūdensapgādi un kanalizāciju | C37: 0.0095 | D37: 6.44
A38: 2223 | B38: Izdevumi par elektroenerģiju | C38: 0.01902 | D38: 12.9
A39: 2224 | B39: Izdevumi par atkritumu savākšanu, izvešanu no apdzīvotām vietām un teritorijām ārpus apdzīvotām vietām un atkritumu utilizāciju | C39: 0.00495 | D39: 3.36
A40: 2231 | B40: Izdevumi iestādes sabiedrisko aktivitāšu īstenošanai | C40: 0.00155 | D40: 1.05
A41: 2235 | B41: Izdevumi par saņemtajiem mācību pakalpojumiem | C41: 0.00165 | D41: 1.12
A42: 2239 | B42: Pārējie neklasificētie pakalpojumi | C42: 0.00441 | D42: 2.99
A43: 2241 | B43: Ēku, būvju un telpu būvdarbi | C43: 0.0165 | D43: 11.19
A44: 2242 | B44: Transportlīdzekļu uzturēšana un remonts | C44: 0.00226 | D44: 1.53
A45: 2243 | B45: Iekārtas, inventāra un aparatūras remonts, tehniskā apkalpošana | C45: 0.0326 | D45: 22.11
A46: 2244 | B46: Nekustamā īpašuma uzturēšana | C46: 0.20397 | D46: 138.36
... A49: 2250 | B49: Informācijas tehnoloģiju pakalpojumi | C49: 0.024026 | D49: 16.3
A50: 2261 | B50: Ēku, telpu īre un noma | C50: 0 | D50: =C50*678.33 -> 0
A51: 2262 | B51: Transportlīdzekļu noma | C51: 0.00626 | D51: 4.25
A52: 2263 | B52: Zemes noma | C52: 0.0458 | D52: 31.07
A53: 2264 | B53: Iekārtu, aparatūras un inventāra īre un noma | C53: 0.00149 | D53: 1.01
A54: 2311 | B54: Biroja preces | C54: 0.00477 | D54: 3.24
A55: 2312 | B55: Inventārs | C55: 0.00579 | D55: 3.93
A56: 2314 | B56: Izdevumi par precēm iestādes sabiedrisko aktivitāšu īstenošanai | C56: 0.00222 | D56: 1.51
A57: 2321 | B57: Kurināmais | C57: 0.0198 | D57: 13.43
A58: 2322 | B58: Degviela | C58: 0.0035 | D58: 2.37
A59: 2341 | B59: Zāles, ķimikālijas, laboratorijas preces | D59: =C59*678.33 -> 0
A60: 2350 | B60: Iestāžu uzturēšanas materiāli un preces | C60: 0.0085 | D60: 5.77
A61: 2361 | B61: Mīkstais inventārs | C61: 0 | D61: =C61*678.33 -> 0
A62: 2362 | B62: Virtuves inventārs, trauki un galda piederumi | C62: 0 | D62: =C62*678.33 -> 0
A63: 2363 | B63: Ēdināšanas izdevumi | C63: 0 | D63: =C63*678.33 -> 0
A64: 2370 | B64: Mācību līdzekļi un materiāli | C64: 0 | D64: =C64*678.33 -> 0
A65: 2400 | B65: Izdevumi periodikas iegādei | C65: 0 | D65: =C65*678.33 -> 0
A66: 2512 | B66: Budžeta iestāžu pievienotās vērtības nodokļa maksājumi | C66: 0 | D66: =C66*678.33 -> 0
A67: 2513 | B67: Budžeta iestāžu nekustamā īpašuma nodokļa maksājumi | C67: 0.00146 | D67: 0.99
A68: 2515 | B68: Budžeta iestāžu dabas resursu nodokļa maksājumi | C68: 0.0019 | D68: 1.29
A69: 2519 | B69: Pārējie budžeta iestāžu pārskaitītie nodokļi un nodevas | C69: 0.002 | D69: 1.36
A70: 5220 | B70: Tehnoloģiskās iekārtas un mašīnas | C70: 0.0106 | D70: 7.19
A71: 5238 | B71: Datortehnika, sakaru un cita biroja tehnika | C71: 0.00165 | D71: 1.18
A72: 5239 | B72: Pārējie iepriekš neklasificētie pamatlīdzekļi un ieguldījuma īpašumi | C72: 0.0198 | D72: 10.43
A73: 5250 | B73: Kapitālais remonts un rekonstrukcija | C73: 0.025 | D73: 15.52
B74: Netiešās izmaksas kopā | C74: =SUM(C33:C73) -> 0.9998838 | D74: =SUM(D33:D73) -> 673.89
B75: Pakalpojumu izmaksas kopā | D75: =D31+D74 -> 1792.5
A77: Maksas pakalpojuma vienību skaits noteiktā laikposmā (gab.) | D77: 5
A78: Maksas pakalpojuma izcenojums (euro) | D78: =D75/D77 -> 358.5
A80: Prognozētais maksas pakalpojumu skaits gadā (gab.)*
A81: Prognozētie ieņēmumi gadā (euro)*
A83: Piezīme. *Ailes neaizpilda, ja izvēlētais laikposms ir viens gads.
A85: Aprēķinu sastādīja: SIVA Finanšu nodaļas vecākā finanšu ekonomiste Anita Ozoliņa

Sheet 4.3.2.4.
D1: SASKAŅOTS
B2: Sociālās integrācijas valsts aģentūras
D3: direktore I.Jurševska
D5: 2021. gada 30. augustā
A7: Maksas pakalpojuma izcenojuma aprēķins
A9: Sociālās integrācijas valsts aģentūra
A10: Publiskā pakalpojuma veids:
B11: 4. Rehabilitācijas pakalpojumi
B12: 4.3. Veselības veicināšanas programmas
B13: 4.3.2. Dubultu prospektā 71, 1.korpuss, Jūrmalā
B14: 4.3.2.4. Programma "Relaksācija" , 5 dienu kurss (viena vieta divvietīgā numurā)
A15: Laikposms | B15: 2022.gadā un turpmāk
A16: Izdevumu klasifikācijas kods | B16: Rādītājs (materiāla/izejvielas nosaukums, atlīdzība un citi izmaksu veidi) | D16: Izmaksu apjoms noteiktā laikposmā viena maksas pakalpojuma veida nodrošināšanai
A17: 1 | B17: 2 | D17: 3
B18: Tiešās izmaksas
A19: 1100 | B19: Atalgojums | D19: 535.85
A20: 1200 | B20: Darba devēja valsts sociālās apdrošināšanas obligātās iemaksas, pabalsti un kompensācijas | D20: 126.41
A21: 2222 | B21: Izdevumi par ūdensapgādi un kanalizāciju | D21: 29.12
A22: 2223 | B22: Izdevumi par elektroenerģiju | D22: 20.99
A23: 2243 | B23: Iekārtas, inventāra un aparatūras remonts, tehniskā apkalpošana | D23: 0
A24: 2244 | B24: Nekustamā īpašuma uzturēšana | D24: 21.2
A25: 2312 | B25: Inventārs | D25: 6.74
A26: 2321 | B26: Kurināmais | D26: 33.07
A27: 2341 | B27: Zāles, ķimikālijas, laboratorijas preces | D27: 57.12
A28: 2361 | B28: Mīkstais inventārs | D28: 56.25
A29: 2363 | B29: Ēdināšanas izdevumi | D29: 203
A30: 5239 | B30: Pārējie iepriekš neklasificētie pamatlīdzekļi un ieguldījuma īpašumi | D30: 8.02
B31: Tiešās izmaksas kopā | D31: =SUM(D19:D30) -> 1097.77
B32: Netiešās izmaksas
A33: 1100 | B33: Atalgojums | C33: =0.388+0.024 -> 0.412 | D33: 254.59
A34: 1200 | B34: Darba devēja valsts sociālās apdrošināšanas obligātās iemaksas, pabalsti un kompensācijas | C34: =C33*0.2359 -> 0.0971908 | D34: 60.06
A35: 2100 | B35: Mācību, darba un dienesta komandējumi, dienesta, darba braucieni | C35: 0.001166 | D35: 0.72
A36: 2210 | B36: Izdevumi par sakaru pakalpojumiem | C36: 0.0076 | D36: 4.7
A37: 2222 | B37: Izdevumi par ūdensapgādi un kanalizāciju | C37: 0.0095 | D37: 5.87
A38: 2223 | B38: Izdevumi par elektroenerģiju | C38: 0.01902 | D38: 11.75
A39: 2224 | B39: Izdevumi par atkritumu savākšanu, izvešanu no apdzīvotām vietām un teritorijām ārpus apdzīvotām vietām un atkritumu utilizāciju | C39: 0.00495 | D39: 3.06
A40: 2231 | B40: Izdevumi iestādes sabiedrisko aktivitāšu īstenošanai | C40: 0.00155 | D40: 0.96
A41: 2235 | B41: Izdevumi par saņemtajiem mācību pakalpojumiem | C41: 0.00165 | D41: 1.02
A42: 2239 | B42: Pārējie neklasificētie pakalpojumi | C42: 0.00441 | D42: 2.73
A43: 2241 | B43: Ēku, būvju un telpu būvdarbi | C43: 0.0165 | D43: 10.2
A44: 2242 | B44: Transportlīdzekļu uzturēšana un remonts | C44: 0.00226 | D44: 1.4
A45: 2243 | B45: Iekārtas, inventāra un aparatūras remonts, tehniskā apkalpošana | C45: 0.0326 | D45: 21.44
A46: 2244 | B46: Nekustamā īpašuma uzturēšana | C46: 0.20397 | D46: 126.04
... A49: 2250 | B49: Informācijas tehnoloģiju pakalpojumi | C49: 0.024026 | D49: 14.85
A50: 2261 | B50: Ēku, telpu īre un noma | C50: 0 | D50: =C50*617.93 -> 0
A51: 2262 | B51: Transportlīdzekļu noma | C51: 0.00626 | D51: 3.87
A52: 2263 | B52: Zemes noma | C52: 0.0458 | D52: 28.3
A53: 2264 | B53: Iekārtu, aparatūras un inventāra īre un noma | C53: 0.00149 | D53: 0.92
A54: 2311 | B54: Biroja preces | C54: 0.00477 | D54: 2.95
A55: 2312 | B55: Inventārs | C55: 0.00579 | D55: 3.58
A56: 2314 | B56: Izdevumi par precēm iestādes sabiedrisko aktivitāšu īstenošanai | C56: 0.00222 | D56: 1.37
A57: 2321 | B57: Kurināmais | C57: 0.0198 | D57: 13.24
A58: 2322 | B58: Degviela | C58: 0.0035 | D58: 2.16
A59: 2341 | B59: Zāles, ķimikālijas, laboratorijas preces | D59: =C59*617.93 -> 0
A60: 2350 | B60: Iestāžu uzturēšanas materiāli un preces | C60: 0.0085 | D60: 6.25
A61: 2361 | B61: Mīkstais inventārs | C61: 0 | D61: =C61*617.93 -> 0
A62: 2362 | B62: Virtuves inventārs, trauki un galda piederumi | C62: 0 | D62: =C62*617.93 -> 0
A63: 2363 | B63: Ēdināšanas izdevumi | C63: 0 | D63: =C63*617.93 -> 0
A64: 2370 | B64: Mācību līdzekļi un materiāli | C64: 0 | D64: =C64*617.93 -> 0
A65: 2400 | B65: Izdevumi periodikas iegādei | C65: 0 | D65: =C65*617.93 -> 0
A66: 2512 | B66: Budžeta iestāžu pievienotās vērtības nodokļa maksājumi | C66: 0 | D66: =C66*617.93 -> 0
A67: 2513 | B67: Budžeta iestāžu nekustamā īpašuma nodokļa maksājumi | C67: 0.00146 | D67: 0.9
A68: 2515 | B68: Budžeta iestāžu dabas resursu nodokļa maksājumi | C68: 0.0019 | D68: 1.17
A69: 2519 | B69: Pārējie budžeta iestāžu pārskaitītie nodokļi un nodevas | C69: 0.002 | D69: 1.24
A70: 5220 | B70: Tehnoloģiskās iekārtas un mašīnas | C70: 0.0106 | D70: 6.55
A71: 5238 | B71: Datortehnika, sakaru un cita biroja tehnika | C71: 0.00165 | D71: 3.07
A72: 5239 | B72: Pārējie iepriekš neklasificētie pamatlīdzekļi un ieguldījuma īpašumi | C72: 0.0198 | D72: 12.24
A73: 5250 | B73: Kapitālais remonts un rekonstrukcija | C73: 0.025 | D73: 15.45
B74: Netiešās izmaksas kopā | C74: =SUM(C33:C73) -> 0.9998838 | D74: =SUM(D33:D73) -> 623.23
B75: Pakalpojumu izmaksas kopā | D75: =D31+D74 -> 1721
A77: Maksas pakalpojuma vienību skaits noteiktā laikposmā (gab.) | D77: 5
A78: Maksas pakalpojuma izcenojums (euro) | D78: =D75/D77 -> 344.2
A80: Prognozētais maksas pakalpojumu skaits gadā (gab.)*
A81: Prognozētie ieņēmumi gadā (euro)*
A83: Piezīme. *Ailes neaizpilda, ja izvēlētais laikposms ir viens gads.
A85: Aprēķinu sastādīja: SIVA Finanšu nodaļas vecākā finanšu ekonomiste Anita Ozoliņa

Sheet 4.3.2.5.
D1: SASKAŅOTS
B2: Sociālās integrācijas valsts aģentūras
D3: direktore I.Jurševska
D5: 2021. gada 30. augustā
A7: Maksas pakalpojuma izcenojuma aprēķins
A9: Sociālās integrācijas valsts aģentūra
A10: Publiskā pakalpojuma veids:
B11: 4. Rehabilitācijas pakalpojumi
B12: 4.3. Veselības veicināšanas programmas
B13: 4.3.2. Dubultu prospektā 71, 1.korpuss, Jūrmalā
B14: 4.3.2.5. Programma "Vitalitāte" , 7 dienu kurss (viena vieta vienvietīgā numurā)
A15: Laikposms | B15: 2022.gadā un turpmāk
A16: Izdevumu klasifikācijas kods | B16: Rādītājs (materiāla/izejvielas nosaukums, atlīdzība un citi izmaksu veidi) | D16: Izmaksu apjoms noteiktā laikposmā viena maksas pakalpojuma veida nodrošināšanai
A17: 1 | B17: 2 | D17: 3
B18: Tiešās izmaksas
A19: 1100 | B19: Atalgojums | D19: 1009.32
A20: 1200 | B20: Darba devēja valsts sociālās apdrošināšanas obligātās iemaksas, pabalsti un kompensācijas | D20: 238.1
A21: 2222 | B21: Izdevumi par ūdensapgādi un kanalizāciju | D21: 57.3
A22: 2223 | B22: Izdevumi par elektroenerģiju | D22: 62.21
A23: 2243 | B23: Iekārtas, inventāra un aparatūras remonts, tehniskā apkalpošana | D23: 0
A24: 2244 | B24: Nekustamā īpašuma uzturēšana | D24: =74.2/20*14 -> 51.94
A25: 2312 | B25: Inventārs | D25: 10.09
A26: 2321 | B26: Kurināmais | D26: 74.48
A27: 2341 | B27: Zāles, ķimikālijas, laboratorijas preces | D27: 110.81
A28: 2361 | B28: Mīkstais inventārs | D28: =56.25/5/5*7*5 -> 78.75
A29: 2363 | B29: Ēdināšanas izdevumi | D29: =8.12*7*5 -> 284.2
A30: 5239 | B30: Pārējie iepriekš neklasificētie pamatlīdzekļi un ieguldījuma īpašumi | D30: 16.47
B31: Tiešās izmaksas kopā | D31: =SUM(D19:D30) -> 1993.67
B32: Netiešās izmaksas
A33: 1100 | B33: Atalgojums | C33: =0.388+0.024 -> 0.412 | D33: 573.74
A34: 1200 | B34: Darba devēja valsts sociālās apdrošināšanas obligātās iemaksas, pabalsti un kompensācijas | C34: =C33*0.2359 -> 0.0971908 | D34: 135.35
A35: 2100 | B35: Mācību, darba un dienesta komandējumi, dienesta, darba braucieni | C35: 0.001166 | D35: 1.62
A36: 2210 | B36: Izdevumi par sakaru pakalpojumiem | C36: 0.0076 | D36: 10.58
A37: 2222 | B37: Izdevumi par ūdensapgādi un kanalizāciju | C37: 0.0095 | D37: 13.23
A38: 2223 | B38: Izdevumi par elektroenerģiju | C38: 0.01902 | D38: 26.49
A39: 2224 | B39: Izdevumi par atkritumu savākšanu, izvešanu no apdzīvotām vietām un teritorijām ārpus apdzīvotām vietām un atkritumu utilizāciju | C39: 0.00495 | D39: 6.89
A40: 2231 | B40: Izdevumi iestādes sabiedrisko aktivitāšu īstenošanai | C40: 0.00155 | D40: 2.16
A41: 2235 | B41: Izdevumi par saņemtajiem mācību pakalpojumiem | C41: 0.00165 | D41: 2.3
A42: 2239 | B42: Pārējie neklasificētie pakalpojumi | C42: 0.00441 | D42: 6.14
A43: 2241 | B43: Ēku, būvju un telpu būvdarbi | C43: 0.0165 | D43: 22.98
A44: 2242 | B44: Transportlīdzekļu uzturēšana un remonts | C44: 0.00226 | D44: 3.15
A45: 2243 | B45: Iekārtas, inventāra un aparatūras remonts, tehniskā apkalpošana | C45: 0.0326 | D45: 45.4
A46: 2244 | B46: Nekustamā īpašuma uzturēšana | C46: 0.20397 | D46: 284.04
... A49: 2250 | B49: Informācijas tehnoloģiju pakalpojumi | C49: 0.024026 | D49: 33.46
A50: 2261 | B50: Ēku, telpu īre un noma | C50: 0 | D50: =C50*1392.58 -> 0
A51: 2262 | B51: Transportlīdzekļu noma | C51: 0.00626 | D51: 8.72
A52: 2263 | B52: Zemes noma | C52: 0.0458 | D52: 63.78
A53: 2264 | B53: Iekārtu, aparatūras un inventāra īre un noma | C53: 0.00149 | D53: 2.07
A54: 2311 | B54: Biroja preces | C54: 0.00477 | D54: 6.64
A55: 2312 | B55: Inventārs | C55: 0.00579 | D55: 8.06
A56: 2314 | B56: Izdevumi par precēm iestādes sabiedrisko aktivitāšu īstenošanai | C56: 0.00222 | D56: 3.09
A57: 2321 | B57: Kurināmais | C57: 0.0198 | D57: 27.57
A58: 2322 | B58: Degviela | C58: 0.0035 | D58: 4.87
A59: 2341 | B59: Zāles, ķimikālijas, laboratorijas preces | D59: =C59*1392.58 -> 0
A60: 2350 | B60: Iestāžu uzturēšanas materiāli un preces | C60: 0.0085 | D60: 11.84
A61: 2361 | B61: Mīkstais inventārs | C61: 0 | D61: =C61*1392.58 -> 0
A62: 2362 | B62: Virtuves inventārs, trauki un galda piederumi | C62: 0 | D62: =C62*1392.58 -> 0
A63: 2363 | B63: Ēdināšanas izdevumi | C63: 0 | D63: =C63*1392.58 -> 0
A64: 2370 | B64: Mācību līdzekļi un materiāli | C64: 0 | D64: =C64*1392.58 -> 0
A65: 2400 | B65: Izdevumi periodikas iegādei | C65: 0 | D65: =C65*1392.58 -> 0
A66: 2512 | B66: Budžeta iestāžu pievienotās vērtības nodokļa maksājumi | C66: 0 | D66: =C66*1392.58 -> 0
A67: 2513 | B67: Budžeta iestāžu nekustamā īpašuma nodokļa maksājumi | C67: 0.00146 | D67: 2.03
A68: 2515 | B68: Budžeta iestāžu dabas resursu nodokļa maksājumi | C68: 0.0019 | D68: 2.65
A69: 2519 | B69: Pārējie budžeta iestāžu pārskaitītie nodokļi un nodevas | C69: 0.002 | D69: 2.79
A70: 5220 | B70: Tehnoloģiskās iekārtas un mašīnas | C70: 0.0106 | D70: 14.76
A71: 5238 | B71: Datortehnika, sakaru un cita biroja tehnika | C71: 0.00165 | D71: 2.48
A72: 5239 | B72: Pārējie iepriekš neklasificētie pamatlīdzekļi un ieguldījuma īpašumi | C72: 0.0198 | D72: 27.57
A73: 5250 | B73: Kapitālais remonts un rekonstrukcija | C73: 0.025 | D73: 34.81
B74: Netiešās izmaksas kopā | C74: =SUM(C33:C73) -> 0.9998838 | D74: =SUM(D33:D73) -> 1392.58
B75: Pakalpojumu izmaksas kopā | D75: =D31+D74 -> 3386.25
A77: Maksas pakalpojuma vienību skaits noteiktā laikposmā (gab.) | D77: 5
A78: Maksas pakalpojuma izcenojums (euro) | D78: =D75/D77 -> 677.25
A80: Prognozētais maksas pakalpojumu skaits gadā (gab.)*
A81: Prognozētie ieņēmumi gadā (euro)*
A83: Piezīme. *Ailes neaizpilda, ja izvēlētais laikposms ir viens gads.
A85: Aprēķinu sastādīja: SIVA Finanšu nodaļas vecākā finanšu ekonomiste Anita Ozoliņa

Sheet 4.3.2.6.
D1: SASKAŅOTS
B2: Sociālās integrācijas valsts aģentūras
D3: direktore I.Jurševska
D5: 2021. gada 30. augustā
A7: Maksas pakalpojuma izcenojuma aprēķins
A9: Sociālās integrācijas valsts aģentūra
A10: Publiskā pakalpojuma veids:
B11: 4. Rehabilitācijas pakalpojumi
B12: 4.3. Veselības veicināšanas programmas
B13: 4.3.2. Dubultu prospektā 71, 1.korpuss, Jūrmalā
B14: 4.3.2.6. Programma "Vitalitāte" , 7 dienu kurss (viena vieta divvietīgā numurā)
A15: Laikposms | B15: 2022.gadā un turpmāk
A16: Izdevumu klasifikācijas kods | B16: Rādītājs (materiāla/izejvielas nosaukums, atlīdzība un citi izmaksu veidi) | D16: Izmaksu apjoms noteiktā laikposmā viena maksas pakalpojuma veida nodrošināšanai
A17: 1 | B17: 2 | D17: 3
B18: Tiešās izmaksas
A19: 1100 | B19: Atalgojums | D19: 1009.32
A20: 1200 | B20: Darba devēja valsts sociālās apdrošināšanas obligātās iemaksas, pabalsti un kompensācijas | D20: 238.1
A21: 2222 | B21: Izdevumi par ūdensapgādi un kanalizāciju | D21: 56.46
A22: 2223 | B22: Izdevumi par elektroenerģiju | D22: 39.34
A23: 2243 | B23: Iekārtas, inventāra un aparatūras remonts, tehniskā apkalpošana | D23: 0
A24: 2244 | B24: Nekustamā īpašuma uzturēšana | D24: 29.68
A25: 2312 | B25: Inventārs | D25: 10.94
A26: 2321 | B26: Kurināmais | D26: 61.05
A27: 2341 | B27: Zāles, ķimikālijas, laboratorijas preces | D27: 114.65
A28: 2361 | B28: Mīkstais inventārs | D28: =56.25/5*7 -> 78.75
A29: 2363 | B29: Ēdināšanas izdevumi | D29: =8.12*7*5 -> 284.2
A30: 5239 | B30: Pārējie iepriekš neklasificētie pamatlīdzekļi un ieguldījuma īpašumi | D30: 15.11
B31: Tiešās izmaksas kopā | D31: =SUM(D19:D30) -> 1937.6
B32: Netiešās izmaksas
A33: 1100 | B33: Atalgojums | C33: =0.388+0.024 -> 0.412 | D33: 552.55
A34: 1200 | B34: Darba devēja valsts sociālās apdrošināšanas obligātās iemaksas, pabalsti un kompensācijas | C34: =C33*0.2359 -> 0.0971908 | D34: 130.35
A35: 2100 | B35: Mācību, darba un dienesta komandējumi, dienesta, darba braucieni | C35: 0.001166 | D35: 1.56
A36: 2210 | B36: Izdevumi par sakaru pakalpojumiem | C36: 0.0076 | D36: 10.19
A37: 2222 | B37: Izdevumi par ūdensapgādi un kanalizāciju | C37: 0.0095 | D37: 12.74
A38: 2223 | B38: Izdevumi par elektroenerģiju | C38: 0.01902 | D38: 25.51
A39: 2224 | B39: Izdevumi par atkritumu savākšanu, izvešanu no apdzīvotām vietām un teritorijām ārpus apdzīvotām vietām un atkritumu utilizāciju | C39: 0.00495 | D39: 6.64
A40: 2231 | B40: Izdevumi iestādes sabiedrisko aktivitāšu īstenošanai | C40: 0.00155 | D40: 2.08
A41: 2235 | B41: Izdevumi par saņemtajiem mācību pakalpojumiem | C41: 0.00165 | D41: 2.21
A42: 2239 | B42: Pārējie neklasificētie pakalpojumi | C42: 0.00441 | D42: 5.91
A43: 2241 | B43: Ēku, būvju un telpu būvdarbi | C43: 0.0165 | D43: 22.13
A44: 2242 | B44: Transportlīdzekļu uzturēšana un remonts | C44: 0.00226 | D44: 3.03
A45: 2243 | B45: Iekārtas, inventāra un aparatūras remonts, tehniskā apkalpošana | C45: 0.0326 | D45: 43.72
A46: 2244 | B46: Nekustamā īpašuma uzturēšana | C46: 0.20397 | D46: 273.55
... A49: 2250 | B49: Informācijas tehnoloģiju pakalpojumi | C49: 0.024026 | D49: 32.22
A50: 2261 | B50: Ēku, telpu īre un noma | C50: 0 | D50: =C50*1341.13 -> 0
A51: 2262 | B51: Transportlīdzekļu noma | C51: 0.00626 | D51: 8.4
A52: 2263 | B52: Zemes noma | C52: 0.0458 | D52: 61.42
A53: 2264 | B53: Iekārtu, aparatūras un inventāra īre un noma | C53: 0.00149 | D53: 2
A54: 2311 | B54: Biroja preces | C54: 0.00477 | D54: 6.4
A55: 2312 | B55: Inventārs | C55: 0.00579 | D55: 7.77
A56: 2314 | B56: Izdevumi par precēm iestādes sabiedrisko aktivitāšu īstenošanai | C56: 0.00222 | D56: 2.98
A57: 2321 | B57: Kurināmais | C57: 0.0198 | D57: 26.55
A58: 2322 | B58: Degviela | C58: 0.0035 | D58: 4.69
A59: 2341 | B59: Zāles, ķimikālijas, laboratorijas preces | D59: =C59*1341.13 -> 0
A60: 2350 | B60: Iestāžu uzturēšanas materiāli un preces | C60: 0.0085 | D60: 18.53
A61: 2361 | B61: Mīkstais inventārs | C61: 0 | D61: =C61*1341.13 -> 0
A62: 2362 | B62: Virtuves inventārs, trauki un galda piederumi | C62: 0 | D62: =C62*1341.13 -> 0
A63: 2363 | B63: Ēdināšanas izdevumi | C63: 0 | D63: =C63*1341.13 -> 0
A64: 2370 | B64: Mācību līdzekļi un materiāli | C64: 0 | D64: =C64*1341.13 -> 0
A65: 2400 | B65: Izdevumi periodikas iegādei | C65: 0 | D65: =C65*1341.13 -> 0
A66: 2512 | B66: Budžeta iestāžu pievienotās vērtības nodokļa maksājumi | C66: 0 | D66: =C66*1341.13 -> 0
A67: 2513 | B67: Budžeta iestāžu nekustamā īpašuma nodokļa maksājumi | C67: 0.00146 | D67: 1.96
A68: 2515 | B68: Budžeta iestāžu dabas resursu nodokļa maksājumi | C68: 0.0019 | D68: 2.55
A69: 2519 | B69: Pārējie budžeta iestāžu pārskaitītie nodokļi un nodevas | C69: 0.002 | D69: 2.68
A70: 5220 | B70: Tehnoloģiskās iekārtas un mašīnas | C70: 0.0106 | D70: 14.22
A71: 5238 | B71: Datortehnika, sakaru un cita biroja tehnika | C71: 0.00165 | D71: 5.37
A72: 5239 | B72: Pārējie iepriekš neklasificētie pamatlīdzekļi un ieguldījuma īpašumi | C72: 0.0198 | D72: 24.84
A73: 5250 | B73: Kapitālais remonts un rekonstrukcija | C73: 0.025 | D73: 32.53
B74: Netiešās izmaksas kopā | C74: =SUM(C33:C73) -> 0.9998838 | D74: =SUM(D33:D73) -> 1348.55
B75: Pakalpojumu izmaksas kopā | D75: =D31+D74 -> 3286.15
A77: Maksas pakalpojuma vienību skaits noteiktā laikposmā (gab.) | D77: 5
A78: Maksas pakalpojuma izcenojums (euro) | D78: =D75/D77 -> 657.23
A80: Prognozētais maksas pakalpojumu skaits gadā (gab.)*
A81: Prognozētie ieņēmumi gadā (euro)*
A83: Piezīme. *Ailes neaizpilda, ja izvēlētais laikposms ir viens gads.
A85: Aprēķinu sastādīja: SIVA Finanšu nodaļas vecākā finanšu ekonomiste Anita Ozoliņa

Sheet 4.3.2.7.
D1: SASKAŅOTS
B2: Sociālās integrācijas valsts aģentūras
D3: direktore I.Jurševska
D5: 2021. gada 30. augustā
A7: Maksas pakalpojuma izcenojuma aprēķins
A9: Sociālās integrācijas valsts aģentūra
A10: Publiskā pakalpojuma veids:
B11: 4. Rehabilitācijas pakalpojumi
B12: 4.3. Veselības veicināšanas programmas
B13: 4.3.2. Dubultu prospektā 71, 1.korpuss, Jūrmalā
B14: 4.3.2.7. Programma "Organisma attīrīšanas kūre" , 10 dienu kurss (vieta vienvietīgā numurā)
A15: Laikposms | B15: 2022.gadā un turpmāk
A16: Izdevumu klasifikācijas kods | B16: Rādītājs (materiāla/izejvielas nosaukums, atlīdzība un citi izmaksu veidi) | D16: Izmaksu apjoms noteiktā laikposmā viena maksas pakalpojuma veida nodrošināšanai
A17: 1 | B17: 2 | D17: 3
B18: Tiešās izmaksas
A19: 1100 | B19: Atalgojums | D19: 1139.14
A20: 1200 | B20: Darba devēja valsts sociālās apdrošināšanas obligātās iemaksas, pabalsti un kompensācijas | D20: 268.72
A21: 2222 | B21: Izdevumi par ūdensapgādi un kanalizāciju | D21: 52.39
A22: 2223 | B22: Izdevumi par elektroenerģiju | D22: 37.25
A23: 2243 | B23: Iekārtas, inventāra un aparatūras remonts, tehniskā apkalpošana | D23: 0
A24: 2244 | B24: Nekustamā īpašuma uzturēšana | D24: 74.2
A25: 2312 | B25: Inventārs | D25: 8.9
A26: 2321 | B26: Kurināmais | D26: 60.33
A27: 2341 | B27: Zāles, ķimikālijas, laboratorijas preces | D27: 101.32
A28: 2361 | B28: Mīkstais inventārs | D28: =56.25/5/5*10*4 -> 90
A29: 2363 | B29: Ēdināšanas izdevumi | D29: =8.12*10*4 -> 324.8
A30: 5239 | B30: Pārējie iepriekš neklasificētie pamatlīdzekļi un ieguldījuma īpašumi | D30: 14.93
B31: Tiešās izmaksas kopā | D31: =SUM(D19:D30) -> 2171.98
B32: Netiešās izmaksas
A33: 1100 | B33: Atalgojums | C33: =0.388+0.024 -> 0.412 | D33: 506.88
A34: 1200 | B34: Darba devēja valsts sociālās apdrošināšanas obligātās iemaksas, pabalsti un kompensācijas | C34: =C33*0.2359 -> 0.0971908 | D34: 119.57
A35: 2100 | B35: Mācību, darba un dienesta komandējumi, dienesta, darba braucieni | C35: 0.001166 | D35: 1.43
A36: 2210 | B36: Izdevumi par sakaru pakalpojumiem | C36: 0.0076 | D36: 9.35
A37: 2222 | B37: Izdevumi par ūdensapgādi un kanalizāciju | C37: 0.0095 | D37: 11.69
A38: 2223 | B38: Izdevumi par elektroenerģiju | C38: 0.01902 | D38: 23.4
A39: 2224 | B39: Izdevumi par atkritumu savākšanu, izvešanu no apdzīvotām vietām un teritorijām ārpus apdzīvotām vietām un atkritumu utilizāciju | C39: 0.00495 | D39: 6.09
A40: 2231 | B40: Izdevumi iestādes sabiedrisko aktivitāšu īstenošanai | C40: 0.00155 | D40: 1.91
A41: 2235 | B41: Izdevumi par saņemtajiem mācību pakalpojumiem | C41: 0.00165 | D41: 2.03
A42: 2239 | B42: Pārējie neklasificētie pakalpojumi | C42: 0.00441 | D42: 5.43
A43: 2241 | B43: Ēku, būvju un telpu būvdarbi | C43: 0.0165 | D43: 20.3
A44: 2242 | B44: Transportlīdzekļu uzturēšana un remonts | C44: 0.00226 | D44: 2.78
A45: 2243 | B45: Iekārtas, inventāra un aparatūras remonts, tehniskā apkalpošana | C45: 0.0326 | D45: 40.11
A46: 2244 | B46: Nekustamā īpašuma uzturēšana | C46: 0.20397 | D46: 250.94
... A49: 2250 | B49: Informācijas tehnoloģiju pakalpojumi | C49: 0.024026 | D49: 29.56
A50: 2261 | B50: Ēku, telpu īre un noma | C50: 0 | D50: =C50*1230.3 -> 0
A51: 2262 | B51: Transportlīdzekļu noma | C51: 0.00626 | D51: 7.7
A52: 2263 | B52: Zemes noma | C52: 0.0458 | D52: 56.35
A53: 2264 | B53: Iekārtu, aparatūras un inventāra īre un noma | C53: 0.00149 | D53: 1.83
A54: 2311 | B54: Biroja preces | C54: 0.00477 | D54: 5.87
A55: 2312 | B55: Inventārs | C55: 0.00579 | D55: 7.12
A56: 2314 | B56: Izdevumi par precēm iestādes sabiedrisko aktivitāšu īstenošanai | C56: 0.00222 | D56: 2.73
A57: 2321 | B57: Kurināmais | C57: 0.0198 | D57: 24.36
A58: 2322 | B58: Degviela | C58: 0.0035 | D58: 4.31
A59: 2341 | B59: Zāles, ķimikālijas, laboratorijas preces | D59: =C59*1230.3 -> 0
A60: 2350 | B60: Iestāžu uzturēšanas materiāli un preces | C60: 0.0085 | D60: 10.46
A61: 2361 | B61: Mīkstais inventārs | C61: 0 | D61: =C61*1230.3 -> 0
A62: 2362 | B62: Virtuves inventārs, trauki un galda piederumi | C62: 0 | D62: =C62*1230.3 -> 0
A63: 2363 | B63: Ēdināšanas izdevumi | C63: 0 | D63: =C63*1230.3 -> 0
A64: 2370 | B64: Mācību līdzekļi un materiāli | C64: 0 | D64: =C64*1230.3 -> 0
A65: 2400 | B65: Izdevumi periodikas iegādei | C65: 0 | D65: =C65*1230.3 -> 0
A66: 2512 | B66: Budžeta iestāžu pievienotās vērtības nodokļa maksājumi | C66: 0 | D66: =C66*1230.3 -> 0
A67: 2513 | B67: Budžeta iestāžu nekustamā īpašuma nodokļa maksājumi | C67: 0.00146 | D67: 1.8
A68: 2515 | B68: Budžeta iestāžu dabas resursu nodokļa maksājumi | C68: 0.0019 | D68: 2.34
A69: 2519 | B69: Pārējie budžeta iestāžu pārskaitītie nodokļi un nodevas | C69: 0.002 | D69: 2.46
A70: 5220 | B70: Tehnoloģiskās iekārtas un mašīnas | C70: 0.0106 | D70: 13.04
A71: 5238 | B71: Datortehnika, sakaru un cita biroja tehnika | C71: 0.00165 | D71: 2.17
A72: 5239 | B72: Pārējie iepriekš neklasificētie pamatlīdzekļi un ieguldījuma īpašumi | C72: 0.0198 | D72: 24.36
A73: 5250 | B73: Kapitālais remonts un rekonstrukcija | C73: 0.025 | D73: 30.76
B74: Netiešās izmaksas kopā | C74: =SUM(C33:C73) -> 0.9998838 | D74: =SUM(D33:D73) -> 1230.3
B75: Pakalpojumu izmaksas kopā | D75: =D31+D74 -> 3402.28
A77: Maksas pakalpojuma vienību skaits noteiktā laikposmā (gab.) | D77: 4
A78: Maksas pakalpojuma izcenojums (euro) | D78: =D75/D77 -> 850.57
A80: Prognozētais maksas pakalpojumu skaits gadā (gab.)*
A81: Prognozētie ieņēmumi gadā (euro)*
A83: Piezīme. *Ailes neaizpilda, ja izvēlētais laikposms ir viens gads.
A85: Aprēķinu sastādīja: SIVA Finanšu nodaļas vecākā finanšu ekonomiste Anita Ozoliņa

Sheet 4.3.2.8.
D1: SASKAŅOTS
B2: Sociālās integrācijas valsts aģentūras
D3: direktore I.Jurševska
D5: 2021. gada 30. augustā
A7: Maksas pakalpojuma izcenojuma aprēķins
A9: Sociālās integrācijas valsts aģentūra
A10: Publiskā pakalpojuma veids:
B11: 4. Rehabilitācijas pakalpojumi
B12: 4.3. Veselības veicināšanas programmas
B13: 4.3.2. Dubultu prospektā 71, 1.korpuss, Jūrmalā
B14: 4.3.2.8. Programma "Organisma attīrīšanas kūre" , 10 dienu kurss (vieta divvietīgā numurā)
A15: Laikposms | B15: 2022.gadā un turpmāk
A16: Izdevumu klasifikācijas kods | B16: Rādītājs (materiāla/izejvielas nosaukums, atlīdzība un citi izmaksu veidi) | D16: Izmaksu apjoms noteiktā laikposmā viena maksas pakalpojuma veida nodrošināšanai
A17: 1 | B17: 2 | D17: 3
B18: Tiešās izmaksas
A19: 1100 | B19: Atalgojums | D19: 1139.14
A20: 1200 | B20: Darba devēja valsts sociālās apdrošināšanas obligātās iemaksas, pabalsti un kompensācijas | D20: 268.72
A21: 2222 | B21: Izdevumi par ūdensapgādi un kanalizāciju | D21: 51.17
A22: 2223 | B22: Izdevumi par elektroenerģiju | D22: 37.25
A23: 2243 | B23: Iekārtas, inventāra un aparatūras remonts, tehniskā apkalpošana | D23: 0
A24: 2244 | B24: Nekustamā īpašuma uzturēšana | D24: 42.4
A25: 2312 | B25: Inventārs | D25: 12.51
A26: 2321 | B26: Kurināmais | D26: 57.81
A27: 2341 | B27: Zāles, ķimikālijas, laboratorijas preces | D27: 103.95
A28: 2361 | B28: Mīkstais inventārs | D28: =56.25/5/5*10*4 -> 90
A29: 2363 | B29: Ēdināšanas izdevumi | D29: =8.12*10*4 -> 324.8
A30: 5239 | B30: Pārējie iepriekš neklasificētie pamatlīdzekļi un ieguldījuma īpašumi | D30: 14.31
B31: Tiešās izmaksas kopā | D31: =SUM(D19:D30) -> 2142.06
B32: Netiešās izmaksas
A33: 1100 | B33: Atalgojums | C33: =0.388+0.024 -> 0.412 | D33: 472.08
A34: 1200 | B34: Darba devēja valsts sociālās apdrošināšanas obligātās iemaksas, pabalsti un kompensācijas | C34: =C33*0.2359 -> 0.0971908 | D34: 111.36
A35: 2100 | B35: Mācību, darba un dienesta komandējumi, dienesta, darba braucieni | C35: 0.001166 | D35: 1.34
A36: 2210 | B36: Izdevumi par sakaru pakalpojumiem | C36: 0.0076 | D36: 8.71
A37: 2222 | B37: Izdevumi par ūdensapgādi un kanalizāciju | C37: 0.0095 | D37: 10.89
A38: 2223 | B38: Izdevumi par elektroenerģiju | C38: 0.01902 | D38: 21.79
A39: 2224 | B39: Izdevumi par atkritumu savākšanu, izvešanu no apdzīvotām vietām un teritorijām ārpus apdzīvotām vietām un atkritumu utilizāciju | C39: 0.00495 | D39: 5.67
A40: 2231 | B40: Izdevumi iestādes sabiedrisko aktivitāšu īstenošanai | C40: 0.00155 | D40: 1.78
A41: 2235 | B41: Izdevumi par saņemtajiem mācību pakalpojumiem | C41: 0.00165 | D41: 1.89
A42: 2239 | B42: Pārējie neklasificētie pakalpojumi | C42: 0.00441 | D42: 5.05
A43: 2241 | B43: Ēku, būvju un telpu būvdarbi | C43: 0.0165 | D43: 18.91
A44: 2242 | B44: Transportlīdzekļu uzturēšana un remonts | C44: 0.00226 | D44: 2.59
A45: 2243 | B45: Iekārtas, inventāra un aparatūras remonts, tehniskā apkalpošana | C45: 0.0326 | D45: 37.35
A46: 2244 | B46: Nekustamā īpašuma uzturēšana | C46: 0.20397 | D46: 233.71
... A49: 2250 | B49: Informācijas tehnoloģiju pakalpojumi | C49: 0.024026 | D49: 27.53
A50: 2261 | B50: Ēku, telpu īre un noma | C50: 0 | D50: =C50*1145.82 -> 0
A51: 2262 | B51: Transportlīdzekļu noma | C51: 0.00626 | D51: 7.17
A52: 2263 | B52: Zemes noma | C52: 0.0458 | D52: 52.48
A53: 2264 | B53: Iekārtu, aparatūras un inventāra īre un noma | C53: 0.00149 | D53: 1.71
A54: 2311 | B54: Biroja preces | C54: 0.00477 | D54: 5.47
A55: 2312 | B55: Inventārs | C55: 0.00579 | D55: 6.63
A56: 2314 | B56: Izdevumi par precēm iestādes sabiedrisko aktivitāšu īstenošanai | C56: 0.00222 | D56: 2.54
A57: 2321 | B57: Kurināmais | C57: 0.0198 | D57: 22.69
A58: 2322 | B58: Degviela | C58: 0.0035 | D58: 4.01
A59: 2341 | B59: Zāles, ķimikālijas, laboratorijas preces | D59: =C59*1145.82 -> 0
A60: 2350 | B60: Iestāžu uzturēšanas materiāli un preces | C60: 0.0085 | D60: 9.74
A61: 2361 | B61: Mīkstais inventārs | C61: 0 | D61: =C61*1145.82 -> 0
A62: 2362 | B62: Virtuves inventārs, trauki un galda piederumi | C62: 0 | D62: =C62*1145.82 -> 0
A63: 2363 | B63: Ēdināšanas izdevumi | C63: 0 | D63: =C63*1145.82 -> 0
A64: 2370 | B64: Mācību līdzekļi un materiāli | C64: 0 | D64: =C64*1145.82 -> 0
A65: 2400 | B65: Izdevumi periodikas iegādei | C65: 0 | D65: =C65*1145.82 -> 0
A66: 2512 | B66: Budžeta iestāžu pievienotās vērtības nodokļa maksājumi | C66: 0 | D66: =C66*1145.82 -> 0
A67: 2513 | B67: Budžeta iestāžu nekustamā īpašuma nodokļa maksājumi | C67: 0.00146 | D67: 1.67
A68: 2515 | B68: Budžeta iestāžu dabas resursu nodokļa maksājumi | C68: 0.0019 | D68: 2.18
A69: 2519 | B69: Pārējie budžeta iestāžu pārskaitītie nodokļi un nodevas | C69: 0.002 | D69: 2.29
A70: 5220 | B70: Tehnoloģiskās iekārtas un mašīnas | C70: 0.0106 | D70: 12.15
A71: 5238 | B71: Datortehnika, sakaru un cita biroja tehnika | C71: 0.00165 | D71: 2.01
A72: 5239 | B72: Pārējie iepriekš neklasificētie pamatlīdzekļi un ieguldījuma īpašumi | C72: 0.0198 | D72: 22.69
A73: 5250 | B73: Kapitālais remonts un rekonstrukcija | C73: 0.025 | D73: 28.65
B74: Netiešās izmaksas kopā | C74: =SUM(C33:C73) -> 0.9998838 | D74: =SUM(D33:D73) -> 1145.82
B75: Pakalpojumu izmaksas kopā | D75: =D31+D74 -> 3287.88
A77: Maksas pakalpojuma vienību skaits noteiktā laikposmā (gab.) | D77: 4
A78: Maksas pakalpojuma izcenojums (euro) | D78: =D75/D77 -> 821.97
A80: Prognozētais maksas pakalpojumu skaits gadā (gab.)*
A81: Prognozētie ieņēmumi gadā (euro)*
A83: Piezīme. *Ailes neaizpilda, ja izvēlētais laikposms ir viens gads.
A85: Aprēķinu sastādīja: SIVA Finanšu nodaļas vecākā finanšu ekonomiste Anita Ozoliņa

Sheet 4.3.2.9.
D1: SASKAŅOTS
B2: Sociālās integrācijas valsts aģentūras
D3: direktore I.Jurševska
D5: 2021. gada 30. augustā
A7: Maksas pakalpojuma izcenojuma aprēķins
A9: Sociālās integrācijas valsts aģentūra
A10: Publiskā pakalpojuma veids:
B11: 4. Rehabilitācijas pakalpojumi
B12: 4.3. Veselības veicināšanas programmas
B13: 4.3.2. Dubultu prospektā 71, 1.korpuss, Jūrmalā
B14: 4.3.2.9. Programma "Restartē darba spējas" , 3 dienu kurss (viena vieta vienvietīgā numurā)
A15: Laikposms | B15: 2022.gadā un turpmāk
A16: Izdevumu klasifikācijas kods | B16: Rādītājs (materiāla/izejvielas nosaukums, atlīdzība un citi izmaksu veidi) | D16: Izmaksu apjoms noteiktā laikposmā viena maksas pakalpojuma veida nodrošināšanai
A17: 1 | B17: 2 | D17: 3
B18: Tiešās izmaksas
A19: 1100 | B19: Atalgojums | D19: 461.78
A20: 1200 | B20: Darba devēja valsts sociālās apdrošināšanas obligātās iemaksas, pabalsti un kompensācijas | D20: 108.93
A21: 2222 | B21: Izdevumi par ūdensapgādi un kanalizāciju | D21: 27.3
A22: 2223 | B22: Izdevumi par elektroenerģiju | D22: 17.37
A23: 2243 | B23: Iekārtas, inventāra un aparatūras remonts, tehniskā apkalpošana | D23: 0
A24: 2244 | B24: Nekustamā īpašuma uzturēšana | D24: 22.26
A25: 2312 | B25: Inventārs | D25: 5.54
A26: 2321 | B26: Kurināmais | D26: 26.96
A27: 2341 | B27: Zāles, ķimikālijas, laboratorijas preces | D27: 44.1
A28: 2361 | B28: Mīkstais inventārs | D28: =56.25/5/5*3*5 -> 33.75
A29: 2363 | B29: Ēdināšanas izdevumi | D29: =8.12*3*5 -> 121.8
A30: 5239 | B30: Pārējie iepriekš neklasificētie pamatlīdzekļi un ieguldījuma īpašumi | D30: 6.67
B31: Tiešās izmaksas kopā | D31: =SUM(D19:D30) -> 876.46
B32: Netiešās izmaksas
A33: 1100 | B33: Atalgojums | C33: =0.388+0.024 -> 0.412 | D33: 248.82
A34: 1200 | B34: Darba devēja valsts sociālās apdrošināšanas obligātās iemaksas, pabalsti un kompensācijas | C34: =C33*0.2359 -> 0.0971908 | D34: 58.7
A35: 2100 | B35: Mācību, darba un dienesta komandējumi, dienesta, darba braucieni | C35: 0.001166 | D35: 0.7
A36: 2210 | B36: Izdevumi par sakaru pakalpojumiem | C36: 0.0076 | D36: 4.59
A37: 2222 | B37: Izdevumi par ūdensapgādi un kanalizāciju | C37: 0.0095 | D37: 5.74
A38: 2223 | B38: Izdevumi par elektroenerģiju | C38: 0.01902 | D38: 11.49
A39: 2224 | B39: Izdevumi par atkritumu savākšanu, izvešanu no apdzīvotām vietām un teritorijām ārpus apdzīvotām vietām un atkritumu utilizāciju | C39: 0.00495 | D39: 2.99
A40: 2231 | B40: Izdevumi iestādes sabiedrisko aktivitāšu īstenošanai | C40: 0.00155 | D40: 0.94
A41: 2235 | B41: Izdevumi par saņemtajiem mācību pakalpojumiem | C41: 0.00165 | D41: 1
A42: 2239 | B42: Pārējie neklasificētie pakalpojumi | C42: 0.00441 | D42: 2.66
A43: 2241 | B43: Ēku, būvju un telpu būvdarbi | C43: 0.0165 | D43: 9.97
A44: 2242 | B44: Transportlīdzekļu uzturēšana un remonts | C44: 0.00226 | D44: 1.36
A45: 2243 | B45: Iekārtas, inventāra un aparatūras remonts, tehniskā apkalpošana | C45: 0.0326 | D45: 19.69
A46: 2244 | B46: Nekustamā īpašuma uzturēšana | C46: 0.20397 | D46: 123.19
... A49: 2250 | B49: Informācijas tehnoloģiju pakalpojumi | C49: 0.024026 | D49: 14.51
A50: 2261 | B50: Ēku, telpu īre un noma | C50: 0 | D50: =C50*603.94 -> 0
A51: 2262 | B51: Transportlīdzekļu noma | C51: 0.00626 | D51: 3.78
A52: 2263 | B52: Zemes noma | C52: 0.0458 | D52: 27.66
A53: 2264 | B53: Iekārtu, aparatūras un inventāra īre un noma | C53: 0.00149 | D53: 0.9
A54: 2311 | B54: Biroja preces | C54: 0.00477 | D54: 2.88
A55: 2312 | B55: Inventārs | C55: 0.00579 | D55: 3.5
A56: 2314 | B56: Izdevumi par precēm iestādes sabiedrisko aktivitāšu īstenošanai | C56: 0.00222 | D56: 1.34
A57: 2321 | B57: Kurināmais | C57: 0.0198 | D57: 11.96
A58: 2322 | B58: Degviela | C58: 0.0035 | D58: 2.11
A59: 2341 | B59: Zāles, ķimikālijas, laboratorijas preces | D59: =C59*603.94 -> 0
A60: 2350 | B60: Iestāžu uzturēšanas materiāli un preces | C60: 0.0085 | D60: 5.13
A61: 2361 | B61: Mīkstais inventārs | C61: 0 | D61: =C61*603.94 -> 0
A62: 2362 | B62: Virtuves inventārs, trauki un galda piederumi | C62: 0 | D62: =C62*603.94 -> 0
A63: 2363 | B63: Ēdināšanas izdevumi | C63: 0 | D63: =C63*603.94 -> 0
A64: 2370 | B64: Mācību līdzekļi un materiāli | C64: 0 | D64: =C64*603.94 -> 0
A65: 2400 | B65: Izdevumi periodikas iegādei | C65: 0 | D65: =C65*603.94 -> 0
A66: 2512 | B66: Budžeta iestāžu pievienotās vērtības nodokļa maksājumi | C66: 0 | D66: =C66*603.94 -> 0
A67: 2513 | B67: Budžeta iestāžu nekustamā īpašuma nodokļa maksājumi | C67: 0.00146 | D67: 0.88
A68: 2515 | B68: Budžeta iestāžu dabas resursu nodokļa maksājumi | C68: 0.0019 | D68: 1.15
A69: 2519 | B69: Pārējie budžeta iestāžu pārskaitītie nodokļi un nodevas | C69: 0.002 | D69: 1.21
A70: 5220 | B70: Tehnoloģiskās iekārtas un mašīnas | C70: 0.0106 | D70: 6.4
A71: 5238 | B71: Datortehnika, sakaru un cita biroja tehnika | C71: 0.00165 | D71: 1.06
A72: 5239 | B72: Pārējie iepriekš neklasificētie pamatlīdzekļi un ieguldījuma īpašumi | C72: 0.0198 | D72: 11.96
A73: 5250 | B73: Kapitālais remonts un rekonstrukcija | C73: 0.025 | D73: 15.1
B74: Netiešās izmaksas kopā | C74: =SUM(C33:C73) -> 0.9998838 | D74: =SUM(D33:D73) -> 603.94
B75: Pakalpojumu izmaksas kopā | D75: =D31+D74 -> 1480.4
A77: Maksas pakalpojuma vienību skaits noteiktā laikposmā (gab.) | D77: 5
A78: Maksas pakalpojuma izcenojums (euro) | D78: =D75/D77 -> 296.08
A80: Prognozētais maksas pakalpojumu skaits gadā (gab.)*
A81: Prognozētie ieņēmumi gadā (euro)*
A83: Piezīme. *Ailes neaizpilda, ja izvēlētais laikposms ir viens gads.
A85: Aprēķinu sastādīja: SIVA Finanšu nodaļas vecākā finanšu ekonomiste Anita Ozoliņa

Sheet 4.3.2.10.
D1: SASKAŅOTS
B2: Sociālās integrācijas valsts aģentūras
D3: direktore I.Jurševska
D5: 2021. gada 30. augustā
A7: Maksas pakalpojuma izcenojuma aprēķins
A9: Sociālās integrācijas valsts aģentūra
A10: Publiskā pakalpojuma veids:
B11: 4. Rehabilitācijas pakalpojumi
B12: 4.3. Veselības veicināšanas programmas
B13: 4.3.2. Dubultu prospektā 71, 1.korpuss, Jūrmalā
B14: 4.3.2.10. Programma "Restartē darba spējas" , 3 dienu kurss (viena vieta divvietīgā numurā)
A15: Laikposms | B15: 2022.gadā un turpmāk
A16: Izdevumu klasifikācijas kods | B16: Rādītājs (materiāla/izejvielas nosaukums, atlīdzība un citi izmaksu veidi) | D16: Izmaksu apjoms noteiktā laikposmā viena maksas pakalpojuma veida nodrošināšanai
A17: 1 | B17: 2 | D17: 3
B18: Tiešās izmaksas
A19: 1100 | B19: Atalgojums | D19: 461.78
A20: 1200 | B20: Darba devēja valsts sociālās apdrošināšanas obligātās iemaksas, pabalsti un kompensācijas | D20: 108.93
A21: 2222 | B21: Izdevumi par ūdensapgādi un kanalizāciju | D21: 27.3
A22: 2223 | B22: Izdevumi par elektroenerģiju | D22: 16.92
A23: 2243 | B23: Iekārtas, inventāra un aparatūras remonts, tehniskā apkalpošana | D23: 0
A24: 2244 | B24: Nekustamā īpašuma uzturēšana | D24: 12.72
A25: 2312 | B25: Inventārs | D25: 5.54
A26: 2321 | B26: Kurināmais | D26: 23.71
A27: 2341 | B27: Zāles, ķimikālijas, laboratorijas preces | D27: 44.1
A28: 2361 | B28: Mīkstais inventārs | D28: =56.25/5/5*3*5 -> 33.75
A29: 2363 | B29: Ēdināšanas izdevumi | D29: =8.12*3*5 -> 121.8
A30: 5239 | B30: Pārējie iepriekš neklasificētie pamatlīdzekļi un ieguldījuma īpašumi | D30: 6.5
B31: Tiešās izmaksas kopā | D31: =SUM(D19:D30) -> 863.05
B32: Netiešās izmaksas
A33: 1100 | B33: Atalgojums | C33: =0.388+0.024 -> 0.412 | D33: 236.67
A34: 1200 | B34: Darba devēja valsts sociālās apdrošināšanas obligātās iemaksas, pabalsti un kompensācijas | C34: =C33*0.2359 -> 0.0971908 | D34: 55.83
A35: 2100 | B35: Mācību, darba un dienesta komandējumi, dienesta, darba braucieni | C35: 0.001166 | D35: 0.67
A36: 2210 | B36: Izdevumi par sakaru pakalpojumiem | C36: 0.0076 | D36: 4.37
A37: 2222 | B37: Izdevumi par ūdensapgādi un kanalizāciju | C37: 0.0095 | D37: 5.46
A38: 2223 | B38: Izdevumi par elektroenerģiju | C38: 0.01902 | D38: 10.93
A39: 2224 | B39: Izdevumi par atkritumu savākšanu, izvešanu no apdzīvotām vietām un teritorijām ārpus apdzīvotām vietām un atkritumu utilizāciju | C39: 0.00495 | D39: 2.84
A40: 2231 | B40: Izdevumi iestādes sabiedrisko aktivitāšu īstenošanai | C40: 0.00155 | D40: 0.89
A41: 2235 | B41: Izdevumi par saņemtajiem mācību pakalpojumiem | C41: 0.00165 | D41: 0.95
A42: 2239 | B42: Pārējie neklasificētie pakalpojumi | C42: 0.00441 | D42: 2.53
A43: 2241 | B43: Ēku, būvju un telpu būvdarbi | C43: 0.0165 | D43: 9.48
A44: 2242 | B44: Transportlīdzekļu uzturēšana un remonts | C44: 0.00226 | D44: 1.3
A45: 2243 | B45: Iekārtas, inventāra un aparatūras remonts, tehniskā apkalpošana | C45: 0.0326 | D45: 18.73
A46: 2244 | B46: Nekustamā īpašuma uzturēšana | C46: 0.20397 | D46: 117.17
... A49: 2250 | B49: Informācijas tehnoloģiju pakalpojumi | C49: 0.024026 | D49: 13.8
A50: 2261 | B50: Ēku, telpu īre un noma | C50: 0 | D50: =C50*574.45 -> 0
A51: 2262 | B51: Transportlīdzekļu noma | C51: 0.00626 | D51: 3.6
A52: 2263 | B52: Zemes noma | C52: 0.0458 | D52: 26.31
A53: 2264 | B53: Iekārtu, aparatūras un inventāra īre un noma | C53: 0.00149 | D53: 0.86
A54: 2311 | B54: Biroja preces | C54: 0.00477 | D54: 2.74
A55: 2312 | B55: Inventārs | C55: 0.00579 | D55: 3.33
A56: 2314 | B56: Izdevumi par precēm iestādes sabiedrisko aktivitāšu īstenošanai | C56: 0.00222 | D56: 1.28
A57: 2321 | B57: Kurināmais | C57: 0.0198 | D57: 11.37
A58: 2322 | B58: Degviela | C58: 0.0035 | D58: 2.01
A59: 2341 | B59: Zāles, ķimikālijas, laboratorijas preces | D59: =C59*574.45 -> 0
A60: 2350 | B60: Iestāžu uzturēšanas materiāli un preces | C60: 0.0085 | D60: 4.88
A61: 2361 | B61: Mīkstais inventārs | C61: 0 | D61: =C61*574.45 -> 0
A62: 2362 | B62: Virtuves inventārs, trauki un galda piederumi | C62: 0 | D62: =C62*574.45 -> 0
A63: 2363 | B63: Ēdināšanas izdevumi | C63: 0 | D63: =C63*574.45 -> 0
A64: 2370 | B64: Mācību līdzekļi un materiāli | C64: 0 | D64: =C64*574.45 -> 0
A65: 2400 | B65: Izdevumi periodikas iegādei | C65: 0 | D65: =C65*574.45 -> 0
A66: 2512 | B66: Budžeta iestāžu pievienotās vērtības nodokļa maksājumi | C66: 0 | D66: =C66*574.45 -> 0
A67: 2513 | B67: Budžeta iestāžu nekustamā īpašuma nodokļa maksājumi | C67: 0.00146 | D67: 0.84
A68: 2515 | B68: Budžeta iestāžu dabas resursu nodokļa maksājumi | C68: 0.0019 | D68: 1.09
A69: 2519 | B69: Pārējie budžeta iestāžu pārskaitītie nodokļi un nodevas | C69: 0.002 | D69: 1.15
A70: 5220 | B70: Tehnoloģiskās iekārtas un mašīnas | C70: 0.0106 | D70: 6.09
A71: 5238 | B71: Datortehnika, sakaru un cita biroja tehnika | C71: 0.00165 | D71: 1.01
A72: 5239 | B72: Pārējie iepriekš neklasificētie pamatlīdzekļi un ieguldījuma īpašumi | C72: 0.0198 | D72: 11.37
A73: 5250 | B73: Kapitālais remonts un rekonstrukcija | C73: 0.025 | D73: 14.36
B74: Netiešās izmaksas kopā | C74: =SUM(C33:C73) -> 0.9998838 | D74: =SUM(D33:D73) -> 574.45
B75: Pakalpojumu izmaksas kopā | D75: =D31+D74 -> 1437.5
A77: Maksas pakalpojuma vienību skaits noteiktā laikposmā (gab.) | D77: 5
A78: Maksas pakalpojuma izcenojums (euro) | D78: =D75/D77 -> 287.5
A80: Prognozētais maksas pakalpojumu skaits gadā (gab.)*
A81: Prognozētie ieņēmumi gadā (euro)*
A83: Piezīme. *Ailes neaizpilda, ja izvēlētais laikposms ir viens gads.
A85: Aprēķinu sastādīja: SIVA Finanšu nodaļas vecākā finanšu ekonomiste Anita Ozoliņa
