Workbook

Sheet 62_konsolid
A2: 62. Mērķdotācijas pašvaldībām – IZM
A4: Programmas kods | B4: Nosaukums | C4: Budžeta likuma izskatīšanai 1. lasījumā (bez finansējuma UA 8mēn.) | D4: Izmaiņas uz 2. lasījumu | E4: Apstiprināts 2026. gada budžeta likumā (bez finansējuma UA 8mēn.) | F4: Atbalsts UA * (25-TA-2990) | G4: Precizēts 2026. gada budžets (25-TA-2992) | H4: t.sk. | J4: Aprēķini 2026. gada sept.-dec. (4 mēn.) | K4: Precizēts 2026. gada budžets (26-TA-2175) | L4: t.sk. | O4: Papildu nepieciešams UA ** | P4: atlikums | Q4: Atbalsts UA ** (26-TA-2381) | R4: UA 2027. gada 8M
H5: 8 mēnešiem | I5: 4 mēnešiem | L5: 8 mēnešiem | M5: 4 mēnešiem
B7: 62. Mērķdotācijas pašvaldībām | C7: =+C8+C11+C12 -> 674223192 | D7: =+D8+D11+D12 -> -1742024 | E7: =+E8+E11+E12 -> 672481168 | F7: =+F8+F11+F12 -> 4952052 | G7: =+G8+G11+G12 -> 677433220 | H7: =+H8+H11+H12 -> 438854666 | I7: =+I8+I11+I12 -> 238578554 | J7: =+J8+J11+J12 -> 240796965 | ... M7: =+M8+M11+M12 -> 240796965 | O7: =+O8+O11+O12 -> 650747 | P7: =+P8+P11+P12 -> 0 | Q7: =+Q8+Q11+Q12 -> 650747 | R7: =+R8+R11+R12 -> 1301494
A8: 01.00.00 | B8: Mērķdotācijas izglītības pasākumiem | C8: =+C9+C10 -> 73959529 | D8: =+D9+D10 -> -331752 | E8: =+E9+E10 -> 73627777 | F8: =+F9+F10 -> 498332 | G8: =+G9+G10 -> 74126109 | H8: =+H9+H10 -> 49588238 | I8: =+I9+I10 -> 24537871 | J8: =+J9+J10 -> 25319418 | ... M8: =+M9+M10 -> 25319418 | O8: =+O9+O10 -> 244335 | P8: =+P9+P10 -> 0 | Q8: =+Q9+Q10 -> 244335 | R8: =+R9+R10 -> 488670
B9: – pedagogu darba samaksai un valsts sociālās apdrošināšanas obligātajām iemaksām | C9: 52357914 | D9: -611428 | E9: =+'Lik._8.p., MK_3.p.'!B54 -> 51746486 | F9: =+'Lik._8.p., MK_3.p.'!F54 -> 353178 | G9: =+E9+F9 -> 52099664 | H9: =+'Lik._8.p., MK_3.p.'!K48 -> 34855557 | I9: =+'Lik._8.p., MK_3.p.'!K52 -> 17244107 | J9: =+'Lik._8.p., MK_3.p.'!O48 -> 17613122 | K9: =+'Lik._8.p., MK_3.p.'!S48 -> 52468679 | L9: =+H9 -> 34855557 | M9: =+K9-L9 -> 17613122 | O9: 172153 | Q9: =+O9-P9 -> 172153 | R9: =+O9*2 -> 344306
B10: – uzturēšanas izdevumiem | C10: 21601615 | D10: 279676 | E10: =+'Lik._8.p., MK_3.p.'!D54-'Lik._8.p., MK_3.p.'!B54 -> 21881291 | F10: =+'Lik._8.p., MK_3.p.'!G48 -> 145154 | G10: =+E10+F10 -> 22026445 | H10: =+'Lik._8.p., MK_3.p.'!M48-'Lik._8.p., MK_3.p.'!K48 -> 14732681 | I10: =+'Lik._8.p., MK_3.p.'!M52-'Lik._8.p., MK_3.p.'!K52 -> 7293764 | J10: =+'Lik._8.p., MK_3.p.'!P48 -> 7706296 | K10: =+'Lik._8.p., MK_3.p.'!U48-'Lik._8.p., MK_3.p.'!S48 -> 22438977 | L10: =+H10 -> 14732681 | M10: =+K10-L10 -> 7706296 | O10: 72182 | Q10: =+O10-P10 -> 72182 | R10: =+O10*2 -> 144364
A11: 05.00.00 | B11: Mērķdotācijas pašvaldībām – pašvaldību izglītības iestāžu pedagogu darba samaksai un valsts sociālās apdrošināšanas obligātajām iemaksām | C11: 527435015 | D11: 1040260 | E11: =+'Lik._6.p., MK_1.p.'!B54+'Lik._7.p., MK_2.p.'!B54 -> 528475275 | F11: =+'Lik._6.p., MK_1.p.'!E54+'Lik._7.p., MK_2.p.'!E54 -> 4003334 | G11: =+E11+F11 -> 532478609 | H11: =+'Lik._6.p., MK_1.p.'!G48+'Lik._7.p., MK_2.p.'!G48 -> 341897298 | I11: =+'Lik._6.p., MK_1.p.'!G52+'Lik._7.p., MK_2.p.'!G52 -> 190581311 | J11: =+'Lik._6.p., MK_1.p.'!J48+'Lik._7.p., MK_2.p.'!J48 -> 191388984 | K11: =+'Lik._6.p., MK_1.p.'!L48+'Lik._7.p., MK_2.p.'!L48 -> 533286282 | L11: =+H11 -> 341897298 | M11: =+K11-L11 -> 191388984 | O11: 177065 | Q11: =+O11-P11 -> 177065 | R11: =+O11*2 -> 354130
A12: 10.00.00 | B12: Mērķdotācijas pašvaldībām – pašvaldību izglītības iestādēs bērnu no piecu gadu vecuma izglītošanā nodarbināto pedagogu darba samaksai un valsts sociālās apdrošināšanas obligātajām iemaksām | C12: 72828648 | D12: -2450532 | E12: =+'Lik._9.p., MK_4.p.'!B54 -> 70378116 | F12: =+'Lik._9.p., MK_4.p.'!D54 -> 450386 | G12: =+E12+F12 -> 70828502 | H12: =+'Lik._9.p., MK_4.p.'!F48 -> 47369130 | I12: =+'Lik._9.p., MK_4.p.'!F52 -> 23459372 | J12: =+'Lik._9.p., MK_4.p.'!H48 -> 24088563 | K12: =+'Lik._9.p., MK_4.p.'!J48 -> 71457693 | L12: =+H12 -> 47369130 | M12: =+K12-L12 -> 24088563 | O12: 229347 | Q12: =+O12-P12 -> 229347 | R12: =+O12*2 -> 458694
F14: * Finansējums 2026. gada 8 mēn. (janvāris - augusts) | O14: ** Finansējums 2026. gada 4 mēn. (septembris - decembris)
P17: atlikums
N18: IZM 01.05.00. | O18: 97568 | P18: 5360 | Q18: =+O18-P18 -> 92208 | R18: =+O18*2 -> 195136
N20: 62. + IZM | O20: =+O18+O7 -> 748315 | P20: =+P18+P7 -> 5360 | Q20: =+Q18+Q7 -> 742955 | R20: =+R18+R7 -> 1496630

Sheet Pielikumi kopā
A1: Mērķdotācijas pašvaldībām – pašvaldību speciālo pirmsskolas izglītības grupu pedagogu darba samaksai un valsts sociālās apdrošināšanas obligātajām iemaksām, speciālajām izglītības iestādēm, kas nodrošina internāta pakalpojumus
A2: Pašvaldības | B2: Likuma "Par valsts budžetu 2026. gadam un budžeta ietvaru 2026., 2027. un 2028. gadam" pielikumi kopā | F2: Izmaiņas | K2: MK rīkojuma "Par mērķdotāciju sadalījumu pašvaldībām – pašvaldību izglītības iestādēm 2026. gadam" pielikumi kopā | P2: Aprēķins 4 mēnešiem (sept.-dec.) | T2: MK rīkojuma "Par mērķdotāciju sadalījumu pašvaldībām – pašvaldību izglītības iestādēm 2026. gadam" KOPĀ 1., 2., 3., 4. pielikums
B3: I. No 2026. gada 1. janvāra līdz 2026. gada 31. augustam | P3: No 2026. gada 1.septembra līdz 2026. gada 31. decembrim | T3: 2026. gadam
B4: Pedagogu darba samaksai un valsts sociālās apdrošināšanas obligātajām iemaksām (Euro) | C4: tai skaitā par izglītības programmu īstenošanu valsts valodā mazākumtautību izglītojamiem | D4: Pavisam kopā (Euro) | F4: Atbalsts UA (25-TA-2990) | H4: Grozījums MK 15.07.2016. not. Nr. 477 | I4: Kopā (Euro) | K4: Pedagogu darba samaksai un valsts sociālās apdrošināšanas obligātajām iemaksām (Euro) | L4: tai skaitā par izglītības programmu īstenošanu valsts valodā mazākumtautību izglītojamiem | M4: Pavisam kopā (Euro) | P4: Pedagogu darba samaksai (Euro) | Q4: Uzturēšanas izdevumiem (Euro) | R4: Pavisam kopā (Euro) | T4: 26-TA-2175
F5: Pedagogu darba samaksai (Euro) | G5: Uzturēšanas izdevumiem (Euro) | H5: Tehniski precizējumi Uzturēšanas izdevumiem (Euro) | T5: Pedagogu darba samaksai (Euro) | U5: tai skaitā par izglītības programmu īstenošanu mazākumtautību izglītojamiem | V5: Pavisam kopā (Euro)
A6: Rīgas valstspilsēta | B6: =+'Lik._6.p., MK_1.p.'!B6+'Lik._7.p., MK_2.p.'!B6+'Lik._8.p., MK_3.p.'!B6+'Lik._9.p., MK_4.p.'!B6 -> 115497464 | C6: =+'Lik._6.p., MK_1.p.'!C6+'Lik._7.p., MK_2.p.'!C6+'Lik._8.p., MK_3.p.'!C6 -> 939346 | D6: =+'Lik._6.p., MK_1.p.'!B6+'Lik._7.p., MK_2.p.'!B6+'Lik._8.p., MK_3.p.'!D6+'Lik._9.p., MK_4.p.'!B6 -> 119730475 | F6: =+'Lik._6.p., MK_1.p.'!E6+'Lik._7.p., MK_2.p.'!E6+'Lik._8.p., MK_3.p.'!F6+'Lik._9.p., MK_4.p.'!D6 -> 2568898 | G6: =+'Lik._8.p., MK_3.p.'!G6 -> 64644 | H6: =+'Lik._8.p., MK_3.p.'!H6 -> 1950 | I6: =+F6+G6+H6 -> 2635492 | K6: =+B6+F6 -> 118066362 | L6: =+C6 -> 939346 | M6: =+D6+I6 -> 122365967 | N6: =+M6-K6 -> 4299605 | P6: =+'Lik._6.p., MK_1.p.'!J6+'Lik._7.p., MK_2.p.'!J6+'Lik._8.p., MK_3.p.'!O6+'Lik._9.p., MK_4.p.'!H6 -> 67725659 | Q6: =+'Lik._8.p., MK_3.p.'!P6 -> 2298578 | R6: =+P6+Q6 -> 70024237 | T6: =+K6+P6 -> 185792021 | U6: =+L6 -> 939346 | V6: =+M6+R6 -> 192390204
A7: Daugavpils valstspilsēta | B7: =+'Lik._6.p., MK_1.p.'!B7+'Lik._7.p., MK_2.p.'!B7+'Lik._8.p., MK_3.p.'!B7+'Lik._9.p., MK_4.p.'!B7 -> 16924606 | C7: =+'Lik._6.p., MK_1.p.'!C7+'Lik._7.p., MK_2.p.'!C7+'Lik._8.p., MK_3.p.'!C7 -> 192930 | D7: =+'Lik._6.p., MK_1.p.'!B7+'Lik._7.p., MK_2.p.'!B7+'Lik._8.p., MK_3.p.'!D7+'Lik._9.p., MK_4.p.'!B7 -> 17740108 | F7: =+'Lik._6.p., MK_1.p.'!E7+'Lik._7.p., MK_2.p.'!E7+'Lik._8.p., MK_3.p.'!F7+'Lik._9.p., MK_4.p.'!D7 -> 187890 | G7: =+'Lik._8.p., MK_3.p.'!G7 -> 2606 | H7: =+'Lik._8.p., MK_3.p.'!H7 -> -199 | I7: =+F7+G7+H7 -> 190297 | K7: =+B7+F7 -> 17112496 | L7: =+C7 -> 192930 | M7: =+D7+I7 -> 17930405 | N7: =+M7-K7 -> 817909 | P7: =+'Lik._6.p., MK_1.p.'!J7+'Lik._7.p., MK_2.p.'!J7+'Lik._8.p., MK_3.p.'!O7+'Lik._9.p., MK_4.p.'!H7 -> 9293272 | Q7: =+'Lik._8.p., MK_3.p.'!P7 -> 427863 | R7: =+P7+Q7 -> 9721135 | T7: =+K7+P7 -> 26405768 | U7: =+L7 -> 192930 | V7: =+M7+R7 -> 27651540
A8: Jelgavas valstspilsēta | B8: =+'Lik._6.p., MK_1.p.'!B8+'Lik._7.p., MK_2.p.'!B8+'Lik._8.p., MK_3.p.'!B8+'Lik._9.p., MK_4.p.'!B8 -> 14759389 | C8: =+'Lik._6.p., MK_1.p.'!C8+'Lik._7.p., MK_2.p.'!C8+'Lik._8.p., MK_3.p.'!C8 -> 56461 | D8: =+'Lik._6.p., MK_1.p.'!B8+'Lik._7.p., MK_2.p.'!B8+'Lik._8.p., MK_3.p.'!D8+'Lik._9.p., MK_4.p.'!B8 -> 15194702 | F8: =+'Lik._6.p., MK_1.p.'!E8+'Lik._7.p., MK_2.p.'!E8+'Lik._8.p., MK_3.p.'!F8+'Lik._9.p., MK_4.p.'!D8 -> 195390 | G8: =+'Lik._8.p., MK_3.p.'!G8 -> 11404 | H8: =+'Lik._8.p., MK_3.p.'!H8 -> -1490 | I8: =+F8+G8+H8 -> 205304 | K8: =+B8+F8 -> 14954779 | L8: =+C8 -> 56461 | M8: =+D8+I8 -> 15400006 | N8: =+M8-K8 -> 445227 | P8: =+'Lik._6.p., MK_1.p.'!J8+'Lik._7.p., MK_2.p.'!J8+'Lik._8.p., MK_3.p.'!O8+'Lik._9.p., MK_4.p.'!H8 -> 7987810 | Q8: =+'Lik._8.p., MK_3.p.'!P8 -> 255102 | R8: =+P8+Q8 -> 8242912 | T8: =+K8+P8 -> 22942589 | U8: =+L8 -> 56461 | V8: =+M8+R8 -> 23642918
A9: Jūrmalas valstspilsēta | B9: =+'Lik._6.p., MK_1.p.'!B9+'Lik._7.p., MK_2.p.'!B9+'Lik._8.p., MK_3.p.'!B9+'Lik._9.p., MK_4.p.'!B9 -> 8500850 | C9: =+'Lik._6.p., MK_1.p.'!C9+'Lik._7.p., MK_2.p.'!C9+'Lik._8.p., MK_3.p.'!C9 -> 54480 | D9: =+'Lik._6.p., MK_1.p.'!B9+'Lik._7.p., MK_2.p.'!B9+'Lik._8.p., MK_3.p.'!D9+'Lik._9.p., MK_4.p.'!B9 -> 8748768 | F9: =+'Lik._6.p., MK_1.p.'!E9+'Lik._7.p., MK_2.p.'!E9+'Lik._8.p., MK_3.p.'!F9+'Lik._9.p., MK_4.p.'!D9 -> 79832 | G9: =+'Lik._8.p., MK_3.p.'!G9 -> 2552 | H9: =+'Lik._8.p., MK_3.p.'!H9 -> -179 | I9: =+F9+G9+H9 -> 82205 | K9: =+B9+F9 -> 8580682 | L9: =+C9 -> 54480 | M9: =+D9+I9 -> 8830973 | N9: =+M9-K9 -> 250291 | P9: =+'Lik._6.p., MK_1.p.'!J9+'Lik._7.p., MK_2.p.'!J9+'Lik._8.p., MK_3.p.'!O9+'Lik._9.p., MK_4.p.'!H9 -> 4959974 | Q9: =+'Lik._8.p., MK_3.p.'!P9 -> 139050 | R9: =+P9+Q9 -> 5099024 | T9: =+K9+P9 -> 13540656 | U9: =+L9 -> 54480 | V9: =+M9+R9 -> 13929997
A10: Liepājas valstspilsēta | B10: =+'Lik._6.p., MK_1.p.'!B10+'Lik._7.p., MK_2.p.'!B10+'Lik._8.p., MK_3.p.'!B10+'Lik._9.p., MK_4.p.'!B10 -> 14858536 | C10: =+'Lik._6.p., MK_1.p.'!C10+'Lik._7.p., MK_2.p.'!C10+'Lik._8.p., MK_3.p.'!C10 -> 82656 | D10: =+'Lik._6.p., MK_1.p.'!B10+'Lik._7.p., MK_2.p.'!B10+'Lik._8.p., MK_3.p.'!D10+'Lik._9.p., MK_4.p.'!B10 -> 15505592 | F10: =+'Lik._6.p., MK_1.p.'!E10+'Lik._7.p., MK_2.p.'!E10+'Lik._8.p., MK_3.p.'!F10+'Lik._9.p., MK_4.p.'!D10 -> 174086 | G10: =+'Lik._8.p., MK_3.p.'!G10 -> 7620 | H10: =+'Lik._8.p., MK_3.p.'!H10 -> -533 | I10: =+F10+G10+H10 -> 181173 | K10: =+B10+F10 -> 15032622 | L10: =+C10 -> 82656 | M10: =+D10+I10 -> 15686765 | N10: =+M10-K10 -> 654143 | P10: =+'Lik._6.p., MK_1.p.'!J10+'Lik._7.p., MK_2.p.'!J10+'Lik._8.p., MK_3.p.'!O10+'Lik._9.p., MK_4.p.'!H10 -> 8222647 | Q10: =+'Lik._8.p., MK_3.p.'!P10 -> 361810 | R10: =+P10+Q10 -> 8584457 | T10: =+K10+P10 -> 23255269 | U10: =+L10 -> 82656 | V10: =+M10+R10 -> 24271222
A11: Rēzeknes valstspilsēta | B11: =+'Lik._6.p., MK_1.p.'!B11+'Lik._7.p., MK_2.p.'!B11+'Lik._8.p., MK_3.p.'!B11+'Lik._9.p., MK_4.p.'!B11 -> 6945055 | C11: =+'Lik._6.p., MK_1.p.'!C11+'Lik._7.p., MK_2.p.'!C11+'Lik._8.p., MK_3.p.'!C11 -> 65569 | D11: =+'Lik._6.p., MK_1.p.'!B11+'Lik._7.p., MK_2.p.'!B11+'Lik._8.p., MK_3.p.'!D11+'Lik._9.p., MK_4.p.'!B11 -> 7345704 | F11: =+'Lik._6.p., MK_1.p.'!E11+'Lik._7.p., MK_2.p.'!E11+'Lik._8.p., MK_3.p.'!F11+'Lik._9.p., MK_4.p.'!D11 -> 98412 | G11: =+'Lik._8.p., MK_3.p.'!G11 -> 0 | H11: =+'Lik._8.p., MK_3.p.'!H11 -> -1377 | I11: =+F11+G11+H11 -> 97035 | K11: =+B11+F11 -> 7043467 | L11: =+C11 -> 65569 | M11: =+D11+I11 -> 7442739 | N11: =+M11-K11 -> 399272 | P11: =+'Lik._6.p., MK_1.p.'!J11+'Lik._7.p., MK_2.p.'!J11+'Lik._8.p., MK_3.p.'!O11+'Lik._9.p., MK_4.p.'!H11 -> 4120543 | Q11: =+'Lik._8.p., MK_3.p.'!P11 -> 212482 | R11: =+P11+Q11 -> 4333025 | T11: =+K11+P11 -> 11164010 | U11: =+L11 -> 65569 | V11: =+M11+R11 -> 11775764
A12: Ventspils valstspilsēta | B12: =+'Lik._6.p., MK_1.p.'!B12+'Lik._7.p., MK_2.p.'!B12+'Lik._8.p., MK_3.p.'!B12+'Lik._9.p., MK_4.p.'!B12 -> 7209841 | C12: =+'Lik._6.p., MK_1.p.'!C12+'Lik._7.p., MK_2.p.'!C12+'Lik._8.p., MK_3.p.'!C12 -> 37913 | D12: =+'Lik._6.p., MK_1.p.'!B12+'Lik._7.p., MK_2.p.'!B12+'Lik._8.p., MK_3.p.'!D12+'Lik._9.p., MK_4.p.'!B12 -> 7209841 | F12: =+'Lik._6.p., MK_1.p.'!E12+'Lik._7.p., MK_2.p.'!E12+'Lik._8.p., MK_3.p.'!F12+'Lik._9.p., MK_4.p.'!D12 -> 123440 | G12: =+'Lik._8.p., MK_3.p.'!G12 -> 0 | H12: =+'Lik._8.p., MK_3.p.'!H12 -> 0 | I12: =+F12+G12+H12 -> 123440 | K12: =+B12+F12 -> 7333281 | L12: =+C12 -> 37913 | M12: =+D12+I12 -> 7333281 | N12: =+M12-K12 -> 0 | P12: =+'Lik._6.p., MK_1.p.'!J12+'Lik._7.p., MK_2.p.'!J12+'Lik._8.p., MK_3.p.'!O12+'Lik._9.p., MK_4.p.'!H12 -> 4073143 | Q12: =+'Lik._8.p., MK_3.p.'!P12 -> 0 | R12: =+P12+Q12 -> 4073143 | T12: =+K12+P12 -> 11406424 | U12: =+L12 -> 37913 | V12: =+M12+R12 -> 11406424
A13: Aizkraukles novads | B13: =+'Lik._6.p., MK_1.p.'!B13+'Lik._7.p., MK_2.p.'!B13+'Lik._8.p., MK_3.p.'!B13+'Lik._9.p., MK_4.p.'!B13 -> 7284126 | C13: =+'Lik._6.p., MK_1.p.'!C13+'Lik._7.p., MK_2.p.'!C13+'Lik._8.p., MK_3.p.'!C13 -> 15912 | D13: =+'Lik._6.p., MK_1.p.'!B13+'Lik._7.p., MK_2.p.'!B13+'Lik._8.p., MK_3.p.'!D13+'Lik._9.p., MK_4.p.'!B13 -> 7630901 | F13: =+'Lik._6.p., MK_1.p.'!E13+'Lik._7.p., MK_2.p.'!E13+'Lik._8.p., MK_3.p.'!F13+'Lik._9.p., MK_4.p.'!D13 -> 29146 | G13: =+'Lik._8.p., MK_3.p.'!G13 -> 0 | H13: =+'Lik._8.p., MK_3.p.'!H13 -> 811 | I13: =+F13+G13+H13 -> 29957 | K13: =+B13+F13 -> 7313272 | L13: =+C13 -> 15912 | M13: =+D13+I13 -> 7660858 | N13: =+M13-K13 -> 347586 | P13: =+'Lik._6.p., MK_1.p.'!J13+'Lik._7.p., MK_2.p.'!J13+'Lik._8.p., MK_3.p.'!O13+'Lik._9.p., MK_4.p.'!H13 -> 3747131 | Q13: =+'Lik._8.p., MK_3.p.'!P13 -> 195041 | R13: =+P13+Q13 -> 3942172 | T13: =+K13+P13 -> 11060403 | U13: =+L13 -> 15912 | V13: =+M13+R13 -> 11603030
A14: Alūksnes novads | B14: =+'Lik._6.p., MK_1.p.'!B14+'Lik._7.p., MK_2.p.'!B14+'Lik._8.p., MK_3.p.'!B14+'Lik._9.p., MK_4.p.'!B14 -> 3096564 | C14: =+'Lik._6.p., MK_1.p.'!C14+'Lik._7.p., MK_2.p.'!C14+'Lik._8.p., MK_3.p.'!C14 -> 6906 | D14: =+'Lik._6.p., MK_1.p.'!B14+'Lik._7.p., MK_2.p.'!B14+'Lik._8.p., MK_3.p.'!D14+'Lik._9.p., MK_4.p.'!B14 -> 3096564 | F14: =+'Lik._6.p., MK_1.p.'!E14+'Lik._7.p., MK_2.p.'!E14+'Lik._8.p., MK_3.p.'!F14+'Lik._9.p., MK_4.p.'!D14 -> 12180 | G14: =+'Lik._8.p., MK_3.p.'!G14 -> 0 | H14: =+'Lik._8.p., MK_3.p.'!H14 -> 0 | I14: =+F14+G14+H14 -> 12180 | K14: =+B14+F14 -> 3108744 | L14: =+C14 -> 6906 | M14: =+D14+I14 -> 3108744 | N14: =+M14-K14 -> 0 | P14: =+'Lik._6.p., MK_1.p.'!J14+'Lik._7.p., MK_2.p.'!J14+'Lik._8.p., MK_3.p.'!O14+'Lik._9.p., MK_4.p.'!H14 -> 1676668 | Q14: =+'Lik._8.p., MK_3.p.'!P14 -> 0 | R14: =+P14+Q14 -> 1676668 | T14: =+K14+P14 -> 4785412 | U14: =+L14 -> 6906 | V14: =+M14+R14 -> 4785412
A15: Augšdaugavas novads | B15: =+'Lik._6.p., MK_1.p.'!B15+'Lik._7.p., MK_2.p.'!B15+'Lik._8.p., MK_3.p.'!B15+'Lik._9.p., MK_4.p.'!B15 -> 5178445 | C15: =+'Lik._6.p., MK_1.p.'!C15+'Lik._7.p., MK_2.p.'!C15+'Lik._8.p., MK_3.p.'!C15 -> 26907 | D15: =+'Lik._6.p., MK_1.p.'!B15+'Lik._7.p., MK_2.p.'!B15+'Lik._8.p., MK_3.p.'!D15+'Lik._9.p., MK_4.p.'!B15 -> 5534437 | F15: =+'Lik._6.p., MK_1.p.'!E15+'Lik._7.p., MK_2.p.'!E15+'Lik._8.p., MK_3.p.'!F15+'Lik._9.p., MK_4.p.'!D15 -> 4034 | G15: =+'Lik._8.p., MK_3.p.'!G15 -> 0 | H15: =+'Lik._8.p., MK_3.p.'!H15 -> 303 | I15: =+F15+G15+H15 -> 4337 | K15: =+B15+F15 -> 5182479 | L15: =+C15 -> 26907 | M15: =+D15+I15 -> 5538774 | N15: =+M15-K15 -> 356295 | P15: =+'Lik._6.p., MK_1.p.'!J15+'Lik._7.p., MK_2.p.'!J15+'Lik._8.p., MK_3.p.'!O15+'Lik._9.p., MK_4.p.'!H15 -> 2938895 | Q15: =+'Lik._8.p., MK_3.p.'!P15 -> 187368 | R15: =+P15+Q15 -> 3126263 | T15: =+K15+P15 -> 8121374 | U15: =+L15 -> 26907 | V15: =+M15+R15 -> 8665037
A16: Ādažu novads | B16: =+'Lik._6.p., MK_1.p.'!B16+'Lik._7.p., MK_2.p.'!B16+'Lik._8.p., MK_3.p.'!B16+'Lik._9.p., MK_4.p.'!B16 -> 5139232 | C16: =+'Lik._6.p., MK_1.p.'!C16+'Lik._7.p., MK_2.p.'!C16+'Lik._8.p., MK_3.p.'!C16 -> 24540 | D16: =+'Lik._6.p., MK_1.p.'!B16+'Lik._7.p., MK_2.p.'!B16+'Lik._8.p., MK_3.p.'!D16+'Lik._9.p., MK_4.p.'!B16 -> 5139232 | F16: =+'Lik._6.p., MK_1.p.'!E16+'Lik._7.p., MK_2.p.'!E16+'Lik._8.p., MK_3.p.'!F16+'Lik._9.p., MK_4.p.'!D16 -> 22802 | G16: =+'Lik._8.p., MK_3.p.'!G16 -> 0 | H16: =+'Lik._8.p., MK_3.p.'!H16 -> 0 | I16: =+F16+G16+H16 -> 22802 | K16: =+B16+F16 -> 5162034 | L16: =+C16 -> 24540 | M16: =+D16+I16 -> 5162034 | N16: =+M16-K16 -> 0 | P16: =+'Lik._6.p., MK_1.p.'!J16+'Lik._7.p., MK_2.p.'!J16+'Lik._8.p., MK_3.p.'!O16+'Lik._9.p., MK_4.p.'!H16 -> 2883518 | Q16: =+'Lik._8.p., MK_3.p.'!P16 -> 0 | R16: =+P16+Q16 -> 2883518 | T16: =+K16+P16 -> 8045552 | U16: =+L16 -> 24540 | V16: =+M16+R16 -> 8045552
A17: Balvu novads | B17: =+'Lik._6.p., MK_1.p.'!B17+'Lik._7.p., MK_2.p.'!B17+'Lik._8.p., MK_3.p.'!B17+'Lik._9.p., MK_4.p.'!B17 -> 4411808 | C17: =+'Lik._6.p., MK_1.p.'!C17+'Lik._7.p., MK_2.p.'!C17+'Lik._8.p., MK_3.p.'!C17 -> 9588 | D17: =+'Lik._6.p., MK_1.p.'!B17+'Lik._7.p., MK_2.p.'!B17+'Lik._8.p., MK_3.p.'!D17+'Lik._9.p., MK_4.p.'!B17 -> 4411808 | F17: =+'Lik._6.p., MK_1.p.'!E17+'Lik._7.p., MK_2.p.'!E17+'Lik._8.p., MK_3.p.'!F17+'Lik._9.p., MK_4.p.'!D17 -> 33192 | G17: =+'Lik._8.p., MK_3.p.'!G17 -> 0 | H17: =+'Lik._8.p., MK_3.p.'!H17 -> 0 | I17: =+F17+G17+H17 -> 33192 | K17: =+B17+F17 -> 4445000 | L17: =+C17 -> 9588 | M17: =+D17+I17 -> 4445000 | N17: =+M17-K17 -> 0 | P17: =+'Lik._6.p., MK_1.p.'!J17+'Lik._7.p., MK_2.p.'!J17+'Lik._8.p., MK_3.p.'!O17+'Lik._9.p., MK_4.p.'!H17 -> 2559793 | Q17: =+'Lik._8.p., MK_3.p.'!P17 -> 0 | R17: =+P17+Q17 -> 2559793 | T17: =+K17+P17 -> 7004793 | U17: =+L17 -> 9588 | V17: =+M17+R17 -> 7004793
... A47: Ventspils novads | B47: =+'Lik._6.p., MK_1.p.'!B47+'Lik._7.p., MK_2.p.'!B47+'Lik._8.p., MK_3.p.'!B47+'Lik._9.p., MK_4.p.'!B47 -> 2202260 | C47: =+'Lik._6.p., MK_1.p.'!C47+'Lik._7.p., MK_2.p.'!C47+'Lik._8.p., MK_3.p.'!C47 -> 4762 | D47: =+'Lik._6.p., MK_1.p.'!B47+'Lik._7.p., MK_2.p.'!B47+'Lik._8.p., MK_3.p.'!D47+'Lik._9.p., MK_4.p.'!B47 -> 2202260 | F47: =+'Lik._6.p., MK_1.p.'!E47+'Lik._7.p., MK_2.p.'!E47+'Lik._8.p., MK_3.p.'!F47+'Lik._9.p., MK_4.p.'!D47 -> 13530 | G47: =+'Lik._8.p., MK_3.p.'!G47 -> 0 | H47: =+'Lik._8.p., MK_3.p.'!H47 -> 0 | I47: =+F47+G47+H47 -> 13530 | K47: =+B47+F47 -> 2215790 | L47: =+C47 -> 4762 | M47: =+D47+I47 -> 2215790 | N47: =+M47-K47 -> 0 | P47: =+'Lik._6.p., MK_1.p.'!J47+'Lik._7.p., MK_2.p.'!J47+'Lik._8.p., MK_3.p.'!O47+'Lik._9.p., MK_4.p.'!H47 -> 1178105 | Q47: =+'Lik._8.p., MK_3.p.'!P47 -> 0 | R47: =+P47+Q47 -> 1178105 | T47: =+K47+P47 -> 3393895 | U47: =+L47 -> 4762 | V47: =+M47+R47 -> 3393895
A48: KOPĀ | B48: =SUM(B6:B47) -> 419315087 | C48: =SUM(C6:C47) -> 2144319 | D48: =SUM(D6:D47) -> 433902614 | F48: =SUM(F6:F47) -> 4806898 | G48: =SUM(G6:G47) -> 145154 | H48: =SUM(H6:H47) -> 0 | I48: =SUM(I6:I47) -> 4952052 | K48: =SUM(K6:K47) -> 424121985 | L48: =SUM(L6:L47) -> 2144319 | M48: =SUM(M6:M47) -> 438854666 | N48: =+M48-K48 -> 14732681 | P48: =SUM(P6:P47) -> 233090669 | Q48: =SUM(Q6:Q47) -> 7706296 | R48: =SUM(R6:R47) -> 240796965 | T48: =SUM(T6:T47) -> 657212654 | U48: =SUM(U6:U47) -> 2144319 | V48: =SUM(V6:V47) -> 679651631
A50: II. No 2026. gada 1. septembra līdz 2026. gada 31. decembrim
A51: Pašvaldības | B51: Pedagogu darba samaksai un valsts sociālās apdrošināšanas obligātajām iemaksām (Euro) | D51: Pavisam kopā (Euro) | F51: Pedagogu darba samaksai (Euro) | G51: Uzturēšanas izdevumiem (Euro) | H51: Uzturēšanas izdevumiem (Euro) | I51: Kopā (Euro) | K51: Pedagogu darba samaksai un valsts sociālās apdrošināšanas obligātajām iemaksām (Euro) | M51: Pavisam kopā (Euro)
A52: Nesadalītie līdzekļi | B52: =+'Lik._6.p., MK_1.p.'!B52+'Lik._7.p., MK_2.p.'!B52+'Lik._8.p., MK_3.p.'!B52+'Lik._9.p., MK_4.p.'!B52 -> 231284790 | D52: =+'Lik._6.p., MK_1.p.'!B52+'Lik._7.p., MK_2.p.'!B52+'Lik._8.p., MK_3.p.'!D52+'Lik._9.p., MK_4.p.'!B52 -> 238578554 | F52: =+'Lik._6.p., MK_1.p.'!E52+'Lik._7.p., MK_2.p.'!E52+'Lik._8.p., MK_3.p.'!F52+'Lik._9.p., MK_4.p.'!D52 -> 0 | G52: =+'Lik._8.p., MK_3.p.'!G52 -> 0 | H52: =+'Lik._8.p., MK_3.p.'!H52 -> 0 | I52: =+F52+G52+H52 -> 0 | K52: =+B52+F52 -> 231284790 | M52: =+D52+I52 -> 238578554 | N52: =+M52-K52 -> 7293764
A54: PAVISAM KOPĀ | B54: =+B48+B52 -> 650599877 | D54: =+D48+D52 -> 672481168 | F54: =+F48+F52 -> 4806898 | G54: =+G48+G52 -> 145154 | H54: =+H48+H52 -> 0 | I54: =+I48+I52 -> 4952052 | K54: =+K48+K52 -> 655406775 | M54: =+M48+M52 -> 677433220 | N54: =+M54-K54 -> 22026445

Sheet Lik._6.p., MK_1.p.
A1: Mērķdotācijas pašvaldībām – pašvaldību pamata un vispārējās vidējās izglītības iestāžu, pašvaldību speciālās izglītības iestāžu un pašvaldību profesionālās izglītības iestāžu pedagogu darba samaksai un valsts sociālās apdrošināšanas obligātajām iemaksām
A2: Pašvaldības | B2: Likuma "Par valsts budžetu 2026. gadam un budžeta ietvaru 2026., 2027. un 2028. gadam" 6. pielikums | E2: Izmaiņas | G2: MK rīkojuma "Par mērķdotāciju sadalījumu pašvaldībām – pašvaldību izglītības iestādēm 2026. gadam" 1. pielikums | J2: Aprēķins 4 mēnešiem (sept.-dec.) | L2: MK rīkojuma "Par mērķdotāciju sadalījumu pašvaldībām – pašvaldību izglītības iestādēm 2026. gadam" 1. pielikums
B3: I. No 2026. gada 1. janvāra līdz 2026. gada 31. augustam | J3: No 2026. gada 1.septembra līdz 2026. gada 31. decembrim | L3: 2026. gadam
B4: Euro | C4: tai skaitā par izglītības programmu īstenošanu valsts valodā mazākumtautību izglītojamiem | E4: Atbalsts UA (25-TA-2990) | G4: 25-TA-2992 | H4: tai skaitā par izglītības programmu īstenošanu valsts valodā mazākumtautību izglītojamiem | J4: Euro | L4: 26-TA-2175
E5: Euro | G5: Euro | L5: Euro | M5: tai skaitā par izglītības programmu īstenošanu valsts valodā mazākumtautību izglītojamiem
A6: Rīgas valstspilsēta | B6: 85949738 | C6: 441518 | E6: 2034854 | G6: =+B6+E6 -> 87984592 | H6: =+C6 -> 441518 | J6: 52496138 | L6: =+G6+J6 -> 140480730 | M6: =+H6 -> 441518
A7: Daugavpils valstspilsēta | B7: 11993870 | C7: 124184 | E7: 137352 | G7: =+B7+E7 -> 12131222 | H7: =+C7 -> 124184 | J7: 6967996 | L7: =+G7+J7 -> 19099218 | M7: =+H7 -> 124184
A8: Jelgavas valstspilsēta | B8: 11405659 | C8: 12305 | E8: 147000 | G8: =+B8+E8 -> 11552659 | H8: =+C8 -> 12305 | J8: 6279546 | L8: =+G8+J8 -> 17832205 | M8: =+H8 -> 12305
A9: Jūrmalas valstspilsēta | B9: 6305834 | C9: 25850 | E9: 60874 | G9: =+B9+E9 -> 6366708 | H9: =+C9 -> 25850 | J9: 3834195 | L9: =+G9+J9 -> 10200903 | M9: =+H9 -> 25850
A10: Liepājas valstspilsēta | B10: 10611198 | C10: 32778 | E10: 128750 | G10: =+B10+E10 -> 10739948 | H10: =+C10 -> 32778 | J10: 6035744 | L10: =+G10+J10 -> 16775692 | M10: =+H10 -> 32778
A11: Rēzeknes valstspilsēta | B11: 4938428 | C11: 37224 | E11: 72412 | G11: =+B11+E11 -> 5010840 | H11: =+C11 -> 37224 | J11: 3081732 | L11: =+G11+J11 -> 8092572 | M11: =+H11 -> 37224
A12: Ventspils valstspilsēta | B12: 5952001 | C12: 14373 | E12: 101244 | G12: =+B12+E12 -> 6053245 | H12: =+C12 -> 14373 | J12: 3427122 | L12: =+G12+J12 -> 9480367 | M12: =+H12 -> 14373
A13: Aizkraukles novads | B13: 5152036 | C13: 0 | E13: 22822 | G13: =+B13+E13 -> 5174858 | H13: =+C13 -> 0 | J13: 2697678 | L13: =+G13+J13 -> 7872536 | M13: =+H13 -> 0
A14: Alūksnes novads | B14: 2507156 | C14: 0 | E14: 8254 | G14: =+B14+E14 -> 2515410 | H14: =+C14 -> 0 | J14: 1367929 | L14: =+G14+J14 -> 3883339 | M14: =+H14 -> 0
A15: Augšdaugavas novads | B15: 3833941 | C15: 13029 | E15: 3806 | G15: =+B15+E15 -> 3837747 | H15: =+C15 -> 13029 | J15: 2268976 | L15: =+G15+J15 -> 6106723 | M15: =+H15 -> 13029
A16: Ādažu novads | B16: 4091448 | C16: 4964 | E16: 18394 | G16: =+B16+E16 -> 4109842 | H16: =+C16 -> 4964 | J16: 2330957 | L16: =+G16+J16 -> 6440799 | M16: =+H16 -> 4964
A17: Balvu novads | B17: 3751426 | C17: 104 | E17: 29866 | G17: =+B17+E17 -> 3781292 | H17: =+C17 -> 104 | J17: 2213600 | L17: =+G17+J17 -> 5994892 | M17: =+H17 -> 104
... A47: Ventspils novads | B47: 1841180 | C47: 104 | E47: 11294 | G47: =+B47+E47 -> 1852474 | H47: =+C47 -> 104 | J47: 1000758 | L47: =+G47+J47 -> 2853232 | M47: =+H47 -> 104
A48: KOPĀ | B48: =SUM(B6:B47) -> 312362072 | C48: =SUM(C6:C47) -> 772920 | E48: =SUM(E6:E47) -> 3698874 | G48: =SUM(G6:G47) -> 316060946 | H48: =SUM(H6:H47) -> 772920 | J48: =SUM(J6:J47) -> 179016291 | L48: =SUM(L6:L47) -> 495077237 | M48: =SUM(M6:M47) -> 772920
A50: II. No 2026. gada 1. septembra līdz 2026. gada 31. decembrim
A51: Pašvaldības | B51: Euro | E51: Pedagogu darba samaksas pieaugumam | G51: Euro
A52: Nesadalītie līdzekļi | B52: 177326002 | G52: =+B52+E52 -> 177326002
A54: PAVISAM KOPĀ | B54: =+B48+B52 -> 489688074 | E54: =+E48+E52 -> 3698874 | G54: =+G48+G52 -> 493386948

Sheet Lik._7.p., MK_2.p.
A1: Mērķdotācijas pašvaldībām – interešu izglītības programmu pedagogu daļējai darba samaksai un valsts sociālās apdrošināšanas obligātajām iemaksām
A2: Pašvaldības | B2: Likuma "Par valsts budžetu 2026. gadam un budžeta ietvaru 2026., 2027. un 2028. gadam" 7. pielikums | E2: Izmaiņas | G2: MK rīkojuma "Par mērķdotāciju sadalījumu pašvaldībām – pašvaldību izglītības iestādēm 2026. gadam" 2. pielikums | J2: Aprēķins 4 mēnešiem (sept.-dec.) | L2: MK rīkojuma "Par mērķdotāciju sadalījumu pašvaldībām – pašvaldību izglītības iestādēm 2026. gadam" 2. pielikums
B3: I. No 2026. gada 1. janvāra līdz 2026. gada 31. augustam | J3: No 2026. gada 1.septembra līdz 2026. gada 31. decembrim | L3: 2026. gadam
B4: Euro | C4: tai skaitā mazākumtautību valodas un kultūrvēstures interešu izglītības programmu īstenošanai | E4: Atbalsts UA (25-TA-2990) | G4: 25-TA-2992 | H4: tai skaitā mazākumtautību valodas un kultūrvēstures interešu izglītības programmu īstenošanai | J4: Euro | L4: 26-TA-2175
E5: Euro | G5: Euro | L5: Euro | M5: tai skaitā mazākumtautību valodas un kultūrvēstures interešu izglītības programmu īstenošanai
A6: Rīgas valstspilsēta | B6: 8770870 | C6: 490900 | E6: 180042 | G6: =+B6+E6 -> 8950912 | H6: =+C6 -> 490900 | J6: 4358116 | L6: =+G6+J6 -> 13309028 | M6: =+H6 -> 490900
A7: Daugavpils valstspilsēta | B7: 1069694 | C7: 64920 | E7: 11466 | G7: =+B7+E7 -> 1081160 | H7: =+C7 -> 64920 | J7: 469325 | L7: =+G7+J7 -> 1550485 | M7: =+H7 -> 64920
A8: Jelgavas valstspilsēta | B8: 894912 | C8: 44156 | E8: 12034 | G8: =+B8+E8 -> 906946 | H8: =+C8 -> 44156 | J8: 414841 | L8: =+G8+J8 -> 1321787 | M8: =+H8 -> 44156
A9: Jūrmalas valstspilsēta | B9: 514618 | C9: 28630 | E9: 4994 | G9: =+B9+E9 -> 519612 | H9: =+C9 -> 28630 | J9: 260307 | L9: =+G9+J9 -> 779919 | M9: =+H9 -> 28630
A10: Liepājas valstspilsēta | B10: 967986 | C10: 49878 | E10: 10784 | G10: =+B10+E10 -> 978770 | H10: =+C10 -> 49878 | J10: 484230 | L10: =+G10+J10 -> 1463000 | M10: =+H10 -> 49878
A11: Rēzeknes valstspilsēta | B11: 447718 | C11: 26690 | E11: 5790 | G11: =+B11+E11 -> 453508 | H11: =+C11 -> 26690 | J11: 231154 | L11: =+G11+J11 -> 684662 | M11: =+H11 -> 26690
A12: Ventspils valstspilsēta | B12: 434246 | C12: 23540 | E12: 7378 | G12: =+B12+E12 -> 441624 | H12: =+C12 -> 23540 | J12: 200352 | L12: =+G12+J12 -> 641976 | M12: =+H12 -> 23540
A13: Aizkraukles novads | B13: 317464 | C13: 15912 | E13: 1362 | G13: =+B13+E13 -> 318826 | H13: =+C13 -> 15912 | J13: 140163 | L13: =+G13+J13 -> 458989 | M13: =+H13 -> 15912
A14: Alūksnes novads | B14: 137904 | C14: 6906 | E14: 454 | G14: =+B14+E14 -> 138358 | H14: =+C14 -> 6906 | J14: 58583 | L14: =+G14+J14 -> 196941 | M14: =+H14 -> 6906
A15: Augšdaugavas novads | B15: 220862 | C15: 12534 | E15: 228 | G15: =+B15+E15 -> 221090 | H15: =+C15 -> 12534 | J15: 109898 | L15: =+G15+J15 -> 330988 | M15: =+H15 -> 12534
A16: Ādažu novads | B16: 380094 | C16: 19576 | E16: 1816 | G16: =+B16+E16 -> 381910 | H16: =+C16 -> 19576 | J16: 202689 | L16: =+G16+J16 -> 584599 | M16: =+H16 -> 19576
A17: Balvu novads | B17: 188196 | C17: 9484 | E17: 1590 | G17: =+B17+E17 -> 189786 | H17: =+C17 -> 9484 | J17: 85389 | L17: =+G17+J17 -> 275175 | M17: =+H17 -> 9484
... A47: Ventspils novads | B47: 92516 | C47: 4658 | E47: 568 | G47: =+B47+E47 -> 93084 | H47: =+C47 -> 4658 | J47: 41814 | L47: =+G47+J47 -> 134898 | M47: =+H47 -> 4658
A48: KOPĀ | B48: =SUM(B6:B47) -> 25531892 | C48: =SUM(C6:C47) -> 1357234 | E48: =SUM(E6:E47) -> 304460 | G48: =SUM(G6:G47) -> 25836352 | H48: =SUM(H6:H47) -> 1357234 | J48: =SUM(J6:J47) -> 12372693 | L48: =SUM(L6:L47) -> 38209045 | M48: =SUM(M6:M47) -> 1357234
A50: Pašvaldības | B50: II. No 2026. gada 1. septembra līdz 2026. gada 31. decembrim
B51: Euro | E51: Euro | G51: Euro
A52: Nesadalītie līdzekļi | B52: 13255309 | G52: =+B52+E52 -> 13255309
A54: PAVISAM KOPĀ | B54: =+B48+B52 -> 38787201 | E54: =+E48+E52 -> 304460 | G54: =+G48+G52 -> 39091661

Sheet Lik._8.p., MK_3.p.
A1: Mērķdotācijas pašvaldībām – pašvaldību speciālo pirmsskolas izglītības grupu pedagogu darba samaksai un valsts sociālās apdrošināšanas obligātajām iemaksām, speciālajām izglītības iestādēm, kas nodrošina internāta pakalpojumus
A2: Pašvaldības | B2: Likuma "Par valsts budžetu 2026. gadam un budžeta ietvaru 2026., 2027. un 2028. gadam" 8. pielikums | F2: Izmaiņas | K2: MK rīkojuma "Par mērķdotāciju sadalījumu pašvaldībām – pašvaldību izglītības iestādēm 2026. gadam" 3. pielikums | O2: Aprēķins 4 mēnešiem (sept.-dec.) | S2: MK rīkojuma "Par mērķdotāciju sadalījumu pašvaldībām – pašvaldību izglītības iestādēm 2026. gadam" 3. pielikums
B3: I. No 2026. gada 1. janvāra līdz 2026. gada 31. augustam | O3: No 2026. gada 1.septembra līdz 2026. gada 31. decembrim | S3: 2026. gadam
B4: Pedagogu darba samaksai un valsts sociālās apdrošināšanas obligātajām iemaksām (Euro) | C4: tai skaitā par izglītības programmu īstenošanu valsts valodā mazākumtautību izglītojamiem | D4: Pavisam kopā (Euro) | F4: Atbalsts UA (25-TA-2990) | H4: Grozījums MK 15.07.2016. not. Nr. 477 | I4: Kopā (Euro) | K4: 25-TA-2992 | O4: Pedagogu darba samaksai (Euro) | P4: Uzturēšanas izdevumiem (Euro) | Q4: Pavisam kopā (Euro) | S4: 26-TA-2175
F5: Pedagogu darba samaksai (Euro) | G5: Uzturēšanas izdevumiem (Euro) | H5: Tehniski precizējumi Uzturēšanas izdevumiem (Euro) | K5: Pedagogu darba samaksai un valsts sociālās apdrošināšanas obligātajām iemaksām (Euro) | L5: tai skaitā par izglītības programmu īstenošanu valsts valodā mazākumtautību izglītojamiem | M5: Pavisam kopā (Euro) | S5: Pedagogu darba samaksai (Euro) | T5: tai skaitā par izglītības programmu īstenošanu valsts valodā mazākumtautību izglītojamiem | U5: Pavisam kopā (Euro) | W5: uzt.
A6: Rīgas valstspilsēta | B6: 10691164 | C6: 6928 | D6: 14924175 | F6: 170216 | G6: 64644 | H6: 1950 | I6: =+F6+G6+H6 -> 236810 | K6: =+B6+F6 -> 10861380 | L6: =+C6 -> 6928 | M6: =+D6+I6 -> 15160985 | O6: 5405384 | P6: 2298578 | Q6: =+O6+P6 -> 7703962 | S6: =+K6+O6 -> 16266764 | T6: =+L6 -> 6928 | U6: =+M6+Q6 -> 22864947 | W6: =+U6-S6 -> 6598183
A7: Daugavpils valstspilsēta | B7: 1838458 | C7: 3826 | D7: 2653960 | F7: 7648 | G7: 2606 | H7: -199 | I7: =+F7+G7+H7 -> 10055 | K7: =+B7+F7 -> 1846106 | L7: =+C7 -> 3826 | M7: =+D7+I7 -> 2664015 | O7: 890677 | P7: 427863 | Q7: =+O7+P7 -> 1318540 | S7: =+K7+O7 -> 2736783 | T7: =+L7 -> 3826 | U7: =+M7+Q7 -> 3982555 | W7: =+U7-S7 -> 1245772
A8: Jelgavas valstspilsēta | B8: 1007108 | C8: 0 | D8: 1442421 | F8: 26604 | G8: 11404 | H8: -1490 | I8: =+F8+G8+H8 -> 36518 | K8: =+B8+F8 -> 1033712 | L8: =+C8 -> 0 | M8: =+D8+I8 -> 1478939 | O8: 557036 | P8: 255102 | Q8: =+O8+P8 -> 812138 | S8: =+K8+O8 -> 1590748 | T8: =+L8 -> 0 | U8: =+M8+Q8 -> 2291077 | W8: =+U8-S8 -> 700329
A9: Jūrmalas valstspilsēta | B9: 609512 | C9: 0 | D9: 857430 | F9: 5932 | G9: 2552 | H9: -179 | I9: =+F9+G9+H9 -> 8305 | K9: =+B9+F9 -> 615444 | L9: =+C9 -> 0 | M9: =+D9+I9 -> 865735 | O9: 306856 | P9: 139050 | Q9: =+O9+P9 -> 445906 | S9: =+K9+O9 -> 922300 | T9: =+L9 -> 0 | U9: =+M9+Q9 -> 1311641 | W9: =+U9-S9 -> 389341
A10: Liepājas valstspilsēta | B10: 1598394 | C10: 0 | D10: 2245450 | F10: 18888 | G10: 7620 | H10: -533 | I10: =+F10+G10+H10 -> 25975 | K10: =+B10+F10 -> 1617282 | L10: =+C10 -> 0 | M10: =+D10+I10 -> 2271425 | O10: 857854 | P10: 361810 | Q10: =+O10+P10 -> 1219664 | S10: =+K10+O10 -> 2475136 | T10: =+L10 -> 0 | U10: =+M10+Q10 -> 3491089 | W10: =+U10-S10 -> 1015953
A11: Rēzeknes valstspilsēta | B11: 866739 | C11: 1655 | D11: 1267388 | F11: 0 | G11: 0 | H11: -1377 | I11: =+F11+G11+H11 -> -1377 | K11: =+B11+F11 -> 866739 | L11: =+C11 -> 1655 | M11: =+D11+I11 -> 1266011 | O11: 459081 | P11: 212482 | Q11: =+O11+P11 -> 671563 | S11: =+K11+O11 -> 1325820 | T11: =+L11 -> 1655 | U11: =+M11+Q11 -> 1937574 | W11: =+U11-S11 -> 611754
A12: Ventspils valstspilsēta | B12: 16694 | C12: 0 | D12: 16694 | F12: 0 | G12: 0 | H12: 0 | I12: =+F12+G12+H12 -> 0 | K12: =+B12+F12 -> 16694 | L12: =+C12 -> 0 | M12: =+D12+I12 -> 16694 | O12: 11340 | P12: 0 | Q12: =+O12+P12 -> 11340 | S12: =+K12+O12 -> 28034 | T12: =+L12 -> 0 | U12: =+M12+Q12 -> 28034 | W12: =+U12-S12 -> 0
A13: Aizkraukles novads | B13: 1002476 | C13: 0 | D13: 1349251 | F13: 0 | G13: 0 | H13: 811 | I13: =+F13+G13+H13 -> 811 | K13: =+B13+F13 -> 1002476 | L13: =+C13 -> 0 | M13: =+D13+I13 -> 1350062 | O13: 524918 | P13: 195041 | Q13: =+O13+P13 -> 719959 | S13: =+K13+O13 -> 1527394 | T13: =+L13 -> 0 | U13: =+M13+Q13 -> 2070021 | W13: =+U13-S13 -> 542627
A14: Alūksnes novads | B14: 20854 | C14: 0 | D14: 20854 | F14: 0 | G14: 0 | H14: 0 | I14: =+F14+G14+H14 -> 0 | K14: =+B14+F14 -> 20854 | L14: =+C14 -> 0 | M14: =+D14+I14 -> 20854 | O14: 43905 | P14: 0 | Q14: =+O14+P14 -> 43905 | S14: =+K14+O14 -> 64759 | T14: =+L14 -> 0 | U14: =+M14+Q14 -> 64759 | W14: =+U14-S14 -> 0
A15: Augšdaugavas novads | B15: 717384 | C15: 1344 | D15: 1073376 | F15: 0 | G15: 0 | H15: 303 | I15: =+F15+G15+H15 -> 303 | K15: =+B15+F15 -> 717384 | L15: =+C15 -> 1344 | M15: =+D15+I15 -> 1073679 | O15: 366272 | P15: 187368 | Q15: =+O15+P15 -> 553640 | S15: =+K15+O15 -> 1083656 | T15: =+L15 -> 1344 | U15: =+M15+Q15 -> 1627319 | W15: =+U15-S15 -> 543663
A16: Ādažu novads | B16: 0 | C16: 0 | D16: 0 | F16: 0 | G16: 0 | H16: 0 | I16: =+F16+G16+H16 -> 0 | K16: =+B16+F16 -> 0 | L16: =+C16 -> 0 | M16: =+D16+I16 -> 0 | O16: 0 | P16: 0 | Q16: =+O16+P16 -> 0 | S16: =+K16+O16 -> 0 | T16: =+L16 -> 0 | U16: =+M16+Q16 -> 0 | W16: =+U16-S16 -> 0
A17: Balvu novads | B17: 0 | C17: 0 | D17: 0 | F17: 0 | G17: 0 | H17: 0 | I17: =+F17+G17+H17 -> 0 | K17: =+B17+F17 -> 0 | L17: =+C17 -> 0 | M17: =+D17+I17 -> 0 | O17: 0 | P17: 0 | Q17: =+O17+P17 -> 0 | S17: =+K17+O17 -> 0 | T17: =+L17 -> 0 | U17: =+M17+Q17 -> 0 | W17: =+U17-S17 -> 0
... A47: Ventspils novads | B47: 0 | C47: 0 | D47: 0 | F47: 0 | G47: 0 | H47: 0 | I47: =+F47+G47+H47 -> 0 | K47: =+B47+F47 -> 0 | L47: =+C47 -> 0 | M47: =+D47+I47 -> 0 | O47: 0 | P47: 0 | Q47: =+O47+P47 -> 0 | S47: =+K47+O47 -> 0 | T47: =+L47 -> 0 | U47: =+M47+Q47 -> 0 | W47: =+U47-S47 -> 0
A48: KOPĀ | B48: =SUM(B6:B47) -> 34502379 | C48: =SUM(C6:C47) -> 14165 | D48: =SUM(D6:D47) -> 49089906 | F48: =SUM(F6:F47) -> 353178 | G48: =SUM(G6:G47) -> 145154 | H48: =SUM(H6:H47) -> 0 | I48: =SUM(I6:I47) -> 498332 | K48: =SUM(K6:K47) -> 34855557 | L48: =SUM(L6:L47) -> 14165 | M48: =SUM(M6:M47) -> 49588238 | O48: =SUM(O6:O47) -> 17613122 | P48: =SUM(P6:P47) -> 7706296 | Q48: =SUM(Q6:Q47) -> 25319418 | S48: =SUM(S6:S47) -> 52468679 | T48: =SUM(T6:T47) -> 14165 | U48: =SUM(U6:U47) -> 74907656 | W48: =+U48-S48 -> 22438977
A50: Pašvaldības | B50: II. No 2026. gada 1. septembra līdz 2026. gada 31. decembrim
B51: Pedagogu darba samaksai un valsts sociālās apdrošināšanas obligātajām iemaksām (Euro) | D51: Pavisam kopā (Euro) | F51: Pedagogu darba samaksai (Euro) | G51: Uzturēšanas izdevumiem (Euro) | H51: Uzturēšanas izdevumiem (Euro) | I51: Kopā (Euro) | K51: Pedagogu darba samaksai un valsts sociālās apdrošināšanas obligātajām iemaksām (Euro) | M51: Pavisam kopā (Euro)
A52: Nesadalītie līdzekļi | B52: 17244107 | D52: 24537871 | I52: =+F52+G52+H52 -> 0 | K52: =+B52+F52 -> 17244107 | M52: =+D52+I52 -> 24537871
A54: PAVISAM KOPĀ | B54: =+B48+B52 -> 51746486 | D54: =+D48+D52 -> 73627777 | F54: =+F48+F52 -> 353178 | G54: =+G48+G52 -> 145154 | H54: =+H48+H52 -> 0 | I54: =+I48+I52 -> 498332 | K54: =+K48+K52 -> 52099664 | M54: =+M48+M52 -> 74126109

Sheet Lik._9.p., MK_4.p.
A1: Mērķdotācijas pašvaldībām – pašvaldību izglītības iestādēs bērnu no piecu gadu vecuma izglītošanā nodarbināto pedagogu darba samaksai un valsts sociālās apdrošināšanas obligātajām iemaksām
A2: Pašvaldības | B2: Likuma "Par valsts budžetu 2026. gadam un budžeta ietvaru 2026., 2027. un 2028. gadam" 9. pielikums | D2: Izmaiņas | F2: MK rīkojuma "Par mērķdotāciju sadalījumu pašvaldībām – pašvaldību izglītības iestādēm 2026. gadam" 4. pielikums | H2: Aprēķins 4 mēnešiem (sept.-dec.) | J2: MK rīkojuma "Par mērķdotāciju sadalījumu pašvaldībām – pašvaldību izglītības iestādēm 2026. gadam" 4. pielikums
B3: I. No 2026. gada 1. janvāra līdz 2026. gada 31. augustam | H3: No 2026. gada 1.septembra līdz 2026. gada 31. decembrim | J3: 2026. gadam
B4: Euro | D4: Atbalsts UA (25-TA-2990) | F4: 25-TA-2992 | H4: Euro | J4: 26-TA-2175
D5: Euro | F5: Euro | J5: Euro
A6: Rīgas valstspilsēta | B6: 10085692 | D6: 183786 | F6: =+B6+D6 -> 10269478 | H6: 5466021 | J6: =+F6+H6 -> 15735499
A7: Daugavpils valstspilsēta | B7: 2022584 | D7: 31424 | F7: =+B7+D7 -> 2054008 | H7: 965274 | J7: =+F7+H7 -> 3019282
A8: Jelgavas valstspilsēta | B8: 1451710 | D8: 9752 | F8: =+B8+D8 -> 1461462 | H8: 736387 | J8: =+F8+H8 -> 2197849
A9: Jūrmalas valstspilsēta | B9: 1070886 | D9: 8032 | F9: =+B9+D9 -> 1078918 | H9: 558616 | J9: =+F9+H9 -> 1637534
A10: Liepājas valstspilsēta | B10: 1680958 | D10: 15664 | F10: =+B10+D10 -> 1696622 | H10: 844819 | J10: =+F10+H10 -> 2541441
A11: Rēzeknes valstspilsēta | B11: 692170 | D11: 20210 | F11: =+B11+D11 -> 712380 | H11: 348576 | J11: =+F11+H11 -> 1060956
A12: Ventspils valstspilsēta | B12: 806900 | D12: 14818 | F12: =+B12+D12 -> 821718 | H12: 434329 | J12: =+F12+H12 -> 1256047
A13: Aizkraukles novads | B13: 812150 | D13: 4962 | F13: =+B13+D13 -> 817112 | H13: 384372 | J13: =+F13+H13 -> 1201484
A14: Alūksnes novads | B14: 430650 | D14: 3472 | F14: =+B14+D14 -> 434122 | H14: 206251 | J14: =+F14+H14 -> 640373
A15: Augšdaugavas novads | B15: 406258 | D15: 0 | F15: =+B15+D15 -> 406258 | H15: 193749 | J15: =+F15+H15 -> 600007
A16: Ādažu novads | B16: 667690 | D16: 2592 | F16: =+B16+D16 -> 670282 | H16: 349872 | J16: =+F16+H16 -> 1020154
A17: Balvu novads | B17: 472186 | D17: 1736 | F17: =+B17+D17 -> 473922 | H17: 260804 | J17: =+F17+H17 -> 734726
... A47: Ventspils novads | B47: 268564 | D47: 1668 | F47: =+B47+D47 -> 270232 | H47: 135533 | J47: =+F47+H47 -> 405765
A48: KOPĀ | B48: =SUM(B6:B47) -> 46918744 | D48: =SUM(D6:D47) -> 450386 | F48: =SUM(F6:F47) -> 47369130 | H48: =SUM(H6:H47) -> 24088563 | J48: =SUM(J6:J47) -> 71457693
A50: Pašvaldības | B50: II. No 2026. gada 1. septembra līdz 2026. gada 31. decembrim
B51: Euro | D51: Euro | F51: Euro
A52: Nesadalītie līdzekļi | B52: 23459372 | F52: =+B52+D52 -> 23459372
A54: PAVISAM KOPĀ | B54: =+B48+B52 -> 70378116 | D54: =+D48+D52 -> 450386 | F54: =+F48+F52 -> 70828502
