Workbook

Sheet 62_konsolid
A1: 24-TA-2930
A2: 62. Mērķdotācijas pašvaldībām – IZM
A4: Programmas kods | B4: Nosaukums | C4: Apstiprināts 2025. gada budžeta likumā (zemākā vienas darba stundas likme 9,54 euro/h, bez finansējuma UA) | D4: Pedagogu darba samaksas pieaugumam (zemākā vienas darba stundas likme 9,79 euro/h, bez finansējuma UA) | E4: Pedagogu darba samaksi par atbalstu UA (zemākā vienas darba stundas likme 9,79 euro/h) | F4: t. sk. (skat. tiesību akta projektu 24-TA-2449) | I4: Precizēts 2025. gada budžets
F5: Zemākā vienas darba stundas likme 9,54 euro/h (MK 01.10.2024. prot. Nr. 40, 31.§, 4.punkts) (24-TA-2245) | G5: Zemākās vienas darba stundas likmes pieaugumam par 2,6% (proj. 24-TA-2552) | H5: Uzturēšanas izdevumi (MK 01.10.2024. prot. Nr. 40, 31.§, 4.punkts) (24-TA-2245)
B7: 62. Mērķdotācijas pašvaldībām | C7: =SUM(C8:C10) -> 615811053 | D7: =SUM(D8:D10) -> 15477913 | E7: =SUM(E8:E10) -> 4743106 | F7: =SUM(F8:F10) -> 4489418 | G7: =SUM(G8:G10) -> 116908 | H7: =SUM(H8:H10) -> 136780 | I7: =SUM(I8:I10) -> 636032072
A8: 01.00.00 | B8: Mērķdotācijas izglītības pasākumiem | C8: =+'Lik._8.p., MK_3.p.'!D54 -> 72633320 | D8: =+'Lik._8.p., MK_3.p.'!F54 -> 1341827 | E8: =+'Lik._8.p., MK_3.p.'!G54+'Lik._8.p., MK_3.p.'!H54 -> 471499 | F8: 326170 | G8: 8549 | H8: 136780 | I8: =+C8+D8+E8 -> 74446646
A9: 05.00.00 | B9: Mērķdotācijas pašvaldībām – pašvaldību izglītības iestāžu pedagogu darba samaksai un valsts sociālās apdrošināšanas obligātajām iemaksām | C9: =+'Lik._6.p., MK_1.p.'!B54+'Lik._7.p., MK_2.p.'!B54 -> 472197088 | D9: =+'Lik._6.p., MK_1.p.'!E54+'Lik._7.p., MK_2.p.'!E54 -> 12288083 | E9: =+'Lik._6.p., MK_1.p.'!F54+'Lik._7.p., MK_2.p.'!F54 -> 3745288 | F9: 3650282 | G9: 95006 | I9: =+C9+D9+E9 -> 488230459
A10: 10.00.00 | B10: Mērķdotācijas pašvaldībām – pašvaldību izglītības iestādēs bērnu no piecu gadu vecuma izglītošanā nodarbināto pedagogu darba samaksai un valsts sociālās apdrošināšanas obligātajām iemaksām | C10: =+'Lik._9.p., MK_4.p.'!B54 -> 70980645 | D10: =+'Lik._9.p., MK_4.p.'!D54 -> 1848003 | E10: =+'Lik._9.p., MK_4.p.'!E54 -> 526319 | F10: 512966 | G10: 13353 | I10: =+C10+D10+E10 -> 73354967
A12: Mērķdotācijas sadalījums pašvaldībām sagatavots atbilstoši normatīvo regulējumu projektiem:
A13: 24-TA-2552 "Grozījumi Ministru kabineta 2016. gada 5. jūlija noteikumos Nr. 445 "Pedagogu darba samaksas noteikumi""
A14: 24-TA-2554 "Grozījumi Ministru kabineta 2022. gada 21. jūnija noteikumos Nr. 376 "Kārtība, kādā aprēķina un sadala valsts budžeta mērķdotāciju pedagogu darba samaksai pašvaldību vispārējās izglītības iestādēs un valsts augstskolu vispārējās vidējās izglītības iestādēs""
A15: 24-TA-2553 "Grozījumi Ministru kabineta 2016. gada 15. jūlija noteikumos Nr. 477 "Speciālās izglītības iestāžu un vispārējās izglītības iestāžu speciālās izglītības klašu (grupu) finansēšanas kārtība""
A16: 24-TA-2557 "Par apropriācijas pārdali no budžeta resora "74. Gadskārtējā valsts budžeta izpildes procesā pārdalāmais finansējums" programmas 23.00.00 "Valsts atbalsta programmas un citi valsts nozīmes pasākumi""
A17: 24-TA-2449 "Par apropriācijas pārdali no budžeta resora "74. Gadskārtējā valsts budžeta izpildes procesā pārdalāmais finansējums" programmas 17.00.00 "Finansējums Ukrainas civiliedzīvotāju atbalsta likumā noteikto pasākumu īstenošanai""

Sheet Pielikumi kopā
A1: Mērķdotācijas pašvaldībām – pašvaldību speciālo pirmsskolas izglītības grupu pedagogu darba samaksai un valsts sociālās apdrošināšanas obligātajām iemaksām, speciālajām izglītības iestādēm, kas nodrošina internāta pakalpojumus
A2: Likuma "Par valsts budžetu 2025. gadam un budžeta ietvaru 2025., 2026. un 2027. gadam" pielikumi kopā | F2: Grozījumi | J2: MK rīkojuma "Par mērķdotāciju sadalījumu pašvaldībām – pašvaldību izglītības iestādēm 2025. gadam" pielikumi kopā
A3: I. No 2025. gada 1. janvāra līdz 2025. gada 31. augustam
A4: Republikas pilsētas un novadi | B4: Pedagogu darba samaksai un valsts sociālās apdrošināšanas obligātajām iemaksām (Euro) | C4: tai skaitā par izglītības programmu īstenošanu valsts valodā mazākumtautību izglītojamiem | D4: Pavisam kopā (Euro) | F4: Pedagogu darba samaksas pieaugumam | G4: Pedagogu darba samaksa UA civiliedzīvotājiem | H4: Uzturēšana UA civiliedzīvotājiem | J4: Pedagogu darba samaksai un valsts sociālās apdrošināšanas obligātajām iemaksām (Euro) | K4: tai skaitā par izglītības programmu īstenošanu valsts valodā mazākumtautību izglītojamiem | L4: Pavisam kopā (Euro)
A5: Rīgas valstspilsēta | B5: =+'Lik._6.p., MK_1.p.'!B5+'Lik._7.p., MK_2.p.'!B5+'Lik._8.p., MK_3.p.'!B5+'Lik._9.p., MK_4.p.'!B5 -> 110708587 | C5: =+'Lik._6.p., MK_1.p.'!C5+'Lik._7.p., MK_2.p.'!C5+'Lik._8.p., MK_3.p.'!C5 -> 813825 | D5: =+'Lik._6.p., MK_1.p.'!B5+'Lik._7.p., MK_2.p.'!B5+'Lik._8.p., MK_3.p.'!D5+'Lik._9.p., MK_4.p.'!B5 -> 114761629 | F5: =+'Lik._6.p., MK_1.p.'!E5+'Lik._7.p., MK_2.p.'!E5+'Lik._8.p., MK_3.p.'!F5+'Lik._9.p., MK_4.p.'!D5 -> 2883201 | G5: =+'Lik._6.p., MK_1.p.'!F5+'Lik._7.p., MK_2.p.'!F5+'Lik._8.p., MK_3.p.'!G5+'Lik._9.p., MK_4.p.'!E5 -> 2404885 | H5: =+'Lik._8.p., MK_3.p.'!H5 -> 56331 | J5: =+B5+F5+G5 -> 115996673 | K5: =+'Lik._6.p., MK_1.p.'!I5+'Lik._7.p., MK_2.p.'!I5+'Lik._8.p., MK_3.p.'!K5 -> 834840 | L5: =+D5+F5+G5+H5 -> 120106046
A6: Daugavpils valstspilsēta | B6: =+'Lik._6.p., MK_1.p.'!B6+'Lik._7.p., MK_2.p.'!B6+'Lik._8.p., MK_3.p.'!B6+'Lik._9.p., MK_4.p.'!B6 -> 16360670 | C6: =+'Lik._6.p., MK_1.p.'!C6+'Lik._7.p., MK_2.p.'!C6+'Lik._8.p., MK_3.p.'!C6 -> 200479 | D6: =+'Lik._6.p., MK_1.p.'!B6+'Lik._7.p., MK_2.p.'!B6+'Lik._8.p., MK_3.p.'!D6+'Lik._9.p., MK_4.p.'!B6 -> 17127056 | F6: =+'Lik._6.p., MK_1.p.'!E6+'Lik._7.p., MK_2.p.'!E6+'Lik._8.p., MK_3.p.'!F6+'Lik._9.p., MK_4.p.'!D6 -> 426028 | G6: =+'Lik._6.p., MK_1.p.'!F6+'Lik._7.p., MK_2.p.'!F6+'Lik._8.p., MK_3.p.'!G6+'Lik._9.p., MK_4.p.'!E6 -> 173332 | H6: =+'Lik._8.p., MK_3.p.'!H6 -> 0 | J6: =+B6+F6+G6 -> 16960030 | K6: =+'Lik._6.p., MK_1.p.'!I6+'Lik._7.p., MK_2.p.'!I6+'Lik._8.p., MK_3.p.'!K6 -> 205657 | L6: =+D6+F6+G6+H6 -> 17726416
A7: Jelgavas valstspilsēta | B7: =+'Lik._6.p., MK_1.p.'!B7+'Lik._7.p., MK_2.p.'!B7+'Lik._8.p., MK_3.p.'!B7+'Lik._9.p., MK_4.p.'!B7 -> 13595944 | C7: =+'Lik._6.p., MK_1.p.'!C7+'Lik._7.p., MK_2.p.'!C7+'Lik._8.p., MK_3.p.'!C7 -> 40406 | D7: =+'Lik._6.p., MK_1.p.'!B7+'Lik._7.p., MK_2.p.'!B7+'Lik._8.p., MK_3.p.'!D7+'Lik._9.p., MK_4.p.'!B7 -> 14001481 | F7: =+'Lik._6.p., MK_1.p.'!E7+'Lik._7.p., MK_2.p.'!E7+'Lik._8.p., MK_3.p.'!F7+'Lik._9.p., MK_4.p.'!D7 -> 354146 | G7: =+'Lik._6.p., MK_1.p.'!F7+'Lik._7.p., MK_2.p.'!F7+'Lik._8.p., MK_3.p.'!G7+'Lik._9.p., MK_4.p.'!E7 -> 157063 | H7: =+'Lik._8.p., MK_3.p.'!H7 -> 11521 | J7: =+B7+F7+G7 -> 14107153 | K7: =+'Lik._6.p., MK_1.p.'!I7+'Lik._7.p., MK_2.p.'!I7+'Lik._8.p., MK_3.p.'!K7 -> 41449 | L7: =+D7+F7+G7+H7 -> 14524211
A8: Jūrmalas valstspilsēta | B8: =+'Lik._6.p., MK_1.p.'!B8+'Lik._7.p., MK_2.p.'!B8+'Lik._8.p., MK_3.p.'!B8+'Lik._9.p., MK_4.p.'!B8 -> 7749122 | C8: =+'Lik._6.p., MK_1.p.'!C8+'Lik._7.p., MK_2.p.'!C8+'Lik._8.p., MK_3.p.'!C8 -> 42296 | D8: =+'Lik._6.p., MK_1.p.'!B8+'Lik._7.p., MK_2.p.'!B8+'Lik._8.p., MK_3.p.'!D8+'Lik._9.p., MK_4.p.'!B8 -> 7991491 | F8: =+'Lik._6.p., MK_1.p.'!E8+'Lik._7.p., MK_2.p.'!E8+'Lik._8.p., MK_3.p.'!F8+'Lik._9.p., MK_4.p.'!D8 -> 201748 | G8: =+'Lik._6.p., MK_1.p.'!F8+'Lik._7.p., MK_2.p.'!F8+'Lik._8.p., MK_3.p.'!G8+'Lik._9.p., MK_4.p.'!E8 -> 88441 | H8: =+'Lik._8.p., MK_3.p.'!H8 -> 2551 | J8: =+B8+F8+G8 -> 8039311 | K8: =+'Lik._6.p., MK_1.p.'!I8+'Lik._7.p., MK_2.p.'!I8+'Lik._8.p., MK_3.p.'!K8 -> 43389 | L8: =+D8+F8+G8+H8 -> 8284231
A9: Liepājas valstspilsēta | B9: =+'Lik._6.p., MK_1.p.'!B9+'Lik._7.p., MK_2.p.'!B9+'Lik._8.p., MK_3.p.'!B9+'Lik._9.p., MK_4.p.'!B9 -> 14252084 | C9: =+'Lik._6.p., MK_1.p.'!C9+'Lik._7.p., MK_2.p.'!C9+'Lik._8.p., MK_3.p.'!C9 -> 56912 | D9: =+'Lik._6.p., MK_1.p.'!B9+'Lik._7.p., MK_2.p.'!B9+'Lik._8.p., MK_3.p.'!D9+'Lik._9.p., MK_4.p.'!B9 -> 14907529 | F9: =+'Lik._6.p., MK_1.p.'!E9+'Lik._7.p., MK_2.p.'!E9+'Lik._8.p., MK_3.p.'!F9+'Lik._9.p., MK_4.p.'!D9 -> 371200 | G9: =+'Lik._6.p., MK_1.p.'!F9+'Lik._7.p., MK_2.p.'!F9+'Lik._8.p., MK_3.p.'!G9+'Lik._9.p., MK_4.p.'!E9 -> 156041 | H9: =+'Lik._8.p., MK_3.p.'!H9 -> 2611 | J9: =+B9+F9+G9 -> 14779325 | K9: =+'Lik._6.p., MK_1.p.'!I9+'Lik._7.p., MK_2.p.'!I9+'Lik._8.p., MK_3.p.'!K9 -> 58381 | L9: =+D9+F9+G9+H9 -> 15437381
A10: Rēzeknes valstspilsēta | B10: =+'Lik._6.p., MK_1.p.'!B10+'Lik._7.p., MK_2.p.'!B10+'Lik._8.p., MK_3.p.'!B10+'Lik._9.p., MK_4.p.'!B10 -> 6706306 | C10: =+'Lik._6.p., MK_1.p.'!C10+'Lik._7.p., MK_2.p.'!C10+'Lik._8.p., MK_3.p.'!C10 -> 55192 | D10: =+'Lik._6.p., MK_1.p.'!B10+'Lik._7.p., MK_2.p.'!B10+'Lik._8.p., MK_3.p.'!D10+'Lik._9.p., MK_4.p.'!B10 -> 7055672 | F10: =+'Lik._6.p., MK_1.p.'!E10+'Lik._7.p., MK_2.p.'!E10+'Lik._8.p., MK_3.p.'!F10+'Lik._9.p., MK_4.p.'!D10 -> 174655 | G10: =+'Lik._6.p., MK_1.p.'!F10+'Lik._7.p., MK_2.p.'!F10+'Lik._8.p., MK_3.p.'!G10+'Lik._9.p., MK_4.p.'!E10 -> 88333 | H10: =+'Lik._8.p., MK_3.p.'!H10 -> 2314 | J10: =+B10+F10+G10 -> 6969294 | K10: =+'Lik._6.p., MK_1.p.'!I10+'Lik._7.p., MK_2.p.'!I10+'Lik._8.p., MK_3.p.'!K10 -> 56617 | L10: =+D10+F10+G10+H10 -> 7320974
A11: Ventspils valstspilsēta | B11: =+'Lik._6.p., MK_1.p.'!B11+'Lik._7.p., MK_2.p.'!B11+'Lik._8.p., MK_3.p.'!B11+'Lik._9.p., MK_4.p.'!B11 -> 6600354 | C11: =+'Lik._6.p., MK_1.p.'!C11+'Lik._7.p., MK_2.p.'!C11+'Lik._8.p., MK_3.p.'!C11 -> 26307 | D11: =+'Lik._6.p., MK_1.p.'!B11+'Lik._7.p., MK_2.p.'!B11+'Lik._8.p., MK_3.p.'!D11+'Lik._9.p., MK_4.p.'!B11 -> 6600354 | F11: =+'Lik._6.p., MK_1.p.'!E11+'Lik._7.p., MK_2.p.'!E11+'Lik._8.p., MK_3.p.'!F11+'Lik._9.p., MK_4.p.'!D11 -> 171745 | G11: =+'Lik._6.p., MK_1.p.'!F11+'Lik._7.p., MK_2.p.'!F11+'Lik._8.p., MK_3.p.'!G11+'Lik._9.p., MK_4.p.'!E11 -> 113070 | H11: =+'Lik._8.p., MK_3.p.'!H11 -> 0 | J11: =+B11+F11+G11 -> 6885169 | K11: =+'Lik._6.p., MK_1.p.'!I11+'Lik._7.p., MK_2.p.'!I11+'Lik._8.p., MK_3.p.'!K11 -> 26985 | L11: =+D11+F11+G11+H11 -> 6885169
A12: Aizkraukles novads | B12: =+'Lik._6.p., MK_1.p.'!B12+'Lik._7.p., MK_2.p.'!B12+'Lik._8.p., MK_3.p.'!B12+'Lik._9.p., MK_4.p.'!B12 -> 7011191 | C12: =+'Lik._6.p., MK_1.p.'!C12+'Lik._7.p., MK_2.p.'!C12+'Lik._8.p., MK_3.p.'!C12 -> 0 | D12: =+'Lik._6.p., MK_1.p.'!B12+'Lik._7.p., MK_2.p.'!B12+'Lik._8.p., MK_3.p.'!D12+'Lik._9.p., MK_4.p.'!B12 -> 7393039 | F12: =+'Lik._6.p., MK_1.p.'!E12+'Lik._7.p., MK_2.p.'!E12+'Lik._8.p., MK_3.p.'!F12+'Lik._9.p., MK_4.p.'!D12 -> 182624 | G12: =+'Lik._6.p., MK_1.p.'!F12+'Lik._7.p., MK_2.p.'!F12+'Lik._8.p., MK_3.p.'!G12+'Lik._9.p., MK_4.p.'!E12 -> 23790 | H12: =+'Lik._8.p., MK_3.p.'!H12 -> 0 | J12: =+B12+F12+G12 -> 7217605 | K12: =+'Lik._6.p., MK_1.p.'!I12+'Lik._7.p., MK_2.p.'!I12+'Lik._8.p., MK_3.p.'!K12 -> 0 | L12: =+D12+F12+G12+H12 -> 7599453
A13: Alūksnes novads | B13: =+'Lik._6.p., MK_1.p.'!B13+'Lik._7.p., MK_2.p.'!B13+'Lik._8.p., MK_3.p.'!B13+'Lik._9.p., MK_4.p.'!B13 -> 2882153 | C13: =+'Lik._6.p., MK_1.p.'!C13+'Lik._7.p., MK_2.p.'!C13+'Lik._8.p., MK_3.p.'!C13 -> 0 | D13: =+'Lik._6.p., MK_1.p.'!B13+'Lik._7.p., MK_2.p.'!B13+'Lik._8.p., MK_3.p.'!D13+'Lik._9.p., MK_4.p.'!B13 -> 2882153 | F13: =+'Lik._6.p., MK_1.p.'!E13+'Lik._7.p., MK_2.p.'!E13+'Lik._8.p., MK_3.p.'!F13+'Lik._9.p., MK_4.p.'!D13 -> 74990 | G13: =+'Lik._6.p., MK_1.p.'!F13+'Lik._7.p., MK_2.p.'!F13+'Lik._8.p., MK_3.p.'!G13+'Lik._9.p., MK_4.p.'!E13 -> 19150 | H13: =+'Lik._8.p., MK_3.p.'!H13 -> 0 | J13: =+B13+F13+G13 -> 2976293 | K13: =+'Lik._6.p., MK_1.p.'!I13+'Lik._7.p., MK_2.p.'!I13+'Lik._8.p., MK_3.p.'!K13 -> 0 | L13: =+D13+F13+G13+H13 -> 2976293
A14: Augšdaugavas novads | B14: =+'Lik._6.p., MK_1.p.'!B14+'Lik._7.p., MK_2.p.'!B14+'Lik._8.p., MK_3.p.'!B14+'Lik._9.p., MK_4.p.'!B14 -> 4823277 | C14: =+'Lik._6.p., MK_1.p.'!C14+'Lik._7.p., MK_2.p.'!C14+'Lik._8.p., MK_3.p.'!C14 -> 22007 | D14: =+'Lik._6.p., MK_1.p.'!B14+'Lik._7.p., MK_2.p.'!B14+'Lik._8.p., MK_3.p.'!D14+'Lik._9.p., MK_4.p.'!B14 -> 5160379 | F14: =+'Lik._6.p., MK_1.p.'!E14+'Lik._7.p., MK_2.p.'!E14+'Lik._8.p., MK_3.p.'!F14+'Lik._9.p., MK_4.p.'!D14 -> 125682 | G14: =+'Lik._6.p., MK_1.p.'!F14+'Lik._7.p., MK_2.p.'!F14+'Lik._8.p., MK_3.p.'!G14+'Lik._9.p., MK_4.p.'!E14 -> 0 | H14: =+'Lik._8.p., MK_3.p.'!H14 -> 0 | J14: =+B14+F14+G14 -> 4948959 | K14: =+'Lik._6.p., MK_1.p.'!I14+'Lik._7.p., MK_2.p.'!I14+'Lik._8.p., MK_3.p.'!K14 -> 22576 | L14: =+D14+F14+G14+H14 -> 5286061
A15: Ādažu novads | B15: =+'Lik._6.p., MK_1.p.'!B15+'Lik._7.p., MK_2.p.'!B15+'Lik._8.p., MK_3.p.'!B15+'Lik._9.p., MK_4.p.'!B15 -> 4616985 | C15: =+'Lik._6.p., MK_1.p.'!C15+'Lik._7.p., MK_2.p.'!C15+'Lik._8.p., MK_3.p.'!C15 -> 7565 | D15: =+'Lik._6.p., MK_1.p.'!B15+'Lik._7.p., MK_2.p.'!B15+'Lik._8.p., MK_3.p.'!D15+'Lik._9.p., MK_4.p.'!B15 -> 4616985 | F15: =+'Lik._6.p., MK_1.p.'!E15+'Lik._7.p., MK_2.p.'!E15+'Lik._8.p., MK_3.p.'!F15+'Lik._9.p., MK_4.p.'!D15 -> 120163 | G15: =+'Lik._6.p., MK_1.p.'!F15+'Lik._7.p., MK_2.p.'!F15+'Lik._8.p., MK_3.p.'!G15+'Lik._9.p., MK_4.p.'!E15 -> 21303 | H15: =+'Lik._8.p., MK_3.p.'!H15 -> 0 | J15: =+B15+F15+G15 -> 4758451 | K15: =+'Lik._6.p., MK_1.p.'!I15+'Lik._7.p., MK_2.p.'!I15+'Lik._8.p., MK_3.p.'!K15 -> 7760 | L15: =+D15+F15+G15+H15 -> 4758451
A16: Balvu novads | B16: =+'Lik._6.p., MK_1.p.'!B16+'Lik._7.p., MK_2.p.'!B16+'Lik._8.p., MK_3.p.'!B16+'Lik._9.p., MK_4.p.'!B16 -> 4119625 | C16: =+'Lik._6.p., MK_1.p.'!C16+'Lik._7.p., MK_2.p.'!C16+'Lik._8.p., MK_3.p.'!C16 -> 0 | D16: =+'Lik._6.p., MK_1.p.'!B16+'Lik._7.p., MK_2.p.'!B16+'Lik._8.p., MK_3.p.'!D16+'Lik._9.p., MK_4.p.'!B16 -> 4119625 | F16: =+'Lik._6.p., MK_1.p.'!E16+'Lik._7.p., MK_2.p.'!E16+'Lik._8.p., MK_3.p.'!F16+'Lik._9.p., MK_4.p.'!D16 -> 107222 | G16: =+'Lik._6.p., MK_1.p.'!F16+'Lik._7.p., MK_2.p.'!F16+'Lik._8.p., MK_3.p.'!G16+'Lik._9.p., MK_4.p.'!E16 -> 32301 | H16: =+'Lik._8.p., MK_3.p.'!H16 -> 0 | J16: =+B16+F16+G16 -> 4259148 | K16: =+'Lik._6.p., MK_1.p.'!I16+'Lik._7.p., MK_2.p.'!I16+'Lik._8.p., MK_3.p.'!K16 -> 0 | L16: =+D16+F16+G16+H16 -> 4259148
... A47: Ventspils novads | B47: =+'Lik._6.p., MK_1.p.'!B47+'Lik._7.p., MK_2.p.'!B47+'Lik._8.p., MK_3.p.'!B47+'Lik._9.p., MK_4.p.'!B47 -> 1990127 | C47: =+'Lik._6.p., MK_1.p.'!C47+'Lik._7.p., MK_2.p.'!C47+'Lik._8.p., MK_3.p.'!C47 -> 0 | D47: =+'Lik._6.p., MK_1.p.'!B47+'Lik._7.p., MK_2.p.'!B47+'Lik._8.p., MK_3.p.'!D47+'Lik._9.p., MK_4.p.'!B47 -> 1990127 | F47: =+'Lik._6.p., MK_1.p.'!E47+'Lik._7.p., MK_2.p.'!E47+'Lik._8.p., MK_3.p.'!F47+'Lik._9.p., MK_4.p.'!D47 -> 51779 | G47: =+'Lik._6.p., MK_1.p.'!F47+'Lik._7.p., MK_2.p.'!F47+'Lik._8.p., MK_3.p.'!G47+'Lik._9.p., MK_4.p.'!E47 -> 12703 | H47: =+'Lik._8.p., MK_3.p.'!H47 -> 0 | J47: =+B47+F47+G47 -> 2054609 | K47: =+'Lik._6.p., MK_1.p.'!I47+'Lik._7.p., MK_2.p.'!I47+'Lik._8.p., MK_3.p.'!K47 -> 0 | L47: =+D47+F47+G47+H47 -> 2054609
A48: KOPĀ | B48: =SUM(B5:B47) -> 396090192 | C48: =SUM(C5:C47) -> 1380302 | D48: =SUM(D5:D47) -> 410364579 | F48: =SUM(F5:F47) -> 10313988 | G48: =SUM(G5:G47) -> 4606326 | H48: =SUM(H5:H47) -> 136780 | J48: =SUM(J5:J47) -> 411010506 | K48: =SUM(K5:K47) -> 1415947 | L48: =SUM(L5:L47) -> 425421673
A50: II. No 2025. gada 1. septembra līdz 2025. gada 31. decembrim
A51: Pašvaldības | B51: Pedagogu darba samaksai un valsts sociālās apdrošināšanas obligātajām iemaksām (Euro) | D51: Pavisam kopā (Euro) | F51: Pedagogu darba samaksas pieaugumam | G51: Pedagogu darba samaksa UA civiliedzīvotājiem | H51: Uzturēšana UA civiliedzīvotājiem | J51: Pedagogu darba samaksai un valsts sociālās apdrošināšanas obligātajām iemaksām (Euro) | L51: Pavisam kopā (Euro)
A52: Nesadalītie līdzekļi | B52: =+'Lik._6.p., MK_1.p.'!B52+'Lik._7.p., MK_2.p.'!B52+'Lik._8.p., MK_3.p.'!B52+'Lik._9.p., MK_4.p.'!B52 -> 198309280 | D52: =+'Lik._6.p., MK_1.p.'!B52+'Lik._7.p., MK_2.p.'!B52+'Lik._8.p., MK_3.p.'!D52+'Lik._9.p., MK_4.p.'!B52 -> 205446474 | F52: =+'Lik._6.p., MK_1.p.'!E52+'Lik._7.p., MK_2.p.'!E52+'Lik._8.p., MK_3.p.'!F52+'Lik._9.p., MK_4.p.'!D52 -> 5163925 | J52: =+B52+F52 -> 203473205 | L52: =+D52+F52 -> 210610399
A54: PAVISAM KOPĀ | B54: =+B48+B52 -> 594399472 | D54: =+D48+D52 -> 615811053 | F54: =+F48+F52 -> 15477913 | G54: =+G48+G52 -> 4606326 | H54: =+H48+H52 -> 136780 | J54: =+J48+J52 -> 614483711 | L54: =+L48+L52 -> 636032072

Sheet Lik._6.p., MK_1.p.
A1: Mērķdotācijas pašvaldībām – pašvaldību pamata un vispārējās vidējās izglītības iestāžu, pašvaldību speciālās izglītības iestāžu un pašvaldību profesionālās izglītības iestāžu pedagogu darba samaksai un valsts sociālās apdrošināšanas obligātajām iemaksām
A2: Likuma "Par valsts budžetu 2025. gadam un budžeta ietvaru 2025., 2026. un 2027. gadam" 6. pielikums | E2: Grozījumi | H2: MK rīkojuma "Par mērķdotāciju sadalījumu pašvaldībām – pašvaldību izglītības iestādēm 2025. gadam" 1. pielikums
A3: I. No 2025. gada 1. janvāra līdz 2025. gada 31. augustam
A4: Republikas pilsētas un novadi | B4: Euro | C4: tai skaitā par izglītības programmu īstenošanu valsts valodā mazākumtautību izglītojamiem | E4: Pedagogu darba samaksas pieaugumam | F4: UA civiliedzīvotājiem | H4: Euro | I4: tai skaitā par izglītības programmu īstenošanu valsts valodā mazākumtautību izglītojamiem
A5: Rīgas valstspilsēta | B5: 81710378 | C5: 744791 | E5: =+H5-F5-B5 -> 2125174 | F5: 1899907 | H5: 85735459 | I5: 764002
A6: Daugavpils valstspilsēta | B6: 11558619 | C6: 182730 | E6: =+H6-F6-B6 -> 300590 | F6: 124351 | H6: 11983560 | I6: 187444
A7: Jelgavas valstspilsēta | B7: 10437812 | C7: 37578 | E7: =+H7-F7-B7 -> 271632 | F7: 114621 | H7: 10824065 | I7: 38548
A8: Jūrmalas valstspilsēta | B8: 5639983 | C8: 38868 | E8: =+H8-F8-B8 -> 146667 | F8: 65708 | H8: 5852358 | I8: 39871
A9: Liepājas valstspilsēta | B9: 9972832 | C9: 53384 | E9: =+H9-F9-B9 -> 259371 | F9: 115668 | H9: 10347871 | I9: 54761
A10: Rēzeknes valstspilsēta | B10: 4797557 | C10: 51126 | E10: =+H10-F10-B10 -> 124762 | F10: 62262 | H10: 4984581 | I10: 52444
A11: Ventspils valstspilsēta | B11: 5421661 | C11: 24676 | E11: =+H11-F11-B11 -> 140990 | F11: 90685 | H11: 5653336 | I11: 25312
A12: Aizkraukles novads | B12: 4799409 | C12: 0 | E12: =+H12-F12-B12 -> 124807 | F12: 17719 | H12: 4941935 | I12: 0
A13: Alūksnes novads | B13: 2262929 | C13: 0 | E13: =+H13-F13-B13 -> 58846 | F13: 13235 | H13: 2335010 | I13: 0
A14: Augšdaugavas novads | B14: 3470346 | C14: 19837 | E14: =+H14-F14-B14 -> 90300 | F14: 0 | H14: 3560646 | I14: 20349
A15: Ādažu novads | B15: 3585833 | C15: 7096 | E15: =+H15-F15-B15 -> 93259 | F15: 16005 | H15: 3695097 | I15: 7279
A16: Balvu novads | B16: 3422612 | C16: 0 | E16: =+H16-F16-B16 -> 89044 | F16: 25585 | H16: 3537241 | I16: 0
... A47: Ventspils novads | B47: 1618242 | C47: 0 | E47: =+H47-F47-B47 -> 42081 | F47: 10522 | H47: 1670845 | I47: 0
A48: KOPĀ | B48: =SUM(B5:B47) -> 290649008 | C48: =SUM(C5:C47) -> 1267497 | E48: =SUM(E5:E47) -> 7559220 | F48: =SUM(F5:F47) -> 3472738 | H48: =SUM(H5:H47) -> 301680966 | I48: =SUM(I5:I47) -> 1300193
A50: II. No 2025. gada 1. septembra līdz 2025. gada 31. decembrim
A51: Pašvaldības | B51: Euro | E51: Pedagogu darba samaksas pieaugumam | F51: UA civiliedzīvotājiem | H51: Euro
A52: Nesadalītie līdzekļi | B52: 145324507 | E52: =+H52-B52 -> 3779608 | H52: 149104115
A54: PAVISAM KOPĀ | B54: =+B48+B52 -> 435973515 | E54: =+E48+E52 -> 11338828 | F54: =+F48+F52 -> 3472738 | H54: =+H48+H52 -> 450785081

Sheet Lik._7.p., MK_2.p.
A1: Mērķdotācijas pašvaldībām – interešu izglītības programmu pedagogu daļējai darba samaksai un valsts sociālās apdrošināšanas obligātajām iemaksām
A2: Likuma "Par valsts budžetu 2025. gadam un budžeta ietvaru 2025., 2026. un 2027. gadam" 7. pielikums | E2: Grozījumi | H2: MK rīkojuma "Par mērķdotāciju sadalījumu pašvaldībām – pašvaldību izglītības iestādēm 2025. gadam" 2. pielikums
A3: I. No 2025. gada 1. janvāra līdz 2025. gada 31. augustam
A4: Republikas pilsētas un novadi | B4: Euro | C4: tai skaitā par izglītības programmu īstenošanu valsts valodā mazākumtautību izglītojamiem | E4: Pedagogu darba samaksas pieaugumam | F4: UA civiliedzīvotājiem | H4: Euro | I4: tai skaitā par izglītības programmu īstenošanu valsts valodā mazākumtautību izglītojamiem
A5: Rīgas valstspilsēta | B5: 8203796 | C5: 53067 | E5: =+H5-B5-F5 -> 214985 | F5: 160987 | H5: 8579768 | I5: 54459
A6: Daugavpils valstspilsēta | B6: 1024043 | C6: 12427 | E6: =+H6-B6-F6 -> 26835 | F6: 9638 | H6: 1060516 | I6: 12753
A7: Jelgavas valstspilsēta | B7: 843350 | C7: 2505 | E7: =+H7-B7-F7 -> 22099 | F7: 9229 | H7: 874678 | I7: 2570
A8: Jūrmalas valstspilsēta | B8: 476822 | C8: 2622 | E8: =+H8-B8-F8 -> 12495 | F8: 5230 | H8: 494547 | I8: 2691
A9: Liepājas valstspilsēta | B9: 912685 | C9: 3528 | E9: =+H9-B9-F9 -> 23917 | F9: 9126 | H9: 945728 | I9: 3620
A10: Rēzeknes valstspilsēta | B10: 432824 | C10: 3421 | E10: =+H10-B10-F10 -> 11343 | F10: 4716 | H10: 448883 | I10: 3511
A11: Ventspils valstspilsēta | B11: 418577 | C11: 1631 | E11: =+H11-B11-F11 -> 10967 | F11: 6563 | H11: 436107 | I11: 1673
A12: Aizkraukles novads | B12: 306275 | C12: 0 | E12: =+H12-B12-F12 -> 8026 | F12: 1025 | H12: 315326 | I12: 0
A13: Alūksnes novads | B13: 130929 | C13: 0 | E13: =+H13-B13-F13 -> 3431 | F13: 717 | H13: 135077 | I13: 0
A14: Augšdaugavas novads | B14: 203442 | C14: 1364 | E14: =+H14-B14-F14 -> 5332 | F14: 0 | H14: 208774 | I14: 1400
A15: Ādažu novads | B15: 342268 | C15: 469 | E15: =+H15-B15-F15 -> 8969 | F15: 1538 | H15: 352775 | I15: 481
A16: Balvu novads | B16: 179356 | C16: 0 | E16: =+H16-B16-F16 -> 4700 | F16: 1333 | H16: 185389 | I16: 0
... A47: Ventspils novads | B47: 84125 | C47: 0 | E47: =+H47-B47-F47 -> 2205 | F47: 513 | H47: 86843 | I47: 0
A48: KOPĀ | B48: =SUM(B5:B47) -> 23972924 | C48: =SUM(C5:C47) -> 88452 | E48: =SUM(E5:E47) -> 628221 | F48: =SUM(F5:F47) -> 272550 | H48: =SUM(H5:H47) -> 24873695 | I48: =SUM(I5:I47) -> 90772
A50: II. No 2025. gada 1. septembra līdz 2025. gada 31. decembrim
A51: Pašvaldības | B51: Euro | E51: Pedagogu darba samaksas pieaugumam | F51: UA civiliedzīvotājiem | H51: Euro
A52: Nesadalītie līdzekļi | B52: 12250649 | E52: =+H52-B52 -> 321034 | H52: 12571683
A54: PAVISAM KOPĀ | B54: =+B48+B52 -> 36223573 | E54: =+E48+E52 -> 949255 | F54: =+F48+F52 -> 272550 | H54: =+H48+H52 -> 37445378

Sheet Lik._8.p., MK_3.p.
A1: Mērķdotācijas pašvaldībām – pašvaldību speciālo pirmsskolas izglītības grupu pedagogu darba samaksai un valsts sociālās apdrošināšanas obligātajām iemaksām, speciālajām izglītības iestādēm, kas nodrošina internāta pakalpojumus
A2: Likuma "Par valsts budžetu 2025. gadam un budžeta ietvaru 2025., 2026. un 2027. gadam" 8. pielikums | F2: Grozījumi | J2: MK rīkojuma "Par mērķdotāciju sadalījumu pašvaldībām – pašvaldību izglītības iestādēm 2025. gadam" 3. pielikums
A3: I. No 2025. gada 1. janvāra līdz 2025. gada 31. augustam
A4: Republikas pilsētas un novadi | B4: Pedagogu darba samaksai un valsts sociālās apdrošināšanas obligātajām iemaksām (Euro) | C4: tai skaitā par izglītības programmu īstenošanu valsts valodā mazākumtautību izglītojamiem | D4: Pavisam kopā (Euro) | F4: Pedagogu darba samaksas pieaugumam | G4: Pedagogu darba samaksa UA civiliedzīvotājiem | H4: Uzturēšana UA civiliedzīvotājiem | J4: Pedagogu darba samaksai un valsts sociālās apdrošināšanas obligātajām iemaksām (Euro) | K4: tai skaitā par izglītības programmu īstenošanu valsts valodā mazākumtautību izglītojamiem | L4: Pavisam kopā (Euro) | M4: uzt.
A5: Rīgas valstspilsēta | B5: 10257099 | C5: 15967 | D5: 14310141 | F5: =+J5-G5-B5 -> 268698 | G5: 151926 | H5: 56331 | J5: 10677723 | K5: 16379 | L5: 14787096 | M5: =+L5-J5 -> 4109373
A6: Daugavpils valstspilsēta | B6: 1844878 | C6: 5322 | D6: 2611264 | F6: =+J6-G6-B6 -> 48273 | G6: 0 | H6: 0 | J6: 1893151 | K6: 5460 | L6: 2659537 | M6: =+L6-J6 -> 766386
A7: Jelgavas valstspilsēta | B7: 948989 | C7: 323 | D7: 1354526 | F7: =+J7-G7-B7 -> 24856 | G7: 26533 | H7: 11521 | J7: 1000378 | K7: 331 | L7: 1417436 | M7: =+L7-J7 -> 417058
A8: Jūrmalas valstspilsēta | B8: 568784 | C8: 806 | D8: 811153 | F8: =+J8-G8-B8 -> 14897 | G8: 5727 | H8: 2551 | J8: 589408 | K8: 827 | L8: 834328 | M8: =+L8-J8 -> 244920
A9: Liepājas valstspilsēta | B9: 1616125 | C9: 0 | D9: 2271570 | F9: =+J9-G9-B9 -> 42338 | G9: 6385 | H9: 2611 | J9: 1664848 | K9: 0 | L9: 2322904 | M9: =+L9-J9 -> 658056
A10: Rēzeknes valstspilsēta | B10: 771312 | C10: 645 | D10: 1120678 | F10: =+J10-G10-B10 -> 20206 | G10: 5179 | H10: 2314 | J10: 796697 | K10: 662 | L10: 1148377 | M10: =+L10-J10 -> 351680
A11: Ventspils valstspilsēta | B11: 13514 | C11: 0 | D11: 13514 | F11: =+J11-G11-B11 -> 351 | G11: 0 | H11: 0 | J11: 13865 | K11: 0 | L11: 13865 | M11: =+L11-J11 -> 0
A12: Aizkraukles novads | B12: 1075941 | C12: 0 | D12: 1457789 | F12: =+J12-G12-B12 -> 28193 | G12: 0 | H12: 0 | J12: 1104134 | K12: 0 | L12: 1485982 | M12: =+L12-J12 -> 381848
A13: Alūksnes novads | B13: 47578 | C13: 0 | D13: 47578 | F13: =+J13-G13-B13 -> 1239 | G13: 0 | H13: 0 | J13: 48817 | K13: 0 | L13: 48817 | M13: =+L13-J13 -> 0
A14: Augšdaugavas novads | B14: 719413 | C14: 806 | D14: 1056515 | F14: =+J14-G14-B14 -> 18852 | G14: 0 | H14: 0 | J14: 738265 | K14: 827 | L14: 1075367 | M14: =+L14-J14 -> 337102
A15: Ādažu novads | B15: 0 | C15: 0 | D15: 0 | F15: =+J15-G15-B15 -> 0 | G15: 0 | H15: 0 | J15: 0 | K15: 0 | L15: 0 | M15: =+L15-J15 -> 0
A16: Balvu novads | B16: 0 | C16: 0 | D16: 0 | F16: =+J16-G16-B16 -> 0 | G16: 0 | H16: 0 | J16: 0 | K16: 0 | L16: 0 | M16: =+L16-J16 -> 0
... A47: Ventspils novads | B47: 0 | C47: 0 | D47: 0 | F47: =+J47-G47-B47 -> 0 | G47: 0 | H47: 0 | J47: 0 | K47: 0 | L47: 0 | M47: =+L47-J47 -> 0
A48: KOPĀ | B48: =SUM(B5:B47) -> 34147832 | C48: =SUM(C5:C47) -> 24353 | D48: =SUM(D5:D47) -> 48422219 | F48: =SUM(F5:F47) -> 894543 | G48: =SUM(G5:G47) -> 334719 | H48: =SUM(H5:H47) -> 136780 | J48: =SUM(J5:J47) -> 35377094 | K48: =SUM(K5:K47) -> 24982 | L48: =SUM(L5:L47) -> 49788261 | M48: =SUM(M5:M47) -> 14411167
A50: II. No 2025. gada 1. septembra līdz 2025. gada 31. decembrim
A51: Pašvaldības | B51: Pedagogu darba samaksai un valsts sociālās apdrošināšanas obligātajām iemaksām (Euro) | D51: Pavisam kopā (Euro) | F51: Pedagogu darba samaksas pieaugumam | G51: Pedagogu darba samaksa UA civiliedzīvotājiem | H51: Uzturēšana UA civiliedzīvotājiem | J51: Pedagogu darba samaksai un valsts sociālās apdrošināšanas obligātajām iemaksām (Euro) | L51: Pavisam kopā (Euro)
A52: Nesadalītie līdzekļi | B52: 17073907 | D52: 24211101 | F52: =+J52-B52 -> 447284 | J52: 17521191 | L52: 24658385 | M52: =+L52-J52 -> 7137194
A54: PAVISAM KOPĀ | B54: =+B48+B52 -> 51221739 | D54: =+D48+D52 -> 72633320 | F54: =+F48+F52 -> 1341827 | G54: =+G48+G52 -> 334719 | H54: =+H48+H52 -> 136780 | J54: =+J48+J52 -> 52898285 | L54: =+L48+L52 -> 74446646 | M54: =+L54-J54 -> 21548361

Sheet Lik._9.p., MK_4.p.
A1: Mērķdotācijas pašvaldībām – pašvaldību izglītības iestādēs bērnu no piecu gadu vecuma izglītošanā nodarbināto pedagogu darba samaksai un valsts sociālās apdrošināšanas obligātajām iemaksām
A2: Likuma "Par valsts budžetu 2025. gadam un budžeta ietvaru 2025., 2026. un 2027. gadam" 9. pielikums | D2: Grozījumi | G2: MK rīkojuma "Par mērķdotāciju sadalījumu pašvaldībām – pašvaldību izglītības iestādēm 2025. gadam" 4. pielikums
A3: I. No 2025. gada 1. janvāra līdz 2025. gada 31. augustam
A4: Republikas pilsētas un novadi | B4: Euro | D4: Pedagogu darba samaksas pieaugumam | E4: UA civiliedzīvotājiem | G4: Euro
A5: Rīgas valstspilsēta | B5: 10537314 | D5: =+G5-E5-B5 -> 274344 | E5: 192065 | G5: 11003723
A6: Daugavpils valstspilsēta | B6: 1933130 | D6: =+G6-E6-B6 -> 50330 | E6: 39343 | G6: 2022803
A7: Jelgavas valstspilsēta | B7: 1365793 | D7: =+G7-E7-B7 -> 35559 | E7: 6680 | G7: 1408032
A8: Jūrmalas valstspilsēta | B8: 1063533 | D8: =+G8-E8-B8 -> 27689 | E8: 11776 | G8: 1102998
A9: Liepājas valstspilsēta | B9: 1750442 | D9: =+G9-E9-B9 -> 45574 | E9: 24862 | G9: 1820878
A10: Rēzeknes valstspilsēta | B10: 704613 | D10: =+G10-E10-B10 -> 18344 | E10: 16176 | G10: 739133
A11: Ventspils valstspilsēta | B11: 746602 | D11: =+G11-E11-B11 -> 19437 | E11: 15822 | G11: 781861
A12: Aizkraukles novads | B12: 829566 | D12: =+G12-E12-B12 -> 21598 | E12: 5046 | G12: 856210
A13: Alūksnes novads | B13: 440717 | D13: =+G13-E13-B13 -> 11474 | E13: 5198 | G13: 457389
A14: Augšdaugavas novads | B14: 430076 | D14: =+G14-E14-B14 -> 11198 | E14: 0 | G14: 441274
A15: Ādažu novads | B15: 688884 | D15: =+G15-E15-B15 -> 17935 | E15: 3760 | G15: 710579
A16: Balvu novads | B16: 517657 | D16: =+G16-E16-B16 -> 13478 | E16: 5383 | G16: 536518
... A47: Ventspils novads | B47: 287760 | D47: =+G47-E47-B47 -> 7493 | E47: 1668 | G47: 296921
A48: KOPĀ | B48: =SUM(B5:B47) -> 47320428 | D48: =SUM(D5:D47) -> 1232004 | E48: =SUM(E5:E47) -> 526319 | G48: =SUM(G5:G47) -> 49078751
A50: II. No 2025. gada 1. septembra līdz 2025. gada 31. decembrim
A51: Pašvaldības | B51: Euro | D51: Pedagogu darba samaksas pieaugumam | E51: UA civiliedzīvotājiem | G51: Euro
A52: Nesadalītie līdzekļi | B52: 23660217 | D52: =+G52-B52 -> 615999 | G52: 24276216
A54: PAVISAM KOPĀ | B54: =+B48+B52 -> 70980645 | D54: =+D48+D52 -> 1848003 | E54: =+E48+E52 -> 526319 | G54: =+G48+G52 -> 73354967
