Workbook
Name Recover: [1]Macro1!$A$99
Name Rikojums2222: [2]Macro1!$A$106
Name TableName: "Dummy"

Sheet Kopsavilkums
C1: Turpinājums pielikumam Nr.29 Ministru kabineta rīkojuma "Ministru kabineta rīkojuma "Par finanšu līdzekļu apropriācijas pārdali no budžeta resora ''74. Gadskārtējā valsts budžeta izpildes procesā pārdalāmais finansējums'' valsts budžeta programmas 12.00.00 ''Finansējums veselības jomas pasākumiem Covid-19 infekcijas izplatības ierobežošanai"" projekta sākotnējās ietekmes novērtējuma ziņojumam (anotācijai)
A2: Marts | B2: EUR | C2: EKK 3000 | D2: MK.noteikumu apakšpunkts | E2: Apakšprogrammu sadalījums
A3: Izmaksas par Covid 19 izmeklējumiem | B3: =B4+B5+B6+B17 -> 248132 | C3: =C4+C5+C6+C17 -> 248132
A4: Piemaksa par Covid-19 diagnostiku stacionāros | B4: =ātrie_testi_stac_daļa!I56 -> 132903 | C4: 132903 | D4: MK not.Nr.555 274.1 | E4: 33.18.00
A5: Covid-19 izmeklējumi citās ārstniecības iestādēs | B5: =ātrie_testi_amb_daļa!G28 -> 10023 | C5: 10023 | D5: MK not.Nr.555 274.1 | E5: 33.16.00
A6: Covid-19 pakalpojumu programma laboratorijām | B6: =SUM(B7:B16) -> 46557 | C6: =SUM(C7:C16) -> 46557
A7: Rīgas Austrumu klīniskā universitātes slimnīca, SIA | B7: =Covid_pakalp_progr!H15 -> 16322 | C7: =B7 -> 16322 | D7: MK not.Nr.555 274.1 | E7: 33.16.00
A8: „Centrālā laboratorija” SIA | B8: =Covid_pakalp_progr!H30 -> 16483 | C8: 16483 | E8: 33.16.00
A9: “E. Gulbja Laboratorija” SIA | B9: =Covid_pakalp_progr!H35 -> 14 | C9: 14 | E9: 33.16.00
A10: NMS Laboratorija, SIA | B10: =Covid_pakalp_progr!H21 -> 411 | C10: 411 | E10: 33.16.00
A11: Paula Stradiņa klīniskā universitātes slimnīca, VSIA | B11: =Covid_pakalp_progr!H43 -> 5684 | C11: 5684 | E11: 33.16.00
A12: Alūksnes slimnīca SIA | B12: =Covid_pakalp_progr!H70 -> 41 | C12: 41 | E12: 33.16.00
A13: Ogres rajona slimnīca SIA | B13: =Covid_pakalp_progr!H65 -> 10 | C13: 10 | E13: 33.16.00
A14: Daugavpils reģionālā slimnīca SIA | B14: =Covid_pakalp_progr!H50 -> 6219 | C14: 6219 | E14: 33.16.00
A15: Vidzemes slimnīca, SIA | B15: =Covid_pakalp_progr!H55 -> 1328 | C15: 1328 | E15: 33.16.00
A16: Ziemeļkurzemes reģionālā slimnīca, SIA | B16: =Covid_pakalp_progr!H60 -> 45 | C16: 45 | E16: 33.16.00
A17: Citas saistītās Covid-19 izmeklējumu izmaksas | B17: =SUM(B18:B19) -> 58649 | C17: =SUM(C18:C19) -> 58649
A18: Rīgas Austrumu klīniskā universitātes slimnīca SIA (11.pielikums: antivielas un ātrā diagnostika ar Multiplex reaģentiem) | B18: =RAKUS_antivielu_testi!F10 -> 5691 | C18: 5691 | D18: MK not.Nr.555 274.1 | E18: 33.16.00
A19: Rīgas Austrumu klīniskā universitātes slimnīca SIA: Sekvencēšana | B19: =Sekvencēšana!E16 -> 52958 | C19: 52958 | D19: MK not.Nr.555 274.1 | E19: 33.16.00

Sheet ātrie_testi_stac_daļa
F1: Turpinājums pielikumam Nr.29 Ministru kabineta rīkojuma "Ministru kabineta rīkojuma "Par finanšu līdzekļu apropriācijas pārdali no budžeta resora ''74. Gadskārtējā valsts budžeta izpildes procesā pārdalāmais finansējums'' valsts budžeta programmas 12.00.00 ''Finansējums veselības jomas pasākumiem Covid-19 infekcijas izplatības ierobežošanai"" projekta sākotnējās ietekmes novērtējuma ziņojumam (anotācijai)
A2: Piemaksa par Covid-19 diagnostiku stacionāros 2023. gada marts*
A3: Ārstniecības iestādes nosaukums | B3: Manipulācijas kods | C3: Manupulācijas nosaukums | D3: Tarifs, euro | E3: Janvāris, 2023 | F3: Februāris, 2023 | G3: Marts, 2023 | H3: Kopā, manipulāciju skaits | I3: Kopsumma, euro
A4: Aizkraukles slimnīca | B4: 47268 | C4: SARS-CoV-2 (COVID-19) antigēna noteikšana (Ag eksprestests) (ar reaģenta komplekta vērtību) | D4: 4.52 | E4: 0 | F4: 11 | G4: 102 | H4: =E4+F4+G4 -> 113 | I4: =ROUND(D4*SUM(H4),2) -> 510.76
A5: Alūksnes slimnīca | B5: 47268 | C5: SARS-CoV-2 (COVID-19) antigēna noteikšana (Ag eksprestests) (ar reaģenta komplekta vērtību) | D5: 4.52 | E5: 0 | F5: 0 | G5: 203 | H5: =E5+F5+G5 -> 203 | I5: =ROUND(D5*SUM(H5),2) -> 917.56
A6: Balvu un Gulbenes slimnīcu apvienība | B6: 47328 | C6: SARS-CoV-2 (COVID-19) antigēna noteikšana (Ag eksprestests) (bez reaģenta komplekta vērtības) | D6: 3.83 | E6: 12 | F6: 4 | G6: 267 | H6: =E6+F6+G6 -> 283 | I6: =ROUND(D6*SUM(H6),2) -> 1083.89
A7: Bauskas slimnīca | B7: 47328 | C7: SARS-CoV-2 (COVID-19) antigēna noteikšana (Ag eksprestests) (bez reaģenta komplekta vērtības) | D7: 3.83 | E7: 0 | F7: 51 | G7: 35 | H7: =E7+F7+G7 -> 86 | I7: =ROUND(D7*SUM(H7),2) -> 329.38
A8: Bērnu klīniskā universitātes slimnīca | B8: 47078 | C8: SARS-CoV-2 RNS (COVID-19) noteikšana ar reālā laika PĶR (bez parauga paņemšanas) ātrai diagnostikai un diferenciāldiagnostikai (ar reaģenta vērtību) | D8: 44.25 | E8: 4 | F8: 0 | G8: 2 | H8: =E8+F8+G8 -> 6 | I8: =ROUND(D8*SUM(H8),2) -> 265.5
A9: Bērnu klīniskā universitātes slimnīca | B9: 47328 | C9: SARS-CoV-2 (COVID-19) antigēna noteikšana (Ag eksprestests) (bez reaģenta komplekta vērtības) | D9: 3.83 | E9: 2 | F9: 2 | G9: 0 | H9: =E9+F9+G9 -> 4 | I9: =ROUND(D9*SUM(H9),2) -> 15.32
A10: Bērnu klīniskā universitātes slimnīca | B10: 60046 | C10: COVID-19 transporta barotne ar diviem lokaniem tamponiem ātrajam molekulārajam testam | D10: 0.8 | E10: 0 | F10: 0 | G10: 1 | H10: =E10+F10+G10 -> 1 | I10: =ROUND(D10*SUM(H10),2) -> 0.8
A11: Cēsu klīnika | B11: 47268 | C11: SARS-CoV-2 (COVID-19) antigēna noteikšana (Ag eksprestests) (ar reaģenta komplekta vērtību) | D11: 4.52 | E11: 8 | F11: 0 | G11: 0 | H11: =E11+F11+G11 -> 8 | I11: =ROUND(D11*SUM(H11),2) -> 36.16
A12: Daugavpils psihoneiroloģiskā slimnīca | B12: 47078 | C12: SARS-CoV-2 RNS (COVID-19) noteikšana ar reālā laika PĶR (bez parauga paņemšanas) ātrai diagnostikai un diferenciāldiagnostikai (ar reaģenta vērtību) | D12: 44.25 | E12: 12 | F12: 0 | G12: 5 | H12: =E12+F12+G12 -> 17 | I12: =ROUND(D12*SUM(H12),2) -> 752.25
A13: Daugavpils psihoneiroloģiskā slimnīca | B13: 47268 | C13: SARS-CoV-2 (COVID-19) antigēna noteikšana (Ag eksprestests) (ar reaģenta komplekta vērtību) | D13: 4.52 | E13: 0 | F13: 65 | G13: 304 | H13: =E13+F13+G13 -> 369 | I13: =ROUND(D13*SUM(H13),2) -> 1667.88
A14: Daugavpils reģionālā slimnīca | B14: 47078 | C14: SARS-CoV-2 RNS (COVID-19) noteikšana ar reālā laika PĶR (bez parauga paņemšanas) ātrai diagnostikai un diferenciāldiagnostikai (ar reaģenta vērtību) | D14: 44.25 | E14: 35 | F14: 27 | G14: 343 | H14: =E14+F14+G14 -> 405 | I14: =ROUND(D14*SUM(H14),2) -> 17921.25
A15: Daugavpils reģionālā slimnīca | B15: 47268 | C15: SARS-CoV-2 (COVID-19) antigēna noteikšana (Ag eksprestests) (ar reaģenta komplekta vērtību) | D15: 4.52 | E15: 110 | F15: 120 | G15: 1380 | H15: =E15+F15+G15 -> 1610 | I15: =ROUND(D15*SUM(H15),2) -> 7277.2
... A54: Ziemeļkurzemes reģionālā slimnīca | B54: 47268 | C54: SARS-CoV-2 (COVID-19) antigēna noteikšana (Ag eksprestests) (ar reaģenta komplekta vērtību) | D54: 4.52 | E54: 28 | F54: 9 | G54: 76 | H54: =E54+F54+G54 -> 113 | I54: =ROUND(D54*SUM(H54),2) -> 510.76
A55: Kopā: | E55: =SUM(E4:E54) -> 751 | F55: =SUM(F4:F54) -> 1034 | G55: =SUM(G4:G54) -> 13964 | H55: =SUM(H4:H54) -> 15749 | I55: =SUM(I4:I54) -> 132902.76
I56: =ROUNDUP(I55,0) -> 132903
A58: * Manipulāciju skaits tiek iegūts tikai, kad pacients tiek izrakstīts un karte ievadīta Vadības informācijas sistēmā (atbilstoši līgumam par stacionārās veselības aprūpes pakalpojumu sniegšanu un apmaksu starp Nacionālo veselības dienestu (turpmāk Dienests) un ārstniecības iestādi 3. pielikumam, Informācijas apmaiņas kārtība, Dienests apmaksā kartes, kas ievadītas ne vēlāk kā 60 dienas pēc izrakstīšanās datuma). Ārstniecības iestāde kartes var labot līdz nākošā kalendārā gada 8. janvārim. Lai iegūtu precīzu apmaksājamo manipulāciju skaitu, Dienests salīdzina iepriekšējos mēnešos veikto manipulāciju skaitu un apmaksā starpību starp veikto manipulāciju skaitu un jau samaksāto manipulāciju skaitu atbilstoši manipulāciju tarifiem. Ņemot vērā, to ka pacients tika izrakstīts marta mēnesī, līdz ar to karte par pacientu tiek ievadīta Vadības informācijas sistēmā arī marta mēnesī.

Sheet ātrie_testi_amb_daļa
E1: Turpinājums pielikumam Nr.29 Ministru kabineta rīkojuma "Ministru kabineta rīkojuma "Par finanšu līdzekļu apropriācijas pārdali no budžeta resora ''74. Gadskārtējā valsts budžeta izpildes procesā pārdalāmais finansējums'' valsts budžeta programmas 12.00.00 ''Finansējums veselības jomas pasākumiem Covid-19 infekcijas izplatības ierobežošanai"" projekta sākotnējās ietekmes novērtējuma ziņojumam (anotācijai)
A2: Rēķina mēnesis: marts 2023
A3: Covid-19 diagnistikas manipulācijas ( ātrie testi, ambulatorā daļa)
A4: NVD TN (pakalpojumu sniedzēja) | B4: ĀI (pakalpojumu sniedzēja) nosaukums | C4: Manipulācijas kods | D4: Manipulācijas nosaukums | E4: Manipulāciju skaits | F4: Tarifs, euro | G4: Summa, euro
A5: NVD Kurzemes nodaļa | B5: Dr. Būmanes ģimenes ārsta prakse, SIA | C5: 47268 | D5: SARS-CoV-2 (COVID-19) antigēna noteikšana (Ag eksprestests) (ar reaģenta komplekta vērtību) | E5: 1 | F5: 4.52 | G5: =E5*F5 -> 4.52
A6: NVD Kurzemes nodaļa | B6: Tukuma slimnīca, Sabiedrība ar ierobežotu atbildību | C6: 47328 | D6: SARS-CoV-2 (COVID-19) antigēna noteikšana (Ag eksprestests) (bez reaģenta komplekta vērtības) | E6: 10 | F6: 3.83 | G6: =E6*F6 -> 38.3
A7: NVD Latgales nodaļa | B7: RĒZEKNES SLIMNĪCA, Sabiedrība ar ierobežotu atbildību | C7: 47268 | D7: SARS-CoV-2 (COVID-19) antigēna noteikšana (Ag eksprestests) (ar reaģenta komplekta vērtību) | E7: 487 | F7: 4.52 | G7: =E7*F7 -> 2201.24
A8: NVD Latgales nodaļa | B8: Ludzas medicīnas centrs, Sabiedrība ar ierobežotu atbildību | C8: 47268 | D8: SARS-CoV-2 (COVID-19) antigēna noteikšana (Ag eksprestests) (ar reaģenta komplekta vērtību) | E8: 30 | F8: 4.52 | G8: =E8*F8 -> 135.6
A9: NVD Latgales nodaļa | B9: Sviklāne Inga - ģimenes ārsta prakse | C9: 47268 | D9: SARS-CoV-2 (COVID-19) antigēna noteikšana (Ag eksprestests) (ar reaģenta komplekta vērtību) | E9: 2 | F9: 4.52 | G9: =E9*F9 -> 9.04
A10: NVD Latgales nodaļa | B10: Preiļu slimnīca, Sabiedrība ar ierobežotu atbildību | C10: 47328 | D10: SARS-CoV-2 (COVID-19) antigēna noteikšana (Ag eksprestests) (bez reaģenta komplekta vērtības) | E10: 2 | F10: 3.83 | G10: =E10*F10 -> 7.66
A11: NVD Rīgas nodaļa | B11: Bērnu klīniskā universitātes slimnīca, Valsts sabiedrība ar ierobežotu atbildību | C11: 47268 | D11: SARS-CoV-2 (COVID-19) antigēna noteikšana (Ag eksprestests) (ar reaģenta komplekta vērtību) | E11: 10 | F11: 4.52 | G11: =E11*F11 -> 45.2
A12: NVD Rīgas nodaļa | B12: Bērnu klīniskā universitātes slimnīca, Valsts sabiedrība ar ierobežotu atbildību | C12: 47328 | D12: SARS-CoV-2 (COVID-19) antigēna noteikšana (Ag eksprestests) (bez reaģenta komplekta vērtības) | E12: 1382 | F12: 3.83 | G12: =E12*F12 -> 5293.06
A13: NVD Rīgas nodaļa | B13: Rīgas 2. slimnīca, SIA | C13: 47328 | D13: SARS-CoV-2 (COVID-19) antigēna noteikšana (Ag eksprestests) (bez reaģenta komplekta vērtības) | E13: 47 | F13: 3.83 | G13: =E13*F13 -> 180.01
A14: NVD Rīgas nodaļa | B14: Stauga Ausma - ģimenes ārsta un pediatra prakse | C14: 60046 | D14: Sars-CoV-2 (COVID-19) transporta barotne ar diviem lokaniem tamponiem ātrajam molekulārajam testam | E14: 3 | F14: 0.8 | G14: =E14*F14 -> 2.4
A15: NVD Rīgas nodaļa | B15: Nacionālais rehabilitācijas centrs "Vaivari", Valsts sabiedrība ar ierobežotu atbildību | C15: 47268 | D15: SARS-CoV-2 (COVID-19) antigēna noteikšana (Ag eksprestests) (ar reaģenta komplekta vērtību) | E15: 6 | F15: 4.52 | G15: =E15*F15 -> 27.12
A16: NVD Rīgas nodaļa | B16: Jūrmalas slimnīca, Sabiedrība ar ierobežotu atbildību | C16: 47328 | D16: SARS-CoV-2 (COVID-19) antigēna noteikšana (Ag eksprestests) (bez reaģenta komplekta vērtības) | E16: 158 | F16: 3.83 | G16: =E16*F16 -> 605.14
... A26: NVD Zemgales nodaļa | B26: Ogres rajona slimnīca, Sabiedrība ar ierobežotu atbildību | C26: 47268 | D26: SARS-CoV-2 (COVID-19) antigēna noteikšana (Ag eksprestests) (ar reaģenta komplekta vērtību) | E26: 2 | F26: 4.52 | G26: =E26*F26 -> 9.04
F27: Pavisam kopā: | G27: =SUM(G5:G26) -> 10022.03
F28: Kopā | G28: =ROUNDUP(G27,0) -> 10023

Sheet Covid_pakalp_progr
F1: Turpinājums pielikumam Nr.29 Ministru kabineta rīkojuma "Ministru kabineta rīkojuma "Par finanšu līdzekļu apropriācijas pārdali no budžeta resora ''74. Gadskārtējā valsts budžeta izpildes procesā pārdalāmais finansējums'' valsts budžeta programmas 12.00.00 ''Finansējums veselības jomas pasākumiem Covid-19 infekcijas izplatības ierobežošanai"" projekta sākotnējās ietekmes novērtējuma ziņojumam (anotācijai)
A2: Covid-19 pakalpojumu programma laboratorijām
A3: Rēķina mēnesis: marts 2023
A4: NVD TN (pakalpojumu sniedzēja) | B4: ĀI (pakalpojumu sniedzēja) | C4: Pakalpojumu programma | D4: Manipulācijas kods | E4: Manipulācijas nosaukums | F4: Manipulāciju skaits | G4: Tarifs, euro | H4: Summa, euro
A5: 12 - NVD Rīgas nodaļa | B5: 010000234 - Rīgas Austrumu klīniskā universitātes slimnīca, SIA | C5: AP82 - Covid-19 laboratorijas pakalpojumi | D5: 47073 | E5: SARS-CoV-2 RNS (COVID-19) noteikšana ar reālā laika PĶR (bez parauga paņemšanas) | F5: 134 | G5: 23.32 | H5: =F5*G5 -> 3124.88
A6: 12 - NVD Rīgas nodaļa | B6: 010000234 - Rīgas Austrumu klīniskā universitātes slimnīca, SIA | C6: AP82 - Covid-19 laboratorijas pakalpojumi | D6: 47078 | E6: SARS-CoV-2 RNS (COVID-19) noteikšana ar reālā laika PĶR (bez parauga paņemšanas) ātrai diagnostikai un diferenciāldiagnostikai (ar reaģenta vērtību) | F6: 41 | G6: 44.25 | H6: =F6*G6 -> 1814.25
A7: 12 - NVD Rīgas nodaļa | B7: 010000234 - Rīgas Austrumu klīniskā universitātes slimnīca, SIA | C7: AP82 - Covid-19 laboratorijas pakalpojumi | D7: 47079 | E7: SARS-CoV-2 (COVID-19) transporta barotne ar diviem lokaniem tamponiem | F7: 697 | G7: 0.8 | H7: =F7*G7 -> 557.6
A8: 12 - NVD Rīgas nodaļa | B8: 010000234 - Rīgas Austrumu klīniskā universitātes slimnīca, SIA | C8: AP82 - Covid-19 laboratorijas pakalpojumi | D8: 47328 | E8: SARS-CoV-2 (COVID-19) antigēna noteikšana (Ag eksprestests) (bez reaģenta komplekta vērtības) | F8: 102 | G8: 3.83 | H8: =F8*G8 -> 390.66
A9: 12 - NVD Rīgas nodaļa | B9: 010000234 - Rīgas Austrumu klīniskā universitātes slimnīca, SIA | C9: AP82 - Covid-19 laboratorijas pakalpojumi | D9: 47416 | E9: SARS-CoV-2 (COVID-19) ambulatora parauga (nazofaringeāla uztriepe) paņemšana laboratorijā | F9: 27 | G9: 1.96 | H9: =F9*G9 -> 52.92
A10: 13 - NVD Rīgas nodaļa | B10: 010000234 - Rīgas Austrumu klīniskā universitātes slimnīca, SIA | C10: AP82 - Covid-19 laboratorijas pakalpojumi | D10: 47075R | E10: R SARS-CoV-2 RNS (COVID 19) apstiprināšana ar reālā laika PĶR (bez parauga paņemšanas) | F10: 51 | G10: 24.59 | H10: =F10*G10 -> 1254.09
A11: 12 - NVD Rīgas nodaļa | B11: 010000234 - Rīgas Austrumu klīniskā universitātes slimnīca, SIA | C11: AP82 - Covid-19 laboratorijas pakalpojumi | D11: 47420R | E11: SARS-CoV-2 genotipēšana ar sekvencēšanu epidemioloģijas jomā (ar reaģenta vērtību) | F11: 44 | G11: 207.43 | H11: =F11*G11 -> 9126.92
G12: Kopā: | H12: =SUM(H5:H11) -> 16321.32
G13: Reaģenti
G14: Pavisam kopā: | H14: =H12+H13 -> 16321.32
H15: =ROUNDUP(H14,0) -> 16322
A17: NVD TN (pakalpojumu sniedzēja) | B17: ĀI (pakalpojumu sniedzēja) | C17: Pakalpojumu programma | D17: Manipulācijas kods | E17: Manipulācijas nosaukums | F17: Manipulāciju skaits | G17: Tarifs, euro | H17: Summa, euro
A18: 12 - NVD Rīgas nodaļa | B18: 010068301 - NMS Laboratorija, SIA | C18: AP82 - Covid-19 laboratorijas pakalpojumi | D18: 47073 | E18: SARS-CoV-2 RNS (COVID-19) noteikšana ar reālā laika PĶR (bez parauga paņemšanas) | F18: 17 | G18: 23.32 | H18: =F18*G18 -> 396.44
A19: 12 - NVD Rīgas nodaļa | B19: 010068301 - NMS Laboratorija, SIA | C19: AP82 - Covid-19 laboratorijas pakalpojumi | D19: 47079 | E19: SARS-CoV-2 (COVID-19) transporta barotne ar diviem lokaniem tamponiem | F19: 17 | G19: 0.8 | H19: =F19*G19 -> 13.6
G20: Pavisam kopā: | H20: =SUM(H18:H19) -> 410.04
H21: =ROUNDUP(H20,0) -> 411
A23: NVD TN (pakalpojumu sniedzēja) | B23: ĀI (pakalpojumu sniedzēja) | C23: Pakalpojumu programma | D23: Manipulācijas kods | E23: Manipulācijas nosaukums | F23: Manipulāciju skaits | G23: Tarifs, euro | H23: Summa, euro
A24: 12 - NVD Rīgas nodaļa | B24: 010068302 - CENTRĀLĀ LABORATORIJA, Sabiedrība ar ierobežotu atbildību | C24: AP82 - Covid-19 laboratorijas pakalpojumi | D24: 47073 | E24: SARS-CoV-2 RNS (COVID-19) noteikšana ar reālā laika PĶR (bez parauga paņemšanas) | F24: 366 | G24: 23.32 | H24: =F24*G24 -> 8535.12
A25: 12 - NVD Rīgas nodaļa | B25: 010068302 - CENTRĀLĀ LABORATORIJA, Sabiedrība ar ierobežotu atbildību | C25: AP82 - Covid-19 laboratorijas pakalpojumi | D25: 47075 | E25: SARS-CoV-2 RNS (COVID-19) apstiprināšana ar reālā laika PĶR (bez parauga paņemšanas) | F25: 49 | G25: 24.59 | H25: =F25*G25 -> 1204.91
A26: 12 - NVD Rīgas nodaļa | B26: 010068302 - CENTRĀLĀ LABORATORIJA, Sabiedrība ar ierobežotu atbildību | C26: AP82 - Covid-19 laboratorijas pakalpojumi | D26: 47078 | E26: SARS-CoV-2 RNS (COVID-19) noteikšana ar reālā laika PĶR (bez parauga paņemšanas) ātrai diagnostikai un diferenciāldiagnostikai (ar reaģenta vērtību) | F26: 143 | G26: 44.25 | H26: =F26*G26 -> 6327.75
A27: 12 - NVD Rīgas nodaļa | B27: 010068302 - CENTRĀLĀ LABORATORIJA, Sabiedrība ar ierobežotu atbildību | C27: AP82 - Covid-19 laboratorijas pakalpojumi | D27: 47079 | E27: SARS-CoV-2 (COVID-19) transporta barotne ar diviem lokaniem tamponiem | F27: 366 | G27: 0.8 | H27: =F27*G27 -> 292.8
A28: 12 - NVD Rīgas nodaļa | B28: 010068302 - CENTRĀLĀ LABORATORIJA, Sabiedrība ar ierobežotu atbildību | C28: AP82 - Covid-19 laboratorijas pakalpojumi | D28: 47268 | E28: SARS-CoV-2 (COVID-19) antigēna noteikšana (Ag eksprestests) (ar reaģenta komplekta vērtību) | F28: 27 | G28: 4.52 | H28: =F28*G28 -> 122.04
G29: Pavisam kopā: | H29: =SUM(H24:H28) -> 16482.62
H30: =ROUNDUP(H29,0) -> 16483
A32: NVD TN (pakalpojumu sniedzēja) | B32: ĀI (pakalpojumu sniedzēja) | C32: Pakalpojumu programma | D32: Manipulācijas kods | E32: Manipulācijas nosaukums | F32: Manipulāciju skaits | G32: Tarifs, euro | H32: Summa, euro
A33: 12 - NVD Rīgas nodaļa | B33: 010068303 - E.GULBJA LABORATORIJA, Sabiedrība ar ierobežotu atbildību | C33: AP82 - Covid-19 laboratorijas pakalpojumi | D33: 47268 | E33: SARS-CoV-2 (COVID-19) antigēna noteikšana (Ag eksprestests) (ar reaģenta komplekta vērtību) | F33: 3 | G33: 4.52 | H33: =F33*G33 -> 13.56
G34: Pavisam kopā: | H34: =SUM(H33:H33) -> 13.56
H35: =ROUNDUP(H34,0) -> 14
A37: NVD TN (pakalpojumu sniedzēja) | B37: ĀI (pakalpojumu sniedzēja) | C37: Pakalpojumu programma | D37: Manipulācijas kods | E37: Manipulācijas nosaukums | F37: Manipulāciju skaits | G37: Tarifs, euro | H37: Summa, euro
A38: 12 - NVD Rīgas nodaļa | B38: 010011803 - Paula Stradiņa klīniskā universitātes slimnīca, Valsts sabiedrība ar ierobežotu atbildību | C38: AP82 - Covid-19 laboratorijas pakalpojumi | D38: 47073 | E38: SARS-CoV-2 RNS (COVID-19) noteikšana ar reālā laika PĶR (bez parauga paņemšanas) | F38: 20 | G38: 23.32 | H38: =F38*G38 -> 466.4
A39: 12 - NVD Rīgas nodaļa | B39: 010011803 - Paula Stradiņa klīniskā universitātes slimnīca, Valsts sabiedrība ar ierobežotu atbildību | C39: AP82 - Covid-19 laboratorijas pakalpojumi | D39: 47078 | E39: SARS-CoV-2 RNS (COVID-19) noteikšana ar reālā laika PĶR (bez parauga paņemšanas) ātrai diagnostikai un diferenciāldiagnostikai (ar reaģenta vērtību) | F39: 105 | G39: 44.25 | H39: =F39*G39 -> 4646.25
A40: 12 - NVD Rīgas nodaļa | B40: 010011803 - Paula Stradiņa klīniskā universitātes slimnīca, Valsts sabiedrība ar ierobežotu atbildību | C40: AP82 - Covid-19 laboratorijas pakalpojumi | D40: 47328 | E40: SARS-CoV-2 (COVID-19) antigēna noteikšana (Ag eksprestests) (bez reaģenta komplekta vērtības) | F40: 127 | G40: 3.83 | H40: =F40*G40 -> 486.41
A41: 12 - NVD Rīgas nodaļa | B41: 010011803 - Paula Stradiņa klīniskā universitātes slimnīca, Valsts sabiedrība ar ierobežotu atbildību | C41: AP82 - Covid-19 laboratorijas pakalpojumi | D41: 60046 | E41: COVID-19 transporta barotne ar diviem lokaniem tamponiem ātrajam molekulārajam testam | F41: 105 | G41: 0.8 | H41: =F41*G41 -> 84
G42: Pavisam kopā: | H42: =SUM(H38:H41) -> 5683.06
H43: =ROUNDUP(H42,0) -> 5684
A46: NVD TN (pakalpojumu sniedzēja) | B46: ĀI (pakalpojumu sniedzēja) | C46: Pakalpojumu programma | D46: Manipulācijas kods | E46: Manipulācijas nosaukums | F46: Manipulāciju skaits | G46: Tarifs, euro | H46: Summa, euro
...

Sheet RAKUS_antivielu_testi
D1: Turpinājums pielikumam Nr.29 Ministru kabineta rīkojuma "Ministru kabineta rīkojuma "Par finanšu līdzekļu apropriācijas pārdali no budžeta resora ''74. Gadskārtējā valsts budžeta izpildes procesā pārdalāmais finansējums'' valsts budžeta programmas 12.00.00 ''Finansējums veselības jomas pasākumiem Covid-19 infekcijas izplatības ierobežošanai"" projekta sākotnējās ietekmes novērtējuma ziņojumam (anotācijai)
A2: Rīgas Austrumu klīniskā universitātes slimnīca SIA (11.pielikums: antivielas un ātrā diagnostika ar Multiplex reaģentiem), Marts
A3: NVD TN (pakalpojuma sniedzēja) | B3: ĀI (pakalpojuma sniedzēja) | C3: Manipulācija | D3: Manipulāciju skaits | E3: Tarifs, euro | F3: Summa, euro
A4: 12 - NVD Rīgas nodaļa | B4: 010000234 - Rīgas Austrumu klīniskā universitātes slimnīca, SIA | C4: 47046R - R IgA klases antivielu pret SARS-CoV-2 (COVID-19) noteikšana ar imūnfermentatīvo metodi (ELISA, CMIA, ECLIA, CLIA) | D4: 1 | E4: 13.49 | F4: =D4*E4 -> 13.49
A5: 12 - NVD Rīgas nodaļa | B5: 010000234 - Rīgas Austrumu klīniskā universitātes slimnīca, SIA | C5: 47047R - R IgM klases antivielu pret SARS-CoV-2 (COVID-19) noteikšana ar imūnfermentatīvo metodi (ELISA, CMIA, ECLIA, CLIA) | D5: 130 | E5: 13.49 | F5: =D5*E5 -> 1753.7
A6: 12 - NVD Rīgas nodaļa | B6: 010000234 - Rīgas Austrumu klīniskā universitātes slimnīca, SIA | C6: 47049R - R IgG klases antivielu pret SARS-CoV-2 (COVID-19) noteikšana ar imūnfermentatīvo metodi (ELISA, CMIA, ECLIA, CLIA) | D6: 127 | E6: 13.49 | F6: =D6*E6 -> 1713.23
A7: 12 - NVD Rīgas nodaļa | B7: 010000234 - Rīgas Austrumu klīniskā universitātes slimnīca, SIA | C7: 47051R - R IgG klases antivielu pret SARS-CoV-2 (COVID-19) kvantitatīva noteikšana ar imūnfermentatīvo metodi (ELISA, CMIA, ECLIA, CLIA) | D7: 99 | E7: 20.65 | F7: =D7*E7 -> 2044.35
A8: 12 - NVD Rīgas nodaļa | B8: 010000234 - Rīgas Austrumu klīniskā universitātes slimnīca, SIA | C8: 47076R - R Asins ņemšana ar slēgtu sistēmu vienā stobriņā antivielu pret SARS-CoV-2 (COVID-19) noteikšanai | D8: 123 | E8: 1.35 | F8: =D8*E8 -> 166.05
D9: Pavisam kopā: | F9: =SUM(F4:F8) -> 5690.82
E10: Kopā | F10: =ROUNDUP(F9,0) -> 5691

Sheet Sekvencēšana
C1: Turpinājums pielikumam Nr.29 Ministru kabineta rīkojuma "Ministru kabineta rīkojuma "Par finanšu līdzekļu apropriācijas pārdali no budžeta resora ''74. Gadskārtējā valsts budžeta izpildes procesā pārdalāmais finansējums'' valsts budžeta programmas 12.00.00 ''Finansējums veselības jomas pasākumiem Covid-19 infekcijas izplatības ierobežošanai"" projekta sākotnējās ietekmes novērtējuma ziņojumam (anotācijai)
A2: Atskaite par Covid-19 vīrusa sekvencēšanu LIC laboratorijā
A3: Pārskata periods (mēnesis): marts 2023
A4: Nr.p.k. | B4: Pasākums | C4: Tarifs, euro | E4: Kopā, euro
A5: 1 | B5: Primārā parauga uzglabāšana (kriostobriņi paraugu uzglabāšanai) | C5: paraugu skaits | E5: 428
C6: Summa, euro | D6: 0.79 | E6: =E5*$D$6 -> 338.12
A7: SARS-CoV-2 vīrusu celmu sekvencēšana
A8: 2 | B8: Nacionālā References laboratorija (NRL)*
B9: Pirmais etaps (RNS izdalīšana no primārā parauga) | C9: paraugu skaits | E9: =4*96 -> 384
C10: Summa, euro | D10: =8*1.21 -> 9.68 | E10: =$D$10*E9 -> 3717.12
B11: Otrais etaps - SEKVENCĒŠANA. No 2022.gada augusta tiek izmantoti reaģenti, kas iegādāti no EC projekta HERA, tarifa pārrēķins. | C11: paraugu skaits | E11: 384
C12: Summa, euro | D12: 127.35 | E12: =E11*D12 -> 48902.4
A13: Kopā NRL (1.1+3.1+3.2.) | C13: Summa, euro | E13: =SUM(E6+E10+E12) -> 52957.64
A15: 3 | B15: Otrais etaps - SEKVENCĒŠANA* ECDC sekvencēšanas nodrošināšanas ietvaros, ES finansējums ECDC, nav iekļauts finansējumā | C15: paraugu skaits | E15: 0
E16: =ROUNDUP(E13,0) -> 52958
A17: *datu apstrādi veic NRL personāls - bioinformātikas speciālisti
