Workbook

Sheet KOPSAVILKUMS
E1: 1. Pielikums rīkojuma projekta "Par apropriācijas pārdali" anotācijai
A3: 2026. – 2028. gada prioritārā pasākumam 29_04_P “Medikamentu pieejamības stiprināšana medikamentu cenu segmentā līdz 10 euro un invalīdiem (farmācijas pakalpojuma līdzfinansējuma korekcija)” papildus piešķirtais finansējums, 2026. gada prognozētā izpilde un neizpildes novirzīšana citiem mērķiem
A5: 2026. GADA neizpilde PP “Medikamentu pieejamības stiprināšana medikamentu cenu segmentā līdz 10 euro un invalīdiem (farmācijas pakalpojuma līdzfinansējuma korekcija)” papildu piešķirtā finansējuma ietvaros
B6: Papildus piešķirtais finansējums, EUR | C6: Indikatīvi prognozētā izpilde, EUR | D6: Indikatīvi prognozētā neizpilde, EUR | E6: Budžeta apakšprogramma
A7: KOPĀ, tai skaitā: | B7: =SUM(B8:B10) -> 9600000 | C7: =SUM(C8:C10) -> 4205687 | D7: =SUM(D8:D10) -> 5394313
A8: Personām ar 1. grupas invaliditāti | B8: 453360 | C8: =Neizpilde!B12 -> 151119 | D8: =B8-C8 -> 302241 | E8: 33.03.00 Kompensējamo medikamentu un materiālu apmaksāšana
A9: Recepšu medikamentiem, kam vienības cena ir līdz 10 euro | B9: 8762265 | C9: =Neizpilde!G23-Neizpilde!D32 -> 3670193 | D9: =B9-C9 -> 5092072 | E9: 33.03.00 Kompensējamo medikamentu un materiālu apmaksāšana
A10: Pielāgojumu informācijas sistēmā un to uzturēšana kontekstā ar farmaceita pakalpojuma apmaksu veikšanai | B10: 384375 | C10: =B10 -> 384375 | D10: =B10-C10 -> 0
A12: Pārdales 2026.gadam no prioritārā pasākuma neizpildes uz citiem pasākumiem
B13: Papildus novirzāmais finansējums, EUR | C13: Budžeta apakšprogramma
A14: KOPĀ, tai skaitā: | B14: =B15+B18+B19+B22 -> 5394313
A15: Vakcīnu iegādei, tai skaitā: | B15: =SUM(B16:B17) -> 600002 | C15: 33.04.00 Centralizēta medikamentu un materiālu iegāde
A16: Gripas vakcīnu iegādei | B16: =Vakcīnas!J6 -> 347230
A17: Masalu, masaliņu, epidēmiskā parotīta kombinēto vakcīnu iegādei | B17: =Vakcīnas!C16 -> 252772
A18: Kardioloģiskās aprūpes kabineta pilotprojekta realizācijai SIA "Vidzemes slimnīca" | B18: =Kardio_kabinets!E7 -> 87439 | C18: 33.16.00 Pārējo ambulatoro veselības aprūpes pakalpojumu nodrošināšana
A19: Stacionāro ārstniecības iestāžu darbības nepārtrauktības un pieejamības nodrošināšanai, tai skaitā: | B19: =SUM(B20:B21) -> 3991872
A20: Sekundāro ambulatoro veselības aprūpes pakalpojumu nepārtrauktības un pieejamības nodrošināšanai stacionārajās ārstniecības iestādēs | B20: =Kopa_Stacionariem!C37 -> 1383556 | C20: 33.16.00 Pārējo ambulatoro veselības aprūpes pakalpojumu nodrošināšana
A21: Stacionāro veselības aprūpes pakalpojumu nepārtrauktības un pieejamības nodrošināšanai | B21: =Kopa_Stacionariem!B37 -> 2608316 | C21: 33.21.00 Stacionāro veselības aprūpes pakalpojumu nodrošināšana
A22: Valsts asinsdonoru centram asins komponentu sagatavošanai un izmeklēšanai | B22: =VADC!E10 -> 715000 | C22: 39.03.00 Asins un asins komponentu nodrošināšana
B24: Pārdale no, EUR | C24: Pārdale uz, EUR
A25: KOPĀ, tai skaitā pa APAKŠPROGRAMMĀM: | B25: =SUM(B26:B30) -> -5394313 | C25: =SUM(C26:C30) -> 5394313
A26: 33.03.00 Kompensējamo medikamentu un materiālu apmaksāšana | B26: =-D7 -> -5394313
A27: 33.04.00 Centralizēta medikamentu un materiālu iegāde | C27: =B15 -> 600002
A28: 33.16.00 Pārējo ambulatoro veselības aprūpes pakalpojumu nodrošināšana | C28: =B18+B20 -> 1470995
A29: 33.21.00 Stacionāro veselības aprūpes pakalpojumu nodrošināšana | C29: =B21 -> 2608316
A30: 39.03.00 Asins un asins komponentu nodrošināšana | C30: =B22 -> 715000

Sheet Neizpilde
D1: 2. Pielikums rīkojuma projekta "Par apropriācijas pārdali" anotācijai
A3: Indikatīvi prognozētais finansējuma izlietojums, ņemot vērā, ka prioritārajā pasākumā no 2026. gada plānoto farmaceita pakalpojuma maksas atvieglojumi tiks ieviesti no 2026. gada 1. jūlija (par recepšu medikamentiem ar vienības cenu līdz 10 euro) un no 2026. gada 1. septembra (farmaceita pakalpojuma maksas segšana personām ar 1. grupas invaliditāti)
A5: 1. Maksas par farmaceita pakalpojuma sniegšanu segšana 100% apmērā no valsts budžeta līdzekļiem personām ar 1. grupas invaliditāti
B7: Kopā, EUR
A8: Personas ar 1. grupas invaliditāti, skaits | B8: 30224
A9: Recepšu skaits GADĀ, kam tiks segta FP maksa (vid. 20 receptes uz personu) | B9: =B8*20 -> 604480
A10: Recepšu skaits 2026. gadā, kam tiks segta FP maksa * | B10: =ROUND(B9/12*4-1,0) -> 201492
A11: PP plānotais finansējums GADAM | B11: =KOPSAVILKUMS!B8 -> 453360
A12: Indikatīvi prognozētais finansējuma izlietojums 2026. gadam * | B12: =B10*0.75 -> 151119
A13: Indikatīvi prognozētais finansējuma izlietojums 2027. gadam un turpmāk ik gadu | B13: =B11 -> 453360
A14: * PP tiks ieviests no 2026. gada 1. septembra
B15: 2026. gads | C15: 2027. gads un turpmāk ik gadu, EUR
A16: Indikatīvi prognozētā neizpilde | B16: =B11-B12 -> 302241 | C16: =B11-B13 -> 0
A19: 2. Maksas par farmaceita pakalpojuma sniegšanu segšana 100% apmērā no valsts budžeta līdzekļiem par recepšu medikamentiem, kam vienības cena ir līdz 10 euro
N20: 0
B21: Prioritārajā pasākumā plānotais un papildus piešķirtais 2026. gadam | C21: Prioritārajā pasākumā plānotais un papildus piešķirtais 2027. gadam un turpmāk ik gadu | D21: Faktiskā izpilde 2025. gada janvāris - novembris | E21: Indikatīvā prognoze gadam, balstoties uz 2025. gadam 11 mēnešu faktisko izpildi ** | F21: Indikatīvā prognoze finansējuma izlietojumam gadam ar 5 % rezervi * | G21: Indikatīvā prognoze finansējuma izlietojumam 2026. gada 1.jūlijs - 31. decembris *
A22: Receptes (skaits) *** | B22: 11683020 | C22: 12113520 | D22: 9005452 | E22: =D22/11*12 -> 9824129.5 | F22: =ROUND(E22*1.05,0) -> 10315336 | G22: =ROUND(F22/12*6,0) -> 5157668
A23: Pacienta maksas daļa par farmaceita pakalpojumu recepšu zālēm līdz 10 euro par iepakojumu, EUR | B23: =ROUND(B22*0.75,0) -> 8762265 | C23: =ROUND(C22*0.75,0) -> 9085140 | D23: =ROUND(D22*0.75,0) -> 6754089 | E23: =ROUND(E22*0.75,0) -> 7368097 | F23: =ROUND(F22*0.75,0) -> 7736502 | G23: =ROUND(G22*0.75,0) -> 3868251
A24: * PP tiks ieviests no 2026. gada 1. jūlija
A25: ** papildu nepieciešamais finansējums farmaceita pakalpojuma segšanai 100% apmērā no valsts budžeta par recepšu zālēm ar iepakojuma cenu līdz 10 euro, balstoties uz 2025. gada 11 mēnešu izpildi ir mazāks, nekā veicot sākotnējo prognozi uz 2025. gada 7 mēnešu faktisko izpildi
A26: *** plānotajā recepšu skaitā arī receptes grūtniecēm (diagnozes kods Z 33) un sievietēm līdz 70 pēcdzemdību perioda dienai (diagnozes kods Z 39.2), iegādājoties minētām diagnozēm paredzētās kompensējamo zāļu M saraksta zāles ar 25% kompensāciju un kuru iepakojuma aptiekas cena ir līdz 10 euro (tika apkopots kopējais recepšu skaits medikamentiem ar cenu līdz 10 euro)
A28: Pacienti, kuri iegādāsies kompensējamās recepšu zāles ar iepakojuma aptiekas cenu līdz 10 euro un zāļu kompensāciju 100% apmērā no farmaceita pakalpojuma maksas 0,75 euro apmērā netiks atbrīvoti
B30: Faktiskā izpilde 2025. gada janvāris - novembris | C30: Indikatīvā izdevumu samazinājuma prognoze gadam, balstoties uz 2025. gadam 11 mēnešu faktisko izpildi | D30: Indikatīvā izdevumu samazinājuma prognoze 2026. gada 1.jūlijs - 31. decembris
A31: Receptes ar 100% kompensāciju ar cenu līdz 10 euro (skaits) | B31: 484140 | C31: =ROUND(B31/11*12,0) -> 528153 | D31: =ROUND(C31/12*6,0) -> 264077
A32: Pacienta maksas daļa par farmaceita pakalpojumu recepšu zālēm līdz 10 euro par iepakojumu 100% valsts kompensētām zālēm, EUR | B32: =ROUND(B31*0.75,0) -> 363105 | C32: =ROUND(C31*0.75,0) -> 396115 | D32: =ROUND(D31*0.75,0) -> 198058
B34: 2026. gads | C34: 2027. gads un turpmāk ik gadu, EUR
A35: Indikatīvi prognozētā neizpilde | B35: =B23-G23+D32 -> 5092072 | C35: =C23-F23+C32 -> 1744753

Sheet Vakcīnas
G1: 3. Pielikums rīkojuma projekta "Par apropriācijas pārdali" anotācijai
A3: 1. Plānotais finansējums gripas vakcīnām 2026./2027. gada sezonai un papildus nepieciešamais
A5: Vakcīnas nosaukums | B5: Vakcīnas nosaukums | C5: Plānotais daudzums 2026./2027. gada sezonai (NVD esošā budžeta ietvaros) | D5: Papildus nepieciešamais daudzums, lai paplašinātu vakscinācijas aptveri riska grupā | E5: Cena bez PVN, EUR | F5: Cena ar PVN, EUR | G5: Līguma summa ar PVN (NVD esošā budžeta ietvaros), EUR | H5: Līguma summa ar PVN (ar papildus devām), EUR | I5: NVD esošais budžets gripas vakcīnu nodrošināšanai, EUR | J5: Papildus nepieciešamais finansējums papildus devu nodrošināšanai, EUR
A6: KOPĀ | C6: =SUM(C7:C9) -> 139120 | D6: =SUM(D7:D9) -> 9216 | G6: =SUM(G7:G9) -> 2750850 | H6: =SUM(H7:H9) -> 3098080 | I6: =G6 -> 2750850 | J6: =H6-I6 -> 347230
A7: Augstu devu vakcīna pret gripas vīrusa infekciju | B7: Efluelda | C7: =63000+2500 -> 65500 | D7: 9216 | E7: 33.64 | F7: =E7*1.12 -> 37.6768 | G7: =ROUND(C7*F7,0) -> 2467830 | H7: =ROUND((C7+D7)*F7,0) -> 2815060
A8: Intranazāli lietojama vakcīna pret gripas vīrusa infekciju (bērniem) | B8: Fluenz | C8: 2720 | E8: 20.7 | F8: =E8*1.12 -> 23.184 | G8: =ROUND(C8*F8,0) -> 63060 | H8: =ROUND((C8+D8)*F8,0) -> 63060
A9: Standarta vakcīna pret gripas vīrusa infekciju | B9: Vaxigrip | C9: =64900+6000 -> 70900 | E9: 2.77 | F9: =E9*1.12 -> 3.1024 | G9: =ROUND(C9*F9,0) -> 219960 | H9: =ROUND((C9+D9)*F9,0) -> 219960
A11: 2. Papildus nepieciešamais finansējums vakcīna pret masalām, masaliņām un epidēmisko parotītu nodrošināšanai
B13: 2026
B14: Papildus nepieciešamais vakcīnu skaits | C14: Papildus nepieciešamais finansējums, EUR
A16: Vakcīna pret masalām, masaliņām un epidēmisko parotītu | B16: =E22+E26+E30 -> 20480 | C16: =ROUND(H22+H26+H30,0) -> 252772
A20: Vakcīnas nosaukums | B20: Vecuma grupa | C20: Rekomendētā vakcinācijas aptvere | D20: 2026
D21: Prognozējamais daudzums (vakcīnas devas apaļojot) | E21: Prognozējamais daudzums 2026.gadam no jūlija (40% no gada aprēķina) | F21: Vienas devas cena (bez PVN), EUR | G21: Vienas devas cena (ar PVN), EUR | H21: Papildus nepieciešamais finansējums vakcīnu iegādei (ar PVN), EUR
A22: Vakcīna pret masalām, masaliņām un epidēmisko parotītu (MPR) | B22: 4 gadi | C22: 0.95 | D22: 16500 | E22: =ROUND(D22*0.4,0) -> 6600 | F22: 11.02 | G22: =F22*1.12 -> 12.3424 | H22: =ROUND(G22*E22,2) -> 81459.84
A24: Vakcīnas nosaukums | B24: Vecuma grupa | C24: Rekomendētā vakcinācijas aptvere | D24: 2026
D25: Prognozējamais daudzums (vakcīnas devas apaļojot) | E25: Prognozējamais daudzums 2026.gadam no jūlija (40% no gada aprēķina) | F25: Vienas devas cena (bez PVN), EUR | G25: Vienas devas cena (ar PVN), EUR | H25: Papildus nepieciešamais finansējums vakcīnu iegādei (ar PVN), EUR
A26: Vakcīna pret masalām, masaliņām un epidēmisko parotītu (MPR) | B26: 5 gadi | C26: 0.95 | D26: 16800 | E26: =ROUND(D26*0.4,0) -> 6720 | F26: 11.02 | G26: =F26*1.12 -> 12.3424 | H26: =ROUND(G26*E26,2) -> 82940.93
A28: Vakcīnas nosaukums | B28: Vecuma grupa | C28: Rekomendētā vakcinācijas aptvere | D28: 2026
D29: Prognozējamais daudzums (vakcīnas devas apaļojot) | E29: Prognozējamais daudzums 2026.gadam no jūlija (40% no gada aprēķina) | F29: Vienas devas cena (bez PVN), EUR | G29: Vienas devas cena (ar PVN), EUR | H29: Papildus nepieciešamais finansējums vakcīnu iegādei (ar PVN), EUR
A30: Vakcīna pret masalām, masaliņām un epidēmisko parotītu (MPR) | B30: 6 gadi | C30: 0.95 | D30: 17900 | E30: =ROUND(D30*0.4,0) -> 7160 | F30: 11.02 | G30: =F30*1.12 -> 12.3424 | H30: =ROUND(G30*E30,2) -> 88371.58

Sheet Kardio_kabinets
F1: 4. Pielikums rīkojuma projekta "Par apropriācijas pārdali" anotācijai
W2: Pielikums Nr.2.2.1.
A3: Kardioloģiskās aprūpes kabineta pilotprojekta realizācijai SIA "Vidzemes slimnīca" - nodrošināta hronisko pacientu dinamiskā novērošana ar hronisku slimību slimojošiem pacientiem pēc akūta notikuma vai intervences
A4: Plānotā ieviešana: no 2026. gada 1. septembra
C6: Apakšprogrammas nosaukums | D6: Papildus nepieciešamais finansējums GADAM | E6: Papildus nepieciešamais finansējums 2026. gadam
C7: 33.16.00 Pārējo ambulatoro veselības aprūpes pakalpojumu nodrošināšana | D7: =ROUND(W33+W57+W66+D16,0) -> 352946 | E7: =ROUND(E16+AA33+AA57+AA66,0) -> 87439
B10: Ārsts | C10: Māsa | D10: Palīgpersonāls | E10: Soc.nodoklis | H10: Pieskaitāmās un netiešās ražošanas izmaksas | I10: Administratīvās izmaksas | J10: Pārējo pamatlīdzekļu amortizācija
A11: Mēneša darba samaksa | B11: 2304 | C11: 1388 | D11: 925
A12: 1 minūtes vērtība darba samaksai | B12: =ROUND(B11/9600,4) -> 0.24 | C12: =ROUND(C11/9600,4) -> 0.1446 | D12: =ROUND(D11/9600,4) -> 0.0964 | E12: 0.2359 | G12: Koeficienti | H12: 0.2857 | I12: 0.0202 | J12: 0.0322
A14: Pacientu koordinators
A15: Amats | B15: Slodze | C15: Izmaksas mēnesī, euro | D15: Izmaksas gadā, euro | E15: Izmaksas 4 mēnešiem
A16: Koordinators | B16: 0.5 | C16: =ROUND(B16*C11*1.2359,2) -> 857.71 | D16: =ROUND(C16*12*1.2359,2) -> 12720.53 | E16: =ROUND(C16*4*1.2359,2) -> 4240.18
A19: 1 000 pacientu saņēmuši hroniskas slimības intensificētu dinamisko novērošanu (gadā) | T19: Izmaksas uz gadu | X19: Izmaksas uz 4 mēnešiem
A20: Manipulācijas kods | B20: Manipulācijas nosaukums | C20: Mainīgās izmaksas | Q20: Kopējās izmaksas, euro | R20: Pacienta līdzmaksājums, euro* | S20: Tarifs, euro | T20: Pacientu skaits vienā kabinetā** | U20: Reižu skaits vienam pacientam** | V20: Reizes kopā | W20: Summa | X20: Pacientu skaits vienā kabinetā** | Y20: Reižu skaits vienam pacientam** | Z20: Reizes kopā | AA20: Summa
C21: Darba laiks (minūtes) | F21: Darba samaksa D, euro | I21: Valsts sociālās apdrošināšanas obligātās iemaksas S, euro | J21: Ārstniecības līdzekļi M, euro | M21: Iekārtu amortizācija N, euro | N21: Pieskaitāmās un netiešās ražošanas izmaksas U, euro | O21: Administratīvās izmaksas A, euro | P21: Pārējo pamatlīdzekļu amortizācija n, euro
C22: ārstam | D22: māsai | E22: jaunākajam personālām | F22: ārstam | G22: māsai | H22: jaunākajam personālam | I22: ārstam, māsai un jaunākajam personālām kopā | J22: M kopā | K22: Medikamenti | L22: Materiāli
A23: =0&6033 -> 06033 | B23: Ehokardiogrāfija ar doplerogrāfiju | C23: 81 | D23: 50 | E23: 0 | F23: =C23*$B$12 -> 19.44 | G23: =D23*$C$12 -> 7.23 | H23: 0 | I23: =(F23+G23)*$E$12 -> 6.291453 | J23: 0.86 | K23: 0 | L23: 0.86 | M23: 8.49 | N23: =(F23+G23+H23)*$H$12+4 -> 11.619619 | O23: =(F23+G23+H23)*$I$12 -> 0.538734 | P23: =(F23+G23+H23)*$J$12 -> 0.858774 | Q23: =F23+G23+H23+I23+J23+M23+N23+O23+P23 -> 55.32858 | R23: 4 | S23: 51.33 | T23: =5000/5 -> 1000 | U23: 1.3 | V23: =T23*U23 -> 1300 | W23: =S23*V23 -> 66729 | X23: =ROUND(T23/12*4,0) -> 333 | Y23: 1.3 | Z23: =ROUND(X23*Y23,0) -> 433 | AA23: =ROUND(S23*Z23,2) -> 22225.89
A24: =0&6015 -> 06015 | B24: Holtera monitorēšana no 18 līdz 24 stundām | C24: 71 | D24: 30 | E24: 0 | F24: =C24*$B$12 -> 17.04 | G24: =D24*$C$12 -> 4.338 | H24: 0 | I24: =(F24+G24)*$E$12 -> 5.0430702 | J24: =K24+L24 -> 1.13 | K24: 0 | L24: 1.13 | M24: 2.15 | N24: =(F24+G24+H24)*$H$12+4 -> 10.107695 | O24: =(F24+G24+H24)*$I$12 -> 0.4318356 | P24: =(F24+G24+H24)*$J$12 -> 0.6883716 | Q24: =F24+G24+I24+J24+M24+N24+O24+P24 -> 40.928972 | R24: 4 | S24: 36.928972 | T24: =1000/5 -> 200 | U24: 1 | V24: =T24*U24 -> 200 | W24: =S24*V24 -> 7385.7944 | X24: =ROUND(T24/12*4,0) -> 67 | Y24: 1 | Z24: =ROUND(X24*Y24,0) -> 67 | AA24: =ROUND(S24*Z24,2) -> 2474.24
A25: Jauna1 | B25: Holtera monitorēšana no 18 līdz 24 stundām (katras nākamās 24 stundas) | C25: 70 | D25: 0 | E25: 0 | F25: =C25*$B$12 -> 16.8 | G25: =D25*$C$12 -> 0 | H25: 0 | I25: =(F25+G25)*$E$12 -> 3.96312 | J25: =K25+L25 -> 3.07 | K25: 0.05 | L25: 3.02 | M25: 4.14 | N25: =(F25+G25+H25)*$H$12 -> 4.79976 | O25: =(F25+G25+H25)*$I$12 -> 0.33936 | P25: =(F25+G25+H25)*$J$12 -> 0.54096 | Q25: =F25+I25+J25+M25+N25+O25+P25 -> 33.6532 | R25: 4 | S25: 29.6532 | T25: =500/5 -> 100 | U25: 1 | V25: =T25*U25 -> 100 | W25: =S25*V25 -> 2965.32 | X25: =ROUND(T25/12*4,0) -> 33 | Y25: 1 | Z25: =ROUND(X25*Y25,0) -> 33 | AA25: =ROUND(S25*Z25,2) -> 978.56
A26: =0&6003 -> 06003 | B26: Elektrokardiogrammas ar 12 novadījumiem pieraksts | C26: 0 | D26: 6 | E26: 0 | F26: =C26*$B$12 -> 0 | G26: =ROUNDUP(D26*$C$12,2) -> 0.87 | H26: 0 | I26: =(F26+G26)*$E$12 -> 0.205233 | J26: =K26+L26 -> 0.09 | K26: 0 | L26: 0.09 | M26: 0.36 | N26: =ROUND((F26+G26+H26)*$H$12+2,2) -> 2.25 | O26: =(F26+G26+H26)*$I$12 -> 0.017574 | P26: =(F26+G26+H26)*$J$12 -> 0.028014 | Q26: =ROUNDUP(G26+I26+J26+M26+N26+O26+P26,2) -> 3.83 | R26: 2 | S26: =Q26-R26 -> 1.83 | T26: =5000/5 -> 1000 | U26: 2 | V26: =T26*U26 -> 2000 | W26: =S26*V26 -> 3660 | X26: =ROUND(T26/12*4,0) -> 333 | Y26: 2 | Z26: =ROUND(X26*Y26,0) -> 666 | AA26: =ROUND(S26*Z26,2) -> 1218.78
A27: =0&6004 -> 06004 | B27: Elektrokardiogrammas ar 12 novadījumiem apraksts | C27: 15 | D27: 0 | E27: 0 | F27: =C27*$B$12 -> 3.6 | G27: =D27*$C$12 -> 0 | H27: 0 | I27: =(F27+G27)*$E$12 -> 0.84924 | J27: =K27+L27 -> 0.39 | K27: 0 | L27: 0.39 | M27: 0 | N27: =(F27+G27+H27)*$H$12 -> 1.02852 | O27: =(F27+G27+H27)*$I$12 -> 0.07272 | P27: =(F27+G27+H27)*$J$12 -> 0.11592 | Q27: =F27+I27+J27+M27+N27+O27+P27 -> 6.0564 | R27: 0 | S27: 6.0564 | T27: =5000/5 -> 1000 | U27: 2 | V27: =T27*U27 -> 2000 | W27: =V27*S27 -> 12112.8 | X27: =ROUND(T27/12*4,0) -> 333 | Y27: 2 | Z27: =ROUND(X27*Y27,0) -> 666 | AA27: =ROUND(S27*Z27,2) -> 4033.56
A28: =0&6021 -> 06021 | B28: Veloergometrijas slodzes tests | C28: 36 | D28: 35 | E28: 0 | F28: =C28*$B$12 -> 8.64 | G28: =D28*$C$12 -> 5.061 | H28: 0 | I28: =(F28+G28)*$E$12 -> 3.2320659 | J28: =K28+L28 -> 1.67 | K28: 0 | L28: 1.67 | M28: 3 | N28: =ROUND((F28+G28+H28)*$H$12+4,2) -> 7.91 | O28: =(F28+G28+H28)*$I$12 -> 0.2767602 | P28: =(F28+G28+H28)*$J$12 -> 0.4411722 | Q28: =G28+I28+F28+J28+M28+N28+O28+P28 -> 30.230998 | R28: 4 | S28: 26.230998 | T28: =(5000*0.45)/5 -> 450 | U28: 2 | V28: =ROUNDUP(T28*U28,0) -> 900 | W28: =V28*S28 -> 23607.898 | X28: =ROUND(T28/12*4,0) -> 150 | Y28: 2 | Z28: =ROUND(X28*Y28,0) -> 300 | AA28: =ROUND(S28*Z28,2) -> 7869.3
A29: Jauna2 | B29: Neinvazīvā asinspiediena monitorēšana no 18 līdz 24 stundām | C29: 20 | D29: 40 | E29: 0 | F29: =C29*$B$12 -> 4.8 | G29: =D29*$C$12 -> 5.784 | H29: 0 | I29: =(F29+G29)*$E$12 -> 2.4967656 | J29: =K29+L29 -> 3.76 | K29: 0.6 | L29: 3.16 | M29: 8.39 | N29: =(F29+G29+H29)*$H$12 -> 3.0238488 | O29: =(F29+G29+H29)*$I$12 -> 0.2137968 | P29: =(F29+G29+H29)*$J$12 -> 0.3408048 | Q29: =F29+G29+I29+J29+M29+N29+O29+P29 -> 28.809216 | R29: 4 | S29: 24.809216 | T29: =500/5 -> 100 | U29: 2 | V29: =T29*U29 -> 200 | W29: =V29*S29 -> 4961.8432 | X29: =ROUND(T29/12*4,0) -> 33 | Y29: 2 | Z29: =ROUND(X29*Y29,0) -> 66 | AA29: =ROUND(S29*Z29,2) -> 1637.41
A30: 60037 | B30: Ārsta-speciālista sniegta attālināta konsultācija ģimenes ārstam vai citas specialitātes ārstam-speciālistam (manipulāciju norāda ārsts-speciālists) | C30: 30 | D30: 10 | E30: 0 | F30: =C30*$B$12 -> 7.2 | G30: =D30*$C$12 -> 1.446 | H30: 0 | I30: =(F30+G30)*$E$12 -> 2.0395914 | J30: =K30+L30 -> 0 | K30: 0 | L30: 0 | M30: 0 | N30: =(F30+G30+H30)*$H$12 -> 2.4701622 | O30: =(F30+G30+H30)*$I$12 -> 0.1746492 | P30: =(F30+G30+H30)*$J$12 -> 0.2784012 | Q30: =F30+G30+I30+J30+M30+N30+O30+P30 -> 13.608804 | R30: 0 | S30: 13.608804 | T30: =1500/5 -> 300 | U30: 4 | V30: =T30*U30 -> 1200 | W30: =V30*S30 -> 16330.565 | X30: =ROUND(T30/12*4,0) -> 100 | Y30: 4 | Z30: =ROUND(X30*Y30,0) -> 400 | AA30: =ROUND(S30*Z30,2) -> 5443.52
A31: =0&7024 -> 07024 | B31: *Sešu minūšu iešanas tests | C31: 20 | D31: 15 | E31: 0 | F31: =ROUND(C31*$B$12,2) -> 4.8 | G31: =ROUND(D31*$C$12,2) -> 2.17 | H31: 0 | I31: =ROUND((F31+G31)*$E$12,2) -> 1.64 | J31: =K31+L31 -> 0.03 | K31: 0 | L31: 0.03 | M31: 0 | N31: =ROUND((F31+G31+H31)*$H$12,2) -> 1.99 | O31: =ROUND((F31+G31+H31)*$I$12,2) -> 0.14 | P31: =ROUND((F31+G31+H31)*$J$12,2) -> 0.22 | Q31: =ROUND(F31+G31+I31+J31+M31+N31+O31+P31,2) -> 10.99 | R31: 0 | S31: 10.99 | T31: =750/5 -> 150 | U31: 2 | V31: =T31*U31 -> 300 | W31: =V31*S31 -> 3297 | X31: =ROUND(T31/12*4,0) -> 50 | Y31: 2 | Z31: =ROUND(X31*Y31,0) -> 100 | AA31: =ROUND(S31*Z31,2) -> 1099
B32: Kardiolga aprūpes epizode | S32: 26.68 | T32: =5000/5 -> 1000 | U32: 2 | V32: =T32*U32 -> 2000 | W32: =V32*S32 -> 53360 | X32: =ROUND(T32/12*4,0) -> 333 | Y32: 2 | Z32: =ROUND(X32*Y32,0) -> 666 | AA32: =ROUND(S32*Z32,2) -> 17768.88
A33: * MK 555 noteikumu 13. pielikums | V33: Vienam kabinetam | W33: =SUM(W23:W32) -> 194410.22 | AA33: =SUM(AA23:AA32) -> 64749.14
A34: ** Latvijas Kardiologu biedrība
A36: 250 pacienti saņēmuši elektrokardiostimulatora darbības pārbaudi un programmēšanu (gadā) | T36: Izmaksas uz gadu | X36: Izmaksas uz 4 mēnešiem
A37: Manipulācijas kods | B37: Manipulācijas nosaukums | C37: Mainīgās izmaksas | Q37: Kopējās izmaksas, euro | R37: Pacienta līdzmaksājums, euro* | S37: Tarifs, euro | T37: Pacientu skaits** | U37: Reižu skaits vienam pacientam** | V37: Reizes kopā | W37: Summa | X37: Pacientu skaits vienā kabinetā** | Y37: Reižu skaits vienam pacientam** | Z37: Reizes kopā | AA37: Summa
C38: Darba laiks (minūtes) | F38: Darba samaksa D, euro | I38: Valsts sociālās apdrošināšanas obligātās iemaksas S, euro | J38: Ārstniecības līdzekļi M, euro | M38: Iekārtu amortizācija N, euro | N38: Pieskaitāmās un netiešās ražošanas izmaksas U, euro | O38: Administratīvās izmaksas A, euro | P38: Pārējo pamatlīdzekļu amortizācija n, euro
C39: ārstam | D39: māsai | E39: jaunākajam personālām | F39: ārstam | G39: māsai | H39: jaunākajam personālam | I39: ārstam, māsai un jaunākajam personālām kopā | J39: M kopā | K39: Medikamenti | L39: Materiāli
A40: =0&6033 -> 06033 | B40: Ehokardiogrāfija ar doplerogrāfiju | C40: 81 | D40: 50 | E40: 0 | F40: =C40*$B$12 -> 19.44 | G40: =D40*$C$12 -> 7.23 | H40: 0 | I40: =(F40+G40)*$E$12 -> 6.291453 | J40: 0.86 | K40: 0 | L40: 0.86 | M40: 8.49 | N40: =(F40+G40+H40)*$H$12+4 -> 11.619619 | O40: =(F40+G40+H40)*$I$12 -> 0.538734 | P40: =(F40+G40+H40)*$J$12 -> 0.858774 | Q40: =F40+G40+H40+I40+J40+M40+N40+O40+P40 -> 55.32858 | R40: 4 | S40: 51.33 | T40: =2500/5/2 -> 250 | U40: 1.5 | V40: =U40*T40 -> 375 | W40: =S40*V40 -> 19248.75 | X40: =ROUND(T40/12*X18,0) -> 0 | Y40: 1.5 | Z40: =X40*Y40 -> 0 | AA40: =ROUND(S40*Z40,2) -> 0
A41: =0&6015 -> 06015 | B41: Holtera monitorēšana no 18 līdz 24 stundām | C41: 71 | D41: 30 | E41: 0 | F41: =C41*$B$12 -> 17.04 | G41: =D41*$C$12 -> 4.338 | H41: 0 | I41: =(F41+G41)*$E$12 -> 5.0430702 | J41: =K41+L41 -> 1.13 | K41: 0 | L41: 1.13 | M41: 2.15 | N41: =(F41+G41+H41)*$H$12+4 -> 10.107695 | O41: =(F41+G41+H41)*$I$12 -> 0.4318356 | P41: =(F41+G41+H41)*$J$12 -> 0.6883716 | Q41: =F41+G41+I41+J41+M41+N41+O41+P41 -> 40.928972 | R41: 4 | S41: 36.928972 | T41: =500/5/2 -> 50 | U41: 1 | V41: =U41*T41 -> 50 | W41: =S41*V41 -> 1846.4486 | X41: =ROUND(T41/12*X18,0) -> 0 | Y41: 1 | Z41: =X41*Y41 -> 0 | AA41: =ROUND(S41*Z41,2) -> 0
A42: Jauna1 | B42: Holtera monitorēšana no 18 līdz 24 stundām (katras nākamās 24 stundas) | C42: 70 | D42: 0 | E42: 0 | F42: =C42*$B$12 -> 16.8 | G42: =D42*$C$12 -> 0 | H42: 0 | I42: =(F42+G42)*$E$12 -> 3.96312 | J42: =K42+L42 -> 3.07 | K42: 0.05 | L42: 3.02 | M42: 4.14 | N42: =(F42+G42+H42)*$H$12 -> 4.79976 | O42: =(F42+G42+H42)*$I$12 -> 0.33936 | P42: =(F42+G42+H42)*$J$12 -> 0.54096 | Q42: =F42+I42+J42+M42+N42+O42+P42 -> 33.6532 | R42: 4 | S42: 29.6532 | T42: =500/5/2 -> 50 | U42: 1 | V42: =U42*T42 -> 50 | W42: =S42*V42 -> 1482.66 | X42: =ROUND(T42/12*X18,0) -> 0 | Y42: 1 | Z42: =X42*Y42 -> 0 | AA42: =ROUND(S42*Z42,2) -> 0
A43: =0&6003 -> 06003 | B43: Elektrokardiogrammas ar 12 novadījumiem pieraksts | C43: 0 | D43: 6 | E43: 0 | F43: =C43*$B$12 -> 0 | G43: =ROUNDUP(D43*$C$12,2) -> 0.87 | H43: 0 | I43: =(F43+G43)*$E$12 -> 0.205233 | J43: =K43+L43 -> 0.09 | K43: 0 | L43: 0.09 | M43: 0.36 | N43: =ROUND((F43+G43+H43)*$H$12+2,2) -> 2.25 | O43: =(F43+G43+H43)*$I$12 -> 0.017574 | P43: =(F43+G43+H43)*$J$12 -> 0.028014 | Q43: =ROUNDUP(G43+I43+J43+M43+N43+O43+P43,2) -> 3.83 | R43: 2 | S43: 1.83 | T43: =5000/5/2 -> 500 | U43: 2 | V43: =U43*T43 -> 1000 | W43: =S43*V43 -> 1830 | X43: =ROUND(T43/12*X18,0) -> 0 | Y43: 2 | Z43: =X43*Y43 -> 0 | AA43: =ROUND(S43*Z43,2) -> 0
A44: =0&6004 -> 06004 | B44: Elektrokardiogrammas ar 12 novadījumiem apraksts | C44: 15 | D44: 0 | E44: 0 | F44: =C44*$B$12 -> 3.6 | G44: =D44*$C$12 -> 0 | H44: 0 | I44: =(F44+G44)*$E$12 -> 0.84924 | J44: =K44+L44 -> 0.39 | K44: 0 | L44: 0.39 | M44: 0 | N44: =(F44+G44+H44)*$H$12 -> 1.02852 | O44: =(F44+G44+H44)*$I$12 -> 0.07272 | P44: =(F44+G44+H44)*$J$12 -> 0.11592 | Q44: =F44+I44+J44+M44+N44+O44+P44 -> 6.0564 | R44: 0 | S44: 6.0564 | T44: =2500/5/2 -> 250 | U44: 2 | V44: =U44*T44 -> 500 | W44: =V44*S44 -> 3028.2 | X44: =ROUND(T44/12*X18,0) -> 0 | Y44: 2 | Z44: =X44*Y44 -> 0 | AA44: =ROUND(S44*Z44,2) -> 0
A45: =0&6021 -> 06021 | B45: Veloergometrijas slodzes tests | C45: 36 | D45: 35 | E45: 0 | F45: =C45*$B$12 -> 8.64 | G45: =D45*$C$12 -> 5.061 | H45: 0 | I45: =(F45+G45)*$E$12 -> 3.2320659 | J45: =K45+L45 -> 1.67 | K45: 0 | L45: 1.67 | M45: 3 | N45: =ROUND((F45+G45+H45)*$H$12+4,2) -> 7.91 | O45: =(F45+G45+H45)*$I$12 -> 0.2767602 | P45: =(F45+G45+H45)*$J$12 -> 0.4411722 | Q45: =G45+I45+F45+J45+M45+N45+O45+P45 -> 30.230998 | R45: 4 | S45: 26.230998 | T45: =250/5/2 -> 25 | U45: 1 | V45: =U45*T45 -> 25 | W45: =V45*S45 -> 655.77496 | X45: =ROUND(T45/12*X18,0) -> 0 | Y45: 1 | Z45: =X45*Y45 -> 0 | AA45: =ROUND(S45*Z45,2) -> 0
A46: Jauna2 | B46: Neinvazīvā asinspiediena monitorēšana no 18 līdz 24 stundām | C46: 20 | D46: 40 | E46: 0 | F46: =C46*$B$12 -> 4.8 | G46: =D46*$C$12 -> 5.784 | H46: 0 | I46: =(F46+G46)*$E$12 -> 2.4967656 | J46: =K46+L46 -> 3.76 | K46: 0.6 | L46: 3.16 | M46: 8.39 | N46: =(F46+G46+H46)*$H$12 -> 3.0238488 | O46: =(F46+G46+H46)*$I$12 -> 0.2137968 | P46: =(F46+G46+H46)*$J$12 -> 0.3408048 | Q46: =F46+G46+I46+J46+M46+N46+O46+P46 -> 28.809216 | R46: 4 | S46: 24.809216 | T46: =ROUNDUP(375/5/2,0) -> 38 | U46: 1 | V46: =U46*T46 -> 38 | W46: =V46*S46 -> 942.75021 | X46: =ROUND(T46/12*X18,0) -> 0 | Y46: 1 | Z46: =X46*Y46 -> 0 | AA46: =ROUND(S46*Z46,2) -> 0
A47: 60037 | B47: Ārsta-speciālista sniegta attālināta konsultācija ģimenes ārstam vai citas specialitātes ārstam-speciālistam (manipulāciju norāda ārsts-speciālists) | C47: 30 | D47: 10 | E47: 0 | F47: =C47*$B$12 -> 7.2 | G47: =D47*$C$12 -> 1.446 | H47: 0 | I47: =(F47+G47)*$E$12 -> 2.0395914 | J47: =K47+L47 -> 0 | K47: 0 | L47: 0 | M47: 0 | N47: =(F47+G47+H47)*$H$12 -> 2.4701622 | O47: =(F47+G47+H47)*$I$12 -> 0.1746492 | P47: =(F47+G47+H47)*$J$12 -> 0.2784012 | Q47: =F47+G47+I47+J47+M47+N47+O47+P47 -> 13.608804 | R47: 0 | S47: 13.608804 | T47: =ROUNDUP(1250/5/2,0) -> 125 | U47: 1 | V47: =U47*T47 -> 125 | W47: =V47*S47 -> 1701.1005 | X47: =ROUND(T47/12*X18,0) -> 0 | Y47: 1 | Z47: =X47*Y47 -> 0 | AA47: =ROUND(S47*Z47,2) -> 0
...

Sheet Kopa_Stacionariem
B1: 5. Pielikums rīkojuma projekta "Par apropriācijas pārdali" anotācijai
A3: Papildu nepieciešamais finansējuma apjoms stacionāro ārstniecības iestāžu darbības nepārtrauktības un pieejamības nodrošināšanai
A5: Ārstniecības iestādes nosaukums | B5: Papildus nepieciešamais finansējums stacionāro pakalpojumu nepārtrauktības un pieejamības nodrošināšanai | C5: Papildu nepieciešamais finansējums sekundāro ambulatoro veselības aprūpes pakalpojumu nepārtrauktības un pieejamības nodrošināšanai | D5: Kopā papildu nepieciešams
A6: Aizkraukles klīnika | B6: =ROUND(Stac_parstrades!O28+Stac_parstrades!O63+Stac_parstrades!O71+Stac_apjoma_paliel!Q17,0) -> 211520 | C6: =Kopā_ambul_pak_stac!E7 -> 4612 | D6: =SUM(B6:C6) -> 216132
A7: Alūksnes slimnīca | B7: =ROUND(Stac_parstrades!O39+Stac_parstrades!O52+Stac_apjoma_paliel!Q29,0) -> 19922 | C7: =Kopā_ambul_pak_stac!E6 -> 11506 | D7: =SUM(B7:C7) -> 31428
A8: Balvu un Gulbenes slimnīcu apvienība | B8: =ROUND(Stac_parstrades!O40+Stac_parstrades!O53+Stac_parstrades!O68+Stac_apjoma_paliel!Q10+Stac_apjoma_paliel!Q30,0) -> 46757 | C8: =Kopā_ambul_pak_stac!E8 -> 51759 | D8: =SUM(B8:C8) -> 98516
A9: Bauskas slimnīca | B9: =ROUND(Stac_parstrades!O17+Stac_parstrades!O29+Stac_parstrades!O64+Stac_apjoma_paliel!Q18,0) -> 109517 | D9: =SUM(B9:C9) -> 109517
A10: Cēsu klīnika | B10: =ROUND(Stac_parstrades!O11+Stac_parstrades!O24+Stac_parstrades!O54+Stac_apjoma_paliel!Q11,0) -> 83071 | C10: =Kopā_ambul_pak_stac!E9 -> 155325 | D10: =SUM(B10:C10) -> 238396
A11: Daugavpils reģionālā slimnīca | B11: 0 | C11: =Kopā_ambul_pak_stac!E10 -> 25109 | D11: =SUM(B11:C11) -> 25109
A12: Dobeles un apkārtnes slimnīca | B12: =ROUND(Stac_parstrades!O12+Stac_parstrades!O25+Stac_parstrades!O55+Stac_apjoma_paliel!Q12,0) -> 25086 | C12: =Kopā_ambul_pak_stac!E11 -> 154365 | D12: =SUM(B12:C12) -> 179451
A13: Jelgavas pilsētas slimnīca | B13: =ROUND(Stac_parstrades!O47,0) -> 2430 | D13: =SUM(B13:C13) -> 2430
A14: Jēkabpils reģionālā slimnīca | B14: =ROUND(Stac_parstrades!O48,0) -> 28059 | C14: =Kopā_ambul_pak_stac!E12 -> 2815 | D14: =SUM(B14:C14) -> 30874
A15: Jūrmalas slimnīca | B15: =ROUND(Stac_parstrades!O56+Stac_apjoma_paliel!Q13,0) -> 13476 | C15: =Kopā_ambul_pak_stac!E13 -> 96533 | D15: =SUM(B15:C15) -> 110009
A16: Krāslavas slimnīca | B16: =ROUND(Stac_parstrades!O13+Stac_parstrades!O69+Stac_apjoma_paliel!Q14,0) -> 70974 | C16: =Kopā_ambul_pak_stac!E14 -> 6673 | D16: =SUM(B16:C16) -> 77647
A17: Kuldīgas slimnīca | B17: =ROUND(Stac_parstrades!O26+Stac_parstrades!O57+Stac_parstrades!O70+Stac_apjoma_paliel!Q15,0) -> 22933 | C17: =Kopā_ambul_pak_stac!E15 -> 199848 | D17: =SUM(B17:C17) -> 222781
A18: Latvijas Jūras medicīnas centrs | B18: =ROUND(Stac_apjoma_paliel!Q22,0) -> 109391 | C18: =Kopā_ambul_pak_stac!E16 -> 13963 | D18: =SUM(B18:C18) -> 123354
A19: Liepājas reģionālā slimnīca | B19: =ROUND(Stac_parstrades!O7+Stac_parstrades!O21+Stac_parstrades!O35+Stac_parstrades!O49+Stac_apjoma_paliel!Q7+Stac_apjoma_paliel!Q25,0) -> 152151 | D19: =SUM(B19:C19) -> 152151
A20: Limbažu slimnīca | B20: =ROUND(Stac_parstrades!O19+Stac_parstrades!O32+Stac_parstrades!O44+Stac_parstrades!O74+Stac_apjoma_paliel!Q21+Stac_apjoma_paliel!Q34,0) -> 133264 | C20: =Kopā_ambul_pak_stac!E17 -> 4277 | D20: =SUM(B20:C20) -> 137541
A21: Līvānu slimnīca | B21: =ROUND(Stac_parstrades!O43+Stac_apjoma_paliel!Q33,0) -> 65974 | D21: =SUM(B21:C21) -> 65974
A22: Ludzas medicīnas centrs | B22: =ROUND(Stac_parstrades!O18+Stac_parstrades!O30+Stac_parstrades!O65+Stac_apjoma_paliel!Q19,0) -> 255275 | C22: =Kopā_ambul_pak_stac!E18 -> 10105 | D22: =SUM(B22:C22) -> 265380
A23: Madonas slimnīca | B23: =ROUND(Stac_parstrades!O41+Stac_parstrades!O58+Stac_apjoma_paliel!Q31,0) -> 14615 | C23: =Kopā_ambul_pak_stac!E19 -> 284339 | D23: =SUM(B23:C23) -> 298954
A24: Ogres rajona slimnīca | B24: =ROUND(Stac_parstrades!O42+Stac_parstrades!O59+Stac_apjoma_paliel!Q32,0) -> 5997 | C24: =Kopā_ambul_pak_stac!E20 -> 132474 | D24: =SUM(B24:C24) -> 138471
A25: Paula Stradiņa klīniskā universitātes slimnīca | B25: =ROUND(Stac_parstrades!O45,0) -> 36205 | C25: =Kopā_ambul_pak_stac!E21 -> 11390 | D25: =SUM(B25:C25) -> 47595
A26: Preiļu slimnīca | B26: =ROUND(Stac_parstrades!O60,0) -> 1464 | C26: =Kopā_ambul_pak_stac!E22 -> 7604 | D26: =SUM(B26:C26) -> 9068
A27: Rēzeknes slimnīca | B27: =ROUND(Stac_parstrades!O8+Stac_parstrades!O22+Stac_parstrades!O36+Stac_apjoma_paliel!Q8+Stac_apjoma_paliel!Q26,0) -> 134185 | C27: =Kopā_ambul_pak_stac!E23 -> 8325 | D27: =SUM(B27:C27) -> 142510
A28: Rīgas 2. slimnīca | B28: =ROUND(Stac_parstrades!O15+Stac_parstrades!O61,0) -> 62249 | C28: =Kopā_ambul_pak_stac!E24 -> 9079 | D28: =SUM(B28:C28) -> 71328
A29: Rīgas Austrumu klīniskā universitātes slimnīca | B29: =ROUND(Stac_parstrades!O34+Stac_parstrades!O46+Stac_apjoma_paliel!Q24,0) -> 96985 | C29: =Kopā_ambul_pak_stac!E25 -> 10022 | D29: =SUM(B29:C29) -> 107007
A30: Saldus medicīnas centrs | B30: =ROUND(Stac_parstrades!O73,0) -> 22787 | D30: =SUM(B30:C30) -> 22787
A31: Sanare KRC Jaunķemeri | B31: =ROUND(Stac_parstrades!O20+Stac_parstrades!O33+Stac_parstrades!O67+Stac_apjoma_paliel!Q23,0) -> 26708 | D31: =SUM(B31:C31) -> 26708
A32: Siguldas slimnīca | B32: =ROUND(Stac_parstrades!O31+Stac_parstrades!O66+Stac_parstrades!O72+Stac_apjoma_paliel!Q20,0) -> 45227 | C32: =Kopā_ambul_pak_stac!E26 -> 15528 | D32: =SUM(B32:C32) -> 60755
A33: Traumatoloģijas un ortopēdijas slimnīca | B33: =ROUND(Stac_parstrades!O16+Stac_parstrades!O62,0) -> 402318 | C33: =Kopā_ambul_pak_stac!E27 -> 5873 | D33: =SUM(B33:C33) -> 408191
A34: Tukuma slimnīca | B34: =ROUND(Stac_parstrades!O14+Stac_parstrades!O27+Stac_apjoma_paliel!Q16,0) -> 36263 | C34: =Kopā_ambul_pak_stac!E28 -> 107221 | D34: =SUM(B34:C34) -> 143484
A35: Vidzemes slimnīca | B35: =ROUND(Stac_parstrades!O9+Stac_parstrades!O23+Stac_parstrades!O37+Stac_parstrades!O50+Stac_apjoma_paliel!Q9+Stac_apjoma_paliel!Q27,0) -> 263274 | C35: =Kopā_ambul_pak_stac!E29 -> 29930 | D35: =SUM(B35:C35) -> 293204
A36: Ziemeļkurzemes reģionālā slimnīca | B36: =ROUND(Stac_parstrades!O10+Stac_parstrades!O38+Stac_parstrades!O51+Stac_apjoma_paliel!Q28,0) -> 110239 | C36: =Kopā_ambul_pak_stac!E30 -> 24881 | D36: =SUM(B36:C36) -> 135120
A37: KOPĀ: | B37: =SUM(B6:B36) -> 2608316 | C37: =SUM(C6:C36) -> 1383556 | D37: =SUM(D6:D36) -> 3991872

Sheet Stac_parstrades
G1: 6. Pielikums rīkojuma projekta "Par apropriācijas pārdali" anotācijai
A3: Papildu nepieciešamais finansējuma stacionāro veselības aprūpes pakalpojumu pārstrāžu segšanai 2026_3M
A5: Ārstniecības iestāde | B5: Pakalpojuma programmas virssadaļa | C5: Pakalpojuma programmas sadaļa | D5: Pakalpojuma programmas nosaukums | E5: Plāns 2026 (1. rīkojums) | G5: Plāns 2026 (janvāris - marts) | I5: Izpilde 2026 (janvāris - marts) | O5: Papildus nepieciešams pārstrāžu segšanai
E6: Pacientu skaits | F6: Finansējums, EUR | G6: Pacientu skaits | H6: Finansējums, EUR | I6: Pacientu skaits | J6: Finansējums, EUR | K6: % Pacientu izpilde | L6: % Finansējuma izpilde | M6: Pacientu skaitu starpība | N6: Finansējuma starpība, EUR
A7: Liepājas reģionālā slimnīca | B7: 01. DRG fiksētais maksājums | C7: 01. DRG fiksētais maksājums | D7: DRG fiksētais maksājums | E7: 10950 | F7: 12924139 | G7: 2738 | H7: 3231625 | I7: 2789 | J7: 3291820 | K7: =I7/G7 -> 1.0186267 | L7: =J7/H7 -> 1.0186269 | M7: =I7-G7 -> 51 | N7: =J7-H7 -> 60195 | O7: =N7 -> 60195
A8: Rēzeknes slimnīca | B8: 01. DRG fiksētais maksājums | C8: 01. DRG fiksētais maksājums | D8: DRG fiksētais maksājums | E8: 8106 | F8: 7970442 | G8: 2027 | H8: 1993102 | I8: 2124 | J8: 2088480 | K8: =I8/G8 -> 1.047854 | L8: =J8/H8 -> 1.047854 | M8: =I8-G8 -> 97 | N8: =J8-H8 -> 95378 | O8: =N8 -> 95378
A9: Vidzemes slimnīca | B9: 01. DRG fiksētais maksājums | C9: 01. DRG fiksētais maksājums | D9: DRG fiksētais maksājums | E9: 10470 | F9: 10065086 | G9: 2618 | H9: 2516752 | I9: 2644 | J9: 2541747 | K9: =I9/G9 -> 1.0099312 | L9: =J9/H9 -> 1.0099315 | M9: =I9-G9 -> 26 | N9: =J9-H9 -> 24995 | O9: =N9 -> 24995
A10: Ziemeļkurzemes reģionālā slimnīca | B10: 01. DRG fiksētais maksājums | C10: 01. DRG fiksētais maksājums | D10: DRG fiksētais maksājums | E10: 6491 | F10: 6109877 | G10: 1623 | H10: 1527705 | I10: 1702 | J10: 1602066 | K10: =I10/G10 -> 1.0486753 | L10: =J10/H10 -> 1.048675 | M10: =I10-G10 -> 79 | N10: =J10-H10 -> 74361 | O10: =N10 -> 74361
A11: Cēsu klīnika | B11: 01. DRG fiksētais maksājums | C11: 01. DRG fiksētais maksājums | D11: DRG fiksētais maksājums | E11: 3444 | F11: 2400484 | G11: 861 | H11: 600121 | I11: 958 | J11: 667730 | K11: =I11/G11 -> 1.1126597 | L11: =J11/H11 -> 1.1126589 | M11: =I11-G11 -> 97 | N11: =J11-H11 -> 67609 | O11: =N11 -> 67609
A12: Dobeles un apkārtnes slimnīca | B12: 01. DRG fiksētais maksājums | C12: 01. DRG fiksētais maksājums | D12: DRG fiksētais maksājums | E12: 1826 | F12: 1658613 | G12: 457 | H12: 415107 | I12: 476 | J12: 432366 | K12: =I12/G12 -> 1.0415755 | L12: =J12/H12 -> 1.0415772 | M12: =I12-G12 -> 19 | N12: =J12-H12 -> 17259 | O12: =N12 -> 17259
A13: Krāslavas slimnīca | B13: 01. DRG fiksētais maksājums | C13: 01. DRG fiksētais maksājums | D13: DRG fiksētais maksājums | E13: 1677 | F13: 1245913 | G13: 419 | H13: 311293 | I13: 494 | J13: 367013 | K13: =I13/G13 -> 1.1789976 | L13: =J13/H13 -> 1.1789954 | M13: =I13-G13 -> 75 | N13: =J13-H13 -> 55720 | O13: =N13 -> 55720
A14: Tukuma slimnīca | B14: 01. DRG fiksētais maksājums | C14: 01. DRG fiksētais maksājums | D14: DRG fiksētais maksājums | E14: 2484 | F14: 1985042 | G14: 621 | H14: 496260 | I14: 627 | J14: 501055 | K14: =I14/G14 -> 1.0096618 | L14: =J14/H14 -> 1.0096623 | M14: =I14-G14 -> 6 | N14: =J14-H14 -> 4795 | O14: =N14 -> 4795
A15: Rīgas 2. slimnīca | B15: 01. DRG fiksētais maksājums | C15: 01. DRG fiksētais maksājums | D15: DRG fiksētais maksājums | E15: 2247 | F15: 2414436 | G15: 562 | H15: 603878 | I15: 611 | J15: 656529 | K15: =I15/G15 -> 1.0871886 | L15: =J15/H15 -> 1.0871881 | M15: =I15-G15 -> 49 | N15: =J15-H15 -> 52651 | O15: =N15 -> 52651
A16: Traumatoloģijas un ortopēdijas slimnīca | B16: 01. DRG fiksētais maksājums | C16: 01. DRG fiksētais maksājums | D16: DRG fiksētais maksājums | E16: 3836 | F16: 5533302 | G16: 959 | H16: 1383325 | I16: 1226 | J16: 1768464 | K16: =I16/G16 -> 1.278415 | L16: =J16/H16 -> 1.2784154 | M16: =I16-G16 -> 267 | N16: =J16-H16 -> 385139 | O16: =N16 -> 385139
A17: Bauskas slimnīca | B17: 01. DRG fiksētais maksājums | C17: 01. DRG fiksētais maksājums | D17: DRG fiksētais maksājums | E17: 457 | F17: 378787 | G17: 114 | H17: 94489 | I17: 120 | J17: 99463 | K17: =I17/G17 -> 1.0526316 | L17: =J17/H17 -> 1.052641 | M17: =I17-G17 -> 6 | N17: =J17-H17 -> 4974 | O17: =N17 -> 4974
A18: Ludzas medicīnas centrs | B18: 01. DRG fiksētais maksājums | C18: 01. DRG fiksētais maksājums | D18: DRG fiksētais maksājums | E18: 268 | F18: 184625 | G18: 67 | H18: 46156 | I18: 84 | J18: 57867 | K18: =I18/G18 -> 1.2537313 | L18: =J18/H18 -> 1.2537265 | M18: =I18-G18 -> 17 | N18: =J18-H18 -> 11711 | O18: =N18 -> 11711
... A44: Limbažu slimnīca | B44: 07. Maksājums pa pakalpojumu programmām | C44: 07. Maksājums pa pakalpojumu programmām | D44: Hronisko pacientu aprūpe no 15. ārstēšanās dienas vai aprūpes turpināšana pēc akūta ārstēšanas perioda iestādes ietvaros | E44: 23 | F44: 43160 | G44: 6 | H44: 10790 | I44: 15 | J44: 30274 | K44: =I44/G44 -> 2.5 | L44: =J44/H44 -> 2.8057461 | M44: =I44-G44 -> 9 | N44: =J44-H44 -> 19484 | O44: =N44 -> 19484
A45: Paula Stradiņa klīniskā universitātes slimnīca | B45: 09. Piemaksājamās manipulācijas | C45: 09.04. Piemaksa par akūto rehabilitāciju jaukta profila gultās | D45: Akūtā rehabilitācija jaukta profila gultās | E45: 0 | F45: 391510 | G45: 0 | H45: 97878 | J45: 134083 | K45: 0 | L45: =J45/H45 -> 1.3698993 | M45: =I45-G45 -> 0 | N45: =J45-H45 -> 36205 | O45: =N45 -> 36205
A46: Rīgas Austrumu klīniskā universitātes slimnīca | B46: 09. Piemaksājamās manipulācijas | C46: 09.04. Piemaksa par akūto rehabilitāciju jaukta profila gultās | D46: Akūtā rehabilitācija jaukta profila gultās | E46: 0 | F46: 977813 | G46: 0 | H46: 244453 | J46: 313081 | K46: 0 | L46: =J46/H46 -> 1.2807411 | M46: =I46-G46 -> 0 | N46: =J46-H46 -> 68628 | O46: =N46 -> 68628
A47: Jelgavas pilsētas slimnīca | B47: 09. Piemaksājamās manipulācijas | C47: 09.04. Piemaksa par akūto rehabilitāciju jaukta profila gultās | D47: Akūtā rehabilitācija jaukta profila gultās | E47: 0 | F47: 59662 | G47: 0 | H47: 14916 | J47: 17346 | K47: 0 | L47: =J47/H47 -> 1.1629123 | M47: =I47-G47 -> 0 | N47: =J47-H47 -> 2430 | O47: =N47 -> 2430
A48: Jēkabpils reģionālā slimnīca | B48: 09. Piemaksājamās manipulācijas | C48: 09.04. Piemaksa par akūto rehabilitāciju jaukta profila gultās | D48: Akūtā rehabilitācija jaukta profila gultās | E48: 0 | F48: 61706 | G48: 0 | H48: 15427 | J48: 43486 | K48: 0 | L48: =J48/H48 -> 2.8188241 | M48: =I48-G48 -> 0 | N48: =J48-H48 -> 28059 | O48: =N48 -> 28059
A49: Liepājas reģionālā slimnīca | B49: 09. Piemaksājamās manipulācijas | C49: 09.04. Piemaksa par akūto rehabilitāciju jaukta profila gultās | D49: Akūtā rehabilitācija jaukta profila gultās | E49: 0 | F49: 167524 | G49: 0 | H49: 41881 | J49: 49463 | K49: 0 | L49: =J49/H49 -> 1.1810367 | M49: =I49-G49 -> 0 | N49: =J49-H49 -> 7582 | O49: =N49 -> 7582
A50: Vidzemes slimnīca | B50: 09. Piemaksājamās manipulācijas | C50: 09.04. Piemaksa par akūto rehabilitāciju jaukta profila gultās | D50: Akūtā rehabilitācija jaukta profila gultās | E50: 0 | F50: 138097 | G50: 0 | H50: 34524 | J50: 39573 | K50: 0 | L50: =J50/H50 -> 1.1462461 | M50: =I50-G50 -> 0 | N50: =J50-H50 -> 5049 | O50: =N50 -> 5049
A51: Ziemeļkurzemes reģionālā slimnīca | B51: 09. Piemaksājamās manipulācijas | C51: 09.04. Piemaksa par akūto rehabilitāciju jaukta profila gultās | D51: Akūtā rehabilitācija jaukta profila gultās | E51: 0 | F51: 100014 | G51: 0 | H51: 25004 | J51: 48731 | K51: 0 | L51: =J51/H51 -> 1.9489282 | M51: =I51-G51 -> 0 | N51: =J51-H51 -> 23727 | O51: =N51 -> 23727
A52: Alūksnes slimnīca | B52: 09. Piemaksājamās manipulācijas | C52: 09.04. Piemaksa par akūto rehabilitāciju jaukta profila gultās | D52: Akūtā rehabilitācija jaukta profila gultās | E52: 0 | F52: 8177 | G52: 0 | H52: 2044 | J52: 3093 | K52: 0 | L52: =J52/H52 -> 1.5132094 | M52: =I52-G52 -> 0 | N52: =J52-H52 -> 1049 | O52: =N52 -> 1049
A53: Balvu un Gulbenes slimnīcu apvienība | B53: 09. Piemaksājamās manipulācijas | C53: 09.04. Piemaksa par akūto rehabilitāciju jaukta profila gultās | D53: Akūtā rehabilitācija jaukta profila gultās | E53: 0 | F53: 9892 | G53: 0 | H53: 2473 | J53: 18374 | K53: 0 | L53: =J53/H53 -> 7.4298423 | M53: =I53-G53 -> 0 | N53: =J53-H53 -> 15901 | O53: =N53 -> 15901
A54: Cēsu klīnika | B54: 09. Piemaksājamās manipulācijas | C54: 09.04. Piemaksa par akūto rehabilitāciju jaukta profila gultās | D54: Akūtā rehabilitācija jaukta profila gultās | E54: 0 | F54: 25613 | G54: 0 | H54: 6403 | J54: 8378 | K54: 0 | L54: =J54/H54 -> 1.3084492 | M54: =I54-G54 -> 0 | N54: =J54-H54 -> 1975 | O54: =N54 -> 1975
A55: Dobeles un apkārtnes slimnīca | B55: 09. Piemaksājamās manipulācijas | C55: 09.04. Piemaksa par akūto rehabilitāciju jaukta profila gultās | D55: Akūtā rehabilitācija jaukta profila gultās | E55: 0 | F55: 26072 | G55: 0 | H55: 6518 | J55: 9100 | K55: 0 | L55: =J55/H55 -> 1.3961338 | M55: =I55-G55 -> 0 | N55: =J55-H55 -> 2582 | O55: =N55 -> 2582
A56: Jūrmalas slimnīca | B56: 09. Piemaksājamās manipulācijas | C56: 09.04. Piemaksa par akūto rehabilitāciju jaukta profila gultās | D56: Akūtā rehabilitācija jaukta profila gultās | E56: 0 | F56: 11839 | G56: 0 | H56: 2960 | J56: 9693 | K56: 0 | L56: =J56/H56 -> 3.2746622 | M56: =I56-G56 -> 0 | N56: =J56-H56 -> 6733 | O56: =N56 -> 6733
... A66: Siguldas slimnīca | B66: 09. Piemaksājamās manipulācijas | C66: 09.04. Piemaksa par akūto rehabilitāciju jaukta profila gultās | D66: Akūtā rehabilitācija jaukta profila gultās | E66: 0 | F66: 20511 | G66: 0 | H66: 5128 | J66: 21767 | K66: 0 | L66: =J66/H66 -> 4.2447348 | M66: =I66-G66 -> 0 | N66: =J66-H66 -> 16639 | O66: =N66 -> 16639
A67: Sanare KRC Jaunķemeri | B67: 09. Piemaksājamās manipulācijas | C67: 09.04. Piemaksa par akūto rehabilitāciju jaukta profila gultās | D67: Akūtā rehabilitācija jaukta profila gultās | E67: 0 | F67: 0 | G67: 0 | H67: 0 | J67: 6620 | K67: 0 | L67: 1.01 | M67: =I67-G67 -> 0 | N67: =J67-H67 -> 6620 | O67: =N67 -> 6620
A68: Balvu un Gulbenes slimnīcu apvienība | B68: 07. Maksājums pa pakalpojumu programmām | C68: 07. Maksājums pa pakalpojumu programmām | D68: Pakalpojumi aprūpes slimnīcā vai aprūpes gultā | E68: 65 | F68: 37979 | G68: 16 | H68: 9349 | I68: 27 | J68: 15776 | K68: =I68/G68 -> 1.6875 | L68: =J68/H68 -> 1.6874532 | M68: =I68-G68 -> 11 | N68: =J68-H68 -> 6427 | O68: =N68 -> 6427
A69: Krāslavas slimnīca | B69: 07. Maksājums pa pakalpojumu programmām | C69: 07. Maksājums pa pakalpojumu programmām | D69: Pakalpojumi aprūpes slimnīcā vai aprūpes gultā | E69: 112 | F69: 65440 | G69: 28 | H69: 16360 | I69: 40 | J69: 23372 | K69: =I69/G69 -> 1.4285714 | L69: =J69/H69 -> 1.4286064 | M69: =I69-G69 -> 12 | N69: =J69-H69 -> 7012 | O69: =N69 -> 7012
A70: Kuldīgas slimnīca | B70: 07. Maksājums pa pakalpojumu programmām | C70: 07. Maksājums pa pakalpojumu programmām | D70: Pakalpojumi aprūpes slimnīcā vai aprūpes gultā | E70: 3 | F70: 1753 | G70: 1 | H70: 584 | I70: 2 | J70: 1169 | K70: =I70/G70 -> 2 | L70: =J70/H70 -> 2.0017123 | M70: =I70-G70 -> 1 | N70: =J70-H70 -> 585 | O70: =N70 -> 585
A71: Aizkraukles klīnika | B71: 07. Maksājums pa pakalpojumu programmām | C71: 07. Maksājums pa pakalpojumu programmām | D71: Pakalpojumi aprūpes slimnīcā vai aprūpes gultā | E71: 7 | F71: 4090 | G71: 2 | H71: 1169 | I71: 4 | J71: 2337 | K71: =I71/G71 -> 2 | L71: =J71/H71 -> 1.9991446 | M71: =I71-G71 -> 2 | N71: =J71-H71 -> 1168 | O71: =N71 -> 1168
A72: Siguldas slimnīca | B72: 07. Maksājums pa pakalpojumu programmām | C72: 07. Maksājums pa pakalpojumu programmām | D72: Pakalpojumi aprūpes slimnīcā vai aprūpes gultā | E72: 214 | F72: 125038 | G72: 54 | H72: 31552 | I72: 76 | J72: 44406 | K72: =I72/G72 -> 1.4074074 | L72: =J72/H72 -> 1.407391 | M72: =I72-G72 -> 22 | N72: =J72-H72 -> 12854 | O72: =N72 -> 12854
A73: Saldus medicīnas centrs | B73: 07. Maksājums pa pakalpojumu programmām | C73: 07. Maksājums pa pakalpojumu programmām | D73: Pakalpojumi aprūpes slimnīcā vai aprūpes gultā | E73: 326 | F73: 190479 | G73: 82 | H73: 47912 | I73: 121 | J73: 70699 | K73: =I73/G73 -> 1.4756098 | L73: =J73/H73 -> 1.4756011 | M73: =I73-G73 -> 39 | N73: =J73-H73 -> 22787 | O73: =N73 -> 22787
A74: Limbažu slimnīca | B74: 07. Maksājums pa pakalpojumu programmām | C74: 07. Maksājums pa pakalpojumu programmām | D74: Pakalpojumi aprūpes slimnīcā vai aprūpes gultā | E74: 27 | F74: 15776 | G74: 7 | H74: 4090 | I74: 13 | J74: 7596 | K74: =I74/G74 -> 1.8571429 | L74: =J74/H74 -> 1.8572127 | M74: =I74-G74 -> 6 | N74: =J74-H74 -> 3506 | O74: =N74 -> 3506
E75: =SUM(E7:E74) -> 57533 | F75: =SUM(F7:F74) -> 59110302 | G75: =SUM(G7:G74) -> 14390 | H75: =SUM(H7:H74) -> 14780733 | I75: =SUM(I7:I74) -> 15852 | J75: =SUM(J7:J74) -> 16423079 | M75: =SUM(M7:M74) -> 1462 | N75: =SUM(N7:N74) -> 1642346 | O75: =SUM(O7:O74) -> 1642346

Sheet Stac_apjoma_paliel
J1: 7. Pielikums rīkojuma projekta "Par apropriācijas pārdali" anotācijai
A3: Papildu nepieciešamais finansējuma stacionāro veselības aprūpes pakalpojumu apjoma palielināšanai hroniskās aprūpes nodrošināšanai 2026_3M
A5: Ārstniecības iestāde | B5: Pakalpojuma programmas virssadaļa | C5: Pakalpojuma programmas sadaļa | D5: Pakalpojuma programmas nosaukums | E5: Plāns 2026 (1. rīkojums) | G5: Plāns 2026 (janvāris - marts) | I5: Izpilde 2026 (janvāris - marts) | Q5: Papildus nepieciešams apjoma palielināšanai *
E6: Pacientu skaits | F6: Finansējums, EUR | G6: Pacientu skaits | H6: Finansējums, EUR | I6: Pacientu skaits | J6: Finansējums, EUR | K6: % Pacientu izpilde | L6: % Finansējuma izpilde | M6: Pacientu skaitu starpība | N6: Finansējuma starpība, EUR | O6: Pacientu skaits (virs 90% izpilde) | P6: Finnsējums apjoma palielināšanai (virs 90% izpilde)
A7: Liepājas reģionālā slimnīca | B7: 07. Maksājums pa pakalpojumu programmām | C7: 07. Maksājums pa pakalpojumu programmām | D7: Hronisko pacientu aprūpe ar ārstēšanās ilgumu līdz 14 gultasdienām | E7: 65 | F7: 48701 | G7: 16 | H7: 11988 | I7: 30 | J7: 22478 | K7: 1.875 | L7: 1.8750417 | M7: 14 | N7: =J7-H7 -> 10490 | O7: 17 | P7: 12737 | Q7: =P7 -> 12737
A8: Rēzeknes slimnīca | B8: 07. Maksājums pa pakalpojumu programmām | C8: 07. Maksājums pa pakalpojumu programmām | D8: Hronisko pacientu aprūpe ar ārstēšanās ilgumu līdz 14 gultasdienām | E8: 52 | F8: 38961 | G8: 13 | H8: 9740 | I8: 14 | J8: 10490 | K8: 1.0769231 | L8: 1.0770021 | M8: 1 | N8: =J8-H8 -> 750 | O8: 14 | P8: 10490 | Q8: =P8 -> 10490
A9: Vidzemes slimnīca | B9: 07. Maksājums pa pakalpojumu programmām | C9: 07. Maksājums pa pakalpojumu programmām | D9: Hronisko pacientu aprūpe ar ārstēšanās ilgumu līdz 14 gultasdienām | E9: 47 | F9: 35215 | G9: 12 | H9: 8991 | I9: 21 | J9: 15734 | K9: 1.75 | L9: 1.7499722 | M9: 9 | N9: =J9-H9 -> 6743 | O9: 12 | P9: 8991 | Q9: =P9 -> 8991
A10: Balvu un Gulbenes slimnīcu apvienība | B10: 07. Maksājums pa pakalpojumu programmām | C10: 07. Maksājums pa pakalpojumu programmām | D10: Hronisko pacientu aprūpe ar ārstēšanās ilgumu līdz 14 gultasdienām | E10: 39 | F10: 29221 | G10: 10 | H10: 7493 | I10: 9 | J10: 6743 | K10: 0.9 | L10: 0.89990658 | M10: -1 | N10: =J10-H10 -> -750 | O10: 10 | P10: 7493 | Q10: =P10 -> 7493
A11: Cēsu klīnika | B11: 07. Maksājums pa pakalpojumu programmām | C11: 07. Maksājums pa pakalpojumu programmām | D11: Hronisko pacientu aprūpe ar ārstēšanās ilgumu līdz 14 gultasdienām | E11: 39 | F11: 29221 | G11: 10 | H11: 7493 | I11: 18 | J11: 13487 | K11: 1.8 | L11: 1.7999466 | M11: 8 | N11: =J11-H11 -> 5994 | O11: 10 | P11: 7493 | Q11: =P11 -> 7493
A12: Dobeles un apkārtnes slimnīca | B12: 07. Maksājums pa pakalpojumu programmām | C12: 07. Maksājums pa pakalpojumu programmām | D12: Hronisko pacientu aprūpe ar ārstēšanās ilgumu līdz 14 gultasdienām | E12: 23 | F12: 17233 | G12: 6 | H12: 4496 | I12: 7 | J12: 5245 | K12: 1.1666667 | L12: 1.1665925 | M12: 1 | N12: =J12-H12 -> 749 | O12: 6 | P12: 4496 | Q12: =P12 -> 4496
A13: Jūrmalas slimnīca | B13: 07. Maksājums pa pakalpojumu programmām | C13: 07. Maksājums pa pakalpojumu programmām | D13: Hronisko pacientu aprūpe ar ārstēšanās ilgumu līdz 14 gultasdienām | E13: 33 | F13: 24725 | G13: 8 | H13: 5994 | I13: 8 | J13: 5994 | K13: 1 | L13: 1 | M13: 0 | N13: =J13-H13 -> 0 | O13: 9 | P13: 6743 | Q13: =P13 -> 6743
A14: Krāslavas slimnīca | B14: 07. Maksājums pa pakalpojumu programmām | C14: 07. Maksājums pa pakalpojumu programmām | D14: Hronisko pacientu aprūpe ar ārstēšanās ilgumu līdz 14 gultasdienām | E14: 42 | F14: 31469 | G14: 11 | H14: 8242 | I14: 10 | J14: 7493 | K14: 0.90909091 | L14: 0.909124 | M14: -1 | N14: =J14-H14 -> -749 | O14: 11 | P14: 8242 | Q14: =P14 -> 8242
A15: Kuldīgas slimnīca | B15: 07. Maksājums pa pakalpojumu programmām | C15: 07. Maksājums pa pakalpojumu programmām | D15: Hronisko pacientu aprūpe ar ārstēšanās ilgumu līdz 14 gultasdienām | E15: 64 | F15: 47952 | G15: 16 | H15: 11988 | I15: 23 | J15: 17233 | K15: 1.4375 | L15: 1.4375209 | M15: 7 | N15: =J15-H15 -> 5245 | O15: 17 | P15: 12737 | Q15: =P15 -> 12737
A16: Tukuma slimnīca | B16: 07. Maksājums pa pakalpojumu programmām | C16: 07. Maksājums pa pakalpojumu programmām | D16: Hronisko pacientu aprūpe ar ārstēšanās ilgumu līdz 14 gultasdienām | E16: 154 | F16: 115385 | G16: 39 | H16: 29221 | I16: 40 | J16: 29970 | K16: 1.025641 | L16: 1.0256323 | M16: 1 | N16: =J16-H16 -> 749 | O16: 41 | P16: 30719 | Q16: =P16 -> 30719
A17: Aizkraukles klīnika | B17: 07. Maksājums pa pakalpojumu programmām | C17: 07. Maksājums pa pakalpojumu programmām | D17: Hronisko pacientu aprūpe ar ārstēšanās ilgumu līdz 14 gultasdienām | E17: 929 | F17: 696053 | G17: 232 | H17: 173826 | I17: 265 | J17: 198551 | K17: 1.1422414 | L17: 1.1422399 | M17: 33 | N17: =J17-H17 -> 24725 | O17: 245 | P17: 183566 | Q17: =P17 -> 183566
A18: Bauskas slimnīca | B18: 07. Maksājums pa pakalpojumu programmām | C18: 07. Maksājums pa pakalpojumu programmām | D18: Hronisko pacientu aprūpe ar ārstēšanās ilgumu līdz 14 gultasdienām | E18: 409 | F18: 306443 | G18: 102 | H18: 76424 | I18: 133 | J18: 99650 | K18: 1.3039216 | L18: 1.3039098 | M18: 31 | N18: =J18-H18 -> 23226 | O18: 108 | P18: 80919 | Q18: =P18 -> 80919
... A34: Limbažu slimnīca | B34: 07. Maksājums pa pakalpojumu programmām | C34: 07. Maksājums pa pakalpojumu programmām | D34: Hronisko pacientu aprūpe no 15. ārstēšanās dienas vai aprūpes turpināšana pēc akūta ārstēšanas perioda iestādes ietvaros | E34: 23 | F34: 43160 | G34: 6 | H34: 10790 | I34: 15 | J34: 30274 | K34: 2.5 | L34: 2.8057461 | M34: 9 | N34: =J34-H34 -> 19484 | O34: 6 | P34: 11453 | Q34: =P34 -> 11453
E35: =SUM(E7:E34) -> 4652 | F35: =SUM(F7:F34) -> 3656328 | G35: =SUM(G7:G34) -> 1167 | H35: =SUM(H7:H34) -> 914835 | I35: =SUM(I7:I34) -> 1687 | J35: =SUM(J7:J34) -> 1339834 | M35: =SUM(M7:M34) -> 520 | N35: =SUM(N7:N34) -> 424999 | O35: =SUM(O7:O34) -> 1249 | P35: =SUM(P7:P34) -> 965970 | Q35: =SUM(Q7:Q34) -> 965970
A37: * Slimnīcu tīkla pārskatīšanas procesā tika secināts, ka būtisku noslodzi uz klīniskās universitātes slimnīcām rada hronisko pacientu īpatsvars no reģioniem. Lai stiprinātu veselības aprūpes pakalpojumu pieejamību tuvāk pacienta dzīvesvietai, būtiski ir stiprināt zemāka līmeņa ārstniecības iestādes spējā nodrošināt hronisko aprūpi, tādējādi proporcionāli sākotnēji plānotajam pakalpojuma apjomam par vidēji 26,5 % iestādēm tiek palielināts finansējums pakalpojumu nodrošināšanai.

Sheet Kopā_ambul_pak_stac
B1: 8. Pielikums rīkojuma projekta "Par apropriācijas pārdali" anotācijai
A3: Papildu nepieciešamais finansējums sekundārās ambulatorās veselības aprūpes pakalpojumu nepārtrauktības un pieejamības nodrošināšamai 2026.gadā
A5: Ārstniecības iestādes nosaukums | B5: Papildu nepieciešamais finansējuma apjoms II un III līmeņa stacionāro ārstniecības iestāžu DS pakalpojumu programmu nepārtrauktības un pieejamības nodrošināšanai | C5: Papildu nepieciešamais finansējuma apjoms stacionārām ambulatorajā ārstniecības iestādēm neatliekamu ambulatoro pakalpojumu pieejamības nodrošināšanai | D5: Papildu nepieciešamais finansējuma apjoms stacionāro ārstniecības iestāžu DS un rehabilitācijas pakalpojumu programmu nepārtrauktības un pieejamības nodrošināšanai | E5: Papildu nepieciešamais finansējuma apjoms
A6: Alūksnes slimnīca, Sabiedrība ar ierobežotu atbildību | C6: =ROUND(Neatliekamas_vajadz_ambul_pak!I12,0) -> 11506 | E6: =SUM(B6:D6) -> 11506
A7: Aizkraukles klīnika, SIA | D7: =ROUND(Rehab_dienas_stac!J28,0) -> 4612 | E7: =SUM(B7:D7) -> 4612
A8: Balvu un Gulbenes slimnīcu apvienība, Sabiedrība ar ierobežotu atbildību | B8: =ROUND(Dienas_stac_II_III_lim_stac!J14+Dienas_stac_II_III_lim_stac!J25,0) -> 44430 | D8: =ROUND(Rehab_dienas_stac!J24,0) -> 7329 | E8: =SUM(B8:D8) -> 51759
A9: CĒSU KLĪNIKA, Sabiedrība ar ierobežotu atbildību | B9: =ROUND(Dienas_stac_II_III_lim_stac!J11+Dienas_stac_II_III_lim_stac!J19+Dienas_stac_II_III_lim_stac!J24,0) -> 155070 | D9: =ROUND(Rehab_dienas_stac!J38,0) -> 255 | E9: =SUM(B9:D9) -> 155325
A10: Daugavpils reģionālā slimnīca, Sabiedrība ar ierobežotu atbildību | D10: =ROUND(Rehab_dienas_stac!J13+Rehab_dienas_stac!J18,0) -> 25109 | E10: =SUM(B10:D10) -> 25109
A11: Dobeles un apkārtnes slimnīca, SIA | B11: =ROUND(Dienas_stac_II_III_lim_stac!J21,0) -> 150817 | D11: =ROUND(Rehab_dienas_stac!J29,0) -> 3548 | E11: =SUM(B11:D11) -> 154365
A12: Jēkabpils reģionālā slimnīca, Sabiedrība ar ierobežotu atbildību | D12: =ROUND(Rehab_dienas_stac!J33,0) -> 2815 | E12: =SUM(B12:D12) -> 2815
A13: Jūrmalas slimnīca, Sabiedrība ar ierobežotu atbildību | B13: =ROUND(Dienas_stac_II_III_lim_stac!J10+Dienas_stac_II_III_lim_stac!J26,0) -> 96533 | E13: =SUM(B13:D13) -> 96533
A14: Krāslavas slimnīca, Sabiedrība ar ierobežotu atbildību | B14: =ROUND(Dienas_stac_II_III_lim_stac!J15+Dienas_stac_II_III_lim_stac!J29,0) -> 1083 | D14: =ROUND(Rehab_dienas_stac!J26,0) -> 5590 | E14: =SUM(B14:D14) -> 6673
A15: Kuldīgas slimnīca, Sabiedrība ar ierobežotu atbildību | B15: =ROUND(Dienas_stac_II_III_lim_stac!J16+Dienas_stac_II_III_lim_stac!J22+Dienas_stac_II_III_lim_stac!J28,0) -> 182828 | C15: =ROUND(Neatliekamas_vajadz_ambul_pak!G21,0) -> 9328 | D15: =ROUND(Rehab_dienas_stac!J23,0) -> 7692 | E15: =SUM(B15:D15) -> 199848
A16: Latvijas Jūras medicīnas centrs, Akciju sabiedrība | D16: =ROUND(Rehab_dienas_stac!J8+Rehab_dienas_stac!J31,0) -> 13963 | E16: =SUM(B16:D16) -> 13963
A17: Limbažu slimnīca, Sabiedrība ar ierobežotu atbildību | D17: =ROUND(Rehab_dienas_stac!J14+Rehab_dienas_stac!J30,0) -> 4277 | E17: =SUM(B17:D17) -> 4277
A18: Ludzas medicīnas centrs, Sabiedrība ar ierobežotu atbildību | D18: =ROUND(Rehab_dienas_stac!J20,0) -> 10105 | E18: =SUM(B18:D18) -> 10105
A19: Madonas slimnīca, Madonas novada pašvaldības SIA | B19: =ROUND(Dienas_stac_II_III_lim_stac!J8+Dienas_stac_II_III_lim_stac!J18,0) -> 73938 | C19: =ROUND(Neatliekamas_vajadz_ambul_pak!G32,0) -> 208383 | D19: =ROUND(Rehab_dienas_stac!J36,0) -> 2018 | E19: =SUM(B19:D19) -> 284339
A20: Ogres rajona slimnīca, Sabiedrība ar ierobežotu atbildību | B20: =ROUND(Dienas_stac_II_III_lim_stac!J13+Dienas_stac_II_III_lim_stac!J20+Dienas_stac_II_III_lim_stac!J30,0) -> 132474 | E20: =SUM(B20:D20) -> 132474
A21: Paula Stradiņa klīniskā universitātes slimnīca, Valsts sabiedrība ar ierobežotu atbildību | D21: =ROUND(Rehab_dienas_stac!J9+Rehab_dienas_stac!J35,0) -> 11390 | E21: =SUM(B21:D21) -> 11390
A22: Preiļu slimnīca, Sabiedrība ar ierobežotu atbildību | B22: =ROUND(Dienas_stac_II_III_lim_stac!J12+Dienas_stac_II_III_lim_stac!J27,0) -> 4700 | D22: =ROUND(Rehab_dienas_stac!J32,0) -> 2904 | E22: =SUM(B22:D22) -> 7604
A23: RĒZEKNES SLIMNĪCA, Sabiedrība ar ierobežotu atbildību | D23: =ROUND(Rehab_dienas_stac!J12+Rehab_dienas_stac!J27,0) -> 8325 | E23: =SUM(B23:D23) -> 8325
A24: Rīgas 2. slimnīca, SIA | D24: =ROUND(Rehab_dienas_stac!J15+Rehab_dienas_stac!J22,0) -> 9079 | E24: =SUM(B24:D24) -> 9079
A25: Rīgas Austrumu klīniskā universitātes slimnīca, Sabiedrība ar ierobežotu atbildību | D25: =ROUND(Rehab_dienas_stac!J21,0) -> 10022 | E25: =SUM(B25:D25) -> 10022
A26: Siguldas slimnīca, SIA | D26: =ROUNDDOWN(Rehab_dienas_stac!J7+Rehab_dienas_stac!J34,0) -> 15528 | E26: =SUM(B26:D26) -> 15528
A27: Traumatoloģijas un ortopēdijas slimnīca, Valsts sabiedrība ar ierobežotu atbildību | D27: =ROUND(Rehab_dienas_stac!J25,0) -> 5873 | E27: =SUM(B27:D27) -> 5873
A28: Tukuma slimnīca, Sabiedrība ar ierobežotu atbildību | B28: =ROUNDDOWN(Dienas_stac_II_III_lim_stac!J9+Dienas_stac_II_III_lim_stac!J31,0) -> 94675 | C28: =ROUND(Neatliekamas_vajadz_ambul_pak!G26,0) -> 11103 | D28: =ROUND(Rehab_dienas_stac!J37,0) -> 1443 | E28: =SUM(B28:D28) -> 107221
A29: Vidzemes slimnīca, Sabiedrība ar ierobežotu atbildību | D29: =ROUND(Rehab_dienas_stac!J11+Rehab_dienas_stac!J17,0) -> 29930 | E29: =SUM(B29:D29) -> 29930
A30: Ziemeļkurzemes reģionālā slimnīca, SIA | D30: =ROUND(Rehab_dienas_stac!J10+Rehab_dienas_stac!J19,0) -> 24881 | E30: =SUM(B30:D30) -> 24881
A31: KOPĀ: | B31: =SUM(B6:B30) -> 936548 | C31: =SUM(C6:C30) -> 240320 | D31: =SUM(D6:D30) -> 206688 | E31: =SUM(E6:E30) -> 1383556

Sheet Dienas_stac_II_III_lim_stac
F1: 9. Pielikums rīkojuma projekta "Par apropriācijas pārdali" anotācijai
A3: Papildu nepieciešamais finansējuma apjoms II un III līmeņa stacionāro ārstniecības iestāžu dienas stacionāru pakalpojumu programmu nepārtrauktības un pieejamības nodrošināšanai 2026.gadam
A5: Teritoriālā nodaļa | B5: Ārstniecības iestādes kods | C5: Ārstniecības iestādes nosaukums | D5: Pakalpojumu programmas nosaukums | E5: Līguma summa 2026.gadam | F5: Līgums uz periodu 2026.gada janvāris-marts | G5: Veiktais darbs uz periodu 2026.gada janvāris-marts | H5: Pārstrāde (+)/ neizpilde (-) 2026.gada janvāris-marts | I5: Izpilde, % 2026.gada janvaris-marts | J5: Papildu nepieciešamais finansējuma apjoms, lai nodrošinātu pakalpojumu pieejamību un nepārtrauktību 2026.gadam, euro * | K5: Viena izmeklējuma vidējā plānotā izmaksa 2026.gadam iestādē, euro | L5: Papildus sniegtais indikatīvais pakalpojumu apjoms atbilstoši papildus pieškirtajam finansējumam
B7: KOPĀ: | E7: =SUM(E8:E16) -> 1138743 | F7: =SUM(F8:F16) -> 284536 | G7: =SUM(G8:G16) -> 404177.44 | H7: =SUM(H8:H16) -> 119641.44 | I7: =+G7/F7 -> 1.4204791 | J7: =SUM(J8:J16) -> 330842.4 | L7: =SUM(L8:L15) -> 224.64284
A8: Vidzemes nodaļa | B8: 700200041 | C8: Madonas slimnīca, Madonas novada pašvaldības SIA | D8: Traumatoloģija, ortopēdija, rokas un rekonstruktīvā mikroķirurģija, plastiskā ķirurģija dienas stacionārā | E8: 172328 | F8: 43080 | G8: 101207.8 | H8: =G8-F8 -> 58127.8 | I8: =+G8/F8 -> 2.349299 | J8: =ROUND(+E8*0.3,2) -> 51698.4 | K8: 853.11 | L8: =+J8/K8 -> 60.599923
A9: Kurzemes nodaļa | B9: 900200046 | C9: Tukuma slimnīca, Sabiedrība ar ierobežotu atbildību | D9: Traumatoloģija, ortopēdija, rokas un rekonstruktīvā mikroķirurģija, plastiskā ķirurģija dienas stacionārā | E9: 158027 | F9: 39504 | G9: 71123.36 | H9: =G9-F9 -> 31619.36 | I9: =+G9/F9 -> 1.8004091 | J9: =ROUND(+E9*0.3,2) -> 47408.1 | K9: 1500.93 | L9: =+J9/K9 -> 31.585817
A10: Rīgas nodaļa | B10: 130020302 | C10: Jūrmalas slimnīca, Sabiedrība ar ierobežotu atbildību | D10: Traumatoloģija, ortopēdija, rokas un rekonstruktīvā mikroķirurģija, plastiskā ķirurģija dienas stacionārā | E10: 256671 | F10: 64167 | G10: 80243.84 | H10: =G10-F10 -> 16076.84 | I10: =+G10/F10 -> 1.2505469 | J10: =ROUND(+E10*0.3,2) -> 77001.3 | K10: 1645.32 | L10: =+J10/K10 -> 46.800197
