Workbook
Name _1_2_d_NMP_lim: #REF!
Name a: #N/A
Name aa: #N/A
Name aa: #REF!
Name aaa: #N/A
Name Aktualizētā: IF(#REF!<>"",#REF!,"")
Name Annual_interest_rate: #REF!
Name b: #REF!
Name Beg.Bal: IF(#REF!<>"",#REF!,"")
Name bt: #REF!
Name Buvn.likme: #REF!
Name BX: #REF!
Name Calculated_payment: #REF!
Name CalendarYear: #REF!
Name ccc: #REF!
Name Constr.fee: #REF!
Name Constr.rate: #REF!
Name Cum.Interest: IF(#REF!<>"",#REF!+#REF!,"")
Name CUR: '[2]BH1-Human resources'!#REF!
Name Currencies: '[2]BH1-Human resources'!#REF!
Name d: #REF!
Name D_Evija3: #REF!
Name DaysAndWeeks: {0,1,2,3,4,5,6} + {0;1;2;3;4;5}*7
Name ddd: #N/A
Name de: #REF!
Name dff: #NAME?
Name DRGNAMES: #REF!
Name e: #REF!
Name ee: #REF!
Name Ending.Balance: IF(#REF!<>"",#REF!-#REF!,"")
Name Entered_payment: #REF!
Name Excel_BuiltIn__FilterDatabase_2: #REF!
Name Excel_BuiltIn__FilterDatabase_3: #REF!
Name Excel_BuiltIn_Print_Titles_2: #REF!
Name Excel_BuiltIn_Print_Titles_3: #REF!
Name First_payment_due: #REF!
Name First_payment_no: #REF!
Name gad_skaits: #REF!
Name gad_skaits_1: #REF!
Name gggg: #REF!
Name ghy: #REF!
Name gujm: #N/A
Name gujuj: #N/A
Name h: #REF!
Name hgmgjm: #N/A
Name hh: #REF!
Name hjh: #REF!
Name hyh: #REF!
Name i: #REF!
Name Interest: IF(#REF!<>"",#REF!*Periodic_rate,"")
Name Interest_2013: IF(#REF!<>"",#REF!*Periodiska_likme,"")
Name izm.kods: #REF!
Name izm.kods_1: [3]izm.posteni!$A$2:$A$216
Name izm.nos: #REF!
Name izm.nos_1: [3]izm.posteni!$B$2:$B$216
Name j: #REF!
Name Jāņa14: #REF!
Name jhg: #REF!
Name kk: #REF!
Name kl: #REF!

Sheet RSU_DZ16_20.
S1: Pielikums Nr.2 Ministru kabineta rīkojuma projekts “Par finanšu līdzekļu apropriācijas pārdali no budžeta resora "74. Gadskārtējā valsts budžeta izpildes procesā pārdalāmais finansējums" 20.00.00 programmas "Veselības aprūpes pasākumu īstenošana"” sākotnējās ietekmes novērtējuma ziņojumam (anotācijai)
A2: Aktivitātes "RSU studiju un zobārstniecības ēka Dzirciema ielā 16/20, Rīga " plānotais budžets (EUR ieskaitot PVN).
A3: Nr.p.k. | B3: Izdevumu pozīcija | C3: Izmaksas | D3: 2024 | G3: 2025 | J3: 2026 | M3: 2027 | P3: 2028 | S3: Piezīmes
C4: A+B+C+D+E | D4: A | G4: B | J4: C | M4: D | P4: E
B5: Dalījums: | D5: Bērnu zobārstniecības klīnika | E5: RSU | F5: 1 | G5: Bērnu zobārstniecības klīnika | H5: RSU | I5: 1 | J5: Bērnu zobārstniecības klīnika | K5: RSU | L5: 1 | M5: Bērnu zobārstniecības klīnika | N5: RSU | O5: 1 | P5: Bērnu zobārstniecības klīnika | Q5: RSU | R5: 1
A6: 1 | B6: Priekšizpētes pakalpojumi | C6: =SUM(F6,I6,L6,O6,R6) -> 50000 | D6: =ROUND(F6*$F$21,2) -> 3821.23 | E6: =ROUND(F6*$F$22,2) -> 26178.77 | F6: 30000 | G6: =ROUND(I6*$F$21,2) -> 2547.49 | H6: =ROUND(I6*$F$22,2) -> 17452.51 | I6: 20000 | J6: =ROUND(L6*$F$21,2) -> 0 | K6: =ROUND(L6*$F$22,2) -> 0 | M6: =ROUND(O6*$F$21,2) -> 0 | N6: =ROUND(O6*$F$22,2) -> 0 | P6: =ROUND(R6*$F$21,2) -> 0 | Q6: =ROUND(R6*$F$22,2) -> 0 | S6: Izmaksu aplēse uz Objektu saskaņā ar darba uzdevumu (Topogrāfiskā izpēte, koku apsekošana, ģeoloģija u.c.) Izmaksas precizējamas pirms projektēšanas iepirkuma, saskaņā ar nolsēgtajiem pakalpojuma līgumiem
A7: 2 | B7: Būvprojekta izstrāde un autoruzraudzība | C7: =SUM(F7,I7,L7,O7,R7) -> 550000 | E7: =ROUND(F7*$F$22,2) -> 0 | G7: =ROUND(I7*$F$21,2) -> 31843.58 | H7: =ROUND(I7*$F$22,2) -> 218156.42 | I7: 250000 | J7: =ROUND(L7*$F$21,2) -> 28022.35 | K7: =ROUND(L7*$F$22,2) -> 191977.65 | L7: 220000 | M7: =ROUND(O7*$F$21,2) -> 5094.97 | N7: =ROUND(O7*$F$22,2) -> 34905.03 | O7: 40000 | P7: =ROUND(R7*$F$21,2) -> 5094.97 | Q7: =ROUND(R7*$F$22,2) -> 34905.03 | R7: 40000 | S7: Izmaksu aplēse pamatojoties uz RSU vēsturiski veiktiem šāda pakalpojuma iepirkumiem (EUR/objektu, kas izriet no būvdarbu apmēra). Izmaksas tiks precizētas saskaņā ar Publiska iepirkuma rezultētiem
A8: 3 | B8: Būvprojekta ekspertīze | C8: =SUM(F8,I8,L8,O8,R8) -> 45000 | E8: =ROUND(F8*$F$22,2) -> 0 | G8: =ROUND(I8*$F$21,2) -> 0 | H8: =ROUND(I8*$F$22,2) -> 0 | J8: =ROUND(L8*$F$21,2) -> 5731.84 | K8: =ROUND(L8*$F$22,2) -> 39268.16 | L8: 45000 | M8: =ROUND(O8*$F$21,2) -> 0 | N8: =ROUND(O8*$F$22,2) -> 0 | P8: =ROUND(R8*$F$21,2) -> 0 | Q8: =ROUND(R8*$F$22,2) -> 0 | S8: Izmaksu aplēse pamatojoties uz RSU vēsturiski veiktiem šāda pakalpojuma iepirkumiem (EUR/objektu, kas izriet no būvdarbu apmēra). Izmaksas tiks precizētas saskaņā ar Publiska iepirkuma rezultētiem
A9: 4 | B9: Būvuzraudzība | C9: =SUM(F9,I9,L9,O9,R9) -> 215287.8 | D9: =ROUND(F9*$F$21,2) -> 0 | E9: =ROUND(F9*$F$22,2) -> 0 | G9: =ROUND(I9*$F$21,2) -> 0 | H9: =ROUND(I9*$F$22,2) -> 0 | J9: =ROUND(L9*$F$21,2) -> 1131.61 | K9: =ROUND(L9*$F$22,2) -> 7752.53 | L9: 8884.14 | M9: =ROUND(O9*$F$21,2) -> 13967.55 | N9: =ROUND(O9*$F$22,2) -> 95690 | O9: 109657.55 | P9: =ROUND(R9*$F$21,2) -> 12322.97 | Q9: =ROUND(R9*$F$22,2) -> 84423.14 | R9: 96746.11 | S9: Izmaksu aplēse pamatojoties uz RSU vēsturiski veiktiem šāda pakalpojuma iepirkumiem (EUR/objektu, kas izriet no būvdarbu apmēra). Izmaksas tiks precizētas saskaņā ar Publiska iepirkuma rezultētiem
A10: 5.1 | B10: Būvdarbi RSU studiju un zobārstniecības ēka Dzirciema ielā 16/20, Rīga (ēkas tieši funkcijai izmantojamo platību izmaksas) | C10: =Platību_proporcijas_aprēķins!F22 -> 15899400 | D10: =ROUND(F10*$F$21,2) -> 0 | E10: =ROUND(F10*$F$22,2) -> 0 | G10: =ROUND(I10*$F$21,2) -> 0 | H10: =ROUND(I10*$F$22,2) -> 0 | J10: =L9/$C$9*Platību_proporcijas_aprēķins!F25 -> 116242.33 | K10: =L10-J10 -> 539867.75 | L10: =L9/$C$9*$C$10 -> 656110.08 | M10: =O9/$C$9*Platību_proporcijas_aprēķins!F25 -> 1434787.1 | N10: =O10-M10 -> 6663624.7 | O10: =O9/$C$9*$C$10 -> 8098411.8 | P10: =R9/$C$9*Platību_proporcijas_aprēķins!F25 -> 1265850.6 | Q10: =R10-P10 -> 5879027.6 | R10: =R9/$C$9*$C$10 -> 7144878.2 | S10: Izmaksu aplēse pamatojoties uz RSU vēsturiski un aktuāli realizētiem iepirkumiem/projektiem (EUR/objektu kas izriet no objekta apjoma un telpu īpatsvara).Izmaksas tiks detalizēti noteiktas pēc projektēšanas pabeigšanas, saskaņā ar kontroltāmi un precizētas saskaņā ar Publiska iepirkuma rezultētiem.
A11: 5.2 | B11: Būvdarbi RSU studiju un zobārstniecības ēka Dzirciema ielā 16/20, Rīga (Pazemes) | C11: =Platību_proporcijas_aprēķins!H22 -> 7260000 | D11: =ROUND(F11*$F$21,2) -> 0 | E11: =ROUND(F11*$F$22,2) -> 0 | G11: =ROUND(I11*$F$21,2) -> 0 | H11: =ROUND(I11*$F$22,2) -> 0 | K11: =L11 -> 299593.64 | L11: =$L$9/$C$9*$C$11 -> 299593.64 | N11: =O11 -> 3697904.9 | O11: =$O$9/$C$9*$C$11 -> 3697904.9 | Q11: =R11 -> 3262501.4 | R11: =$R$9/$C$9*$C$11 -> 3262501.4
A12: 5.3 | B12: Būvdarbi RSU studiju un zobārstniecības ēka Dzirciema ielā 16/20, Rīga (korpusus savienojošo gaiteņu izmaksas) | C12: =Platību_proporcijas_aprēķins!G22 -> 665500 | D12: =ROUND(F12*$F$21,2) -> 0 | E12: =ROUND(F12*$F$22,2) -> 0 | G12: =ROUND(I12*$F$21,2) -> 0 | H12: =ROUND(I12*$F$22,2) -> 0 | J12: =L9/$C$9*Platību_proporcijas_aprēķins!G25 -> 8987.8093 | K12: =L12-J12 -> 18474.941 | L12: =$L$9/$C$9*$C$12 -> 27462.751 | M12: =O9/$C$9*Platību_proporcijas_aprēķins!G25 -> 110937.15 | N12: =O12-M12 -> 228037.47 | O12: =$O$9/$C$9*$C$12 -> 338974.62 | P12: =R9/$C$9*Platību_proporcijas_aprēķins!G25 -> 97875.043 | Q12: =R12-P12 -> 201187.59 | R12: =$R$9/$C$9*$C$12 -> 299062.63
A13: 6 | B13: RSU ITD aprīkojums (skat Bērnu klīnikas aprīkojumu sheet "Inv_aprikojums") | C13: =SUM(F13,I13,L13,O13,R13) -> 85426 | E13: =ROUND(F13*$F$22,2) -> 0 | G13: =ROUND(I13*$F$21,2) -> 0 | H13: =ROUND(I13*$F$22,2) -> 0 | J13: =ROUND(L13*$F$21,2) -> 0 | K13: =ROUND(L13*$F$22,2) -> 0 | M13: 20500 | O13: =M13+N13 -> 20500 | P13: =inv_aprikojums!M79-M13 -> 64926 | R13: =P13+Q13 -> 64926 | S13: Izmaksu aplēse pamatojoties uz RSU vēsturiski realizētiem projektiem. Veikta izmaksu aplēses tālāka detalizācija izsakot atsevisķu iekārtu apjomus, pēc šobrīd ieskicētās telpu programmas. Projektēšanas ietvarā vienību apjomi un sastāvs var mainīties, vienību cenas tiks precizētas ar publiska iepirkuma rezultātiem.
A14: 7 | B14: RSU publ. telpu mēbeles uc. (koplietošanas un mācību telpās, ģērbtuves, žalūzijas, administrācijai), (skat Bērnu klīnikas aprīkojumu sheet "Inv_aprikojums") | C14: =SUM(F14,I14,L14,O14,R14) -> 81983.55 | M14: 20000 | O14: =M14+N14 -> 20000 | P14: =inv_aprikojums!G79-M14 -> 61983.55 | R14: =P14+Q14 -> 61983.55 | S14: Izmaksu aplēse pamatojoties uz RSU vēsturiski realizētiem projektiem. Veikta izmaksu aplēses tālāka detalizācija izsakot atsevisķu iekārtu apjomus, pēc šobrīd ieskicētās telpu programmas. Projektēšanas ietvarā vienību apjomi un sastāvs var mainīties, vienību cenas tiks precizētas ar publiska iepirkuma rezultātiem.
A15: 8 | B15: 2.stāva Bērnu Zobārstniecības centra aprīkojums (skat.sheet"B_kl_aprikojums") | C15: =Bernu_kl_aprikojums!D12 -> 522700 | M15: 200000 | O15: =M15+N15 -> 200000 | P15: =C15-M15 -> 322700 | R15: =P15+Q15 -> 322700 | S15: Izmaksu aplēse pamatojoties uz RSU realizētiem projektiem. Veikta izmaksu aplēses tālāka detalizācija izsakot atsevisķu iekārtu apjomus, pēc šobrīd ieskicētās telpu programmas. Projektēšanas ietvarā vienību apjomi un sastāvs var mainīties, vienību cenas tiks precizētas ar publiska iepirkuma rezultātiem.
A16: 9 | B16: Finanšu rezerve 10% * | C16: =SUM(F16,I16,L16,O16,R16) -> 1132767.5 | D16: =ROUND(F16*$F$21,2) -> 0 | E16: =ROUND(F16*$F$22,2) -> 0 | G16: =ROUND(I16*$F$21,2) -> 6280.71 | H16: =ROUND(I16*$F$22,2) -> 43028.4 | I16: 49309.11 | J16: =ROUND(L16*$F$21,2) -> 30658.17 | K16: =ROUND(L16*$F$22,2) -> 210035.39 | L16: 240693.56 | M16: 99958.84 | N16: 352523.71 | O16: =M16+N16 -> 452482.55 | P16: 29858.59 | Q16: 360423.71 | R16: =P16+Q16 -> 390282.3 | S16: Saskaņā ar labo finanšu līdzekļu plānošanas praksi un PIL vadlīnijām
A17: Pavisam kopā: | C17: =ROUND(SUM(C6:C16),2) -> 26508065 | D17: =ROUND(F17*$F$21,2) -> 3821.23 | E17: =ROUND(F17*$F$22,2) -> 26178.77 | F17: =SUM(F6:F16) -> 30000 | G17: =ROUND(I17*$F$21,2) -> 40671.77 | H17: =ROUND(I17*$F$22,2) -> 278637.34 | I17: =SUM(I6:I16) -> 319309.11 | J17: =ROUND(L17*$F$21,2) -> 190774.12 | K17: =ROUND(L17*$F$22,2) -> 1306970.1 | L17: =SUM(L6:L16) -> 1497744.2 | M17: =SUM(M6:M16) -> 1905245.6 | N17: =SUM(N6:N16) -> 11072686 | O17: =SUM(O6:O16) -> 12977931 | P17: =SUM(P6:P16) -> 1860611.7 | Q17: =SUM(Q6:Q16) -> 9822468.5 | R17: =SUM(R6:R16) -> 11683080
A18: ! Izmaksas var tikt precizētas pēc atjaunojamo objektu detalizētas izpētes, būvniecības ieceres dokumentācijas izstrādes, iepirkuma procedūru veikšanas.
S19: =R16-P16-Q16 -> 0
B21: Kopā (Bērnu zobārstniecības klīnika) EUR iekļauts PVN: | C21: =SUM(D17,G17,J17,M17,P17) -> 4001124.4 | F21: =Platību_proporcijas_aprēķins!I26 -> 0.1273743
B22: Kopā (RSU) EUR iekļauts PVN : | C22: =SUM(E17,H17,K17,N17,Q17) -> 22506940 | F22: =1-F21 -> 0.8726257
B25: * - izmaksu aplēsei, kas aprēķināta kā EUR/m2 rezerve noteikta 10%, izmaksām kam jau pieejms detalizētākas stadijas apreķins veikta korekcija

Sheet inv_aprikojums
J1: Pielikums Nr.3 Ministru kabineta rīkojuma projekts “Par finanšu līdzekļu apropriācijas pārdali no budžeta resora "74. Gadskārtējā valsts budžeta izpildes procesā pārdalāmais finansējums" 20.00.00 programmas "Veselības aprūpes pasākumu īstenošana"” sākotnējās ietekmes novērtējuma ziņojumam (anotācijai)
B2: Bērnu zobārstniecības klīnika, 2.stāvs
B3: Inventāra un aprīkojuma saraksts ar izmaksām
C5: Publiskās mēbeles: | J5: IT aprīkojums:
B6: Telpa | D6: Mēbelēs/visp.aprīkojums | E6: Cena, EUR bez PVN | F6: Skaits | G6: Kopā, EUR | J6: IT aprīkojums | K6: Cena, EUR bez PVN | L6: Skaits | M6: Kopā, EUR
B7: Vestibils
C8: 1 | D8: Divvietīgi krēsli | E8: 380 | F8: 16 | G8: =E8*F8 -> 6080 | I8: 1 | J8: Info satura ekrāns (50-55collas uz kronšteina) | K8: 2000 | L8: 2 | M8: =K8*L8 -> 4000
C9: 2 | D9: Zaļumu kastes+augi | E9: 250 | F9: 15 | G9: =E9*F9 -> 3750 | I9: 2 | J9: Rindas organizācijas sistēmas monitori | K9: 1200 | L9: 2 | M9: =K9*L9 -> 2400
C10: 3 | D10: Administratora lete | E10: 5500 | F10: 1 | G10: =E10*F10 -> 5500 | I10: 3 | J10: Rindas vadības iekārta | K10: 2500 | L10: 1 | M10: =K10*L10 -> 2500
C11: 4 | D11: Administratora krēsls | E11: 350 | F11: 1 | G11: =E11*F11 -> 350 | I11: 4 | J11: Rindas apstiprinājuma dators/programmatūra | K11: 1800 | L11: 1 | M11: =K11*L11 -> 1800
C12: 5 | D12: Dekoratīvie paneļi aiz administrātora | E12: 4550 | F12: 1 | G12: =E12*F12 -> 4550 | I12: 5 | J12: Lokāli rindas nummuru monitori | K12: 400 | L12: 16 | M12: =K12*L12 -> 6400
C13: 6 | D13: pulkstenis | E13: 35 | F13: 1 | G13: =E13*F13 -> 35 | I13: 6 | J13: WiFi rūteri | K13: 1600 | L13: 4 | M13: =K13*L13 -> 6400
C14: 7 | D14: Foto gleznas | E14: 30 | F14: 1 | G14: =E14*F14 -> 30 | I14: 7 | J14: Sastatne, komutācijas paneļi | K14: 2200 | L14: 1 | M14: =K14*L14 -> 2200
I15: 8 | J15: Darba vietas aprīkojuma komplekts (24collas monit, all in one) | K15: 1700 | L15: 1 | M15: =K15*L15 -> 1700
B16: Klusuma telpa Nr 1./gaidīšanas loža
C17: 1 | D17: Divvietīgi krēsli | E17: 380 | F17: 2 | G17: =E17*F17 -> 760 | M17: =K17*L17 -> 0
C18: 2 | D18: Vienvietīgi ar polterētu muguriņu | E18: 330 | F18: 6 | G18: =E18*F18 -> 1980 | M18: =K18*L18 -> 0
C19: 3 | D19: Zaļumu kastes+augi | E19: 250 | F19: 1 | G19: =E19*F19 -> 250 | M19: =K19*L19 -> 0
B20: Klusuma telpa Nr 2./pacientiem
C21: 1 | D21: Divvietīgi krēsli | E21: 380 | F21: 4 | G21: =E21*F21 -> 1520 | M21: =K21*L21 -> 0
C22: 3 | D22: Zaļumu kastes+augi | E22: 250 | F22: 1 | G22: =E22*F22 -> 250 | M22: =K22*L22 -> 0
B23: Rotaļu istaba
C24: 1 | D24: paklājs | E24: 230 | F24: 1 | G24: =E24*F24 -> 230 | I24: 1 | J24: Ekrāns (50collas ar kronšteinu) | K24: 1500 | L24: 1 | M24: =K24*L24 -> 1500
C25: 2 | D25: rotaļlietas/grāmatas, komplekts | E25: 400 | F25: 1 | G25: =E25*F25 -> 400 | I25: 2 | J25: Lokāli rindas nummuru monitori | K25: 400 | L25: 1 | M25: =K25*L25 -> 400
C26: 3 | D26: Pupu pufs | E26: 120 | F26: 2 | G26: =E26*F26 -> 240 | M26: =K26*L26 -> 0
C27: 4 | D27: LEGO galdiņš+ 2krēsliņi komplekts | E27: 800 | F27: 1 | G27: =E27*F27 -> 800 | M27: =K27*L27 -> 0
B28: Pārrunu telpa 1
C29: 1 | D29: Galds | E29: 350 | F29: 1 | G29: =E29*F29 -> 350 | I29: 1 | J29: Interaktīvs ekrāns (55collas ar kronšteinu) | K29: 2200 | L29: 1 | M29: =K29*L29 -> 2200
C30: 2 | D30: Krēsli | E30: 130 | F30: 4 | G30: =E30*F30 -> 520 | M30: =K30*L30 -> 0
B31: Pārrunu telpa 2
C32: 1 | D32: Galds | E32: 350 | F32: 1 | G32: =E32*F32 -> 350 | I32: 1 | J32: Interaktīvs ekrāns (55collas ar kronšteinu) | K32: 2200 | L32: 1 | M32: =K32*L32 -> 2200
C33: 2 | D33: Krēsli | E33: 130 | F33: 4 | G33: =E33*F33 -> 520 | M33: =K33*L33 -> 0
B34: Pārrunu telpa 3
C35: 1 | D35: Galds | E35: 350 | F35: 1 | G35: =E35*F35 -> 350 | I35: 1 | J35: Interaktīvs ekrāns (55collas ar kronšteinu) | K35: 2200 | L35: 1 | M35: =K35*L35 -> 2200
C36: 2 | D36: Krēsli | E36: 130 | F36: 4 | G36: =E36*F36 -> 520 | M36: =K36*L36 -> 0
B37: Atmošanās palātas 1.,2.,3
C38: 1 | D38: atdaloši aizkari | E38: 320 | F38: 3 | G38: =E38*F38 -> 960
C39: 2 | D39: Krēsli | E39: 130 | F39: 3 | G39: =E39*F39 -> 390
C40: 3 | D40: papildgaldiņš | E40: 175 | F40: 3 | G40: =E40*F40 -> 525
B41: Virsmāsas kabinets
C42: 1 | D42: darba galds | E42: 550 | F42: 1 | G42: =E42*F42 -> 550 | I42: 1 | J42: Darba vietas aprīkojuma komplekts (24collas monit, all in one) | K42: 1700 | L42: 1 | M42: =K42*L42 -> 1700
C43: 2 | D43: darba krēsls | E43: 280 | F43: 1 | G43: =E43*F43 -> 280 | M43: =K43*L43 -> 0
C44: 3 | D44: slēdzams dok skapis | E44: 180 | F44: 1 | G44: =E44*F44 -> 180 | M44: =K44*L44 -> 0
C45: 4 | D45: papildus apmelētāju galds | E45: 110 | F45: 1 | G45: =E45*F45 -> 110
C46: 5 | D46: apmeklētāju krēsli | E46: 95 | F46: 5 | G46: =E46*F46 -> 475 | M46: =K46*L46 -> 0
C47: 6 | D47: pulkstenis | E47: 35 | F47: 1 | G47: =E47*F47 -> 35 | M47: =K47*L47 -> 0
C48: 7 | D48: Foto gleznas | E48: 30 | F48: 1 | G48: =E48*F48 -> 30 | M48: =K48*L48 -> 0
B49: RTG telpa/priekštelpa
C50: 1 | D50: krēsls | E50: 140 | F50: 1 | G50: =E50*F50 -> 140 | I50: 1 | J50: Darba vietas aprīkojuma komplekts (24collas monit, all in one) | K50: 1700 | L50: 1 | M50: =K50*L50 -> 1700
C51: 2 | D51: lete nolasītājam | E51: 550 | F51: 1 | G51: =E51*F51 -> 550 | M51: =K51*L51 -> 0
C52: 3 | D52: skapītis palīgmateriāliem | E52: 90 | F52: 1 | G52: =E52*F52 -> 90 | M52: =K52*L52 -> 0
B53: Personāla atpūtas telpa
C54: 1 | D54: galds | E54: 350 | F54: 1 | G54: =E54*F54 -> 350 | I54: 1 | J54: Ekrāns (50collas ar kronšteinu) | K54: 1500 | L54: 1 | M54: =K54*L54 -> 1500
C55: 2 | D55: krēsls | E55: 140 | F55: 4 | G55: =E55*F55 -> 560 | I55: 2 | J55: Lokāli rindas nummuru monitori | K55: 400 | L55: 1 | M55: =K55*L55 -> 400
C56: 3 | D56: Neliela virtuves mēbele ar mikroviļņu krāsni un izlietni | E56: 3500 | F56: 1 | G56: =E56*F56 -> 3500
C57: 4 | D57: divvietīga mīkstā sēžammēbele | E57: 750 | F57: 1 | G57: =E57*F57 -> 750
C58: 5 | D58: Stāvlampa | E58: 120 | F58: 1 | G58: =E58*F58 -> 120
C59: 6 | D59: Grāmatu plaukts | E59: 85 | F59: 1 | G59: =E59*F59 -> 85
C60: 7 | D60: pulkstenis | E60: 35 | F60: 1 | G60: =E60*F60 -> 35 | M60: =K60*L60 -> 0
C61: 8 | D61: Foto gleznas | E61: 30 | F61: 1 | G61: =E61*F61 -> 30 | M61: =K61*L61 -> 0
B62: Semināra telpa/īslaicīgas darba vietas
C63: 1 | D63: darba galds | E63: 550 | F63: 7 | G63: =E63*F63 -> 3850 | I63: 1 | J63: Darba vietas aprīkojuma komplekts (24collas monit, all in one) | K63: 1700 | L63: 1 | M63: =K63*L63 -> 1700
C64: 2 | D64: darba krēsls | E64: 280 | F64: 7 | G64: =E64*F64 -> 1960 | I64: 2 | J64: Interaktīvs ekrāns (55collas ar kronšteinu) | K64: 2200 | L64: 1 | M64: =K64*L64 -> 2200
C65: 3 | D65: akustiskā starpsiena | E65: 120 | F65: 2 | G65: =E65*F65 -> 240 | M65: =K65*L65 -> 0
C66: 4 | D66: slēdzams dok skapis | E66: 180 | F66: 1 | G66: =E66*F66 -> 180 | M66: =K66*L66 -> 0
C67: 6 | D67: Zaļumu kastes+augi | E67: 250 | F67: 2 | G67: =E67*F67 -> 500 | M67: =K67*L67 -> 0
C68: 7 | D68: pulkstenis | E68: 35 | F68: 1 | G68: =E68*F68 -> 35 | M68: =K68*L68 -> 0
C69: 8 | D69: Foto glezna | E69: 30 | F69: 1 | G69: =E69*F69 -> 30 | M69: =K69*L69 -> 0
B70: Palīgtelpa/tehn.telpas/materiālu glab.skapis
C71: 1 | D71: metāla stalažas | E71: 250 | F71: 3 | G71: =E71*F71 -> 750 | M71: =K71*L71 -> 0
C72: 2 | D72: materiālu glabāšanas skapis ar piekļuves kontroli | E72: 1500 | F72: 2 | G72: =E72*F72 -> 3000
B73: Invalīdu WC
C74: 1 | D74: Bērnu pārtinamais galdiņš | E74: 880 | F74: 1 | G74: =E74*F74 -> 880 | M74: =K74*L74 -> 0
B75: Visas telpas
C76: 1 | D76: Žalūzijas | E76: 750 | F76: 23 | G76: =E76*F76 -> 17250 | I76: 1 | J76: Darba vietas aprīkojuma komplekts (24collas monit, all in one) | K76: 1700 | L76: 15 | M76: =K76*L76 -> 25500
F77: kopā | G77: =SUM(G8:G76) -> 67755 | L77: kopā | M77: =SUM(M8:M76) -> 70600
F78: PVN, 21% | G78: =G77*0.21 -> 14228.55 | L78: PVN, 21% | M78: =M77*0.21 -> 14826
F79: summa | G79: =G77+G78 -> 81983.55 | L79: summa | M79: =M77+M78 -> 85426
B80: Pielikumā minētais indikatīvais aprēķins tiks finansēts no budžeta resora "74. Gadskārtējā valsts budžeta izpildes procesā pārdalāmais finansējums" programmas 20.00.00 "Veselības aprūpes pasākumu īstenošana"
B81: Svarīgi! Nav iekļautas specializētās mēbeles un mebeles zobārstu/higiēnistudarba kabinetos un palātās.

Sheet Bernu_kl_aprikojums
B1: Pielikums Nr.4 Ministru kabineta rīkojuma projekts “Par finanšu līdzekļu apropriācijas pārdali no budžeta resora "74. Gadskārtējā valsts budžeta izpildes procesā pārdalāmais finansējums" 20.00.00 programmas "Veselības aprūpes pasākumu īstenošana"” sākotnējās ietekmes novērtējuma ziņojumam (anotācijai)
A2: Bērnu zobārstniecības klīnikas tehnoloģiskā aprīkojuma un specializēto mēbeļu saraksts ar izmaksām
B3: skaits | C3: cena, EUR iekļauts PVN | D3: summa, EUR
A4: Zobārstniecības iekārtas | B4: 15 | C4: 20000 | D4: =C4*B4 -> 300000
A5: Anestēzijas iekārtas | B5: 3 | C5: 32000 | D5: =C5*B5 -> 96000
A6: Mikroskops endodontijai bērniem | B6: 1 | C6: 21000 | D6: =C6*B6 -> 21000
A7: Anastēzijas kabineta un palātas aprīkojums (galds, krēsls, izlietnes galds, krēsls, sedlveida krēsls, mobilais galdiņš u.c.) | B7: 3 | C7: =900+100+300+600+1400 -> 3300 | D7: =B7*C7 -> 9900
A8: Mobīlas gultas un mobils naktsskapītis | B8: 6 | C8: =1450+250 -> 1700 | D8: =B8*C8 -> 10200
A9: Zobārsta un higiēnas kabineta aprīkojums (galds, krēsls, izlietnes galds, sedlveida krēsls, mobilais galdiņš u.c.) | B9: 12 | C9: =900+100+300+600+1400 -> 3300 | D9: =B9*C9 -> 39600
A10: RTG sienas iekārta | B10: 4 | C10: 4000 | D10: =B10*C10 -> 16000
A11: RTG PTP lasītājs | B11: 2 | C11: 15000 | D11: =B11*C11 -> 30000
C12: Kopā | D12: =SUM(D4:D11) -> 522700
A13: Pielikumā minētais indikatīvais aprēķins tiks finansēts no budžeta resora "74. Gadskārtējā valsts budžeta izpildes procesā pārdalāmais finansējums" programmas 20.00.00 "Veselības aprūpes pasākumu īstenošana"

Sheet Platību_proporcijas_aprēķins
K1: Pielikums Nr.5
E2: Ministru kabineta rīkojuma projekts “Par finanšu līdzekļu apropriācijas pārdali no budžeta resora "74. Gadskārtējā valsts budžeta izpildes procesā pārdalāmais finansējums" 20.00.00 programmas "Veselības aprūpes pasākumu īstenošana"” sākotnējās ietekmes novērtējuma ziņojumam (anotācijai)
C3: Ieceres modelēts ēkas platību un izmaksu aprēķins, saskaņā ar ēkas Bērnu zobārstniecības stāva skici un pārējo stāvu skicēm
C6: Dzirciema ielas 16/20 (jaunbūve)
C7: Stāvs | D7: zona | E7: Kopējā ēkas platība, m2 | F7: Ēkas tieši funkcijai izmantojamo platība, m2 | G7: Korpusus savienojošo gaiteņi, m2 | H7: Ēkas pazemes stāva platība, m2 | I7: Bērnu zobārstniecības klīnika %, pret ēkas tieši funkcijai izmantojamo platību | J7: Bērnu zobārstniecības klīnika %, pret Korpusus savienojošo gaiteņiem | K7: Bērnu zobārstniecības klīnika %, pret ēkas pazemes stāvs
C8: pazeme | E8: 3000 | H8: =E8 -> 3000 | K8: 0
C9: 1.stāvs | E9: 625 | F9: =E9 -> 625 | I9: =F10/F19 -> 0.17716895
C10: 2.stāvs | E10: 970 | F10: =E10 -> 970
C11: 3.stāvs | E11: 970 | F11: =E11 -> 970
C12: 4.stāvs | E12: 970 | F12: =E12 -> 970
C13: 5.stāvs | E13: 970 | F13: =E13 -> 970
C14: 6.stāvs | E14: 970 | F14: =E14 -> 970
C15: Korpusus savienojošo gaiteņi | E15: `
D16: Gaitenis no DZ16 | E16: 75 | G16: =E16 -> 75 | J16: =G18/G19 -> 0.32727273
D17: Gaitenis no DZ20 | E17: 110 | G17: =E17 -> 110
D18: Gaitenis uz DZ20 - (tikai Bērnu zobārstniecības centram) | E18: 90 | G18: =E18 -> 90
D19: kopā, m2 | E19: =E8+E9+E10+E11+E12+E13+E14+E16+E17+E18 -> 8750 | F19: =F9+F10+F11+F12+F13+F14 -> 5475 | G19: =G16+G17+G18 -> 275 | H19: =H8 -> 3000
E21: Būvniecības izmaksas, likme eur/m2, iekļauts PVN | F21: =2400*1.21 -> 2904 | G21: =2000*1.21 -> 2420 | H21: =2000*1.21 -> 2420
E22: Izbūves izmaksas, eur iekļauts PVN | F22: =F19*F21 -> 15899400 | G22: =G19*G21 -> 665500 | H22: =H21*H19 -> 7260000
E23: Kopējās jaunbūves izmaksas, kopā EUR iekļauts PVN | F23: =F22+G22+H22 -> 23824900
I24: % no izmaksām
D25: Bērnu zobārstniecības centram attiecināmā platības izbūve, EUR iekļauts PVN | F25: =F22*I9 -> 2816880 | G25: =G22*J16 -> 217800 | H25: =H22*K9 -> 0
F26: =F25+G25 -> 3034680 | I26: =F26/F23 -> 0.1273743
D27: RSU daļa, EUR iekļauts PVN | F27: =F22-F25 -> 13082520 | G27: =G22-G25 -> 447700 | H27: =H22-H25 -> 7260000
F28: =F27+G27+H27 -> 20790220 | I28: =F28/F23 -> 0.8726257
