Workbook

Sheet  proj_dec
A2: Pārskats par darba veicējiem (ārstniecības personām) , virs normālā darba laika nostrādātām stundām, apmaksājamām stundām un izdevumiem, sakarā ar Latvijā izsludināto ārkārtējo situāciju ar mērķi ierobežot Covid-19 izplatību 2020.gada martā - maijā*
A4: Iestādes nosaukums: Neatliekamās medicīniskās palīdzības dienests
A5: Pārskata mēnesis __Decembris
B7: Slodzes | C7: Nodarbināto skaits mēnesī | D7: Apmaksājamais laiks mēnesī, stundas (tai skaitā summētā darba laika ietvaros) | G7: Faktiskā darba samaksa mēnesī, EUR | K7: Izdevumi par virsstundām kopā ar VSOAI, EUR
D8: Kopā | E8: līdz normālam darba laikam 1 | F8: virsstundas - virs normālā darba laika, kas saistītas ar darbu ar Covid-19 | G8: Kopā | J8: tajā skaitā
H9: Mēnešalga no kuras rēķina stundas likmi | I9: Stundas likme 2 | J9: Apmaksājamā 100% piemaksa par nostrādātām virsstundām virs normālā darba laika (tai skaitā summētā darba laika ietvaros)
A10: 1 | C10: 6 | D10: 7=8+9 | E10: 8 | F10: 9 | G10: 10=11+13 | H10: 11 | I10: 12 | J10: 13 | K10: 14=13 + VSOAI
A11: KOPĀ
A12: Ārsti, zobārsti un funkcionālie speciālisti, kopā, tai skaitā:**
A13: …
A14: …
A15: Ārstniecības un pacientu aprūpes personas un funkcionālo speciālistu asistenti, kopā, tai skaitā:**
A16: …
A17: …
A18: Ārstniecības un pacientu aprūpes atbalsta personas, māsu palīgi, zobārstu aistenti, kopā, tai skaitā:**
A19: …
A20: …
A21: Pārējie darbinieki, kuri tieši iesaistīti darbā ar Covid-19, kopā, tai skaitā:** | C21: =SUM(C22:C93) -> 72 | D21: =SUM(D22:D93) -> 14009.854 | E21: =SUM(E22:E93) -> 12066.4 | F21: =SUM(F22:F93) -> 1943.4545 | G21: =SUM(G22:G93) -> 129988.61 | H21: =SUM(H22:H93) -> 96197.39 | J21: =SUM(J22:J93) -> 33791.223 | K21: =SUM(K22:K93) -> 41931.529
A22: Medicīnisko maksas pakalpojumu nodaļas vadītājs | C22: 1 | D22: =F22+E22 -> 275.00027 | E22: 176 | F22: 99.000267 | G22: =H22+J22 -> 3499.88 | H22: 1647 | I22: =H22/E22 -> 9.3579545 | J22: =I22*F22*2 -> 1852.88 | K22: =J22*1.2409 -> 2299.2388
A23: RC galvenais ārsta palīgs | C23: 1 | D23: =F23+E23 -> 274.00345 | E23: 176 | F23: 98.003445 | G23: =H23+J23 -> 3582.68 | H23: 1695 | I23: =H23/E23 -> 9.6306818 | J23: =I23*F23*2 -> 1887.68 | K23: =J23*1.2409 -> 2342.4221
A24: Ārkārtas situāciju gatavības nodrošināšanas nodaļas vadītājs | B24: 0.95 | C24: 1 | D24: =F24+E24 -> 261.19521 | E24: 167.2 | F24: 93.995214 | G24: =H24+J24 -> 2597.33 | H24: 1222.65 | I24: =H24/E24 -> 7.3125 | J24: =I24*F24*2 -> 1374.68 | K24: =J24*1.2409 -> 1705.8404
A25: Komunikācijas nodaļas vadītājs | C25: 1 | D25: =F25+E25 -> 269.00181 | E25: 176 | F25: 93.001806 | G25: =H25+J25 -> 3188.1 | H25: 1550 | I25: =H25/E25 -> 8.8068182 | J25: =I25*F25*2 -> 1638.1 | K25: =J25*1.2409 -> 2032.7183
A26: direktors | C26: 1 | D26: =F26+E26 -> 261.99803 | E26: 176 | F26: 85.998028 | G26: =H26+J26 -> 4652.47 | H26: 2353 | I26: =H26/E26 -> 13.369318 | J26: =I26*F26*2 -> 2299.47 | K26: =J26*1.2409 -> 2853.4123
A27: Katastrofu medicīnas centra vadītājs | C27: 1 | D27: =F27+E27 -> 253.00172 | E27: 176 | F27: 77.001717 | G27: =H27+J27 -> 3843.79 | H27: 2050 | I27: =H27/E27 -> 11.647727 | J27: =I27*F27*2 -> 1793.79 | K27: =J27*1.2409 -> 2225.914
A28: galvenais sabiedrisko attiecību speciālists | C28: 1 | D28: =F28+E28 -> 230.00107 | E28: 160 | F28: 70.001067 | G28: =H28+J28 -> 1789.794 | H28: 954.55 | I28: =H28/E28 -> 5.9659375 | J28: =I28*F28*2 -> 835.24398 | K28: =J28*1.2409 -> 1036.4543
A29: Operatīvās vadības centra vadītāja vietnieks | C29: 1 | D29: =F29+E29 -> 245.9988 | E29: 176 | F29: 69.998796 | G29: =H29+J29 -> 3339.52 | H29: 1860 | I29: =H29/E29 -> 10.568182 | J29: =I29*F29*2 -> 1479.52 | K29: =J29*1.2409 -> 1835.9364
A30: Operatīvās vadības centra vadītājs | C30: 1 | D30: =F30+E30 -> 221 | E30: 152 | F30: 69 | G30: =H30+J30 -> 3625 | H30: 1900 | I30: =H30/E30 -> 12.5 | J30: =I30*F30*2 -> 1725 | K30: =J30*1.2409 -> 2140.5525
A31: direktora vietnieks neatliekamās medicīniskās palīdzības jautājumos | C31: 1 | D31: =F31+E31 -> 236.00232 | E31: 176 | F31: 60.002319 | G31: =H31+J31 -> 3829.56 | H31: 2277 | I31: =H31/E31 -> 12.9375 | J31: =I31*F31*2 -> 1552.56 | K31: =J31*1.2409 -> 1926.5717
A32: Operatīvā darba organizēšanas nodaļas vadītājs | B32: 0.95 | C32: 1 | D32: =F32+E32 -> 220.20216 | E32: 167.2 | F32: 53.002162 | G32: =H32+J32 -> 2871.75 | H32: 1757.5 | I32: =H32/E32 -> 10.511364 | J32: =I32*F32*2 -> 1114.25 | K32: =J32*1.2409 -> 1382.6728
A33: galvenais speciālists cilvēkresursu attīstības jautājumos | C33: 1 | D33: =F33+E33 -> 217.99867 | E33: 176 | F33: 41.998669 | G33: =H33+J33 -> 2041.57 | H33: 1382 | I33: =H33/E33 -> 7.8522727 | J33: =I33*F33*2 -> 659.57 | K33: =J33*1.2409 -> 818.46041
A34: galvenais speciālists | C34: 1 | D34: =F34+E34 -> 217.99873 | E34: 176 | F34: 41.998733 | G34: =H34+J34 -> 1772.71 | H34: 1200 | I34: =H34/E34 -> 6.8181818 | J34: =I34*F34*2 -> 572.71 | K34: =J34*1.2409 -> 710.67584
A35: galvenais informācijas sistēmas administrators | C35: 1 | D35: =F35+E35 -> 214.00198 | E35: 176 | F35: 38.001984 | G35: =H35+J35 -> 2193.58 | H35: 1532 | I35: =H35/E35 -> 8.7045455 | J35: =I35*F35*2 -> 661.58 | K35: =J35*1.2409 -> 820.95462
A36: galvenais speciālists personālvadības jautājumos | C36: 1 | D36: =F36+E36 -> 213.99855 | E36: 176 | F36: 37.998553 | G36: =H36+J36 -> 1978.75 | H36: 1382 | I36: =H36/E36 -> 7.8522727 | J36: =I36*F36*2 -> 596.75 | K36: =J36*1.2409 -> 740.50707
A37: galvenais komunikācijas speciālists | C37: 1 | D37: =F37+E37 -> 214.00091 | E37: 176 | F37: 38.000914 | G37: =H37+J37 -> 1503.42 | H37: 1050 | I37: =H37/E37 -> 5.9659091 | J37: =I37*F37*2 -> 453.42 | K37: =J37*1.2409 -> 562.64888
A38: lietvedis | C38: 1 | D38: =F38+E38 -> 214.00091 | E38: 176 | F38: 38.000914 | G38: =H38+J38 -> 1503.42 | H38: 1050 | I38: =H38/E38 -> 5.9659091 | J38: =I38*F38*2 -> 453.42 | K38: =J38*1.2409 -> 562.64888
A39: BAC galvenais ārsta palīgs (ļoti liels BAC) | C39: 1 | D39: =F39+E39 -> 212.00025 | E39: 176 | F39: 36.00025 | G39: =H39+J39 -> 2254.55 | H39: 1600 | I39: =H39/E39 -> 9.0909091 | J39: =I39*F39*2 -> 654.55 | K39: =J39*1.2409 -> 812.23109
A40: galvenais sabiedrisko attiecību speciālists | C40: 1 | D40: =F40+E40 -> 211.99834 | E40: 176 | F40: 35.998336 | G40: =H40+J40 -> 1761.34 | H40: 1250 | I40: =H40/E40 -> 7.1022727 | J40: =I40*F40*2 -> 511.34 | K40: =J40*1.2409 -> 634.52181
A41: galvenais speciālists | C41: 1 | D41: =F41+E41 -> 211.99965 | E41: 176 | F41: 35.999652 | G41: =H41+J41 -> 1620.45 | H41: 1150 | I41: =H41/E41 -> 6.5340909 | J41: =I41*F41*2 -> 470.45 | K41: =J41*1.2409 -> 583.7814
A42: RC vadītāja vietnieks | C42: 1 | D42: =F42+E42 -> 208.99886 | E42: 176 | F42: 32.998863 | G42: =H42+J42 -> 2660.6 | H42: 1935 | I42: =H42/E42 -> 10.994318 | J42: =I42*F42*2 -> 725.6 | K42: =J42*1.2409 -> 900.39704
A43: personāla speciālists | C43: 1 | D43: =F43+E43 -> 193 | E43: 160 | F43: 33 | G43: =H43+J43 -> 1412.5 | H43: 1000 | I43: =H43/E43 -> 6.25 | J43: =I43*F43*2 -> 412.5 | K43: =J43*1.2409 -> 511.87125
...

Sheet KOPSAVILKUMS
C1: 2.pielikums MK rīkojuma projekta “Par finanšu līdzekļu piešķiršanu no valsts budžeta programmas “Līdzekļi neparedzētiem gadījumiem”” anotācijai
A3: Pārskats par darba veicējiem (ārstniecības personām), virs normālā darba laika nostrādātām stundām, apmaksājamām stundām un izdevumiem, kas radušies saistībā ar mērķi ierobežot Covid-19 izplatību, par 2021.gada decembris - 2022.gada aprīlis
C6: KOPĀ
C7: Virsstundas - virs normālā darba laika, kas saistītas ar darbu ar Covid-19 | D7: Apmaksājamā 100% piemaksa par nostrādātām virsstundām virs normālā darba laika, euro (tai skaitā summētā darba laika ietvaros) | E7: Izdevumi par virsstundām kopā ar VSOAI, euro
A8: KOPĀ | C8: =SUM(C9:C13) -> 72525.776 | D8: =SUM(D9:D13) -> 758107.94 | E8: =SUM(E9:E13) -> 936582
A9: 1 | B9: Neatliekamās medicīniskās palīdzības dienests | C9: =NMPD_sum_darbs_dec_feb!E11 -> 48458.586 | D9: =NMPD_sum_darbs_dec_feb!H11 -> 354963.44 | E9: =ROUNDUP(NMPD_sum_darbs_dec_feb!I11,0) -> 438700
A10: 2 | B10: Slimību profilakses un kontroles centrs | C10: =SPKC_decembris!E11+SPKC_janvāris!E11+SPKC_februāris!E11+SPKC_marts!E11+SPKC_aprīlis!E11 -> 9379.5 | D10: =SPKC_decembris!H11+SPKC_janvāris!H11+SPKC_februāris!H11+SPKC_marts!H11+SPKC_aprīlis!H11 -> 133984.54 | E10: =ROUNDUP(SPKC_decembris!I11+SPKC_janvāris!I11+SPKC_februāris!I11+SPKC_marts!I11+SPKC_aprīlis!I11,0) -> 165230
A11: 3 | B11: Nacionālais veselības dienests | C11: =NVD_decembris!E11+NVD_janvāris!E11+NVD_februāris!E11+NVD_marts!E11+NVD_aprīlis!E11 -> 12166.45 | D11: =NVD_decembris!H11+NVD_janvāris!H11+NVD_februāris!H11+NVD_marts!H11+NVD_aprīlis!H11 -> 215695.61 | E11: =ROUNDUP(NVD_decembris!I11+NVD_janvāris!I11+NVD_februāris!I11+NVD_marts!I11+NVD_aprīlis!I11,0) -> 266579
A12: 4 | B12: Valsts asinsdonoru centrs | C12: =VADC_janvāris!E12 -> 7 | D12: =VADC_janvāris!H11 -> 107.25 | E12: =ROUNDUP(VADC_janvāris!I11,0) -> 133
A13: 5 | B13: Veselības ministrija | C13: =VM_decembris!E11+VM_janvāris!E11+VM_februāris!E11+VM_marts!E11+VM_aprīlis!E11 -> 2514.24 | D13: =VM_decembris!H11+VM_janvāris!H11+VM_februāris!H11+VM_marts!H11+VM_aprīlis!H11 -> 53357.1 | E13: =ROUNDUP(VM_decembris!I11+VM_janvāris!I11+VM_februāris!I11+VM_marts!I11+VM_aprīlis!I11,0) -> 65940

Sheet NMPD_sum_darbs_dec_feb
H1: 2.1.Pielikums
A2: Pārskats par darba veicējiem (ārstniecības personām), virs normālā darba laika nostrādātām stundām, apmaksājamām stundām un izdevumiem, kas radušies saistībā ar mērķi ierobežot Covid-19 izplatību
A4: Iestādes nosaukums: Neatliekamās medicīniskās palīdzības dienests
A5: Pārskats: 2021.gada decembris - 2022.gada februāris
B7: Nodarbināto skaits mēnesī | C7: Apmaksājamais laiks mēnesī, stundas (tai skaitā summētā darba laika ietvaros) | F7: Mēnešalga no kuras rēķina stundas likmi | G7: Stundas likme (aprēķināta atbilstoši mēnešalgai vai darba līgumā noteiktā stundas likme) | H7: Apmaksājamā 100% piemaksa par nostrādātām virsstundām virs normālā darba laika (tai skaitā summētā darba laika ietvaros) | I7: Izdevumi par virsstundām kopā ar VSOAI, EUR
C8: Kopā | D8: līdz normālam darba laikam | E8: virsstundas - virs normālā darba laika, kas saistītas ar darbu ar Covid-19
A10: 1 | B10: 2 | C10: 3=4+5 | D10: 4 | E10: 5 | F10: 6 | G10: 7 | H10: 8 | I10: 9=8*1.2359
A11: KOPĀ | B11: =B12+B25+B46 -> 1117 | E11: =E12+E25+E46 -> 48458.586 | H11: =H12+H25+H46 -> 354963.44 | I11: =I12+I25+I46 -> 438699.32
A12: Ārsti, zobārsti un funkcionālie speciālisti, kopā, tai skaitā: | B12: =SUM(B13:B24) -> 54 | E12: =SUM(E13:E24) -> 2586.96 | H12: =SUM(H13:H24) -> 29633.64 | I12: =SUM(I13:I24) -> 36624.23
A13: SMC anesteziologs-reanimatologs | B13: 2 | C13: =D13+E13 -> 598.38 | D13: 494 | E13: 104.38 | F13: 2040 | G13: =F13/168.17 -> 12.130582 | H13: =ROUND(G13*E13,2) -> 1266.19 | I13: =ROUND(H13*1.2359,2) -> 1564.88
A14: SMC neonatalogs | B14: 2 | C14: =D14+E14 -> 595 | D14: 494 | E14: 101 | F14: 2040 | G14: =F14/168.17 -> 12.130582 | H14: =ROUND(G14*E14,2) -> 1225.19 | I14: =ROUND(H14*1.2359,2) -> 1514.21
A15: Ārsta speciālista brigādes vadītājs - NM ārsts, anesteziologs-reanimatologs | B15: 9 | C15: =D15+E15 -> 999.9 | D15: 494 | E15: 505.9 | F15: 2040 | G15: =F15/168.17 -> 12.130582 | H15: =ROUND(G15*E15,2) -> 6136.86 | I15: =ROUND(H15*1.2359,2) -> 7584.55
A16: Intensīvās terapijas brigādes vadītājs - NM ārsts | B16: 7 | C16: =D16+E16 -> 1033.36 | D16: 494 | E16: 539.36 | F16: 1810 | G16: =F16/168.17 -> 10.762918 | H16: =ROUND(G16*E16,2) -> 5805.09 | I16: =ROUND(H16*1.2359,2) -> 7174.51
A17: Reanimācijas brigādes vadītājs - NM ārsts, anesteziologs-reanimatologs | B17: 2 | C17: =D17+E17 -> 557.83 | D17: 494 | E17: 63.83 | F17: 1950 | G17: =F17/168.17 -> 11.595409 | H17: =ROUND(G17*E17,2) -> 740.13 | I17: =ROUND(H17*1.2359,2) -> 914.73
A18: Brigādes vadītājs - ārsts, sagatavots NMP sniegšanai (anestezioloģijas, reanimatoloģijas vai neatliekamās medicīnas ārsta specialitātes 4./5.gada rezidents, ārsts kardiologs, ārsts internists vai ģimenes ārsts) | B18: 8 | C18: =D18+E18 -> 899.75 | D18: 494 | E18: 405.75 | F18: 1330 | G18: =F18/168.17 -> 7.9086639 | H18: =ROUND(G18*E18,2) -> 3208.94 | I18: =ROUND(H18*1.2359,2) -> 3965.93
A19: Brigādes (2AP) vadītājs - ārsts, sagatavots NMP sniegšanai | B19: 1 | C19: =D19+E19 -> 532.18 | D19: 494 | E19: 38.18 | F19: 1700 | G19: =F19/168.17 -> 10.108818 | H19: =ROUND(G19*E19,2) -> 385.95 | I19: =ROUND(H19*1.2359,2) -> 477
A20: Brigādes otrā ārstniecības persona - ārsts | B20: 1 | C20: =D20+E20 -> 505.06 | D20: 494 | E20: 11.06 | F20: 1000 | G20: =F20/168.17 -> 5.9463638 | H20: =ROUND(G20*E20,2) -> 65.77 | I20: =ROUND(H20*1.2359,2) -> 81.29
A21: Ģimenes ārstu konsultatīvā tālruņa konsultants (ārsts) | B21: 3 | C21: =D21+E21 -> 585 | D21: 494 | E21: 91 | F21: 1950 | G21: =F21/168.17 -> 11.595409 | H21: =ROUND(G21*E21,2) -> 1055.18 | I21: =ROUND(H21*1.2359,2) -> 1304.1
A22: OVC ārsts konsultants | B22: 4 | C22: =D22+E22 -> 630 | D22: 494 | E22: 136 | F22: 2130 | G22: =F22/168.17 -> 12.665755 | H22: =ROUND(G22*E22,2) -> 1722.54 | I22: =ROUND(H22*1.2359,2) -> 2128.89
A23: OVC galvenais dežurārsts | B23: 4 | C23: =D23+E23 -> 698 | D23: 494 | E23: 204 | F23: 2350 | G23: =F23/168.17 -> 13.973955 | H23: =ROUND(G23*E23,2) -> 2850.69 | I23: =ROUND(H23*1.2359,2) -> 3523.17
A24: OVC vecākais dežūrārsts | B24: 11 | C24: =D24+E24 -> 880.5 | D24: 494 | E24: 386.5 | F24: 2250 | G24: =F24/168.17 -> 13.379319 | H24: =ROUND(G24*E24,2) -> 5171.11 | I24: =ROUND(H24*1.2359,2) -> 6390.97
A25: Ārstniecības un pacientu aprūpes personas un funkcionālo speciālistu asistenti, kopā, tai skaitā: | B25: =SUM(B26:B45) -> 785 | E25: =SUM(E26:E45) -> 36712.583 | H25: =SUM(H26:H45) -> 278004.33 | I25: =SUM(I26:I45) -> 343585.54
A26: Brigādes vadītājs - NM ārsta palīgs | B26: 466 | C26: =D26+E26 -> 22628.31 | D26: 494 | E26: 22134.31 | F26: 1330 | G26: =F26/168.17 -> 7.9086639 | H26: =ROUND(G26*E26,2) -> 175052.82 | I26: =ROUND(H26*1.2359,2) -> 216347.78
A27: IT medicīnas māsa | B27: 2 | C27: =D27+E27 -> 660 | D27: 494 | E27: 166 | F27: 1310 | G27: =F27/168.17 -> 7.7897366 | H27: =ROUND(G27*E27,2) -> 1293.1 | I27: =ROUND(H27*1.2359,2) -> 1598.14
A28: Neonatologa brigādes māsa | B28: 3 | C28: =D28+E28 -> 543 | D28: 494 | E28: 49 | F28: 1310 | G28: =F28/168.17 -> 7.7897366 | H28: =ROUND(G28*E28,2) -> 381.7 | I28: =ROUND(H28*1.2359,2) -> 471.74
A29: SMC NM ārsta palīgs | B29: 5 | C29: =D29+E29 -> 1006.57 | D29: 494 | E29: 512.57 | F29: 1310 | G29: =F29/168.17 -> 7.7897366 | H29: =ROUND(G29*E29,2) -> 3992.79 | I29: =ROUND(H29*1.2359,2) -> 4934.69
A30: Brigādes vadītājs - vecākais NM ārsta palīgs | B30: 37 | C30: =D30+E30 -> 2500.31 | D30: 494 | E30: 2006.31 | F30: 1410 | G30: =F30/168.17 -> 8.384373 | H30: =ROUND(G30*E30,2) -> 16821.65 | I30: =ROUND(H30*1.2359,2) -> 20789.88
A31: Ārsta speciālista brigādes otrā ārstniecības persona - NM ārsta palīgs | B31: 5 | C31: =D31+E31 -> 931.46 | D31: 494 | E31: 437.46 | F31: 1510 | G31: =F31/168.17 -> 8.9790093 | H31: =ROUND(G31*E31,2) -> 3927.96 | I31: =ROUND(H31*1.2359,2) -> 4854.57
A32: Brigādes (2AP) vadītājs - NM ārsta palīgs | B32: 5 | C32: =D32+E32 -> 725.77 | D32: 494 | E32: 231.77 | F32: 1700 | G32: =F32/168.17 -> 10.108818 | H32: =ROUND(G32*E32,2) -> 2342.92 | I32: =ROUND(H32*1.2359,2) -> 2895.61
A33: Brigādes (2AP) otrā ārstniecības persona - ārsta palīgs | B33: 2 | C33: =D33+E33 -> 538.99 | D33: 494 | E33: 44.99 | F33: 1205 | G33: =F33/168.17 -> 7.1653684 | H33: =ROUND(G33*E33,2) -> 322.37 | I33: =ROUND(H33*1.2359,2) -> 398.42
A34: Brigādes otrā ārstniecības persona - NM ārsta palīgs | B34: 25 | C34: =D34+E34 -> 1695.1 | D34: 494 | E34: 1201.1 | F34: 1131 | G34: =F34/168.17 -> 6.7253375 | H34: =ROUND(G34*E34,2) -> 8077.8 | I34: =ROUND(H34*1.2359,2) -> 9983.35
A35: Brigādes otrā ārstniecības persona - ārsta palīgs | B35: 120 | C35: =D35+E35 -> 5395.833 | D35: 494 | E35: 4901.833 | F35: 945 | G35: =F35/168.17 -> 5.6193138 | H35: =ROUND(G35*E35,2) -> 27544.94 | I35: =ROUND(H35*1.2359,2) -> 34042.79
A36: Brigādes otrā ārstniecības persona - medicīnas māsa | B36: 19 | C36: =D36+E36 -> 1259.79 | D36: 494 | E36: 765.79 | F36: 920 | G36: =F36/168.17 -> 5.4706547 | H36: =ROUND(G36*E36,2) -> 4189.37 | I36: =ROUND(H36*1.2359,2) -> 5177.64
A37: Brigādes otrā persona - medicīnas asistents | B37: 21 | C37: =D37+E37 -> 1273.45 | D37: 494 | E37: 779.45 | F37: 723 | G37: =F37/168.17 -> 4.299221 | H37: =ROUND(G37*E37,2) -> 3351.03 | I37: =ROUND(H37*1.2359,2) -> 4141.54
... A45: Speciālists NMP brigāžu atbalsta jautājumos (ārsta palīgs) | B45: 6 | C45: =D45+E45 -> 723.17 | D45: 494 | E45: 229.17 | F45: 1200 | G45: =F45/168.17 -> 7.1356366 | H45: =ROUND(G45*E45,2) -> 1635.27 | I45: =ROUND(H45*1.2359,2) -> 2021.03
A46: Pārējie darbinieki, kuri tieši iesaistīti darbā ar Covid-19, kopā, tai skaitā: | B46: =SUM(B47:B49) -> 278 | E46: =SUM(E47:E49) -> 9159.043 | H46: =SUM(H47:H49) -> 47325.47 | I46: =SUM(I47:I49) -> 58489.55
A47: Vecākais OMT vadītājs | B47: 32 | C47: =D47+E47 -> 1754.72 | D47: 494 | E47: 1260.72 | F47: 925 | G47: =F47/168.17 -> 5.5003865 | H47: =ROUND(G47*E47,2) -> 6934.45 | I47: =ROUND(H47*1.2359,2) -> 8570.29
A48: SMC OMT vadītājs | B48: 15 | C48: =D48+E48 -> 868.5 | D48: 494 | E48: 374.5 | F48: 860 | G48: =F48/168.17 -> 5.1138729 | H48: =ROUND(G48*E48,2) -> 1915.15 | I48: =ROUND(H48*1.2359,2) -> 2366.93
A49: OMT vadītājs | B49: 231 | C49: =D49+E49 -> 8017.823 | D49: 494 | E49: 7523.823 | F49: 860 | G49: =F49/168.17 -> 5.1138729 | H49: =ROUND(G49*E49,2) -> 38475.87 | I49: =ROUND(H49*1.2359,2) -> 47552.33
A51: * NMPD darbiniekiem, kuriem ir izlīdzinātais darba laiks, kopējias finansējums virsstundu apmaksai ir prasīts vienas darbinieku stundas likmes apmērā (ne dubultā), jo NMPD visas stundas apmaksājusi atbilstoši grafikam ik mēnesi, papildus finansējums prasīts pēc izlīdzināšanas perioda aprēķinātajām virsstundām neapmaksātajai daļai.

Sheet SPKC_decembris
H1: 2.2.Pielikums
A2: Pārskats par darba veicējiem (ārstniecības personām), virs normālā darba laika nostrādātām stundām, apmaksājamām stundām un izdevumiem, kas radušies saistībā ar mērķi ierobežot Covid-19 izplatību
A4: Iestādes nosaukums: Slimību profilakses un kontroles centrs
A5: Pārskata mēnesis: 2021.gada decembris
B7: Nodarbināto skaits mēnesī | C7: Apmaksājamais laiks mēnesī, stundas (tai skaitā summētā darba laika ietvaros) | F7: Mēnešalga no kuras rēķina stundas likmi | G7: Stundas likme | H7: Apmaksājamā 100% piemaksa par nostrādātām virsstundām virs normālā darba laika (tai skaitā summētā darba laika ietvaros) | I7: Izdevumi par virsstundām kopā ar VSOAI, EUR
C8: Kopā | D8: līdz normālam darba laikam | E8: virsstundas - virs normālā darba laika, kas saistītas ar darbu ar Covid-19
A10: 1 | B10: 2 | C10: 3=4+5 | D10: 4 | E10: 5 | F10: 6 | G10: 7 | H10: 8 | I10: 9=8*1.2359
A11: KOPĀ | B11: =SUM(B12:B25) -> 81 | E11: =SUM(E12:E25) -> 2515 | H11: =SUM(H12:H25) -> 35832.29 | I11: =SUM(I12:I25) -> 44172.24
A12: direktora vietnieks | B12: 1 | C12: =SUM(D12:E12) -> 231 | D12: 166 | E12: 65 | F12: 1917 | G12: =F12/D12 -> 11.548193 | H12: =ROUND(F12/D12*E12*2,2) -> 1501.27 | I12: =ROUND(H12*1.2359,2) -> 1855.42
A13: departamenta direktors, vec.eksperts, sistēmanalītiķis | B13: 3 | C13: =SUM(D13:E13) -> 299 | D13: 166 | E13: 133 | F13: 1647 | G13: =F13/D13 -> 9.9216867 | H13: =ROUND(F13/D13*E13*2,2) -> 2639.17 | I13: =ROUND(H13*1.2359,2) -> 3261.75
A14: nodaļas vadītājs | B14: 4 | C14: =SUM(D14:E14) -> 271 | D14: 166 | E14: 105 | F14: 1382 | G14: =F14/D14 -> 8.3253012 | H14: =ROUND(F14/D14*E14*2,2) -> 1748.31 | I14: =ROUND(H14*1.2359,2) -> 2160.74
A15: vecākais sabiedrības veselības analītiķis, vecākais epidemiologs | B15: 8 | C15: =SUM(D15:E15) -> 479 | D15: 166 | E15: 313 | F15: 1287 | G15: =F15/D15 -> 7.753012 | H15: =ROUND(F15/D15*E15*2,2) -> 4853.39 | I15: =ROUND(H15*1.2359,2) -> 5998.3
A16: vecākais sabiedrības veselības analītiķis, vecākais epidemiologs | B16: 1 | C16: =SUM(D16:E16) -> 182 | D16: 166 | E16: 16 | F16: 1287 | G16: =F16/D16 -> 7.753012 | H16: =ROUND(F16/D16*E16*2,2) -> 248.1 | I16: =ROUND(H16*1.2077,2) -> 299.63
A17: vecākais sabiedrības veselības analītiķis,epidemiologs, vecākais epidemiologs | B17: 30 | C17: =SUM(D17:E17) -> 1036 | D17: 166 | E17: 870 | F17: 1190 | G17: =F17/D17 -> 7.1686747 | H17: =ROUND(F17/D17*E17*2,2) -> 12473.49 | I17: =ROUND(H17*1.2359,2) -> 15415.99
A18: vecākais sabiedrības veselības analītiķis,epidemiologs, vecākais epidemiologs | B18: 4 | C18: =SUM(D18:E18) -> 330 | D18: 166 | E18: 164 | F18: 1190 | G18: =F18/D18 -> 7.1686747 | H18: =ROUND(F18/D18*E18*2,2) -> 2351.33 | I18: =ROUND(H18*1.2077,2) -> 2839.7
A19: epidemiologs | B19: 1 | C19: =SUM(D19:E19) -> 200 | D19: 166 | E19: 34 | F19: 1140 | G19: =F19/D19 -> 6.8674699 | H19: =ROUND(F19/D19*E19*2,2) -> 466.99 | I19: =ROUND(H19*1.2359,2) -> 577.15
A20: vecākais veselības veicināšanas koordinētājs | B20: 1 | C20: =SUM(D20:E20) -> 215 | D20: 166 | E20: 49 | F20: 1115 | G20: =F20/D20 -> 6.7168675 | H20: =ROUND(F20/D20*E20*2,2) -> 658.25 | I20: =ROUND(H20*1.2359,2) -> 813.53
A21: sabiedrības veselības koordinētājs | B21: 3 | C21: =SUM(D21:E21) -> 236 | D21: 166 | E21: 70 | F21: 1015 | G21: =F21/D21 -> 6.1144578 | H21: =ROUND(F21/D21*E21*2,2) -> 856.02 | I21: =ROUND(H21*1.2359,2) -> 1057.96
A22: sabiedrības veselības organizators, direktora palīgs | B22: 14 | C22: =SUM(D22:E22) -> 578.5 | D22: 166 | E22: 412.5 | F22: 996 | G22: =F22/D22 -> 6 | H22: =ROUND(F22/D22*E22*2,2) -> 4950 | I22: =ROUND(H22*1.2359,2) -> 6117.71
A23: sabiedrības veselības organizators, direktora palīgs | B23: 4 | C23: =SUM(D23:E23) -> 283 | D23: 166 | E23: 117 | F23: 996 | G23: =F23/D23 -> 6 | H23: =ROUND(F23/D23*E23*2,2) -> 1404 | I23: =ROUND(H23*1.2077,2) -> 1695.61
A24: statistiķis | B24: 1 | C24: =SUM(D24:E24) -> 175 | D24: 166 | E24: 9 | F24: 899 | G24: =F24/D24 -> 5.4156627 | H24: =ROUND(F24/D24*E24*2,2) -> 97.48 | I24: =ROUND(H24*1.2359,2) -> 120.48
A25: epidemiologs | B25: 6 | C25: =SUM(D25:E25) -> 323.5 | D25: 166 | E25: 157.5 | F25: 835 | G25: =F25/D25 -> 5.0301205 | H25: =ROUND(F25/D25*E25*2,2) -> 1584.49 | I25: =ROUND(H25*1.2359,2) -> 1958.27
A27: Samazināta VSAOI likme - 20,77% vai 21,94%

Sheet SPKC_janvāris
H1: 2.3.Pielikums
A2: Pārskats par darba veicējiem (ārstniecības personām), virs normālā darba laika nostrādātām stundām, apmaksājamām stundām un izdevumiem, kas radušies saistībā ar mērķi ierobežot Covid-19 izplatību
A4: Iestādes nosaukums: Slimību profilakses un kontroles centrs
A5: Pārskata mēnesis: 2022.gada janvāris
B7: Nodarbināto skaits mēnesī | C7: Apmaksājamais laiks mēnesī, stundas (tai skaitā summētā darba laika ietvaros) | F7: Mēnešalga no kuras rēķina stundas likmi | G7: Stundas likme | H7: Apmaksājamā 100% piemaksa par nostrādātām virsstundām virs normālā darba laika (tai skaitā summētā darba laika ietvaros) | I7: Izdevumi par virsstundām kopā ar VSOAI, EUR
C8: Kopā | D8: līdz normālam darba laikam | E8: virsstundas - virs normālā darba laika, kas saistītas ar darbu ar Covid-19
A10: 1 | B10: 2 | C10: 3=4+5 | D10: 4 | E10: 5 | F10: 6 | G10: 7 | H10: 8 | I10: 9=8*1.2359
A11: KOPĀ | B11: =SUM(B12:B24) -> 96 | E11: =SUM(E12:E24) -> 3618 | H11: =SUM(H12:H24) -> 51217.26 | I11: =SUM(I12:I24) -> 63180.96
A12: direktora vietnieks | B12: 1 | C12: =SUM(D12:E12) -> 226.5 | D12: 168 | E12: 58.5 | F12: 1917 | G12: =F12/D12 -> 11.410714 | H12: =ROUND(F12/D12*E12*2,2) -> 1335.05 | I12: =ROUND(H12*1.2359,2) -> 1649.99
A13: departamenta direktors, vec.eksperts, sistēmanalītiķis | B13: 4 | C13: =SUM(D13:E13) -> 323 | D13: 168 | E13: 155 | F13: 1647 | G13: =F13/D13 -> 9.8035714 | H13: =ROUND(F13/D13*E13*2,2) -> 3039.11 | I13: =ROUND(H13*1.2359,2) -> 3756.04
A14: nodaļas vadītājs | B14: 7 | C14: =SUM(D14:E14) -> 465 | D14: 168 | E14: 297 | F14: 1382 | G14: =F14/D14 -> 8.2261905 | H14: =ROUND(F14/D14*E14*2,2) -> 4886.36 | I14: =ROUND(H14*1.2359,2) -> 6039.05
A15: vecākais sabiedrības veselības analītiķis, vecākais epidemiologs | B15: 10 | C15: =SUM(D15:E15) -> 533 | D15: 168 | E15: 365 | F15: 1287 | G15: =F15/D15 -> 7.6607143 | H15: =ROUND(F15/D15*E15*2,2) -> 5592.32 | I15: =ROUND(H15*1.2359,2) -> 6911.55
A16: vecākais sabiedrības veselības analītiķis, vecākais epidemiologs | B16: 1 | C16: =SUM(D16:E16) -> 201 | D16: 168 | E16: 33 | F16: 1287 | G16: =F16/D16 -> 7.6607143 | H16: =ROUND(F16/D16*E16*2,2) -> 505.61 | I16: =ROUND(H16*1.2077,2) -> 610.63
A17: vecākais sabiedrības veselības analītiķis,epidemiologs, vecākais epidemiologs | B17: 39 | C17: =SUM(D17:E17) -> 1635 | D17: 168 | E17: 1467 | F17: 1190 | G17: =F17/D17 -> 7.0833333 | H17: =ROUND(F17/D17*E17*2,2) -> 20782.5 | I17: =ROUND(H17*1.2359,2) -> 25685.09
A18: vecākais sabiedrības veselības analītiķis,epidemiologs, vecākais epidemiologs | B18: 4 | C18: =SUM(D18:E18) -> 279 | D18: 168 | E18: 111 | F18: 1190 | G18: =F18/D18 -> 7.0833333 | H18: =ROUND(F18/D18*E18*2,2) -> 1572.5 | I18: =ROUND(H18*1.2077,2) -> 1899.11
A19: epidemiologs | B19: 1 | C19: =SUM(D19:E19) -> 188 | D19: 168 | E19: 20 | F19: 1140 | G19: =F19/D19 -> 6.7857143 | H19: =ROUND(F19/D19*E19*2,2) -> 271.43 | I19: =ROUND(H19*1.2359,2) -> 335.46
A20: vecākais veselības veicināšanas koordinētājs | B20: 1 | C20: =SUM(D20:E20) -> 211 | D20: 168 | E20: 43 | F20: 1115 | G20: =F20/D20 -> 6.6369048 | H20: =ROUND(F20/D20*E20*2,2) -> 570.77 | I20: =ROUND(H20*1.2359,2) -> 705.41
A21: sabiedrības veselības koordinētājs, epidemiologs | B21: 7 | C21: =SUM(D21:E21) -> 371 | D21: 168 | E21: 203 | F21: 1015 | G21: =F21/D21 -> 6.0416667 | H21: =ROUND(F21/D21*E21*2,2) -> 2452.92 | I21: =ROUND(H21*1.2359,2) -> 3031.56
A22: sabiedrības veselības organizators, direktora palīgs | B22: 14 | C22: =SUM(D22:E22) -> 826.5 | D22: 168 | E22: 658.5 | F22: 996 | G22: =F22/D22 -> 5.9285714 | H22: =ROUND(F22/D22*E22*2,2) -> 7807.93 | I22: =ROUND(H22*1.2359,2) -> 9649.82
A23: sabiedrības veselības organizators, direktora palīgs | B23: 4 | C23: =SUM(D23:E23) -> 347 | D23: 168 | E23: 179 | F23: 996 | G23: =F23/D23 -> 5.9285714 | H23: =ROUND(F23/D23*E23*2,2) -> 2122.43 | I23: =ROUND(H23*1.2077,2) -> 2563.26
A24: epidemiologs | B24: 3 | C24: =SUM(D24:E24) -> 196 | D24: 168 | E24: 28 | F24: 835 | G24: =F24/D24 -> 4.9702381 | H24: =ROUND(F24/D24*E24*2,2) -> 278.33 | I24: =ROUND(H24*1.2359,2) -> 343.99
A26: Samazināta VSAOI likme - 20,77% vai 21,94%

Sheet SPKC_februāris
H1: 2.4.Pielikums
A2: Pārskats par darba veicējiem (ārstniecības personām), virs normālā darba laika nostrādātām stundām, apmaksājamām stundām un izdevumiem, kas radušies saistībā ar mērķi ierobežot Covid-19 izplatību
A4: Iestādes nosaukums: Slimību profilakses un kontroles centrs
A5: Pārskata mēnesis: 2022.gada februāris
B7: Nodarbināto skaits mēnesī | C7: Apmaksājamais laiks mēnesī, stundas (tai skaitā summētā darba laika ietvaros) | F7: Mēnešalga no kuras rēķina stundas likmi | G7: Stundas likme | H7: Apmaksājamā 100% piemaksa par nostrādātām virsstundām virs normālā darba laika (tai skaitā summētā darba laika ietvaros) | I7: Izdevumi par virsstundām kopā ar VSOAI, EUR
C8: Kopā | D8: līdz normālam darba laikam | E8: virsstundas - virs normālā darba laika, kas saistītas ar darbu ar Covid-19
A10: 1 | B10: 2 | C10: 3=4+5 | D10: 4 | E10: 5 | F10: 6 | G10: 7 | H10: 8 | I10: 9=8*1.2359
A11: KOPĀ | B11: =SUM(B12:B24) -> 91 | E11: =SUM(E12:E24) -> 2032.5 | H11: =SUM(H12:H24) -> 30277.18 | I11: =SUM(I12:I24) -> 37328.15
A12: direktora vietnieks | B12: 1 | C12: =SUM(D12:E12) -> 207 | D12: 160 | E12: 47 | F12: 1917 | G12: =F12/D12 -> 11.98125 | H12: =ROUND(F12/D12*E12*2,2) -> 1126.24 | I12: =ROUND(H12*1.2359,2) -> 1391.92
A13: departamenta direktors, vec.eksperts, sistēmanalītiķis | B13: 3 | C13: =SUM(D13:E13) -> 259 | D13: 160 | E13: 99 | F13: 1647 | G13: =F13/D13 -> 10.29375 | H13: =ROUND(F13/D13*E13*2,2) -> 2038.16 | I13: =ROUND(H13*1.2359,2) -> 2518.96
A14: nodaļas vadītājs | B14: 6 | C14: =SUM(D14:E14) -> 239 | D14: 160 | E14: 79 | F14: 1382 | G14: =F14/D14 -> 8.6375 | H14: =ROUND(F14/D14*E14*2,2) -> 1364.73 | I14: =ROUND(H14*1.2359,2) -> 1686.67
A15: vecākais sabiedrības veselības analītiķis, vecākais epidemiologs | B15: 11 | C15: =SUM(D15:E15) -> 362 | D15: 160 | E15: 202 | F15: 1287 | G15: =F15/D15 -> 8.04375 | H15: =ROUND(F15/D15*E15*2,2) -> 3249.68 | I15: =ROUND(H15*1.2359,2) -> 4016.28
A16: vecākais sabiedrības veselības analītiķis, vecākais epidemiologs | B16: 1 | C16: =SUM(D16:E16) -> 166 | D16: 160 | E16: 6 | F16: 1287 | G16: =F16/D16 -> 8.04375 | H16: =ROUND(F16/D16*E16*2,2) -> 96.53 | I16: =ROUND(H16*1.2077,2) -> 116.58
A17: vecākais sabiedrības veselības analītiķis,epidemiologs, vecākais epidemiologs | B17: 37 | C17: =SUM(D17:E17) -> 1053.5 | D17: 160 | E17: 893.5 | F17: 1190 | G17: =F17/D17 -> 7.4375 | H17: =ROUND(F17/D17*E17*2,2) -> 13290.81 | I17: =ROUND(H17*1.2359,2) -> 16426.11
A18: vecākais sabiedrības veselības analītiķis,epidemiologs, vecākais epidemiologs | B18: 5 | C18: =SUM(D18:E18) -> 271 | D18: 160 | E18: 111 | F18: 1190 | G18: =F18/D18 -> 7.4375 | H18: =ROUND(F18/D18*E18*2,2) -> 1651.13 | I18: =ROUND(H18*1.2077,2) -> 1994.07
A19: epidemiologs | B19: 1 | C19: =SUM(D19:E19) -> 165 | D19: 160 | E19: 5 | F19: 1140 | G19: =F19/D19 -> 7.125 | H19: =ROUND(F19/D19*E19*2,2) -> 71.25 | I19: =ROUND(H19*1.2359,2) -> 88.06
A20: vecākais veselības veicināšanas koordinētājs | B20: 1 | C20: =SUM(D20:E20) -> 204 | D20: 160 | E20: 44 | F20: 1115 | G20: =F20/D20 -> 6.96875 | H20: =ROUND(F20/D20*E20*2,2) -> 613.25 | I20: =ROUND(H20*1.2359,2) -> 757.92
A21: sabiedrības veselības koordinētājs, epidemiologs | B21: 6 | C21: =SUM(D21:E21) -> 261 | D21: 160 | E21: 101 | F21: 1015 | G21: =F21/D21 -> 6.34375 | H21: =ROUND(F21/D21*E21*2,2) -> 1281.44 | I21: =ROUND(H21*1.2359,2) -> 1583.73
A22: sabiedrības veselības organizators, direktora palīgs | B22: 13 | C22: =SUM(D22:E22) -> 462 | D22: 160 | E22: 302 | F22: 996 | G22: =F22/D22 -> 6.225 | H22: =ROUND(F22/D22*E22*2,2) -> 3759.9 | I22: =ROUND(H22*1.2359,2) -> 4646.86
A23: sabiedrības veselības organizators, direktora palīgs | B23: 4 | C23: =SUM(D23:E23) -> 280 | D23: 160 | E23: 120 | F23: 996 | G23: =F23/D23 -> 6.225 | H23: =ROUND(F23/D23*E23*2,2) -> 1494 | I23: =ROUND(H23*1.2077,2) -> 1804.3
A24: epidemiologs | B24: 2 | C24: =SUM(D24:E24) -> 183 | D24: 160 | E24: 23 | F24: 835 | G24: =F24/D24 -> 5.21875 | H24: =ROUND(F24/D24*E24*2,2) -> 240.06 | I24: =ROUND(H24*1.2359,2) -> 296.69
A26: Samazināta VSAOI likme - 20,77% vai 21,94%

Sheet SPKC_marts
H1: 2.5.Pielikums
A2: Pārskats par darba veicējiem (ārstniecības personām), virs normālā darba laika nostrādātām stundām, apmaksājamām stundām un izdevumiem, kas radušies saistībā ar mērķi ierobežot Covid-19 izplatību
A4: Iestādes nosaukums: Slimību profilakses un kontroles centrs
A5: Pārskata mēnesis: 2022.gada marts
B7: Nodarbināto skaits mēnesī | C7: Apmaksājamais laiks mēnesī, stundas (tai skaitā summētā darba laika ietvaros) | F7: Mēnešalga no kuras rēķina stundas likmi | G7: Stundas likme | H7: Apmaksājamā 100% piemaksa par nostrādātām virsstundām virs normālā darba laika (tai skaitā summētā darba laika ietvaros) | I7: Izdevumi par virsstundām kopā ar VSOAI, EUR
C8: Kopā | D8: līdz normālam darba laikam | E8: virsstundas - virs normālā darba laika, kas saistītas ar darbu ar Covid-19
A10: 1 | B10: 2 | C10: 3=4+5 | D10: 4 | E10: 5 | F10: 6 | G10: 7 | H10: 8 | I10: 9=8*1.2359
A11: KOPĀ | B11: =SUM(B12:B23) -> 64 | E11: =SUM(E12:E23) -> 914.5 | H11: =SUM(H12:H23) -> 11904.79 | I11: =SUM(I12:I23) -> 14684.1
A12: direktora vietnieks | B12: 1 | C12: =SUM(D12:E12) -> 202 | D12: 184 | E12: 18 | F12: 1917 | G12: =F12/D12 -> 10.418478 | H12: =ROUND(F12/D12*E12*2,2) -> 375.07 | I12: =ROUND(H12*1.2359,2) -> 463.55
A13: departamenta direktors, vec.eksperts, sistēmanalītiķis | B13: 2 | C13: =SUM(D13:E13) -> 233 | D13: 184 | E13: 49 | F13: 1647 | G13: =F13/D13 -> 8.951087 | H13: =ROUND(F13/D13*E13*2,2) -> 877.21 | I13: =ROUND(H13*1.2359,2) -> 1084.14
A14: nodaļas vadītājs | B14: 2 | C14: =SUM(D14:E14) -> 208 | D14: 184 | E14: 24 | F14: 1382 | G14: =F14/D14 -> 7.5108696 | H14: =ROUND(F14/D14*E14*2,2) -> 360.52 | I14: =ROUND(H14*1.2359,2) -> 445.57
A15: vecākais sabiedrības veselības analītiķis, vecākais epidemiologs | B15: 5 | C15: =SUM(D15:E15) -> 273 | D15: 184 | E15: 89 | F15: 1287 | G15: =F15/D15 -> 6.9945652 | H15: =ROUND(F15/D15*E15*2,2) -> 1245.03 | I15: =ROUND(H15*1.2359,2) -> 1538.73
A16: vecākais sabiedrības veselības analītiķis,epidemiologs, vecākais epidemiologs | B16: 32 | C16: =SUM(D16:E16) -> 639 | D16: 184 | E16: 455 | F16: 1190 | G16: =F16/D16 -> 6.4673913 | H16: =ROUND(F16/D16*E16*2,2) -> 5885.33 | I16: =ROUND(H16*1.2359,2) -> 7273.68
A17: vecākais sabiedrības veselības analītiķis,epidemiologs, vecākais epidemiologs | B17: 3 | C17: =SUM(D17:E17) -> 238.5 | D17: 184 | E17: 54.5 | F17: 1190 | G17: =F17/D17 -> 6.4673913 | H17: =ROUND(F17/D17*E17*2,2) -> 704.95 | I17: =ROUND(H17*1.2077,2) -> 851.37
A18: epidemiologs | B18: 1 | C18: =SUM(D18:E18) -> 186 | D18: 184 | E18: 2 | F18: 1140 | G18: =F18/D18 -> 6.1956522 | H18: =ROUND(F18/D18*E18*2,2) -> 24.78 | I18: =ROUND(H18*1.2359,2) -> 30.63
A19: vecākais veselības veicināšanas koordinētājs | B19: 1 | C19: =SUM(D19:E19) -> 208 | D19: 184 | E19: 24 | F19: 1115 | G19: =F19/D19 -> 6.0597826 | H19: =ROUND(F19/D19*E19*2,2) -> 290.87 | I19: =ROUND(H19*1.2359,2) -> 359.49
A20: sabiedrības veselības koordinētājs, epidemiologs | B20: 3 | C20: =SUM(D20:E20) -> 221 | D20: 184 | E20: 37 | F20: 1015 | G20: =F20/D20 -> 5.5163043 | H20: =ROUND(F20/D20*E20*2,2) -> 408.21 | I20: =ROUND(H20*1.2359,2) -> 504.51
A21: sabiedrības veselības organizators, direktora palīgs | B21: 10 | C21: =SUM(D21:E21) -> 304 | D21: 184 | E21: 120 | F21: 996 | G21: =F21/D21 -> 5.4130435 | H21: =ROUND(F21/D21*E21*2,2) -> 1299.13 | I21: =ROUND(H21*1.2359,2) -> 1605.59
A22: sabiedrības veselības organizators, direktora palīgs | B22: 3 | C22: =SUM(D22:E22) -> 214 | D22: 184 | E22: 30 | F22: 996 | G22: =F22/D22 -> 5.4130435 | H22: =ROUND(F22/D22*E22*2,2) -> 324.78 | I22: =ROUND(H22*1.2077,2) -> 392.24
A23: epidemiologs | B23: 1 | C23: =SUM(D23:E23) -> 196 | D23: 184 | E23: 12 | F23: 835 | G23: =F23/D23 -> 4.5380435 | H23: =ROUND(F23/D23*E23*2,2) -> 108.91 | I23: =ROUND(H23*1.2359,2) -> 134.6
A25: Samazināta VSAOI likme - 20,77% vai 21,94%

Sheet SPKC_aprīlis
H1: 2.6.Pielikums
A2: Pārskats par darba veicējiem (ārstniecības personām), virs normālā darba laika nostrādātām stundām, apmaksājamām stundām un izdevumiem, kas radušies saistībā ar mērķi ierobežot Covid-19 izplatību
A4: Iestādes nosaukums: Slimību profilakses un kontroles centrs
A5: Pārskata mēnesis: 2022.gada aprīlis
B7: Nodarbināto skaits mēnesī | C7: Apmaksājamais laiks mēnesī, stundas (tai skaitā summētā darba laika ietvaros) | F7: Mēnešalga no kuras rēķina stundas likmi | G7: Stundas likme | H7: Apmaksājamā 100% piemaksa par nostrādātām virsstundām virs normālā darba laika (tai skaitā summētā darba laika ietvaros) | I7: Izdevumi par virsstundām kopā ar VSOAI, EUR
C8: Kopā | D8: līdz normālam darba laikam | E8: virsstundas - virs normālā darba laika, kas saistītas ar darbu ar Covid-19
A10: 1 | B10: 2 | C10: 3=4+5 | D10: 4 | E10: 5 | F10: 6 | G10: 7 | H10: 8 | I10: 9=8*1.2359
A11: KOPĀ | B11: =SUM(B12:B21) -> 35 | E11: =SUM(E12:E21) -> 299.5 | H11: =SUM(H12:H21) -> 4753.02 | I11: =SUM(I12:I21) -> 5864.3
A12: departamenta direktors, vec.eksperts, sistēmanalītiķis | B12: 2 | C12: =SUM(D12:E12) -> 179 | D12: 151 | E12: 28 | F12: 1647 | G12: =ROUND(F12/D12,4) -> 10.9073 | H12: =ROUND(E12*G12*2,2) -> 610.81 | I12: =ROUND(H12*1.2359,2) -> 754.9
A13: nodaļas vadītājs | B13: 2 | C13: =SUM(D13:E13) -> 170 | D13: 151 | E13: 19 | F13: 1382 | G13: =ROUND(F13/D13,4) -> 9.1523 | H13: =ROUND(E13*G13*2,2) -> 347.79 | I13: =ROUND(H13*1.2359,2) -> 429.83
A14: vecākais sabiedrības veselības analītiķis, vecākais epidemiologs | B14: 6 | C14: =SUM(D14:E14) -> 201 | D14: 151 | E14: 50 | F14: 1287 | G14: =ROUND(F14/D14,4) -> 8.5232 | H14: =ROUND(E14*G14*2,2) -> 852.32 | I14: =ROUND(H14*1.2359,2) -> 1053.38
A15: vecākais sabiedrības veselības analītiķis,epidemiologs, vecākais epidemiologs | B15: 11 | C15: =SUM(D15:E15) -> 249 | D15: 151 | E15: 98 | F15: 1190 | G15: =ROUND(F15/D15,4) -> 7.8808 | H15: =ROUND(E15*G15*2,2) -> 1544.64 | I15: =ROUND(H15*1.2359,2) -> 1909.02
A16: vecākais sabiedrības veselības analītiķis,epidemiologs, vecākais epidemiologs | B16: 2 | C16: =SUM(D16:E16) -> 160 | D16: 151 | E16: 9 | F16: 1190 | G16: =ROUND(F16/D16,4) -> 7.8808 | H16: =ROUND(E16*G16*2,2) -> 141.85 | I16: =ROUND(H16*1.2077,2) -> 171.31
A17: vecākais veselības veicināšanas koordinētājs | B17: 1 | C17: =SUM(D17:E17) -> 161 | D17: 151 | E17: 10 | F17: 1115 | G17: =ROUND(F17/D17,4) -> 7.3841 | H17: =ROUND(E17*G17*2,2) -> 147.68 | I17: =ROUND(H17*1.2359,2) -> 182.52
A18: sabiedrības veselības koordinētājs, epidemiologs | B18: 4 | C18: =SUM(D18:E18) -> 169 | D18: 151 | E18: 18 | F18: 1015 | G18: =ROUND(F18/D18,4) -> 6.7219 | H18: =ROUND(E18*G18*2,2) -> 241.99 | I18: =ROUND(H18*1.2359,2) -> 299.08
A19: sabiedrības veselības organizators | B19: 4 | C19: =SUM(D19:E19) -> 191 | D19: 151 | E19: 40 | F19: 996 | G19: =ROUND(F19/D19,4) -> 6.596 | H19: =ROUND(E19*G19*2,2) -> 527.68 | I19: =ROUND(H19*1.2359,2) -> 652.16
A20: sabiedrības veselības organizators | B20: 2 | C20: =SUM(D20:E20) -> 167 | D20: 151 | E20: 16 | F20: 996 | G20: =ROUND(F20/D20,4) -> 6.596 | H20: =ROUND(E20*G20*2,2) -> 211.07 | I20: =ROUND(H20*1.2077,2) -> 254.91
A21: epidemiologs | B21: 1 | C21: =SUM(D21:E21) -> 162.5 | D21: 151 | E21: 11.5 | F21: 835 | G21: =ROUND(F21/D21,4) -> 5.5298 | H21: =ROUND(E21*G21*2,2) -> 127.19 | I21: =ROUND(H21*1.2359,2) -> 157.19
A23: Samazināta VSAOI likme - 20,77% vai 21,94%

Sheet NVD_decembris
H1: 2.7.Pielikums
A2: Pārskats par darba veicējiem (ārstniecības personām), virs normālā darba laika nostrādātām stundām, apmaksājamām stundām un izdevumiem, kas radušies saistībā ar mērķi ierobežot Covid-19 izplatību
A4: Iestādes nosaukums: Nacionālais veselības dienests
A5: Pārskata mēnesis: 2021.gada decembris
B7: Nodarbināto skaits mēnesī | C7: Apmaksājamais laiks mēnesī, stundas (tai skaitā summētā darba laika ietvaros) | F7: Mēnešalga no kuras rēķina stundas likmi | G7: Stundas likme (aprēķināta atbilstoši mēnešalgai vai darba līgumā noteiktā stundas likme) | H7: Apmaksājamā 100% piemaksa par nostrādātām virsstundām virs normālā darba laika (tai skaitā summētā darba laika ietvaros) | I7: Izdevumi par virsstundām kopā ar VSOAI, EUR
C8: Kopā | D8: līdz normālam darba laikam | E8: virsstundas - virs normālā darba laika, kas saistītas ar darbu ar Covid-19
A10: 1 | B10: 2 | C10: 3=4+5 | D10: 4 | E10: 5 | F10: 6 | G10: 7 | H10: 8 | I10: 9=8*1.2359
A11: KOPĀ | B11: =SUM(B12:B87) -> 76 | E11: =SUM(E12:E87) -> 3031.75 | H11: =SUM(H12:H87) -> 51213.98 | I11: =SUM(I12:I87) -> 63295.32
A12: Sabiedrisko attiecību nodaļas vadītāja | B12: 1 | C12: =D12+E12 -> 138.5 | D12: 118 | E12: 20.5 | F12: 1382 | G12: =ROUND(F12/166,3) -> 8.325 | H12: =ROUND(E12*G12*2,2) -> 341.33 | I12: =ROUND(H12*1.2359,2) -> 421.85
A13: Sabiedrisko attiecību nodaļas vadītājas vietniece | B13: 1 | C13: =D13+E13 -> 182 | D13: 166 | E13: 16 | F13: 1287 | G13: =ROUND(F13/166,3) -> 7.753 | H13: =ROUND(E13*G13*2,2) -> 248.1 | I13: =ROUND(H13*1.2359,2) -> 306.63
A14: Sabiedrisko attiecību nodaļas sabiedrisko attiecību speciālists | B14: 1 | C14: =D14+E14 -> 173.75 | D14: 166 | E14: 7.75 | F14: 1190 | G14: =ROUND(F14/166,3) -> 7.169 | H14: =ROUND(E14*G14*2,2) -> 111.12 | I14: =ROUND(H14*1.2359,2) -> 137.33
A15: Direktora vietnieks veselības aprūpes administrēšanas jautājumos | B15: 1 | C15: =D15+E15 -> 163 | D15: 135 | E15: 28 | F15: 1917 | G15: =ROUND(F15/166,3) -> 11.548 | H15: =ROUND(E15*G15*2,2) -> 646.69 | I15: =ROUND(H15*1.2359,2) -> 799.24
A16: Vadošais eksperts veselības aprūpes jautājumos | B16: 1 | C16: =D16+E16 -> 176 | D16: 166 | E16: 10 | F16: 1647 | G16: =ROUND(F16/166,3) -> 9.922 | H16: =ROUND(E16*G16*2,2) -> 198.44 | I16: =ROUND(H16*1.2359,2) -> 245.25
A17: Informācijas tehnoloģiju projektu attīstības nodaļas vadītāja vietniece | B17: 1 | C17: =D17+E17 -> 213 | D17: 166 | E17: 47 | F17: 1700 | G17: =ROUND(F17/166,3) -> 10.241 | H17: =ROUND(E17*G17*2,2) -> 962.65 | I17: =ROUND(H17*1.2359,2) -> 1189.74
A18: Informācijas tehnoloģiju projektu attīstības nodaļas projektu vadītāja | B18: 1 | C18: =D18+E18 -> 250 | D18: 166 | E18: 84 | F18: 1647 | G18: =ROUND(F18/166,3) -> 9.922 | H18: =ROUND(E18*G18*2,2) -> 1666.9 | I18: =ROUND(H18*1.2359,2) -> 2060.12
A19: Informācijas tehnoloģiju projektu attīstības nodaļas projektu vadītāja | B19: 1 | C19: =D19+E19 -> 175.5 | D19: 159 | E19: 16.5 | F19: 1647 | G19: =ROUND(F19/166,3) -> 9.922 | H19: =ROUND(E19*G19*2,2) -> 327.43 | I19: =ROUND(H19*1.2359,2) -> 404.67
A20: Informācijas tehnoloģiju projektu attīstības nodaļas sistēmanalītiķis - testētājs | B20: 1 | C20: =D20+E20 -> 171 | D20: 158 | E20: 13 | F20: 1287 | G20: =ROUND(F20/166,3) -> 7.753 | H20: =ROUND(E20*G20*2,2) -> 201.58 | I20: =ROUND(H20*1.2359,2) -> 249.13
A21: Informācijas tehnoloģiju projektu attīstības nodaļas sistēmanalītiķis-testētājs | B21: 1 | C21: =D21+E21 -> 236 | D21: 166 | E21: 70 | F21: 1115 | G21: =ROUND(F21/166,3) -> 6.717 | H21: =ROUND(E21*G21*2,2) -> 940.38 | I21: =ROUND(H21*1.2359,2) -> 1162.22
A22: Klientu apkalpošanas centra vadītāja | B22: 1 | C22: =D22+E22 -> 159 | D22: 102 | E22: 57 | F22: 1647 | G22: =ROUND(F22/166,3) -> 9.922 | H22: =ROUND(E22*G22*2,2) -> 1131.11 | I22: =ROUND(H22*1.2359,2) -> 1397.94
A23: Klientu apkalpošanas centra vadītājas vietniece | B23: 1 | C23: =D23+E23 -> 182 | D23: 151 | E23: 31 | F23: 1287 | G23: =ROUND(F23/166,3) -> 7.753 | H23: =ROUND(E23*G23*2,2) -> 480.69 | I23: =ROUND(H23*1.2359,2) -> 594.08
... A87: Vakcinācijas projekta nodaļas vakcinācijas procesa koordinācijas speciālists | B87: 1 | C87: =D87+E87 -> 209 | D87: 167 | E87: 42 | F87: 1382 | G87: =ROUND(F87/166,3) -> 8.325 | H87: =ROUND(E87*G87*2,2) -> 699.3 | I87: =ROUND(H87*1.2359,2) -> 864.26

Sheet NVD_janvāris
H1: 2.8.Pielikums
A2: Pārskats par darba veicējiem (ārstniecības personām), virs normālā darba laika nostrādātām stundām, apmaksājamām stundām un izdevumiem, kas radušies saistībā ar mērķi ierobežot Covid-19 izplatību
A4: Iestādes nosaukums: Nacionālais veselības dienests
A5: Pārskata mēnesis: 2022.gada janvāris
B7: Nodarbināto skaits mēnesī | C7: Apmaksājamais laiks mēnesī, stundas (tai skaitā summētā darba laika ietvaros) | F7: Mēnešalga no kuras rēķina stundas likmi | G7: Stundas likme (aprēķināta atbilstoši mēnešalgai vai darba līgumā noteiktā stundas likme) | H7: Apmaksājamā 100% piemaksa par nostrādātām virsstundām virs normālā darba laika (tai skaitā summētā darba laika ietvaros) | I7: Izdevumi par virsstundām kopā ar VSOAI, EUR
C8: Kopā | D8: līdz normālam darba laikam | E8: virsstundas - virs normālā darba laika, kas saistītas ar darbu ar Covid-19
A10: 1 | B10: 2 | C10: 3=4+5 | D10: 4 | E10: 5 | F10: 6 | G10: 7 | H10: 8 | I10: 9=8*1.2359
A11: KOPĀ | B11: =SUM(B12:B88) -> 77 | E11: =SUM(E12:E88) -> 2744.2 | H11: =SUM(H12:H88) -> 47942.09 | I11: =SUM(I12:I88) -> 59251.61
A12: Sabiedrisko attiecību nodaļas vadītāja | B12: 1 | C12: 209.5 | D12: 168 | E12: 41.5 | F12: 1382 | G12: =ROUND(F12/168,3) -> 8.226 | H12: =ROUND(E12*G12*2,2) -> 682.76 | I12: =ROUND(H12*1.2359,2) -> 843.82
A13: Sabiedrisko attiecību nodaļas vadītājas vietniece | B13: 1 | C13: 94 | D13: 80 | E13: 14 | F13: 1287 | G13: =ROUND(F13/168,3) -> 7.661 | H13: =ROUND(E13*G13*2,2) -> 214.51 | I13: =ROUND(H13*1.2359,2) -> 265.11
A14: Sabiedrisko attiecību nodaļas sabiedrisko attiecību speciālists | B14: 1 | C14: 179.5 | D14: 168 | E14: 11.5 | F14: 1190 | G14: =ROUND(F14/168,3) -> 7.083 | H14: =ROUND(E14*G14*2,2) -> 162.91 | I14: =ROUND(H14*1.2359,2) -> 201.34
A15: Direktora vietnieks veselības aprūpes administrēšanas jautājumos | B15: 1 | C15: 206 | D15: 168 | E15: 38 | F15: 1917 | G15: =ROUND(F15/168,3) -> 11.411 | H15: =ROUND(E15*G15*2,2) -> 867.24 | I15: =ROUND(H15*1.2359,2) -> 1071.82
A16: Direktora vietnieks informācijas un komunikācijas tehnoloģiju jautājumos | B16: 1 | C16: 205.5 | D16: 168 | E16: 37.5 | F16: 2353 | G16: =ROUND(F16/168,3) -> 14.006 | H16: =ROUND(E16*G16*2,2) -> 1050.45 | I16: =ROUND(H16*1.2359,2) -> 1298.25
A17: Vadošais eksperts veselības aprūpes jautājumos | B17: 1 | C17: 176 | D17: 158 | E17: 18 | F17: 1647 | G17: =ROUND(F17/168,3) -> 9.804 | H17: =ROUND(E17*G17*2,2) -> 352.94 | I17: =ROUND(H17*1.2359,2) -> 436.2
A18: Informācijas tehnoloģiju projektu attīstības nodaļas vadītāja vietniece | B18: 1 | C18: 236 | D18: 168 | E18: 68 | F18: 1850 | G18: =ROUND(F18/168,3) -> 11.012 | H18: =ROUND(E18*G18*2,2) -> 1497.63 | I18: =ROUND(H18*1.2359,2) -> 1850.92
A19: Informācijas tehnoloģiju projektu attīstības nodaļas projektu vadītāja | B19: 1 | C19: 243 | D19: 168 | E19: 75 | F19: 1647 | G19: =ROUND(F19/168,3) -> 9.804 | H19: =ROUND(E19*G19*2,2) -> 1470.6 | I19: =ROUND(H19*1.2359,2) -> 1817.51
A20: Informācijas tehnoloģiju projektu attīstības nodaļas projektu vadītāja | B20: 1 | C20: 216 | D20: 168 | E20: 48 | F20: 1647 | G20: =ROUND(F20/168,3) -> 9.804 | H20: =ROUND(E20*G20*2,2) -> 941.18 | I20: =ROUND(H20*1.2359,2) -> 1163.2
A21: Informācijas tehnoloģiju projektu attīstības nodaļas projektu vadītāja | B21: 1 | C21: 246.45 | D21: 168 | E21: 78.45 | F21: 1647 | G21: =ROUND(F21/168,3) -> 9.804 | H21: =ROUND(E21*G21*2,2) -> 1538.25 | I21: =ROUND(H21*1.2359,2) -> 1901.12
A22: Informācijas tehnoloģiju projektu attīstības nodaļas sistēmanalītiķis - testētājs | B22: 1 | C22: 189 | D22: 168 | E22: 21 | F22: 1287 | G22: =ROUND(F22/168,3) -> 7.661 | H22: =ROUND(E22*G22*2,2) -> 321.76 | I22: =ROUND(H22*1.2359,2) -> 397.66
A23: Informācijas tehnoloģiju projektu attīstības nodaļas sistēmanalītiķis-testētājs | B23: 1 | C23: 237.5 | D23: 168 | E23: 69.5 | F23: 1262 | G23: =ROUND(F23/168,3) -> 7.512 | H23: =ROUND(E23*G23*2,2) -> 1044.17 | I23: =ROUND(H23*1.2359,2) -> 1290.49
... A88: Vakcinācijas projekta nodaļas vakcinācijas procesa koordinācijas speciālists | B88: 1 | C88: 209 | D88: 168 | E88: 41 | F88: 1382 | G88: =ROUND(F88/168,3) -> 8.226 | H88: =ROUND(E88*G88*2,2) -> 674.53 | I88: =ROUND(H88*1.2359,2) -> 833.65

Sheet NVD_februāris
H1: 2.9.Pielikums
A2: Pārskats par darba veicējiem (ārstniecības personām), virs normālā darba laika nostrādātām stundām, apmaksājamām stundām un izdevumiem, kas radušies saistībā ar mērķi ierobežot Covid-19 izplatību
A4: Iestādes nosaukums: Nacionālais veselības dienests
A5: Pārskata mēnesis: 2022.gada februāris
B7: Nodarbināto skaits mēnesī | C7: Apmaksājamais laiks mēnesī, stundas (tai skaitā summētā darba laika ietvaros) | F7: Mēnešalga no kuras rēķina stundas likmi | G7: Stundas likme (aprēķināta atbilstoši mēnešalgai vai darba līgumā noteiktā stundas likme) | H7: Apmaksājamā 100% piemaksa par nostrādātām virsstundām virs normālā darba laika (tai skaitā summētā darba laika ietvaros) | I7: Izdevumi par virsstundām kopā ar VSOAI, EUR
C8: Kopā | D8: līdz normālam darba laikam | E8: virsstundas - virs normālā darba laika, kas saistītas ar darbu ar Covid-19
A10: 1 | B10: 2 | C10: 3=4+5 | D10: 4 | E10: 5 | F10: 6 | G10: 7 | H10: 8 | I10: 9=8*1.2359
A11: KOPĀ | B11: =SUM(B12:B83) -> 72 | E11: =SUM(E12:E83) -> 2485 | H11: =SUM(H12:H83) -> 46243.12 | I11: =SUM(I12:I83) -> 57151.9
A12: Sabiedrisko attiecību nodaļas vadītāja | B12: 1 | C12: =D12+E12 -> 119.5 | D12: 96 | E12: 23.5 | F12: 1382 | G12: =ROUND(F12/160,3) -> 8.638 | H12: =ROUND(E12*G12*2,2) -> 405.99 | I12: =ROUND(H12*1.2359,2) -> 501.76
A13: Sabiedrisko attiecību nodaļas vadītājas vietniece | B13: 1 | C13: =D13+E13 -> 125 | D13: 104 | E13: 21 | F13: 1287 | G13: =ROUND(F13/160,3) -> 8.044 | H13: =ROUND(E13*G13*2,2) -> 337.85 | I13: =ROUND(H13*1.2359,2) -> 417.55
A14: Sabiedrisko attiecību nodaļas sabiedrisko attiecību speciālists | B14: 1 | C14: =D14+E14 -> 122 | D14: 120 | E14: 2 | F14: 1190 | G14: =ROUND(F14/160,3) -> 7.438 | H14: =ROUND(E14*G14*2,2) -> 29.75 | I14: =ROUND(H14*1.2359,2) -> 36.77
A15: Direktora vietnieks veselības aprūpes administrēšanas jautājumos | B15: 1 | C15: =D15+E15 -> 193 | D15: 160 | E15: 33 | F15: 1917 | G15: =ROUND(F15/160,3) -> 11.981 | H15: =ROUND(E15*G15*2,2) -> 790.75 | I15: =ROUND(H15*1.2359,2) -> 977.29
A16: Direktora vietnieks informācijas un komunikācijas tehnoloģiju jautājumos | B16: 1 | C16: =D16+E16 -> 204 | D16: 160 | E16: 44 | F16: 2353 | G16: =ROUND(F16/160,3) -> 14.706 | H16: =ROUND(E16*G16*2,2) -> 1294.13 | I16: =ROUND(H16*1.2359,2) -> 1599.42
A17: Vadošais eksperts veselības aprūpes jautājumos | B17: 1 | C17: =D17+E17 -> 133 | D17: 128 | E17: 5 | F17: 1647 | G17: =ROUND(F17/160,3) -> 10.294 | H17: =ROUND(E17*G17*2,2) -> 102.94 | I17: =ROUND(H17*1.2359,2) -> 127.22
A18: Informācijas tehnoloģiju projektu attīstības nodaļas vadītāja vietniece | B18: 1 | C18: =D18+E18 -> 52 | D18: 32 | E18: 20 | F18: 1850 | G18: =ROUND(F18/160,3) -> 11.563 | H18: =ROUND(E18*G18*2,2) -> 462.52 | I18: =ROUND(H18*1.2359,2) -> 571.63
A19: Informācijas tehnoloģiju projektu attīstības nodaļas projektu vadītāja | B19: 1 | C19: =D19+E19 -> 238 | D19: 160 | E19: 78 | F19: 1647 | G19: =ROUND(F19/160,3) -> 10.294 | H19: =ROUND(E19*G19*2,2) -> 1605.86 | I19: =ROUND(H19*1.2359,2) -> 1984.68
A20: Informācijas tehnoloģiju projektu attīstības nodaļas projektu vadītāja | B20: 1 | C20: =D20+E20 -> 208 | D20: 160 | E20: 48 | F20: 1647 | G20: =ROUND(F20/160,3) -> 10.294 | H20: =ROUND(E20*G20*2,2) -> 988.22 | I20: =ROUND(H20*1.2359,2) -> 1221.34
A21: Informācijas tehnoloģiju projektu attīstības nodaļas projektu vadītāja | B21: 1 | C21: =D21+E21 -> 179 | D21: 120 | E21: 59 | F21: 1647 | G21: =ROUND(F21/160,3) -> 10.294 | H21: =ROUND(E21*G21*2,2) -> 1214.69 | I21: =ROUND(H21*1.2359,2) -> 1501.24
A22: Informācijas tehnoloģiju projektu attīstības nodaļas sistēmanalītiķis - testētājs | B22: 1 | C22: =D22+E22 -> 184.5 | D22: 160 | E22: 24.5 | F22: 1287 | G22: =ROUND(F22/160,3) -> 8.044 | H22: =ROUND(E22*G22*2,2) -> 394.16 | I22: =ROUND(H22*1.2359,2) -> 487.14
A23: Informācijas tehnoloģiju projektu attīstības nodaļas sistēmanalītiķis-testētājs | B23: 1 | C23: =D23+E23 -> 224 | D23: 160 | E23: 64 | F23: 1262 | G23: =ROUND(F23/160,3) -> 7.888 | H23: =ROUND(E23*G23*2,2) -> 1009.66 | I23: =ROUND(H23*1.2359,2) -> 1247.84
... A83: Vakcinācijas projekta nodaļas vakcinācijas procesa koordinācijas speciālists | B83: 1 | C83: =D83+E83 -> 201 | D83: 160 | E83: 41 | F83: 1382 | G83: =ROUND(F83/160,3) -> 8.638 | H83: =ROUND(E83*G83*2,2) -> 708.32 | I83: =ROUND(H83*1.2359,2) -> 875.41

Sheet NVD_marts
H1: 2.10.Pielikums
A2: Pārskats par darba veicējiem (ārstniecības personām), virs normālā darba laika nostrādātām stundām, apmaksājamām stundām un izdevumiem, kas radušies saistībā ar mērķi ierobežot Covid-19 izplatību
A4: Iestādes nosaukums: Nacionālais veselības dienests
A5: Pārskata mēnesis: 2022.gada marts
B7: Nodarbināto skaits mēnesī | C7: Apmaksājamais laiks mēnesī, stundas (tai skaitā summētā darba laika ietvaros) | F7: Mēnešalga no kuras rēķina stundas likmi | G7: Stundas likme (aprēķināta atbilstoši mēnešalgai vai darba līgumā noteiktā stundas likme) | H7: Apmaksājamā 100% piemaksa par nostrādātām virsstundām virs normālā darba laika (tai skaitā summētā darba laika ietvaros) | I7: Izdevumi par virsstundām kopā ar VSOAI, EUR
C8: Kopā | D8: līdz normālam darba laikam | E8: virsstundas - virs normālā darba laika, kas saistītas ar darbu ar Covid-19
A10: 1 | B10: 2 | C10: 3=4+5 | D10: 4 | E10: 5 | F10: 6 | G10: 7 | H10: 8 | I10: 9=8*1.2359
A11: KOPĀ | B11: =SUM(B12:B77) -> 66 | E11: =SUM(E12:E77) -> 2280.75 | H11: =SUM(H12:H77) -> 37264.92 | I11: =SUM(I12:I77) -> 46055.74
A12: Sabiedrisko attiecību nodaļas vadītāja | B12: 1 | C12: =D12+E12 -> 201.5 | D12: 184 | E12: 17.5 | F12: 1382 | G12: =ROUND(F12/184,3) -> 7.511 | H12: =ROUND(E12*G12*2,2) -> 262.89 | I12: =ROUND(H12*1.2359,2) -> 324.91
A13: Sabiedrisko attiecību nodaļas vadītājas vietniece | B13: 1 | C13: =D13+E13 -> 188 | D13: 184 | E13: 4 | F13: 1287 | G13: =ROUND(F13/184,3) -> 6.995 | H13: =ROUND(E13*G13*2,2) -> 55.96 | I13: =ROUND(H13*1.2359,2) -> 69.16
A14: Direktora vietnieks veselības aprūpes administrēšanas jautājumos | B14: 1 | C14: =D14+E14 -> 226 | D14: 184 | E14: 42 | F14: 1917 | G14: =ROUND(F14/184,3) -> 10.418 | H14: =ROUND(E14*G14*2,2) -> 875.11 | I14: =ROUND(H14*1.2359,2) -> 1081.55
A15: Direktora vietnieks informācijas un komunikācijas tehnoloģiju jautājumos | B15: 1 | C15: =D15+E15 -> 223 | D15: 184 | E15: 39 | F15: 2353 | G15: =ROUND(F15/184,3) -> 12.788 | H15: =ROUND(E15*G15*2,2) -> 997.46 | I15: =ROUND(H15*1.2359,2) -> 1232.76
A16: Vadošais eksperts veselības aprūpes jautājumos | B16: 1 | C16: =D16+E16 -> 191 | D16: 184 | E16: 7 | F16: 1647 | G16: =ROUND(F16/184,3) -> 8.951 | H16: =ROUND(E16*G16*2,2) -> 125.31 | I16: =ROUND(H16*1.2359,2) -> 154.87
A17: Informācijas tehnoloģiju projektu attīstības nodaļas projektu vadītāja | B17: 1 | C17: =D17+E17 -> 133 | D17: 80 | E17: 53 | F17: 1647 | G17: =ROUND(F17/184,3) -> 8.951 | H17: =ROUND(E17*G17*2,2) -> 948.81 | I17: =ROUND(H17*1.2359,2) -> 1172.63
A18: Informācijas tehnoloģiju projektu attīstības nodaļas projektu vadītāja | B18: 1 | C18: =D18+E18 -> 258 | D18: 184 | E18: 74 | F18: 1647 | G18: =ROUND(F18/184,3) -> 8.951 | H18: =ROUND(E18*G18*2,2) -> 1324.75 | I18: =ROUND(H18*1.2359,2) -> 1637.26
A19: Informācijas tehnoloģiju projektu attīstības nodaļas projektu vadītāja | B19: 1 | C19: =D19+E19 -> 241.75 | D19: 176 | E19: 65.75 | F19: 1647 | G19: =ROUND(F19/184,3) -> 8.951 | H19: =ROUND(E19*G19*2,2) -> 1177.06 | I19: =ROUND(H19*1.2359,2) -> 1454.73
A20: Informācijas tehnoloģiju projektu attīstības nodaļas sistēmanalītiķis - testētājs | B20: 1 | C20: =D20+E20 -> 220.5 | D20: 184 | E20: 36.5 | F20: 1287 | G20: =ROUND(F20/184,3) -> 6.995 | H20: =ROUND(E20*G20*2,2) -> 510.64 | I20: =ROUND(H20*1.2359,2) -> 631.1
A21: Informācijas tehnoloģiju projektu attīstības nodaļas sistēmanalītiķis-testētājs | B21: 1 | C21: =D21+E21 -> 52 | D21: 40 | E21: 12 | F21: 1262 | G21: =ROUND(F21/184,3) -> 6.859 | H21: =ROUND(E21*G21*2,2) -> 164.62 | I21: =ROUND(H21*1.2359,2) -> 203.45
A22: Klientu apkalpošanas centra vadītāja | B22: 1 | C22: =D22+E22 -> 219 | D22: 184 | E22: 35 | F22: 1647 | G22: =ROUND(F22/184,3) -> 8.951 | H22: =ROUND(E22*G22*2,2) -> 626.57 | I22: =ROUND(H22*1.2359,2) -> 774.38
A23: Klientu apkalpošanas centra vadītājas vietniece | B23: 1 | C23: =D23+E23 -> 166 | D23: 144 | E23: 22 | F23: 1287 | G23: =ROUND(F23/184,3) -> 6.995 | H23: =ROUND(E23*G23*2,2) -> 307.78 | I23: =ROUND(H23*1.2359,2) -> 380.39
... A77: Vakcinācijas projekta nodaļas vakcinācijas procesa koordinācijas speciālists | B77: 1 | C77: =D77+E77 -> 225 | D77: 184 | E77: 41 | F77: 1382 | G77: =ROUND(F77/184,3) -> 7.511 | H77: =ROUND(E77*G77*2,2) -> 615.9 | I77: =ROUND(H77*1.2359,2) -> 761.19

Sheet NVD_aprīlis
H1: 2.11.Pielikums
A2: Pārskats par darba veicējiem (ārstniecības personām), virs normālā darba laika nostrādātām stundām, apmaksājamām stundām un izdevumiem, kas radušies saistībā ar mērķi ierobežot Covid-19 izplatību
A4: Iestādes nosaukums: Nacionālais veselības dienests
A5: Pārskata mēnesis: 2022.gada aprīlis
B7: Nodarbināto skaits mēnesī | C7: Apmaksājamais laiks mēnesī, stundas (tai skaitā summētā darba laika ietvaros) | F7: Mēnešalga no kuras rēķina stundas likmi | G7: Stundas likme (aprēķināta atbilstoši mēnešalgai vai darba līgumā noteiktā stundas likme) | H7: Apmaksājamā 100% piemaksa par nostrādātām virsstundām virs normālā darba laika (tai skaitā summētā darba laika ietvaros) | I7: Izdevumi par virsstundām kopā ar VSOAI, EUR
C8: Kopā | D8: līdz normālam darba laikam | E8: virsstundas - virs normālā darba laika, kas saistītas ar darbu ar Covid-19
A10: 1 | B10: 2 | C10: 3=4+5 | D10: 4 | E10: 5 | F10: 6 | G10: 7 | H10: 8 | I10: 9=8*1.2359
A11: KOPĀ | B11: =SUM(B12:B60) -> 49 | E11: =SUM(E12:E60) -> 1624.75 | H11: =SUM(H12:H60) -> 33031.5 | I11: =SUM(I12:I60) -> 40823.63
A12: Sabiedrisko attiecību nodaļas vadītāja | B12: 1 | C12: =D12+E12 -> 122 | D12: 111 | E12: 11 | F12: 1382 | G12: =ROUND(F12/151,3) -> 9.152 | H12: =ROUND(E12*G12*2,2) -> 201.34 | I12: =ROUND(H12*1.2359,2) -> 248.84
A13: Sabiedrisko attiecību nodaļas sabiedrisko attiecību speciālists | B13: 1 | C13: =D13+E13 -> 152.5 | D13: 151 | E13: 1.5 | F13: 1190 | G13: =ROUND(F13/151,3) -> 7.881 | H13: =ROUND(E13*G13*2,2) -> 23.64 | I13: =ROUND(H13*1.2359,2) -> 29.22
A14: Direktora vietnieks informācijas un komunikācijas tehnoloģiju jautājumos | B14: 1 | C14: =D14+E14 -> 102 | D14: 79 | E14: 23 | F14: 2353 | G14: =ROUND(F14/151,3) -> 15.583 | H14: =ROUND(E14*G14*2,2) -> 716.82 | I14: =ROUND(H14*1.2359,2) -> 885.92
A15: Vadošais eksperts veselības aprūpes jautājumos | B15: 1 | C15: =D15+E15 -> 158 | D15: 151 | E15: 7 | F15: 1647 | G15: =ROUND(F15/151,3) -> 10.907 | H15: =ROUND(E15*G15*2,2) -> 152.7 | I15: =ROUND(H15*1.2359,2) -> 188.72
A16: Informācijas tehnoloģiju projektu attīstības nodaļas vadītājas vietniece | B16: 1 | C16: =D16+E16 -> 103 | D16: 64 | E16: 39 | F16: 1850 | G16: =ROUND(F16/151,3) -> 12.252 | H16: =ROUND(E16*G16*2,2) -> 955.66 | I16: =ROUND(H16*1.2359,2) -> 1181.1
A17: Informācijas tehnoloģiju projektu attīstības nodaļas projektu vadītāja | B17: 1 | C17: =D17+E17 -> 170 | D17: 103 | E17: 67 | F17: 1647 | G17: =ROUND(F17/151,3) -> 10.907 | H17: =ROUND(E17*G17*2,2) -> 1461.54 | I17: =ROUND(H17*1.2359,2) -> 1806.32
A18: Informācijas tehnoloģiju projektu attīstības nodaļas projektu vadītāja | B18: 1 | C18: =D18+E18 -> 174 | D18: 144 | E18: 30 | F18: 1647 | G18: =ROUND(F18/151,3) -> 10.907 | H18: =ROUND(E18*G18*2,2) -> 654.42 | I18: =ROUND(H18*1.2359,2) -> 808.8
A19: Informācijas tehnoloģiju projektu attīstības nodaļas projektu vadītāja | B19: 1 | C19: =D19+E19 -> 214.75 | D19: 151 | E19: 63.75 | F19: 1647 | G19: =ROUND(F19/151,3) -> 10.907 | H19: =ROUND(E19*G19*2,2) -> 1390.64 | I19: =ROUND(H19*1.2359,2) -> 1718.69
A20: Informācijas tehnoloģiju projektu attīstības nodaļas sistēmanalītiķis - testētājs | B20: 1 | C20: =D20+E20 -> 106 | D20: 95 | E20: 11 | F20: 1287 | G20: =ROUND(F20/151,3) -> 8.523 | H20: =ROUND(E20*G20*2,2) -> 187.51 | I20: =ROUND(H20*1.2359,2) -> 231.74
A21: Informācijas tehnoloģiju nodaļas informācijas tehnoloģiju administrators | B21: 1 | C21: =D21+E21 -> 179 | D21: 151 | E21: 28 | F21: 1287 | G21: =ROUND(F21/151,3) -> 8.523 | H21: =ROUND(E21*G21*2,2) -> 477.29 | I21: =ROUND(H21*1.2359,2) -> 589.88
A22: Informācijas tehnoloģiju nodaļas informācijas tehnoloģiju administrators | B22: 1 | C22: =D22+E22 -> 176 | D22: 151 | E22: 25 | F22: 1287 | G22: =ROUND(F22/151,3) -> 8.523 | H22: =ROUND(E22*G22*2,2) -> 426.15 | I22: =ROUND(H22*1.2359,2) -> 526.68
A23: Informācijas tehnoloģiju nodaļas informācijas sistēmu administrators | B23: 1 | C23: =D23+E23 -> 110 | D23: 79 | E23: 31 | F23: 1620 | G23: =ROUND(F23/151,3) -> 10.728 | H23: =ROUND(E23*G23*2,2) -> 665.14 | I23: =ROUND(H23*1.2359,2) -> 822.05
... A60: Vakcinācijas projekta nodaļas vakcinācijas procesa koordinācijas speciālists | B60: 1 | C60: =D60+E60 -> 192 | D60: 151 | E60: 41 | F60: 1382 | G60: =ROUND(F60/151,3) -> 9.152 | H60: =ROUND(E60*G60*2,2) -> 750.46 | I60: =ROUND(H60*1.2359,2) -> 927.49

Sheet VADC_janvāris
H1: 2.12.Pielikums
A2: Pārskats par darba veicējiem (ārstniecības personām), virs normālā darba laika nostrādātām stundām, apmaksājamām stundām un izdevumiem, kas radušies saistībā ar mērķi ierobežot Covid-19 izplatību
A4: Iestādes nosaukums: Valsts asinsdonoru centrs
A5: Pārskata mēnesis: 2022.gada janvāris
B7: Nodarbināto skaits mēnesī | C7: Apmaksājamais laiks mēnesī, stundas (tai skaitā summētā darba laika ietvaros) | F7: Mēnešalga no kuras rēķina stundas likmi | G7: Stundas likme | H7: Apmaksājamā 100% piemaksa par nostrādātām virsstundām virs normālā darba laika (tai skaitā summētā darba laika ietvaros) | I7: Izdevumi par virsstundām kopā ar VSOAI, EUR
C8: Kopā | D8: līdz normālam darba laikam | E8: virsstundas - virs normālā darba laika, kas saistītas ar darbu ar Covid-19
A10: 1 | B10: 2 | C10: 3=4+5 | D10: 4 | E10: 5 | F10: 6 | G10: 7 | H10: 8 | I10: 9=8*1.2359
A11: KOPĀ | B11: =SUM(B12:B12) -> 1 | E11: =SUM(E12:E12) -> 7 | H11: =SUM(H12:H12) -> 107.25 | I11: =SUM(I12:I12) -> 132.55
