Workbook

Sheet KOPSAVILKUMS
J1: 1.pielikums MK rīkojuma projekta “Par finanšu līdzekļu piešķiršanu no valsts budžeta programmas “Līdzekļi neparedzētiem gadījumiem”” anotācijai
A3: Kopsavilkums par stacionāro iestāžu iesniegto informāciju par darba veicējiem (ārstniecības personām), virs normālā darba laika nostrādātām stundām, apmaksājamām stundām un izdevumiem, sakarā ar Latvijā izsludināto ārkārtējo situāciju ar mērķi ierobežot Covid-19 izplatību par 2021.gadu
C6: Izdevumi par virsstundām (2021.gada janvāris - decembris) kopā ar VSOAI, euro
C7: janvāris | D7: februāris | E7: marts | F7: aprīlis | G7: maijs | H7: jūnijs | I7: jūlijs | J7: augusts | K7: septembris | L7: oktobris | M7: novembris | N7: decembris | O7: KOPĀ
A8: KOPĀ | O8: =SUM(O9:O32) -> 5760351.4
A9: 1 | B9: VSIA "Bērnu klīniskā universitātes slimnīca" | M9: X | N9: X | O9: =SUM(M9:N9) -> 0
B10: SIA “Rīgas Austrumu klīniskās universitātes slimnīca” | M10: X | N10: X | O10: =SUM(M10:N10) -> 0
A11: 1 | B11: VISA "Bērnu klīniskā universitātes slimnīca" | C11: X | D11: X | E11: X | F11: X | G11: X | H11: X | I11: X | J11: X | K11: =BKUS_sept_dec!I11 -> 13156.31 | O11: =SUM(C11:N11) -> 13156.31
A12: 2 | B12: SIA “Rīgas Austrumu klīniskās universitātes slimnīca” | C12: X | D12: X | E12: X | F12: X | G12: X | H12: X | I12: X | J12: X | K12: =RAKUS_sept_dec!I11 -> 2780409.8 | O12: =SUM(C12:N12) -> 2780409.8
A13: 3 | B13: VSIA "Paula Stradiņa klīniskā universitātes slimnīca" | C13: X | D13: X | E13: X | F13: X | G13: X | H13: X | I13: X | J13: X | K13: =PSKUS_sept!I11 -> 196558.45 | L13: =PSKUS_okt!I11 -> 460188.22 | M13: =PSKUS_nov!I11 -> 399122.38 | N13: =PSKUS_dec!I11 -> 250815.43 | O13: =SUM(C13:N13) -> 1306684.5
A14: 4 | B14: SIA "Daugavpils reģionālā slimnīca" | C14: X | D14: X | E14: X | F14: X | G14: X | H14: X | I14: X | J14: X | K14: X | L14: X | M14: =Daugavpils_reģ_nov!I11 -> 197972.41 | N14: =Daugavpils_reģ_dec!I11 -> 162134.4 | O14: =SUM(C14:N14) -> 360106.81
A15: 5 | B15: SIA "Ziemeļkurzemes reģionālā slimnīca" | C15: X | D15: X | E15: X | F15: X | G15: X | H15: X | I15: X | J15: X | K15: X | L15: X | M15: ='Z-Kurzeme_nov'!I10 -> 115893.28 | N15: ='Z-Kurzeme_dec'!I10 -> 129777.12 | O15: =SUM(C15:N15) -> 245670.4
A16: 6 | B16: SIA "Liepājas reģionālā slimnīca" | C16: X | D16: X | E16: X | F16: X | G16: X | H16: X | I16: =Liepāja_jūl!I11 -> 363.19 | J16: =Liepāja_aug!I11 -> 1534.59 | K16: =Liepāja_sep!I11 -> 2150.39 | L16: =Liepāja_okt!I11 -> 5127.93 | M16: =Liepāja_nov!I11 -> 3672.95 | N16: =Liepāja_dec!I11 -> 1397.21 | O16: =SUM(C16:N16) -> 14246.26
A17: 7 | B17: SIA Jelgavas pilsētas slimnīca | C17: X | D17: X | E17: X | F17: X | G17: X | H17: X | I17: X | J17: X | K17: X | L17: X | M17: =Jelgava_nov!I11 -> 54686.92 | N17: =Jelgava_dec!I11 -> 45573.18 | O17: =SUM(C17:N17) -> 100260.1
A18: 8 | B18: SIA Vidzemes slimnīca | C18: X | D18: X | E18: X | F18: X | G18: X | H18: X | I18: X | J18: X | K18: X | L18: X | M18: =Vidzeme_nov!I11 -> 73993.41 | N18: =Vidzeme_dec!I11 -> 65223.67 | O18: =SUM(C18:N18) -> 139217.08
A19: 9 | B19: SIA Jēkabpils reģionālā slimnīca | C19: X | D19: X | E19: X | F19: X | G19: X | H19: X | I19: X | J19: X | K19: X | L19: =Jēkabpils_okt_dec!I11 -> 222487.7 | O19: =SUM(C19:N19) -> 222487.7
A20: 10 | B20: SIA Rēzeknes slimnīca | C20: =Rēzekne_janv_dec!I11 -> 297575.75 | O20: =SUM(C20:N20) -> 297575.75
A21: 11 | B21: SIA Jūrmalas slimnīca | C21: X | D21: X | E21: X | F21: X | G21: X | H21: X | I21: X | J21: X | K21: X | L21: X | M21: =Jūrmala_nov!I11 -> 13427.04 | N21: =Jūrmala_dec!I11 -> 11223.33 | O21: =SUM(C21:N21) -> 24650.37
A22: 12 | B22: SIA "Madonas slimnīca" | C22: X | D22: X | E22: X | F22: X | G22: X | H22: X | I22: =Madona_jūl_dec!I11 -> 71013.373 | O22: =SUM(C22:N22) -> 71013.373
A23: 13 | B23: VSIA "Rīgas psihiatrijas un narkoloģijas cenrts" | C23: X | D23: X | E23: X | F23: X | G23: X | H23: X | I23: X | J23: X | K23: X | L23: X | M23: =RPNC_nov!I11 -> 3892.68 | N23: =RPNC_dec!I11 -> 1848.83 | O23: =SUM(C23:N23) -> 5741.51
A24: 14 | B24: SIA "Rīgas Dzemdību nams" | C24: X | D24: X | E24: X | F24: X | G24: X | H24: X | I24: X | J24: X | K24: =Rīgas_DzN_sept_dec!I11 -> 4778.77 | O24: =SUM(C24:N24) -> 4778.77
A25: 15 | B25: SIA "Rīgas 2.slimnīca" | C25: X | D25: X | E25: X | F25: X | G25: X | H25: X | I25: X | J25: X | K25: ='Rīgas_2.sl._sept_dec'!I11 -> 1623.39 | O25: =SUM(C25:N25) -> 1623.39
A26: 16 | B26: SIA "Rīgas 1.slimnīca" | C26: X | D26: X | E26: X | F26: X | G26: X | H26: X | I26: X | J26: X | K26: X | L26: X | M26: ='Rīgas_1.sl._nov'!I11 -> 19389.12 | N26: ='Rīgas_1.sl._dec'!I11 -> 4814.89 | O26: =SUM(C26:N26) -> 24204.01
A27: 17 | B27: SIA "Balvu un Gulbenes slimnīcu apvienība" | C27: X | D27: X | E27: X | F27: X | G27: X | H27: X | I27: X | J27: X | K27: =Balvi_Gulbene_sept_dec!I11 -> 36167.01 | O27: =SUM(C27:N27) -> 36167.01
A28: 18 | B28: VSIA „Daugavpils psihoneiroloģiskā slimnīca” | C28: X | D28: X | E28: X | F28: X | G28: X | H28: X | I28: X | J28: X | K28: X | L28: X | M28: =Daugavpils_psih_nov!I11 -> 10467.82 | N28: =Daugavpils_psih_dec!I11 -> 450.11 | O28: =SUM(C28:N28) -> 10917.93
A29: 19 | B29: VSIA "Tramatoloģijas un ortopēdijas slimnīca" | C29: X | D29: X | E29: X | F29: X | G29: X | H29: X | I29: X | J29: X | K29: X | L29: X | M29: =TOS_nov!I11 -> 6719.69 | N29: X | O29: =SUM(C29:N29) -> 6719.69
A30: 20 | B30: VSIA "Piejūras slimnīca" | C30: X | D30: X | E30: X | F30: X | G30: X | H30: X | I30: X | J30: X | K30: X | L30: =Piejūra_okt_dec!I11 -> 37377.83 | O30: =SUM(C30:N30) -> 37377.83
A31: 21 | B31: SIA Kuldīgas slimnīca | C31: X | D31: X | E31: X | F31: X | G31: X | H31: X | I31: X | J31: X | K31: X | L31: X | M31: =Kuldīga_nov!I11 -> 21175.44 | N31: =Kuldīga_dec!I11 -> 10288.76 | O31: =SUM(C31:N31) -> 31464.2
A32: 22 | B32: SIA Bauskas slimnīca | C32: X | D32: X | E32: X | F32: X | G32: X | H32: X | I32: X | J32: X | K32: =Bauska_sept_dec!I11 -> 25878.65 | O32: =SUM(C32:N32) -> 25878.65
B34: Summētā darba laika periods, kurā uzskaitītas virsstundas un papildu snepieciešamais finansējums to apmaksai

Sheet BKUS_sept_dec
H1: 1.1 Pielikums
A2: Pārskats par darba veicējiem (ārstniecības personām), virs normālā darba laika nostrādātām stundām, apmaksājamām stundām un izdevumiem, kas radušies saistībā ar mērķi ierobežot Covid-19 izplatību
A4: Iestādes nosaukums: VISA "Bērnu klīniskā universitātes slimnīca"
A5: Pārskata mēnesis: Septembris - Decembris
B7: Nodarbināto skaits mēnesī | C7: Apmaksājamais laiks mēnesī, stundas (tai skaitā summētā darba laika ietvaros) | F7: Mēnešalga no kuras rēķina stundas likmi | G7: Stundas likme (aprēķināta atbilstoši mēnešalgai vai darba līgumā noteiktā stundas likme) | H7: Apmaksājamā 100% piemaksa par nostrādātām virsstundām virs normālā darba laika (tai skaitā summētā darba laika ietvaros) | I7: Izdevumi par virsstundām kopā ar VSOAI, EUR
C8: Kopā | D8: līdz normālam darba laikam | E8: virsstundas - virs normālā darba laika, kas saistītas ar darbu ar Covid-19
A10: 1 | B10: 2 | C10: 3=4+5 | D10: 4 | E10: 5 | F10: 6 | G10: 7 | H10: 8 | I10: 9=8 +VSOAI
A11: KOPĀ | B11: =B12+B14+B26+B28 -> 19 | E11: =E12+E14+E26+E28 -> 929 | H11: =H12+H14+H26+H28 -> 10645.11 | I11: =I12+I14+I26+I28 -> 13156.31
A12: Ārsti, zobārsti un funkcionālie speciālisti, kopā, tai skaitā: | B12: =SUM(B13:B13) -> 1 | E12: =SUM(E13:E13) -> 26 | H12: =SUM(H13:H13) -> 520.52 | I12: =SUM(I13:I13) -> 643.31
A13: Bērnu infektologs | B13: 1 | C13: =D13+E13 -> 703 | D13: 677 | E13: 26 | G13: 10.01 | H13: =ROUND(E13*G13*2,2) -> 520.52 | I13: =ROUND(H13*1.2359,2) -> 643.31
A14: Ārstniecības un pacientu aprūpes personas un funkcionālo speciālistu asistenti, kopā, tai skaitā: | B14: =SUM(B15:B25) -> 11 | E14: =SUM(E15:E25) -> 393.5 | H14: =SUM(H15:H25) -> 5555.83 | I14: =SUM(I15:I25) -> 6866.47
A15: Bērnu māsa | B15: 1 | C15: =D15+E15 -> 728.5 | D15: 677 | E15: 51.5 | G15: 6.89 | H15: =ROUND(E15*G15*2,2) -> 709.67 | I15: =ROUND(H15*1.2359,2) -> 877.08
A16: Bērnu māsa | B16: 1 | C16: =D16+E16 -> 700 | D16: 677 | E16: 23 | G16: 7.06 | H16: =ROUND(E16*G16*2,2) -> 324.76 | I16: =ROUND(H16*1.2359,2) -> 401.37
A17: Bērnu māsa | B17: 1 | C17: =D17+E17 -> 728 | D17: 677 | E17: 51 | G17: 7.06 | H17: =ROUND(E17*G17*2,2) -> 720.12 | I17: =ROUND(H17*1.2359,2) -> 890
A18: Bērnu māsa | B18: 1 | C18: =D18+E18 -> 714.5 | D18: 677 | E18: 37.5 | G18: 6.89 | H18: =ROUND(E18*G18*2,2) -> 516.75 | I18: =ROUND(H18*1.2359,2) -> 638.65
A19: Māsa | B19: 1 | C19: =D19+E19 -> 693 | D19: 677 | E19: 16 | G19: 8.25 | H19: =ROUND(E19*G19*2,2) -> 264 | I19: =ROUND(H19*1.2359,2) -> 326.28
A20: Bērnu māsa | B20: 1 | C20: =D20+E20 -> 685 | D20: 677 | E20: 8 | G20: 7.06 | H20: =ROUND(E20*G20*2,2) -> 112.96 | I20: =ROUND(H20*1.2359,2) -> 139.61
A21: Bērnu māsa | B21: 1 | C21: =D21+E21 -> 700.5 | D21: 677 | E21: 23.5 | G21: 7.06 | H21: =ROUND(E21*G21*2,2) -> 331.82 | I21: =ROUND(H21*1.2359,2) -> 410.1
A22: Bērnu māsa | B22: 1 | C22: =D22+E22 -> 688.5 | D22: 677 | E22: 11.5 | G22: 7.06 | H22: =ROUND(E22*G22*2,2) -> 162.38 | I22: =ROUND(H22*1.2359,2) -> 200.69
A23: Māsa | B23: 1 | C23: =D23+E23 -> 687 | D23: 677 | E23: 10 | G23: 8.25 | H23: =ROUND(E23*G23*2,2) -> 165 | I23: =ROUND(H23*1.2359,2) -> 203.92
A24: Bērnu māsa | B24: 1 | C24: =D24+E24 -> 743 | D24: 677 | E24: 66 | G24: 8.25 | H24: =ROUND(E24*G24*2,2) -> 1089 | I24: =ROUND(H24*1.2359,2) -> 1345.9
A25: Bērnu māsa | B25: 1 | C25: =D25+E25 -> 772.5 | D25: 677 | E25: 95.5 | G25: 6.07 | H25: =ROUND(E25*G25*2,2) -> 1159.37 | I25: =ROUND(H25*1.2359,2) -> 1432.87
A26: Ārstniecības un pacientu aprūpes atbalsta personas, māsu palīgi, zobārstu aistenti, kopā, tai skaitā: | B26: =SUM(B27) -> 1 | E26: =SUM(E27) -> 23 | H26: =SUM(H27) -> 205.16 | I26: =SUM(I27) -> 253.56
A27: Māsas palīgs | B27: 1 | C27: =D27+E27 -> 700 | D27: 677 | E27: 23 | G27: 4.46 | H27: =ROUND(E27*G27*2,2) -> 205.16 | I27: =ROUND(H27*1.2359,2) -> 253.56
A28: Pārējie darbinieki, kuri tieši iesaistīti darbā ar Covid-19, kopā, tai skaitā: | B28: =SUM(B29:B34) -> 6 | E28: =SUM(E29:E34) -> 486.5 | H28: =SUM(H29:H34) -> 4363.6 | I28: =SUM(I29:I34) -> 5392.97
A29: Sterilizācijas tehniskais darbinieks | B29: 1 | C29: =D29+E29 -> 741 | D29: 677 | E29: 64 | G29: 5.21 | H29: =ROUND(E29*G29*2,2) -> 666.88 | I29: =ROUND(H29*1.2359,2) -> 824.2
A30: Transporta pakalpojumu dienests | B30: 1 | C30: =D30+E30 -> 753.5 | D30: 677 | E30: 76.5 | G30: 5.3012048 | H30: =ROUND(E30*G30*2,2) -> 811.08 | I30: =ROUND(H30*1.2359,2) -> 1002.41
A31: Noslēguma dezinfekciju veicējs | B31: 1 | C31: =D31+E31 -> 768 | D31: 677 | E31: 91 | G31: 4.17 | H31: =ROUND(E31*G31*2,2) -> 758.94 | I31: =ROUND(H31*1.2359,2) -> 937.97
A32: Noslēguma dezinfekciju veicējs | B32: 1 | C32: =D32+E32 -> 816 | D32: 677 | E32: 139 | G32: 4.17 | H32: =ROUND(E32*G32*2,2) -> 1159.26 | I32: =ROUND(H32*1.2359,2) -> 1432.73
A33: Noslēguma dezinfekciju veicējs | B33: 1 | C33: =D33+E33 -> 750 | D33: 677 | E33: 73 | G33: 4.17 | H33: =ROUND(E33*G33*2,2) -> 608.82 | I33: =ROUND(H33*1.2359,2) -> 752.44
A34: Noslēguma dezinfekciju veicējs | B34: 1 | C34: =D34+E34 -> 720 | D34: 677 | E34: 43 | G34: 4.17 | H34: =ROUND(E34*G34*2,2) -> 358.62 | I34: =ROUND(H34*1.2359,2) -> 443.22

Sheet RAKUS_sept_dec
H1: 1.2.Pielikums
A2: Pārskats par darba veicējiem (ārstniecības personām), virs normālā darba laika nostrādātām stundām, apmaksājamām stundām un izdevumiem, kas radušies saistībā ar mērķi ierobežot Covid-19 izplatību
A4: Iestādes nosaukums: SIA “Rīgas Austrumu klīniskās universitātes slimnīca”
A5: Pārskata mēnesis: Septembris - Decembris
B7: Nodarbināto skaits mēnesī | C7: Apmaksājamais laiks mēnesī, stundas (tai skaitā summētā darba laika ietvaros) | F7: Mēnešalga no kuras rēķina stundas likmi | G7: Stundas likme (aprēķināta atbilstoši mēnešalgai vai darba līgumā noteiktā stundas likme)2 | H7: Apmaksājamā 100% piemaksa par nostrādātām virsstundām virs normālā darba laika (tai skaitā summētā darba laika ietvaros) | I7: Izdevumi par virsstundām kopā ar VSOAI, EUR
C8: Kopā | D8: līdz normālam darba laikam | E8: virsstundas - virs normālā darba laika, kas saistītas ar darbu ar Covid-19
A10: 1 | B10: 2 | C10: 3=4+5 | D10: 4 | E10: 5 | F10: 6 | G10: 7 | H10: 8 | I10: 9=8 + VSOAI
A11: KOPĀ | B11: =B12+B707+B1702+B1516 -> 2103 | E11: =E12+E707+E1702+E1516 -> 133761.01 | H11: =H12+H707+H1702+H1516 -> 2251726.1 | I11: =I12+I707+I1702+I1516 -> 2780409.8
A12: Ārsti, zobārsti un funkcionālie speciālisti, kopā, tai skaitā: | B12: =SUM(B13:B706) -> 694 | E12: =SUM(E13:E706) -> 56165.74 | H12: =SUM(H13:H706) -> 1225746.9 | I12: =SUM(I13:I706) -> 1513837.9
A13: Anesteziologs, reanimatologs | B13: 1 | C13: =D13+E13 -> 701.5 | D13: 549 | E13: 152.5 | F13: 1993 | G13: =ROUND(F13/167.42,4) -> 11.9042 | H13: =ROUND(E13*G13*2,2) -> 3630.78 | I13: =ROUND(H13*1.2077,2) -> 4384.89
A14: Anesteziologs, reanimatologs | B14: 1 | C14: =D14+E14 -> 842 | D14: 677 | E14: 165 | F14: 1993 | G14: =ROUND(F14/167.42,4) -> 11.9042 | H14: =ROUND(E14*G14*2,2) -> 3928.39 | I14: =ROUND(H14*1.2359,2) -> 4855.1
A15: Anesteziologs, reanimatologs | B15: 1 | C15: =D15+E15 -> 408.5 | D15: 286.5 | E15: 122 | F15: 1993 | G15: =ROUND(F15/167.42,4) -> 11.9042 | H15: =ROUND(E15*G15*2,2) -> 2904.62 | I15: =ROUND(H15*1.2359,2) -> 3589.82
A16: Anesteziologs, reanimatologs | B16: 1 | C16: =D16+E16 -> 875 | D16: 637 | E16: 238 | F16: 1993 | G16: =ROUND(F16/167.42,4) -> 11.9042 | H16: =ROUND(E16*G16*2,2) -> 5666.4 | I16: =ROUND(H16*1.2077,2) -> 6843.31
A17: Anesteziologs, reanimatologs | B17: 1 | C17: =D17+E17 -> 732 | D17: 605 | E17: 127 | F17: 1899 | G17: =ROUND(F17/167.42,4) -> 11.3427 | H17: =ROUND(E17*G17*2,2) -> 2881.05 | I17: =ROUND(H17*1.2359,2) -> 3560.69
A18: Anesteziologs, reanimatologs | B18: 1 | C18: =D18+E18 -> 600 | D18: 501 | E18: 99 | F18: 1993 | G18: =ROUND(F18/167.42,4) -> 11.9042 | H18: =ROUND(E18*G18*2,2) -> 2357.03 | I18: =ROUND(H18*1.2077,2) -> 2846.59
A19: Anesteziologs, reanimatologs | B19: 1 | C19: =D19+E19 -> 674 | D19: 541 | E19: 133 | F19: 1993 | G19: =ROUND(F19/167.42,4) -> 11.9042 | H19: =ROUND(E19*G19*2,2) -> 3166.52 | I19: =ROUND(H19*1.2359,2) -> 3913.5
A20: Anesteziologs, reanimatologs | B20: 1 | C20: =D20+E20 -> 788 | D20: 645 | E20: 143 | F20: 1993 | G20: =ROUND(F20/167.42,4) -> 11.9042 | H20: =ROUND(E20*G20*2,2) -> 3404.6 | I20: =ROUND(H20*1.2359,2) -> 4207.75
A21: Anesteziologs, reanimatologs | B21: 1 | C21: =D21+E21 -> 312.061 | D21: 238.5 | E21: 73.561 | F21: 1993 | G21: =ROUND(F21/167.42,4) -> 11.9042 | H21: =ROUND(E21*G21*2,2) -> 1751.37 | I21: =ROUND(H21*1.2359,2) -> 2164.52
A22: Anesteziologs, reanimatologs | B22: 1 | C22: =D22+E22 -> 641 | D22: 533 | E22: 108 | F22: 1993 | G22: =ROUND(F22/167.42,4) -> 11.9042 | H22: =ROUND(E22*G22*2,2) -> 2571.31 | I22: =ROUND(H22*1.2077,2) -> 3105.37
A23: Anesteziologs, reanimatologs | B23: 1 | C23: =D23+E23 -> 809 | D23: 661 | E23: 148 | F23: 1993 | G23: =ROUND(F23/167.42,4) -> 11.9042 | H23: =ROUND(E23*G23*2,2) -> 3523.64 | I23: =ROUND(H23*1.2359,2) -> 4354.87
A24: Anesteziologs, reanimatologs | B24: 1 | C24: =D24+E24 -> 449 | D24: 0 | E24: 449 | F24: 2018 | G24: =ROUND(F24/167.42,4) -> 12.0535 | H24: =ROUND(E24*G24*2,2) -> 10824.04 | I24: =ROUND(H24*1.2359,2) -> 13377.43
A25: Anesteziologs, reanimatologs | B25: 1 | C25: =D25+E25 -> 287 | D25: 266.5 | E25: 20.5 | F25: 1993 | G25: =ROUND(F25/167.42,4) -> 11.9042 | H25: =ROUND(E25*G25*2,2) -> 488.07 | I25: =ROUND(H25*1.2359,2) -> 603.21
A26: Anesteziologs, reanimatologs | B26: 1 | C26: =D26+E26 -> 184 | D26: 89.25 | E26: 94.75 | F26: 2018 | G26: =ROUND(F26/167.42,4) -> 12.0535 | H26: =ROUND(E26*G26*2,2) -> 2284.14 | I26: =ROUND(H26*1.2359,2) -> 2822.97
A27: Anesteziologs, reanimatologs | B27: 1 | C27: =D27+E27 -> 750 | D27: 629 | E27: 121 | F27: 1993 | G27: =ROUND(F27/167.42,4) -> 11.9042 | H27: =ROUND(E27*G27*2,2) -> 2880.82 | I27: =ROUND(H27*1.2359,2) -> 3560.41
A28: Anesteziologs, reanimatologs | B28: 1 | C28: =D28+E28 -> 288 | D28: 0 | E28: 288 | F28: 1993 | G28: =ROUND(F28/167.42,4) -> 11.9042 | H28: =ROUND(E28*G28*2,2) -> 6856.82 | I28: =ROUND(H28*1.2359,2) -> 8474.34
A29: Anesteziologs, reanimatologs | B29: 1 | C29: =D29+E29 -> 273 | D29: 0 | E29: 273 | F29: 1993 | G29: =ROUND(F29/167.42,4) -> 11.9042 | H29: =ROUND(E29*G29*2,2) -> 6499.69 | I29: =ROUND(H29*1.2359,2) -> 8032.97
A30: Anesteziologs, reanimatologs | B30: 1 | C30: =D30+E30 -> 64 | D30: 0 | E30: 64 | F30: 1993 | G30: =ROUND(F30/167.42,4) -> 11.9042 | H30: =ROUND(E30*G30*2,2) -> 1523.74 | I30: =ROUND(H30*1.2077,2) -> 1840.22
A31: Anesteziologs, reanimatologs | B31: 1 | C31: =D31+E31 -> 247.247 | D31: 174.3 | E31: 72.947 | F31: 1993 | G31: =ROUND(F31/167.42,4) -> 11.9042 | H31: =ROUND(E31*G31*2,2) -> 1736.75 | I31: =ROUND(H31*1.2359,2) -> 2146.45
A32: Anesteziologs, reanimatologs | B32: 1 | C32: =D32+E32 -> 196.5 | D32: 0 | E32: 196.5 | F32: 2018 | G32: =ROUND(F32/167.42,4) -> 12.0535 | H32: =ROUND(E32*G32*2,2) -> 4737.03 | I32: =ROUND(H32*1.2359,2) -> 5854.5
A33: Anesteziologs, reanimatologs | B33: 1 | C33: =D33+E33 -> 774 | D33: 549 | E33: 225 | F33: 1993 | G33: =ROUND(F33/167.42,4) -> 11.9042 | H33: =ROUND(E33*G33*2,2) -> 5356.89 | I33: =ROUND(H33*1.2359,2) -> 6620.58
A34: Anesteziologs, reanimatologs | B34: 1 | C34: =D34+E34 -> 333 | D34: 266.5 | E34: 66.5 | F34: 1993 | G34: =ROUND(F34/167.42,4) -> 11.9042 | H34: =ROUND(E34*G34*2,2) -> 1583.26 | I34: =ROUND(H34*1.2359,2) -> 1956.75
A35: Anesteziologs, reanimatologs | B35: 1 | C35: =D35+E35 -> 144 | D35: 0 | E35: 144 | F35: 1993 | G35: =ROUND(F35/167.42,4) -> 11.9042 | H35: =ROUND(E35*G35*2,2) -> 3428.41 | I35: =ROUND(H35*1.2359,2) -> 4237.17
A36: Anesteziologs, reanimatologs | B36: 1 | C36: =D36+E36 -> 123 | D36: 0 | E36: 123 | F36: 1899 | G36: =ROUND(F36/167.42,4) -> 11.3427 | H36: =ROUND(E36*G36*2,2) -> 2790.3 | I36: =ROUND(H36*1.2359,2) -> 3448.53
A37: Anesteziologs, reanimatologs | B37: 1 | C37: =D37+E37 -> 373.67808 | D37: 278.5 | E37: 95.178082 | F37: 1993 | G37: =ROUND(F37/167.42,4) -> 11.9042 | H37: =ROUND(E37*G37*2,2) -> 2266.04 | I37: =ROUND(H37*1.2359,2) -> 2800.6
A38: Anesteziologs, reanimatologs | B38: 1 | C38: =D38+E38 -> 362.14906 | D38: 298.5 | E38: 63.649057 | F38: 1993 | G38: =ROUND(F38/167.42,4) -> 11.9042 | H38: =ROUND(E38*G38*2,2) -> 1515.38 | I38: =ROUND(H38*1.2359,2) -> 1872.86
A39: Anesteziologs, reanimatologs | B39: 1 | C39: =D39+E39 -> 316 | D39: 298.5 | E39: 17.5 | F39: 1993 | G39: =ROUND(F39/167.42,4) -> 11.9042 | H39: =ROUND(E39*G39*2,2) -> 416.65 | I39: =ROUND(H39*1.2359,2) -> 514.94
A40: Anesteziologs, reanimatologs | B40: 1 | C40: =D40+E40 -> 326 | D40: 278.5 | E40: 47.5 | F40: 1993 | G40: =ROUND(F40/167.42,4) -> 11.9042 | H40: =ROUND(E40*G40*2,2) -> 1130.9 | I40: =ROUND(H40*1.2359,2) -> 1397.68
A41: Anesteziologs, reanimatologs | B41: 1 | C41: =D41+E41 -> 326 | D41: 286.5 | E41: 39.5 | F41: 2952 | G41: =ROUND(F41/167.42,4) -> 17.6323 | H41: =ROUND(E41*G41*2,2) -> 1392.95 | I41: =ROUND(H41*1.2359,2) -> 1721.55
A42: Anesteziologs, reanimatologs | B42: 1 | C42: =D42+E42 -> 661 | D42: 637 | E42: 24 | F42: 2952 | G42: =ROUND(F42/167.42,4) -> 17.6323 | H42: =ROUND(E42*G42*2,2) -> 846.35 | I42: =ROUND(H42*1.2359,2) -> 1046
... A44: Anesteziologs, reanimatologs | B44: 1 | C44: =D44+E44 -> 655.997 | D44: 589 | E44: 66.997 | F44: 2952 | G44: =ROUND(F44/167.42,4) -> 17.6323 | H44: =ROUND(E44*G44*2,2) -> 2362.62 | I44: =ROUND(H44*1.2359,2) -> 2919.96
A45: Anesteziologs, reanimatologs | B45: 1 | C45: =D45+E45 -> 701 | D45: 677 | E45: 24 | F45: 2952 | G45: =ROUND(F45/167.42,4) -> 17.6323 | H45: =ROUND(E45*G45*2,2) -> 846.35 | I45: =ROUND(H45*1.2077,2) -> 1022.14
A46: Anesteziologs, reanimatologs | B46: 1 | C46: =D46+E46 -> 391 | D46: 373 | E46: 18 | F46: 2952 | G46: =ROUND(F46/167.42,4) -> 17.6323 | H46: =ROUND(E46*G46*2,2) -> 634.76 | I46: =ROUND(H46*1.2359,2) -> 784.5
A47: Anesteziologs, reanimatologs | B47: 1 | C47: =D47+E47 -> 585.993 | D47: 575 | E47: 10.993 | F47: 2952 | G47: =ROUND(F47/167.42,4) -> 17.6323 | H47: =ROUND(E47*G47*2,2) -> 387.66 | I47: =ROUND(H47*1.2359,2) -> 479.11
A48: Anesteziologs, reanimatologs | B48: 1 | C48: =D48+E48 -> 626 | D48: 615 | E48: 11 | F48: 2952 | G48: =ROUND(F48/167.42,4) -> 17.6323 | H48: =ROUND(E48*G48*2,2) -> 387.91 | I48: =ROUND(H48*1.2359,2) -> 479.42
A49: Anesteziologs, reanimatologs | B49: 1 | C49: =D49+E49 -> 213 | D49: 133.25 | E49: 79.75 | F49: 1993 | G49: =ROUND(F49/167.42,4) -> 11.9042 | H49: =ROUND(E49*G49*2,2) -> 1898.72 | I49: =ROUND(H49*1.2359,2) -> 2346.63
A50: Anesteziologs, reanimatologs | B50: 1 | C50: =D50+E50 -> 841 | D50: 677 | E50: 164 | F50: 1993 | G50: =ROUND(F50/167.42,4) -> 11.9042 | H50: =ROUND(E50*G50*2,2) -> 3904.58 | I50: =ROUND(H50*1.2359,2) -> 4825.67
A51: Anesteziologs, reanimatologs | B51: 1 | C51: =D51+E51 -> 808 | D51: 613 | E51: 195 | F51: 1993 | G51: =ROUND(F51/167.42,4) -> 11.9042 | H51: =ROUND(E51*G51*2,2) -> 4642.64 | I51: =ROUND(H51*1.2359,2) -> 5737.84
A52: Anesteziologs, reanimatologs | B52: 1 | C52: =D52+E52 -> 746 | D52: 605 | E52: 141 | F52: 1993 | G52: =ROUND(F52/167.42,4) -> 11.9042 | H52: =ROUND(E52*G52*2,2) -> 3356.98 | I52: =ROUND(H52*1.2359,2) -> 4148.89
A53: Anesteziologs, reanimatologs | B53: 1 | C53: =D53+E53 -> 173 | D53: 132 | E53: 41 | F53: 1993 | G53: =ROUND(F53/167.42,4) -> 11.9042 | H53: =ROUND(E53*G53*2,2) -> 976.14 | I53: =ROUND(H53*1.2077,2) -> 1178.88
A54: Anesteziologs, reanimatologs | B54: 1 | C54: =D54+E54 -> 297.44961 | D54: 234.5 | E54: 62.949606 | F54: 1899 | G54: =ROUND(F54/167.42,4) -> 11.3427 | H54: =ROUND(E54*G54*2,2) -> 1428.04 | I54: =ROUND(H54*1.2359,2) -> 1764.91
A55: Anesteziologs, reanimatologs | B55: 1 | C55: =D55+E55 -> 286 | D55: 249.75 | E55: 36.25 | F55: 1993 | G55: =ROUND(F55/167.42,4) -> 11.9042 | H55: =ROUND(E55*G55*2,2) -> 863.05 | I55: =ROUND(H55*1.2359,2) -> 1066.64
A56: Anesteziologs, reanimatologs | B56: 1 | C56: =D56+E56 -> 291.273 | D56: 238.5 | E56: 52.773 | F56: 1993 | G56: =ROUND(F56/167.42,4) -> 11.9042 | H56: =ROUND(E56*G56*2,2) -> 1256.44 | I56: =ROUND(H56*1.2359,2) -> 1552.83
A57: Anesteziologs, reanimatologs (1.līmenis) | B57: 1 | C57: =D57+E57 -> 643 | D57: 597 | E57: 46 | F57: 2416 | G57: =ROUND(F57/167.42,4) -> 14.4308 | H57: =ROUND(E57*G57*2,2) -> 1327.63 | I57: =ROUND(H57*1.2359,2) -> 1640.82
A58: Anesteziologs, reanimatologs (1.līmenis) | B58: 1 | C58: =D58+E58 -> 524 | D58: 460.5 | E58: 63.5 | F58: 2416 | G58: =ROUND(F58/167.42,4) -> 14.4308 | H58: =ROUND(E58*G58*2,2) -> 1832.71 | I58: =ROUND(H58*1.2359,2) -> 2265.05
A59: Anesteziologs, reanimatologs (1.līmenis) | B59: 1 | C59: =D59+E59 -> 626.993 | D59: 574 | E59: 52.993 | F59: 2416 | G59: =ROUND(F59/167.42,4) -> 14.4308 | H59: =ROUND(E59*G59*2,2) -> 1529.46 | I59: =ROUND(H59*1.2359,2) -> 1890.26
A60: Anesteziologs, reanimatologs (1.līmenis) | B60: 1 | C60: =D60+E60 -> 459.993 | D60: 422 | E60: 37.993 | F60: 2416 | G60: =ROUND(F60/167.42,4) -> 14.4308 | H60: =ROUND(E60*G60*2,2) -> 1096.54 | I60: =ROUND(H60*1.2359,2) -> 1355.21
A61: Anesteziologs, reanimatologs (1.līmenis) | B61: 1 | C61: =D61+E61 -> 713.667 | D61: 677 | E61: 36.667 | F61: 2416 | G61: =ROUND(F61/167.42,4) -> 14.4308 | H61: =ROUND(E61*G61*2,2) -> 1058.27 | I61: =ROUND(H61*1.2359,2) -> 1307.92
A62: Anesteziologs, reanimatologs (1.līmenis) | B62: 1 | C62: =D62+E62 -> 333.5 | D62: 266.5 | E62: 67 | F62: 2416 | G62: =ROUND(F62/167.42,4) -> 14.4308 | H62: =ROUND(E62*G62*2,2) -> 1933.73 | I62: =ROUND(H62*1.2359,2) -> 2389.9
A63: Anesteziologs, reanimatologs (1.līmenis) | B63: 1 | C63: =D63+E63 -> 158.5812 | D63: 145.25 | E63: 13.331201 | F63: 2416 | G63: =ROUND(F63/167.42,4) -> 14.4308 | H63: =ROUND(E63*G63*2,2) -> 384.76 | I63: =ROUND(H63*1.2359,2) -> 475.52
A64: Anesteziologs, reanimatologs (1.līmenis) | B64: 1 | C64: =D64+E64 -> 403.949 | D64: 261.45 | E64: 142.499 | F64: 2416 | G64: =ROUND(F64/167.42,4) -> 14.4308 | H64: =ROUND(E64*G64*2,2) -> 4112.75 | I64: =ROUND(H64*1.2359,2) -> 5082.95
A65: Anesteziologs, reanimatologs (1.līmenis) | B65: 1 | C65: =D65+E65 -> 567.5 | D65: 501 | E65: 66.5 | F65: 2416 | G65: =ROUND(F65/167.42,4) -> 14.4308 | H65: =ROUND(E65*G65*2,2) -> 1919.3 | I65: =ROUND(H65*1.2359,2) -> 2372.06
... A76: Anesteziologs, reanimatologs (2.līmenis) | B76: 1 | C76: =D76+E76 -> 631 | D76: 597 | E76: 34 | F76: 2684 | G76: =ROUND(F76/167.42,4) -> 16.0315 | H76: =ROUND(E76*G76*2,2) -> 1090.14 | I76: =ROUND(H76*1.2359,2) -> 1347.3
A77: Anesteziologs, reanimatologs (2.līmenis) | B77: 1 | C77: =D77+E77 -> 556.5 | D77: 338.5 | E77: 218 | F77: 2684 | G77: =ROUND(F77/167.42,4) -> 16.0315 | H77: =ROUND(E77*G77*2,2) -> 6989.73 | I77: =ROUND(H77*1.2077,2) -> 8441.5
A78: Anesteziologs, reanimatologs (2.līmenis) | B78: 1 | C78: =D78+E78 -> 196 | D78: 161.25 | E78: 34.75 | F78: 2684 | G78: =ROUND(F78/167.42,4) -> 16.0315 | H78: =ROUND(E78*G78*2,2) -> 1114.19 | I78: =ROUND(H78*1.2359,2) -> 1377.03
A79: Anesteziologs, reanimatologs (2.līmenis) | B79: 1 | C79: =D79+E79 -> 357.5 | D79: 338.5 | E79: 19 | F79: 2684 | G79: =ROUND(F79/167.42,4) -> 16.0315 | H79: =ROUND(E79*G79*2,2) -> 609.2 | I79: =ROUND(H79*1.2359,2) -> 752.91
A80: Anesteziologs, reanimatologs (2.līmenis) | B80: 1 | C80: =D80+E80 -> 520 | D80: 486 | E80: 34 | F80: 2684 | G80: =ROUND(F80/167.42,4) -> 16.0315 | H80: =ROUND(E80*G80*2,2) -> 1090.14 | I80: =ROUND(H80*1.2359,2) -> 1347.3
A81: Anesteziologs, reanimatologs (2.līmenis) | B81: 1 | C81: =D81+E81 -> 720 | D81: 677 | E81: 43 | F81: 2684 | G81: =ROUND(F81/167.42,4) -> 16.0315 | H81: =ROUND(E81*G81*2,2) -> 1378.71 | I81: =ROUND(H81*1.2359,2) -> 1703.95
A82: Anesteziologs, reanimatologs (2.līmenis) | B82: 1 | C82: =D82+E82 -> 496 | D82: 472 | E82: 24 | F82: 2684 | G82: =ROUND(F82/167.42,4) -> 16.0315 | H82: =ROUND(E82*G82*2,2) -> 769.51 | I82: =ROUND(H82*1.2077,2) -> 929.34
A83: Anesteziologs, reanimatologs (2.līmenis) | B83: 1 | C83: =D83+E83 -> 590.75 | D83: 507.75 | E83: 83 | F83: 2684 | G83: =ROUND(F83/167.42,4) -> 16.0315 | H83: =ROUND(E83*G83*2,2) -> 2661.23 | I83: =ROUND(H83*1.2077,2) -> 3213.97
A84: Anesteziologs, reanimatologs (2.līmenis) | B84: 1 | C84: =D84+E84 -> 6 | D84: 0 | E84: 6 | F84: 2684 | G84: =ROUND(F84/167.42,4) -> 16.0315 | H84: =ROUND(E84*G84*2,2) -> 192.38 | I84: =ROUND(H84*1.2359,2) -> 237.76
A85: Anesteziologs, reanimatologs (2.līmenis) | B85: 1 | C85: =D85+E85 -> 112 | D85: 0 | E85: 112 | F85: 2684 | G85: =ROUND(F85/167.42,4) -> 16.0315 | H85: =ROUND(E85*G85*2,2) -> 3591.06 | I85: =ROUND(H85*1.2359,2) -> 4438.19
A86: Anesteziologs, reanimatologs (2.līmenis) | B86: 1 | C86: =D86+E86 -> 48 | D86: 0 | E86: 48 | F86: 2416 | G86: =ROUND(F86/167.42,4) -> 14.4308 | H86: =ROUND(E86*G86*2,2) -> 1385.36 | I86: =ROUND(H86*1.2359,2) -> 1712.17
A87: Atbildīgais ķirurgs | B87: 1 | C87: =D87+E87 -> 200 | D87: 0 | E87: 200 | F87: 2926 | G87: =ROUND(F87/167.42,4) -> 17.477 | H87: =ROUND(E87*G87*2,2) -> 6990.8 | I87: =ROUND(H87*1.2359,2) -> 8639.93
A88: Atbildīgais ķirurgs | B88: 1 | C88: =D88+E88 -> 312 | D88: 0 | E88: 312 | F88: 2926 | G88: =ROUND(F88/167.42,4) -> 17.477 | H88: =ROUND(E88*G88*2,2) -> 10905.65 | I88: =ROUND(H88*1.2359,2) -> 13478.29
A89: Atbildīgais ķirurgs | B89: 1 | C89: =D89+E89 -> 288 | D89: 0 | E89: 288 | F89: 2926 | G89: =ROUND(F89/167.42,4) -> 17.477 | H89: =ROUND(E89*G89*2,2) -> 10066.75 | I89: =ROUND(H89*1.2359,2) -> 12441.5
A90: Atbildīgais ķirurgs | B90: 1 | C90: =D90+E90 -> 264 | D90: 0 | E90: 264 | F90: 2926 | G90: =ROUND(F90/167.42,4) -> 17.477 | H90: =ROUND(E90*G90*2,2) -> 9227.86 | I90: =ROUND(H90*1.2359,2) -> 11404.71
A91: Atbildīgais ķirurgs | B91: 1 | C91: =D91+E91 -> 226 | D91: 0 | E91: 226 | F91: 2926 | G91: =ROUND(F91/167.42,4) -> 17.477 | H91: =ROUND(E91*G91*2,2) -> 7899.6 | I91: =ROUND(H91*1.2359,2) -> 9763.12
A92: Atbildīgais ķirurgs | B92: 1 | C92: =D92+E92 -> 288 | D92: 0 | E92: 288 | F92: 2926 | G92: =ROUND(F92/167.42,4) -> 17.477 | H92: =ROUND(E92*G92*2,2) -> 10066.75 | I92: =ROUND(H92*1.2359,2) -> 12441.5
A93: Atbildīgais ķirurgs | B93: 1 | C93: =D93+E93 -> 240 | D93: 0 | E93: 240 | F93: 2926 | G93: =ROUND(F93/167.42,4) -> 17.477 | H93: =ROUND(E93*G93*2,2) -> 8388.96 | I93: =ROUND(H93*1.2359,2) -> 10367.92
A94: Atbildīgais ķirurgs | B94: 1 | C94: =D94+E94 -> 408 | D94: 0 | E94: 408 | F94: 2926 | G94: =ROUND(F94/167.42,4) -> 17.477 | H94: =ROUND(E94*G94*2,2) -> 14261.23 | I94: =ROUND(H94*1.2359,2) -> 17625.45
A95: Atbildīgais ķirurgs | B95: 1 | C95: =D95+E95 -> 265 | D95: 0 | E95: 265 | F95: 2926 | G95: =ROUND(F95/167.42,4) -> 17.477 | H95: =ROUND(E95*G95*2,2) -> 9262.81 | I95: =ROUND(H95*1.2359,2) -> 11447.91
... A297: Ķirurgs | B297: 1 | C297: =D297+E297 -> 199.194 | D297: 113.25 | E297: 85.944 | F297: 1960 | G297: =ROUND(F297/167.42,4) -> 11.7071 | H297: =ROUND(E297*G297*2,2) -> 2012.31 | I297: =ROUND(H297*1.2359,2) -> 2487.01
A298: Ķirurgs | B298: 1 | C298: =D298+E298 -> 4 | D298: 0 | E298: 4 | F298: 1625 | G298: =ROUND(F298/167.42,4) -> 9.7061 | H298: =ROUND(E298*G298*2,2) -> 77.65 | I298: =ROUND(H298*1.2077,2) -> 93.78
A299: Ķirurgs (1.līmenis) | B299: 1 | C299: =D299+E299 -> 882 | D299: 677 | E299: 205 | F299: 2416 | G299: =ROUND(F299/167.42,4) -> 14.4308 | H299: =ROUND(E299*G299*2,2) -> 5916.63 | I299: =ROUND(H299*1.2359,2) -> 7312.36
A300: Ķirurgs (1.līmenis) | B300: 1 | C300: =D300+E300 -> 1008 | D300: 677 | E300: 331 | F300: 2416 | G300: =ROUND(F300/167.42,4) -> 14.4308 | H300: =ROUND(E300*G300*2,2) -> 9553.19 | I300: =ROUND(H300*1.2359,2) -> 11806.79
A301: Ķirurgs (1.līmenis) | B301: 1 | C301: =D301+E301 -> 62.556017 | D301: 40 | E301: 22.556017 | F301: 2416 | G301: =ROUND(F301/167.42,4) -> 14.4308 | H301: =ROUND(E301*G301*2,2) -> 651 | I301: =ROUND(H301*1.2359,2) -> 804.57
A302: Ķirurgs (1.līmenis) | B302: 1 | C302: =D302+E302 -> 50 | D302: 40 | E302: 10 | F302: 2416 | G302: =ROUND(F302/167.42,4) -> 14.4308 | H302: =ROUND(E302*G302*2,2) -> 288.62 | I302: =ROUND(H302*1.2359,2) -> 356.71
A303: Ķirurgs (1.līmenis) | B303: 1 | C303: =D303+E303 -> 56 | D303: 40 | E303: 16 | F303: 2416 | G303: =ROUND(F303/167.42,4) -> 14.4308 | H303: =ROUND(E303*G303*2,2) -> 461.79 | I303: =ROUND(H303*1.2359,2) -> 570.73
A304: Ķirurgs (1.līmenis) | B304: 1 | C304: =D304+E304 -> 250.10373 | D304: 158 | E304: 92.103734 | F304: 2416 | G304: =ROUND(F304/167.42,4) -> 14.4308 | H304: =ROUND(E304*G304*2,2) -> 2658.26 | I304: =ROUND(H304*1.2359,2) -> 3285.34
A305: Ķirurgs (2.līmenis) | B305: 1 | C305: =D305+E305 -> 845 | D305: 645 | E305: 200 | F305: 2684 | G305: =ROUND(F305/167.42,4) -> 16.0315 | H305: =ROUND(E305*G305*2,2) -> 6412.6 | I305: =ROUND(H305*1.2359,2) -> 7925.33
A306: Ķirurgs (2.līmenis) | B306: 1 | C306: =D306+E306 -> 784 | D306: 629 | E306: 155 | F306: 2684 | G306: =ROUND(F306/167.42,4) -> 16.0315 | H306: =ROUND(E306*G306*2,2) -> 4969.77 | I306: =ROUND(H306*1.2359,2) -> 6142.14
A307: Laboratorijas ārsts | B307: 1 | C307: =D307+E307 -> 710 | D307: 646 | E307: 64 | F307: 1649 | G307: =ROUND(F307/167.42,4) -> 9.8495 | H307: =ROUND(E307*G307*2,2) -> 1260.74 | I307: =ROUND(H307*1.2359,2) -> 1558.15
A308: Laboratorijas ārsts | B308: 1 | C308: =D308+E308 -> 409.5 | D308: 407 | E308: 2.5 | F308: 1649 | G308: =ROUND(F308/167.42,4) -> 9.8495 | H308: =ROUND(E308*G308*2,2) -> 49.25 | I308: =ROUND(H308*1.2359,2) -> 60.87
A309: Laboratorijas ārsts | B309: 1 | C309: =D309+E309 -> 600 | D309: 597 | E309: 3 | F309: 1649 | G309: =ROUND(F309/167.42,4) -> 9.8495 | H309: =ROUND(E309*G309*2,2) -> 59.1 | I309: =ROUND(H309*1.2359,2) -> 73.04
A310: Laboratorijas ārsts | B310: 1 | C310: =D310+E310 -> 756.5 | D310: 677 | E310: 79.5 | F310: 1649 | G310: =ROUND(F310/167.42,4) -> 9.8495 | H310: =ROUND(E310*G310*2,2) -> 1566.07 | I310: =ROUND(H310*1.2359,2) -> 1935.51
... A319: Laboratorijas speciālists | B319: 1 | C319: =D319+E319 -> 739.75 | D319: 653 | E319: 86.75 | F319: 1649 | G319: =ROUND(F319/167.42,4) -> 9.8495 | H319: =ROUND(E319*G319*2,2) -> 1708.89 | I319: =ROUND(H319*1.2359,2) -> 2112.02
A320: Laboratorijas speciālists | B320: 1 | C320: =D320+E320 -> 639.83 | D320: 637 | E320: 2.83 | F320: 1649 | G320: =ROUND(F320/167.42,4) -> 9.8495 | H320: =ROUND(E320*G320*2,2) -> 55.75 | I320: =ROUND(H320*1.2077,2) -> 67.33
A321: Laboratorijas speciālists | B321: 1 | C321: =D321+E321 -> 702.25 | D321: 613 | E321: 89.25 | F321: 1649 | G321: =ROUND(F321/167.42,4) -> 9.8495 | H321: =ROUND(E321*G321*2,2) -> 1758.14 | I321: =ROUND(H321*1.2359,2) -> 2172.89
A322: Laboratorijas speciālists | B322: 1 | C322: =D322+E322 -> 676.5 | D322: 557 | E322: 119.5 | F322: 1649 | G322: =ROUND(F322/167.42,4) -> 9.8495 | H322: =ROUND(E322*G322*2,2) -> 2354.03 | I322: =ROUND(H322*1.2359,2) -> 2909.35
A323: Laboratorijas speciālists | B323: 1 | C323: =D323+E323 -> 479 | D323: 398 | E323: 81 | F323: 1649 | G323: =ROUND(F323/167.42,4) -> 9.8495 | H323: =ROUND(E323*G323*2,2) -> 1595.62 | I323: =ROUND(H323*1.2359,2) -> 1972.03
...

Sheet PSKUS_sept
H1: 1.3.Pielikums
A2: Pārskats par darba veicējiem (ārstniecības personām), virs normālā darba laika nostrādātām stundām, apmaksājamām stundām un izdevumiem, kas radušies saistībā ar mērķi ierobežot Covid-19 izplatību
A4: Iestādes nosaukums: VSIA "Paula Stradiņa klīniskā universitātes slimnīca"
A5: Pārskata mēnesis: Septembris
B7: Nodarbināto skaits mēnesī | C7: Apmaksājamais laiks mēnesī, stundas (tai skaitā summētā darba laika ietvaros) | F7: Mēnešalga no kuras rēķina stundas likmi | G7: Stundas likme (aprēķināta atbilstoši mēnešalgai vai darba līgumā noteiktā stundas likme) | H7: Apmaksājamā 100% piemaksa par nostrādātām virsstundām virs normālā darba laika (tai skaitā summētā darba laika ietvaros) | I7: Izdevumi par virsstundām kopā ar VSAOI, EUR
C8: Kopā | D8: līdz normālam darba laikam | E8: virsstundas - virs normālā darba laika, kas saistītas ar darbu ar Covid-19
A10: 1 | B10: 2 | C10: 3=4+5 | D10: 4 | E10: 5 | F10: 6 | G10: 7 | H10: 8 | I10: 9=8 + VSOAI
A11: KOPĀ | B11: =B12+B130+B276+B309 -> 367 | E11: =E12+E130+E276+E309 -> 9633.25 | H11: =H12+H130+H276+H309 -> 159040.76 | I11: =I12+I130+I276+I309 -> 196558.45
A12: Ārsti, zobārsti un funkcionālie speciālisti, kopā, tai skaitā: | B12: =SUM(B13:B129) -> 117 | E12: =SUM(E13:E129) -> 3299.5 | H12: =SUM(H13:H129) -> 71097.83 | I12: =SUM(I13:I129) -> 87869.79
A13: Atbildīgais ārsts anesteziologs, reanimatologs | B13: 1 | C13: =D13+E13 -> 190 | D13: 176 | E13: 14 | G13: 15.06 | H13: =ROUND(G13*E13*2,2) -> 421.68 | I13: =ROUND(H13*1.2359,2) -> 521.15
A14: Atbildīgais ārsts speciālists (diennakts postenis) | B14: 1 | C14: =D14+E14 -> 192 | D14: 176 | E14: 16 | G14: 12.42 | H14: =ROUND(G14*E14*2,2) -> 397.44 | I14: =ROUND(H14*1.2359,2) -> 491.2
A15: Ārsts | B15: 1 | C15: =D15+E15 -> 212 | D15: 176 | E15: 36 | G15: 9.39 | H15: =ROUND(G15*E15*2,2) -> 676.08 | I15: =ROUND(H15*1.2359,2) -> 835.57
A16: Ārsts anesteziologs, reanimatologs | B16: 1 | C16: =D16+E16 -> 219 | D16: 176 | E16: 43 | G16: 14.75 | H16: =ROUND(G16*E16*2,2) -> 1268.5 | I16: =ROUND(H16*1.2359,2) -> 1567.74
A17: Ārsts anesteziologs, reanimatologs | B17: 1 | C17: =D17+E17 -> 195 | D17: 176 | E17: 19 | G17: 10.56 | H17: =ROUND(G17*E17*2,2) -> 401.28 | I17: =ROUND(H17*1.2359,2) -> 495.94
A18: Ārsts anesteziologs, reanimatologs | B18: 1 | C18: =D18+E18 -> 199.6 | D18: 176 | E18: 23.6 | G18: 14.75 | H18: =ROUND(G18*E18*2,2) -> 696.2 | I18: =ROUND(H18*1.2359,2) -> 860.43
A19: Ārsts anesteziologs, reanimatologs | B19: 1 | C19: =D19+E19 -> 183 | D19: 176 | E19: 7 | G19: 10.56 | H19: =ROUND(G19*E19*2,2) -> 147.84 | I19: =ROUND(H19*1.2359,2) -> 182.72
A20: Ārsts anesteziologs, reanimatologs | B20: 1 | C20: =D20+E20 -> 239 | D20: 176 | E20: 63 | G20: 14.75 | H20: =ROUND(G20*E20*2,2) -> 1858.5 | I20: =ROUND(H20*1.2359,2) -> 2296.92
A21: Ārsts anesteziologs, reanimatologs | B21: 1 | C21: =D21+E21 -> 198 | D21: 176 | E21: 22 | G21: 14.61 | H21: =ROUND(G21*E21*2,2) -> 642.84 | I21: =ROUND(H21*1.2359,2) -> 794.49
A22: Ārsts anesteziologs, reanimatologs | B22: 1 | C22: =D22+E22 -> 195.5 | D22: 176 | E22: 19.5 | G22: 14.75 | H22: =ROUND(G22*E22*2,2) -> 575.25 | I22: =ROUND(H22*1.2359,2) -> 710.95
A23: Ārsts anesteziologs, reanimatologs | B23: 1 | C23: =D23+E23 -> 184 | D23: 176 | E23: 8 | G23: 14.46 | H23: =ROUND(G23*E23*2,2) -> 231.36 | I23: =ROUND(H23*1.2359,2) -> 285.94
A24: Ārsts anesteziologs, reanimatologs | B24: 1 | C24: =D24+E24 -> 199 | D24: 176 | E24: 23 | G24: 14.75 | H24: =ROUND(G24*E24*2,2) -> 678.5 | I24: =ROUND(H24*1.2359,2) -> 838.56
... A76: Radiologs (dežūrām) | B76: 1 | C76: =D76+E76 -> 192 | D76: 176 | E76: 16 | G76: 16.75 | H76: =ROUND(G76*E76*2,2) -> 536 | I76: =ROUND(H76*1.2359,2) -> 662.44
A77: Rezidents | B77: 1 | C77: =D77+E77 -> 222 | D77: 176 | E77: 46 | F77: 1572.39 | G77: =F77/167.42 -> 9.3918887 | H77: =ROUND(G77*E77*2,2) -> 864.05 | I77: =ROUND(H77*1.2359,2) -> 1067.88
A78: Rezidents | B78: 1 | C78: =D78+E78 -> 226 | D78: 176 | E78: 50 | F78: 1572.39 | G78: =F78/167.42 -> 9.3918887 | H78: =ROUND(G78*E78*2,2) -> 939.19 | I78: =ROUND(H78*1.2359,2) -> 1160.74
A79: Rezidents | B79: 1 | C79: =D79+E79 -> 224 | D79: 176 | E79: 48 | F79: 1572.39 | G79: =F79/167.42 -> 9.3918887 | H79: =ROUND(G79*E79*2,2) -> 901.62 | I79: =ROUND(H79*1.2359,2) -> 1114.31
A80: Rezidents | B80: 1 | C80: =D80+E80 -> 213 | D80: 176 | E80: 37 | F80: 1572.39 | G80: =F80/167.42 -> 9.3918887 | H80: =ROUND(G80*E80*2,2) -> 695 | I80: =ROUND(H80*1.2359,2) -> 858.95
A81: Rezidents | B81: 1 | C81: =D81+E81 -> 192 | D81: 176 | E81: 16 | F81: 1572.39 | G81: =F81/167.42 -> 9.3918887 | H81: =ROUND(G81*E81*2,2) -> 300.54 | I81: =ROUND(H81*1.2359,2) -> 371.44
A82: Rezidents | B82: 1 | C82: =D82+E82 -> 188 | D82: 176 | E82: 12 | F82: 1572.39 | G82: =F82/167.42 -> 9.3918887 | H82: =ROUND(G82*E82*2,2) -> 225.41 | I82: =ROUND(H82*1.2359,2) -> 278.58
A83: Rezidents | B83: 1 | C83: =D83+E83 -> 200 | D83: 176 | E83: 24 | F83: 1429.45 | G83: =F83/167.42 -> 8.5381078 | H83: =ROUND(G83*E83*2,2) -> 409.83 | I83: =ROUND(H83*1.2359,2) -> 506.51
A84: Rezidents | B84: 1 | C84: =D84+E84 -> 206 | D84: 176 | E84: 30 | F84: 1572.39 | G84: =F84/167.42 -> 9.3918887 | H84: =ROUND(G84*E84*2,2) -> 563.51 | I84: =ROUND(H84*1.2359,2) -> 696.44
A85: Rezidents | B85: 1 | C85: =D85+E85 -> 185 | D85: 176 | E85: 9 | F85: 1572.39 | G85: =F85/167.42 -> 9.3918887 | H85: =ROUND(G85*E85*2,2) -> 169.05 | I85: =ROUND(H85*1.2359,2) -> 208.93
A86: Rezidents | B86: 1 | C86: =D86+E86 -> 217 | D86: 176 | E86: 41 | F86: 1429.45 | G86: =F86/167.42 -> 8.5381078 | H86: =ROUND(G86*E86*2,2) -> 700.12 | I86: =ROUND(H86*1.2359,2) -> 865.28
A87: Rezidents | B87: 1 | C87: =D87+E87 -> 229 | D87: 176 | E87: 53 | F87: 1572.39 | G87: =F87/167.42 -> 9.3918887 | H87: =ROUND(G87*E87*2,2) -> 995.54 | I87: =ROUND(H87*1.2359,2) -> 1230.39
A88: Rezidents | B88: 1 | C88: =D88+E88 -> 214 | D88: 176 | E88: 38 | F88: 1572.39 | G88: =F88/167.42 -> 9.3918887 | H88: =ROUND(G88*E88*2,2) -> 713.78 | I88: =ROUND(H88*1.2359,2) -> 882.16
... A126: Rezidents | B126: 1 | C126: =D126+E126 -> 226 | D126: 176 | E126: 50 | F126: 1429.45 | G126: =F126/167.42 -> 8.5381078 | H126: =ROUND(G126*E126*2,2) -> 853.81 | I126: =ROUND(H126*1.2359,2) -> 1055.22
A127: Virsārsts intensīvajā terapijā | B127: 1 | C127: =D127+E127 -> 224 | D127: 176 | E127: 48 | G127: 17.53 | H127: =ROUND(G127*E127*2,2) -> 1682.88 | I127: =ROUND(H127*1.2359,2) -> 2079.87
A128: Virsārsts nefrologs | B128: 1 | C128: =D128+E128 -> 212 | D128: 176 | E128: 36 | G128: 18.14 | H128: =ROUND(G128*E128*2,2) -> 1306.08 | I128: =ROUND(H128*1.2359,2) -> 1614.18
A129: Virsārsts pneimonologs | B129: 1 | C129: =D129+E129 -> 184 | D129: 176 | E129: 8 | G129: 17.79 | H129: =ROUND(G129*E129*2,2) -> 284.64 | I129: =ROUND(H129*1.2359,2) -> 351.79
A130: Ārstniecības un pacientu aprūpes personas un funkcionālo speciālistu asistenti, kopā, tai skaitā: | B130: =SUM(B131:B275) -> 145 | E130: =SUM(E131:E275) -> 4080 | H130: =SUM(H131:H275) -> 64509.96 | I130: =SUM(I131:I275) -> 79727.93
A131: Ambulatorā dienesta ārsta palīgs | B131: 1 | C131: =D131+E131 -> 200 | D131: 176 | E131: 24 | G131: 7.45 | H131: =ROUND(G131*E131*2,2) -> 357.6 | I131: =ROUND(H131*1.2359,2) -> 441.96
A132: Ambulatorā dienesta ārsta palīgs | B132: 1 | C132: =D132+E132 -> 208 | D132: 176 | E132: 32 | G132: 7.2 | H132: =ROUND(G132*E132*2,2) -> 460.8 | I132: =ROUND(H132*1.2359,2) -> 569.5
A133: Ambulatorā dienesta ārsta palīgs | B133: 1 | C133: =D133+E133 -> 192 | D133: 176 | E133: 16 | G133: 7.2 | H133: =ROUND(G133*E133*2,2) -> 230.4 | I133: =ROUND(H133*1.2359,2) -> 284.75
A134: Ambulatorās aprūpes ārsta palīgs | B134: 1 | C134: =D134+E134 -> 225 | D134: 176 | E134: 49 | G134: 9.29 | H134: =ROUND(G134*E134*2,2) -> 910.42 | I134: =ROUND(H134*1.2359,2) -> 1125.19
A135: Ambulatorās aprūpes māsa | B135: 1 | C135: =D135+E135 -> 184 | D135: 176 | E135: 8 | G135: 9.47 | H135: =ROUND(G135*E135*2,2) -> 151.52 | I135: =ROUND(H135*1.2359,2) -> 187.26
A136: Ambulatorās aprūpes māsa | B136: 1 | C136: =D136+E136 -> 208 | D136: 176 | E136: 32 | G136: 9.47 | H136: =ROUND(G136*E136*2,2) -> 606.08 | I136: =ROUND(H136*1.2359,2) -> 749.05
A137: Ambulatorās aprūpes māsa | B137: 1 | C137: =D137+E137 -> 224 | D137: 176 | E137: 48 | G137: 9.47 | H137: =ROUND(G137*E137*2,2) -> 909.12 | I137: =ROUND(H137*1.2359,2) -> 1123.58
A138: Ambulatorās aprūpes māsa | B138: 1 | C138: =D138+E138 -> 184 | D138: 176 | E138: 8 | G138: 9.47 | H138: =ROUND(G138*E138*2,2) -> 151.52 | I138: =ROUND(H138*1.2359,2) -> 187.26
A139: Anestēzijas, intensīvās un neatliekamās aprūpes māsa | B139: 1 | C139: =D139+E139 -> 200 | D139: 176 | E139: 24 | G139: 9.47 | H139: =ROUND(G139*E139*2,2) -> 454.56 | I139: =ROUND(H139*1.2359,2) -> 561.79
A140: Anestēzijas, intensīvās un neatliekamās aprūpes māsa | B140: 1 | C140: =D140+E140 -> 216 | D140: 176 | E140: 40 | G140: 9.47 | H140: =ROUND(G140*E140*2,2) -> 757.6 | I140: =ROUND(H140*1.2359,2) -> 936.32
A141: Anestēzijas, intensīvās un neatliekamās aprūpes māsa | B141: 1 | C141: =D141+E141 -> 208 | D141: 176 | E141: 32 | G141: 9.47 | H141: =ROUND(G141*E141*2,2) -> 606.08 | I141: =ROUND(H141*1.2359,2) -> 749.05
A142: Anestēzijas, intensīvās un neatliekamās aprūpes māsa | B142: 1 | C142: =D142+E142 -> 240 | D142: 176 | E142: 64 | G142: 9.47 | H142: =ROUND(G142*E142*2,2) -> 1212.16 | I142: =ROUND(H142*1.2359,2) -> 1498.11
... A275: Vecmāte | B275: 1 | C275: =D275+E275 -> 180 | D275: 176 | E275: 4 | G275: 6.3 | H275: =ROUND(G275*E275*2,2) -> 50.4 | I275: =ROUND(H275*1.2359,2) -> 62.29
A276: Ārstniecības un pacientu aprūpes atbalsta personas, māsu palīgi, zobārstu asistenti, kopā, tai skaitā: | B276: =SUM(B277:B308) -> 32 | E276: =SUM(E277:E308) -> 821 | H276: =SUM(H277:H308) -> 9114.9 | I276: =SUM(I277:I308) -> 11265.08
A277: Māsas palīgs | B277: 1 | C277: =D277+E277 -> 208 | D277: 176 | E277: 32 | G277: 4.65 | H277: =ROUND(G277*E277*2,2) -> 297.6 | I277: =ROUND(H277*1.2359,2) -> 367.8
A278: Māsas palīgs | B278: 1 | C278: =D278+E278 -> 200 | D278: 176 | E278: 24 | G278: 6.09 | H278: =ROUND(G278*E278*2,2) -> 292.32 | I278: =ROUND(H278*1.2359,2) -> 361.28
A279: Māsas palīgs | B279: 1 | C279: =D279+E279 -> 208 | D279: 176 | E279: 32 | G279: 6.09 | H279: =ROUND(G279*E279*2,2) -> 389.76 | I279: =ROUND(H279*1.2359,2) -> 481.7
A280: Māsas palīgs | B280: 1 | C280: =D280+E280 -> 208 | D280: 176 | E280: 32 | G280: 6.18 | H280: =ROUND(G280*E280*2,2) -> 395.52 | I280: =ROUND(H280*1.2359,2) -> 488.82
A281: Māsas palīgs | B281: 1 | C281: =D281+E281 -> 180 | D281: 176 | E281: 4 | G281: 4.65 | H281: =ROUND(G281*E281*2,2) -> 37.2 | I281: =ROUND(H281*1.2359,2) -> 45.98
A282: Māsas palīgs | B282: 1 | C282: =D282+E282 -> 192 | D282: 176 | E282: 16 | G282: 4.77 | H282: =ROUND(G282*E282*2,2) -> 152.64 | I282: =ROUND(H282*1.2359,2) -> 188.65
A283: Māsas palīgs | B283: 1 | C283: =D283+E283 -> 224 | D283: 176 | E283: 48 | G283: 6.09 | H283: =ROUND(G283*E283*2,2) -> 584.64 | I283: =ROUND(H283*1.2359,2) -> 722.56
A284: Māsas palīgs | B284: 1 | C284: =D284+E284 -> 192 | D284: 176 | E284: 16 | G284: 4.65 | H284: =ROUND(G284*E284*2,2) -> 148.8 | I284: =ROUND(H284*1.2359,2) -> 183.9
A285: Māsas palīgs | B285: 1 | C285: =D285+E285 -> 224 | D285: 176 | E285: 48 | G285: 6.09 | H285: =ROUND(G285*E285*2,2) -> 584.64 | I285: =ROUND(H285*1.2359,2) -> 722.56
A286: Māsas palīgs | B286: 1 | C286: =D286+E286 -> 192 | D286: 176 | E286: 16 | G286: 6.18 | H286: =ROUND(G286*E286*2,2) -> 197.76 | I286: =ROUND(H286*1.2359,2) -> 244.41
A287: Māsas palīgs | B287: 1 | C287: =D287+E287 -> 208 | D287: 176 | E287: 32 | G287: 4.65 | H287: =ROUND(G287*E287*2,2) -> 297.6 | I287: =ROUND(H287*1.2359,2) -> 367.8
A288: Māsas palīgs | B288: 1 | C288: =D288+E288 -> 216 | D288: 176 | E288: 40 | G288: 6.09 | H288: =ROUND(G288*E288*2,2) -> 487.2 | I288: =ROUND(H288*1.2359,2) -> 602.13
... A308: Māsas palīgs neatliekamajā palīdzībā | B308: 1 | C308: =D308+E308 -> 222 | D308: 176 | E308: 46 | G308: 4.75 | H308: =ROUND(G308*E308*2,2) -> 437 | I308: =ROUND(H308*1.2359,2) -> 540.09
A309: Pārējie darbinieki, kuri tieši iesaistīti darbā ar Covid-19, kopā, tai skaitā: | B309: =SUM(B310:B382) -> 73 | E309: =SUM(E310:E382) -> 1432.75 | H309: =SUM(H310:H382) -> 14318.07 | I309: =SUM(I310:I382) -> 17695.65
A310: Atbildīgais sanitārs-transportētājs | B310: 1 | C310: =D310+E310 -> 208 | D310: 176 | E310: 32 | G310: 4.75 | H310: =ROUND(G310*E310*2,2) -> 304 | I310: =ROUND(H310*1.2359,2) -> 375.71
A311: Atbildīgais sanitārs-transportētājs | B311: 1 | C311: =D311+E311 -> 192 | D311: 176 | E311: 16 | G311: 4.75 | H311: =ROUND(G311*E311*2,2) -> 152 | I311: =ROUND(H311*1.2359,2) -> 187.86
A312: Atbildīgais sanitārs-transportētājs | B312: 1 | C312: =D312+E312 -> 208 | D312: 176 | E312: 32 | G312: 4.75 | H312: =ROUND(G312*E312*2,2) -> 304 | I312: =ROUND(H312*1.2359,2) -> 375.71
A313: Jaunākais māsas palīgs | B313: 1 | C313: =D313+E313 -> 208 | D313: 176 | E313: 32 | G313: 5.49 | H313: =ROUND(G313*E313*2,2) -> 351.36 | I313: =ROUND(H313*1.2359,2) -> 434.25
A314: Jaunākais māsas palīgs | B314: 1 | C314: =D314+E314 -> 252 | D314: 176 | E314: 76 | G314: 5.49 | H314: =ROUND(G314*E314*2,2) -> 834.48 | I314: =ROUND(H314*1.2359,2) -> 1031.33
A315: Jaunākais māsas palīgs | B315: 1 | C315: =D315+E315 -> 208 | D315: 176 | E315: 32 | G315: 4.3 | H315: =ROUND(G315*E315*2,2) -> 275.2 | I315: =ROUND(H315*1.2359,2) -> 340.12
A316: Jaunākais māsas palīgs | B316: 1 | C316: =D316+E316 -> 192 | D316: 176 | E316: 16 | G316: 5.49 | H316: =ROUND(G316*E316*2,2) -> 175.68 | I316: =ROUND(H316*1.2359,2) -> 217.12
A317: Jaunākais māsas palīgs | B317: 1 | C317: =D317+E317 -> 192 | D317: 176 | E317: 16 | G317: 5.49 | H317: =ROUND(G317*E317*2,2) -> 175.68 | I317: =ROUND(H317*1.2359,2) -> 217.12
A318: Jaunākais māsas palīgs | B318: 1 | C318: =D318+E318 -> 200 | D318: 176 | E318: 24 | G318: 5.49 | H318: =ROUND(G318*E318*2,2) -> 263.52 | I318: =ROUND(H318*1.2359,2) -> 325.68
A319: Jaunākais māsas palīgs | B319: 1 | C319: =D319+E319 -> 178 | D319: 176 | E319: 2 | G319: 4.3 | H319: =ROUND(G319*E319*2,2) -> 17.2 | I319: =ROUND(H319*1.2359,2) -> 21.26
A320: Jaunākais māsas palīgs | B320: 1 | C320: =D320+E320 -> 188 | D320: 176 | E320: 12 | G320: 4.3 | H320: =ROUND(G320*E320*2,2) -> 103.2 | I320: =ROUND(H320*1.2359,2) -> 127.54
A321: Jaunākais māsas palīgs | B321: 1 | C321: =D321+E321 -> 184 | D321: 176 | E321: 8 | G321: 5.49 | H321: =ROUND(G321*E321*2,2) -> 87.84 | I321: =ROUND(H321*1.2359,2) -> 108.56
... A382: Vecākais uzkopšanas speciālists | B382: 1 | C382: =D382+E382 -> 180 | D382: 176 | E382: 4 | G382: 3.67 | H382: =ROUND(G382*E382*2,2) -> 29.36 | I382: =ROUND(H382*1.2359,2) -> 36.29

Sheet PSKUS_okt
H1: 1.4.Pielikums
A2: Pārskats par darba veicējiem (ārstniecības personām), virs normālā darba laika nostrādātām stundām, apmaksājamām stundām un izdevumiem, kas radušies saistībā ar mērķi ierobežot Covid-19 izplatību
A4: Iestādes nosaukums: VSIA "Paula Stradiņa klīniskā universitātes slimnīca"
A5: Pārskata mēnesis: Oktobris
B7: Nodarbināto skaits mēnesī | C7: Apmaksājamais laiks mēnesī, stundas (tai skaitā summētā darba laika ietvaros) | F7: Mēnešalga no kuras rēķina stundas likmi | G7: Stundas likme (aprēķināta atbilstoši mēnešalgai vai darba līgumā noteiktā stundas likme) | H7: Apmaksājamā 100% piemaksa par nostrādātām virsstundām virs normālā darba laika (tai skaitā summētā darba laika ietvaros) | I7: Izdevumi par virsstundām kopā ar VSAOI, EUR
C8: Kopā | D8: līdz normālam darba laikam | E8: virsstundas - virs normālā darba laika, kas saistītas ar darbu ar Covid-19
A10: 1 | B10: 2 | C10: 3=4+5 | D10: 4 | E10: 5 | F10: 6 | G10: 7 | H10: 8 | I10: 9=8 + VSOAI
A11: KOPĀ | B11: =SUM(B12,B222,B475,B539) -> 682 | E11: =E12+E222+E475+E539 -> 23487.2 | H11: =H12+H222+H475+H539 -> 372350.7 | I11: =I12+I222+I475+I539 -> 460188.22
A12: Ārsti, zobārsti un funkcionālie speciālisti, kopā, tai skaitā: | B12: =COUNTA(A13:A221) -> 209 | E12: =SUM(E13:E221) -> 6833.2 | H12: =SUM(H13:H221) -> 148591.71 | I12: =SUM(I13:I221) -> 183644.43
A13: Atbildīgais ārsts anesteziologs, reanimatologs | B13: 1 | C13: =D13+E13 -> 218 | D13: 168 | E13: 50 | G13: 15.06 | H13: =ROUND(G13*E13*2,2) -> 1506 | I13: =ROUND(H13*1.2359,2) -> 1861.27
A14: Atbildīgais ārsts speciālists (diennakts postenis) | B14: 1 | C14: =D14+E14 -> 204 | D14: 168 | E14: 36 | G14: 12.42 | H14: =ROUND(G14*E14*2,2) -> 894.24 | I14: =ROUND(H14*1.2359,2) -> 1105.19
A15: Atbildīgais ārsts speciālists (diennakts postenis) | B15: 1 | C15: =D15+E15 -> 192 | D15: 168 | E15: 24 | G15: 12.42 | H15: =ROUND(G15*E15*2,2) -> 596.16 | I15: =ROUND(H15*1.2359,2) -> 736.79
A16: Atbildīgais ārsts speciālists (diennakts postenis) | B16: 1 | C16: =D16+E16 -> 192 | D16: 168 | E16: 24 | G16: 12.42 | H16: =ROUND(G16*E16*2,2) -> 596.16 | I16: =ROUND(H16*1.2359,2) -> 736.79
A17: Ārsts | B17: 1 | C17: =D17+E17 -> 184 | D17: 168 | E17: 16 | G17: 8.54 | H17: =ROUND(G17*E17*2,2) -> 273.28 | I17: =ROUND(H17*1.2359,2) -> 337.75
A18: Ārsts | B18: 1 | C18: =D18+E18 -> 178 | D18: 168 | E18: 10 | G18: 9.39 | H18: =ROUND(G18*E18*2,2) -> 187.8 | I18: =ROUND(H18*1.2359,2) -> 232.1
A19: Ārsts | B19: 1 | C19: =D19+E19 -> 176 | D19: 168 | E19: 8 | G19: 8.54 | H19: =ROUND(G19*E19*2,2) -> 136.64 | I19: =ROUND(H19*1.2359,2) -> 168.87
A20: Ārsts anesteziologs, reanimatologs | B20: 1 | C20: =D20+E20 -> 253 | D20: 168 | E20: 85 | G20: 14.75 | H20: =ROUND(G20*E20*2,2) -> 2507.5 | I20: =ROUND(H20*1.2359,2) -> 3099.02
A21: Ārsts anesteziologs, reanimatologs | B21: 1 | C21: =D21+E21 -> 212 | D21: 168 | E21: 44 | G21: 10.56 | H21: =ROUND(G21*E21*2,2) -> 929.28 | I21: =ROUND(H21*1.2359,2) -> 1148.5
A22: Ārsts anesteziologs, reanimatologs | B22: 1 | C22: =D22+E22 -> 180 | D22: 168 | E22: 12 | G22: 10.56 | H22: =ROUND(G22*E22*2,2) -> 253.44 | I22: =ROUND(H22*1.2359,2) -> 313.23
A23: Ārsts anesteziologs, reanimatologs | B23: 1 | C23: =D23+E23 -> 177 | D23: 168 | E23: 9 | G23: 10.56 | H23: =ROUND(G23*E23*2,2) -> 190.08 | I23: =ROUND(H23*1.2359,2) -> 234.92
A24: Ārsts anesteziologs, reanimatologs | B24: 1 | C24: =D24+E24 -> 177 | D24: 168 | E24: 9 | G24: 10.56 | H24: =ROUND(G24*E24*2,2) -> 190.08 | I24: =ROUND(H24*1.2359,2) -> 234.92
... A116: Radiologs (dežūrām) | B116: 1 | C116: =D116+E116 -> 172 | D116: 168 | E116: 4 | G116: 16.75 | H116: =ROUND(G116*E116*2,2) -> 134 | I116: =ROUND(H116*1.2359,2) -> 165.61
A117: Rezidents | B117: 1 | C117: =D117+E117 -> 177 | D117: 168 | E117: 9 | F117: 1572.39 | G117: =F117/167.42 -> 9.3918887 | H117: =ROUND(G117*E117*2,2) -> 169.05 | I117: =ROUND(H117*1.2359,2) -> 208.93
A118: Rezidents | B118: 1 | C118: =D118+E118 -> 197 | D118: 168 | E118: 29 | F118: 1572.39 | G118: =F118/167.42 -> 9.3918887 | H118: =ROUND(G118*E118*2,2) -> 544.73 | I118: =ROUND(H118*1.2359,2) -> 673.23
A119: Rezidents | B119: 1 | C119: =D119+E119 -> 209 | D119: 168 | E119: 41 | F119: 1572.39 | G119: =F119/167.42 -> 9.3918887 | H119: =ROUND(G119*E119*2,2) -> 770.13 | I119: =ROUND(H119*1.2359,2) -> 951.8
A120: Rezidents | B120: 1 | C120: =D120+E120 -> 181 | D120: 168 | E120: 13 | F120: 1572.39 | G120: =F120/167.42 -> 9.3918887 | H120: =ROUND(G120*E120*2,2) -> 244.19 | I120: =ROUND(H120*1.2359,2) -> 301.79
A121: Rezidents | B121: 1 | C121: =D121+E121 -> 173 | D121: 168 | E121: 5 | F121: 1572.39 | G121: =F121/167.42 -> 9.3918887 | H121: =ROUND(G121*E121*2,2) -> 93.92 | I121: =ROUND(H121*1.2359,2) -> 116.08
A122: Rezidents | B122: 1 | C122: =D122+E122 -> 232 | D122: 168 | E122: 64 | F122: 1572.39 | G122: =F122/167.42 -> 9.3918887 | H122: =ROUND(G122*E122*2,2) -> 1202.16 | I122: =ROUND(H122*1.2359,2) -> 1485.75
A123: Rezidents | B123: 1 | C123: =D123+E123 -> 208 | D123: 168 | E123: 40 | F123: 1572.39 | G123: =F123/167.42 -> 9.3918887 | H123: =ROUND(G123*E123*2,2) -> 751.35 | I123: =ROUND(H123*1.2359,2) -> 928.59
A124: Rezidents | B124: 1 | C124: =D124+E124 -> 206 | D124: 168 | E124: 38 | F124: 1572.39 | G124: =F124/167.42 -> 9.3918887 | H124: =ROUND(G124*E124*2,2) -> 713.78 | I124: =ROUND(H124*1.2359,2) -> 882.16
A125: Rezidents | B125: 1 | C125: =D125+E125 -> 186 | D125: 168 | E125: 18 | F125: 1572.39 | G125: =F125/167.42 -> 9.3918887 | H125: =ROUND(G125*E125*2,2) -> 338.11 | I125: =ROUND(H125*1.2359,2) -> 417.87
A126: Rezidents | B126: 1 | C126: =D126+E126 -> 217 | D126: 168 | E126: 49 | F126: 1572.39 | G126: =F126/167.42 -> 9.3918887 | H126: =ROUND(G126*E126*2,2) -> 920.41 | I126: =ROUND(H126*1.2359,2) -> 1137.53
A127: Rezidents | B127: 1 | C127: =D127+E127 -> 184 | D127: 168 | E127: 16 | F127: 1572.39 | G127: =F127/167.42 -> 9.3918887 | H127: =ROUND(G127*E127*2,2) -> 300.54 | I127: =ROUND(H127*1.2359,2) -> 371.44
A128: Rezidents | B128: 1 | C128: =D128+E128 -> 218 | D128: 168 | E128: 50 | F128: 1572.39 | G128: =F128/167.42 -> 9.3918887 | H128: =ROUND(G128*E128*2,2) -> 939.19 | I128: =ROUND(H128*1.2359,2) -> 1160.74
... A214: Rezidents | B214: 1 | C214: =D214+E214 -> 169 | D214: 168 | E214: 1 | F214: 1429.45 | G214: =F214/167.42 -> 8.5381078 | H214: =ROUND(G214*E214*2,2) -> 17.08 | I214: =ROUND(H214*1.2359,2) -> 21.11
A215: Virsārsts endokrinologs | B215: 1 | C215: =D215+E215 -> 202 | D215: 168 | E215: 34 | G215: 17.97 | H215: =ROUND(G215*E215*2,2) -> 1221.96 | I215: =ROUND(H215*1.2359,2) -> 1510.22
A216: Virsārsts endokrinologs | B216: 1 | C216: =D216+E216 -> 224 | D216: 168 | E216: 56 | G216: 17.79 | H216: =ROUND(G216*E216*2,2) -> 1992.48 | I216: =ROUND(H216*1.2359,2) -> 2462.51
A217: Virsārsts gastroenterologs | B217: 1 | C217: =D217+E217 -> 216 | D217: 168 | E217: 48 | G217: 18.14 | H217: =ROUND(G217*E217*2,2) -> 1741.44 | I217: =ROUND(H217*1.2359,2) -> 2152.25
A218: Virsārsts gastroenterologs-endoskopists | B218: 1 | C218: =D218+E218 -> 192 | D218: 168 | E218: 24 | G218: 17.79 | H218: =ROUND(G218*E218*2,2) -> 853.92 | I218: =ROUND(H218*1.2359,2) -> 1055.36
A219: Virsārsts intensīvajā terapijā | B219: 1 | C219: =D219+E219 -> 200 | D219: 168 | E219: 32 | G219: 17.53 | H219: =ROUND(G219*E219*2,2) -> 1121.92 | I219: =ROUND(H219*1.2359,2) -> 1386.58
A220: Virsārsts nefrologs | B220: 1 | C220: =D220+E220 -> 208 | D220: 168 | E220: 40 | G220: 18.14 | H220: =ROUND(G220*E220*2,2) -> 1451.2 | I220: =ROUND(H220*1.2359,2) -> 1793.54
A221: Virsārsts pneimonologs | B221: 1 | C221: =D221+E221 -> 184 | D221: 168 | E221: 16 | G221: 17.79 | H221: =ROUND(G221*E221*2,2) -> 569.28 | I221: =ROUND(H221*1.2359,2) -> 703.57
A222: Ārstniecības un pacientu aprūpes personas un funkcionālo speciālistu asistenti, kopā, tai skaitā: | B222: =SUM(B223:B474) -> 252 | E222: =SUM(E223:E474) -> 9940.5 | H222: =SUM(H223:H474) -> 155884.99 | I222: =SUM(I223:I474) -> 192658.34
A223: Ambulatorā dienesta ārsta palīgs | B223: 1 | C223: =D223+E223 -> 183.5 | D223: 168 | E223: 15.5 | G223: 7.45 | H223: =ROUND(G223*E223*2,2) -> 230.95 | I223: =ROUND(H223*1.2359,2) -> 285.43
A224: Ambulatorā dienesta ārsta palīgs | B224: 1 | C224: =D224+E224 -> 196 | D224: 168 | E224: 28 | G224: 7.2 | H224: =ROUND(G224*E224*2,2) -> 403.2 | I224: =ROUND(H224*1.2359,2) -> 498.31
A225: Ambulatorās aprūpes ārsta palīgs | B225: 1 | C225: =D225+E225 -> 260 | D225: 168 | E225: 92 | G225: 9.29 | H225: =ROUND(G225*E225*2,2) -> 1709.36 | I225: =ROUND(H225*1.2359,2) -> 2112.6
A226: Ambulatorās aprūpes māsa | B226: 1 | C226: =D226+E226 -> 249 | D226: 168 | E226: 81 | G226: 9.47 | H226: =ROUND(G226*E226*2,2) -> 1534.14 | I226: =ROUND(H226*1.2359,2) -> 1896.04
A227: Ambulatorās aprūpes māsa | B227: 1 | C227: =D227+E227 -> 224 | D227: 168 | E227: 56 | G227: 9.47 | H227: =ROUND(G227*E227*2,2) -> 1060.64 | I227: =ROUND(H227*1.2359,2) -> 1310.84
A228: Ambulatorās aprūpes māsa | B228: 1 | C228: =D228+E228 -> 217 | D228: 168 | E228: 49 | G228: 9.47 | H228: =ROUND(G228*E228*2,2) -> 928.06 | I228: =ROUND(H228*1.2359,2) -> 1146.99
A229: Anestēzijas, intensīvās un neatliekamās aprūpes māsa | B229: 1 | C229: =D229+E229 -> 240 | D229: 168 | E229: 72 | G229: 9.47 | H229: =ROUND(G229*E229*2,2) -> 1363.68 | I229: =ROUND(H229*1.2359,2) -> 1685.37
A230: Anestēzijas, intensīvās un neatliekamās aprūpes māsa | B230: 1 | C230: =D230+E230 -> 224 | D230: 168 | E230: 56 | G230: 7.45 | H230: =ROUND(G230*E230*2,2) -> 834.4 | I230: =ROUND(H230*1.2359,2) -> 1031.23
A231: Anestēzijas, intensīvās un neatliekamās aprūpes māsa | B231: 1 | C231: =D231+E231 -> 201 | D231: 168 | E231: 33 | G231: 9.47 | H231: =ROUND(G231*E231*2,2) -> 625.02 | I231: =ROUND(H231*1.2359,2) -> 772.46
A232: Anestēzijas, intensīvās un neatliekamās aprūpes māsa | B232: 1 | C232: =D232+E232 -> 216 | D232: 168 | E232: 48 | G232: 9.47 | H232: =ROUND(G232*E232*2,2) -> 909.12 | I232: =ROUND(H232*1.2359,2) -> 1123.58
A233: Anestēzijas, intensīvās un neatliekamās aprūpes māsa | B233: 1 | C233: =D233+E233 -> 200 | D233: 168 | E233: 32 | G233: 9.47 | H233: =ROUND(G233*E233*2,2) -> 606.08 | I233: =ROUND(H233*1.2359,2) -> 749.05
A234: Anestēzijas, intensīvās un neatliekamās aprūpes māsa | B234: 1 | C234: =D234+E234 -> 258 | D234: 168 | E234: 90 | G234: 7.45 | H234: =ROUND(G234*E234*2,2) -> 1341 | I234: =ROUND(H234*1.2359,2) -> 1657.34
... A474: Vecmāte | B474: 1 | C474: =D474+E474 -> 192 | D474: 168 | E474: 24 | G474: 6.3 | H474: =ROUND(G474*E474*2,2) -> 302.4 | I474: =ROUND(H474*1.2359,2) -> 373.74
A475: Ārstniecības un pacientu aprūpes atbalsta personas, māsu palīgi, zobārstu asistenti, kopā, tai skaitā: | B475: =SUM(B476:B538) -> 63 | E475: =SUM(E476:E538) -> 2339 | H475: =SUM(H476:H538) -> 25070.56 | I475: =SUM(I476:I538) -> 30984.67
A476: Māsas palīgs | B476: 1 | C476: =D476+E476 -> 204 | D476: 168 | E476: 36 | G476: 4.65 | H476: =ROUND(G476*E476*2,2) -> 334.8 | I476: =ROUND(H476*1.2359,2) -> 413.78
A477: Māsas palīgs | B477: 1 | C477: =D477+E477 -> 220 | D477: 168 | E477: 52 | G477: 4.65 | H477: =ROUND(G477*E477*2,2) -> 483.6 | I477: =ROUND(H477*1.2359,2) -> 597.68
A478: Māsas palīgs | B478: 1 | C478: =D478+E478 -> 200 | D478: 168 | E478: 32 | G478: 6.09 | H478: =ROUND(G478*E478*2,2) -> 389.76 | I478: =ROUND(H478*1.2359,2) -> 481.7
A479: Māsas palīgs | B479: 1 | C479: =D479+E479 -> 176 | D479: 168 | E479: 8 | G479: 6.18 | H479: =ROUND(G479*E479*2,2) -> 98.88 | I479: =ROUND(H479*1.2359,2) -> 122.21
A480: Māsas palīgs | B480: 1 | C480: =D480+E480 -> 176 | D480: 168 | E480: 8 | G480: 6.09 | H480: =ROUND(G480*E480*2,2) -> 97.44 | I480: =ROUND(H480*1.2359,2) -> 120.43
A481: Māsas palīgs | B481: 1 | C481: =D481+E481 -> 200 | D481: 168 | E481: 32 | G481: 6.09 | H481: =ROUND(G481*E481*2,2) -> 389.76 | I481: =ROUND(H481*1.2359,2) -> 481.7
A482: Māsas palīgs | B482: 1 | C482: =D482+E482 -> 184 | D482: 168 | E482: 16 | G482: 6.09 | H482: =ROUND(G482*E482*2,2) -> 194.88 | I482: =ROUND(H482*1.2359,2) -> 240.85
A483: Māsas palīgs | B483: 1 | C483: =D483+E483 -> 193 | D483: 168 | E483: 25 | G483: 6.09 | H483: =ROUND(G483*E483*2,2) -> 304.5 | I483: =ROUND(H483*1.2359,2) -> 376.33
A484: Māsas palīgs | B484: 1 | C484: =D484+E484 -> 200 | D484: 168 | E484: 32 | G484: 4.65 | H484: =ROUND(G484*E484*2,2) -> 297.6 | I484: =ROUND(H484*1.2359,2) -> 367.8
A485: Māsas palīgs | B485: 1 | C485: =D485+E485 -> 200 | D485: 168 | E485: 32 | G485: 6.18 | H485: =ROUND(G485*E485*2,2) -> 395.52 | I485: =ROUND(H485*1.2359,2) -> 488.82
A486: Māsas palīgs | B486: 1 | C486: =D486+E486 -> 192 | D486: 168 | E486: 24 | G486: 4.65 | H486: =ROUND(G486*E486*2,2) -> 223.2 | I486: =ROUND(H486*1.2359,2) -> 275.85
A487: Māsas palīgs | B487: 1 | C487: =D487+E487 -> 208 | D487: 168 | E487: 40 | G487: 4.77 | H487: =ROUND(G487*E487*2,2) -> 381.6 | I487: =ROUND(H487*1.2359,2) -> 471.62
... A538: Māsas palīgs neatliekamajā palīdzībā | B538: 1 | C538: =D538+E538 -> 216 | D538: 168 | E538: 48 | G538: 4.75 | H538: =ROUND(G538*E538*2,2) -> 456 | I538: =ROUND(H538*1.2359,2) -> 563.57
A539: Pārējie darbinieki, kuri tieši iesaistīti darbā ar Covid-19, kopā, tai skaitā: | B539: =SUM(B540:B697) -> 158 | E539: =SUM(E540:E697) -> 4374.5 | H539: =SUM(H540:H697) -> 42803.44 | I539: =SUM(I540:I697) -> 52900.78
A540: Atbildīgais sanitārs-transportētājs | B540: 1 | C540: =D540+E540 -> 193 | D540: 168 | E540: 25 | G540: 4.75 | H540: =ROUND(G540*E540*2,2) -> 237.5 | I540: =ROUND(H540*1.2359,2) -> 293.53
A541: Atbildīgais sanitārs-transportētājs | B541: 1 | C541: =D541+E541 -> 232 | D541: 168 | E541: 64 | G541: 4.75 | H541: =ROUND(G541*E541*2,2) -> 608 | I541: =ROUND(H541*1.2359,2) -> 751.43
A542: Atbildīgais sanitārs-transportētājs | B542: 1 | C542: =D542+E542 -> 208 | D542: 168 | E542: 40 | G542: 4.75 | H542: =ROUND(G542*E542*2,2) -> 380 | I542: =ROUND(H542*1.2359,2) -> 469.64
A543: Atbildīgais sanitārs-transportētājs | B543: 1 | C543: =D543+E543 -> 200 | D543: 168 | E543: 32 | G543: 4.75 | H543: =ROUND(G543*E543*2,2) -> 304 | I543: =ROUND(H543*1.2359,2) -> 375.71
A544: Automobiļa vadītājs | B544: 1 | C544: =D544+E544 -> 184 | D544: 168 | E544: 16 | G544: 4.2 | H544: =ROUND(G544*E544*2,2) -> 134.4 | I544: =ROUND(H544*1.2359,2) -> 166.1
A545: Automobiļa vadītājs | B545: 1 | C545: =D545+E545 -> 220 | D545: 168 | E545: 52 | G545: 4.2 | H545: =ROUND(G545*E545*2,2) -> 436.8 | I545: =ROUND(H545*1.2359,2) -> 539.84
A546: Automobiļa vadītājs | B546: 1 | C546: =D546+E546 -> 169 | D546: 168 | E546: 1 | G546: 4.2 | H546: =ROUND(G546*E546*2,2) -> 8.4 | I546: =ROUND(H546*1.2359,2) -> 10.38
A547: Automobiļa vadītājs | B547: 1 | C547: =D547+E547 -> 192 | D547: 168 | E547: 24 | G547: 4.2 | H547: =ROUND(G547*E547*2,2) -> 201.6 | I547: =ROUND(H547*1.2359,2) -> 249.16
A548: Automobiļa vadītājs | B548: 1 | C548: =D548+E548 -> 188 | D548: 168 | E548: 20 | G548: 4.2 | H548: =ROUND(G548*E548*2,2) -> 168 | I548: =ROUND(H548*1.2359,2) -> 207.63
A549: Elektriķis | B549: 1 | C549: =D549+E549 -> 186 | D549: 168 | E549: 18 | G549: 5.33 | H549: =ROUND(G549*E549*2,2) -> 191.88 | I549: =ROUND(H549*1.2359,2) -> 237.14
A550: Jaunākais māsas palīgs | B550: 1 | C550: =D550+E550 -> 201 | D550: 168 | E550: 33 | G550: 4.3 | H550: =ROUND(G550*E550*2,2) -> 283.8 | I550: =ROUND(H550*1.2359,2) -> 350.75
A551: Jaunākais māsas palīgs | B551: 1 | C551: =D551+E551 -> 184 | D551: 168 | E551: 16 | G551: 5.49 | H551: =ROUND(G551*E551*2,2) -> 175.68 | I551: =ROUND(H551*1.2359,2) -> 217.12
... A697: Vecākais uzkopšanas speciālists | B697: 1 | C697: =D697+E697 -> 175 | D697: 168 | E697: 7 | G697: 3.67 | H697: =ROUND(G697*E697*2,2) -> 51.38 | I697: =ROUND(H697*1.2359,2) -> 63.5

Sheet PSKUS_nov
H1: 1.5.Pielikums
A2: Pārskats par darba veicējiem (ārstniecības personām), virs normālā darba laika nostrādātām stundām, apmaksājamām stundām un izdevumiem, kas radušies saistībā ar mērķi ierobežot Covid-19 izplatību
A4: Iestādes nosaukums: VSIA "Paula Stradiņa klīniskā universitātes slimnīca"
A5: Pārskata mēnesis: Novembris
B7: Nodarbināto skaits mēnesī | C7: Apmaksājamais laiks mēnesī, stundas (tai skaitā summētā darba laika ietvaros) | F7: Mēnešalga no kuras rēķina stundas likmi | G7: Stundas likme (aprēķināta atbilstoši mēnešalgai vai darba līgumā noteiktā stundas likme) | H7: Apmaksājamā 100% piemaksa par nostrādātām virsstundām virs normālā darba laika (tai skaitā summētā darba laika ietvaros) | I7: Izdevumi par virsstundām kopā ar VSAOI, EUR
C8: Kopā | D8: līdz normālam darba laikam | E8: virsstundas - virs normālā darba laika, kas saistītas ar darbu ar Covid-19
A10: 1 | B10: 2 | C10: 3=4+5 | D10: 4 | E10: 5 | F10: 6 | G10: 7 | H10: 8 | I10: 9=8 + VSOAI
A11: KOPĀ | B11: =B12+B232+B483+B558 -> 661 | E11: =E12+E232+E483+E558 -> 18401.8 | H11: =H12+H232+H483+H558 -> 322940.73 | I11: =I12+I232+I483+I558 -> 399122.38
A12: Ārsti, zobārsti un funkcionālie speciālisti, kopā, tai skaitā: | B12: =SUM(B13:B231) -> 219 | E12: =SUM(E13:E231) -> 7559.8 | H12: =SUM(H13:H231) -> 167982.73 | I12: =SUM(I13:I231) -> 207609.87
A13: Atbildīgais ārsts anesteziologs, reanimatologs | B13: 1 | C13: =D13+E13 -> 190 | D13: 167 | E13: 23 | G13: 15.21 | H13: =ROUND(G13*E13*2,2) -> 699.66 | I13: =ROUND(H13*1.2359,2) -> 864.71
A14: Atbildīgais ārsts anesteziologs, reanimatologs | B14: 1 | C14: =D14+E14 -> 254 | D14: 167 | E14: 87 | G14: 15.06 | H14: =ROUND(G14*E14*2,2) -> 2620.44 | I14: =ROUND(H14*1.2359,2) -> 3238.6
A15: Atbildīgais ārsts speciālists (diennakts postenis) | B15: 1 | C15: =D15+E15 -> 204 | D15: 167 | E15: 37 | G15: 12.42 | H15: =ROUND(G15*E15*2,2) -> 919.08 | I15: =ROUND(H15*1.2359,2) -> 1135.89
A16: Atbildīgais ārsts speciālists (diennakts postenis) | B16: 1 | C16: =D16+E16 -> 196 | D16: 167 | E16: 29 | G16: 12.42 | H16: =ROUND(G16*E16*2,2) -> 720.36 | I16: =ROUND(H16*1.2359,2) -> 890.29
A17: Atbildīgais ārsts speciālists (diennakts postenis) | B17: 1 | C17: =D17+E17 -> 187 | D17: 167 | E17: 20 | G17: 12.42 | H17: =ROUND(G17*E17*2,2) -> 496.8 | I17: =ROUND(H17*1.2359,2) -> 614
A18: Ārsts | B18: 1 | C18: =D18+E18 -> 243 | D18: 167 | E18: 76 | G18: 9.39 | H18: =ROUND(G18*E18*2,2) -> 1427.28 | I18: =ROUND(H18*1.2359,2) -> 1763.98
A19: Ārsts | B19: 1 | C19: =D19+E19 -> 183 | D19: 167 | E19: 16 | G19: 9.39 | H19: =ROUND(G19*E19*2,2) -> 300.48 | I19: =ROUND(H19*1.2359,2) -> 371.36
A20: Ārsts | B20: 1 | C20: =D20+E20 -> 174 | D20: 167 | E20: 7 | G20: 9.39 | H20: =ROUND(G20*E20*2,2) -> 131.46 | I20: =ROUND(H20*1.2359,2) -> 162.47
A21: Ārsts | B21: 1 | C21: =D21+E21 -> 199 | D21: 167 | E21: 32 | G21: 8.54 | H21: =ROUND(G21*E21*2,2) -> 546.56 | I21: =ROUND(H21*1.2359,2) -> 675.49
A22: Ārsts | B22: 1 | C22: =D22+E22 -> 223 | D22: 167 | E22: 56 | G22: 9.39 | H22: =ROUND(G22*E22*2,2) -> 1051.68 | I22: =ROUND(H22*1.2359,2) -> 1299.77
A23: Ārsts anesteziologs, reanimatologs | B23: 1 | C23: =D23+E23 -> 236 | D23: 167 | E23: 69 | G23: 14.75 | H23: =ROUND(G23*E23*2,2) -> 2035.5 | I23: =ROUND(H23*1.2359,2) -> 2515.67
A24: Ārsts anesteziologs, reanimatologs | B24: 1 | C24: =D24+E24 -> 192 | D24: 167 | E24: 25 | G24: 10.56 | H24: =ROUND(G24*E24*2,2) -> 528 | I24: =ROUND(H24*1.2359,2) -> 652.56
... A124: Radiologs (dežūrām) | B124: 1 | C124: =D124+E124 -> 196 | D124: 167 | E124: 29 | G124: 16.75 | H124: =ROUND(G124*E124*2,2) -> 971.5 | I124: =ROUND(H124*1.2359,2) -> 1200.68
A125: Rezidents | B125: 1 | C125: =D125+E125 -> 168 | D125: 167 | E125: 1 | F125: 1572.39 | G125: =F125/167.42 -> 9.3918887 | H125: =ROUND(G125*E125*2,2) -> 18.78 | I125: =ROUND(H125*1.2359,2) -> 23.21
A126: Rezidents | B126: 1 | C126: =D126+E126 -> 196 | D126: 167 | E126: 29 | F126: 1572.39 | G126: =F126/167.42 -> 9.3918887 | H126: =ROUND(G126*E126*2,2) -> 544.73 | I126: =ROUND(H126*1.2359,2) -> 673.23
A127: Rezidents | B127: 1 | C127: =D127+E127 -> 190 | D127: 167 | E127: 23 | F127: 1572.39 | G127: =F127/167.42 -> 9.3918887 | H127: =ROUND(G127*E127*2,2) -> 432.03 | I127: =ROUND(H127*1.2359,2) -> 533.95
A128: Rezidents | B128: 1 | C128: =D128+E128 -> 232 | D128: 167 | E128: 65 | F128: 1572.39 | G128: =F128/167.42 -> 9.3918887 | H128: =ROUND(G128*E128*2,2) -> 1220.95 | I128: =ROUND(H128*1.2359,2) -> 1508.97
A129: Rezidents | B129: 1 | C129: =D129+E129 -> 199 | D129: 167 | E129: 32 | F129: 1572.39 | G129: =F129/167.42 -> 9.3918887 | H129: =ROUND(G129*E129*2,2) -> 601.08 | I129: =ROUND(H129*1.2359,2) -> 742.87
A130: Rezidents | B130: 1 | C130: =D130+E130 -> 209 | D130: 167 | E130: 42 | F130: 1572.39 | G130: =F130/167.42 -> 9.3918887 | H130: =ROUND(G130*E130*2,2) -> 788.92 | I130: =ROUND(H130*1.2359,2) -> 975.03
A131: Rezidents | B131: 1 | C131: =D131+E131 -> 215 | D131: 167 | E131: 48 | F131: 1572.39 | G131: =F131/167.42 -> 9.3918887 | H131: =ROUND(G131*E131*2,2) -> 901.62 | I131: =ROUND(H131*1.2359,2) -> 1114.31
A132: Rezidents | B132: 1 | C132: =D132+E132 -> 183 | D132: 167 | E132: 16 | F132: 1572.39 | G132: =F132/167.42 -> 9.3918887 | H132: =ROUND(G132*E132*2,2) -> 300.54 | I132: =ROUND(H132*1.2359,2) -> 371.44
A133: Rezidents | B133: 1 | C133: =D133+E133 -> 221 | D133: 167 | E133: 54 | F133: 1572.39 | G133: =F133/167.42 -> 9.3918887 | H133: =ROUND(G133*E133*2,2) -> 1014.32 | I133: =ROUND(H133*1.2359,2) -> 1253.6
A134: Rezidents | B134: 1 | C134: =D134+E134 -> 185 | D134: 167 | E134: 18 | F134: 1572.39 | G134: =F134/167.42 -> 9.3918887 | H134: =ROUND(G134*E134*2,2) -> 338.11 | I134: =ROUND(H134*1.2359,2) -> 417.87
A135: Rezidents | B135: 1 | C135: =D135+E135 -> 231 | D135: 167 | E135: 64 | F135: 1572.39 | G135: =F135/167.42 -> 9.3918887 | H135: =ROUND(G135*E135*2,2) -> 1202.16 | I135: =ROUND(H135*1.2359,2) -> 1485.75
A136: Rezidents | B136: 1 | C136: =D136+E136 -> 217 | D136: 167 | E136: 50 | F136: 1572.39 | G136: =F136/167.42 -> 9.3918887 | H136: =ROUND(G136*E136*2,2) -> 939.19 | I136: =ROUND(H136*1.2359,2) -> 1160.74
... A222: Rezidents | B222: 1 | C222: =D222+E222 -> 180 | D222: 167 | E222: 13 | F222: 1429.45 | G222: =F222/167.42 -> 8.5381078 | H222: =ROUND(G222*E222*2,2) -> 221.99 | I222: =ROUND(H222*1.2359,2) -> 274.36
A223: Virsārsts endokrinologs | B223: 1 | C223: =D223+E223 -> 249 | D223: 167 | E223: 82 | G223: 17.97 | H223: =ROUND(G223*E223*2,2) -> 2947.08 | I223: =ROUND(H223*1.2359,2) -> 3642.3
A224: Virsārsts endokrinologs | B224: 1 | C224: =D224+E224 -> 207 | D224: 167 | E224: 40 | G224: 17.79 | H224: =ROUND(G224*E224*2,2) -> 1423.2 | I224: =ROUND(H224*1.2359,2) -> 1758.93
A225: Virsārsts endokrinologs | B225: 1 | C225: =D225+E225 -> 217 | D225: 167 | E225: 50 | G225: 17.79 | H225: =ROUND(G225*E225*2,2) -> 1779 | I225: =ROUND(H225*1.2359,2) -> 2198.67
A226: Virsārsts gastroenterologs | B226: 1 | C226: =D226+E226 -> 200 | D226: 167 | E226: 33 | G226: 18.14 | H226: =ROUND(G226*E226*2,2) -> 1197.24 | I226: =ROUND(H226*1.2359,2) -> 1479.67
A227: Virsārsts gastroenterologs-endoskopists | B227: 1 | C227: =D227+E227 -> 215 | D227: 167 | E227: 48 | G227: 17.79 | H227: =ROUND(G227*E227*2,2) -> 1707.84 | I227: =ROUND(H227*1.2359,2) -> 2110.72
A228: Virsārsts intensīvajā terapijā | B228: 1 | C228: =D228+E228 -> 203 | D228: 167 | E228: 36 | G228: 17.53 | H228: =ROUND(G228*E228*2,2) -> 1262.16 | I228: =ROUND(H228*1.2359,2) -> 1559.9
A229: Virsārsts internists | B229: 1 | C229: =D229+E229 -> 179 | D229: 167 | E229: 12 | G229: 18.14 | H229: =ROUND(G229*E229*2,2) -> 435.36 | I229: =ROUND(H229*1.2359,2) -> 538.06
A230: Virsārsts nefrologs | B230: 1 | C230: =D230+E230 -> 200 | D230: 167 | E230: 33 | G230: 18.14 | H230: =ROUND(G230*E230*2,2) -> 1197.24 | I230: =ROUND(H230*1.2359,2) -> 1479.67
A231: Virsārsts torakālais ķirurgs | B231: 1 | C231: =D231+E231 -> 216 | D231: 167 | E231: 49 | G231: 19.57 | H231: =ROUND(G231*E231*2,2) -> 1917.86 | I231: =ROUND(H231*1.2359,2) -> 2370.28
A232: Ārstniecības un pacientu aprūpes personas un funkcionālo speciālistu asistenti, kopā, tai skaitā: | B232: =SUM(B233:B482) -> 250 | E232: =SUM(E233:E482) -> 6750 | H232: =SUM(H233:H482) -> 109645.94 | I232: =SUM(I233:I482) -> 135511.38
A233: Ārsta epidemiologa palīgs | B233: 1 | C233: =D233+E233 -> 237 | D233: 167 | E233: 70 | F233: 1242 | G233: =F233/D233 -> 7.4371257 | H233: =ROUND(G233*E233*2,2) -> 1041.2 | I233: =ROUND(H233*1.2359,2) -> 1286.82
A234: Virsmāsa | B234: 1 | C234: =D234+E234 -> 173 | D234: 167 | E234: 6 | F234: 2116.58 | G234: =F234/D234 -> 12.674132 | H234: =ROUND(G234*E234*2,2) -> 152.09 | I234: =ROUND(H234*1.2359,2) -> 187.97
A235: Virsmāsas vietnieks | B235: 1 | C235: =D235+E235 -> 168 | D235: 167 | E235: 1 | F235: 1945 | G235: =F235/D235 -> 11.646707 | H235: =ROUND(G235*E235*2,2) -> 23.29 | I235: =ROUND(H235*1.2359,2) -> 28.78
A236: Ambulatorā dienesta ārsta palīgs | B236: 1 | C236: =D236+E236 -> 224.5 | D236: 167 | E236: 57.5 | G236: 7.45 | H236: =ROUND(G236*E236*2,2) -> 856.75 | I236: =ROUND(H236*1.2359,2) -> 1058.86
A237: Ambulatorā dienesta ārsta palīgs | B237: 1 | C237: =D237+E237 -> 240 | D237: 167 | E237: 73 | G237: 7.2 | H237: =ROUND(G237*E237*2,2) -> 1051.2 | I237: =ROUND(H237*1.2359,2) -> 1299.18
A238: Ambulatorā dienesta ārsta palīgs | B238: 1 | C238: =D238+E238 -> 216 | D238: 167 | E238: 49 | G238: 7.14 | H238: =ROUND(G238*E238*2,2) -> 699.72 | I238: =ROUND(H238*1.2359,2) -> 864.78
A239: Ambulatorā dienesta ārsta palīgs | B239: 1 | C239: =D239+E239 -> 200 | D239: 167 | E239: 33 | G239: 7.2 | H239: =ROUND(G239*E239*2,2) -> 475.2 | I239: =ROUND(H239*1.2359,2) -> 587.3
A240: Ambulatorās aprūpes ārsta palīgs | B240: 1 | C240: =D240+E240 -> 190 | D240: 167 | E240: 23 | G240: 9.29 | H240: =ROUND(G240*E240*2,2) -> 427.34 | I240: =ROUND(H240*1.2359,2) -> 528.15
A241: Ambulatorās aprūpes māsa | B241: 1 | C241: =D241+E241 -> 216 | D241: 167 | E241: 49 | G241: 9.47 | H241: =ROUND(G241*E241*2,2) -> 928.06 | I241: =ROUND(H241*1.2359,2) -> 1146.99
A242: Ambulatorās aprūpes māsa | B242: 1 | C242: =D242+E242 -> 224 | D242: 167 | E242: 57 | G242: 9.47 | H242: =ROUND(G242*E242*2,2) -> 1079.58 | I242: =ROUND(H242*1.2359,2) -> 1334.25
A243: Ambulatorās aprūpes māsa | B243: 1 | C243: =D243+E243 -> 192 | D243: 167 | E243: 25 | G243: 9.47 | H243: =ROUND(G243*E243*2,2) -> 473.5 | I243: =ROUND(H243*1.2359,2) -> 585.2
A244: Anestēzijas, intensīvās un neatliekamās aprūpes māsa | B244: 1 | C244: =D244+E244 -> 168 | D244: 167 | E244: 1 | G244: 7.45 | H244: =ROUND(G244*E244*2,2) -> 14.9 | I244: =ROUND(H244*1.2359,2) -> 18.41
A245: Anestēzijas, intensīvās un neatliekamās aprūpes māsa | B245: 1 | C245: =D245+E245 -> 240 | D245: 167 | E245: 73 | G245: 9.47 | H245: =ROUND(G245*E245*2,2) -> 1382.62 | I245: =ROUND(H245*1.2359,2) -> 1708.78
A246: Anestēzijas, intensīvās un neatliekamās aprūpes māsa | B246: 1 | C246: =D246+E246 -> 183 | D246: 167 | E246: 16 | G246: 7.45 | H246: =ROUND(G246*E246*2,2) -> 238.4 | I246: =ROUND(H246*1.2359,2) -> 294.64
A247: Anestēzijas, intensīvās un neatliekamās aprūpes māsa | B247: 1 | C247: =D247+E247 -> 168 | D247: 167 | E247: 1 | G247: 9.47 | H247: =ROUND(G247*E247*2,2) -> 18.94 | I247: =ROUND(H247*1.2359,2) -> 23.41
... A482: Vecmāte | B482: 1 | C482: =D482+E482 -> 168 | D482: 167 | E482: 1 | G482: 6.3 | H482: =ROUND(G482*E482*2,2) -> 12.6 | I482: =ROUND(H482*1.2359,2) -> 15.57
A483: Ārstniecības un pacientu aprūpes atbalsta personas, māsu palīgi, zobārstu asistenti, kopā, tai skaitā: | B483: =SUM(B484:B557) -> 74 | E483: =SUM(E484:E557) -> 2021 | H483: =SUM(H484:H557) -> 22057.04 | I483: =SUM(I484:I557) -> 27260.28
A484: Māsas palīgs | B484: 1 | C484: =D484+E484 -> 168 | D484: 167 | E484: 1 | G484: 4.81 | H484: =ROUND(G484*E484*2,2) -> 9.62 | I484: =ROUND(H484*1.2359,2) -> 11.89
A485: Māsas palīgs | B485: 1 | C485: =D485+E485 -> 168 | D485: 167 | E485: 1 | G485: 4.65 | H485: =ROUND(G485*E485*2,2) -> 9.3 | I485: =ROUND(H485*1.2359,2) -> 11.49
A486: Māsas palīgs | B486: 1 | C486: =D486+E486 -> 200 | D486: 167 | E486: 33 | G486: 4.65 | H486: =ROUND(G486*E486*2,2) -> 306.9 | I486: =ROUND(H486*1.2359,2) -> 379.3
A487: Māsas palīgs | B487: 1 | C487: =D487+E487 -> 192 | D487: 167 | E487: 25 | G487: 6.09 | H487: =ROUND(G487*E487*2,2) -> 304.5 | I487: =ROUND(H487*1.2359,2) -> 376.33
A488: Māsas palīgs | B488: 1 | C488: =D488+E488 -> 168 | D488: 167 | E488: 1 | G488: 6.18 | H488: =ROUND(G488*E488*2,2) -> 12.36 | I488: =ROUND(H488*1.2359,2) -> 15.28
A489: Māsas palīgs | B489: 1 | C489: =D489+E489 -> 216 | D489: 167 | E489: 49 | G489: 6.09 | H489: =ROUND(G489*E489*2,2) -> 596.82 | I489: =ROUND(H489*1.2359,2) -> 737.61
A490: Māsas palīgs | B490: 1 | C490: =D490+E490 -> 232 | D490: 167 | E490: 65 | G490: 6.09 | H490: =ROUND(G490*E490*2,2) -> 791.7 | I490: =ROUND(H490*1.2359,2) -> 978.46
A491: Māsas palīgs | B491: 1 | C491: =D491+E491 -> 192 | D491: 167 | E491: 25 | G491: 4.65 | H491: =ROUND(G491*E491*2,2) -> 232.5 | I491: =ROUND(H491*1.2359,2) -> 287.35
A492: Māsas palīgs | B492: 1 | C492: =D492+E492 -> 176 | D492: 167 | E492: 9 | G492: 4.65 | H492: =ROUND(G492*E492*2,2) -> 83.7 | I492: =ROUND(H492*1.2359,2) -> 103.44
A493: Māsas palīgs | B493: 1 | C493: =D493+E493 -> 216 | D493: 167 | E493: 49 | G493: 6.18 | H493: =ROUND(G493*E493*2,2) -> 605.64 | I493: =ROUND(H493*1.2359,2) -> 748.51
A494: Māsas palīgs | B494: 1 | C494: =D494+E494 -> 168 | D494: 167 | E494: 1 | G494: 4.65 | H494: =ROUND(G494*E494*2,2) -> 9.3 | I494: =ROUND(H494*1.2359,2) -> 11.49
A495: Māsas palīgs | B495: 1 | C495: =D495+E495 -> 176 | D495: 167 | E495: 9 | G495: 6.09 | H495: =ROUND(G495*E495*2,2) -> 109.62 | I495: =ROUND(H495*1.2359,2) -> 135.48
... A557: Māsas palīgs neatliekamajā palīdzībā | B557: 1 | C557: =D557+E557 -> 172 | D557: 167 | E557: 5 | G557: 4.75 | H557: =ROUND(G557*E557*2,2) -> 47.5 | I557: =ROUND(H557*1.2359,2) -> 58.71
A558: Pārējie darbinieki, kuri tieši iesaistīti darbā ar Covid-19, kopā, tai skaitā: | B558: =SUM(B559:B676) -> 118 | E558: =SUM(E559:E676) -> 2071 | H558: =SUM(H559:H676) -> 23255.02 | I558: =SUM(I559:I676) -> 28740.85
A559: Atbildīgais sanitārs-transportētājs | B559: 1 | C559: =D559+E559 -> 184 | D559: 167 | E559: 17 | G559: 4.75 | H559: =ROUND(G559*E559*2,2) -> 161.5 | I559: =ROUND(H559*1.2359,2) -> 199.6
A560: Atbildīgais sanitārs-transportētājs | B560: 1 | C560: =D560+E560 -> 188 | D560: 167 | E560: 21 | G560: 4.75 | H560: =ROUND(G560*E560*2,2) -> 199.5 | I560: =ROUND(H560*1.2359,2) -> 246.56
A561: Atbildīgais sanitārs-transportētājs | B561: 1 | C561: =D561+E561 -> 176 | D561: 167 | E561: 9 | G561: 4.75 | H561: =ROUND(G561*E561*2,2) -> 85.5 | I561: =ROUND(H561*1.2359,2) -> 105.67
A562: Atbildīgais sanitārs-transportētājs | B562: 1 | C562: =D562+E562 -> 172 | D562: 167 | E562: 5 | G562: 4.75 | H562: =ROUND(G562*E562*2,2) -> 47.5 | I562: =ROUND(H562*1.2359,2) -> 58.71
A563: Jaunākais māsas palīgs | B563: 1 | C563: =D563+E563 -> 168 | D563: 167 | E563: 1 | G563: 4.3 | H563: =ROUND(G563*E563*2,2) -> 8.6 | I563: =ROUND(H563*1.2359,2) -> 10.63
A564: Jaunākais māsas palīgs | B564: 1 | C564: =D564+E564 -> 200 | D564: 167 | E564: 33 | G564: 5.49 | H564: =ROUND(G564*E564*2,2) -> 362.34 | I564: =ROUND(H564*1.2359,2) -> 447.82
A565: Jaunākais māsas palīgs | B565: 1 | C565: =D565+E565 -> 204 | D565: 167 | E565: 37 | G565: 4.3 | H565: =ROUND(G565*E565*2,2) -> 318.2 | I565: =ROUND(H565*1.2359,2) -> 393.26
A566: Jaunākais māsas palīgs | B566: 1 | C566: =D566+E566 -> 200 | D566: 167 | E566: 33 | G566: 5.49 | H566: =ROUND(G566*E566*2,2) -> 362.34 | I566: =ROUND(H566*1.2359,2) -> 447.82
A567: Jaunākais māsas palīgs | B567: 1 | C567: =D567+E567 -> 192 | D567: 167 | E567: 25 | G567: 5.49 | H567: =ROUND(G567*E567*2,2) -> 274.5 | I567: =ROUND(H567*1.2359,2) -> 339.25
A568: Jaunākais māsas palīgs | B568: 1 | C568: =D568+E568 -> 192 | D568: 167 | E568: 25 | G568: 4.3 | H568: =ROUND(G568*E568*2,2) -> 215 | I568: =ROUND(H568*1.2359,2) -> 265.72
A569: Jaunākais māsas palīgs | B569: 1 | C569: =D569+E569 -> 207 | D569: 167 | E569: 40 | G569: 5.49 | H569: =ROUND(G569*E569*2,2) -> 439.2 | I569: =ROUND(H569*1.2359,2) -> 542.81
A570: Jaunākais māsas palīgs | B570: 1 | C570: =D570+E570 -> 176 | D570: 167 | E570: 9 | G570: 5.49 | H570: =ROUND(G570*E570*2,2) -> 98.82 | I570: =ROUND(H570*1.2359,2) -> 122.13
... A666: Sanitārs-transportētājs | B666: 1 | C666: =D666+E666 -> 176 | D666: 167 | E666: 9 | G666: 4.4 | H666: =ROUND(G666*E666*2,2) -> 79.2 | I666: =ROUND(H666*1.2359,2) -> 97.88
A667: Atlases un apmācību speciālists | B667: 1 | C667: =D667+E667 -> 177.5 | D667: 167 | E667: 10.5 | F667: 1550 | G667: =F667/D667 -> 9.2814371 | H667: =ROUND(G667*E667*2,2) -> 194.91 | I667: =ROUND(H667*1.2359,2) -> 240.89
A668: Atlases un apmācību speciālists | B668: 1 | C668: =D668+E668 -> 185.5 | D668: 167 | E668: 18.5 | F668: 1550 | G668: =F668/D668 -> 9.2814371 | H668: =ROUND(G668*E668*2,2) -> 343.41 | I668: =ROUND(H668*1.2359,2) -> 424.42
A669: Darbu vadītājs loģistikas un autotransporta jomā | B669: 1 | C669: =D669+E669 -> 203 | D669: 167 | E669: 36 | F669: 1100 | G669: =F669/D669 -> 6.5868263 | H669: =ROUND(G669*E669*2,2) -> 474.25 | I669: =ROUND(H669*1.2359,2) -> 586.13
A670: Jaunākais medicīnas iekārtu inženieris / medicīnas fiziķis | B670: 1 | C670: =D670+E670 -> 172 | D670: 167 | E670: 5 | F670: 1500 | G670: =F670/D670 -> 8.9820359 | H670: =ROUND(G670*E670*2,2) -> 89.82 | I670: =ROUND(H670*1.2359,2) -> 111.01
A671: Nodaļas vadītājs | B671: 1 | C671: =D671+E671 -> 172 | D671: 167 | E671: 5 | F671: 2500 | G671: =F671/D671 -> 14.97006 | H671: =ROUND(G671*E671*2,2) -> 149.7 | I671: =ROUND(H671*1.2359,2) -> 185.01
A672: Vadītāja palīgs | B672: 1 | C672: =D672+E672 -> 185 | D672: 167 | E672: 18 | F672: 1000 | G672: =F672/D672 -> 5.988024 | H672: =ROUND(G672*E672*2,2) -> 215.57 | I672: =ROUND(H672*1.2359,2) -> 266.42
A673: Vecākais medicīnas iekārtu inženieris | B673: 1 | C673: =D673+E673 -> 172 | D673: 167 | E673: 5 | F673: 1600 | G673: =F673/D673 -> 9.5808383 | H673: =ROUND(G673*E673*2,2) -> 95.81 | I673: =ROUND(H673*1.2359,2) -> 118.41
A674: Vecākais personāla speciālists | B674: 1 | C674: =D674+E674 -> 182 | D674: 167 | E674: 15 | F674: 1600 | G674: =F674/D674 -> 9.5808383 | H674: =ROUND(G674*E674*2,2) -> 287.43 | I674: =ROUND(H674*1.2359,2) -> 355.23
A675: Vecākais veselības aprūpes datu analītiķis | B675: 1 | C675: =D675+E675 -> 191 | D675: 167 | E675: 24 | F675: 1500 | G675: =F675/D675 -> 8.9820359 | H675: =ROUND(G675*E675*2,2) -> 431.14 | I675: =ROUND(H675*1.2359,2) -> 532.85
A676: Veselības aprūpes datu analītiķis | B676: 1 | C676: =D676+E676 -> 242 | D676: 167 | E676: 75 | F676: 1360 | G676: =F676/D676 -> 8.1437126 | H676: =ROUND(G676*E676*2,2) -> 1221.56 | I676: =ROUND(H676*1.2359,2) -> 1509.73

Sheet PSKUS_dec
H1: 1.6.Pielikums
A2: Pārskats par darba veicējiem (ārstniecības personām), virs normālā darba laika nostrādātām stundām, apmaksājamām stundām un izdevumiem, kas radušies saistībā ar mērķi ierobežot Covid-19 izplatību
A4: Iestādes nosaukums: VSIA "Paula Stradiņa klīniskā universitātes slimnīca"
A5: Pārskata mēnesis: Decembris
B7: Nodarbināto skaits mēnesī | C7: Apmaksājamais laiks mēnesī, stundas (tai skaitā summētā darba laika ietvaros) | F7: Mēnešalga no kuras rēķina stundas likmi | G7: Stundas likme (aprēķināta atbilstoši mēnešalgai vai darba līgumā noteiktā stundas likme) | H7: Apmaksājamā 100% piemaksa par nostrādātām virsstundām virs normālā darba laika (tai skaitā summētā darba laika ietvaros) | I7: Izdevumi par virsstundām kopā ar VSAOI, EUR
C8: Kopā | D8: līdz normālam darba laikam | E8: virsstundas - virs normālā darba laika, kas saistītas ar darbu ar Covid-19
A10: 1 | B10: 2 | C10: 3=4+5 | D10: 4 | E10: 5 | F10: 6 | G10: 7 | H10: 8 | I10: 9=8 + VSOAI
A11: KOPĀ | B11: =SUM(B12,B174,B336,B369) -> 439 | E11: =E12+E174+E336+E369 -> 11387 | H11: =H12+H174+H336+H369 -> 202941.57 | I11: =I12+I174+I336+I369 -> 250815.43
A12: Ārsti, zobārsti un funkcionālie speciālisti, kopā, tai skaitā: | B12: =COUNTA(A13:A173) -> 161 | E12: =SUM(E13:E173) -> 5221 | H12: =SUM(H13:H173) -> 113267.34 | I12: =SUM(I13:I173) -> 139987.08
A13: Atbildīgais ārsts speciālists (diennakts postenis) | B13: 1 | C13: =D13+E13 -> 191 | D13: 166 | E13: 25 | G13: 12.42 | H13: =ROUND(G13*E13*2,2) -> 621 | I13: =ROUND(H13*1.2359,2) -> 767.49
A14: Atbildīgais ārsts speciālists (diennakts postenis) | B14: 1 | C14: =D14+E14 -> 168 | D14: 166 | E14: 2 | G14: 12.42 | H14: =ROUND(G14*E14*2,2) -> 49.68 | I14: =ROUND(H14*1.2359,2) -> 61.4
A15: Ārsts | B15: 1 | C15: =D15+E15 -> 190 | D15: 166 | E15: 24 | G15: 9.39 | H15: =ROUND(G15*E15*2,2) -> 450.72 | I15: =ROUND(H15*1.2359,2) -> 557.04
A16: Ārsts | B16: 1 | C16: =D16+E16 -> 176 | D16: 166 | E16: 10 | G16: 8.54 | H16: =ROUND(G16*E16*2,2) -> 170.8 | I16: =ROUND(H16*1.2359,2) -> 211.09
A17: Ārsts | B17: 1 | C17: =D17+E17 -> 184 | D17: 166 | E17: 18 | G17: 9.39 | H17: =ROUND(G17*E17*2,2) -> 338.04 | I17: =ROUND(H17*1.2359,2) -> 417.78
A18: Ārsts | B18: 1 | C18: =D18+E18 -> 208 | D18: 166 | E18: 42 | G18: 9.39 | H18: =ROUND(G18*E18*2,2) -> 788.76 | I18: =ROUND(H18*1.2359,2) -> 974.83
A19: Ārsts anesteziologs, reanimatologs | B19: 1 | C19: =D19+E19 -> 234 | D19: 166 | E19: 68 | G19: 14.75 | H19: =ROUND(G19*E19*2,2) -> 2006 | I19: =ROUND(H19*1.2359,2) -> 2479.22
A20: Ārsts anesteziologs, reanimatologs | B20: 1 | C20: =D20+E20 -> 189.7 | D20: 166 | E20: 23.7 | G20: 14.75 | H20: =ROUND(G20*E20*2,2) -> 699.15 | I20: =ROUND(H20*1.2359,2) -> 864.08
A21: Ārsts anesteziologs, reanimatologs | B21: 1 | C21: =D21+E21 -> 179 | D21: 166 | E21: 13 | G21: 10.56 | H21: =ROUND(G21*E21*2,2) -> 274.56 | I21: =ROUND(H21*1.2359,2) -> 339.33
A22: Ārsts anesteziologs, reanimatologs | B22: 1 | C22: =D22+E22 -> 235 | D22: 166 | E22: 69 | G22: 14.75 | H22: =ROUND(G22*E22*2,2) -> 2035.5 | I22: =ROUND(H22*1.2359,2) -> 2515.67
A23: Ārsts anesteziologs, reanimatologs | B23: 1 | C23: =D23+E23 -> 175 | D23: 166 | E23: 9 | G23: 14.75 | H23: =ROUND(G23*E23*2,2) -> 265.5 | I23: =ROUND(H23*1.2359,2) -> 328.13
A24: Ārsts anesteziologs, reanimatologs | B24: 1 | C24: =D24+E24 -> 191 | D24: 166 | E24: 25 | G24: 14.25 | H24: =ROUND(G24*E24*2,2) -> 712.5 | I24: =ROUND(H24*1.2359,2) -> 880.58
... A98: Radiologs (dežūrām) | B98: 1 | C98: =D98+E98 -> 235 | D98: 166 | E98: 69 | G98: 16.75 | H98: =ROUND(G98*E98*2,2) -> 2311.5 | I98: =ROUND(H98*1.2359,2) -> 2856.78
A99: Rezidents | B99: 1 | C99: =D99+E99 -> 187 | D99: 166 | E99: 21 | F99: 1572.39 | G99: =F99/167.42 -> 9.3918887 | H99: =ROUND(G99*E99*2,2) -> 394.46 | I99: =ROUND(H99*1.2359,2) -> 487.51
A100: Rezidents | B100: 1 | C100: =D100+E100 -> 189 | D100: 166 | E100: 23 | F100: 1572.39 | G100: =F100/167.42 -> 9.3918887 | H100: =ROUND(G100*E100*2,2) -> 432.03 | I100: =ROUND(H100*1.2359,2) -> 533.95
A101: Rezidents | B101: 1 | C101: =D101+E101 -> 176 | D101: 166 | E101: 10 | F101: 1572.39 | G101: =F101/167.42 -> 9.3918887 | H101: =ROUND(G101*E101*2,2) -> 187.84 | I101: =ROUND(H101*1.2359,2) -> 232.15
A102: Rezidents | B102: 1 | C102: =D102+E102 -> 234 | D102: 166 | E102: 68 | F102: 1572.39 | G102: =F102/167.42 -> 9.3918887 | H102: =ROUND(G102*E102*2,2) -> 1277.3 | I102: =ROUND(H102*1.2359,2) -> 1578.62
A103: Rezidents | B103: 1 | C103: =D103+E103 -> 214 | D103: 166 | E103: 48 | F103: 1572.39 | G103: =F103/167.42 -> 9.3918887 | H103: =ROUND(G103*E103*2,2) -> 901.62 | I103: =ROUND(H103*1.2359,2) -> 1114.31
A104: Rezidents | B104: 1 | C104: =D104+E104 -> 178 | D104: 166 | E104: 12 | F104: 1572.39 | G104: =F104/167.42 -> 9.3918887 | H104: =ROUND(G104*E104*2,2) -> 225.41 | I104: =ROUND(H104*1.2359,2) -> 278.58
A105: Rezidents | B105: 1 | C105: =D105+E105 -> 216 | D105: 166 | E105: 50 | F105: 1572.39 | G105: =F105/167.42 -> 9.3918887 | H105: =ROUND(G105*E105*2,2) -> 939.19 | I105: =ROUND(H105*1.2359,2) -> 1160.74
A106: Rezidents | B106: 1 | C106: =D106+E106 -> 192 | D106: 166 | E106: 26 | F106: 1572.39 | G106: =F106/167.42 -> 9.3918887 | H106: =ROUND(G106*E106*2,2) -> 488.38 | I106: =ROUND(H106*1.2359,2) -> 603.59
A107: Rezidents | B107: 1 | C107: =D107+E107 -> 167 | D107: 166 | E107: 1 | F107: 1572.39 | G107: =F107/167.42 -> 9.3918887 | H107: =ROUND(G107*E107*2,2) -> 18.78 | I107: =ROUND(H107*1.2359,2) -> 23.21
A108: Rezidents | B108: 1 | C108: =D108+E108 -> 205 | D108: 166 | E108: 39 | F108: 1429.45 | G108: =F108/167.42 -> 8.5381078 | H108: =ROUND(G108*E108*2,2) -> 665.97 | I108: =ROUND(H108*1.2359,2) -> 823.07
A109: Rezidents | B109: 1 | C109: =D109+E109 -> 206 | D109: 166 | E109: 40 | F109: 1429.45 | G109: =F109/167.42 -> 8.5381078 | H109: =ROUND(G109*E109*2,2) -> 683.05 | I109: =ROUND(H109*1.2359,2) -> 844.18
A110: Rezidents | B110: 1 | C110: =D110+E110 -> 202 | D110: 166 | E110: 36 | F110: 1429.45 | G110: =F110/167.42 -> 8.5381078 | H110: =ROUND(G110*E110*2,2) -> 614.74 | I110: =ROUND(H110*1.2359,2) -> 759.76
... A169: Rezidents | B169: 1 | C169: =D169+E169 -> 176 | D169: 166 | E169: 10 | F169: 1429.45 | G169: =F169/167.42 -> 8.5381078 | H169: =ROUND(G169*E169*2,2) -> 170.76 | I169: =ROUND(H169*1.2359,2) -> 211.04
A170: Virsārsts endokrinologs | B170: 1 | C170: =D170+E170 -> 182 | D170: 166 | E170: 16 | G170: 17.79 | H170: =ROUND(G170*E170*2,2) -> 569.28 | I170: =ROUND(H170*1.2359,2) -> 703.57
A171: Virsārsts intensīvajā terapijā | B171: 1 | C171: =D171+E171 -> 183 | D171: 166 | E171: 17 | G171: 17.53 | H171: =ROUND(G171*E171*2,2) -> 596.02 | I171: =ROUND(H171*1.2359,2) -> 736.62
A172: Virsārsts nefrologs | B172: 1 | C172: =D172+E172 -> 190 | D172: 166 | E172: 24 | G172: 18.14 | H172: =ROUND(G172*E172*2,2) -> 870.72 | I172: =ROUND(H172*1.2359,2) -> 1076.12
A173: Virsārsts torakālais ķirurgs | B173: 1 | C173: =D173+E173 -> 207 | D173: 166 | E173: 41 | G173: 19.57 | H173: =ROUND(G173*E173*2,2) -> 1604.74 | I173: =ROUND(H173*1.2359,2) -> 1983.3
A174: Ārstniecības un pacientu aprūpes personas un funkcionālo speciālistu asistenti, kopā, tai skaitā: | B174: =SUM(B175:B335) -> 161 | E174: =SUM(E175:E335) -> 4476 | H174: =SUM(H175:H335) -> 70473 | I174: =SUM(I175:I335) -> 87097.66
A175: Ārsta epidemiologa palīgs | B175: 1 | C175: =D175+E175 -> 222 | D175: 166 | E175: 56 | F175: 1242 | G175: =F175/D175 -> 7.4819277 | H175: =ROUND(G175*E175*2,2) -> 837.98 | I175: =ROUND(H175*1.2359,2) -> 1035.66
A176: Ambulatorā dienesta ārsta palīgs | B176: 1 | C176: =D176+E176 -> 207.5 | D176: 166 | E176: 41.5 | G176: 7.45 | H176: =ROUND(G176*E176*2,2) -> 618.35 | I176: =ROUND(H176*1.2359,2) -> 764.22
A177: Ambulatorā dienesta ārsta palīgs | B177: 1 | C177: =D177+E177 -> 220 | D177: 166 | E177: 54 | G177: 7.2 | H177: =ROUND(G177*E177*2,2) -> 777.6 | I177: =ROUND(H177*1.2359,2) -> 961.04
A178: Ambulatorās aprūpes ārsta palīgs | B178: 1 | C178: =D178+E178 -> 192 | D178: 166 | E178: 26 | G178: 9.29 | H178: =ROUND(G178*E178*2,2) -> 483.08 | I178: =ROUND(H178*1.2359,2) -> 597.04
A179: Ambulatorās aprūpes māsa | B179: 1 | C179: =D179+E179 -> 168 | D179: 166 | E179: 2 | G179: 9.47 | H179: =ROUND(G179*E179*2,2) -> 37.88 | I179: =ROUND(H179*1.2359,2) -> 46.82
A180: Ambulatorās aprūpes māsa | B180: 1 | C180: =D180+E180 -> 176 | D180: 166 | E180: 10 | G180: 9.47 | H180: =ROUND(G180*E180*2,2) -> 189.4 | I180: =ROUND(H180*1.2359,2) -> 234.08
A181: Ambulatorās aprūpes māsa | B181: 1 | C181: =D181+E181 -> 192 | D181: 166 | E181: 26 | G181: 9.47 | H181: =ROUND(G181*E181*2,2) -> 492.44 | I181: =ROUND(H181*1.2359,2) -> 608.61
A182: Ambulatorās aprūpes māsa | B182: 1 | C182: =D182+E182 -> 192 | D182: 166 | E182: 26 | G182: 9.47 | H182: =ROUND(G182*E182*2,2) -> 492.44 | I182: =ROUND(H182*1.2359,2) -> 608.61
A183: Anestēzijas, intensīvās un neatliekamās aprūpes māsa | B183: 1 | C183: =D183+E183 -> 239 | D183: 166 | E183: 73 | G183: 9.47 | H183: =ROUND(G183*E183*2,2) -> 1382.62 | I183: =ROUND(H183*1.2359,2) -> 1708.78
A184: Anestēzijas, intensīvās un neatliekamās aprūpes māsa | B184: 1 | C184: =D184+E184 -> 176 | D184: 166 | E184: 10 | G184: 9.47 | H184: =ROUND(G184*E184*2,2) -> 189.4 | I184: =ROUND(H184*1.2359,2) -> 234.08
A185: Anestēzijas, intensīvās un neatliekamās aprūpes māsa | B185: 1 | C185: =D185+E185 -> 232 | D185: 166 | E185: 66 | G185: 9.47 | H185: =ROUND(G185*E185*2,2) -> 1250.04 | I185: =ROUND(H185*1.2359,2) -> 1544.92
A186: Anestēzijas, intensīvās un neatliekamās aprūpes māsa | B186: 1 | C186: =D186+E186 -> 216 | D186: 166 | E186: 50 | G186: 9.47 | H186: =ROUND(G186*E186*2,2) -> 947 | I186: =ROUND(H186*1.2359,2) -> 1170.4
A187: Anestēzijas, intensīvās un neatliekamās aprūpes māsa | B187: 1 | C187: =D187+E187 -> 216 | D187: 166 | E187: 50 | G187: 7.45 | H187: =ROUND(G187*E187*2,2) -> 745 | I187: =ROUND(H187*1.2359,2) -> 920.75
... A335: Radiologa asistents (dežūrām) | B335: 1 | C335: =D335+E335 -> 176 | D335: 166 | E335: 10 | G335: 5.69 | H335: =ROUND(G335*E335*2,2) -> 113.8 | I335: =ROUND(H335*1.2359,2) -> 140.65
A336: Ārstniecības un pacientu aprūpes atbalsta personas, māsu palīgi, zobārstu asistenti, kopā, tai skaitā: | B336: =SUM(B337:B368) -> 32 | E336: =SUM(E337:E368) -> 546 | H336: =SUM(H337:H368) -> 6117.96 | I336: =SUM(I337:I368) -> 7561.16
A337: Māsas palīgs | B337: 1 | C337: =D337+E337 -> 176 | D337: 166 | E337: 10 | G337: 6.09 | H337: =ROUND(G337*E337*2,2) -> 121.8 | I337: =ROUND(H337*1.2359,2) -> 150.53
A338: Māsas palīgs | B338: 1 | C338: =D338+E338 -> 168 | D338: 166 | E338: 2 | G338: 6.18 | H338: =ROUND(G338*E338*2,2) -> 24.72 | I338: =ROUND(H338*1.2359,2) -> 30.55
A339: Māsas palīgs | B339: 1 | C339: =D339+E339 -> 186 | D339: 166 | E339: 20 | G339: 6.09 | H339: =ROUND(G339*E339*2,2) -> 243.6 | I339: =ROUND(H339*1.2359,2) -> 301.07
A340: Māsas palīgs | B340: 1 | C340: =D340+E340 -> 168 | D340: 166 | E340: 2 | G340: 6.09 | H340: =ROUND(G340*E340*2,2) -> 24.36 | I340: =ROUND(H340*1.2359,2) -> 30.11
A341: Māsas palīgs | B341: 1 | C341: =D341+E341 -> 200 | D341: 166 | E341: 34 | G341: 6.18 | H341: =ROUND(G341*E341*2,2) -> 420.24 | I341: =ROUND(H341*1.2359,2) -> 519.37
A342: Māsas palīgs | B342: 1 | C342: =D342+E342 -> 180 | D342: 166 | E342: 14 | G342: 4.65 | H342: =ROUND(G342*E342*2,2) -> 130.2 | I342: =ROUND(H342*1.2359,2) -> 160.91
A343: Māsas palīgs | B343: 1 | C343: =D343+E343 -> 176 | D343: 166 | E343: 10 | G343: 6.09 | H343: =ROUND(G343*E343*2,2) -> 121.8 | I343: =ROUND(H343*1.2359,2) -> 150.53
A344: Māsas palīgs | B344: 1 | C344: =D344+E344 -> 176 | D344: 166 | E344: 10 | G344: 6.09 | H344: =ROUND(G344*E344*2,2) -> 121.8 | I344: =ROUND(H344*1.2359,2) -> 150.53
A345: Māsas palīgs | B345: 1 | C345: =D345+E345 -> 184 | D345: 166 | E345: 18 | G345: 6.09 | H345: =ROUND(G345*E345*2,2) -> 219.24 | I345: =ROUND(H345*1.2359,2) -> 270.96
A346: Māsas palīgs | B346: 1 | C346: =D346+E346 -> 176 | D346: 166 | E346: 10 | G346: 6.09 | H346: =ROUND(G346*E346*2,2) -> 121.8 | I346: =ROUND(H346*1.2359,2) -> 150.53
A347: Māsas palīgs | B347: 1 | C347: =D347+E347 -> 200 | D347: 166 | E347: 34 | G347: 6.24 | H347: =ROUND(G347*E347*2,2) -> 424.32 | I347: =ROUND(H347*1.2359,2) -> 524.42
A348: Māsas palīgs | B348: 1 | C348: =D348+E348 -> 230 | D348: 166 | E348: 64 | G348: 4.65 | H348: =ROUND(G348*E348*2,2) -> 595.2 | I348: =ROUND(H348*1.2359,2) -> 735.61
... A368: Māsas palīgs neatliekamajā palīdzībā | B368: 1 | C368: =D368+E368 -> 168 | D368: 166 | E368: 2 | G368: 4.75 | H368: =ROUND(G368*E368*2,2) -> 19 | I368: =ROUND(H368*1.2359,2) -> 23.48
A369: Pārējie darbinieki, kuri tieši iesaistīti darbā ar Covid-19, kopā, tai skaitā: | B369: =SUM(B370:B454) -> 85 | E369: =SUM(E370:E454) -> 1144 | H369: =SUM(H370:H454) -> 13083.27 | I369: =SUM(I370:I454) -> 16169.53
A370: Atbildīgais sanitārs-transportētājs | B370: 1 | C370: =D370+E370 -> 200 | D370: 166 | E370: 34 | G370: 4.75 | H370: =ROUND(G370*E370*2,2) -> 323 | I370: =ROUND(H370*1.2359,2) -> 399.2
A371: Atbildīgais sanitārs-transportētājs | B371: 1 | C371: =D371+E371 -> 192 | D371: 166 | E371: 26 | G371: 4.75 | H371: =ROUND(G371*E371*2,2) -> 247 | I371: =ROUND(H371*1.2359,2) -> 305.27
A372: Atbildīgais sanitārs-transportētājs | B372: 1 | C372: =D372+E372 -> 168 | D372: 166 | E372: 2 | G372: 4.75 | H372: =ROUND(G372*E372*2,2) -> 19 | I372: =ROUND(H372*1.2359,2) -> 23.48
A373: Atbildīgais sanitārs-transportētājs | B373: 1 | C373: =D373+E373 -> 174 | D373: 166 | E373: 8 | G373: 4.75 | H373: =ROUND(G373*E373*2,2) -> 76 | I373: =ROUND(H373*1.2359,2) -> 93.93
A374: Jaunākais māsas palīgs | B374: 1 | C374: =D374+E374 -> 192 | D374: 166 | E374: 26 | G374: 5.49 | H374: =ROUND(G374*E374*2,2) -> 285.48 | I374: =ROUND(H374*1.2359,2) -> 352.82
A375: Jaunākais māsas palīgs | B375: 1 | C375: =D375+E375 -> 192 | D375: 166 | E375: 26 | G375: 5.49 | H375: =ROUND(G375*E375*2,2) -> 285.48 | I375: =ROUND(H375*1.2359,2) -> 352.82
A376: Jaunākais māsas palīgs | B376: 1 | C376: =D376+E376 -> 168 | D376: 166 | E376: 2 | G376: 5.49 | H376: =ROUND(G376*E376*2,2) -> 21.96 | I376: =ROUND(H376*1.2359,2) -> 27.14
A377: Jaunākais māsas palīgs | B377: 1 | C377: =D377+E377 -> 184 | D377: 166 | E377: 18 | G377: 5.49 | H377: =ROUND(G377*E377*2,2) -> 197.64 | I377: =ROUND(H377*1.2359,2) -> 244.26
A378: Jaunākais māsas palīgs | B378: 1 | C378: =D378+E378 -> 168 | D378: 166 | E378: 2 | G378: 5.49 | H378: =ROUND(G378*E378*2,2) -> 21.96 | I378: =ROUND(H378*1.2359,2) -> 27.14
A379: Jaunākais māsas palīgs | B379: 1 | C379: =D379+E379 -> 184 | D379: 166 | E379: 18 | G379: 5.49 | H379: =ROUND(G379*E379*2,2) -> 197.64 | I379: =ROUND(H379*1.2359,2) -> 244.26
A380: Jaunākais māsas palīgs | B380: 1 | C380: =D380+E380 -> 192 | D380: 166 | E380: 26 | G380: 5.49 | H380: =ROUND(G380*E380*2,2) -> 285.48 | I380: =ROUND(H380*1.2359,2) -> 352.82
A381: Jaunākais māsas palīgs | B381: 1 | C381: =D381+E381 -> 168 | D381: 166 | E381: 2 | G381: 5.49 | H381: =ROUND(G381*E381*2,2) -> 21.96 | I381: =ROUND(H381*1.2359,2) -> 27.14
... A451: Vecākais klientu apkalpošanas speciālists NMC | B451: 1 | C451: =D451+E451 -> 184 | D451: 166 | E451: 18 | G451: 6.72 | H451: =ROUND(G451*E451*2,2) -> 241.92 | I451: =ROUND(H451*1.2359,2) -> 298.99
A452: Veselības aprūpes datu analītiķis | B452: 1 | C452: =D452+E452 -> 241 | D452: 166 | E452: 75 | F452: 1360 | G452: =F452/D452 -> 8.1927711 | H452: =ROUND(G452*E452*2,2) -> 1228.92 | I452: =ROUND(H452*1.2359,2) -> 1518.82
A453: Vecākais veselības aprūpes datu analītiķis | B453: 1 | C453: =D453+E453 -> 194 | D453: 166 | E453: 28 | F453: 1500 | G453: =F453/D453 -> 9.0361446 | H453: =ROUND(G453*E453*2,2) -> 506.02 | I453: =ROUND(H453*1.2359,2) -> 625.39
A454: Vadītāja palīgs | B454: 1 | C454: =D454+E454 -> 180 | D454: 166 | E454: 14 | F454: 1000 | G454: =F454/D454 -> 6.0240964 | H454: =ROUND(G454*E454*2,2) -> 168.67 | I454: =ROUND(H454*1.2359,2) -> 208.46

Sheet Daugavpils_reģ_nov
H1: 1.7.Pielikums
A2: Pārskats par darba veicējiem (ārstniecības personām), virs normālā darba laika nostrādātām stundām, apmaksājamām stundām un izdevumiem, kas radušies saistībā ar mērķi ierobežot Covid-19 izplatību
A4: Iestādes nosaukums: SIA "Daugavpils reģionālā slimnīca"
A5: Pārskata mēnesis: Novembris
B7: Nodarbināto skaits mēnesī | C7: Apmaksājamais laiks mēnesī, stundas (tai skaitā summētā darba laika ietvaros) | F7: Mēnešalga no kuras rēķina stundas likmi | G7: Stundas likme (aprēķināta atbilstoši mēnešalgai vai darba līgumā noteiktā stundas likme) | H7: Apmaksājamā 100% piemaksa par nostrādātām virsstundām virs normālā darba laika (tai skaitā summētā darba laika ietvaros) | I7: Izdevumi par virsstundām kopā ar VSOAI, EUR
C8: Kopā | D8: līdz normālam darba laikam 1 | E8: virsstundas - virs normālā darba laika, kas saistītas ar darbu ar Covid-19
A10: 1 | B10: 2 | C10: 3=4+5 | D10: 4 | E10: 5 | F10: 6 | G10: 7 | H10: 8 | I10: 9=8 + VSOAI
A11: KOPĀ | B11: =B12+B105+B120+B180+B199+B213+B242+B286+B310+B319+B326+B329 -> 320 | E11: =E12+E105+E120+E180+E199+E213+E242+E286+E310+E319+E326+E329 -> 11085 | H11: =H12+H105+H120+H180+H199+H213+H242+H286+H310+H319+H326+H329 -> 160447.84 | I11: =I12+I105+I120+I180+I199+I213+I242+I286+I310+I319+I326+I329 -> 197972.41
A12: Centrālā slimnīca "Uzņemšanas nodaļa" | B12: =B13+B52+B91 -> 89 | E12: =E13+E52+E91 -> 3285.5 | H12: =H13+H52+H91 -> 55295.11 | I12: =I13+I52+I91 -> 68175.54
A13: Ārsti, zobārsti un funkcionālie speciālisti, kopā, tai skaitā: | B13: =SUM(B14:B51) -> 38 | E13: =SUM(E14:E51) -> 2243.5 | H13: =SUM(H14:H51) -> 44221.68 | I13: =SUM(I14:I51) -> 54489.83
A14: Ārsts (dežūrslodze) | B14: 1 | C14: =D14+E14 -> 242 | D14: 167 | E14: 75 | F14: 1645.87 | G14: =F14/167 -> 9.855509 | H14: =ROUND(E14*G14*2,2) -> 1478.33 | I14: =ROUND(H14*1.2359,2) -> 1827.07
A15: Ārsts (dežūrslodze) | B15: 1 | C15: =D15+E15 -> 200 | D15: 111 | E15: 89 | F15: 1645.87 | G15: =F15/167 -> 9.855509 | H15: =ROUND(E15*G15*2,2) -> 1754.28 | I15: =ROUND(H15*1.2077,2) -> 2118.64
A16: Ginekologs, dzemdību speciālists | B16: 1 | C16: =D16+E16 -> 200 | D16: 167 | E16: 33 | F16: 1645.87 | G16: =F16/167 -> 9.855509 | H16: =ROUND(E16*G16*2,2) -> 650.46 | I16: =ROUND(H16*1.2077,2) -> 785.56
A17: Ginekologs, dzemdību speciālists | B17: 1 | C17: =D17+E17 -> 191 | D17: 167 | E17: 24 | F17: 1645.87 | G17: =F17/167 -> 9.855509 | H17: =ROUND(E17*G17*2,2) -> 473.06 | I17: =ROUND(H17*1.2359,2) -> 584.65
A18: Ginekologs, dzemdību speciālists | B18: 1 | C18: =D18+E18 -> 191 | D18: 167 | E18: 24 | F18: 1645.87 | G18: =F18/167 -> 9.855509 | H18: =ROUND(E18*G18*2,2) -> 473.06 | I18: =ROUND(H18*1.2359,2) -> 584.65
A19: Ginekologs, dzemdību speciālists | B19: 1 | C19: =D19+E19 -> 183 | D19: 159 | E19: 24 | F19: 1645.87 | G19: =F19/167 -> 9.855509 | H19: =ROUND(E19*G19*2,2) -> 473.06 | I19: =ROUND(H19*1.2359,2) -> 584.65
A20: Bērnu ķirurgs | B20: 1 | C20: =D20+E20 -> 271 | D20: 167 | E20: 104 | F20: 1645.87 | G20: =F20/167 -> 9.855509 | H20: =ROUND(E20*G20*2,2) -> 2049.95 | I20: =ROUND(H20*1.2359,2) -> 2533.53
A21: Internists | B21: 1 | C21: =D21+E21 -> 280 | D21: 160 | E21: 120 | F21: 1645.87 | G21: =F21/167 -> 9.855509 | H21: =ROUND(E21*G21*2,2) -> 2365.32 | I21: =ROUND(H21*1.2359,2) -> 2923.3
A22: Kardiologs | B22: 1 | C22: =D22+E22 -> 287 | D22: 167 | E22: 120 | F22: 1645.87 | G22: =F22/167 -> 9.855509 | H22: =ROUND(E22*G22*2,2) -> 2365.32 | I22: =ROUND(H22*1.2359,2) -> 2923.3
A23: Kardiologs | B23: 1 | C23: =D23+E23 -> 32 | D23: 16 | E23: 16 | F23: 1645.87 | G23: =F23/167 -> 9.855509 | H23: =ROUND(E23*G23*2,2) -> 315.38 | I23: =ROUND(H23*1.2359,2) -> 389.78
A24: Kardiologs | B24: 1 | C24: =D24+E24 -> 170 | D24: 146 | E24: 24 | F24: 1645.87 | G24: =F24/167 -> 9.855509 | H24: =ROUND(E24*G24*2,2) -> 473.06 | I24: =ROUND(H24*1.2359,2) -> 584.65
A25: Kardiologs | B25: 1 | C25: =D25+E25 -> 258 | D25: 146 | E25: 112 | F25: 1645.87 | G25: =F25/167 -> 9.855509 | H25: =ROUND(E25*G25*2,2) -> 2207.63 | I25: =ROUND(H25*1.2359,2) -> 2728.41
A26: Kardiologs | B26: 1 | C26: =D26+E26 -> 231 | D26: 167 | E26: 64 | F26: 1645.87 | G26: =F26/167 -> 9.855509 | H26: =ROUND(E26*G26*2,2) -> 1261.51 | I26: =ROUND(H26*1.2359,2) -> 1559.1
A27: Kardiologs | B27: 1 | C27: =D27+E27 -> 191 | D27: 143 | E27: 48 | F27: 1645.87 | G27: =F27/167 -> 9.855509 | H27: =ROUND(E27*G27*2,2) -> 946.13 | I27: =ROUND(H27*1.2359,2) -> 1169.32
A28: Ķirurgs | B28: 1 | C28: =D28+E28 -> 226.5 | D28: 167 | E28: 59.5 | F28: 1645.87 | G28: =F28/167 -> 9.855509 | H28: =ROUND(E28*G28*2,2) -> 1172.81 | I28: =ROUND(H28*1.2077,2) -> 1416.4
A29: Ķirurgs | B29: 1 | C29: =D29+E29 -> 225 | D29: 167 | E29: 58 | F29: 1645.87 | G29: =F29/167 -> 9.855509 | H29: =ROUND(E29*G29*2,2) -> 1143.24 | I29: =ROUND(H29*1.2359,2) -> 1412.93
A30: Ķirurgs | B30: 1 | C30: =D30+E30 -> 118 | D30: 70 | E30: 48 | F30: 1645.87 | G30: =F30/167 -> 9.855509 | H30: =ROUND(E30*G30*2,2) -> 946.13 | I30: =ROUND(H30*1.2359,2) -> 1169.32
A31: Ķirurgs | B31: 1 | C31: =D31+E31 -> 263 | D31: 167 | E31: 96 | F31: 1645.87 | G31: =F31/167 -> 9.855509 | H31: =ROUND(E31*G31*2,2) -> 1892.26 | I31: =ROUND(H31*1.2359,2) -> 2338.64
A32: Ķirurgs | B32: 1 | C32: =D32+E32 -> 249 | D32: 167 | E32: 82 | F32: 1645.87 | G32: =F32/167 -> 9.855509 | H32: =ROUND(E32*G32*2,2) -> 1616.3 | I32: =ROUND(H32*1.2359,2) -> 1997.59
A33: Ķirurgs | B33: 1 | C33: =D33+E33 -> 162 | D33: 111 | E33: 51 | F33: 1645.87 | G33: =F33/167 -> 9.855509 | H33: =ROUND(E33*G33*2,2) -> 1005.26 | I33: =ROUND(H33*1.2359,2) -> 1242.4
A34: Ķirurgs | B34: 1 | C34: =D34+E34 -> 191 | D34: 127 | E34: 64 | F34: 1645.87 | G34: =F34/167 -> 9.855509 | H34: =ROUND(E34*G34*2,2) -> 1261.51 | I34: =ROUND(H34*1.2359,2) -> 1559.1
A35: Ķirurgs | B35: 1 | C35: =D35+E35 -> 135.5 | D35: 111 | E35: 24.5 | F35: 1645.87 | G35: =F35/167 -> 9.855509 | H35: =ROUND(E35*G35*2,2) -> 482.92 | I35: =ROUND(H35*1.2359,2) -> 596.84
A36: Neatliekamās medicīnas ārsts | B36: 1 | C36: =D36+E36 -> 200 | D36: 167 | E36: 33 | F36: 1645.87 | G36: =F36/167 -> 9.855509 | H36: =ROUND(E36*G36*2,2) -> 650.46 | I36: =ROUND(H36*1.2359,2) -> 803.9
A37: Neatliekamās medicīnas ārsts | B37: 1 | C37: =D37+E37 -> 184 | D37: 167 | E37: 17 | F37: 1645.87 | G37: =F37/167 -> 9.855509 | H37: =ROUND(E37*G37*2,2) -> 335.09 | I37: =ROUND(H37*1.2359,2) -> 414.14
A38: Pediatrs | B38: 1 | C38: =D38+E38 -> 263 | D38: 167 | E38: 96 | F38: 1645.87 | G38: =F38/167 -> 9.855509 | H38: =ROUND(E38*G38*2,2) -> 1892.26 | I38: =ROUND(H38*1.2359,2) -> 2338.64
A39: Pediatrs | B39: 1 | C39: =D39+E39 -> 215 | D39: 167 | E39: 48 | F39: 1645.87 | G39: =F39/167 -> 9.855509 | H39: =ROUND(E39*G39*2,2) -> 946.13 | I39: =ROUND(H39*1.2359,2) -> 1169.32
A40: Pediatrs | B40: 1 | C40: =D40+E40 -> 271 | D40: 167 | E40: 104 | F40: 1645.87 | G40: =F40/167 -> 9.855509 | H40: =ROUND(E40*G40*2,2) -> 2049.95 | I40: =ROUND(H40*1.2359,2) -> 2533.53
A41: Pediatrs | B41: 1 | C41: =D41+E41 -> 280 | D41: 167 | E41: 113 | F41: 1645.87 | G41: =F41/167 -> 9.855509 | H41: =ROUND(E41*G41*2,2) -> 2227.35 | I41: =ROUND(H41*1.2077,2) -> 2689.97
A42: Rezidents | B42: 1 | C42: =D42+E42 -> 101 | D42: 88 | E42: 13 | F42: 1645.87 | G42: =F42/167 -> 9.855509 | H42: =ROUND(E42*G42*2,2) -> 256.24 | I42: =ROUND(H42*1.2359,2) -> 316.69
A43: Rezidents | B43: 1 | C43: =D43+E43 -> 169 | D43: 167 | E43: 2 | F43: 1645.87 | G43: =F43/167 -> 9.855509 | H43: =ROUND(E43*G43*2,2) -> 39.42 | I43: =ROUND(H43*1.2359,2) -> 48.72
A44: Rezidents | B44: 1 | C44: =D44+E44 -> 196 | D44: 167 | E44: 29 | F44: 1645.87 | G44: =F44/167 -> 9.855509 | H44: =ROUND(E44*G44*2,2) -> 571.62 | I44: =ROUND(H44*1.2359,2) -> 706.47
A45: Rezidents | B45: 1 | C45: =D45+E45 -> 172 | D45: 167 | E45: 5 | F45: 1645.87 | G45: =F45/167 -> 9.855509 | H45: =ROUND(E45*G45*2,2) -> 98.56 | I45: =ROUND(H45*1.2359,2) -> 121.81
A46: Rezidents | B46: 1 | C46: =D46+E46 -> 205 | D46: 167 | E46: 38 | F46: 1645.87 | G46: =F46/167 -> 9.855509 | H46: =ROUND(E46*G46*2,2) -> 749.02 | I46: =ROUND(H46*1.2359,2) -> 925.71
A47: Rezidents | B47: 1 | C47: =D47+E47 -> 236 | D47: 127 | E47: 109 | F47: 1645.87 | G47: =F47/167 -> 9.855509 | H47: =ROUND(E47*G47*2,2) -> 2148.5 | I47: =ROUND(H47*1.2359,2) -> 2655.33
A48: Traumatologs - ortopēds | B48: 1 | C48: =D48+E48 -> 290 | D48: 167 | E48: 123 | F48: 1645.87 | G48: =F48/167 -> 9.855509 | H48: =ROUND(E48*G48*2,2) -> 2424.46 | I48: =ROUND(H48*1.2359,2) -> 2996.39
A49: Traumatologs - ortopēds | B49: 1 | C49: =D49+E49 -> 198.5 | D49: 167 | E49: 31.5 | F49: 1645.87 | G49: =F49/167 -> 9.855509 | H49: =ROUND(E49*G49*2,2) -> 620.9 | I49: =ROUND(H49*1.2359,2) -> 767.37
A50: Traumatologs - ortopēds | B50: 1 | C50: =D50+E50 -> 257 | D50: 167 | E50: 90 | F50: 1645.87 | G50: =F50/167 -> 9.855509 | H50: =ROUND(E50*G50*2,2) -> 1773.99 | I50: =ROUND(H50*1.2359,2) -> 2192.47
A51: Traumatologs - ortopēds | B51: 1 | C51: =D51+E51 -> 143 | D51: 111 | E51: 32 | F51: 1645.87 | G51: =F51/167 -> 9.855509 | H51: =ROUND(E51*G51*2,2) -> 630.75 | I51: =ROUND(H51*1.2359,2) -> 779.54
A52: Ārstniecības un pacientu aprūpes personas un funkcionālo speciālistu asistenti, kopā, tai skaitā: | B52: =SUM(B53:B90) -> 38 | E52: =SUM(E53:E90) -> 722 | H52: =SUM(H53:H90) -> 8301.97 | I52: =SUM(I53:I90) -> 10260.44
A53: Ārsta palīgs | B53: 1 | C53: =D53+E53 -> 240 | D53: 167 | E53: 73 | F53: 982.53 | G53: =F53/167 -> 5.8834132 | H53: =ROUND(E53*G53*2,2) -> 858.98 | I53: =ROUND(H53*1.2359,2) -> 1061.61
A54: Ārsta palīgs | B54: 1 | C54: =D54+E54 -> 176 | D54: 159 | E54: 17 | F54: 867.82 | G54: =F54/167 -> 5.1965269 | H54: =ROUND(E54*G54*2,2) -> 176.68 | I54: =ROUND(H54*1.2359,2) -> 218.36
A55: Ārsta palīgs | B55: 1 | C55: =D55+E55 -> 216 | D55: 167 | E55: 49 | F55: 867.82 | G55: =F55/167 -> 5.1965269 | H55: =ROUND(E55*G55*2,2) -> 509.26 | I55: =ROUND(H55*1.2359,2) -> 629.39
A56: Ārsta palīgs | B56: 1 | C56: =D56+E56 -> 224 | D56: 167 | E56: 57 | F56: 867.82 | G56: =F56/167 -> 5.1965269 | H56: =ROUND(E56*G56*2,2) -> 592.4 | I56: =ROUND(H56*1.2359,2) -> 732.15
A57: Ārsta palīgs | B57: 1 | C57: =D57+E57 -> 206 | D57: 167 | E57: 39 | F57: 982.53 | G57: =F57/167 -> 5.8834132 | H57: =ROUND(E57*G57*2,2) -> 458.91 | I57: =ROUND(H57*1.2359,2) -> 567.17
A58: Ārsta palīgs | B58: 1 | C58: =D58+E58 -> 125 | D58: 119 | E58: 6 | F58: 982.53 | G58: =F58/167 -> 5.8834132 | H58: =ROUND(E58*G58*2,2) -> 70.6 | I58: =ROUND(H58*1.2359,2) -> 87.25
A59: Ārsta palīgs | B59: 1 | C59: =D59+E59 -> 127 | D59: 119 | E59: 8 | F59: 982.53 | G59: =F59/167 -> 5.8834132 | H59: =ROUND(E59*G59*2,2) -> 94.13 | I59: =ROUND(H59*1.2359,2) -> 116.34
A60: Ārsta palīgs | B60: 1 | C60: =D60+E60 -> 199 | D60: 167 | E60: 32 | F60: 982.53 | G60: =F60/167 -> 5.8834132 | H60: =ROUND(E60*G60*2,2) -> 376.54 | I60: =ROUND(H60*1.2359,2) -> 465.37
A61: Internās aprūpes māsa | B61: 1 | C61: =D61+E61 -> 168 | D61: 167 | E61: 1 | F61: 982.53 | G61: =F61/167 -> 5.8834132 | H61: =ROUND(E61*G61*2,2) -> 11.77 | I61: =ROUND(H61*1.2359,2) -> 14.55
A62: Internās aprūpes māsa | B62: 1 | C62: =D62+E62 -> 168 | D62: 167 | E62: 1 | F62: 982.53 | G62: =F62/167 -> 5.8834132 | H62: =ROUND(E62*G62*2,2) -> 11.77 | I62: =ROUND(H62*1.2359,2) -> 14.55
A63: Internās aprūpes māsa | B63: 1 | C63: =D63+E63 -> 184 | D63: 167 | E63: 17 | F63: 982.53 | G63: =F63/167 -> 5.8834132 | H63: =ROUND(E63*G63*2,2) -> 200.04 | I63: =ROUND(H63*1.2359,2) -> 247.23
A64: Internās aprūpes māsa | B64: 1 | C64: =D64+E64 -> 192 | D64: 167 | E64: 25 | F64: 982.53 | G64: =F64/167 -> 5.8834132 | H64: =ROUND(E64*G64*2,2) -> 294.17 | I64: =ROUND(H64*1.2359,2) -> 363.56
... A90: Operāciju māsa | B90: 1 | C90: =D90+E90 -> 196 | D90: 167 | E90: 29 | F90: 982.53 | G90: =F90/167 -> 5.8834132 | H90: =ROUND(E90*G90*2,2) -> 341.24 | I90: =ROUND(H90*1.2359,2) -> 421.74
A91: Ārstniecības un pacientu aprūpes atbalsta personas, māsu palīgi, zobārstu asistenti, kopā, tai skaitā: | B91: =SUM(B92:B104) -> 13 | E91: =SUM(E92:E104) -> 320 | H91: =SUM(H92:H104) -> 2771.46 | I91: =SUM(I92:I104) -> 3425.27
A92: Māsas palīgs | B92: 1 | C92: =D92+E92 -> 112 | D92: 87 | E92: 25 | F92: 723.18 | G92: =F92/167 -> 4.3304192 | H92: =ROUND(E92*G92*2,2) -> 216.52 | I92: =ROUND(H92*1.2359,2) -> 267.6
A93: Māsas palīgs | B93: 1 | C93: =D93+E93 -> 188 | D93: 167 | E93: 21 | F93: 723.18 | G93: =F93/167 -> 4.3304192 | H93: =ROUND(E93*G93*2,2) -> 181.88 | I93: =ROUND(H93*1.2359,2) -> 224.79
A94: Māsas palīgs | B94: 1 | C94: =D94+E94 -> 180 | D94: 151 | E94: 29 | F94: 723.18 | G94: =F94/167 -> 4.3304192 | H94: =ROUND(E94*G94*2,2) -> 251.16 | I94: =ROUND(H94*1.2359,2) -> 310.41
A95: Māsas palīgs | B95: 1 | C95: =D95+E95 -> 188 | D95: 167 | E95: 21 | F95: 723.18 | G95: =F95/167 -> 4.3304192 | H95: =ROUND(E95*G95*2,2) -> 181.88 | I95: =ROUND(H95*1.2359,2) -> 224.79
A96: Māsas palīgs | B96: 1 | C96: =D96+E96 -> 203 | D96: 167 | E96: 36 | F96: 723.18 | G96: =F96/167 -> 4.3304192 | H96: =ROUND(E96*G96*2,2) -> 311.79 | I96: =ROUND(H96*1.2359,2) -> 385.34
A97: Māsas palīgs | B97: 1 | C97: =D97+E97 -> 192 | D97: 167 | E97: 25 | F97: 723.18 | G97: =F97/167 -> 4.3304192 | H97: =ROUND(E97*G97*2,2) -> 216.52 | I97: =ROUND(H97*1.2359,2) -> 267.6
A98: Māsas palīgs | B98: 1 | C98: =D98+E98 -> 180 | D98: 167 | E98: 13 | F98: 723.18 | G98: =F98/167 -> 4.3304192 | H98: =ROUND(E98*G98*2,2) -> 112.59 | I98: =ROUND(H98*1.2359,2) -> 139.15
A99: Māsas palīgs | B99: 1 | C99: =D99+E99 -> 200 | D99: 167 | E99: 33 | F99: 723.18 | G99: =F99/167 -> 4.3304192 | H99: =ROUND(E99*G99*2,2) -> 285.81 | I99: =ROUND(H99*1.2359,2) -> 353.23
A100: Māsas palīgs | B100: 1 | C100: =D100+E100 -> 192 | D100: 167 | E100: 25 | F100: 723.18 | G100: =F100/167 -> 4.3304192 | H100: =ROUND(E100*G100*2,2) -> 216.52 | I100: =ROUND(H100*1.2359,2) -> 267.6
A101: Māsas palīgs | B101: 1 | C101: =D101+E101 -> 148 | D101: 119 | E101: 29 | F101: 723.18 | G101: =F101/167 -> 4.3304192 | H101: =ROUND(E101*G101*2,2) -> 251.16 | I101: =ROUND(H101*1.2359,2) -> 310.41
A102: Māsas palīgs | B102: 1 | C102: =D102+E102 -> 192 | D102: 167 | E102: 25 | F102: 723.18 | G102: =F102/167 -> 4.3304192 | H102: =ROUND(E102*G102*2,2) -> 216.52 | I102: =ROUND(H102*1.2359,2) -> 267.6
A103: Māsas palīgs | B103: 1 | C103: =D103+E103 -> 192 | D103: 167 | E103: 25 | F103: 723.18 | G103: =F103/167 -> 4.3304192 | H103: =ROUND(E103*G103*2,2) -> 216.52 | I103: =ROUND(H103*1.2359,2) -> 267.6
A104: Māsas palīgs | B104: 1 | C104: =D104+E104 -> 180 | D104: 167 | E104: 13 | F104: 723.18 | G104: =F104/167 -> 4.3304192 | H104: =ROUND(E104*G104*2,2) -> 112.59 | I104: =ROUND(H104*1.2359,2) -> 139.15
A105: "Plaušu slimību un tuberkulozes centrs " Uzņemšanas nodaļa, Covid 19 nodaļa | B105: =B106+B113+B115 -> 11 | E105: =E106+E113+E115 -> 478 | H105: =H106+H113+H115 -> 9792.74 | I105: =I106+I113+I115 -> 12102.86
A106: Ārsti, zobārsti un funkcionālie speciālisti, kopā, tai skaitā: | B106: =SUM(B107:B112) -> 6 | E106: =SUM(E107:E112) -> 399 | H106: =SUM(H107:H112) -> 8992.64 | I106: =SUM(I107:I112) -> 11114
A107: Infektologs | B107: 1 | C107: =D107+E107 -> 196 | D107: 84 | E107: 112 | F107: 1645.27 | G107: =F107/146 -> 11.268973 | H107: =ROUND(E107*G107*2,2) -> 2524.25 | I107: =ROUND(H107*1.2359,2) -> 3119.72
A108: Infektologs | B108: 1 | C108: =D108+E108 -> 282 | D108: 146 | E108: 136 | F108: 1645.27 | G108: =F108/146 -> 11.268973 | H108: =ROUND(E108*G108*2,2) -> 3065.16 | I108: =ROUND(H108*1.2359,2) -> 3788.23
A109: Kardiologs | B109: 1 | C109: =D109+E109 -> 186 | D109: 146 | E109: 40 | F109: 1645.27 | G109: =F109/146 -> 11.268973 | H109: =ROUND(E109*G109*2,2) -> 901.52 | I109: =ROUND(H109*1.2359,2) -> 1114.19
A110: Pneimonologs | B110: 1 | C110: =D110+E110 -> 194 | D110: 146 | E110: 48 | F110: 1645.27 | G110: =F110/146 -> 11.268973 | H110: =ROUND(E110*G110*2,2) -> 1081.82 | I110: =ROUND(H110*1.2359,2) -> 1337.02
A111: Narkologs | B111: 1 | C111: =D111+E111 -> 193 | D111: 146 | E111: 47 | F111: 1645.27 | G111: =F111/146 -> 11.268973 | H111: =ROUND(E111*G111*2,2) -> 1059.28 | I111: =ROUND(H111*1.2359,2) -> 1309.16
A112: Neatliekamās medicīnas ārsts | B112: 1 | C112: =D112+E112 -> 183 | D112: 167 | E112: 16 | F112: 1881.92 | G112: =F112/167 -> 11.268982 | H112: =ROUND(E112*G112*2,2) -> 360.61 | I112: =ROUND(H112*1.2359,2) -> 445.68
A113: Ārstniecības un pacientu aprūpes atbalsta personas, māsu palīgi, zobārstu asistenti, kopā, tai skaitā: | B113: =SUM(B114) -> 1 | E113: =SUM(E114) -> 5 | H113: =SUM(H114) -> 67.27 | I113: =SUM(I114) -> 83.14
A114: Internās aprūpes māsa | B114: 1 | C114: =D114+E114 -> 151 | D114: 146 | E114: 5 | F114: 982.17 | G114: =F114/146 -> 6.7271918 | H114: =ROUND(E114*G114*2,2) -> 67.27 | I114: =ROUND(H114*1.2359,2) -> 83.14
A115: Ārstniecības un pacientu aprūpes atbalsta personas, māsu palīgi, zobārstu asistenti, kopā, tai skaitā: | B115: =SUM(B116:B119) -> 4 | E115: =SUM(E116:E119) -> 74 | H115: =SUM(H116:H119) -> 732.83 | I115: =SUM(I116:I119) -> 905.72
A116: Māsas palīgs | B116: 1 | C116: =D116+E116 -> 160 | D116: 146 | E116: 14 | F116: 722.92 | G116: =F116/146 -> 4.9515068 | H116: =ROUND(E116*G116*2,2) -> 138.64 | I116: =ROUND(H116*1.2359,2) -> 171.35
A117: Māsas palīgs | B117: 1 | C117: =D117+E117 -> 168 | D117: 146 | E117: 22 | F117: 722.92 | G117: =F117/146 -> 4.9515068 | H117: =ROUND(E117*G117*2,2) -> 217.87 | I117: =ROUND(H117*1.2359,2) -> 269.27
A118: Māsas palīgs | B118: 1 | C118: =D118+E118 -> 72 | D118: 56 | E118: 16 | F118: 722.92 | G118: =F118/146 -> 4.9515068 | H118: =ROUND(E118*G118*2,2) -> 158.45 | I118: =ROUND(H118*1.2359,2) -> 195.83
A119: Māsas palīgs | B119: 1 | C119: =D119+E119 -> 168 | D119: 146 | E119: 22 | F119: 722.92 | G119: =F119/146 -> 4.9515068 | H119: =ROUND(E119*G119*2,2) -> 217.87 | I119: =ROUND(H119*1.2359,2) -> 269.27
A120: "Plaušu slimību un tuberkulozes centrs" Infekcijas nodaļa - Covid19 nodaļa | B120: =B121+B166 -> 57 | E120: =E121+E166 -> 1787 | H120: =H121+H166 -> 21428.14 | I120: =I121+I166 -> 26445.95
A121: Ārstniecības un pacientu aprūpes personas un funkcionālo speciālistu asistenti, kopā, tai skaitā: | B121: =SUM(B122:B165) -> 44 | E121: =SUM(E122:E165) -> 1366 | H121: =SUM(H122:H165) -> 17285.08 | I121: =SUM(I122:I165) -> 21333.38
A122: Internās aprūpes māsa | B122: 1 | C122: =D122+E122 -> 150 | D122: 146 | E122: 4 | F122: 982.17 | G122: =F122/146 -> 6.7271918 | H122: =ROUND(E122*G122*2,2) -> 53.82 | I122: =ROUND(H122*1.2359,2) -> 66.52
A123: Internās aprūpes māsa | B123: 1 | C123: =D123+E123 -> 178 | D123: 167 | E123: 11 | F123: 982.53 | G123: =F123/167 -> 5.8834132 | H123: =ROUND(E123*G123*2,2) -> 129.44 | I123: =ROUND(H123*1.2359,2) -> 159.97
A124: Internās aprūpes māsa | B124: 1 | C124: =D124+E124 -> 183 | D124: 167 | E124: 16 | F124: 982.53 | G124: =F124/167 -> 5.8834132 | H124: =ROUND(E124*G124*2,2) -> 188.27 | I124: =ROUND(H124*1.2359,2) -> 232.68
A125: Internās aprūpes māsa | B125: 1 | C125: =D125+E125 -> 175 | D125: 167 | E125: 8 | F125: 982.53 | G125: =F125/167 -> 5.8834132 | H125: =ROUND(E125*G125*2,2) -> 94.13 | I125: =ROUND(H125*1.2359,2) -> 116.34
A126: Internās aprūpes māsa | B126: 1 | C126: =D126+E126 -> 216 | D126: 167 | E126: 49 | F126: 982.53 | G126: =F126/167 -> 5.8834132 | H126: =ROUND(E126*G126*2,2) -> 576.57 | I126: =ROUND(H126*1.2359,2) -> 712.58
A127: Internās aprūpes māsa | B127: 1 | C127: =D127+E127 -> 215 | D127: 167 | E127: 48 | F127: 982.53 | G127: =F127/167 -> 5.8834132 | H127: =ROUND(E127*G127*2,2) -> 564.81 | I127: =ROUND(H127*1.2359,2) -> 698.05
A128: Internās aprūpes māsa | B128: 1 | C128: =D128+E128 -> 181 | D128: 146 | E128: 35 | F128: 982.17 | G128: =F128/146 -> 6.7271918 | H128: =ROUND(E128*G128*2,2) -> 470.9 | I128: =ROUND(H128*1.2359,2) -> 581.99
...

Sheet Daugavpils_reģ_dec
H1: 1.8.Pielikums
A2: Pārskats par darba veicējiem (ārstniecības personām), virs normālā darba laika nostrādātām stundām, apmaksājamām stundām un izdevumiem, kas radušies saistībā ar mērķi ierobežot Covid-19 izplatību
A4: Iestādes nosaukums: SIA "Daugavpils reģionālā slimnīca"
A5: Pārskata mēnesis: Decembris
B7: Nodarbināto skaits mēnesī | C7: Apmaksājamais laiks mēnesī, stundas (tai skaitā summētā darba laika ietvaros) | F7: Mēnešalga no kuras rēķina stundas likmi | G7: Stundas likme (aprēķināta atbilstoši mēnešalgai vai darba līgumā noteiktā stundas likme) | H7: Apmaksājamā 100% piemaksa par nostrādātām virsstundām virs normālā darba laika (tai skaitā summētā darba laika ietvaros) | I7: Izdevumi par virsstundām kopā ar VSOAI, EUR
C8: Kopā | D8: līdz normālam darba laikam | E8: virsstundas - virs normālā darba laika, kas saistītas ar darbu ar Covid-19
A10: 1 | B10: 2 | C10: 3=4+5 | D10: 4 | E10: 5 | F10: 6 | G10: 7 | H10: 8 | I10: 9=8 + VSOAI
A11: KOPĀ | B11: =B12+B105+B118+B165+B183+B190+B220+B236+B241+B260+B266 -> 259 | E11: =E12+E105+E118+E165+E183+E190+E220+E236+E241+E260+E266 -> 8522.75 | H11: =H12+H105+H118+H165+H183+H190+H220+H236+H241+H260+H266 -> 131353.68 | I11: =I12+I105+I118+I165+I183+I190+I220+I236+I241+I260+I266 -> 162134.4
A12: Centrālā slimnīca "Uzņemšanas nodaļa" | B12: =B13+B52+B89 -> 89 | E12: =E13+E52+E89 -> 3900.5 | H12: =H13+H52+H89 -> 64318.6 | I12: =I13+I52+I89 -> 79346.3
A13: Ārsti, zobārsti un funkcionālie speciālisti, kopā, tai skaitā: | B13: =SUM(B14:B51) -> 38 | E13: =SUM(E14:E51) -> 2473 | H13: =SUM(H14:H51) -> 49152.32 | I13: =SUM(I14:I51) -> 60602.29
A14: Ārsts (dežūrslodze) | B14: 1 | C14: =D14+E14 -> 241.5 | D14: 166 | E14: 75.5 | F14: 1636.01 | G14: =F14/166 -> 9.8554819 | H14: =ROUND(E14*G14*2,2) -> 1488.18 | I14: =ROUND(H14*1.2359,2) -> 1839.24
A15: Ārsts (dežūrslodze) | B15: 1 | C15: =D15+E15 -> 216 | D15: 142 | E15: 74 | F15: 1636.01 | G15: =F15/166 -> 9.8554819 | H15: =ROUND(E15*G15*2,2) -> 1458.61 | I15: =ROUND(H15*1.2077,2) -> 1761.56
A16: Ārsts stažieris | B16: 1 | C16: =D16+E16 -> 278 | D16: 166 | E16: 112 | F16: 1636.01 | G16: =F16/166 -> 9.8554819 | H16: =ROUND(E16*G16*2,2) -> 2207.63 | I16: =ROUND(H16*1.2359,2) -> 2728.41
A17: Ginekologs, dzemdību speciālists | B17: 1 | C17: =D17+E17 -> 183 | D17: 135 | E17: 48 | F17: 1636.01 | G17: =F17/166 -> 9.8554819 | H17: =ROUND(E17*G17*2,2) -> 946.13 | I17: =ROUND(H17*1.2077,2) -> 1142.64
A18: Ginekologs, dzemdību speciālists | B18: 1 | C18: =D18+E18 -> 127 | D18: 112 | E18: 15 | F18: 1636.01 | G18: =F18/166 -> 9.8554819 | H18: =ROUND(E18*G18*2,2) -> 295.66 | I18: =ROUND(H18*1.2359,2) -> 365.41
A19: Ginekologs, dzemdību speciālists | B19: 1 | C19: =D19+E19 -> 194 | D19: 166 | E19: 28 | F19: 1636.01 | G19: =F19/166 -> 9.8554819 | H19: =ROUND(E19*G19*2,2) -> 551.91 | I19: =ROUND(H19*1.2359,2) -> 682.11
A20: Bērnu ķirurgs | B20: 1 | C20: =D20+E20 -> 278 | D20: 166 | E20: 112 | F20: 1636.01 | G20: =F20/166 -> 9.8554819 | H20: =ROUND(E20*G20*2,2) -> 2207.63 | I20: =ROUND(H20*1.2359,2) -> 2728.41
A21: Internists | B21: 1 | C21: =D21+E21 -> 289 | D21: 145 | E21: 144 | F21: 1870.65 | G21: =F21/166 -> 11.268976 | H21: =ROUND(E21*G21*2,2) -> 3245.47 | I21: =ROUND(H21*1.2359,2) -> 4011.08
A22: Internists | B22: 1 | C22: =D22+E22 -> 271 | D22: 159 | E22: 112 | F22: 1636.01 | G22: =F22/166 -> 9.8554819 | H22: =ROUND(E22*G22*2,2) -> 2207.63 | I22: =ROUND(H22*1.2359,2) -> 2728.41
A23: Kardiologs | B23: 1 | C23: =D23+E23 -> 158 | D23: 145 | E23: 13 | F23: 1636.01 | G23: =F23/166 -> 9.8554819 | H23: =ROUND(E23*G23*2,2) -> 256.24 | I23: =ROUND(H23*1.2359,2) -> 316.69
A24: Kardiologs | B24: 1 | C24: =D24+E24 -> 262 | D24: 166 | E24: 96 | F24: 1636.01 | G24: =F24/166 -> 9.8554819 | H24: =ROUND(E24*G24*2,2) -> 1892.25 | I24: =ROUND(H24*1.2359,2) -> 2338.63
A25: Kardiologs | B25: 1 | C25: =D25+E25 -> 262 | D25: 166 | E25: 96 | F25: 1636.01 | G25: =F25/166 -> 9.8554819 | H25: =ROUND(E25*G25*2,2) -> 1892.25 | I25: =ROUND(H25*1.2359,2) -> 2338.63
A26: Kardiologs | B26: 1 | C26: =D26+E26 -> 211 | D26: 131 | E26: 80 | F26: 1636.01 | G26: =F26/166 -> 9.8554819 | H26: =ROUND(E26*G26*2,2) -> 1576.88 | I26: =ROUND(H26*1.2359,2) -> 1948.87
A27: Kardiologs | B27: 1 | C27: =D27+E27 -> 214 | D27: 166 | E27: 48 | F27: 1636.01 | G27: =F27/166 -> 9.8554819 | H27: =ROUND(E27*G27*2,2) -> 946.13 | I27: =ROUND(H27*1.2359,2) -> 1169.32
A28: Kardiologs | B28: 1 | C28: =D28+E28 -> 149 | D28: 145 | E28: 4 | F28: 1636.01 | G28: =F28/166 -> 9.8554819 | H28: =ROUND(E28*G28*2,2) -> 78.84 | I28: =ROUND(H28*1.2359,2) -> 97.44
A29: Kardiologs | B29: 1 | C29: =D29+E29 -> 206 | D29: 166 | E29: 40 | F29: 1636.01 | G29: =F29/166 -> 9.8554819 | H29: =ROUND(E29*G29*2,2) -> 788.44 | I29: =ROUND(H29*1.2359,2) -> 974.43
A30: Ķirurgs | B30: 1 | C30: =D30+E30 -> 267 | D30: 166 | E30: 101 | F30: 1636.01 | G30: =F30/166 -> 9.8554819 | H30: =ROUND(E30*G30*2,2) -> 1990.81 | I30: =ROUND(H30*1.2077,2) -> 2404.3
A31: Ķirurgs | B31: 1 | C31: =D31+E31 -> 231 | D31: 166 | E31: 65 | F31: 1636.01 | G31: =F31/166 -> 9.8554819 | H31: =ROUND(E31*G31*2,2) -> 1281.21 | I31: =ROUND(H31*1.2359,2) -> 1583.45
A32: Ķirurgs | B32: 1 | C32: =D32+E32 -> 217 | D32: 166 | E32: 51 | F32: 1636.01 | G32: =F32/166 -> 9.8554819 | H32: =ROUND(E32*G32*2,2) -> 1005.26 | I32: =ROUND(H32*1.2359,2) -> 1242.4
A33: Ķirurgs | B33: 1 | C33: =D33+E33 -> 207.5 | D33: 166 | E33: 41.5 | F33: 1636.01 | G33: =F33/166 -> 9.8554819 | H33: =ROUND(E33*G33*2,2) -> 818.01 | I33: =ROUND(H33*1.2359,2) -> 1010.98
A34: Ķirurgs | B34: 1 | C34: =D34+E34 -> 128 | D34: 88 | E34: 40 | F34: 1636.01 | G34: =F34/166 -> 9.8554819 | H34: =ROUND(E34*G34*2,2) -> 788.44 | I34: =ROUND(H34*1.2359,2) -> 974.43
A35: Ķirurgs | B35: 1 | C35: =D35+E35 -> 129.5 | D35: 105 | E35: 24.5 | F35: 1636.01 | G35: =F35/166 -> 9.8554819 | H35: =ROUND(E35*G35*2,2) -> 482.92 | I35: =ROUND(H35*1.2359,2) -> 596.84
A36: Ķirurgs | B36: 1 | C36: =D36+E36 -> 294 | D36: 166 | E36: 128 | F36: 1636.01 | G36: =F36/166 -> 9.8554819 | H36: =ROUND(E36*G36*2,2) -> 2523 | I36: =ROUND(H36*1.2359,2) -> 3118.18
A37: Neatliekamās medicīnas ārsts | B37: 1 | C37: =D37+E37 -> 168 | D37: 166 | E37: 2 | F37: 1636.01 | G37: =F37/166 -> 9.8554819 | H37: =ROUND(E37*G37*2,2) -> 39.42 | I37: =ROUND(H37*1.2359,2) -> 48.72
A38: Neatliekamās medicīnas ārsts | B38: 1 | C38: =D38+E38 -> 176 | D38: 166 | E38: 10 | F38: 1636.01 | G38: =F38/166 -> 9.8554819 | H38: =ROUND(E38*G38*2,2) -> 197.11 | I38: =ROUND(H38*1.2359,2) -> 243.61
A39: Pediatrs | B39: 1 | C39: =D39+E39 -> 263 | D39: 135 | E39: 128 | F39: 1636.01 | G39: =F39/166 -> 9.8554819 | H39: =ROUND(E39*G39*2,2) -> 2523 | I39: =ROUND(H39*1.2359,2) -> 3118.18
A40: Pediatrs | B40: 1 | C40: =D40+E40 -> 228 | D40: 166 | E40: 62 | F40: 1636.01 | G40: =F40/166 -> 9.8554819 | H40: =ROUND(E40*G40*2,2) -> 1222.08 | I40: =ROUND(H40*1.2359,2) -> 1510.37
A41: Pediatrs | B41: 1 | C41: =D41+E41 -> 310 | D41: 166 | E41: 144 | F41: 1636.01 | G41: =F41/166 -> 9.8554819 | H41: =ROUND(E41*G41*2,2) -> 2838.38 | I41: =ROUND(H41*1.2359,2) -> 3507.95
A42: Pediatrs | B42: 1 | C42: =D42+E42 -> 204 | D42: 166 | E42: 38 | F42: 1636.01 | G42: =F42/166 -> 9.8554819 | H42: =ROUND(E42*G42*2,2) -> 749.02 | I42: =ROUND(H42*1.2077,2) -> 904.59
A43: Rezidents | B43: 1 | C43: =D43+E43 -> 205 | D43: 166 | E43: 39 | F43: 1636.01 | G43: =F43/166 -> 9.8554819 | H43: =ROUND(E43*G43*2,2) -> 768.73 | I43: =ROUND(H43*1.2359,2) -> 950.07
A44: Rezidents | B44: 1 | C44: =D44+E44 -> 174 | D44: 166 | E44: 8 | F44: 1636.01 | G44: =F44/166 -> 9.8554819 | H44: =ROUND(E44*G44*2,2) -> 157.69 | I44: =ROUND(H44*1.2359,2) -> 194.89
A45: Rezidents | B45: 1 | C45: =D45+E45 -> 207 | D45: 142 | E45: 65 | F45: 1636.01 | G45: =F45/166 -> 9.8554819 | H45: =ROUND(E45*G45*2,2) -> 1281.21 | I45: =ROUND(H45*1.2359,2) -> 1583.45
A46: Rezidents | B46: 1 | C46: =D46+E46 -> 246 | D46: 166 | E46: 80 | F46: 1636.01 | G46: =F46/166 -> 9.8554819 | H46: =ROUND(E46*G46*2,2) -> 1576.88 | I46: =ROUND(H46*1.2359,2) -> 1948.87
A47: Rezidents | B47: 1 | C47: =D47+E47 -> 219 | D47: 166 | E47: 53 | F47: 1636.01 | G47: =F47/166 -> 9.8554819 | H47: =ROUND(E47*G47*2,2) -> 1044.68 | I47: =ROUND(H47*1.2359,2) -> 1291.12
A48: Traumatologs - ortopēds | B48: 1 | C48: =D48+E48 -> 182 | D48: 150 | E48: 32 | F48: 1636.01 | G48: =F48/166 -> 9.8554819 | H48: =ROUND(E48*G48*2,2) -> 630.75 | I48: =ROUND(H48*1.2359,2) -> 779.54
A49: Traumatologs - ortopēds | B49: 1 | C49: =D49+E49 -> 217 | D49: 166 | E49: 51 | F49: 1636.01 | G49: =F49/166 -> 9.8554819 | H49: =ROUND(E49*G49*2,2) -> 1005.26 | I49: =ROUND(H49*1.2359,2) -> 1242.4
A50: Traumatologs - ortopēds | B50: 1 | C50: =D50+E50 -> 264 | D50: 166 | E50: 98 | F50: 1636.01 | G50: =F50/166 -> 9.8554819 | H50: =ROUND(E50*G50*2,2) -> 1931.67 | I50: =ROUND(H50*1.2359,2) -> 2387.35
A51: Traumatologs - ortopēds | B51: 1 | C51: =D51+E51 -> 249.5 | D51: 135 | E51: 114.5 | F51: 1636.01 | G51: =F51/166 -> 9.8554819 | H51: =ROUND(E51*G51*2,2) -> 2256.91 | I51: =ROUND(H51*1.2359,2) -> 2789.32
A52: Ārstniecības un pacientu aprūpes personas un funkcionālo speciālistu asistenti, kopā, tai skaitā: | B52: =SUM(B53:B88) -> 36 | E52: =SUM(E53:E88) -> 997.5 | H52: =SUM(H53:H88) -> 11437.61 | I52: =SUM(I53:I88) -> 14135.72
A53: Ārsta palīgs | B53: 1 | C53: =D53+E53 -> 212 | D53: 166 | E53: 46 | F53: 976.65 | G53: =F53/166 -> 5.8834337 | H53: =ROUND(E53*G53*2,2) -> 541.28 | I53: =ROUND(H53*1.2359,2) -> 668.97
A54: Ārsta palīgs | B54: 1 | C54: =D54+E54 -> 203 | D54: 166 | E54: 37 | F54: 976.65 | G54: =F54/166 -> 5.8834337 | H54: =ROUND(E54*G54*2,2) -> 435.37 | I54: =ROUND(H54*1.2359,2) -> 538.07
A55: Ārsta palīgs | B55: 1 | C55: =D55+E55 -> 220 | D55: 166 | E55: 54 | F55: 862.62 | G55: =F55/166 -> 5.196506 | H55: =ROUND(E55*G55*2,2) -> 561.22 | I55: =ROUND(H55*1.2359,2) -> 693.61
A56: Ārsta palīgs | B56: 1 | C56: =D56+E56 -> 214 | D56: 166 | E56: 48 | F56: 976.65 | G56: =F56/166 -> 5.8834337 | H56: =ROUND(E56*G56*2,2) -> 564.81 | I56: =ROUND(H56*1.2359,2) -> 698.05
A57: Ārsta palīgs | B57: 1 | C57: =D57+E57 -> 204 | D57: 166 | E57: 38 | F57: 862.62 | G57: =F57/166 -> 5.196506 | H57: =ROUND(E57*G57*2,2) -> 394.93 | I57: =ROUND(H57*1.2359,2) -> 488.09
A58: Ārsta palīgs | B58: 1 | C58: =D58+E58 -> 120 | D58: 94 | E58: 26 | F58: 862.62 | G58: =F58/166 -> 5.196506 | H58: =ROUND(E58*G58*2,2) -> 270.22 | I58: =ROUND(H58*1.2359,2) -> 333.96
A59: Ārsta palīgs | B59: 1 | C59: =D59+E59 -> 128 | D59: 102 | E59: 26 | F59: 976.65 | G59: =F59/166 -> 5.8834337 | H59: =ROUND(E59*G59*2,2) -> 305.94 | I59: =ROUND(H59*1.2359,2) -> 378.11
A60: Internās aprūpes māsa | B60: 1 | C60: =D60+E60 -> 220 | D60: 166 | E60: 54 | F60: 976.65 | G60: =F60/166 -> 5.8834337 | H60: =ROUND(E60*G60*2,2) -> 635.41 | I60: =ROUND(H60*1.2359,2) -> 785.3
A61: Internās aprūpes māsa | B61: 1 | C61: =D61+E61 -> 188 | D61: 166 | E61: 22 | F61: 976.65 | G61: =F61/166 -> 5.8834337 | H61: =ROUND(E61*G61*2,2) -> 258.87 | I61: =ROUND(H61*1.2359,2) -> 319.94
A62: Internās aprūpes māsa | B62: 1 | C62: =D62+E62 -> 204 | D62: 166 | E62: 38 | F62: 976.65 | G62: =F62/166 -> 5.8834337 | H62: =ROUND(E62*G62*2,2) -> 447.14 | I62: =ROUND(H62*1.2359,2) -> 552.62
A63: Internās aprūpes māsa | B63: 1 | C63: =D63+E63 -> 192 | D63: 166 | E63: 26 | F63: 976.65 | G63: =F63/166 -> 5.8834337 | H63: =ROUND(E63*G63*2,2) -> 305.94 | I63: =ROUND(H63*1.2359,2) -> 378.11
A64: Internās aprūpes māsa | B64: 1 | C64: =D64+E64 -> 188 | D64: 166 | E64: 22 | F64: 976.65 | G64: =F64/166 -> 5.8834337 | H64: =ROUND(E64*G64*2,2) -> 258.87 | I64: =ROUND(H64*1.2359,2) -> 319.94
... A88: Operāciju māsa | B88: 1 | C88: =D88+E88 -> 184 | D88: 166 | E88: 18 | F88: 976.65 | G88: =F88/166 -> 5.8834337 | H88: =ROUND(E88*G88*2,2) -> 211.8 | I88: =ROUND(H88*1.2359,2) -> 261.76
A89: Ārstniecības un pacientu aprūpes atbalsta personas, māsu palīgi, zobārstu asistenti, kopā, tai skaitā: | B89: =SUM(B90:B104) -> 15 | E89: =SUM(E90:E104) -> 430 | H89: =SUM(H90:H104) -> 3728.67 | I89: =SUM(I90:I104) -> 4608.29
A90: Māsas palīgs | B90: 1 | C90: =D90+E90 -> 204 | D90: 166 | E90: 38 | F90: 718.85 | G90: =F90/166 -> 4.3304217 | H90: =ROUND(E90*G90*2,2) -> 329.11 | I90: =ROUND(H90*1.2359,2) -> 406.75
A91: Māsas palīgs | B91: 1 | C91: =D91+E91 -> 196 | D91: 166 | E91: 30 | F91: 718.85 | G91: =F91/166 -> 4.3304217 | H91: =ROUND(E91*G91*2,2) -> 259.83 | I91: =ROUND(H91*1.2359,2) -> 321.12
A92: Māsas palīgs | B92: 1 | C92: =D92+E92 -> 147 | D92: 135 | E92: 12 | F92: 718.85 | G92: =F92/166 -> 4.3304217 | H92: =ROUND(E92*G92*2,2) -> 103.93 | I92: =ROUND(H92*1.2359,2) -> 128.45
A93: Māsas palīgs | B93: 1 | C93: =D93+E93 -> 204 | D93: 166 | E93: 38 | F93: 718.85 | G93: =F93/166 -> 4.3304217 | H93: =ROUND(E93*G93*2,2) -> 329.11 | I93: =ROUND(H93*1.2359,2) -> 406.75
A94: Māsas palīgs | B94: 1 | C94: =D94+E94 -> 163 | D94: 151 | E94: 12 | F94: 718.85 | G94: =F94/166 -> 4.3304217 | H94: =ROUND(E94*G94*2,2) -> 103.93 | I94: =ROUND(H94*1.2359,2) -> 128.45
A95: Māsas palīgs | B95: 1 | C95: =D95+E95 -> 163 | D95: 151 | E95: 12 | F95: 750 | G95: =F95/166 -> 4.5180723 | H95: =ROUND(E95*G95*2,2) -> 108.43 | I95: =ROUND(H95*1.2359,2) -> 134.01
A96: Māsas palīgs | B96: 1 | C96: =D96+E96 -> 200 | D96: 166 | E96: 34 | F96: 718.85 | G96: =F96/166 -> 4.3304217 | H96: =ROUND(E96*G96*2,2) -> 294.47 | I96: =ROUND(H96*1.2359,2) -> 363.94
A97: Māsas palīgs | B97: 1 | C97: =D97+E97 -> 208 | D97: 166 | E97: 42 | F97: 718.85 | G97: =F97/166 -> 4.3304217 | H97: =ROUND(E97*G97*2,2) -> 363.76 | I97: =ROUND(H97*1.2359,2) -> 449.57
A98: Māsas palīgs | B98: 1 | C98: =D98+E98 -> 204 | D98: 166 | E98: 38 | F98: 718.85 | G98: =F98/166 -> 4.3304217 | H98: =ROUND(E98*G98*2,2) -> 329.11 | I98: =ROUND(H98*1.2359,2) -> 406.75
A99: Māsas palīgs | B99: 1 | C99: =D99+E99 -> 200 | D99: 166 | E99: 34 | F99: 718.85 | G99: =F99/166 -> 4.3304217 | H99: =ROUND(E99*G99*2,2) -> 294.47 | I99: =ROUND(H99*1.2359,2) -> 363.94
A100: Māsas palīgs | B100: 1 | C100: =D100+E100 -> 204 | D100: 166 | E100: 38 | F100: 718.85 | G100: =F100/166 -> 4.3304217 | H100: =ROUND(E100*G100*2,2) -> 329.11 | I100: =ROUND(H100*1.2359,2) -> 406.75
A101: Māsas palīgs | B101: 1 | C101: =D101+E101 -> 204 | D101: 166 | E101: 38 | F101: 718.85 | G101: =F101/166 -> 4.3304217 | H101: =ROUND(E101*G101*2,2) -> 329.11 | I101: =ROUND(H101*1.2359,2) -> 406.75
... A104: Māsas palīgs | B104: 1 | C104: =D104+E104 -> 144 | D104: 119 | E104: 25 | F104: 718.85 | G104: =F104/166 -> 4.3304217 | H104: =ROUND(E104*G104*2,2) -> 216.52 | I104: =ROUND(H104*1.2359,2) -> 267.6
A105: "Plaušu slimību un tuberkulozes centrs " Uzņemšanas nodaļa, Covid 19 nodaļa | B105: =B106+B111+B115 -> 9 | E105: =E106+E111+E115 -> 387 | H105: =H106+H111+H115 -> 8253.51 | I105: =I106+I111+I115 -> 10200.51
A106: Ārsti, zobārsti un funkcionālie speciālisti, kopā, tai skaitā: | B106: =SUM(B107:B110) -> 4 | E106: =SUM(E107:E110) -> 344 | H106: =SUM(H107:H110) -> 7753.1 | I106: =SUM(I107:I110) -> 9582.06
A107: Infektologs | B107: 1 | C107: =D107+E107 -> 313 | D107: 145 | E107: 168 | F107: 1634.01 | G107: =F107/145 -> 11.269034 | H107: =ROUND(E107*G107*2,2) -> 3786.4 | I107: =ROUND(H107*1.2359,2) -> 4679.61
A108: Kardiologs | B108: 1 | C108: =D108+E108 -> 177 | D108: 145 | E108: 32 | F108: 1634.01 | G108: =F108/145 -> 11.269034 | H108: =ROUND(E108*G108*2,2) -> 721.22 | I108: =ROUND(H108*1.2359,2) -> 891.36
A109: Pneimonologs | B109: 1 | C109: =D109+E109 -> 177 | D109: 145 | E109: 32 | F109: 1634.01 | G109: =F109/145 -> 11.269034 | H109: =ROUND(E109*G109*2,2) -> 721.22 | I109: =ROUND(H109*1.2359,2) -> 891.36
A110: Narkologs | B110: 1 | C110: =D110+E110 -> 222 | D110: 110 | E110: 112 | F110: 1634.01 | G110: =F110/145 -> 11.269034 | H110: =ROUND(E110*G110*2,2) -> 2524.26 | I110: =ROUND(H110*1.2359,2) -> 3119.73
A111: Ārstniecības un pacientu aprūpes atbalsta personas, māsu palīgi, zobārstu asistenti, kopā, tai skaitā: | B111: =SUM(B112:B114) -> 3 | E111: =SUM(E112:E114) -> 21 | H111: =SUM(H112:H114) -> 282.54 | I111: =SUM(I112:I114) -> 349.19
A112: Internās aprūpes māsa | B112: 1 | C112: =D112+E112 -> 152 | D112: 145 | E112: 7 | F112: 975.44 | G112: =F112/145 -> 6.7271724 | H112: =ROUND(E112*G112*2,2) -> 94.18 | I112: =ROUND(H112*1.2359,2) -> 116.4
A113: Internās aprūpes māsa | B113: 1 | C113: =D113+E113 -> 156 | D113: 145 | E113: 11 | F113: 975.44 | G113: =F113/145 -> 6.7271724 | H113: =ROUND(E113*G113*2,2) -> 148 | I113: =ROUND(H113*1.2359,2) -> 182.91
A114: Internās aprūpes māsa | B114: 1 | C114: =D114+E114 -> 148 | D114: 145 | E114: 3 | F114: 975.44 | G114: =F114/145 -> 6.7271724 | H114: =ROUND(E114*G114*2,2) -> 40.36 | I114: =ROUND(H114*1.2359,2) -> 49.88
A115: Ārstniecības un pacientu aprūpes atbalsta personas, māsu palīgi, zobārstu asistenti, kopā, tai skaitā: | B115: =SUM(B116:B117) -> 2 | E115: =SUM(E116:E117) -> 22 | H115: =SUM(H116:H117) -> 217.87 | I115: =SUM(I116:I117) -> 269.26
A116: Māsas palīgs | B116: 1 | C116: =D116+E116 -> 152 | D116: 145 | E116: 7 | F116: 717.97 | G116: =F116/145 -> 4.9515172 | H116: =ROUND(E116*G116*2,2) -> 69.32 | I116: =ROUND(H116*1.2359,2) -> 85.67
A117: Māsas palīgs | B117: 1 | C117: =D117+E117 -> 160 | D117: 145 | E117: 15 | F117: 717.97 | G117: =F117/145 -> 4.9515172 | H117: =ROUND(E117*G117*2,2) -> 148.55 | I117: =ROUND(H117*1.2359,2) -> 183.59
A118: "Plaušu slimību un tuberkulozes centrs" Infekcijas nodaļa - Covid19 nodaļa | B118: =B119+B121+B146 -> 43 | E118: =E119+E121+E146 -> 768 | H118: =H119+H121+H146 -> 8934.96 | I118: =I119+I121+I146 -> 11039.64
A119: Ārsti, zobārsti un funkcionālie speciālisti, kopā, tai skaitā: | B119: =SUM(B120) -> 1 | E119: =SUM(E120) -> 11 | H119: =SUM(H120) -> 268.6 | I119: =SUM(I120) -> 331.96
A120: Infektologs | B120: 1 | C120: =D120+E120 -> 177 | D120: 166 | E120: 11 | F120: 2026.7091 | G120: =F120/166 -> 12.209091 | H120: =ROUND(E120*G120*2,2) -> 268.6 | I120: =ROUND(H120*1.2359,2) -> 331.96
A121: Ārstniecības un pacientu aprūpes personas un funkcionālo speciālistu asistenti, kopā, tai skaitā: | B121: =SUM(B122:B145) -> 24 | E121: =SUM(E122:E145) -> 340 | H121: =SUM(H122:H145) -> 4536.77 | I121: =SUM(I122:I145) -> 5606.99
A122: Internās aprūpes māsa | B122: 1 | C122: =D122+E122 -> 169 | D122: 145 | E122: 24 | F122: 975.44 | G122: =F122/145 -> 6.7271724 | H122: =ROUND(E122*G122*2,2) -> 322.9 | I122: =ROUND(H122*1.2359,2) -> 399.07
A123: Internās aprūpes māsa | B123: 1 | C123: =D123+E123 -> 144 | D123: 138 | E123: 6 | F123: 975.44 | G123: =F123/145 -> 6.7271724 | H123: =ROUND(E123*G123*2,2) -> 80.73 | I123: =ROUND(H123*1.2359,2) -> 99.77
A124: Internās aprūpes māsa | B124: 1 | C124: =D124+E124 -> 148 | D124: 145 | E124: 3 | F124: 975.44 | G124: =F124/145 -> 6.7271724 | H124: =ROUND(E124*G124*2,2) -> 40.36 | I124: =ROUND(H124*1.2359,2) -> 49.88
A125: Internās aprūpes māsa | B125: 1 | C125: =D125+E125 -> 160 | D125: 145 | E125: 15 | F125: 975.44 | G125: =F125/145 -> 6.7271724 | H125: =ROUND(E125*G125*2,2) -> 201.82 | I125: =ROUND(H125*1.2359,2) -> 249.43
A126: Internās aprūpes māsa | B126: 1 | C126: =D126+E126 -> 157 | D126: 145 | E126: 12 | F126: 975.44 | G126: =F126/145 -> 6.7271724 | H126: =ROUND(E126*G126*2,2) -> 161.45 | I126: =ROUND(H126*1.2359,2) -> 199.54
A127: Internās aprūpes māsa | B127: 1 | C127: =D127+E127 -> 153 | D127: 145 | E127: 8 | F127: 975.44 | G127: =F127/145 -> 6.7271724 | H127: =ROUND(E127*G127*2,2) -> 107.63 | I127: =ROUND(H127*1.2359,2) -> 133.02
A128: Internās aprūpes māsa | B128: 1 | C128: =D128+E128 -> 184 | D128: 145 | E128: 39 | F128: 975.44 | G128: =F128/145 -> 6.7271724 | H128: =ROUND(E128*G128*2,2) -> 524.72 | I128: =ROUND(H128*1.2359,2) -> 648.5
...

Sheet Z-Kurzeme_nov
H1: 1.9.Pielikums
A2: Pārskats par darba veicējiem (ārstniecības personām), virs normālā darba laika nostrādātām stundām, apmaksājamām stundām un izdevumiem, kas radušies saistībā ar mērķi ierobežot Covid-19 izplatību
A4: Iestādes nosaukums: SIA "Ziemeļkurzemes reģionālā slimnīca"
A5: Pārskata mēnesis: Novembris
B7: Nodarbināto skaits mēnesī | C7: Apmaksājamais laiks mēnesī, stundas (tai skaitā summētā darba laika ietvaros) | F7: Mēnešalga no kuras rēķina stundas likmi | G7: Stundas likme (aprēķināta atbilstoši mēnešalgai vai darba līgumā noteiktā stundas likme) | H7: Apmaksājamā 100% piemaksa par nostrādātām virsstundām virs normālā darba laika (tai skaitā summētā darba laika ietvaros) | I7: Izdevumi par virsstundām kopā ar VSOAI, EUR
C8: Kopā | D8: līdz normālam darba laikam | E8: virsstundas - virs normālā darba laika, kas saistītas ar darbu ar Covid-19
A9: 1 | B9: 2 | C9: 3=4+5 | D9: 4 | E9: 5 | F9: 6 | G9: 7 | H9: 8 | I9: 9=8 + VSOAI
A10: KOPĀ | B10: =B11+B24+B52+B70+B86+B110+B121+B135+B158+B183+B204+B228+B240+B246+B253 -> 197 | E10: =E11+E24+E52+E70+E86+E110+E121+E135+E158+E183+E204+E228+E240+E246+E253 -> 7352.61 | H10: =H11+H24+H52+H70+H86+H110+H121+H135+H158+H183+H204+H228+H240+H246+H253 -> 93899.3 | I10: =I11+I24+I52+I70+I86+I110+I121+I135+I158+I183+I204+I228+I240+I246+I253 -> 115893.28
A11: Infekciju nodaļa (35 stundas nedēļā) | B11: =B12+B17+B20 -> 9 | E11: =E12+E17+E20 -> 340.25 | H11: =H12+H17+H20 -> 3930.4 | I11: =I12+I17+I20 -> 4803.85
A12: Ārstniecības un pacientu aprūpes personas un funkcionālo speciālistu asistenti, kopā, tai skaitā: | B12: =SUM(B13:B16) -> 4 | E12: =SUM(E13:E16) -> 180.25 | H12: =SUM(H13:H16) -> 2419.45 | I12: =SUM(I13:I16) -> 2941.77
A13: Infektoloģijas māsa | B13: 1 | C13: =D13+E13 -> 166 | D13: 145 | E13: 21 | G13: 6.747 | H13: =ROUND(G13*E13*2,2) -> 283.37 | I13: =ROUND(H13*1.2359,2) -> 350.22
A14: Infektoloģijas māsa | B14: 1 | C14: =D14+E14 -> 168 | D14: 145 | E14: 23 | G14: 6.747 | H14: =ROUND(G14*E14*2,2) -> 310.36 | I14: =ROUND(H14*1.2359,2) -> 383.57
A15: Infektoloģijas māsa | B15: 1 | C15: =D15+E15 -> 154 | D15: 145 | E15: 9 | G15: 6.034 | H15: =ROUND(G15*E15*2,2) -> 108.61 | I15: =ROUND(H15*1.2359,2) -> 134.23
A16: Infektoloģijas māsa | B16: 1 | C16: =D16+E16 -> 272.25 | D16: 145 | E16: 127.25 | G16: 6.747 | H16: =ROUND(G16*E16*2,2) -> 1717.11 | I16: =ROUND(H16*1.2077,2) -> 2073.75
A17: Ārstniecības un pacientu aprūpes atbalsta personas, māsu palīgi, zobārstu aistenti, kopā, tai skaitā: | B17: =SUM(B18:B19) -> 2 | E17: =SUM(E18:E19) -> 48 | H17: =SUM(H18:H19) -> 475.4 | I17: =SUM(I18:I19) -> 582.24
A18: Māsas palīgs | B18: 1 | C18: =D18+E18 -> 164 | D18: 145 | E18: 19 | G18: 4.952 | H18: =ROUND(G18*E18*2,2) -> 188.18 | I18: =ROUND(H18*1.2077,2) -> 227.26
A19: Māsas palīgs | B19: 1 | C19: =D19+E19 -> 174 | D19: 145 | E19: 29 | G19: 4.952 | H19: =ROUND(G19*E19*2,2) -> 287.22 | I19: =ROUND(H19*1.2359,2) -> 354.98
A20: Pārējie darbinieki, kuri tieši iesaistīti darbā ar Covid-19, kopā, tai skaitā: | B20: =SUM(B21:B23) -> 3 | E20: =SUM(E21:E23) -> 112 | H20: =SUM(H21:H23) -> 1035.55 | I20: =SUM(I21:I23) -> 1279.84
A21: Sanitārs | B21: 1 | C21: =D21+E21 -> 207 | D21: 145 | E21: 62 | G21: 4.623 | H21: =ROUND(G21*E21*2,2) -> 573.25 | I21: =ROUND(H21*1.2359,2) -> 708.48
A22: Sanitārs | B22: 1 | C22: =D22+E22 -> 182 | D22: 145 | E22: 37 | G22: 4.623 | H22: =ROUND(G22*E22*2,2) -> 342.1 | I22: =ROUND(H22*1.2359,2) -> 422.8
A23: Sanitārs | B23: 1 | C23: =D23+E23 -> 158 | D23: 145 | E23: 13 | G23: 4.623 | H23: =ROUND(G23*E23*2,2) -> 120.2 | I23: =ROUND(H23*1.2359,2) -> 148.56
A24: ANESTEZIOLOĢIJAS UN INTENSĪVĀS TERAPIJAS NODAĻA (35 stundas nedēļā) | B24: =B25+B29+B41+B50 -> 23 | E24: =E25+E29+E41+E50 -> 1127.75 | H24: =H25+H29+H41+H50 -> 14149.48 | I24: =I25+I29+I41+I50 -> 17478.23
A25: Ārsti, zobārsti un funkcionālie speciālisti, kopā, tai skaitā: | B25: =SUM(B26:B28) -> 3 | E25: =SUM(E26:E28) -> 80 | H25: =SUM(H26:H28) -> 1736.96 | I25: =SUM(I26:I28) -> 2146.71
A26: Anesteziologs un reanimatologs | B26: 1 | C26: =D26+E26 -> 176 | D26: 145 | E26: 31 | G26: 10.856 | H26: =ROUND(G26*E26*2,2) -> 673.07 | I26: =ROUND(H26*1.2359,2) -> 831.85
A27: Anesteziologs un reanimatologs | B27: 1 | C27: =D27+E27 -> 155 | D27: 145 | E27: 10 | G27: 10.856 | H27: =ROUND(G27*E27*2,2) -> 217.12 | I27: =ROUND(H27*1.2359,2) -> 268.34
A28: Anesteziologs un reanimatologs (dežūrārsts) | B28: 1 | C28: =D28+E28 -> 184 | D28: 145 | E28: 39 | G28: 10.856 | H28: =ROUND(G28*E28*2,2) -> 846.77 | I28: =ROUND(H28*1.2359,2) -> 1046.52
A29: Ārstniecības un pacientu aprūpes personas un funkcionālo speciālistu asistenti, kopā, tai skaitā: | B29: =SUM(B30:B40) -> 11 | E29: =SUM(E30:E40) -> 762.75 | H29: =SUM(H30:H40) -> 9598.43 | I29: =SUM(I30:I40) -> 11853.57
A30: Intensīvās terapijas un anestēzijas māsa | B30: 1 | C30: =D30+E30 -> 262 | D30: 145 | E30: 117 | G30: 6.404 | H30: =ROUND(G30*E30*2,2) -> 1498.54 | I30: =ROUND(H30*1.2359,2) -> 1852.05
A31: Intensīvās terapijas un anestēzijas māsa | B31: 1 | C31: =D31+E31 -> 215 | D31: 145 | E31: 70 | G31: 6.23 | H31: =ROUND(G31*E31*2,2) -> 872.2 | I31: =ROUND(H31*1.2359,2) -> 1077.95
A32: Intensīvās terapijas un anestēzijas māsa | B32: 1 | C32: =D32+E32 -> 233 | D32: 145 | E32: 88 | G32: 6.23 | H32: =ROUND(G32*E32*2,2) -> 1096.48 | I32: =ROUND(H32*1.2359,2) -> 1355.14
A33: Intensīvās terapijas un anestēzijas māsa | B33: 1 | C33: =D33+E33 -> 218 | D33: 145 | E33: 73 | G33: 6.23 | H33: =ROUND(G33*E33*2,2) -> 909.58 | I33: =ROUND(H33*1.2359,2) -> 1124.15
A34: Intensīvās terapijas un anestēzijas māsa | B34: 1 | C34: =D34+E34 -> 203 | D34: 145 | E34: 58 | G34: 6.23 | H34: =ROUND(G34*E34*2,2) -> 722.68 | I34: =ROUND(H34*1.2359,2) -> 893.16
A35: Intensīvās terapijas un anestēzijas māsa | B35: 1 | C35: =D35+E35 -> 221 | D35: 145 | E35: 76 | G35: 6.23 | H35: =ROUND(G35*E35*2,2) -> 946.96 | I35: =ROUND(H35*1.2359,2) -> 1170.35
A36: Intensīvās terapijas un anestēzijas māsa | B36: 1 | C36: =D36+E36 -> 230.75 | D36: 145 | E36: 85.75 | G36: 6.23 | H36: =ROUND(G36*E36*2,2) -> 1068.45 | I36: =ROUND(H36*1.2359,2) -> 1320.5
A37: Intensīvās terapijas un anestēzijas māsa | B37: 1 | C37: =D37+E37 -> 205 | D37: 145 | E37: 60 | G37: 6.23 | H37: =ROUND(G37*E37*2,2) -> 747.6 | I37: =ROUND(H37*1.2359,2) -> 923.96
A38: Intensīvās terapijas un anestēzijas māsa | B38: 1 | C38: =D38+E38 -> 211 | D38: 145 | E38: 66 | G38: 6.23 | H38: =ROUND(G38*E38*2,2) -> 822.36 | I38: =ROUND(H38*1.2359,2) -> 1016.35
A39: Intensīvās terapijas un anestēzijas māsa | B39: 1 | C39: =D39+E39 -> 188 | D39: 145 | E39: 43 | G39: 6.856 | H39: =ROUND(G39*E39*2,2) -> 589.62 | I39: =ROUND(H39*1.2359,2) -> 728.71
A40: Intensīvās terapijas un anestēzijas māsa | B40: 1 | C40: =D40+E40 -> 171 | D40: 145 | E40: 26 | G40: 6.23 | H40: =ROUND(G40*E40*2,2) -> 323.96 | I40: =ROUND(H40*1.2077,2) -> 391.25
A41: Ārstniecības un pacientu aprūpes atbalsta personas, māsu palīgi, zobārstu aistenti, kopā, tai skaitā: | B41: =SUM(B42:B49) -> 8 | E41: =SUM(E42:E49) -> 272 | H41: =SUM(H42:H49) -> 2693.89 | I41: =SUM(I42:I49) -> 3329.39
A42: Māsas palīgs | B42: 1 | C42: =D42+E42 -> 168 | D42: 145 | E42: 23 | G42: 4.952 | H42: =ROUND(G42*E42*2,2) -> 227.79 | I42: =ROUND(H42*1.2359,2) -> 281.53
A43: Māsas palīgs | B43: 1 | C43: =D43+E43 -> 190 | D43: 145 | E43: 45 | G43: 4.952 | H43: =ROUND(G43*E43*2,2) -> 445.68 | I43: =ROUND(H43*1.2359,2) -> 550.82
A44: Māsas palīgs | B44: 1 | C44: =D44+E44 -> 180 | D44: 145 | E44: 35 | G44: 4.952 | H44: =ROUND(G44*E44*2,2) -> 346.64 | I44: =ROUND(H44*1.2359,2) -> 428.41
A45: Māsas palīgs | B45: 1 | C45: =D45+E45 -> 192 | D45: 145 | E45: 47 | G45: 4.952 | H45: =ROUND(G45*E45*2,2) -> 465.49 | I45: =ROUND(H45*1.2359,2) -> 575.3
A46: Māsas palīgs | B46: 1 | C46: =D46+E46 -> 169 | D46: 145 | E46: 24 | G46: 4.952 | H46: =ROUND(G46*E46*2,2) -> 237.7 | I46: =ROUND(H46*1.2359,2) -> 293.77
A47: Māsas palīgs | B47: 1 | C47: =D47+E47 -> 168 | D47: 145 | E47: 23 | G47: 4.952 | H47: =ROUND(G47*E47*2,2) -> 227.79 | I47: =ROUND(H47*1.2359,2) -> 281.53
A48: Māsas palīgs | B48: 1 | C48: =D48+E48 -> 183 | D48: 145 | E48: 38 | G48: 4.952 | H48: =ROUND(G48*E48*2,2) -> 376.35 | I48: =ROUND(H48*1.2359,2) -> 465.13
A49: Māsas palīgs | B49: 1 | C49: =D49+E49 -> 182 | D49: 145 | E49: 37 | G49: 4.952 | H49: =ROUND(G49*E49*2,2) -> 366.45 | I49: =ROUND(H49*1.2359,2) -> 452.9
A50: Pārējie darbinieki, kuri tieši iesaistīti darbā ar Covid-19, kopā, tai skaitā: | B50: =SUM(B51:B51) -> 1 | E50: =SUM(E51:E51) -> 13 | H50: =SUM(H51:H51) -> 120.2 | I50: =SUM(I51:I51) -> 148.56
A51: Sanitārs | B51: 1 | C51: =D51+E51 -> 158 | D51: 145 | E51: 13 | G51: 4.623 | H51: =ROUND(G51*E51*2,2) -> 120.2 | I51: =ROUND(H51*1.2359,2) -> 148.56
A52: DZEMDĪBU UN GINEKOLOĢIJAS BLOKS | B52: =B53+B55+B64+B68 -> 13 | E52: =E53+E55+E64+E68 -> 433 | H52: =H53+H55+H64+H68 -> 6811.79 | I52: =I53+I55+I64+I68 -> 8418.69
A53: Ārsti, zobārsti un funkcionālie speciālisti, kopā, tai skaitā: | B53: =SUM(B54:B54) -> 1 | E53: =SUM(E54:E54) -> 162 | H53: =SUM(H54:H54) -> 3617.78 | I53: =SUM(I54:I54) -> 4471.21
A54: Ginekologs, dzemdību speciālists (dežūrām) | B54: 1 | C54: =D54+E54 -> 328 | D54: 166 | E54: 162 | G54: 11.166 | H54: =ROUND(G54*E54*2,2) -> 3617.78 | I54: =ROUND(H54*1.2359,2) -> 4471.21
A55: Ārstniecības un pacientu aprūpes personas un funkcionālo speciālistu asistenti, kopā, tai skaitā: | B55: =SUM(B56:B63) -> 8 | E55: =SUM(E56:E63) -> 238 | H55: =SUM(H56:H63) -> 2909.44 | I55: =SUM(I56:I63) -> 3595.78
A56: Vecmāte | B56: 1 | C56: =D56+E56 -> 184 | D56: 166 | E56: 18 | G56: 6.23 | H56: =ROUND(G56*E56*2,2) -> 224.28 | I56: =ROUND(H56*1.2359,2) -> 277.19
A57: Vecmāte | B57: 1 | C57: =D57+E57 -> 180 | D57: 166 | E57: 14 | G57: 6.23 | H57: =ROUND(G57*E57*2,2) -> 174.44 | I57: =ROUND(H57*1.2359,2) -> 215.59
A58: Vecmāte | B58: 1 | C58: =D58+E58 -> 204 | D58: 166 | E58: 38 | G58: 6.23 | H58: =ROUND(G58*E58*2,2) -> 473.48 | I58: =ROUND(H58*1.2359,2) -> 585.17
A59: Medicīnas māsa | B59: 1 | C59: =D59+E59 -> 192 | D59: 166 | E59: 26 | G59: 5.396 | H59: =ROUND(G59*E59*2,2) -> 280.59 | I59: =ROUND(H59*1.2359,2) -> 346.78
A60: Medicīnas māsa (bērnu māsa) | B60: 1 | C60: =D60+E60 -> 184 | D60: 166 | E60: 18 | G60: 6.131 | H60: =ROUND(G60*E60*2,2) -> 220.72 | I60: =ROUND(H60*1.2359,2) -> 272.79
A61: Medicīnas māsa (bērnu māsa) | B61: 1 | C61: =D61+E61 -> 190 | D61: 166 | E61: 24 | G61: 6.131 | H61: =ROUND(G61*E61*2,2) -> 294.29 | I61: =ROUND(H61*1.2359,2) -> 363.71
A62: Medicīnas māsa (bērnu māsa) | B62: 1 | C62: =D62+E62 -> 188 | D62: 166 | E62: 22 | G62: 6.131 | H62: =ROUND(G62*E62*2,2) -> 269.76 | I62: =ROUND(H62*1.2359,2) -> 333.4
A63: Medicīnas māsa | B63: 1 | C63: =D63+E63 -> 244 | D63: 166 | E63: 78 | G63: 6.23 | H63: =ROUND(G63*E63*2,2) -> 971.88 | I63: =ROUND(H63*1.2359,2) -> 1201.15
A64: Ārstniecības un pacientu aprūpes atbalsta personas, māsu palīgi, zobārstu aistenti, kopā, tai skaitā: | B64: =SUM(B65:B67) -> 3 | E64: =SUM(E65:E67) -> 31 | H64: =SUM(H65:H67) -> 268.4 | I64: =SUM(I65:I67) -> 331.72
A65: Māsas palīgs | B65: 1 | C65: =D65+E65 -> 171 | D65: 166 | E65: 5 | G65: 4.329 | H65: =ROUND(G65*E65*2,2) -> 43.29 | I65: =ROUND(H65*1.2359,2) -> 53.5
A66: Māsas palīgs | B66: 1 | C66: =D66+E66 -> 168 | D66: 166 | E66: 2 | G66: 4.329 | H66: =ROUND(G66*E66*2,2) -> 17.32 | I66: =ROUND(H66*1.2359,2) -> 21.41
A67: Māsas palīgs | B67: 1 | C67: =D67+E67 -> 190 | D67: 166 | E67: 24 | G67: 4.329 | H67: =ROUND(G67*E67*2,2) -> 207.79 | I67: =ROUND(H67*1.2359,2) -> 256.81
A68: Pārējie darbinieki, kuri tieši iesaistīti darbā ar Covid-19, kopā, tai skaitā: | B68: =SUM(B69) -> 1 | E68: =SUM(E69) -> 2 | H68: =SUM(H69) -> 16.17 | I68: =SUM(I69) -> 19.98
A69: Sanitārs | B69: 1 | C69: =D69+E69 -> 168 | D69: 166 | E69: 2 | G69: 4.042 | H69: =ROUND(G69*E69*2,2) -> 16.17 | I69: =ROUND(H69*1.2359,2) -> 19.98
A70: Paliatīvās aprūpes nodaļa | B70: =B71+B73+B81+B83 -> 11 | E70: =E71+E73+E81+E83 -> 296.88 | H70: =H71+H73+H81+H83 -> 3729.78 | I70: =I71+I73+I81+I83 -> 4609.64
A71: Ārsti, zobārsti un funkcionālie speciālisti, kopā, tai skaitā: | B71: =SUM(B72:B72) -> 1 | E71: =SUM(E72:E72) -> 67 | H71: =SUM(H72:H72) -> 1284.93 | I71: =SUM(I72:I72) -> 1588.04
A72: Internists (dežūrārsts) | B72: 1 | C72: =D72+E72 -> 233 | D72: 166 | E72: 67 | G72: 9.589 | H72: =ROUND(G72*E72*2,2) -> 1284.93 | I72: =ROUND(H72*1.2359,2) -> 1588.04
A73: Ārstniecības un pacientu aprūpes personas un funkcionālo speciālistu asistenti, kopā, tai skaitā: | B73: =SUM(B74:B80) -> 7 | E73: =SUM(E74:E80) -> 188.88 | H73: =SUM(H74:H80) -> 2108.24 | I73: =SUM(I74:I80) -> 2605.58
A74: Medicīnas māsa (paliatīvās aprūpes nod.) | B74: 1 | C74: =D74+E74 -> 186.88 | D74: 145 | E74: 41.88 | G74: 6.23 | H74: =ROUND(G74*E74*2,2) -> 521.82 | I74: =ROUND(H74*1.2359,2) -> 644.92
A75: Medicīnas māsa (paliatīvās aprūpes nod.) | B75: 1 | C75: =D75+E75 -> 153 | D75: 145 | E75: 8 | G75: 5.396 | H75: =ROUND(G75*E75*2,2) -> 86.34 | I75: =ROUND(H75*1.2359,2) -> 106.71
A76: Medicīnas māsa (paliatīvās aprūpes nod.) | B76: 1 | C76: =D76+E76 -> 167 | D76: 145 | E76: 22 | G76: 5.396 | H76: =ROUND(G76*E76*2,2) -> 237.42 | I76: =ROUND(H76*1.2359,2) -> 293.43
A77: Medicīnas māsa (paliatīvās aprūpes nod.) | B77: 1 | C77: =D77+E77 -> 191 | D77: 145 | E77: 46 | G77: 5.396 | H77: =ROUND(G77*E77*2,2) -> 496.43 | I77: =ROUND(H77*1.2359,2) -> 613.54
A78: Medicīnas māsa (paliatīvās aprūpes nod.) | B78: 1 | C78: =D78+E78 -> 171 | D78: 145 | E78: 26 | G78: 5.396 | H78: =ROUND(G78*E78*2,2) -> 280.59 | I78: =ROUND(H78*1.2359,2) -> 346.78
A79: Medicīnas māsa (paliatīvās aprūpes nod.) | B79: 1 | C79: =D79+E79 -> 155 | D79: 145 | E79: 10 | G79: 5.396 | H79: =ROUND(G79*E79*2,2) -> 107.92 | I79: =ROUND(H79*1.2359,2) -> 133.38
A80: Medicīnas māsa (paliatīvās aprūpes nod.) | B80: 1 | C80: =D80+E80 -> 180 | D80: 145 | E80: 35 | G80: 5.396 | H80: =ROUND(G80*E80*2,2) -> 377.72 | I80: =ROUND(H80*1.2359,2) -> 466.82
A81: Ārstniecības un pacientu aprūpes atbalsta personas, māsu palīgi, zobārstu aistenti, kopā, tai skaitā: | B81: =SUM(B82) -> 1 | E81: =SUM(E82) -> 9 | H81: =SUM(H82) -> 77.92 | I81: =SUM(I82) -> 96.3
A82: Māsas palīgs | B82: 1 | C82: =D82+E82 -> 154 | D82: 145 | E82: 9 | G82: 4.329 | H82: =ROUND(G82*E82*2,2) -> 77.92 | I82: =ROUND(H82*1.2359,2) -> 96.3
A83: Pārējie darbinieki, kuri tieši iesaistīti darbā ar Covid-19, kopā, tai skaitā: | B83: =SUM(B84:B85) -> 2 | E83: =SUM(E84:E85) -> 32 | H83: =SUM(H84:H85) -> 258.69 | I83: =SUM(I84:I85) -> 319.72
A84: Sanitārs | B84: 1 | C84: =D84+E84 -> 159 | D84: 145 | E84: 14 | G84: 4.042 | H84: =ROUND(G84*E84*2,2) -> 113.18 | I84: =ROUND(H84*1.2359,2) -> 139.88
A85: Sanitārs | B85: 1 | C85: =D85+E85 -> 163 | D85: 145 | E85: 18 | G85: 4.042 | H85: =ROUND(G85*E85*2,2) -> 145.51 | I85: =ROUND(H85*1.2359,2) -> 179.84
A86: IEKŠĶĪGO SLIMĪBU NODAĻA | B86: =B87+B90+B99+B105 -> 19 | E86: =E87+E90+E99+E105 -> 705.5 | H86: =H87+H90+H99+H105 -> 9418.66 | I86: =I87+I90+I99+I105 -> 11640.53
A87: Ārsti, zobārsti un funkcionālie speciālisti, kopā, tai skaitā: | B87: =SUM(B88:B89) -> 2 | E87: =SUM(E88:E89) -> 158.5 | H87: =SUM(H88:H89) -> 3005.72 | I87: =SUM(I88:I89) -> 3714.77
A88: Iekšķīgo slimību nodaļas vadītājs | B88: 1 | C88: =D88+E88 -> 267 | D88: 166 | E88: =18.5+82.5 -> 101 | G88: 9.604 | H88: =ROUND(G88*E88*2,2) -> 1940.01 | I88: =ROUND(H88*1.2359,2) -> 2397.66
A89: Internists (dežūrārsts) | B89: 1 | C89: =D89+E89 -> 223.5 | D89: 166 | E89: 57.5 | G89: 9.267 | H89: =ROUND(G89*E89*2,2) -> 1065.71 | I89: =ROUND(H89*1.2359,2) -> 1317.11
A90: Ārstniecības un pacientu aprūpes personas un funkcionālo speciālistu asistenti, kopā, tai skaitā: | B90: =SUM(B91:B98) -> 8 | E90: =SUM(E91:E98) -> 438 | H90: =SUM(H91:H98) -> 5493.89 | I90: =SUM(I91:I98) -> 6789.9
A91: Terapijas māsa | B91: 1 | C91: =D91+E91 -> 188 | D91: 166 | E91: 22 | G91: 5.888 | H91: =ROUND(G91*E91*2,2) -> 259.07 | I91: =ROUND(H91*1.2359,2) -> 320.18
A92: Terapijas māsa | B92: 1 | C92: =D92+E92 -> 271 | D92: 166 | E92: 105 | G92: 6.51 | H92: =ROUND(G92*E92*2,2) -> 1367.1 | I92: =ROUND(H92*1.2359,2) -> 1689.6
A93: Terapijas māsa | B93: 1 | C93: =D93+E93 -> 231 | D93: 166 | E93: 65 | G93: 6.647 | H93: =ROUND(G93*E93*2,2) -> 864.11 | I93: =ROUND(H93*1.2359,2) -> 1067.95
A94: Terapijas māsa | B94: 1 | C94: =D94+E94 -> 173 | D94: 166 | E94: 7 | G94: 6.579 | H94: =ROUND(G94*E94*2,2) -> 92.11 | I94: =ROUND(H94*1.2359,2) -> 113.84
A95: Terapijas māsa (dež.māsa) | B95: 1 | C95: =D95+E95 -> 192 | D95: 166 | E95: 26 | G95: 5.888 | H95: =ROUND(G95*E95*2,2) -> 306.18 | I95: =ROUND(H95*1.2359,2) -> 378.41
A96: Terapijas māsa (dež.māsa) | B96: 1 | C96: =D96+E96 -> 244 | D96: 166 | E96: 78 | G96: 6.51 | H96: =ROUND(G96*E96*2,2) -> 1015.56 | I96: =ROUND(H96*1.2359,2) -> 1255.13
A97: Terapijas māsa (dež.māsa) | B97: 1 | C97: =D97+E97 -> 252 | D97: 166 | E97: 86 | G97: 5.888 | H97: =ROUND(G97*E97*2,2) -> 1012.74 | I97: =ROUND(H97*1.2359,2) -> 1251.65
A98: Terapijas māsa (dež.māsa) | B98: 1 | C98: =D98+E98 -> 215 | D98: 166 | E98: 49 | G98: 5.888 | H98: =ROUND(G98*E98*2,2) -> 577.02 | I98: =ROUND(H98*1.2359,2) -> 713.14
A99: Ārstniecības un pacientu aprūpes atbalsta personas, māsu palīgi, zobārstu aistenti, kopā, tai skaitā: | B99: =SUM(B100:B104) -> 5 | E99: =SUM(E100:E104) -> 66 | H99: =SUM(H100:H104) -> 571.43 | I99: =SUM(I100:I104) -> 706.24
A100: Māsas palīgs | B100: 1 | C100: =D100+E100 -> 195 | D100: 166 | E100: 29 | G100: 4.329 | H100: =ROUND(G100*E100*2,2) -> 251.08 | I100: =ROUND(H100*1.2359,2) -> 310.31
A101: Māsas palīgs | B101: 1 | C101: =D101+E101 -> 181 | D101: 166 | E101: 15 | G101: 4.329 | H101: =ROUND(G101*E101*2,2) -> 129.87 | I101: =ROUND(H101*1.2359,2) -> 160.51
A102: Māsas palīgs | B102: 1 | C102: =D102+E102 -> 168 | D102: 166 | E102: 2 | G102: 4.329 | H102: =ROUND(G102*E102*2,2) -> 17.32 | I102: =ROUND(H102*1.2359,2) -> 21.41
...

Sheet Z-Kurzeme_dec
H1: 1.10.Pielikums
A2: Pārskats par darba veicējiem (ārstniecības personām), virs normālā darba laika nostrādātām stundām, apmaksājamām stundām un izdevumiem, kas radušies saistībā ar mērķi ierobežot Covid-19 izplatību
A4: Iestādes nosaukums: SIA "Ziemeļkurzemes reģionālā slimnīca"
A5: Pārskata mēnesis: Decembris
B7: Nodarbināto skaits mēnesī | C7: Apmaksājamais laiks mēnesī, stundas (tai skaitā summētā darba laika ietvaros) | F7: Mēnešalga no kuras rēķina stundas likmi | G7: Stundas likme (aprēķināta atbilstoši mēnešalgai vai darba līgumā noteiktā stundas likme) | H7: Apmaksājamā 100% piemaksa par nostrādātām virsstundām virs normālā darba laika (tai skaitā summētā darba laika ietvaros) | I7: Izdevumi par virsstundām kopā ar VSOAI, EUR
C8: Kopā | D8: līdz normālam darba laikam | E8: virsstundas - virs normālā darba laika, kas saistītas ar darbu ar Covid-19
A9: 1 | B9: 2 | C9: 3=4+5 | D9: 4 | E9: 5 | F9: 6 | G9: 7 | H9: 8 | I9: 9=8 + VSOAI
A10: KOPĀ | B10: =B11+B26+B57+B68+B79+B101+B114+B130+B155+B177+B198+B221+B236+B248+B253+B260 -> 201 | E10: =E11+E26+E57+E68+E79+E101+E114+E130+E155+E177+E198+E221+E236+E248+E253+E260 -> 8288.26 | H10: =H11+H26+H57+H68+H79+H101+H114+H130+H155+H177+H198+H221+H236+H248+H253+H260 -> 105189.43 | I10: =I11+I26+I57+I68+I79+I101+I114+I130+I155+I177+I198+I221+I236+I248+I253+I260 -> 129777.12
A11: Infekciju nodaļa (35 stundas nedēļā) | B11: =B12+B19+B21 -> 11 | E11: =E12+E19+E21 -> 512.75 | H11: =H12+H19+H21 -> 6122.84 | I11: =I12+I19+I21 -> 7499.96
A12: Ārstniecības un pacientu aprūpes personas un funkcionālo speciālistu asistenti, kopā, tai skaitā: | B12: =SUM(B13:B18) -> 6 | E12: =SUM(E13:E18) -> 336.75 | H12: =SUM(H13:H18) -> 4477.77 | I12: =SUM(I13:I18) -> 5466.81
A13: Infektoloģijas māsa | B13: 1 | C13: =D13+E13 -> 189 | D13: 139 | E13: 50 | G13: 6.747 | H13: =ROUND(G13*E13*2,2) -> 674.7 | I13: =ROUND(H13*1.2359,2) -> 833.86
A14: Infektoloģijas māsa | B14: 1 | C14: =D14+E14 -> 155 | D14: 139 | E14: 16 | G14: 6.747 | H14: =ROUND(G14*E14*2,2) -> 215.9 | I14: =ROUND(H14*1.2359,2) -> 266.83
A15: Infektoloģijas māsa | B15: 1 | C15: =D15+E15 -> 192 | D15: 139 | E15: 53 | G15: 6.747 | H15: =ROUND(G15*E15*2,2) -> 715.18 | I15: =ROUND(H15*1.2359,2) -> 883.89
A16: Infektoloģijas māsa | B16: 1 | C16: =D16+E16 -> 286.75 | D16: 139 | E16: 147.75 | G16: 6.747 | H16: =ROUND(G16*E16*2,2) -> 1993.74 | I16: =ROUND(H16*1.2077,2) -> 2407.84
A17: Infektoloģijas māsa | B17: 1 | C17: =D17+E17 -> 180 | D17: 139 | E17: 41 | G17: 5.938 | H17: =ROUND(G17*E17*2,2) -> 486.92 | I17: =ROUND(H17*1.2359,2) -> 601.78
A18: Infektoloģijas māsa | B18: 1 | C18: =D18+E18 -> 168 | D18: 139 | E18: 29 | G18: 6.747 | H18: =ROUND(G18*E18*2,2) -> 391.33 | I18: =ROUND(H18*1.2077,2) -> 472.61
A19: Ārstniecības un pacientu aprūpes atbalsta personas, māsu palīgi, zobārstu aistenti, kopā, tai skaitā: | B19: =SUM(B20:B20) -> 1 | E19: =SUM(E20:E20) -> 27 | H19: =SUM(H20:H20) -> 267.41 | I19: =SUM(I20:I20) -> 330.49
A20: Māsas palīgs | B20: 1 | C20: =D20+E20 -> 166 | D20: 139 | E20: 27 | G20: 4.952 | H20: =ROUND(G20*E20*2,2) -> 267.41 | I20: =ROUND(H20*1.2359,2) -> 330.49
A21: Pārējie darbinieki, kuri tieši iesaistīti darbā ar Covid-19, kopā, tai skaitā: | B21: =SUM(B22:B25) -> 4 | E21: =SUM(E22:E25) -> 149 | H21: =SUM(H22:H25) -> 1377.66 | I21: =SUM(I22:I25) -> 1702.66
A22: Sanitārs | B22: 1 | C22: =D22+E22 -> 216 | D22: 139 | E22: 77 | G22: 4.623 | H22: =ROUND(G22*E22*2,2) -> 711.94 | I22: =ROUND(H22*1.2359,2) -> 879.89
A23: Sanitārs | B23: 1 | C23: =D23+E23 -> 172 | D23: 139 | E23: 33 | G23: 4.623 | H23: =ROUND(G23*E23*2,2) -> 305.12 | I23: =ROUND(H23*1.2359,2) -> 377.1
A24: Sanitārs | B24: 1 | C24: =D24+E24 -> 165 | D24: 139 | E24: 26 | G24: 4.623 | H24: =ROUND(G24*E24*2,2) -> 240.4 | I24: =ROUND(H24*1.2359,2) -> 297.11
A25: Sanitārs | B25: 1 | C25: =D25+E25 -> 152 | D25: 139 | E25: 13 | G25: 4.623 | H25: =ROUND(G25*E25*2,2) -> 120.2 | I25: =ROUND(H25*1.2359,2) -> 148.56
A26: ANESTEZIOLOĢIJAS UN INTENSĪVĀS TERAPIJAS NODAĻA (35 stundas nedēļā) | B26: =B27+B35+B47+B55 -> 26 | E26: =E27+E35+E47+E55 -> 1855 | H26: =H27+H35+H47+H55 -> 23222.22 | I26: =I27+I35+I47+I55 -> 28676.44
A27: Ārsti, zobārsti un funkcionālie speciālisti, kopā, tai skaitā: | B27: =SUM(B28:B34) -> 7 | E27: =SUM(E28:E34) -> 190 | H27: =SUM(H28:H34) -> 4184.94 | I27: =SUM(I28:I34) -> 5172.17
A28: Anesteziologs un reanimatologs | B28: 1 | C28: =D28+E28 -> 179 | D28: 139 | E28: 40 | G28: 10.856 | H28: =ROUND(G28*E28*2,2) -> 868.48 | I28: =ROUND(H28*1.2359,2) -> 1073.35
A29: Anesteziologs un reanimatologs | B29: 1 | C29: =D29+E29 -> 146 | D29: 139 | E29: 7 | G29: 10.856 | H29: =ROUND(G29*E29*2,2) -> 151.98 | I29: =ROUND(H29*1.2359,2) -> 187.83
A30: Anesteziologs un reanimatologs | B30: 1 | C30: =D30+E30 -> 184 | D30: 139 | E30: 45 | G30: 10.856 | H30: =ROUND(G30*E30*2,2) -> 977.04 | I30: =ROUND(H30*1.2359,2) -> 1207.52
A31: Anesteziologs un reanimatologs (dežūrārsts) | B31: 1 | C31: =D31+E31 -> 171 | D31: 139 | E31: 32 | G31: 10.856 | H31: =ROUND(G31*E31*2,2) -> 694.78 | I31: =ROUND(H31*1.2359,2) -> 858.68
A32: Anesteziologs un reanimatologs (dežūrārsts) | B32: 1 | C32: =D32+E32 -> 144 | D32: 139 | E32: 5 | G32: 11.308 | H32: =ROUND(G32*E32*2,2) -> 113.08 | I32: =ROUND(H32*1.2359,2) -> 139.76
A33: Anesteziologs un reanimatologs (dežūrārsts) | B33: 1 | C33: =D33+E33 -> 195 | D33: 139 | E33: 56 | G33: 11.308 | H33: =ROUND(G33*E33*2,2) -> 1266.5 | I33: =ROUND(H33*1.2359,2) -> 1565.27
A34: Anesteziologs, reanimatologs (dežūrārsts) | B34: 1 | C34: =D34+E34 -> 144 | D34: 139 | E34: 5 | G34: 11.308 | H34: =ROUND(G34*E34*2,2) -> 113.08 | I34: =ROUND(H34*1.2359,2) -> 139.76
A35: Ārstniecības un pacientu aprūpes personas un funkcionālo speciālistu asistenti, kopā, tai skaitā: | B35: =SUM(B36:B46) -> 11 | E35: =SUM(E36:E46) -> 1000 | H35: =SUM(H36:H46) -> 12514.29 | I35: =SUM(I36:I46) -> 15442.52
A36: Intensīvās terapijas un anestēzijas māsa | B36: 1 | C36: =D36+E36 -> 295 | D36: 139 | E36: 156 | G36: 6.404 | H36: =ROUND(G36*E36*2,2) -> 1998.05 | I36: =ROUND(H36*1.2359,2) -> 2469.39
A37: Intensīvās terapijas un anestēzijas māsa | B37: 1 | C37: =D37+E37 -> 217 | D37: 139 | E37: 78 | G37: 6.23 | H37: =ROUND(G37*E37*2,2) -> 971.88 | I37: =ROUND(H37*1.2359,2) -> 1201.15
A38: Intensīvās terapijas un anestēzijas māsa | B38: 1 | C38: =D38+E38 -> 225 | D38: 139 | E38: 86 | G38: 6.23 | H38: =ROUND(G38*E38*2,2) -> 1071.56 | I38: =ROUND(H38*1.2359,2) -> 1324.34
A39: Intensīvās terapijas un anestēzijas māsa | B39: 1 | C39: =D39+E39 -> 219 | D39: 139 | E39: 80 | G39: 6.23 | H39: =ROUND(G39*E39*2,2) -> 996.8 | I39: =ROUND(H39*1.2359,2) -> 1231.95
A40: Intensīvās terapijas un anestēzijas māsa | B40: 1 | C40: =D40+E40 -> 279 | D40: 139 | E40: 140 | G40: 6.23 | H40: =ROUND(G40*E40*2,2) -> 1744.4 | I40: =ROUND(H40*1.2359,2) -> 2155.9
A41: Intensīvās terapijas un anestēzijas māsa | B41: 1 | C41: =D41+E41 -> 225 | D41: 139 | E41: 86 | G41: 6.23 | H41: =ROUND(G41*E41*2,2) -> 1071.56 | I41: =ROUND(H41*1.2359,2) -> 1324.34
A42: Intensīvās terapijas un anestēzijas māsa | B42: 1 | C42: =D42+E42 -> 179 | D42: 139 | E42: 40 | G42: 6.23 | H42: =ROUND(G42*E42*2,2) -> 498.4 | I42: =ROUND(H42*1.2359,2) -> 615.97
A43: Intensīvās terapijas un anestēzijas māsa | B43: 1 | C43: =D43+E43 -> 219 | D43: 139 | E43: 80 | G43: 6.23 | H43: =ROUND(G43*E43*2,2) -> 996.8 | I43: =ROUND(H43*1.2359,2) -> 1231.95
A44: Intensīvās terapijas un anestēzijas māsa | B44: 1 | C44: =D44+E44 -> 227 | D44: 139 | E44: 88 | G44: 6.23 | H44: =ROUND(G44*E44*2,2) -> 1096.48 | I44: =ROUND(H44*1.2359,2) -> 1355.14
A45: Intensīvās terapijas un anestēzijas māsa | B45: 1 | C45: =D45+E45 -> 237 | D45: 139 | E45: 98 | G45: 6.23 | H45: =ROUND(G45*E45*2,2) -> 1221.08 | I45: =ROUND(H45*1.2359,2) -> 1509.13
A46: Intensīvās terapijas un anestēzijas māsa | B46: 1 | C46: =D46+E46 -> 207 | D46: 139 | E46: 68 | G46: 6.23 | H46: =ROUND(G46*E46*2,2) -> 847.28 | I46: =ROUND(H46*1.2077,2) -> 1023.26
A47: Ārstniecības un pacientu aprūpes atbalsta personas, māsu palīgi, zobārstu aistenti, kopā, tai skaitā: | B47: =SUM(B48:B54) -> 7 | E47: =SUM(E48:E54) -> 569 | H47: =SUM(H48:H54) -> 5635.37 | I47: =SUM(I48:I54) -> 6964.74
A48: Māsas palīgs | B48: 1 | C48: =D48+E48 -> 171 | D48: 139 | E48: 32 | G48: 4.952 | H48: =ROUND(G48*E48*2,2) -> 316.93 | I48: =ROUND(H48*1.2359,2) -> 391.69
A49: Māsas palīgs | B49: 1 | C49: =D49+E49 -> 240 | D49: 139 | E49: 101 | G49: 4.952 | H49: =ROUND(G49*E49*2,2) -> 1000.3 | I49: =ROUND(H49*1.2359,2) -> 1236.27
A50: Māsas palīgs | B50: 1 | C50: =D50+E50 -> 270 | D50: 139 | E50: 131 | G50: 4.952 | H50: =ROUND(G50*E50*2,2) -> 1297.42 | I50: =ROUND(H50*1.2359,2) -> 1603.48
A51: Māsas palīgs | B51: 1 | C51: =D51+E51 -> 197 | D51: 139 | E51: 58 | G51: 4.952 | H51: =ROUND(G51*E51*2,2) -> 574.43 | I51: =ROUND(H51*1.2359,2) -> 709.94
A52: Māsas palīgs | B52: 1 | C52: =D52+E52 -> 264 | D52: 139 | E52: 125 | G52: 4.952 | H52: =ROUND(G52*E52*2,2) -> 1238 | I52: =ROUND(H52*1.2359,2) -> 1530.04
A53: Māsas palīgs | B53: 1 | C53: =D53+E53 -> 221 | D53: 139 | E53: 82 | G53: 4.952 | H53: =ROUND(G53*E53*2,2) -> 812.13 | I53: =ROUND(H53*1.2359,2) -> 1003.71
A54: Māsas palīgs | B54: 1 | C54: =D54+E54 -> 179 | D54: 139 | E54: 40 | G54: 4.952 | H54: =ROUND(G54*E54*2,2) -> 396.16 | I54: =ROUND(H54*1.2359,2) -> 489.61
A55: Pārējie darbinieki, kuri tieši iesaistīti darbā ar Covid-19, kopā, tai skaitā: | B55: =SUM(B56:B56) -> 1 | E55: =SUM(E56:E56) -> 96 | H55: =SUM(H56:H56) -> 887.62 | I55: =SUM(I56:I56) -> 1097.01
A56: Sanitārs | B56: 1 | C56: =D56+E56 -> 235 | D56: 139 | E56: 96 | G56: 4.623 | H56: =ROUND(G56*E56*2,2) -> 887.62 | I56: =ROUND(H56*1.2359,2) -> 1097.01
A57: Anestezioloģijas un intensīvās terapijas nodaļa - Talsu filiāles(35 stundas nedēļā) | B57: =B58+B60+B63+B66 -> 6 | E57: =E58+E60+E63+E66 -> 199 | H57: =H58+H60+H63+H66 -> 3181.57 | I57: =I58+I60+I63+I66 -> 3924.01
A58: Ārsti, zobārsti un funkcionālie speciālisti, kopā, tai skaitā: | B58: =SUM(B59:B59) -> 1 | E58: =SUM(E59:E59) -> 98 | H58: =SUM(H59:H59) -> 2082.11 | I58: =SUM(I59:I59) -> 2573.28
A59: Anesteziologs un reanimatologs (dežūrārsts) | B59: 1 | C59: =D59+E59 -> 237 | D59: 139 | E59: 98 | G59: 10.623 | H59: =ROUND(G59*E59*2,2) -> 2082.11 | I59: =ROUND(H59*1.2359,2) -> 2573.28
A60: Ārstniecības un pacientu aprūpes personas un funkcionālo speciālistu asistenti, kopā, tai skaitā: | B60: =SUM(B61:B62) -> 2 | E60: =SUM(E61:E62) -> 30 | H60: =SUM(H61:H62) -> 404.82 | I60: =SUM(I61:I62) -> 500.31
A61: Intensīvās terapijas un anestēzijas māsa | B61: 1 | C61: =D61+E61 -> 140 | D61: 139 | E61: 1 | G61: 6.747 | H61: =ROUND(G61*E61*2,2) -> 13.49 | I61: =ROUND(H61*1.2359,2) -> 16.67
A62: Intensīvās terapijas un anestēzijas māsa | B62: 1 | C62: =D62+E62 -> 168 | D62: 139 | E62: 29 | G62: 6.747 | H62: =ROUND(G62*E62*2,2) -> 391.33 | I62: =ROUND(H62*1.2359,2) -> 483.64
A63: Ārstniecības un pacientu aprūpes atbalsta personas, māsu palīgi, zobārstu aistenti, kopā, tai skaitā: | B63: =SUM(B64:B65) -> 2 | E63: =SUM(E64:E65) -> 58 | H63: =SUM(H64:H65) -> 574.44 | I63: =SUM(I64:I65) -> 701.86
A64: Māsas palīgs | B64: 1 | C64: =D64+E64 -> 168 | D64: 139 | E64: 29 | G64: 4.952 | H64: =ROUND(G64*E64*2,2) -> 287.22 | I64: =ROUND(H64*1.2077,2) -> 346.88
A65: Māsas palīgs | B65: 1 | C65: =D65+E65 -> 168 | D65: 139 | E65: 29 | G65: 4.952 | H65: =ROUND(G65*E65*2,2) -> 287.22 | I65: =ROUND(H65*1.2359,2) -> 354.98
A66: Pārējie darbinieki, kuri tieši iesaistīti darbā ar Covid-19, kopā, tai skaitā: | B66: =SUM(B67:B67) -> 1 | E66: =SUM(E67:E67) -> 13 | H66: =SUM(H67:H67) -> 120.2 | I66: =SUM(I67:I67) -> 148.56
A67: Sanitārs | B67: 1 | C67: =D67+E67 -> 152 | D67: 139 | E67: 13 | G67: 4.623 | H67: =ROUND(G67*E67*2,2) -> 120.2 | I67: =ROUND(H67*1.2359,2) -> 148.56
A68: Paliatīvās aprūpes nodaļa | B68: =B69+B73+B76 -> 7 | E68: =E69+E73+E76 -> 273.13 | H68: =H69+H73+H76 -> 2930.9 | I68: =I69+I73+I76 -> 3615.47
A69: Ārstniecības un pacientu aprūpes personas un funkcionālo speciālistu asistenti, kopā, tai skaitā: | B69: =SUM(B70:B72) -> 3 | E69: =SUM(E70:E72) -> 182.13 | H69: =SUM(H70:H72) -> 2164.84 | I69: =SUM(I70:I72) -> 2675.53
A70: Medicīnas māsa (paliatīvās aprūpes nod.) | B70: 1 | C70: =D70+E70 -> 209.13 | D70: 139 | E70: 70.13 | G70: 6.23 | H70: =ROUND(G70*E70*2,2) -> 873.82 | I70: =ROUND(H70*1.2359,2) -> 1079.95
A71: Medicīnas māsa (paliatīvās aprūpes nod.) | B71: 1 | C71: =D71+E71 -> 195 | D71: 139 | E71: 56 | G71: 5.396 | H71: =ROUND(G71*E71*2,2) -> 604.35 | I71: =ROUND(H71*1.2359,2) -> 746.92
A72: Medicīnas māsa (paliatīvās aprūpes nod.) | B72: 1 | C72: =D72+E72 -> 195 | D72: 139 | E72: 56 | G72: 6.131 | H72: =ROUND(G72*E72*2,2) -> 686.67 | I72: =ROUND(H72*1.2359,2) -> 848.66
A73: Ārstniecības un pacientu aprūpes atbalsta personas, māsu palīgi, zobārstu aistenti, kopā, tai skaitā: | B73: =SUM(B74:B75) -> 2 | E73: =SUM(E74:E75) -> 53 | H73: =SUM(H74:H75) -> 458.87 | I73: =SUM(I74:I75) -> 560.28
A74: Māsas palīgs | B74: 1 | C74: =D74+E74 -> 164 | D74: 139 | E74: 25 | G74: 4.329 | H74: =ROUND(G74*E74*2,2) -> 216.45 | I74: =ROUND(H74*1.2359,2) -> 267.51
A75: Māsas palīgs | B75: 1 | C75: =D75+E75 -> 167 | D75: 139 | E75: 28 | G75: 4.329 | H75: =ROUND(G75*E75*2,2) -> 242.42 | I75: =ROUND(H75*1.2077,2) -> 292.77
A76: Pārējie darbinieki, kuri tieši iesaistīti darbā ar Covid-19, kopā, tai skaitā: | B76: =SUM(B77:B78) -> 2 | E76: =SUM(E77:E78) -> 38 | H76: =SUM(H77:H78) -> 307.19 | I76: =SUM(I77:I78) -> 379.66
A77: Sanitārs | B77: 1 | C77: =D77+E77 -> 164 | D77: 139 | E77: 25 | G77: 4.042 | H77: =ROUND(G77*E77*2,2) -> 202.1 | I77: =ROUND(H77*1.2359,2) -> 249.78
A78: Sanitārs | B78: 1 | C78: =D78+E78 -> 152 | D78: 139 | E78: 13 | G78: 4.042 | H78: =ROUND(G78*E78*2,2) -> 105.09 | I78: =ROUND(H78*1.2359,2) -> 129.88
A79: IEKŠĶĪGO SLIMĪBU NODAĻA | B79: =B80+B84+B92+B97 -> 17 | E79: =E80+E84+E92+E97 -> 518.5 | H79: =H80+H84+H92+H97 -> 7802.64 | I79: =I80+I84+I92+I97 -> 9643.29
A80: Ārsti, zobārsti un funkcionālie speciālisti, kopā, tai skaitā: | B80: =SUM(B81:B83) -> 3 | E80: =SUM(E81:E83) -> 274.5 | H80: =SUM(H81:H83) -> 5169.82 | I80: =SUM(I81:I83) -> 6389.38
A81: Internists (dežūrārsts) | B81: 1 | C81: =D81+E81 -> 222 | D81: 160 | E81: 62 | G81: 9.604 | H81: =ROUND(G81*E81*2,2) -> 1190.9 | I81: =ROUND(H81*1.2359,2) -> 1471.83
A82: Internists (dežūrārsts) | B82: 1 | C82: =D82+E82 -> 312.5 | D82: 160 | E82: 152.5 | G82: 9.267 | H82: =ROUND(G82*E82*2,2) -> 2826.44 | I82: =ROUND(H82*1.2359,2) -> 3493.2
A83: Internists (dežūrārsts) | B83: 1 | C83: =D83+E83 -> 220 | D83: 160 | E83: 60 | G83: 9.604 | H83: =ROUND(G83*E83*2,2) -> 1152.48 | I83: =ROUND(H83*1.2359,2) -> 1424.35
A84: Ārstniecības un pacientu aprūpes personas un funkcionālo speciālistu asistenti, kopā, tai skaitā: | B84: =SUM(B85:B91) -> 7 | E84: =SUM(E85:E91) -> 139 | H84: =SUM(H85:H91) -> 1760.47 | I84: =SUM(I85:I91) -> 2175.76
A85: Terapijas māsa | B85: 1 | C85: =D85+E85 -> 183 | D85: 160 | E85: 23 | G85: 6.51 | H85: =ROUND(G85*E85*2,2) -> 299.46 | I85: =ROUND(H85*1.2359,2) -> 370.1
A86: Terapijas māsa | B86: 1 | C86: =D86+E86 -> 180 | D86: 160 | E86: 20 | G86: 5.888 | H86: =ROUND(G86*E86*2,2) -> 235.52 | I86: =ROUND(H86*1.2359,2) -> 291.08
A87: Terapijas māsa | B87: 1 | C87: =D87+E87 -> 192 | D87: 160 | E87: 32 | G87: 6.51 | H87: =ROUND(G87*E87*2,2) -> 416.64 | I87: =ROUND(H87*1.2359,2) -> 514.93
A88: Terapijas māsa | B88: 1 | C88: =D88+E88 -> 176 | D88: 160 | E88: 16 | G88: 6.647 | H88: =ROUND(G88*E88*2,2) -> 212.7 | I88: =ROUND(H88*1.2359,2) -> 262.88
A89: Terapijas māsa (dež.māsa) | B89: 1 | C89: =D89+E89 -> 177 | D89: 160 | E89: 17 | G89: 5.888 | H89: =ROUND(G89*E89*2,2) -> 200.19 | I89: =ROUND(H89*1.2359,2) -> 247.41
A90: Terapijas māsa (dež.māsa) | B90: 1 | C90: =D90+E90 -> 184 | D90: 160 | E90: 24 | G90: 6.51 | H90: =ROUND(G90*E90*2,2) -> 312.48 | I90: =ROUND(H90*1.2359,2) -> 386.19
A91: Terapijas māsa (dež.māsa) | B91: 1 | C91: =D91+E91 -> 167 | D91: 160 | E91: 7 | G91: 5.963 | H91: =ROUND(G91*E91*2,2) -> 83.48 | I91: =ROUND(H91*1.2359,2) -> 103.17
A92: Ārstniecības un pacientu aprūpes atbalsta personas, māsu palīgi, zobārstu aistenti, kopā, tai skaitā: | B92: =SUM(B93:B96) -> 4 | E92: =SUM(E93:E96) -> 41 | H92: =SUM(H93:H96) -> 354.98 | I92: =SUM(I93:I96) -> 438.72
A93: Māsas palīgs | B93: 1 | C93: =D93+E93 -> 172 | D93: 160 | E93: 12 | G93: 4.329 | H93: =ROUND(G93*E93*2,2) -> 103.9 | I93: =ROUND(H93*1.2359,2) -> 128.41
A94: Māsas palīgs | B94: 1 | C94: =D94+E94 -> 168 | D94: 160 | E94: 8 | G94: 4.329 | H94: =ROUND(G94*E94*2,2) -> 69.26 | I94: =ROUND(H94*1.2359,2) -> 85.6
A95: Māsas palīgs | B95: 1 | C95: =D95+E95 -> 169 | D95: 160 | E95: 9 | G95: 4.329 | H95: =ROUND(G95*E95*2,2) -> 77.92 | I95: =ROUND(H95*1.2359,2) -> 96.3
A96: Māsas palīgs | B96: 1 | C96: =D96+E96 -> 172 | D96: 160 | E96: 12 | G96: 4.329 | H96: =ROUND(G96*E96*2,2) -> 103.9 | I96: =ROUND(H96*1.2359,2) -> 128.41
A97: Pārējie darbinieki, kuri tieši iesaistīti darbā ar Covid-19, kopā, tai skaitā: | B97: =SUM(B98:B100) -> 3 | E97: =SUM(E98:E100) -> 64 | H97: =SUM(H98:H100) -> 517.37 | I97: =SUM(I98:I100) -> 639.43
A98: Sanitārs | B98: 1 | C98: =D98+E98 -> 208 | D98: 160 | E98: 48 | G98: 4.042 | H98: =ROUND(G98*E98*2,2) -> 388.03 | I98: =ROUND(H98*1.2359,2) -> 479.57
A99: Sanitārs | B99: 1 | C99: =D99+E99 -> 165 | D99: 160 | E99: 5 | G99: 4.042 | H99: =ROUND(G99*E99*2,2) -> 40.42 | I99: =ROUND(H99*1.2359,2) -> 49.96
A100: Sanitārs | B100: 1 | C100: =D100+E100 -> 171 | D100: 160 | E100: 11 | G100: 4.042 | H100: =ROUND(G100*E100*2,2) -> 88.92 | I100: =ROUND(H100*1.2359,2) -> 109.9
A101: KARDIOLOĢIJAS NODAĻA | B101: =B102+B112 -> 10 | E101: =E102+E112 -> 416.5 | H101: =H102+H112 -> 5053.39 | I101: =I102+I112 -> 6195.25
A102: Ārstniecības un pacientu aprūpes atbalsta personas, māsu palīgi, zobārstu aistenti, kopā, tai skaitā:*** | B102: =SUM(B103:B111) -> 9 | E102: =SUM(E103:E111) -> 398 | H102: =SUM(H103:H111) -> 4903.84 | I102: =SUM(I103:I111) -> 6010.42
...

Sheet Liepāja_jūl
H1: 1.11.Pielikums
A2: Pārskats par darba veicējiem (ārstniecības personām), virs normālā darba laika nostrādātām stundām, apmaksājamām stundām un izdevumiem, kas radušies saistībā ar mērķi ierobežot Covid-19 izplatību
A4: Iestādes nosaukums: SIA "Liepājas reģionālā slimnīca"
A5: Pārskata mēnesis: Jūlijs
B7: Nodarbināto skaits mēnesī | C7: Apmaksājamais laiks mēnesī, stundas (tai skaitā summētā darba laika ietvaros) | F7: Mēnešalga no kuras rēķina stundas likmi | G7: Stundas likme (aprēķināta atbilstoši mēnešalgai vai darba līgumā noteiktā stundas likme) | H7: Apmaksājamā 100% piemaksa par nostrādātām virsstundām virs normālā darba laika (tai skaitā summētā darba laika ietvaros) | I7: Izdevumi par virsstundām kopā ar VSOAI, EUR
C8: Kopā | D8: līdz normālam darba laikam | E8: virsstundas - virs normālā darba laika, kas saistītas ar darbu ar Covid-19
A10: 1 | B10: 2 | C10: 3=4+5 | D10: 4 | E10: 5 | F10: 6 | G10: 7 | H10: 8 | I10: 9=8 + VSOAI
A11: KOPĀ | B11: =B12 -> 4 | E11: =E12 -> 27 | H11: =H12 -> 293.87 | I11: =I12 -> 363.19
A12: Pārējie darbinieki, kuri tieši iesaistīti darbā ar Covid-19, kopā, tai skaitā: | B12: =SUM(B13:B16) -> 4 | E12: =SUM(E13:E16) -> 27 | H12: =SUM(H13:H16) -> 293.87 | I12: =SUM(I13:I16) -> 363.19
A13: Medicīnas statistiķis | B13: 1 | C13: =D13+E13 -> 148 | D13: 136 | E13: 12 | F13: 926 | G13: =ROUND(F13/176,4) -> 5.2614 | H13: =ROUND(G13*E13*2,2) -> 126.27 | I13: =ROUND(H13*1.2359,2) -> 156.06
A14: =A13 -> Medicīnas statistiķis | B14: 1 | C14: =D14+E14 -> 110 | D14: 104 | E14: 6 | F14: 926 | G14: =ROUND(F14/176,4) -> 5.2614 | H14: =ROUND(G14*E14*2,2) -> 63.14 | I14: =ROUND(H14*1.2359,2) -> 78.03
A15: Medicīnas statistiķis | B15: 1 | C15: =D15+E15 -> 123 | D15: 120 | E15: 3 | F15: 926 | G15: =ROUND(F15/176,4) -> 5.2614 | H15: =ROUND(G15*E15*2,2) -> 31.57 | I15: =ROUND(H15*1.2359,2) -> 39.02
A16: Vecākais medicīnas statistiķis | B16: 1 | C16: =D16+E16 -> 142 | D16: 136 | E16: 6 | F16: 1069 | G16: =ROUND(F16/176,4) -> 6.0739 | H16: =ROUND(G16*E16*2,2) -> 72.89 | I16: =ROUND(H16*1.2359,2) -> 90.08

Sheet Liepāja_aug
H1: 1.12.Pielikums
A2: Pārskats par darba veicējiem (ārstniecības personām), virs normālā darba laika nostrādātām stundām, apmaksājamām stundām un izdevumiem, kas radušies saistībā ar mērķi ierobežot Covid-19 izplatību
A4: Iestādes nosaukums: SIA "Liepājas reģionālā slimnīca"
A5: Pārskata mēnesis: Augusts
B7: Nodarbināto skaits mēnesī | C7: Apmaksājamais laiks mēnesī, stundas (tai skaitā summētā darba laika ietvaros) | F7: Mēnešalga no kuras rēķina stundas likmi | G7: Stundas likme (aprēķināta atbilstoši mēnešalgai vai darba līgumā noteiktā stundas likme) | H7: Apmaksājamā 100% piemaksa par nostrādātām virsstundām virs normālā darba laika (tai skaitā summētā darba laika ietvaros) | I7: Izdevumi par virsstundām kopā ar VSOAI, EUR
C8: Kopā | D8: līdz normālam darba laikam | E8: virsstundas - virs normālā darba laika, kas saistītas ar darbu ar Covid-19
A10: 1 | B10: 2 | C10: 3=4+5 | D10: 4 | E10: 5 | F10: 6 | G10: 7 | H10: 8 | I10: 9=8 + VSOAI
A11: KOPĀ | B11: =B12+B16 -> 7 | E11: =E12+E16 -> 96 | H11: =H12+H16 -> 1241.69 | I11: =I12+I16 -> 1534.59
A12: Ārstniecības un pacientu aprūpes personas un funkcionālo speciālistu asistenti, kopā, tai skaitā: | B12: =SUM(B13:B15) -> 3 | E12: =SUM(E13:E15) -> 69 | H12: =SUM(H13:H15) -> 947.81 | I12: =SUM(I13:I15) -> 1171.4
A13: Neatliekamās palīdzības māsa | B13: 1 | C13: =D13+E13 -> 189 | D13: 144 | E13: 45 | G13: 7.0541 | H13: =ROUND(G13*E13*2,2) -> 634.87 | I13: =ROUND(H13*1.2359,2) -> 784.64
A14: Medicīnas māsa | B14: 1 | C14: =D14+E14 -> 108 | D14: 96 | E14: 12 | G14: 5.9849 | H14: =ROUND(G14*E14*2,2) -> 143.64 | I14: =ROUND(H14*1.2359,2) -> 177.52
A15: Intensīvās terapijas un anestēzijas māsa | B15: 1 | C15: =D15+E15 -> 188 | D15: 176 | E15: 12 | G15: 7.0541 | H15: =ROUND(G15*E15*2,2) -> 169.3 | I15: =ROUND(H15*1.2359,2) -> 209.24
A16: Pārējie darbinieki, kuri tieši iesaistīti darbā ar Covid-19, kopā, tai skaitā: | B16: =SUM(B17:B20) -> 4 | E16: =SUM(E17:E20) -> 27 | H16: =SUM(H17:H20) -> 293.88 | I16: =SUM(I17:I20) -> 363.19
A17: Medicīnas statistiķis | B17: 1 | C17: =D17+E17 -> 134 | D17: 128 | E17: 6 | F17: 926 | G17: =ROUND(F17/176,4) -> 5.2614 | H17: =ROUND(G17*E17*2,2) -> 63.14 | I17: =ROUND(H17*1.2359,2) -> 78.03
A18: =A17 -> Medicīnas statistiķis | B18: 1 | C18: =D18+E18 -> 86 | D18: 80 | E18: 6 | F18: 926 | G18: =ROUND(F18/176,4) -> 5.2614 | H18: =ROUND(G18*E18*2,2) -> 63.14 | I18: =ROUND(H18*1.2359,2) -> 78.03
A19: Medicīnas statistiķis | B19: 1 | C19: =D19+E19 -> 185 | D19: 176 | E19: 9 | F19: 926 | G19: =ROUND(F19/176,4) -> 5.2614 | H19: =ROUND(G19*E19*2,2) -> 94.71 | I19: =ROUND(H19*1.2359,2) -> 117.05
A20: Vecākais medicīnas statistiķis | B20: 1 | C20: =D20+E20 -> 126 | D20: 120 | E20: 6 | F20: 1069 | G20: =ROUND(F20/176,4) -> 6.0739 | H20: =ROUND(G20*E20*2,2) -> 72.89 | I20: =ROUND(H20*1.2359,2) -> 90.08

Sheet Liepāja_sep
H1: 1.13.Pielikums
A2: Pārskats par darba veicējiem (ārstniecības personām), virs normālā darba laika nostrādātām stundām, apmaksājamām stundām un izdevumiem, kas radušies saistībā ar mērķi ierobežot Covid-19 izplatību
A4: Iestādes nosaukums: SIA "Liepājas reģionālā slimnīca"
A5: Pārskata mēnesis: Septembris
B7: Nodarbināto skaits mēnesī | C7: Apmaksājamais laiks mēnesī, stundas (tai skaitā summētā darba laika ietvaros) | F7: Mēnešalga no kuras rēķina stundas likmi | G7: Stundas likme (aprēķināta atbilstoši mēnešalgai vai darba līgumā noteiktā stundas likme) | H7: Apmaksājamā 100% piemaksa par nostrādātām virsstundām virs normālā darba laika (tai skaitā summētā darba laika ietvaros) | I7: Izdevumi par virsstundām kopā ar VSOAI, EUR
C8: Kopā | D8: līdz normālam darba laikam | E8: virsstundas - virs normālā darba laika, kas saistītas ar darbu ar Covid-19
A10: 1 | B10: 2 | C10: 3=4+5 | D10: 4 | E10: 5 | F10: 6 | G10: 7 | H10: 8 | I10: 9=8 + VSOAI
A11: KOPĀ | B11: =B12+B16+B23+B26 -> 14 | E11: =E12+E16+E23+E26 -> 150.5 | H11: =H12+H16+H23+H26 -> 1739.95 | I11: =I12+I16+I23+I26 -> 2150.39
A12: Ārsti, zobārsti un funkcionālie speciālisti, kopā, tai skaitā: | B12: =SUM(B13:B15) -> 3 | E12: =SUM(E13:E15) -> 30 | H12: =SUM(H13:H15) -> 336 | I12: =SUM(I13:I15) -> 415.25
A13: Ārsts infektologs | B13: 1 | C13: =D13+E13 -> 188 | D13: 176 | E13: 12 | G13: 5.6 | H13: =ROUND(G13*E13*2,2) -> 134.4 | I13: =ROUND(H13*1.2359,2) -> 166.1
A14: Ārsts infektologs | B14: 1 | C14: =D14+E14 -> 156 | D14: =176-32 -> 144 | E14: 12 | G14: 5.6 | H14: =ROUND(G14*E14*2,2) -> 134.4 | I14: =ROUND(H14*1.2359,2) -> 166.1
A15: Ārsts infektologs | B15: 1 | C15: =D15+E15 -> 182 | D15: 176 | E15: 6 | G15: 5.6 | H15: =ROUND(G15*E15*2,2) -> 67.2 | I15: =ROUND(H15*1.2359,2) -> 83.05
A16: Ārstniecības un pacientu aprūpes personas un funkcionālo speciālistu asistenti, kopā, tai skaitā: | B16: =SUM(B17:B22) -> 6 | E16: =SUM(E17:E22) -> 56.5 | H16: =SUM(H17:H22) -> 735.01 | I16: =SUM(I17:I22) -> 908.4
A17: Medicīnas asistents | B17: 1 | C17: =D17+E17 -> 188 | D17: 176 | E17: 12 | G17: 4.6231 | H17: =ROUND(G17*E17*2,2) -> 110.95 | I17: =ROUND(H17*1.2359,2) -> 137.12
A18: Ārsta palīgs (feldšeris) | B18: 1 | C18: =D18+E18 -> 121 | D18: =176-56 -> 120 | E18: 1 | G18: 7.0541 | H18: =ROUND(G18*E18*2,2) -> 14.11 | I18: =ROUND(H18*1.2359,2) -> 17.44
A19: Radiologa asistents | B19: 1 | C19: =D19+E19 -> 188 | D19: =176 -> 176 | E19: 12 | G19: 7.0541 | H19: =ROUND(G19*E19*2,2) -> 169.3 | I19: =ROUND(H19*1.2359,2) -> 209.24
A20: Ķirurģiskās aprūpes māsa | B20: 1 | C20: =D20+E20 -> 148 | D20: =176-40 -> 136 | E20: 12 | G20: 7.0541 | H20: =ROUND(G20*E20*2,2) -> 169.3 | I20: =ROUND(H20*1.2359,2) -> 209.24
A21: Intensīvās terapijas un anestēzijas māsa | B21: 1 | C21: =D21+E21 -> 155.5 | D21: =176-24 -> 152 | E21: 3.5 | G21: 6.5171 | H21: =ROUND(G21*E21*2,2) -> 45.62 | I21: =ROUND(H21*1.2359,2) -> 56.38
A22: Ārsta palīgs (feldšeris) | B22: 1 | C22: =D22+E22 -> 192 | D22: 176 | E22: 16 | G22: 7.0541 | H22: =ROUND(G22*E22*2,2) -> 225.73 | I22: =ROUND(H22*1.2359,2) -> 278.98
A23: Ārstniecības un pacientu aprūpes atbalsta personas, māsu palīgi, zobārstu aistenti, kopā, tai skaitā: | B23: =SUM(B24:B25) -> 2 | E23: =SUM(E24:E25) -> 40 | H23: =SUM(H24:H25) -> 406.64 | I23: =SUM(I24:I25) -> 502.57
A24: Māsu palīgs | B24: 1 | C24: =D24+E24 -> 204 | D24: =176 -> 176 | E24: 28 | G24: 5.083 | H24: =ROUND(G24*E24*2,2) -> 284.65 | I24: =ROUND(H24*1.2359,2) -> 351.8
A25: Māsu palīgs | B25: 1 | C25: =D25+E25 -> 172 | D25: =176-16 -> 160 | E25: 12 | G25: 5.083 | H25: =ROUND(G25*E25*2,2) -> 121.99 | I25: =ROUND(H25*1.2359,2) -> 150.77
A26: Pārējie darbinieki, kuri tieši iesaistīti darbā ar Covid-19, kopā, tai skaitā: | B26: =SUM(B27:B29) -> 3 | E26: =SUM(E27:E29) -> 24 | H26: =SUM(H27:H29) -> 262.3 | I26: =SUM(I27:I29) -> 324.17
A27: Medicīnas statistiķis | B27: 1 | C27: =D27+E27 -> 188 | D27: =176-8*0 -> 176 | E27: 12 | F27: 926 | G27: =ROUND(F27/176,4) -> 5.2614 | H27: =ROUND(G27*E27*2,2) -> 126.27 | I27: =ROUND(H27*1.2359,2) -> 156.06
A28: Medicīnas statistiķis | B28: 1 | C28: =D28+E28 -> 126 | D28: =176-8*7 -> 120 | E28: 6 | F28: 926 | G28: =ROUND(F28/176,4) -> 5.2614 | H28: =ROUND(G28*E28*2,2) -> 63.14 | I28: =ROUND(H28*1.2359,2) -> 78.03
A29: Vecākais medicīnas statistiķis | B29: 1 | C29: =D29+E29 -> 174 | D29: =176-8*1 -> 168 | E29: 6 | F29: 1069 | G29: =ROUND(F29/176,4) -> 6.0739 | H29: =ROUND(G29*E29*2,2) -> 72.89 | I29: =ROUND(H29*1.2359,2) -> 90.08

Sheet Liepāja_okt
H1: 1.14.Pielikums
A2: Pārskats par darba veicējiem (ārstniecības personām), virs normālā darba laika nostrādātām stundām, apmaksājamām stundām un izdevumiem, kas radušies saistībā ar mērķi ierobežot Covid-19 izplatību
A4: Iestādes nosaukums: SIA "Liepājas reģionālā slimnīca"
A5: Pārskata mēnesis: Oktobris
B7: Nodarbināto skaits mēnesī | C7: Apmaksājamais laiks mēnesī, stundas (tai skaitā summētā darba laika ietvaros) | F7: Mēnešalga no kuras rēķina stundas likmi | G7: Stundas likme (aprēķināta atbilstoši mēnešalgai vai darba līgumā noteiktā stundas likme) | H7: Apmaksājamā 100% piemaksa par nostrādātām virsstundām virs normālā darba laika (tai skaitā summētā darba laika ietvaros) | I7: Izdevumi par virsstundām kopā ar VSOAI, EUR
C8: Kopā | D8: līdz normālam darba laikam | E8: virsstundas - virs normālā darba laika, kas saistītas ar darbu ar Covid-19
A10: 1 | B10: 2 | C10: 3=4+5 | D10: 4 | E10: 5 | F10: 6 | G10: 7 | H10: 8 | I10: 9=8 + VSOAI
A11: KOPĀ | B11: =B12+B17+B25+B33 -> 22 | E11: =E12+E17+E25+E33 -> 369 | H11: =H12+H17+H25+H33 -> 4149.17 | I11: =I12+I17+I25+I33 -> 5127.93
A12: Ārsti, zobārsti un funkcionālie speciālisti, kopā, tai skaitā: | B12: =SUM(B13:B16) -> 4 | E12: =SUM(E13:E16) -> 36 | H12: =SUM(H13:H16) -> 403.2 | I12: =SUM(I13:I16) -> 498.31
A13: Ārsts infektologs | B13: 1 | C13: =D13+E13 -> 183 | D13: 168 | E13: 15 | G13: 5.6 | H13: =ROUND(G13*E13*2,2) -> 168 | I13: =ROUND(H13*1.2359,2) -> 207.63
A14: Ārsts infektologs | B14: 1 | C14: =D14+E14 -> 131 | D14: 120 | E14: 11 | G14: 5.6 | H14: =ROUND(G14*E14*2,2) -> 123.2 | I14: =ROUND(H14*1.2359,2) -> 152.26
A15: Ārsts infektologs | B15: 1 | C15: =D15+E15 -> 174 | D15: 168 | E15: 6 | G15: 5.6 | H15: =ROUND(G15*E15*2,2) -> 67.2 | I15: =ROUND(H15*1.2359,2) -> 83.05
A16: Ārsts pneimatologs | B16: 1 | C16: =D16+E16 -> 164 | D16: 160 | E16: 4 | G16: 5.6 | H16: =ROUND(G16*E16*2,2) -> 44.8 | I16: =ROUND(H16*1.2359,2) -> 55.37
A17: Ārstniecības un pacientu aprūpes personas un funkcionālo speciālistu asistenti, kopā, tai skaitā: | B17: =SUM(B18:B24) -> 7 | E17: =SUM(E18:E24) -> 159 | H17: =SUM(H18:H24) -> 2088.81 | I17: =SUM(I18:I24) -> 2581.56
A18: Neatliekamās palīdzības māsa | B18: 1 | C18: =D18+E18 -> 81 | D18: 72 | E18: 9 | G18: 7.0542 | H18: =ROUND(G18*E18*2,2) -> 126.98 | I18: =ROUND(H18*1.2359,2) -> 156.93
A19: Neatliekamās palīdzības māsa | B19: 1 | C19: =D19+E19 -> 222 | D19: 168 | E19: 54 | G19: 7.0541 | H19: =ROUND(G19*E19*2,2) -> 761.84 | I19: =ROUND(H19*1.2359,2) -> 941.56
A20: Medicīnas asistents | B20: 1 | C20: =D20+E20 -> 204 | D20: 168 | E20: 36 | G20: 4.6231 | H20: =ROUND(G20*E20*2,2) -> 332.86 | I20: =ROUND(H20*1.2359,2) -> 411.38
A21: Ķirurģiskās aprūpes māsa | B21: 1 | C21: =D21+E21 -> 132 | D21: 120 | E21: 12 | G21: 7.9136 | H21: =ROUND(G21*E21*2,2) -> 189.93 | I21: =ROUND(H21*1.2359,2) -> 234.73
A22: Intensīvās terapijas un anestēzijas māsa | B22: 1 | C22: =D22+E22 -> 128 | D22: 104 | E22: 24 | G22: 7.0541 | H22: =ROUND(G22*E22*2,2) -> 338.6 | I22: =ROUND(H22*1.2359,2) -> 418.48
A23: Ārsta palīgs (feldšeris) | B23: 1 | C23: =D23+E23 -> 140 | D23: 128 | E23: 12 | G23: 7.0541 | H23: =ROUND(G23*E23*2,2) -> 169.3 | I23: =ROUND(H23*1.2359,2) -> 209.24
A24: Ārsta palīgs (feldšeris) | B24: 1 | C24: =D24+E24 -> 132 | D24: 120 | E24: 12 | G24: 7.0541 | H24: =ROUND(G24*E24*2,2) -> 169.3 | I24: =ROUND(H24*1.2359,2) -> 209.24
A25: Ārstniecības un pacientu aprūpes atbalsta personas, māsu palīgi, zobārstu aistenti, kopā, tai skaitā: | B25: =SUM(B26:B32) -> 7 | E25: =SUM(E26:E32) -> 136 | H25: =SUM(H26:H32) -> 1228.04 | I25: =SUM(I26:I32) -> 1517.72
A26: Sanitārs | B26: 1 | C26: =D26+E26 -> 88 | D26: 64 | E26: 24 | G26: 3.309 | H26: =ROUND(G26*E26*2,2) -> 158.83 | I26: =ROUND(H26*1.2359,2) -> 196.3
A27: Sanitārs | B27: 1 | C27: =D27+E27 -> 108 | D27: 96 | E27: 12 | G27: 3.6376 | H27: =ROUND(G27*E27*2,2) -> 87.3 | I27: =ROUND(H27*1.2359,2) -> 107.89
A28: Māsu palīgs | B28: 1 | C28: =D28+E28 -> 164 | D28: 152 | E28: 12 | G28: 5.083 | H28: =ROUND(G28*E28*2,2) -> 121.99 | I28: =ROUND(H28*1.2359,2) -> 150.77
A29: Māsu palīgs | B29: 1 | C29: =D29+E29 -> 184 | D29: 168 | E29: 16 | G29: 5.083 | H29: =ROUND(G29*E29*2,2) -> 162.66 | I29: =ROUND(H29*1.2359,2) -> 201.03
A30: Māsu palīgs | B30: 1 | C30: =D30+E30 -> 204 | D30: 168 | E30: 36 | G30: 5.083 | H30: =ROUND(G30*E30*2,2) -> 365.98 | I30: =ROUND(H30*1.2359,2) -> 452.31
A31: Sanitārs | B31: 1 | C31: =D31+E31 -> 124 | D31: 112 | E31: 12 | G31: 3.6376 | H31: =ROUND(G31*E31*2,2) -> 87.3 | I31: =ROUND(H31*1.2359,2) -> 107.89
A32: Māsu palīgs | B32: 1 | C32: =D32+E32 -> 120 | D32: 96 | E32: 24 | G32: 5.083 | H32: =ROUND(G32*E32*2,2) -> 243.98 | I32: =ROUND(H32*1.2359,2) -> 301.53
A33: Pārējie darbinieki, kuri tieši iesaistīti darbā ar Covid-19, kopā, tai skaitā: | B33: =SUM(B34:B37) -> 4 | E33: =SUM(E34:E37) -> 38 | H33: =SUM(H34:H37) -> 429.12 | I33: =SUM(I34:I37) -> 530.34
A34: Medicīnas statistiķis | B34: 1 | C34: =D34+E34 -> 176 | D34: 168 | E34: 8 | F34: 926 | G34: =ROUND(F34/168,4) -> 5.5119 | H34: =ROUND(G34*E34*2,2) -> 88.19 | I34: =ROUND(H34*1.2359,2) -> 108.99
A35: Medicīnas statistiķis | B35: 1 | C35: =D35+E35 -> 80 | D35: 72 | E35: 8 | F35: 926 | G35: =ROUND(F35/168,4) -> 5.5119 | H35: =ROUND(G35*E35*2,2) -> 88.19 | I35: =ROUND(H35*1.2359,2) -> 108.99
A36: Medicīnas statistiķis | B36: 1 | C36: =D36+E36 -> 136 | D36: 120 | E36: 16 | F36: 926 | G36: =ROUND(F36/168,4) -> 5.5119 | H36: =ROUND(G36*E36*2,2) -> 176.38 | I36: =ROUND(H36*1.2359,2) -> 217.99
A37: Vecākais medicīnas statistiķis | B37: 1 | C37: =D37+E37 -> 174 | D37: 168 | E37: 6 | F37: 1069 | G37: =ROUND(F37/168,4) -> 6.3631 | H37: =ROUND(G37*E37*2,2) -> 76.36 | I37: =ROUND(H37*1.2359,2) -> 94.37

Sheet Liepāja_nov
H1: 1.15.Pielikums
A2: Pārskats par darba veicējiem (ārstniecības personām), virs normālā darba laika nostrādātām stundām, apmaksājamām stundām un izdevumiem, kas radušies saistībā ar mērķi ierobežot Covid-19 izplatību
A4: Iestādes nosaukums: SIA "Liepājas reģionālā slimnīca"
A5: Pārskata mēnesis: Novembris
B7: Nodarbināto skaits mēnesī | C7: Apmaksājamais laiks mēnesī, stundas (tai skaitā summētā darba laika ietvaros) | F7: Mēnešalga no kuras rēķina stundas likmi | G7: Stundas likme (aprēķināta atbilstoši mēnešalgai vai darba līgumā noteiktā stundas likme) | H7: Apmaksājamā 100% piemaksa par nostrādātām virsstundām virs normālā darba laika (tai skaitā summētā darba laika ietvaros) | I7: Izdevumi par virsstundām kopā ar VSOAI, EUR
C8: Kopā | D8: līdz normālam darba laikam | E8: virsstundas - virs normālā darba laika, kas saistītas ar darbu ar Covid-19
A10: 1 | B10: 2 | C10: 3=4+5 | D10: 4 | E10: 5 | F10: 6 | G10: 7 | H10: 8 | I10: 9=8 + VSOAI
A11: KOPĀ | B11: =B12+B18+B28 -> 694 | E11: =E12+E18+E28 -> 236.5 | H11: =H12+H18+H28 -> 2971.88 | I11: =I12+I18+I28 -> 3672.95
A12: Ārsti, zobārsti un funkcionālie speciālisti, kopā, tai skaitā: | B12: =SUM(B13:B17) -> 5 | E12: =SUM(E13:E17) -> 47 | H12: =SUM(H13:H17) -> 526.4 | I12: =SUM(I13:I17) -> 650.57
A13: Ārsts infektologs | B13: 1 | C13: =D13+E13 -> 178 | D13: 167 | E13: 11 | G13: 5.6 | H13: =ROUND(G13*E13*2,2) -> 123.2 | I13: =ROUND(H13*1.2359,2) -> 152.26
A14: Ārsts infektologs | B14: 1 | C14: =D14+E14 -> 178 | D14: 167 | E14: 11 | G14: 5.6 | H14: =ROUND(G14*E14*2,2) -> 123.2 | I14: =ROUND(H14*1.2359,2) -> 152.26
A15: Ārsts infektologs | B15: 1 | C15: =D15+E15 -> 176 | D15: 167 | E15: 9 | G15: 5.6 | H15: =ROUND(G15*E15*2,2) -> 100.8 | I15: =ROUND(H15*1.2359,2) -> 124.58
A16: Ārsts pneimatologs | B16: 1 | C16: =D16+E16 -> 173 | D16: 167 | E16: 6 | G16: 5.6 | H16: =ROUND(G16*E16*2,2) -> 67.2 | I16: =ROUND(H16*1.2359,2) -> 83.05
A17: Ārsts pneimatologs | B17: 1 | C17: =D17+E17 -> 177 | D17: 167 | E17: 10 | G17: 5.6 | H17: =ROUND(G17*E17*2,2) -> 112 | I17: =ROUND(H17*1.2359,2) -> 138.42
A18: Ārstniecības un pacientu aprūpes personas un funkcionālo speciālistu asistenti, kopā, tai skaitā: | B18: =SUM(B19:B27) -> 9 | E18: =SUM(E19:E27) -> 153.5 | H18: =SUM(H19:H27) -> 2025.69 | I18: =SUM(I19:I27) -> 2503.56
A19: Neatliekamās palīdzības māsa | B19: 1 | C19: =D19+E19 -> 176 | D19: 167 | E19: 9 | G19: 7.0541 | H19: =ROUND(G19*E19*2,2) -> 126.97 | I19: =ROUND(H19*1.2359,2) -> 156.92
A20: Neatliekamās palīdzības māsa | B20: 1 | C20: =D20+E20 -> 212 | D20: 167 | E20: 45 | G20: 7.0541 | H20: =ROUND(G20*E20*2,2) -> 634.87 | I20: =ROUND(H20*1.2359,2) -> 784.64
A21: Radiologa asistents | B21: 1 | C21: =D21+E21 -> 131 | D21: 119 | E21: 12 | G21: 7.0541 | H21: =ROUND(G21*E21*2,2) -> 169.3 | I21: =ROUND(H21*1.2359,2) -> 209.24
A22: Ķirurģiskās aprūpes māsa | B22: 1 | C22: =D22+E22 -> 174.5 | D22: 167 | E22: 7.5 | G22: 6.5165 | H22: =ROUND(G22*E22*2,2) -> 97.75 | I22: =ROUND(H22*1.2359,2) -> 120.81
A23: Intensīvās terapijas un anestēzijas māsa | B23: 1 | C23: =D23+E23 -> 132 | D23: 119 | E23: 13 | G23: 7.0541 | H23: =ROUND(G23*E23*2,2) -> 183.41 | I23: =ROUND(H23*1.2359,2) -> 226.68
A24: Medicīnas asistents | B24: 1 | C24: =D24+E24 -> 192 | D24: 167 | E24: 25 | G24: 4.6231 | H24: =ROUND(G24*E24*2,2) -> 231.16 | I24: =ROUND(H24*1.2359,2) -> 285.69
A25: Ārsta palīgs (feldšeris) | B25: 1 | C25: =D25+E25 -> 137 | D25: 119 | E25: 18 | G25: 7.0541 | H25: =ROUND(G25*E25*2,2) -> 253.95 | I25: =ROUND(H25*1.2359,2) -> 313.86
A26: Intensīvās terapijas un anestēzijas māsa | B26: 1 | C26: =D26+E26 -> 84 | D26: 72 | E26: 12 | G26: 7.6932 | H26: =ROUND(G26*E26*2,2) -> 184.64 | I26: =ROUND(H26*1.2359,2) -> 228.2
A27: Intensīvās terapijas un anestēzijas māsa | B27: 1 | C27: =D27+E27 -> 179 | D27: 167 | E27: 12 | G27: 5.9849 | H27: =ROUND(G27*E27*2,2) -> 143.64 | I27: =ROUND(H27*1.2359,2) -> 177.52
A28: Pārējie darbinieki, kuri tieši iesaistīti darbā ar Covid-19, kopā, tai skaitā: | B28: =SUM(B29:B32) -> 680 | E28: =SUM(E29:E32) -> 36 | H28: =SUM(H29:H32) -> 419.79 | I28: =SUM(I29:I32) -> 518.82
A29: Medicīnas statistiķis | B29: =159+8 -> 167 | C29: =D29+E29 -> 167 | D29: 159 | E29: 8 | F29: 926 | G29: =ROUND(F29/167,4) -> 5.5449 | H29: =ROUND(G29*E29*2,2) -> 88.72 | I29: =ROUND(H29*1.2359,2) -> 109.65
A30: Medicīnas statistiķis | B30: =159+8 -> 167 | C30: =D30+E30 -> 167 | D30: 159 | E30: 8 | F30: 926 | G30: =ROUND(F30/167,4) -> 5.5449 | H30: =ROUND(G30*E30*2,2) -> 88.72 | I30: =ROUND(H30*1.2359,2) -> 109.65
A31: Medicīnas statistiķis | B31: =159+8 -> 167 | C31: =D31+E31 -> 167 | D31: 159 | E31: 8 | F31: 926 | G31: =ROUND(F31/167,4) -> 5.5449 | H31: =ROUND(G31*E31*2,2) -> 88.72 | I31: =ROUND(H31*1.2359,2) -> 109.65
A32: Vecākais medicīnas statistiķis | B32: =167+12 -> 179 | C32: =D32+E32 -> 179 | D32: 167 | E32: 12 | F32: 1069 | G32: =ROUND(F32/167,4) -> 6.4012 | H32: =ROUND(G32*E32*2,2) -> 153.63 | I32: =ROUND(H32*1.2359,2) -> 189.87

Sheet Liepāja_dec
H1: 1.16.Pielikums
A2: Pārskats par darba veicējiem (ārstniecības personām), virs normālā darba laika nostrādātām stundām, apmaksājamām stundām un izdevumiem, kas radušies saistībā ar mērķi ierobežot Covid-19 izplatību
A4: Iestādes nosaukums: SIA "Liepājas reģionālā slimnīca"
A5: Pārskata mēnesis: Decembris
B7: Nodarbināto skaits mēnesī | C7: Apmaksājamais laiks mēnesī, stundas (tai skaitā summētā darba laika ietvaros) | F7: Mēnešalga no kuras rēķina stundas likmi | G7: Stundas likme (aprēķināta atbilstoši mēnešalgai vai darba līgumā noteiktā stundas likme) | H7: Apmaksājamā 100% piemaksa par nostrādātām virsstundām virs normālā darba laika (tai skaitā summētā darba laika ietvaros) | I7: Izdevumi par virsstundām kopā ar VSOAI, EUR
C8: Kopā | D8: līdz normālam darba laikam | E8: virsstundas - virs normālā darba laika, kas saistītas ar darbu ar Covid-19
A10: 1 | B10: 2 | C10: 3=4+5 | D10: 4 | E10: 5 | F10: 6 | G10: 7 | H10: 8 | I10: 9=8 + VSOAI
A11: KOPĀ | B11: =B12+B16+B23 -> 685 | E11: =E12+E16+E23 -> 93 | H11: =H12+H16+H23 -> 1130.53 | I11: =I12+I16+I23 -> 1397.21
A12: Ārsti, zobārsti un funkcionālie speciālisti, kopā, tai skaitā: | B12: =SUM(B13:B15) -> 3 | E12: =SUM(E13:E15) -> 16 | H12: =SUM(H13:H15) -> 179.2 | I12: =SUM(I13:I15) -> 221.47
A13: Ārsts infektologs | B13: 1 | C13: =D13+E13 -> 141 | D13: 135 | E13: 6 | G13: 5.6 | H13: =ROUND(G13*E13*2,2) -> 67.2 | I13: =ROUND(H13*1.2359,2) -> 83.05
A14: Ārsts infektologs | B14: 1 | C14: =D14+E14 -> 172 | D14: 166 | E14: 6 | G14: 5.6 | H14: =ROUND(G14*E14*2,2) -> 67.2 | I14: =ROUND(H14*1.2359,2) -> 83.05
A15: Ārsts infektologs | B15: 1 | C15: =D15+E15 -> 130 | D15: 126 | E15: 4 | G15: 5.6 | H15: =ROUND(G15*E15*2,2) -> 44.8 | I15: =ROUND(H15*1.2359,2) -> 55.37
A16: Ārstniecības un pacientu aprūpes personas un funkcionālo speciālistu asistenti, kopā, tai skaitā: | B16: =SUM(B17:B22) -> 6 | E16: =SUM(E17:E22) -> 41 | H16: =SUM(H17:H22) -> 530.74 | I16: =SUM(I17:I22) -> 655.94
A17: Neatliekamās palīdzības māsa | B17: 1 | C17: =D17+E17 -> 119 | D17: 110 | E17: 9 | G17: 7.0541 | H17: =ROUND(G17*E17*2,2) -> 126.97 | I17: =ROUND(H17*1.2359,2) -> 156.92
A18: Medicīnas asistents | B18: 1 | C18: =D18+E18 -> 168 | D18: 166 | E18: 2 | G18: 5.0532 | H18: =ROUND(G18*E18*2,2) -> 20.21 | I18: =ROUND(H18*1.2359,2) -> 24.98
A19: Radiologa asistents | B19: 1 | C19: =D19+E19 -> 139 | D19: 127 | E19: 12 | G19: 7.0541 | H19: =ROUND(G19*E19*2,2) -> 169.3 | I19: =ROUND(H19*1.2359,2) -> 209.24
A20: Ķirurģiskās aprūpes māsa | B20: 1 | C20: =D20+E20 -> 178 | D20: 166 | E20: 12 | G20: 5.9849 | H20: =ROUND(G20*E20*2,2) -> 143.64 | I20: =ROUND(H20*1.2359,2) -> 177.52
A21: Intensīvās terapijas un anestēzijas māsa | B21: 1 | C21: =D21+E21 -> 146 | D21: 142 | E21: 4 | G21: 6.5165 | H21: =ROUND(G21*E21*2,2) -> 52.13 | I21: =ROUND(H21*1.2359,2) -> 64.43
A22: Medicīnas asistents | B22: 1 | C22: =D22+E22 -> 168 | D22: 166 | E22: 2 | G22: 4.6231 | H22: =ROUND(G22*E22*2,2) -> 18.49 | I22: =ROUND(H22*1.2359,2) -> 22.85
A23: Pārējie darbinieki, kuri tieši iesaistīti darbā ar Covid-19, kopā, tai skaitā: | B23: =SUM(B24:B27) -> 676 | E23: =SUM(E24:E27) -> 36 | H23: =SUM(H24:H27) -> 420.59 | I23: =SUM(I24:I27) -> 519.8
A24: Medicīnas statistiķis | B24: =164 -> 164 | C24: =D24+E24 -> 164 | D24: 158 | E24: 6 | F24: 926 | G24: =ROUND(F24/166,4) -> 5.5783 | H24: =ROUND(G24*E24*2,2) -> 66.94 | I24: =ROUND(H24*1.2359,2) -> 82.73
A25: Medicīnas statistiķis | B25: =166 -> 166 | C25: =D25+E25 -> 166 | D25: 158 | E25: 8 | F25: 926 | G25: =ROUND(F25/166,4) -> 5.5783 | H25: =ROUND(G25*E25*2,2) -> 89.25 | I25: =ROUND(H25*1.2359,2) -> 110.3
A26: Medicīnas statistiķis | B26: 177 | C26: =D26+E26 -> 177 | D26: 166 | E26: 11 | F26: 926 | G26: =ROUND(F26/166,4) -> 5.5783 | H26: =ROUND(G26*E26*2,2) -> 122.72 | I26: =ROUND(H26*1.2359,2) -> 151.67
A27: Vecākais medicīnas statistiķis | B27: 169 | C27: =D27+E27 -> 169 | D27: 158 | E27: 11 | F27: 1069 | G27: =ROUND(F27/166,4) -> 6.4398 | H27: =ROUND(G27*E27*2,2) -> 141.68 | I27: =ROUND(H27*1.2359,2) -> 175.1

Sheet Jelgava_nov
H1: 1.17.Pielikums
A2: Pārskats par darba veicējiem (ārstniecības personām), virs normālā darba laika nostrādātām stundām, apmaksājamām stundām un izdevumiem, kas radušies saistībā ar mērķi ierobežot Covid-19 izplatību
A4: Iestādes nosaukums: SIA Jelgavas pilsētas slimnīca
A5: Pārskata mēnesis: Novembris
B7: Nodarbināto skaits mēnesī | C7: Apmaksājamais laiks mēnesī, stundas (tai skaitā summētā darba laika ietvaros) | F7: Mēnešalga no kuras rēķina stundas likmi | G7: Stundas likme (aprēķināta atbilstoši mēnešalgai vai darba līgumā noteiktā stundas likme) | H7: Apmaksājamā 100% piemaksa par nostrādātām virsstundām virs normālā darba laika (tai skaitā summētā darba laika ietvaros) | I7: Izdevumi par virsstundām kopā ar VSOAI, EUR
C8: Kopā | D8: līdz normālam darba laikam | E8: virsstundas - virs normālā darba laika, kas saistītas ar darbu ar Covid-19
A10: 1 | B10: 2 | C10: 3=4+5 | D10: 4 | E10: 5 | F10: 6 | G10: 7 | H10: 8 | I10: 9=8 + VSOAI
A11: KOPĀ | B11: =B12+B24+B85+B106 -> 118 | E11: =E12+E24+E85+E106 -> 3725 | H11: =H12+H24+H85+H106 -> 44248.64 | I11: =I12+I24+I85+I106 -> 54686.92
A12: Ārsti, zobārsti un funkcionālie speciālisti, kopā, tai skaitā: | B12: =SUM(B13:B23) -> 11 | E12: =SUM(E13:E23) -> 100 | H12: =SUM(H13:H23) -> 2169.19 | I12: =SUM(I13:I23) -> 2680.92
A13: Ārsts | B13: 1 | C13: =D13+E13 -> 176 | D13: 167 | E13: 9 | F13: 1844 | G13: =ROUND(F13/D13,3) -> 11.042 | H13: =ROUND(E13*G13*2,2) -> 198.76 | I13: =ROUND(H13*1.2359,2) -> 245.65
A14: Ārsts | B14: 1 | C14: =D14+E14 -> 189 | D14: 167 | E14: 22 | F14: 1844 | G14: =ROUND(F14/D14,3) -> 11.042 | H14: =ROUND(E14*G14*2,2) -> 485.85 | I14: =ROUND(H14*1.2359,2) -> 600.46
A15: Ārsts | B15: 1 | C15: =D15+E15 -> 177 | D15: 167 | E15: 10 | F15: 1844 | G15: =ROUND(F15/D15,3) -> 11.042 | H15: =ROUND(E15*G15*2,2) -> 220.84 | I15: =ROUND(H15*1.2359,2) -> 272.94
A16: Ārsts | B16: 1 | C16: =D16+E16 -> 176 | D16: 167 | E16: 9 | F16: 1844 | G16: =ROUND(F16/D16,3) -> 11.042 | H16: =ROUND(E16*G16*2,2) -> 198.76 | I16: =ROUND(H16*1.2359,2) -> 245.65
A17: Ārsts | B17: 1 | C17: =D17+E17 -> 186 | D17: 167 | E17: 19 | F17: 1624 | G17: =ROUND(F17/D17,3) -> 9.725 | H17: =ROUND(E17*G17*2,2) -> 369.55 | I17: =ROUND(H17*1.2359,2) -> 456.73
A18: Ārsts | B18: 1 | C18: =D18+E18 -> 168 | D18: 167 | E18: 1 | F18: 1624 | G18: =ROUND(F18/D18,3) -> 9.725 | H18: =ROUND(E18*G18*2,2) -> 19.45 | I18: =ROUND(H18*1.2359,2) -> 24.04
A19: Ārsts | B19: 1 | C19: =D19+E19 -> 168 | D19: 167 | E19: 1 | F19: 1844 | G19: =ROUND(F19/D19,3) -> 11.042 | H19: =ROUND(E19*G19*2,2) -> 22.08 | I19: =ROUND(H19*1.2359,2) -> 27.29
A20: Ārsts | B20: 1 | C20: =D20+E20 -> 185 | D20: 167 | E20: 18 | F20: 1844 | G20: =ROUND(F20/D20,3) -> 11.042 | H20: =ROUND(E20*G20*2,2) -> 397.51 | I20: =ROUND(H20*1.2359,2) -> 491.28
A21: Ārsts | B21: 1 | C21: =D21+E21 -> 168 | D21: 167 | E21: 1 | F21: 1936 | G21: =ROUND(F21/D21,3) -> 11.593 | H21: =ROUND(E21*G21*2,2) -> 23.19 | I21: =ROUND(H21*1.2359,2) -> 28.66
A22: Ārsts | B22: 1 | C22: =D22+E22 -> 176 | D22: 167 | E22: 9 | F22: 2028 | G22: =ROUND(F22/D22,3) -> 12.144 | H22: =ROUND(E22*G22*2,2) -> 218.59 | I22: =ROUND(H22*1.2359,2) -> 270.16
A23: Fizioterapeits | B23: 1 | C23: =D23+E23 -> 168 | D23: 167 | E23: 1 | F23: 1220 | G23: =ROUND(F23/D23,3) -> 7.305 | H23: =ROUND(E23*G23*2,2) -> 14.61 | I23: =ROUND(H23*1.2359,2) -> 18.06
A24: Ārstniecības un pacientu aprūpes personas un funkcionālo speciālistu asistenti, kopā, tai skaitā: | B24: =SUM(B25:B84) -> 60 | E24: =SUM(E25:E84) -> 1963 | H24: =SUM(H25:H84) -> 25782.01 | I24: =SUM(I25:I84) -> 31864.03
A25: Medicīnas māsa | B25: 1 | C25: =D25+E25 -> 215 | D25: 167 | E25: 48 | F25: 1133 | G25: =ROUND(F25/D25,3) -> 6.784 | H25: =ROUND(E25*G25*2,2) -> 651.26 | I25: =ROUND(H25*1.2359,2) -> 804.89
A26: Medicīnas māsa | B26: 1 | C26: =D26+E26 -> 172 | D26: 167 | E26: 5 | F26: 1133 | G26: =ROUND(F26/D26,3) -> 6.784 | H26: =ROUND(E26*G26*2,2) -> 67.84 | I26: =ROUND(H26*1.2359,2) -> 83.84
A27: Medicīnas māsa | B27: 1 | C27: =D27+E27 -> 239 | D27: 167 | E27: 72 | F27: 1133 | G27: =ROUND(F27/D27,3) -> 6.784 | H27: =ROUND(E27*G27*2,2) -> 976.9 | I27: =ROUND(H27*1.2359,2) -> 1207.35
