Workbook

Sheet KOPSAVILKUMS
J1: 1.pielikums MK rīkojuma projekta “Par finanšu līdzekļu piešķiršanu no valsts budžeta programmas “Līdzekļi neparedzētiem gadījumiem”” anotācijai
A3: Kopsavilkums par stacionāro iestāžu iesniegto informāciju par darba veicējiem (ārstniecības personām), virs normālā darba laika nostrādātām stundām, apmaksājamām stundām un izdevumiem, sakarā ar Latvijā izsludināto ārkārtējo situāciju ar mērķi ierobežot Covid-19 izplatību par 2021.gadu
C6: Izdevumi par virsstundām (2021.gada janvāris - decembris) kopā ar VSOAI, euro
C7: janvāris | D7: februāris | E7: marts | F7: aprīlis | G7: maijs | H7: jūnijs | I7: jūlijs | J7: augusts | K7: septembris | L7: oktobris | M7: novembris | N7: decembris | O7: KOPĀ
A8: KOPĀ | O8: =SUM(O9:O32) -> 5760351.4
A9: 1 | B9: VSIA "Bērnu klīniskā universitātes slimnīca" | M9: X | N9: X | O9: =SUM(M9:N9) -> 0
B10: SIA “Rīgas Austrumu klīniskās universitātes slimnīca” | M10: X | N10: X | O10: =SUM(M10:N10) -> 0
A11: 1 | B11: VISA "Bērnu klīniskā universitātes slimnīca" | C11: X | D11: X | E11: X | F11: X | G11: X | H11: X | I11: X | J11: X | K11: =BKUS_sept_dec!I11 -> 13156.31 | O11: =SUM(C11:N11) -> 13156.31
A12: 2 | B12: SIA “Rīgas Austrumu klīniskās universitātes slimnīca” | C12: X | D12: X | E12: X | F12: X | G12: X | H12: X | I12: X | J12: X | K12: =RAKUS_sept_dec!I11 -> 2780409.8 | O12: =SUM(C12:N12) -> 2780409.8
A13: 3 | B13: VSIA "Paula Stradiņa klīniskā universitātes slimnīca" | C13: X | D13: X | E13: X | F13: X | G13: X | H13: X | I13: X | J13: X | K13: =PSKUS_sept!I11 -> 196558.45 | L13: =PSKUS_okt!I11 -> 460188.22 | M13: =PSKUS_nov!I11 -> 399122.38 | N13: =PSKUS_dec!I11 -> 250815.43 | O13: =SUM(C13:N13) -> 1306684.5
A14: 4 | B14: SIA "Daugavpils reģionālā slimnīca" | C14: X | D14: X | E14: X | F14: X | G14: X | H14: X | I14: X | J14: X | K14: X | L14: X | M14: =Daugavpils_reģ_nov!I11 -> 197972.41 | N14: =Daugavpils_reģ_dec!I11 -> 162134.4 | O14: =SUM(C14:N14) -> 360106.81
A15: 5 | B15: SIA "Ziemeļkurzemes reģionālā slimnīca" | C15: X | D15: X | E15: X | F15: X | G15: X | H15: X | I15: X | J15: X | K15: X | L15: X | M15: ='Z-Kurzeme_nov'!I10 -> 115893.28 | N15: ='Z-Kurzeme_dec'!I10 -> 129777.12 | O15: =SUM(C15:N15) -> 245670.4
A16: 6 | B16: SIA "Liepājas reģionālā slimnīca" | C16: X | D16: X | E16: X | F16: X | G16: X | H16: X | I16: =Liepāja_jūl!I11 -> 363.19 | J16: =Liepāja_aug!I11 -> 1534.59 | K16: =Liepāja_sep!I11 -> 2150.39 | L16: =Liepāja_okt!I11 -> 5127.93 | M16: =Liepāja_nov!I11 -> 3672.95 | N16: =Liepāja_dec!I11 -> 1397.21 | O16: =SUM(C16:N16) -> 14246.26
A17: 7 | B17: SIA Jelgavas pilsētas slimnīca | C17: X | D17: X | E17: X | F17: X | G17: X | H17: X | I17: X | J17: X | K17: X | L17: X | M17: =Jelgava_nov!I11 -> 54686.92 | N17: =Jelgava_dec!I11 -> 45573.18 | O17: =SUM(C17:N17) -> 100260.1
A18: 8 | B18: SIA Vidzemes slimnīca | C18: X | D18: X | E18: X | F18: X | G18: X | H18: X | I18: X | J18: X | K18: X | L18: X | M18: =Vidzeme_nov!I11 -> 73993.41 | N18: =Vidzeme_dec!I11 -> 65223.67 | O18: =SUM(C18:N18) -> 139217.08
A19: 9 | B19: SIA Jēkabpils reģionālā slimnīca | C19: X | D19: X | E19: X | F19: X | G19: X | H19: X | I19: X | J19: X | K19: X | L19: =Jēkabpils_okt_dec!I11 -> 222487.7 | O19: =SUM(C19:N19) -> 222487.7
A20: 10 | B20: SIA Rēzeknes slimnīca | C20: =Rēzekne_janv_dec!I11 -> 297575.75 | O20: =SUM(C20:N20) -> 297575.75
A21: 11 | B21: SIA Jūrmalas slimnīca | C21: X | D21: X | E21: X | F21: X | G21: X | H21: X | I21: X | J21: X | K21: X | L21: X | M21: =Jūrmala_nov!I11 -> 13427.04 | N21: =Jūrmala_dec!I11 -> 11223.33 | O21: =SUM(C21:N21) -> 24650.37
A22: 12 | B22: SIA "Madonas slimnīca" | C22: X | D22: X | E22: X | F22: X | G22: X | H22: X | I22: =Madona_jūl_dec!I11 -> 71013.373 | O22: =SUM(C22:N22) -> 71013.373
A23: 13 | B23: VSIA "Rīgas psihiatrijas un narkoloģijas cenrts" | C23: X | D23: X | E23: X | F23: X | G23: X | H23: X | I23: X | J23: X | K23: X | L23: X | M23: =RPNC_nov!I11 -> 3892.68 | N23: =RPNC_dec!I11 -> 1848.83 | O23: =SUM(C23:N23) -> 5741.51
A24: 14 | B24: SIA "Rīgas Dzemdību nams" | C24: X | D24: X | E24: X | F24: X | G24: X | H24: X | I24: X | J24: X | K24: =Rīgas_DzN_sept_dec!I11 -> 4778.77 | O24: =SUM(C24:N24) -> 4778.77
A25: 15 | B25: SIA "Rīgas 2.slimnīca" | C25: X | D25: X | E25: X | F25: X | G25: X | H25: X | I25: X | J25: X | K25: ='Rīgas_2.sl._sept_dec'!I11 -> 1623.39 | O25: =SUM(C25:N25) -> 1623.39
A26: 16 | B26: SIA "Rīgas 1.slimnīca" | C26: X | D26: X | E26: X | F26: X | G26: X | H26: X | I26: X | J26: X | K26: X | L26: X | M26: ='Rīgas_1.sl._nov'!I11 -> 19389.12 | N26: ='Rīgas_1.sl._dec'!I11 -> 4814.89 | O26: =SUM(C26:N26) -> 24204.01
A27: 17 | B27: SIA "Balvu un Gulbenes slimnīcu apvienība" | C27: X | D27: X | E27: X | F27: X | G27: X | H27: X | I27: X | J27: X | K27: =Balvi_Gulbene_sept_dec!I11 -> 36167.01 | O27: =SUM(C27:N27) -> 36167.01
A28: 18 | B28: VSIA „Daugavpils psihoneiroloģiskā slimnīca” | C28: X | D28: X | E28: X | F28: X | G28: X | H28: X | I28: X | J28: X | K28: X | L28: X | M28: =Daugavpils_psih_nov!I11 -> 10467.82 | N28: =Daugavpils_psih_dec!I11 -> 450.11 | O28: =SUM(C28:N28) -> 10917.93
A29: 19 | B29: VSIA "Tramatoloģijas un ortopēdijas slimnīca" | C29: X | D29: X | E29: X | F29: X | G29: X | H29: X | I29: X | J29: X | K29: X | L29: X | M29: =TOS_nov!I11 -> 6719.69 | N29: X | O29: =SUM(C29:N29) -> 6719.69
A30: 20 | B30: VSIA "Piejūras slimnīca" | C30: X | D30: X | E30: X | F30: X | G30: X | H30: X | I30: X | J30: X | K30: X | L30: =Piejūra_okt_dec!I11 -> 37377.83 | O30: =SUM(C30:N30) -> 37377.83
A31: 21 | B31: SIA Kuldīgas slimnīca | C31: X | D31: X | E31: X | F31: X | G31: X | H31: X | I31: X | J31: X | K31: X | L31: X | M31: =Kuldīga_nov!I11 -> 21175.44 | N31: =Kuldīga_dec!I11 -> 10288.76 | O31: =SUM(C31:N31) -> 31464.2
A32: 22 | B32: SIA Bauskas slimnīca | C32: X | D32: X | E32: X | F32: X | G32: X | H32: X | I32: X | J32: X | K32: =Bauska_sept_dec!I11 -> 25878.65 | O32: =SUM(C32:N32) -> 25878.65
B34: Summētā darba laika periods, kurā uzskaitītas virsstundas un papildu snepieciešamais finansējums to apmaksai

Sheet BKUS_sept_dec
H1: 1.1 Pielikums
A2: Pārskats par darba veicējiem (ārstniecības personām), virs normālā darba laika nostrādātām stundām, apmaksājamām stundām un izdevumiem, kas radušies saistībā ar mērķi ierobežot Covid-19 izplatību
A4: Iestādes nosaukums: VISA "Bērnu klīniskā universitātes slimnīca"
A5: Pārskata mēnesis: Septembris - Decembris
B7: Nodarbināto skaits mēnesī | C7: Apmaksājamais laiks mēnesī, stundas (tai skaitā summētā darba laika ietvaros) | F7: Mēnešalga no kuras rēķina stundas likmi | G7: Stundas likme (aprēķināta atbilstoši mēnešalgai vai darba līgumā noteiktā stundas likme) | H7: Apmaksājamā 100% piemaksa par nostrādātām virsstundām virs normālā darba laika (tai skaitā summētā darba laika ietvaros) | I7: Izdevumi par virsstundām kopā ar VSOAI, EUR
C8: Kopā | D8: līdz normālam darba laikam | E8: virsstundas - virs normālā darba laika, kas saistītas ar darbu ar Covid-19
A10: 1 | B10: 2 | C10: 3=4+5 | D10: 4 | E10: 5 | F10: 6 | G10: 7 | H10: 8 | I10: 9=8 +VSOAI
A11: KOPĀ | B11: =B12+B14+B26+B28 -> 19 | E11: =E12+E14+E26+E28 -> 929 | H11: =H12+H14+H26+H28 -> 10645.11 | I11: =I12+I14+I26+I28 -> 13156.31
A12: Ārsti, zobārsti un funkcionālie speciālisti, kopā, tai skaitā: | B12: =SUM(B13:B13) -> 1 | E12: =SUM(E13:E13) -> 26 | H12: =SUM(H13:H13) -> 520.52 | I12: =SUM(I13:I13) -> 643.31
A13: Bērnu infektologs | B13: 1 | C13: =D13+E13 -> 703 | D13: 677 | E13: 26 | G13: 10.01 | H13: =ROUND(E13*G13*2,2) -> 520.52 | I13: =ROUND(H13*1.2359,2) -> 643.31
A14: Ārstniecības un pacientu aprūpes personas un funkcionālo speciālistu asistenti, kopā, tai skaitā: | B14: =SUM(B15:B25) -> 11 | E14: =SUM(E15:E25) -> 393.5 | H14: =SUM(H15:H25) -> 5555.83 | I14: =SUM(I15:I25) -> 6866.47
A15: Bērnu māsa | B15: 1 | C15: =D15+E15 -> 728.5 | D15: 677 | E15: 51.5 | G15: 6.89 | H15: =ROUND(E15*G15*2,2) -> 709.67 | I15: =ROUND(H15*1.2359,2) -> 877.08
A16: Bērnu māsa | B16: 1 | C16: =D16+E16 -> 700 | D16: 677 | E16: 23 | G16: 7.06 | H16: =ROUND(E16*G16*2,2) -> 324.76 | I16: =ROUND(H16*1.2359,2) -> 401.37
A17: Bērnu māsa | B17: 1 | C17: =D17+E17 -> 728 | D17: 677 | E17: 51 | G17: 7.06 | H17: =ROUND(E17*G17*2,2) -> 720.12 | I17: =ROUND(H17*1.2359,2) -> 890
A18: Bērnu māsa | B18: 1 | C18: =D18+E18 -> 714.5 | D18: 677 | E18: 37.5 | G18: 6.89 | H18: =ROUND(E18*G18*2,2) -> 516.75 | I18: =ROUND(H18*1.2359,2) -> 638.65
A19: Māsa | B19: 1 | C19: =D19+E19 -> 693 | D19: 677 | E19: 16 | G19: 8.25 | H19: =ROUND(E19*G19*2,2) -> 264 | I19: =ROUND(H19*1.2359,2) -> 326.28
A20: Bērnu māsa | B20: 1 | C20: =D20+E20 -> 685 | D20: 677 | E20: 8 | G20: 7.06 | H20: =ROUND(E20*G20*2,2) -> 112.96 | I20: =ROUND(H20*1.2359,2) -> 139.61
A21: Bērnu māsa | B21: 1 | C21: =D21+E21 -> 700.5 | D21: 677 | E21: 23.5 | G21: 7.06 | H21: =ROUND(E21*G21*2,2) -> 331.82 | I21: =ROUND(H21*1.2359,2) -> 410.1
A22: Bērnu māsa | B22: 1 | C22: =D22+E22 -> 688.5 | D22: 677 | E22: 11.5 | G22: 7.06 | H22: =ROUND(E22*G22*2,2) -> 162.38 | I22: =ROUND(H22*1.2359,2) -> 200.69
A23: Māsa | B23: 1 | C23: =D23+E23 -> 687 | D23: 677 | E23: 10 | G23: 8.25 | H23: =ROUND(E23*G23*2,2) -> 165 | I23: =ROUND(H23*1.2359,2) -> 203.92
A24: Bērnu māsa | B24: 1 | C24: =D24+E24 -> 743 | D24: 677 | E24: 66 | G24: 8.25 | H24: =ROUND(E24*G24*2,2) -> 1089 | I24: =ROUND(H24*1.2359,2) -> 1345.9
A25: Bērnu māsa | B25: 1 | C25: =D25+E25 -> 772.5 | D25: 677 | E25: 95.5 | G25: 6.07 | H25: =ROUND(E25*G25*2,2) -> 1159.37 | I25: =ROUND(H25*1.2359,2) -> 1432.87
A26: Ārstniecības un pacientu aprūpes atbalsta personas, māsu palīgi, zobārstu aistenti, kopā, tai skaitā: | B26: =SUM(B27) -> 1 | E26: =SUM(E27) -> 23 | H26: =SUM(H27) -> 205.16 | I26: =SUM(I27) -> 253.56
A27: Māsas palīgs | B27: 1 | C27: =D27+E27 -> 700 | D27: 677 | E27: 23 | G27: 4.46 | H27: =ROUND(E27*G27*2,2) -> 205.16 | I27: =ROUND(H27*1.2359,2) -> 253.56
A28: Pārējie darbinieki, kuri tieši iesaistīti darbā ar Covid-19, kopā, tai skaitā: | B28: =SUM(B29:B34) -> 6 | E28: =SUM(E29:E34) -> 486.5 | H28: =SUM(H29:H34) -> 4363.6 | I28: =SUM(I29:I34) -> 5392.97
A29: Sterilizācijas tehniskais darbinieks | B29: 1 | C29: =D29+E29 -> 741 | D29: 677 | E29: 64 | G29: 5.21 | H29: =ROUND(E29*G29*2,2) -> 666.88 | I29: =ROUND(H29*1.2359,2) -> 824.2
A30: Transporta pakalpojumu dienests | B30: 1 | C30: =D30+E30 -> 753.5 | D30: 677 | E30: 76.5 | G30: 5.3012048 | H30: =ROUND(E30*G30*2,2) -> 811.08 | I30: =ROUND(H30*1.2359,2) -> 1002.41
A31: Noslēguma dezinfekciju veicējs | B31: 1 | C31: =D31+E31 -> 768 | D31: 677 | E31: 91 | G31: 4.17 | H31: =ROUND(E31*G31*2,2) -> 758.94 | I31: =ROUND(H31*1.2359,2) -> 937.97
A32: Noslēguma dezinfekciju veicējs | B32: 1 | C32: =D32+E32 -> 816 | D32: 677 | E32: 139 | G32: 4.17 | H32: =ROUND(E32*G32*2,2) -> 1159.26 | I32: =ROUND(H32*1.2359,2) -> 1432.73
A33: Noslēguma dezinfekciju veicējs | B33: 1 | C33: =D33+E33 -> 750 | D33: 677 | E33: 73 | G33: 4.17 | H33: =ROUND(E33*G33*2,2) -> 608.82 | I33: =ROUND(H33*1.2359,2) -> 752.44
A34: Noslēguma dezinfekciju veicējs | B34: 1 | C34: =D34+E34 -> 720 | D34: 677 | E34: 43 | G34: 4.17 | H34: =ROUND(E34*G34*2,2) -> 358.62 | I34: =ROUND(H34*1.2359,2) -> 443.22

Sheet RAKUS_sept_dec
H1: 1.2.Pielikums
A2: Pārskats par darba veicējiem (ārstniecības personām), virs normālā darba laika nostrādātām stundām, apmaksājamām stundām un izdevumiem, kas radušies saistībā ar mērķi ierobežot Covid-19 izplatību
A4: Iestādes nosaukums: SIA “Rīgas Austrumu klīniskās universitātes slimnīca”
A5: Pārskata mēnesis: Septembris - Decembris
B7: Nodarbināto skaits mēnesī | C7: Apmaksājamais laiks mēnesī, stundas (tai skaitā summētā darba laika ietvaros) | F7: Mēnešalga no kuras rēķina stundas likmi | G7: Stundas likme (aprēķināta atbilstoši mēnešalgai vai darba līgumā noteiktā stundas likme)2 | H7: Apmaksājamā 100% piemaksa par nostrādātām virsstundām virs normālā darba laika (tai skaitā summētā darba laika ietvaros) | I7: Izdevumi par virsstundām kopā ar VSOAI, EUR
C8: Kopā | D8: līdz normālam darba laikam | E8: virsstundas - virs normālā darba laika, kas saistītas ar darbu ar Covid-19
A10: 1 | B10: 2 | C10: 3=4+5 | D10: 4 | E10: 5 | F10: 6 | G10: 7 | H10: 8 | I10: 9=8 + VSOAI
A11: KOPĀ | B11: =B12+B707+B1702+B1516 -> 2103 | E11: =E12+E707+E1702+E1516 -> 133761.01 | H11: =H12+H707+H1702+H1516 -> 2251726.1 | I11: =I12+I707+I1702+I1516 -> 2780409.8
A12: Ārsti, zobārsti un funkcionālie speciālisti, kopā, tai skaitā: | B12: =SUM(B13:B706) -> 694 | E12: =SUM(E13:E706) -> 56165.74 | H12: =SUM(H13:H706) -> 1225746.9 | I12: =SUM(I13:I706) -> 1513837.9
A13: Anesteziologs, reanimatologs | B13: 1 | C13: =D13+E13 -> 701.5 | D13: 549 | E13: 152.5 | F13: 1993 | G13: =ROUND(F13/167.42,4) -> 11.9042 | H13: =ROUND(E13*G13*2,2) -> 3630.78 | I13: =ROUND(H13*1.2077,2) -> 4384.89
A14: Anesteziologs, reanimatologs | B14: 1 | C14: =D14+E14 -> 842 | D14: 677 | E14: 165 | F14: 1993 | G14: =ROUND(F14/167.42,4) -> 11.9042 | H14: =ROUND(E14*G14*2,2) -> 3928.39 | I14: =ROUND(H14*1.2359,2) -> 4855.1
A15: Anesteziologs, reanimatologs | B15: 1 | C15: =D15+E15 -> 408.5 | D15: 286.5 | E15: 122 | F15: 1993 | G15: =ROUND(F15/167.42,4) -> 11.9042 | H15: =ROUND(E15*G15*2,2) -> 2904.62 | I15: =ROUND(H15*1.2359,2) -> 3589.82
A16: Anesteziologs, reanimatologs | B16: 1 | C16: =D16+E16 -> 875 | D16: 637 | E16: 238 | F16: 1993 | G16: =ROUND(F16/167.42,4) -> 11.9042 | H16: =ROUND(E16*G16*2,2) -> 5666.4 | I16: =ROUND(H16*1.2077,2) -> 6843.31
A17: Anesteziologs, reanimatologs | B17: 1 | C17: =D17+E17 -> 732 | D17: 605 | E17: 127 | F17: 1899 | G17: =ROUND(F17/167.42,4) -> 11.3427 | H17: =ROUND(E17*G17*2,2) -> 2881.05 | I17: =ROUND(H17*1.2359,2) -> 3560.69
A18: Anesteziologs, reanimatologs | B18: 1 | C18: =D18+E18 -> 600 | D18: 501 | E18: 99 | F18: 1993 | G18: =ROUND(F18/167.42,4) -> 11.9042 | H18: =ROUND(E18*G18*2,2) -> 2357.03 | I18: =ROUND(H18*1.2077,2) -> 2846.59
A19: Anesteziologs, reanimatologs | B19: 1 | C19: =D19+E19 -> 674 | D19: 541 | E19: 133 | F19: 1993 | G19: =ROUND(F19/167.42,4) -> 11.9042 | H19: =ROUND(E19*G19*2,2) -> 3166.52 | I19: =ROUND(H19*1.2359,2) -> 3913.5
A20: Anesteziologs, reanimatologs | B20: 1 | C20: =D20+E20 -> 788 | D20: 645 | E20: 143 | F20: 1993 | G20: =ROUND(F20/167.42,4) -> 11.9042 | H20: =ROUND(E20*G20*2,2) -> 3404.6 | I20: =ROUND(H20*1.2359,2) -> 4207.75
A21: Anesteziologs, reanimatologs | B21: 1 | C21: =D21+E21 -> 312.061 | D21: 238.5 | E21: 73.561 | F21: 1993 | G21: =ROUND(F21/167.42,4) -> 11.9042 | H21: =ROUND(E21*G21*2,2) -> 1751.37 | I21: =ROUND(H21*1.2359,2) -> 2164.52
A22: Anesteziologs, reanimatologs | B22: 1 | C22: =D22+E22 -> 641 | D22: 533 | E22: 108 | F22: 1993 | G22: =ROUND(F22/167.42,4) -> 11.9042 | H22: =ROUND(E22*G22*2,2) -> 2571.31 | I22: =ROUND(H22*1.2077,2) -> 3105.37
A23: Anesteziologs, reanimatologs | B23: 1 | C23: =D23+E23 -> 809 | D23: 661 | E23: 148 | F23: 1993 | G23: =ROUND(F23/167.42,4) -> 11.9042 | H23: =ROUND(E23*G23*2,2) -> 3523.64 | I23: =ROUND(H23*1.2359,2) -> 4354.87
A24: Anesteziologs, reanimatologs | B24: 1 | C24: =D24+E24 -> 449 | D24: 0 | E24: 449 | F24: 2018 | G24: =ROUND(F24/167.42,4) -> 12.0535 | H24: =ROUND(E24*G24*2,2) -> 10824.04 | I24: =ROUND(H24*1.2359,2) -> 13377.43
A25: Anesteziologs, reanimatologs | B25: 1 | C25: =D25+E25 -> 287 | D25: 266.5 | E25: 20.5 | F25: 1993 | G25: =ROUND(F25/167.42,4) -> 11.9042 | H25: =ROUND(E25*G25*2,2) -> 488.07 | I25: =ROUND(H25*1.2359,2) -> 603.21
A26: Anesteziologs, reanimatologs | B26: 1 | C26: =D26+E26 -> 184 | D26: 89.25 | E26: 94.75 | F26: 2018 | G26: =ROUND(F26/167.42,4) -> 12.0535 | H26: =ROUND(E26*G26*2,2) -> 2284.14 | I26: =ROUND(H26*1.2359,2) -> 2822.97
A27: Anesteziologs, reanimatologs | B27: 1 | C27: =D27+E27 -> 750 | D27: 629 | E27: 121 | F27: 1993 | G27: =ROUND(F27/167.42,4) -> 11.9042 | H27: =ROUND(E27*G27*2,2) -> 2880.82 | I27: =ROUND(H27*1.2359,2) -> 3560.41
A28: Anesteziologs, reanimatologs | B28: 1 | C28: =D28+E28 -> 288 | D28: 0 | E28: 288 | F28: 1993 | G28: =ROUND(F28/167.42,4) -> 11.9042 | H28: =ROUND(E28*G28*2,2) -> 6856.82 | I28: =ROUND(H28*1.2359,2) -> 8474.34
A29: Anesteziologs, reanimatologs | B29: 1 | C29: =D29+E29 -> 273 | D29: 0 | E29: 273 | F29: 1993 | G29: =ROUND(F29/167.42,4) -> 11.9042 | H29: =ROUND(E29*G29*2,2) -> 6499.69 | I29: =ROUND(H29*1.2359,2) -> 8032.97
A30: Anesteziologs, reanimatologs | B30: 1 | C30: =D30+E30 -> 64 | D30: 0 | E30: 64 | F30: 1993 | G30: =ROUND(F30/167.42,4) -> 11.9042 | H30: =ROUND(E30*G30*2,2) -> 1523.74 | I30: =ROUND(H30*1.2077,2) -> 1840.22
A31: Anesteziologs, reanimatologs | B31: 1 | C31: =D31+E31 -> 247.247 | D31: 174.3 | E31: 72.947 | F31: 1993 | G31: =ROUND(F31/167.42,4) -> 11.9042 | H31: =ROUND(E31*G31*2,2) -> 1736.75 | I31: =ROUND(H31*1.2359,2) -> 2146.45
A32: Anesteziologs, reanimatologs | B32: 1 | C32: =D32+E32 -> 196.5 | D32: 0 | E32: 196.5 | F32: 2018 | G32: =ROUND(F32/167.42,4) -> 12.0535 | H32: =ROUND(E32*G32*2,2) -> 4737.03 | I32: =ROUND(H32*1.2359,2) -> 5854.5
A33: Anesteziologs, reanimatologs | B33: 1 | C33: =D33+E33 -> 774 | D33: 549 | E33: 225 | F33: 1993 | G33: =ROUND(F33/167.42,4) -> 11.9042 | H33: =ROUND(E33*G33*2,2) -> 5356.89 | I33: =ROUND(H33*1.2359,2) -> 6620.58
A34: Anesteziologs, reanimatologs | B34: 1 | C34: =D34+E34 -> 333 | D34: 266.5 | E34: 66.5 | F34: 1993 | G34: =ROUND(F34/167.42,4) -> 11.9042 | H34: =ROUND(E34*G34*2,2) -> 1583.26 | I34: =ROUND(H34*1.2359,2) -> 1956.75
A35: Anesteziologs, reanimatologs | B35: 1 | C35: =D35+E35 -> 144 | D35: 0 | E35: 144 | F35: 1993 | G35: =ROUND(F35/167.42,4) -> 11.9042 | H35: =ROUND(E35*G35*2,2) -> 3428.41 | I35: =ROUND(H35*1.2359,2) -> 4237.17
A36: Anesteziologs, reanimatologs | B36: 1 | C36: =D36+E36 -> 123 | D36: 0 | E36: 123 | F36: 1899 | G36: =ROUND(F36/167.42,4) -> 11.3427 | H36: =ROUND(E36*G36*2,2) -> 2790.3 | I36: =ROUND(H36*1.2359,2) -> 3448.53
A37: Anesteziologs, reanimatologs | B37: 1 | C37: =D37+E37 -> 373.67808 | D37: 278.5 | E37: 95.178082 | F37: 1993 | G37: =ROUND(F37/167.42,4) -> 11.9042 | H37: =ROUND(E37*G37*2,2) -> 2266.04 | I37: =ROUND(H37*1.2359,2) -> 2800.6
A38: Anesteziologs, reanimatologs | B38: 1 | C38: =D38+E38 -> 362.14906 | D38: 298.5 | E38: 63.649057 | F38: 1993 | G38: =ROUND(F38/167.42,4) -> 11.9042 | H38: =ROUND(E38*G38*2,2) -> 1515.38 | I38: =ROUND(H38*1.2359,2) -> 1872.86
A39: Anesteziologs, reanimatologs | B39: 1 | C39: =D39+E39 -> 316 | D39: 298.5 | E39: 17.5 | F39: 1993 | G39: =ROUND(F39/167.42,4) -> 11.9042 | H39: =ROUND(E39*G39*2,2) -> 416.65 | I39: =ROUND(H39*1.2359,2) -> 514.94
A40: Anesteziologs, reanimatologs | B40: 1 | C40: =D40+E40 -> 326 | D40: 278.5 | E40: 47.5 | F40: 1993 | G40: =ROUND(F40/167.42,4) -> 11.9042 | H40: =ROUND(E40*G40*2,2) -> 1130.9 | I40: =ROUND(H40*1.2359,2) -> 1397.68
A41: Anesteziologs, reanimatologs | B41: 1 | C41: =D41+E41 -> 326 | D41: 286.5 | E41: 39.5 | F41: 2952 | G41: =ROUND(F41/167.42,4) -> 17.6323 | H41: =ROUND(E41*G41*2,2) -> 1392.95 | I41: =ROUND(H41*1.2359,2) -> 1721.55
A42: Anesteziologs, reanimatologs | B42: 1 | C42: =D42+E42 -> 661 | D42: 637 | E42: 24 | F42: 2952 | G42: =ROUND(F42/167.42,4) -> 17.6323 | H42: =ROUND(E42*G42*2,2) -> 846.35 | I42: =ROUND(H42*1.2359,2) -> 1046
... A44: Anesteziologs, reanimatologs | B44: 1 | C44: =D44+E44 -> 655.997 | D44: 589 | E44: 66.997 | F44: 2952 | G44: =ROUND(F44/167.42,4) -> 17.6323 | H44: =ROUND(E44*G44*2,2) -> 2362.62 | I44: =ROUND(H44*1.2359,2) -> 2919.96
...

Sheet PSKUS_sept
H1: 1.3.Pielikums
A2: Pārskats par darba veicējiem (ārstniecības personām), virs normālā darba laika nostrādātām stundām, apmaksājamām stundām un izdevumiem, kas radušies saistībā ar mērķi ierobežot Covid-19 izplatību
A4: Iestādes nosaukums: VSIA "Paula Stradiņa klīniskā universitātes slimnīca"
A5: Pārskata mēnesis: Septembris
B7: Nodarbināto skaits mēnesī | C7: Apmaksājamais laiks mēnesī, stundas (tai skaitā summētā darba laika ietvaros) | F7: Mēnešalga no kuras rēķina stundas likmi | G7: Stundas likme (aprēķināta atbilstoši mēnešalgai vai darba līgumā noteiktā stundas likme) | H7: Apmaksājamā 100% piemaksa par nostrādātām virsstundām virs normālā darba laika (tai skaitā summētā darba laika ietvaros) | I7: Izdevumi par virsstundām kopā ar VSAOI, EUR
C8: Kopā | D8: līdz normālam darba laikam | E8: virsstundas - virs normālā darba laika, kas saistītas ar darbu ar Covid-19
A10: 1 | B10: 2 | C10: 3=4+5 | D10: 4 | E10: 5 | F10: 6 | G10: 7 | H10: 8 | I10: 9=8 + VSOAI
A11: KOPĀ | B11: =B12+B130+B276+B309 -> 367 | E11: =E12+E130+E276+E309 -> 9633.25 | H11: =H12+H130+H276+H309 -> 159040.76 | I11: =I12+I130+I276+I309 -> 196558.45
A12: Ārsti, zobārsti un funkcionālie speciālisti, kopā, tai skaitā: | B12: =SUM(B13:B129) -> 117 | E12: =SUM(E13:E129) -> 3299.5 | H12: =SUM(H13:H129) -> 71097.83 | I12: =SUM(I13:I129) -> 87869.79
A13: Atbildīgais ārsts anesteziologs, reanimatologs | B13: 1 | C13: =D13+E13 -> 190 | D13: 176 | E13: 14 | G13: 15.06 | H13: =ROUND(G13*E13*2,2) -> 421.68 | I13: =ROUND(H13*1.2359,2) -> 521.15
A14: Atbildīgais ārsts speciālists (diennakts postenis) | B14: 1 | C14: =D14+E14 -> 192 | D14: 176 | E14: 16 | G14: 12.42 | H14: =ROUND(G14*E14*2,2) -> 397.44 | I14: =ROUND(H14*1.2359,2) -> 491.2
A15: Ārsts | B15: 1 | C15: =D15+E15 -> 212 | D15: 176 | E15: 36 | G15: 9.39 | H15: =ROUND(G15*E15*2,2) -> 676.08 | I15: =ROUND(H15*1.2359,2) -> 835.57
A16: Ārsts anesteziologs, reanimatologs | B16: 1 | C16: =D16+E16 -> 219 | D16: 176 | E16: 43 | G16: 14.75 | H16: =ROUND(G16*E16*2,2) -> 1268.5 | I16: =ROUND(H16*1.2359,2) -> 1567.74
A17: Ārsts anesteziologs, reanimatologs | B17: 1 | C17: =D17+E17 -> 195 | D17: 176 | E17: 19 | G17: 10.56 | H17: =ROUND(G17*E17*2,2) -> 401.28 | I17: =ROUND(H17*1.2359,2) -> 495.94
A18: Ārsts anesteziologs, reanimatologs | B18: 1 | C18: =D18+E18 -> 199.6 | D18: 176 | E18: 23.6 | G18: 14.75 | H18: =ROUND(G18*E18*2,2) -> 696.2 | I18: =ROUND(H18*1.2359,2) -> 860.43
A19: Ārsts anesteziologs, reanimatologs | B19: 1 | C19: =D19+E19 -> 183 | D19: 176 | E19: 7 | G19: 10.56 | H19: =ROUND(G19*E19*2,2) -> 147.84 | I19: =ROUND(H19*1.2359,2) -> 182.72
A20: Ārsts anesteziologs, reanimatologs | B20: 1 | C20: =D20+E20 -> 239 | D20: 176 | E20: 63 | G20: 14.75 | H20: =ROUND(G20*E20*2,2) -> 1858.5 | I20: =ROUND(H20*1.2359,2) -> 2296.92
A21: Ārsts anesteziologs, reanimatologs | B21: 1 | C21: =D21+E21 -> 198 | D21: 176 | E21: 22 | G21: 14.61 | H21: =ROUND(G21*E21*2,2) -> 642.84 | I21: =ROUND(H21*1.2359,2) -> 794.49
A22: Ārsts anesteziologs, reanimatologs | B22: 1 | C22: =D22+E22 -> 195.5 | D22: 176 | E22: 19.5 | G22: 14.75 | H22: =ROUND(G22*E22*2,2) -> 575.25 | I22: =ROUND(H22*1.2359,2) -> 710.95
A23: Ārsts anesteziologs, reanimatologs | B23: 1 | C23: =D23+E23 -> 184 | D23: 176 | E23: 8 | G23: 14.46 | H23: =ROUND(G23*E23*2,2) -> 231.36 | I23: =ROUND(H23*1.2359,2) -> 285.94
A24: Ārsts anesteziologs, reanimatologs | B24: 1 | C24: =D24+E24 -> 199 | D24: 176 | E24: 23 | G24: 14.75 | H24: =ROUND(G24*E24*2,2) -> 678.5 | I24: =ROUND(H24*1.2359,2) -> 838.56
... A76: Radiologs (dežūrām) | B76: 1 | C76: =D76+E76 -> 192 | D76: 176 | E76: 16 | G76: 16.75 | H76: =ROUND(G76*E76*2,2) -> 536 | I76: =ROUND(H76*1.2359,2) -> 662.44
A77: Rezidents | B77: 1 | C77: =D77+E77 -> 222 | D77: 176 | E77: 46 | F77: 1572.39 | G77: =F77/167.42 -> 9.3918887 | H77: =ROUND(G77*E77*2,2) -> 864.05 | I77: =ROUND(H77*1.2359,2) -> 1067.88
A78: Rezidents | B78: 1 | C78: =D78+E78 -> 226 | D78: 176 | E78: 50 | F78: 1572.39 | G78: =F78/167.42 -> 9.3918887 | H78: =ROUND(G78*E78*2,2) -> 939.19 | I78: =ROUND(H78*1.2359,2) -> 1160.74
A79: Rezidents | B79: 1 | C79: =D79+E79 -> 224 | D79: 176 | E79: 48 | F79: 1572.39 | G79: =F79/167.42 -> 9.3918887 | H79: =ROUND(G79*E79*2,2) -> 901.62 | I79: =ROUND(H79*1.2359,2) -> 1114.31
A80: Rezidents | B80: 1 | C80: =D80+E80 -> 213 | D80: 176 | E80: 37 | F80: 1572.39 | G80: =F80/167.42 -> 9.3918887 | H80: =ROUND(G80*E80*2,2) -> 695 | I80: =ROUND(H80*1.2359,2) -> 858.95
A81: Rezidents | B81: 1 | C81: =D81+E81 -> 192 | D81: 176 | E81: 16 | F81: 1572.39 | G81: =F81/167.42 -> 9.3918887 | H81: =ROUND(G81*E81*2,2) -> 300.54 | I81: =ROUND(H81*1.2359,2) -> 371.44
A82: Rezidents | B82: 1 | C82: =D82+E82 -> 188 | D82: 176 | E82: 12 | F82: 1572.39 | G82: =F82/167.42 -> 9.3918887 | H82: =ROUND(G82*E82*2,2) -> 225.41 | I82: =ROUND(H82*1.2359,2) -> 278.58
A83: Rezidents | B83: 1 | C83: =D83+E83 -> 200 | D83: 176 | E83: 24 | F83: 1429.45 | G83: =F83/167.42 -> 8.5381078 | H83: =ROUND(G83*E83*2,2) -> 409.83 | I83: =ROUND(H83*1.2359,2) -> 506.51
A84: Rezidents | B84: 1 | C84: =D84+E84 -> 206 | D84: 176 | E84: 30 | F84: 1572.39 | G84: =F84/167.42 -> 9.3918887 | H84: =ROUND(G84*E84*2,2) -> 563.51 | I84: =ROUND(H84*1.2359,2) -> 696.44
A85: Rezidents | B85: 1 | C85: =D85+E85 -> 185 | D85: 176 | E85: 9 | F85: 1572.39 | G85: =F85/167.42 -> 9.3918887 | H85: =ROUND(G85*E85*2,2) -> 169.05 | I85: =ROUND(H85*1.2359,2) -> 208.93
A86: Rezidents | B86: 1 | C86: =D86+E86 -> 217 | D86: 176 | E86: 41 | F86: 1429.45 | G86: =F86/167.42 -> 8.5381078 | H86: =ROUND(G86*E86*2,2) -> 700.12 | I86: =ROUND(H86*1.2359,2) -> 865.28
A87: Rezidents | B87: 1 | C87: =D87+E87 -> 229 | D87: 176 | E87: 53 | F87: 1572.39 | G87: =F87/167.42 -> 9.3918887 | H87: =ROUND(G87*E87*2,2) -> 995.54 | I87: =ROUND(H87*1.2359,2) -> 1230.39
A88: Rezidents | B88: 1 | C88: =D88+E88 -> 214 | D88: 176 | E88: 38 | F88: 1572.39 | G88: =F88/167.42 -> 9.3918887 | H88: =ROUND(G88*E88*2,2) -> 713.78 | I88: =ROUND(H88*1.2359,2) -> 882.16
... A126: Rezidents | B126: 1 | C126: =D126+E126 -> 226 | D126: 176 | E126: 50 | F126: 1429.45 | G126: =F126/167.42 -> 8.5381078 | H126: =ROUND(G126*E126*2,2) -> 853.81 | I126: =ROUND(H126*1.2359,2) -> 1055.22
A127: Virsārsts intensīvajā terapijā | B127: 1 | C127: =D127+E127 -> 224 | D127: 176 | E127: 48 | G127: 17.53 | H127: =ROUND(G127*E127*2,2) -> 1682.88 | I127: =ROUND(H127*1.2359,2) -> 2079.87
A128: Virsārsts nefrologs | B128: 1 | C128: =D128+E128 -> 212 | D128: 176 | E128: 36 | G128: 18.14 | H128: =ROUND(G128*E128*2,2) -> 1306.08 | I128: =ROUND(H128*1.2359,2) -> 1614.18
A129: Virsārsts pneimonologs | B129: 1 | C129: =D129+E129 -> 184 | D129: 176 | E129: 8 | G129: 17.79 | H129: =ROUND(G129*E129*2,2) -> 284.64 | I129: =ROUND(H129*1.2359,2) -> 351.79
A130: Ārstniecības un pacientu aprūpes personas un funkcionālo speciālistu asistenti, kopā, tai skaitā: | B130: =SUM(B131:B275) -> 145 | E130: =SUM(E131:E275) -> 4080 | H130: =SUM(H131:H275) -> 64509.96 | I130: =SUM(I131:I275) -> 79727.93
A131: Ambulatorā dienesta ārsta palīgs | B131: 1 | C131: =D131+E131 -> 200 | D131: 176 | E131: 24 | G131: 7.45 | H131: =ROUND(G131*E131*2,2) -> 357.6 | I131: =ROUND(H131*1.2359,2) -> 441.96
...

Sheet PSKUS_okt
H1: 1.4.Pielikums
A2: Pārskats par darba veicējiem (ārstniecības personām), virs normālā darba laika nostrādātām stundām, apmaksājamām stundām un izdevumiem, kas radušies saistībā ar mērķi ierobežot Covid-19 izplatību
A4: Iestādes nosaukums: VSIA "Paula Stradiņa klīniskā universitātes slimnīca"
A5: Pārskata mēnesis: Oktobris
B7: Nodarbināto skaits mēnesī | C7: Apmaksājamais laiks mēnesī, stundas (tai skaitā summētā darba laika ietvaros) | F7: Mēnešalga no kuras rēķina stundas likmi | G7: Stundas likme (aprēķināta atbilstoši mēnešalgai vai darba līgumā noteiktā stundas likme) | H7: Apmaksājamā 100% piemaksa par nostrādātām virsstundām virs normālā darba laika (tai skaitā summētā darba laika ietvaros) | I7: Izdevumi par virsstundām kopā ar VSAOI, EUR
C8: Kopā | D8: līdz normālam darba laikam | E8: virsstundas - virs normālā darba laika, kas saistītas ar darbu ar Covid-19
A10: 1 | B10: 2 | C10: 3=4+5 | D10: 4 | E10: 5 | F10: 6 | G10: 7 | H10: 8 | I10: 9=8 + VSOAI
A11: KOPĀ | B11: =SUM(B12,B222,B475,B539) -> 682 | E11: =E12+E222+E475+E539 -> 23487.2 | H11: =H12+H222+H475+H539 -> 372350.7 | I11: =I12+I222+I475+I539 -> 460188.22
A12: Ārsti, zobārsti un funkcionālie speciālisti, kopā, tai skaitā: | B12: =COUNTA(A13:A221) -> 209 | E12: =SUM(E13:E221) -> 6833.2 | H12: =SUM(H13:H221) -> 148591.71 | I12: =SUM(I13:I221) -> 183644.43
A13: Atbildīgais ārsts anesteziologs, reanimatologs | B13: 1 | C13: =D13+E13 -> 218 | D13: 168 | E13: 50 | G13: 15.06 | H13: =ROUND(G13*E13*2,2) -> 1506 | I13: =ROUND(H13*1.2359,2) -> 1861.27
A14: Atbildīgais ārsts speciālists (diennakts postenis) | B14: 1 | C14: =D14+E14 -> 204 | D14: 168 | E14: 36 | G14: 12.42 | H14: =ROUND(G14*E14*2,2) -> 894.24 | I14: =ROUND(H14*1.2359,2) -> 1105.19
A15: Atbildīgais ārsts speciālists (diennakts postenis) | B15: 1 | C15: =D15+E15 -> 192 | D15: 168 | E15: 24 | G15: 12.42 | H15: =ROUND(G15*E15*2,2) -> 596.16 | I15: =ROUND(H15*1.2359,2) -> 736.79
A16: Atbildīgais ārsts speciālists (diennakts postenis) | B16: 1 | C16: =D16+E16 -> 192 | D16: 168 | E16: 24 | G16: 12.42 | H16: =ROUND(G16*E16*2,2) -> 596.16 | I16: =ROUND(H16*1.2359,2) -> 736.79
A17: Ārsts | B17: 1 | C17: =D17+E17 -> 184 | D17: 168 | E17: 16 | G17: 8.54 | H17: =ROUND(G17*E17*2,2) -> 273.28 | I17: =ROUND(H17*1.2359,2) -> 337.75
A18: Ārsts | B18: 1 | C18: =D18+E18 -> 178 | D18: 168 | E18: 10 | G18: 9.39 | H18: =ROUND(G18*E18*2,2) -> 187.8 | I18: =ROUND(H18*1.2359,2) -> 232.1
A19: Ārsts | B19: 1 | C19: =D19+E19 -> 176 | D19: 168 | E19: 8 | G19: 8.54 | H19: =ROUND(G19*E19*2,2) -> 136.64 | I19: =ROUND(H19*1.2359,2) -> 168.87
A20: Ārsts anesteziologs, reanimatologs | B20: 1 | C20: =D20+E20 -> 253 | D20: 168 | E20: 85 | G20: 14.75 | H20: =ROUND(G20*E20*2,2) -> 2507.5 | I20: =ROUND(H20*1.2359,2) -> 3099.02
A21: Ārsts anesteziologs, reanimatologs | B21: 1 | C21: =D21+E21 -> 212 | D21: 168 | E21: 44 | G21: 10.56 | H21: =ROUND(G21*E21*2,2) -> 929.28 | I21: =ROUND(H21*1.2359,2) -> 1148.5
A22: Ārsts anesteziologs, reanimatologs | B22: 1 | C22: =D22+E22 -> 180 | D22: 168 | E22: 12 | G22: 10.56 | H22: =ROUND(G22*E22*2,2) -> 253.44 | I22: =ROUND(H22*1.2359,2) -> 313.23
A23: Ārsts anesteziologs, reanimatologs | B23: 1 | C23: =D23+E23 -> 177 | D23: 168 | E23: 9 | G23: 10.56 | H23: =ROUND(G23*E23*2,2) -> 190.08 | I23: =ROUND(H23*1.2359,2) -> 234.92
A24: Ārsts anesteziologs, reanimatologs | B24: 1 | C24: =D24+E24 -> 177 | D24: 168 | E24: 9 | G24: 10.56 | H24: =ROUND(G24*E24*2,2) -> 190.08 | I24: =ROUND(H24*1.2359,2) -> 234.92
... A116: Radiologs (dežūrām) | B116: 1 | C116: =D116+E116 -> 172 | D116: 168 | E116: 4 | G116: 16.75 | H116: =ROUND(G116*E116*2,2) -> 134 | I116: =ROUND(H116*1.2359,2) -> 165.61
A117: Rezidents | B117: 1 | C117: =D117+E117 -> 177 | D117: 168 | E117: 9 | F117: 1572.39 | G117: =F117/167.42 -> 9.3918887 | H117: =ROUND(G117*E117*2,2) -> 169.05 | I117: =ROUND(H117*1.2359,2) -> 208.93
A118: Rezidents | B118: 1 | C118: =D118+E118 -> 197 | D118: 168 | E118: 29 | F118: 1572.39 | G118: =F118/167.42 -> 9.3918887 | H118: =ROUND(G118*E118*2,2) -> 544.73 | I118: =ROUND(H118*1.2359,2) -> 673.23
A119: Rezidents | B119: 1 | C119: =D119+E119 -> 209 | D119: 168 | E119: 41 | F119: 1572.39 | G119: =F119/167.42 -> 9.3918887 | H119: =ROUND(G119*E119*2,2) -> 770.13 | I119: =ROUND(H119*1.2359,2) -> 951.8
A120: Rezidents | B120: 1 | C120: =D120+E120 -> 181 | D120: 168 | E120: 13 | F120: 1572.39 | G120: =F120/167.42 -> 9.3918887 | H120: =ROUND(G120*E120*2,2) -> 244.19 | I120: =ROUND(H120*1.2359,2) -> 301.79
A121: Rezidents | B121: 1 | C121: =D121+E121 -> 173 | D121: 168 | E121: 5 | F121: 1572.39 | G121: =F121/167.42 -> 9.3918887 | H121: =ROUND(G121*E121*2,2) -> 93.92 | I121: =ROUND(H121*1.2359,2) -> 116.08
A122: Rezidents | B122: 1 | C122: =D122+E122 -> 232 | D122: 168 | E122: 64 | F122: 1572.39 | G122: =F122/167.42 -> 9.3918887 | H122: =ROUND(G122*E122*2,2) -> 1202.16 | I122: =ROUND(H122*1.2359,2) -> 1485.75
A123: Rezidents | B123: 1 | C123: =D123+E123 -> 208 | D123: 168 | E123: 40 | F123: 1572.39 | G123: =F123/167.42 -> 9.3918887 | H123: =ROUND(G123*E123*2,2) -> 751.35 | I123: =ROUND(H123*1.2359,2) -> 928.59
A124: Rezidents | B124: 1 | C124: =D124+E124 -> 206 | D124: 168 | E124: 38 | F124: 1572.39 | G124: =F124/167.42 -> 9.3918887 | H124: =ROUND(G124*E124*2,2) -> 713.78 | I124: =ROUND(H124*1.2359,2) -> 882.16
A125: Rezidents | B125: 1 | C125: =D125+E125 -> 186 | D125: 168 | E125: 18 | F125: 1572.39 | G125: =F125/167.42 -> 9.3918887 | H125: =ROUND(G125*E125*2,2) -> 338.11 | I125: =ROUND(H125*1.2359,2) -> 417.87
A126: Rezidents | B126: 1 | C126: =D126+E126 -> 217 | D126: 168 | E126: 49 | F126: 1572.39 | G126: =F126/167.42 -> 9.3918887 | H126: =ROUND(G126*E126*2,2) -> 920.41 | I126: =ROUND(H126*1.2359,2) -> 1137.53
A127: Rezidents | B127: 1 | C127: =D127+E127 -> 184 | D127: 168 | E127: 16 | F127: 1572.39 | G127: =F127/167.42 -> 9.3918887 | H127: =ROUND(G127*E127*2,2) -> 300.54 | I127: =ROUND(H127*1.2359,2) -> 371.44
A128: Rezidents | B128: 1 | C128: =D128+E128 -> 218 | D128: 168 | E128: 50 | F128: 1572.39 | G128: =F128/167.42 -> 9.3918887 | H128: =ROUND(G128*E128*2,2) -> 939.19 | I128: =ROUND(H128*1.2359,2) -> 1160.74
... A214: Rezidents | B214: 1 | C214: =D214+E214 -> 169 | D214: 168 | E214: 1 | F214: 1429.45 | G214: =F214/167.42 -> 8.5381078 | H214: =ROUND(G214*E214*2,2) -> 17.08 | I214: =ROUND(H214*1.2359,2) -> 21.11
A215: Virsārsts endokrinologs | B215: 1 | C215: =D215+E215 -> 202 | D215: 168 | E215: 34 | G215: 17.97 | H215: =ROUND(G215*E215*2,2) -> 1221.96 | I215: =ROUND(H215*1.2359,2) -> 1510.22
A216: Virsārsts endokrinologs | B216: 1 | C216: =D216+E216 -> 224 | D216: 168 | E216: 56 | G216: 17.79 | H216: =ROUND(G216*E216*2,2) -> 1992.48 | I216: =ROUND(H216*1.2359,2) -> 2462.51
A217: Virsārsts gastroenterologs | B217: 1 | C217: =D217+E217 -> 216 | D217: 168 | E217: 48 | G217: 18.14 | H217: =ROUND(G217*E217*2,2) -> 1741.44 | I217: =ROUND(H217*1.2359,2) -> 2152.25
A218: Virsārsts gastroenterologs-endoskopists | B218: 1 | C218: =D218+E218 -> 192 | D218: 168 | E218: 24 | G218: 17.79 | H218: =ROUND(G218*E218*2,2) -> 853.92 | I218: =ROUND(H218*1.2359,2) -> 1055.36
A219: Virsārsts intensīvajā terapijā | B219: 1 | C219: =D219+E219 -> 200 | D219: 168 | E219: 32 | G219: 17.53 | H219: =ROUND(G219*E219*2,2) -> 1121.92 | I219: =ROUND(H219*1.2359,2) -> 1386.58
...

Sheet PSKUS_nov
H1: 1.5.Pielikums
A2: Pārskats par darba veicējiem (ārstniecības personām), virs normālā darba laika nostrādātām stundām, apmaksājamām stundām un izdevumiem, kas radušies saistībā ar mērķi ierobežot Covid-19 izplatību
A4: Iestādes nosaukums: VSIA "Paula Stradiņa klīniskā universitātes slimnīca"
A5: Pārskata mēnesis: Novembris
B7: Nodarbināto skaits mēnesī | C7: Apmaksājamais laiks mēnesī, stundas (tai skaitā summētā darba laika ietvaros) | F7: Mēnešalga no kuras rēķina stundas likmi | G7: Stundas likme (aprēķināta atbilstoši mēnešalgai vai darba līgumā noteiktā stundas likme) | H7: Apmaksājamā 100% piemaksa par nostrādātām virsstundām virs normālā darba laika (tai skaitā summētā darba laika ietvaros) | I7: Izdevumi par virsstundām kopā ar VSAOI, EUR
C8: Kopā | D8: līdz normālam darba laikam | E8: virsstundas - virs normālā darba laika, kas saistītas ar darbu ar Covid-19
A10: 1 | B10: 2 | C10: 3=4+5 | D10: 4 | E10: 5 | F10: 6 | G10: 7 | H10: 8 | I10: 9=8 + VSOAI
A11: KOPĀ | B11: =B12+B232+B483+B558 -> 661 | E11: =E12+E232+E483+E558 -> 18401.8 | H11: =H12+H232+H483+H558 -> 322940.73 | I11: =I12+I232+I483+I558 -> 399122.38
A12: Ārsti, zobārsti un funkcionālie speciālisti, kopā, tai skaitā: | B12: =SUM(B13:B231) -> 219 | E12: =SUM(E13:E231) -> 7559.8 | H12: =SUM(H13:H231) -> 167982.73 | I12: =SUM(I13:I231) -> 207609.87
A13: Atbildīgais ārsts anesteziologs, reanimatologs | B13: 1 | C13: =D13+E13 -> 190 | D13: 167 | E13: 23 | G13: 15.21 | H13: =ROUND(G13*E13*2,2) -> 699.66 | I13: =ROUND(H13*1.2359,2) -> 864.71
A14: Atbildīgais ārsts anesteziologs, reanimatologs | B14: 1 | C14: =D14+E14 -> 254 | D14: 167 | E14: 87 | G14: 15.06 | H14: =ROUND(G14*E14*2,2) -> 2620.44 | I14: =ROUND(H14*1.2359,2) -> 3238.6
A15: Atbildīgais ārsts speciālists (diennakts postenis) | B15: 1 | C15: =D15+E15 -> 204 | D15: 167 | E15: 37 | G15: 12.42 | H15: =ROUND(G15*E15*2,2) -> 919.08 | I15: =ROUND(H15*1.2359,2) -> 1135.89
A16: Atbildīgais ārsts speciālists (diennakts postenis) | B16: 1 | C16: =D16+E16 -> 196 | D16: 167 | E16: 29 | G16: 12.42 | H16: =ROUND(G16*E16*2,2) -> 720.36 | I16: =ROUND(H16*1.2359,2) -> 890.29
A17: Atbildīgais ārsts speciālists (diennakts postenis) | B17: 1 | C17: =D17+E17 -> 187 | D17: 167 | E17: 20 | G17: 12.42 | H17: =ROUND(G17*E17*2,2) -> 496.8 | I17: =ROUND(H17*1.2359,2) -> 614
A18: Ārsts | B18: 1 | C18: =D18+E18 -> 243 | D18: 167 | E18: 76 | G18: 9.39 | H18: =ROUND(G18*E18*2,2) -> 1427.28 | I18: =ROUND(H18*1.2359,2) -> 1763.98
A19: Ārsts | B19: 1 | C19: =D19+E19 -> 183 | D19: 167 | E19: 16 | G19: 9.39 | H19: =ROUND(G19*E19*2,2) -> 300.48 | I19: =ROUND(H19*1.2359,2) -> 371.36
A20: Ārsts | B20: 1 | C20: =D20+E20 -> 174 | D20: 167 | E20: 7 | G20: 9.39 | H20: =ROUND(G20*E20*2,2) -> 131.46 | I20: =ROUND(H20*1.2359,2) -> 162.47
A21: Ārsts | B21: 1 | C21: =D21+E21 -> 199 | D21: 167 | E21: 32 | G21: 8.54 | H21: =ROUND(G21*E21*2,2) -> 546.56 | I21: =ROUND(H21*1.2359,2) -> 675.49
A22: Ārsts | B22: 1 | C22: =D22+E22 -> 223 | D22: 167 | E22: 56 | G22: 9.39 | H22: =ROUND(G22*E22*2,2) -> 1051.68 | I22: =ROUND(H22*1.2359,2) -> 1299.77
A23: Ārsts anesteziologs, reanimatologs | B23: 1 | C23: =D23+E23 -> 236 | D23: 167 | E23: 69 | G23: 14.75 | H23: =ROUND(G23*E23*2,2) -> 2035.5 | I23: =ROUND(H23*1.2359,2) -> 2515.67
A24: Ārsts anesteziologs, reanimatologs | B24: 1 | C24: =D24+E24 -> 192 | D24: 167 | E24: 25 | G24: 10.56 | H24: =ROUND(G24*E24*2,2) -> 528 | I24: =ROUND(H24*1.2359,2) -> 652.56
... A124: Radiologs (dežūrām) | B124: 1 | C124: =D124+E124 -> 196 | D124: 167 | E124: 29 | G124: 16.75 | H124: =ROUND(G124*E124*2,2) -> 971.5 | I124: =ROUND(H124*1.2359,2) -> 1200.68
A125: Rezidents | B125: 1 | C125: =D125+E125 -> 168 | D125: 167 | E125: 1 | F125: 1572.39 | G125: =F125/167.42 -> 9.3918887 | H125: =ROUND(G125*E125*2,2) -> 18.78 | I125: =ROUND(H125*1.2359,2) -> 23.21
A126: Rezidents | B126: 1 | C126: =D126+E126 -> 196 | D126: 167 | E126: 29 | F126: 1572.39 | G126: =F126/167.42 -> 9.3918887 | H126: =ROUND(G126*E126*2,2) -> 544.73 | I126: =ROUND(H126*1.2359,2) -> 673.23
A127: Rezidents | B127: 1 | C127: =D127+E127 -> 190 | D127: 167 | E127: 23 | F127: 1572.39 | G127: =F127/167.42 -> 9.3918887 | H127: =ROUND(G127*E127*2,2) -> 432.03 | I127: =ROUND(H127*1.2359,2) -> 533.95
A128: Rezidents | B128: 1 | C128: =D128+E128 -> 232 | D128: 167 | E128: 65 | F128: 1572.39 | G128: =F128/167.42 -> 9.3918887 | H128: =ROUND(G128*E128*2,2) -> 1220.95 | I128: =ROUND(H128*1.2359,2) -> 1508.97
A129: Rezidents | B129: 1 | C129: =D129+E129 -> 199 | D129: 167 | E129: 32 | F129: 1572.39 | G129: =F129/167.42 -> 9.3918887 | H129: =ROUND(G129*E129*2,2) -> 601.08 | I129: =ROUND(H129*1.2359,2) -> 742.87
A130: Rezidents | B130: 1 | C130: =D130+E130 -> 209 | D130: 167 | E130: 42 | F130: 1572.39 | G130: =F130/167.42 -> 9.3918887 | H130: =ROUND(G130*E130*2,2) -> 788.92 | I130: =ROUND(H130*1.2359,2) -> 975.03
A131: Rezidents | B131: 1 | C131: =D131+E131 -> 215 | D131: 167 | E131: 48 | F131: 1572.39 | G131: =F131/167.42 -> 9.3918887 | H131: =ROUND(G131*E131*2,2) -> 901.62 | I131: =ROUND(H131*1.2359,2) -> 1114.31
A132: Rezidents | B132: 1 | C132: =D132+E132 -> 183 | D132: 167 | E132: 16 | F132: 1572.39 | G132: =F132/167.42 -> 9.3918887 | H132: =ROUND(G132*E132*2,2) -> 300.54 | I132: =ROUND(H132*1.2359,2) -> 371.44
A133: Rezidents | B133: 1 | C133: =D133+E133 -> 221 | D133: 167 | E133: 54 | F133: 1572.39 | G133: =F133/167.42 -> 9.3918887 | H133: =ROUND(G133*E133*2,2) -> 1014.32 | I133: =ROUND(H133*1.2359,2) -> 1253.6
A134: Rezidents | B134: 1 | C134: =D134+E134 -> 185 | D134: 167 | E134: 18 | F134: 1572.39 | G134: =F134/167.42 -> 9.3918887 | H134: =ROUND(G134*E134*2,2) -> 338.11 | I134: =ROUND(H134*1.2359,2) -> 417.87
A135: Rezidents | B135: 1 | C135: =D135+E135 -> 231 | D135: 167 | E135: 64 | F135: 1572.39 | G135: =F135/167.42 -> 9.3918887 | H135: =ROUND(G135*E135*2,2) -> 1202.16 | I135: =ROUND(H135*1.2359,2) -> 1485.75
A136: Rezidents | B136: 1 | C136: =D136+E136 -> 217 | D136: 167 | E136: 50 | F136: 1572.39 | G136: =F136/167.42 -> 9.3918887 | H136: =ROUND(G136*E136*2,2) -> 939.19 | I136: =ROUND(H136*1.2359,2) -> 1160.74
... A222: Rezidents | B222: 1 | C222: =D222+E222 -> 180 | D222: 167 | E222: 13 | F222: 1429.45 | G222: =F222/167.42 -> 8.5381078 | H222: =ROUND(G222*E222*2,2) -> 221.99 | I222: =ROUND(H222*1.2359,2) -> 274.36
A223: Virsārsts endokrinologs | B223: 1 | C223: =D223+E223 -> 249 | D223: 167 | E223: 82 | G223: 17.97 | H223: =ROUND(G223*E223*2,2) -> 2947.08 | I223: =ROUND(H223*1.2359,2) -> 3642.3
A224: Virsārsts endokrinologs | B224: 1 | C224: =D224+E224 -> 207 | D224: 167 | E224: 40 | G224: 17.79 | H224: =ROUND(G224*E224*2,2) -> 1423.2 | I224: =ROUND(H224*1.2359,2) -> 1758.93
A225: Virsārsts endokrinologs | B225: 1 | C225: =D225+E225 -> 217 | D225: 167 | E225: 50 | G225: 17.79 | H225: =ROUND(G225*E225*2,2) -> 1779 | I225: =ROUND(H225*1.2359,2) -> 2198.67
A226: Virsārsts gastroenterologs | B226: 1 | C226: =D226+E226 -> 200 | D226: 167 | E226: 33 | G226: 18.14 | H226: =ROUND(G226*E226*2,2) -> 1197.24 | I226: =ROUND(H226*1.2359,2) -> 1479.67
A227: Virsārsts gastroenterologs-endoskopists | B227: 1 | C227: =D227+E227 -> 215 | D227: 167 | E227: 48 | G227: 17.79 | H227: =ROUND(G227*E227*2,2) -> 1707.84 | I227: =ROUND(H227*1.2359,2) -> 2110.72
...

Sheet PSKUS_dec
H1: 1.6.Pielikums
A2: Pārskats par darba veicējiem (ārstniecības personām), virs normālā darba laika nostrādātām stundām, apmaksājamām stundām un izdevumiem, kas radušies saistībā ar mērķi ierobežot Covid-19 izplatību
A4: Iestādes nosaukums: VSIA "Paula Stradiņa klīniskā universitātes slimnīca"
A5: Pārskata mēnesis: Decembris
B7: Nodarbināto skaits mēnesī | C7: Apmaksājamais laiks mēnesī, stundas (tai skaitā summētā darba laika ietvaros) | F7: Mēnešalga no kuras rēķina stundas likmi | G7: Stundas likme (aprēķināta atbilstoši mēnešalgai vai darba līgumā noteiktā stundas likme) | H7: Apmaksājamā 100% piemaksa par nostrādātām virsstundām virs normālā darba laika (tai skaitā summētā darba laika ietvaros) | I7: Izdevumi par virsstundām kopā ar VSAOI, EUR
C8: Kopā | D8: līdz normālam darba laikam | E8: virsstundas - virs normālā darba laika, kas saistītas ar darbu ar Covid-19
A10: 1 | B10: 2 | C10: 3=4+5 | D10: 4 | E10: 5 | F10: 6 | G10: 7 | H10: 8 | I10: 9=8 + VSOAI
A11: KOPĀ | B11: =SUM(B12,B174,B336,B369) -> 439 | E11: =E12+E174+E336+E369 -> 11387 | H11: =H12+H174+H336+H369 -> 202941.57 | I11: =I12+I174+I336+I369 -> 250815.43
A12: Ārsti, zobārsti un funkcionālie speciālisti, kopā, tai skaitā: | B12: =COUNTA(A13:A173) -> 161 | E12: =SUM(E13:E173) -> 5221 | H12: =SUM(H13:H173) -> 113267.34 | I12: =SUM(I13:I173) -> 139987.08
A13: Atbildīgais ārsts speciālists (diennakts postenis) | B13: 1 | C13: =D13+E13 -> 191 | D13: 166 | E13: 25 | G13: 12.42 | H13: =ROUND(G13*E13*2,2) -> 621 | I13: =ROUND(H13*1.2359,2) -> 767.49
A14: Atbildīgais ārsts speciālists (diennakts postenis) | B14: 1 | C14: =D14+E14 -> 168 | D14: 166 | E14: 2 | G14: 12.42 | H14: =ROUND(G14*E14*2,2) -> 49.68 | I14: =ROUND(H14*1.2359,2) -> 61.4
A15: Ārsts | B15: 1 | C15: =D15+E15 -> 190 | D15: 166 | E15: 24 | G15: 9.39 | H15: =ROUND(G15*E15*2,2) -> 450.72 | I15: =ROUND(H15*1.2359,2) -> 557.04
A16: Ārsts | B16: 1 | C16: =D16+E16 -> 176 | D16: 166 | E16: 10 | G16: 8.54 | H16: =ROUND(G16*E16*2,2) -> 170.8 | I16: =ROUND(H16*1.2359,2) -> 211.09
A17: Ārsts | B17: 1 | C17: =D17+E17 -> 184 | D17: 166 | E17: 18 | G17: 9.39 | H17: =ROUND(G17*E17*2,2) -> 338.04 | I17: =ROUND(H17*1.2359,2) -> 417.78
A18: Ārsts | B18: 1 | C18: =D18+E18 -> 208 | D18: 166 | E18: 42 | G18: 9.39 | H18: =ROUND(G18*E18*2,2) -> 788.76 | I18: =ROUND(H18*1.2359,2) -> 974.83
A19: Ārsts anesteziologs, reanimatologs | B19: 1 | C19: =D19+E19 -> 234 | D19: 166 | E19: 68 | G19: 14.75 | H19: =ROUND(G19*E19*2,2) -> 2006 | I19: =ROUND(H19*1.2359,2) -> 2479.22
A20: Ārsts anesteziologs, reanimatologs | B20: 1 | C20: =D20+E20 -> 189.7 | D20: 166 | E20: 23.7 | G20: 14.75 | H20: =ROUND(G20*E20*2,2) -> 699.15 | I20: =ROUND(H20*1.2359,2) -> 864.08
A21: Ārsts anesteziologs, reanimatologs | B21: 1 | C21: =D21+E21 -> 179 | D21: 166 | E21: 13 | G21: 10.56 | H21: =ROUND(G21*E21*2,2) -> 274.56 | I21: =ROUND(H21*1.2359,2) -> 339.33
A22: Ārsts anesteziologs, reanimatologs | B22: 1 | C22: =D22+E22 -> 235 | D22: 166 | E22: 69 | G22: 14.75 | H22: =ROUND(G22*E22*2,2) -> 2035.5 | I22: =ROUND(H22*1.2359,2) -> 2515.67
A23: Ārsts anesteziologs, reanimatologs | B23: 1 | C23: =D23+E23 -> 175 | D23: 166 | E23: 9 | G23: 14.75 | H23: =ROUND(G23*E23*2,2) -> 265.5 | I23: =ROUND(H23*1.2359,2) -> 328.13
A24: Ārsts anesteziologs, reanimatologs | B24: 1 | C24: =D24+E24 -> 191 | D24: 166 | E24: 25 | G24: 14.25 | H24: =ROUND(G24*E24*2,2) -> 712.5 | I24: =ROUND(H24*1.2359,2) -> 880.58
... A98: Radiologs (dežūrām) | B98: 1 | C98: =D98+E98 -> 235 | D98: 166 | E98: 69 | G98: 16.75 | H98: =ROUND(G98*E98*2,2) -> 2311.5 | I98: =ROUND(H98*1.2359,2) -> 2856.78
A99: Rezidents | B99: 1 | C99: =D99+E99 -> 187 | D99: 166 | E99: 21 | F99: 1572.39 | G99: =F99/167.42 -> 9.3918887 | H99: =ROUND(G99*E99*2,2) -> 394.46 | I99: =ROUND(H99*1.2359,2) -> 487.51
A100: Rezidents | B100: 1 | C100: =D100+E100 -> 189 | D100: 166 | E100: 23 | F100: 1572.39 | G100: =F100/167.42 -> 9.3918887 | H100: =ROUND(G100*E100*2,2) -> 432.03 | I100: =ROUND(H100*1.2359,2) -> 533.95
A101: Rezidents | B101: 1 | C101: =D101+E101 -> 176 | D101: 166 | E101: 10 | F101: 1572.39 | G101: =F101/167.42 -> 9.3918887 | H101: =ROUND(G101*E101*2,2) -> 187.84 | I101: =ROUND(H101*1.2359,2) -> 232.15
A102: Rezidents | B102: 1 | C102: =D102+E102 -> 234 | D102: 166 | E102: 68 | F102: 1572.39 | G102: =F102/167.42 -> 9.3918887 | H102: =ROUND(G102*E102*2,2) -> 1277.3 | I102: =ROUND(H102*1.2359,2) -> 1578.62
A103: Rezidents | B103: 1 | C103: =D103+E103 -> 214 | D103: 166 | E103: 48 | F103: 1572.39 | G103: =F103/167.42 -> 9.3918887 | H103: =ROUND(G103*E103*2,2) -> 901.62 | I103: =ROUND(H103*1.2359,2) -> 1114.31
A104: Rezidents | B104: 1 | C104: =D104+E104 -> 178 | D104: 166 | E104: 12 | F104: 1572.39 | G104: =F104/167.42 -> 9.3918887 | H104: =ROUND(G104*E104*2,2) -> 225.41 | I104: =ROUND(H104*1.2359,2) -> 278.58
A105: Rezidents | B105: 1 | C105: =D105+E105 -> 216 | D105: 166 | E105: 50 | F105: 1572.39 | G105: =F105/167.42 -> 9.3918887 | H105: =ROUND(G105*E105*2,2) -> 939.19 | I105: =ROUND(H105*1.2359,2) -> 1160.74
A106: Rezidents | B106: 1 | C106: =D106+E106 -> 192 | D106: 166 | E106: 26 | F106: 1572.39 | G106: =F106/167.42 -> 9.3918887 | H106: =ROUND(G106*E106*2,2) -> 488.38 | I106: =ROUND(H106*1.2359,2) -> 603.59
A107: Rezidents | B107: 1 | C107: =D107+E107 -> 167 | D107: 166 | E107: 1 | F107: 1572.39 | G107: =F107/167.42 -> 9.3918887 | H107: =ROUND(G107*E107*2,2) -> 18.78 | I107: =ROUND(H107*1.2359,2) -> 23.21
A108: Rezidents | B108: 1 | C108: =D108+E108 -> 205 | D108: 166 | E108: 39 | F108: 1429.45 | G108: =F108/167.42 -> 8.5381078 | H108: =ROUND(G108*E108*2,2) -> 665.97 | I108: =ROUND(H108*1.2359,2) -> 823.07
A109: Rezidents | B109: 1 | C109: =D109+E109 -> 206 | D109: 166 | E109: 40 | F109: 1429.45 | G109: =F109/167.42 -> 8.5381078 | H109: =ROUND(G109*E109*2,2) -> 683.05 | I109: =ROUND(H109*1.2359,2) -> 844.18
A110: Rezidents | B110: 1 | C110: =D110+E110 -> 202 | D110: 166 | E110: 36 | F110: 1429.45 | G110: =F110/167.42 -> 8.5381078 | H110: =ROUND(G110*E110*2,2) -> 614.74 | I110: =ROUND(H110*1.2359,2) -> 759.76
... A169: Rezidents | B169: 1 | C169: =D169+E169 -> 176 | D169: 166 | E169: 10 | F169: 1429.45 | G169: =F169/167.42 -> 8.5381078 | H169: =ROUND(G169*E169*2,2) -> 170.76 | I169: =ROUND(H169*1.2359,2) -> 211.04
A170: Virsārsts endokrinologs | B170: 1 | C170: =D170+E170 -> 182 | D170: 166 | E170: 16 | G170: 17.79 | H170: =ROUND(G170*E170*2,2) -> 569.28 | I170: =ROUND(H170*1.2359,2) -> 703.57
A171: Virsārsts intensīvajā terapijā | B171: 1 | C171: =D171+E171 -> 183 | D171: 166 | E171: 17 | G171: 17.53 | H171: =ROUND(G171*E171*2,2) -> 596.02 | I171: =ROUND(H171*1.2359,2) -> 736.62
A172: Virsārsts nefrologs | B172: 1 | C172: =D172+E172 -> 190 | D172: 166 | E172: 24 | G172: 18.14 | H172: =ROUND(G172*E172*2,2) -> 870.72 | I172: =ROUND(H172*1.2359,2) -> 1076.12
A173: Virsārsts torakālais ķirurgs | B173: 1 | C173: =D173+E173 -> 207 | D173: 166 | E173: 41 | G173: 19.57 | H173: =ROUND(G173*E173*2,2) -> 1604.74 | I173: =ROUND(H173*1.2359,2) -> 1983.3
A174: Ārstniecības un pacientu aprūpes personas un funkcionālo speciālistu asistenti, kopā, tai skaitā: | B174: =SUM(B175:B335) -> 161 | E174: =SUM(E175:E335) -> 4476 | H174: =SUM(H175:H335) -> 70473 | I174: =SUM(I175:I335) -> 87097.66
...

Sheet Daugavpils_reģ_nov
H1: 1.7.Pielikums
A2: Pārskats par darba veicējiem (ārstniecības personām), virs normālā darba laika nostrādātām stundām, apmaksājamām stundām un izdevumiem, kas radušies saistībā ar mērķi ierobežot Covid-19 izplatību
A4: Iestādes nosaukums: SIA "Daugavpils reģionālā slimnīca"
A5: Pārskata mēnesis: Novembris
B7: Nodarbināto skaits mēnesī | C7: Apmaksājamais laiks mēnesī, stundas (tai skaitā summētā darba laika ietvaros) | F7: Mēnešalga no kuras rēķina stundas likmi | G7: Stundas likme (aprēķināta atbilstoši mēnešalgai vai darba līgumā noteiktā stundas likme) | H7: Apmaksājamā 100% piemaksa par nostrādātām virsstundām virs normālā darba laika (tai skaitā summētā darba laika ietvaros) | I7: Izdevumi par virsstundām kopā ar VSOAI, EUR
C8: Kopā | D8: līdz normālam darba laikam 1 | E8: virsstundas - virs normālā darba laika, kas saistītas ar darbu ar Covid-19
A10: 1 | B10: 2 | C10: 3=4+5 | D10: 4 | E10: 5 | F10: 6 | G10: 7 | H10: 8 | I10: 9=8 + VSOAI
A11: KOPĀ | B11: =B12+B105+B120+B180+B199+B213+B242+B286+B310+B319+B326+B329 -> 320 | E11: =E12+E105+E120+E180+E199+E213+E242+E286+E310+E319+E326+E329 -> 11085 | H11: =H12+H105+H120+H180+H199+H213+H242+H286+H310+H319+H326+H329 -> 160447.84 | I11: =I12+I105+I120+I180+I199+I213+I242+I286+I310+I319+I326+I329 -> 197972.41
A12: Centrālā slimnīca "Uzņemšanas nodaļa" | B12: =B13+B52+B91 -> 89 | E12: =E13+E52+E91 -> 3285.5 | H12: =H13+H52+H91 -> 55295.11 | I12: =I13+I52+I91 -> 68175.54
A13: Ārsti, zobārsti un funkcionālie speciālisti, kopā, tai skaitā: | B13: =SUM(B14:B51) -> 38 | E13: =SUM(E14:E51) -> 2243.5 | H13: =SUM(H14:H51) -> 44221.68 | I13: =SUM(I14:I51) -> 54489.83
A14: Ārsts (dežūrslodze) | B14: 1 | C14: =D14+E14 -> 242 | D14: 167 | E14: 75 | F14: 1645.87 | G14: =F14/167 -> 9.855509 | H14: =ROUND(E14*G14*2,2) -> 1478.33 | I14: =ROUND(H14*1.2359,2) -> 1827.07
A15: Ārsts (dežūrslodze) | B15: 1 | C15: =D15+E15 -> 200 | D15: 111 | E15: 89 | F15: 1645.87 | G15: =F15/167 -> 9.855509 | H15: =ROUND(E15*G15*2,2) -> 1754.28 | I15: =ROUND(H15*1.2077,2) -> 2118.64
A16: Ginekologs, dzemdību speciālists | B16: 1 | C16: =D16+E16 -> 200 | D16: 167 | E16: 33 | F16: 1645.87 | G16: =F16/167 -> 9.855509 | H16: =ROUND(E16*G16*2,2) -> 650.46 | I16: =ROUND(H16*1.2077,2) -> 785.56
A17: Ginekologs, dzemdību speciālists | B17: 1 | C17: =D17+E17 -> 191 | D17: 167 | E17: 24 | F17: 1645.87 | G17: =F17/167 -> 9.855509 | H17: =ROUND(E17*G17*2,2) -> 473.06 | I17: =ROUND(H17*1.2359,2) -> 584.65
A18: Ginekologs, dzemdību speciālists | B18: 1 | C18: =D18+E18 -> 191 | D18: 167 | E18: 24 | F18: 1645.87 | G18: =F18/167 -> 9.855509 | H18: =ROUND(E18*G18*2,2) -> 473.06 | I18: =ROUND(H18*1.2359,2) -> 584.65
A19: Ginekologs, dzemdību speciālists | B19: 1 | C19: =D19+E19 -> 183 | D19: 159 | E19: 24 | F19: 1645.87 | G19: =F19/167 -> 9.855509 | H19: =ROUND(E19*G19*2,2) -> 473.06 | I19: =ROUND(H19*1.2359,2) -> 584.65
A20: Bērnu ķirurgs | B20: 1 | C20: =D20+E20 -> 271 | D20: 167 | E20: 104 | F20: 1645.87 | G20: =F20/167 -> 9.855509 | H20: =ROUND(E20*G20*2,2) -> 2049.95 | I20: =ROUND(H20*1.2359,2) -> 2533.53
A21: Internists | B21: 1 | C21: =D21+E21 -> 280 | D21: 160 | E21: 120 | F21: 1645.87 | G21: =F21/167 -> 9.855509 | H21: =ROUND(E21*G21*2,2) -> 2365.32 | I21: =ROUND(H21*1.2359,2) -> 2923.3
A22: Kardiologs | B22: 1 | C22: =D22+E22 -> 287 | D22: 167 | E22: 120 | F22: 1645.87 | G22: =F22/167 -> 9.855509 | H22: =ROUND(E22*G22*2,2) -> 2365.32 | I22: =ROUND(H22*1.2359,2) -> 2923.3
A23: Kardiologs | B23: 1 | C23: =D23+E23 -> 32 | D23: 16 | E23: 16 | F23: 1645.87 | G23: =F23/167 -> 9.855509 | H23: =ROUND(E23*G23*2,2) -> 315.38 | I23: =ROUND(H23*1.2359,2) -> 389.78
A24: Kardiologs | B24: 1 | C24: =D24+E24 -> 170 | D24: 146 | E24: 24 | F24: 1645.87 | G24: =F24/167 -> 9.855509 | H24: =ROUND(E24*G24*2,2) -> 473.06 | I24: =ROUND(H24*1.2359,2) -> 584.65
A25: Kardiologs | B25: 1 | C25: =D25+E25 -> 258 | D25: 146 | E25: 112 | F25: 1645.87 | G25: =F25/167 -> 9.855509 | H25: =ROUND(E25*G25*2,2) -> 2207.63 | I25: =ROUND(H25*1.2359,2) -> 2728.41
A26: Kardiologs | B26: 1 | C26: =D26+E26 -> 231 | D26: 167 | E26: 64 | F26: 1645.87 | G26: =F26/167 -> 9.855509 | H26: =ROUND(E26*G26*2,2) -> 1261.51 | I26: =ROUND(H26*1.2359,2) -> 1559.1
A27: Kardiologs | B27: 1 | C27: =D27+E27 -> 191 | D27: 143 | E27: 48 | F27: 1645.87 | G27: =F27/167 -> 9.855509 | H27: =ROUND(E27*G27*2,2) -> 946.13 | I27: =ROUND(H27*1.2359,2) -> 1169.32
A28: Ķirurgs | B28: 1 | C28: =D28+E28 -> 226.5 | D28: 167 | E28: 59.5 | F28: 1645.87 | G28: =F28/167 -> 9.855509 | H28: =ROUND(E28*G28*2,2) -> 1172.81 | I28: =ROUND(H28*1.2077,2) -> 1416.4
A29: Ķirurgs | B29: 1 | C29: =D29+E29 -> 225 | D29: 167 | E29: 58 | F29: 1645.87 | G29: =F29/167 -> 9.855509 | H29: =ROUND(E29*G29*2,2) -> 1143.24 | I29: =ROUND(H29*1.2359,2) -> 1412.93
A30: Ķirurgs | B30: 1 | C30: =D30+E30 -> 118 | D30: 70 | E30: 48 | F30: 1645.87 | G30: =F30/167 -> 9.855509 | H30: =ROUND(E30*G30*2,2) -> 946.13 | I30: =ROUND(H30*1.2359,2) -> 1169.32
A31: Ķirurgs | B31: 1 | C31: =D31+E31 -> 263 | D31: 167 | E31: 96 | F31: 1645.87 | G31: =F31/167 -> 9.855509 | H31: =ROUND(E31*G31*2,2) -> 1892.26 | I31: =ROUND(H31*1.2359,2) -> 2338.64
A32: Ķirurgs | B32: 1 | C32: =D32+E32 -> 249 | D32: 167 | E32: 82 | F32: 1645.87 | G32: =F32/167 -> 9.855509 | H32: =ROUND(E32*G32*2,2) -> 1616.3 | I32: =ROUND(H32*1.2359,2) -> 1997.59
A33: Ķirurgs | B33: 1 | C33: =D33+E33 -> 162 | D33: 111 | E33: 51 | F33: 1645.87 | G33: =F33/167 -> 9.855509 | H33: =ROUND(E33*G33*2,2) -> 1005.26 | I33: =ROUND(H33*1.2359,2) -> 1242.4
A34: Ķirurgs | B34: 1 | C34: =D34+E34 -> 191 | D34: 127 | E34: 64 | F34: 1645.87 | G34: =F34/167 -> 9.855509 | H34: =ROUND(E34*G34*2,2) -> 1261.51 | I34: =ROUND(H34*1.2359,2) -> 1559.1
A35: Ķirurgs | B35: 1 | C35: =D35+E35 -> 135.5 | D35: 111 | E35: 24.5 | F35: 1645.87 | G35: =F35/167 -> 9.855509 | H35: =ROUND(E35*G35*2,2) -> 482.92 | I35: =ROUND(H35*1.2359,2) -> 596.84
A36: Neatliekamās medicīnas ārsts | B36: 1 | C36: =D36+E36 -> 200 | D36: 167 | E36: 33 | F36: 1645.87 | G36: =F36/167 -> 9.855509 | H36: =ROUND(E36*G36*2,2) -> 650.46 | I36: =ROUND(H36*1.2359,2) -> 803.9
A37: Neatliekamās medicīnas ārsts | B37: 1 | C37: =D37+E37 -> 184 | D37: 167 | E37: 17 | F37: 1645.87 | G37: =F37/167 -> 9.855509 | H37: =ROUND(E37*G37*2,2) -> 335.09 | I37: =ROUND(H37*1.2359,2) -> 414.14
A38: Pediatrs | B38: 1 | C38: =D38+E38 -> 263 | D38: 167 | E38: 96 | F38: 1645.87 | G38: =F38/167 -> 9.855509 | H38: =ROUND(E38*G38*2,2) -> 1892.26 | I38: =ROUND(H38*1.2359,2) -> 2338.64
A39: Pediatrs | B39: 1 | C39: =D39+E39 -> 215 | D39: 167 | E39: 48 | F39: 1645.87 | G39: =F39/167 -> 9.855509 | H39: =ROUND(E39*G39*2,2) -> 946.13 | I39: =ROUND(H39*1.2359,2) -> 1169.32
A40: Pediatrs | B40: 1 | C40: =D40+E40 -> 271 | D40: 167 | E40: 104 | F40: 1645.87 | G40: =F40/167 -> 9.855509 | H40: =ROUND(E40*G40*2,2) -> 2049.95 | I40: =ROUND(H40*1.2359,2) -> 2533.53
A41: Pediatrs | B41: 1 | C41: =D41+E41 -> 280 | D41: 167 | E41: 113 | F41: 1645.87 | G41: =F41/167 -> 9.855509 | H41: =ROUND(E41*G41*2,2) -> 2227.35 | I41: =ROUND(H41*1.2077,2) -> 2689.97
A42: Rezidents | B42: 1 | C42: =D42+E42 -> 101 | D42: 88 | E42: 13 | F42: 1645.87 | G42: =F42/167 -> 9.855509 | H42: =ROUND(E42*G42*2,2) -> 256.24 | I42: =ROUND(H42*1.2359,2) -> 316.69
A43: Rezidents | B43: 1 | C43: =D43+E43 -> 169 | D43: 167 | E43: 2 | F43: 1645.87 | G43: =F43/167 -> 9.855509 | H43: =ROUND(E43*G43*2,2) -> 39.42 | I43: =ROUND(H43*1.2359,2) -> 48.72
...

Sheet Daugavpils_reģ_dec
H1: 1.8.Pielikums
A2: Pārskats par darba veicējiem (ārstniecības personām), virs normālā darba laika nostrādātām stundām, apmaksājamām stundām un izdevumiem, kas radušies saistībā ar mērķi ierobežot Covid-19 izplatību
A4: Iestādes nosaukums: SIA "Daugavpils reģionālā slimnīca"
A5: Pārskata mēnesis: Decembris
B7: Nodarbināto skaits mēnesī | C7: Apmaksājamais laiks mēnesī, stundas (tai skaitā summētā darba laika ietvaros) | F7: Mēnešalga no kuras rēķina stundas likmi | G7: Stundas likme (aprēķināta atbilstoši mēnešalgai vai darba līgumā noteiktā stundas likme) | H7: Apmaksājamā 100% piemaksa par nostrādātām virsstundām virs normālā darba laika (tai skaitā summētā darba laika ietvaros) | I7: Izdevumi par virsstundām kopā ar VSOAI, EUR
C8: Kopā | D8: līdz normālam darba laikam | E8: virsstundas - virs normālā darba laika, kas saistītas ar darbu ar Covid-19
A10: 1 | B10: 2 | C10: 3=4+5 | D10: 4 | E10: 5 | F10: 6 | G10: 7 | H10: 8 | I10: 9=8 + VSOAI
A11: KOPĀ | B11: =B12+B105+B118+B165+B183+B190+B220+B236+B241+B260+B266 -> 259 | E11: =E12+E105+E118+E165+E183+E190+E220+E236+E241+E260+E266 -> 8522.75 | H11: =H12+H105+H118+H165+H183+H190+H220+H236+H241+H260+H266 -> 131353.68 | I11: =I12+I105+I118+I165+I183+I190+I220+I236+I241+I260+I266 -> 162134.4
A12: Centrālā slimnīca "Uzņemšanas nodaļa" | B12: =B13+B52+B89 -> 89 | E12: =E13+E52+E89 -> 3900.5 | H12: =H13+H52+H89 -> 64318.6 | I12: =I13+I52+I89 -> 79346.3
A13: Ārsti, zobārsti un funkcionālie speciālisti, kopā, tai skaitā: | B13: =SUM(B14:B51) -> 38 | E13: =SUM(E14:E51) -> 2473 | H13: =SUM(H14:H51) -> 49152.32 | I13: =SUM(I14:I51) -> 60602.29
A14: Ārsts (dežūrslodze) | B14: 1 | C14: =D14+E14 -> 241.5 | D14: 166 | E14: 75.5 | F14: 1636.01 | G14: =F14/166 -> 9.8554819 | H14: =ROUND(E14*G14*2,2) -> 1488.18 | I14: =ROUND(H14*1.2359,2) -> 1839.24
A15: Ārsts (dežūrslodze) | B15: 1 | C15: =D15+E15 -> 216 | D15: 142 | E15: 74 | F15: 1636.01 | G15: =F15/166 -> 9.8554819 | H15: =ROUND(E15*G15*2,2) -> 1458.61 | I15: =ROUND(H15*1.2077,2) -> 1761.56
A16: Ārsts stažieris | B16: 1 | C16: =D16+E16 -> 278 | D16: 166 | E16: 112 | F16: 1636.01 | G16: =F16/166 -> 9.8554819 | H16: =ROUND(E16*G16*2,2) -> 2207.63 | I16: =ROUND(H16*1.2359,2) -> 2728.41
A17: Ginekologs, dzemdību speciālists | B17: 1 | C17: =D17+E17 -> 183 | D17: 135 | E17: 48 | F17: 1636.01 | G17: =F17/166 -> 9.8554819 | H17: =ROUND(E17*G17*2,2) -> 946.13 | I17: =ROUND(H17*1.2077,2) -> 1142.64
A18: Ginekologs, dzemdību speciālists | B18: 1 | C18: =D18+E18 -> 127 | D18: 112 | E18: 15 | F18: 1636.01 | G18: =F18/166 -> 9.8554819 | H18: =ROUND(E18*G18*2,2) -> 295.66 | I18: =ROUND(H18*1.2359,2) -> 365.41
A19: Ginekologs, dzemdību speciālists | B19: 1 | C19: =D19+E19 -> 194 | D19: 166 | E19: 28 | F19: 1636.01 | G19: =F19/166 -> 9.8554819 | H19: =ROUND(E19*G19*2,2) -> 551.91 | I19: =ROUND(H19*1.2359,2) -> 682.11
A20: Bērnu ķirurgs | B20: 1 | C20: =D20+E20 -> 278 | D20: 166 | E20: 112 | F20: 1636.01 | G20: =F20/166 -> 9.8554819 | H20: =ROUND(E20*G20*2,2) -> 2207.63 | I20: =ROUND(H20*1.2359,2) -> 2728.41
A21: Internists | B21: 1 | C21: =D21+E21 -> 289 | D21: 145 | E21: 144 | F21: 1870.65 | G21: =F21/166 -> 11.268976 | H21: =ROUND(E21*G21*2,2) -> 3245.47 | I21: =ROUND(H21*1.2359,2) -> 4011.08
A22: Internists | B22: 1 | C22: =D22+E22 -> 271 | D22: 159 | E22: 112 | F22: 1636.01 | G22: =F22/166 -> 9.8554819 | H22: =ROUND(E22*G22*2,2) -> 2207.63 | I22: =ROUND(H22*1.2359,2) -> 2728.41
A23: Kardiologs | B23: 1 | C23: =D23+E23 -> 158 | D23: 145 | E23: 13 | F23: 1636.01 | G23: =F23/166 -> 9.8554819 | H23: =ROUND(E23*G23*2,2) -> 256.24 | I23: =ROUND(H23*1.2359,2) -> 316.69
A24: Kardiologs | B24: 1 | C24: =D24+E24 -> 262 | D24: 166 | E24: 96 | F24: 1636.01 | G24: =F24/166 -> 9.8554819 | H24: =ROUND(E24*G24*2,2) -> 1892.25 | I24: =ROUND(H24*1.2359,2) -> 2338.63
A25: Kardiologs | B25: 1 | C25: =D25+E25 -> 262 | D25: 166 | E25: 96 | F25: 1636.01 | G25: =F25/166 -> 9.8554819 | H25: =ROUND(E25*G25*2,2) -> 1892.25 | I25: =ROUND(H25*1.2359,2) -> 2338.63
A26: Kardiologs | B26: 1 | C26: =D26+E26 -> 211 | D26: 131 | E26: 80 | F26: 1636.01 | G26: =F26/166 -> 9.8554819 | H26: =ROUND(E26*G26*2,2) -> 1576.88 | I26: =ROUND(H26*1.2359,2) -> 1948.87
