Workbook

Sheet Ietekme uz valsts budžetu 2024
A1: 2.pielikums rīkojuma projekta
A2: pasākumu plāna atbalsta sniegšanai Ukrainas civiliedzīvotājiem Latvijas Republikā 2024.gadā sākotnējās ietekmes novērtējuma ziņojumam (anotācijai)
B3: Labklājības ministrija
B4: papildu nepieciešamo izdevumu aprēķins*
B5: EKK | C5: Apraksts | D5: Aprēķins | E5: 2024. gadā | F5: Pamatojums
C7: KOPĀ*: | E7: =SUM(E8:E13) -> 27515281
B8: EKK 1000 | C8: Atlīdzība | E8: =E20+E31+E45+E58+E69+E115+E126+E137+E149+E161+E172+E184+E195+E207+E219+E231 -> 88849
B9: EKK 2000 | C9: Preces un pakalpojumi | E9: =E21+E32+E46+E59+E70+E116+E127+E138+E150+E162+E173+E185+E196+E208+E220+E232 -> 78616
B10: EKK 3000 | C10: Subsīdijas un dotācijas | E10: =E22+E33+E47+E60+E71+E117+E128+E139+E151+E163+E174+E186+E197+E209+E221+E233 -> 421703
B11: EKK 5000 | C11: Pamatkapitāla veidošana | E11: =E23+E34+E48+E61+E72+E118+E129+E140+E152+E164+E175+E187+E198+E210+E222+E234 -> 0
B12: EKK 6000 | C12: Sociāla rakstura maksājumi un kompensācijas | E12: =E24+E35+E49+E62+E73+E119+E130+E141+E153+E165+E176+E188+E199+E211+E223+E235 -> 8501428
B13: EKK 7000 | C13: Transferti, starptautiskā sadarbība | E13: =E25+E36+E50+E63+E74+E120+E131+E142+E154+E166+E177+E189+E200+E212+E224+E236 -> 18424685
B14: *ieskaitot pašvaldību nodrošinātus atbalsta pasākumus, kuru izdevumus pašvaldībām no budžeta resora "74. Gadskārtējā valsts budžeta izpildes procesā pārdalāmais finansējums" atsevišķās programmas 17. 00. 00 “Finansējums Ukrainas civiliedzīvotāju atbalsta likumā noteikto pasākumu īstenošanai” piešķirtiem finanšu līdzekļiem sedz VARAM.
A15: 3.3. | B15: 3.3. Virsstundu darba vai papildu darba apmaksa bāriņtiesu un pašvaldības sociālo dienestu darbiniekiem | G15: Nepieciešami Likuma grozījumi 13.panta 11.daļā (valsts budžeta finansējuma tremiņa pagarinājums).
A16: 3.3. | B16: Vides aizsardzības un reģionālās attīstības ministrija
A17: 3.3.
A18: 3.3. | B18: Pašvaldības
A19: 3.3. | D19: KOPĀ: | E19: =SUM(E20:E25) -> 1942847 | F19: UCAL 13.panta pirmā prim daļa un pirmā divi prim daļa.
A20: 3.3. | B20: EKK 1000 | C20: Atlīdzība
A21: 3.3. | B21: EKK 2000 | C21: Preces un pakalpojumi
A22: 3.3. | B22: EKK 3000 | C22: Subsīdijas un dotācijas
A23: 3.3. | B23: EKK 5000 | C23: Pamatkapitāla veidošana
A24: 3.3. | B24: EKK 6000 | C24: Sociāla rakstura maksājumi un kompensācijas
A25: 3.3. | B25: EKK 7000 | C25: Transferti, starptautiskā sadarbība | D25: Detalizēti aprēķini 2. pielikuma 1.tabulā | E25: ='1.tab.'!Z18 -> 1942847
A26: 4.1. | B26: 4.1. Atbalsta sniegšana Eiropas Sociālā fonda Plus programmas materiālās nenodrošinātības mazināšanai 2021.-2027.gadam ietvaros
A27: 4.1. | B27: Labklājības ministrija
A28: 4.1. | B28: Sabiedrības integrācijas fonds
A29: 4.1. | B29: 74.resora "Gadskārtējā valsts budžeta izpildes procesā pārdalāmais finansējums" 80.00.00 programmas "Nesadalītais finansējums Eiropas Savienības politiku instrumentu un pārējās ārvalstu finanšu palīdzības līdzfinansēto projektu un pasākumu īstenošanai"**
A30: 4.1. | D30: KOPĀ: | E30: =SUM(E31:E36) -> 0 | F30: UCAL 7.panta pirmās daļas 2.punkts
A31: 4.1. | B31: EKK 1000 | C31: Atlīdzība
A32: 4.1. | B32: EKK 2000 | C32: Preces un pakalpojumi*** | D32: 3 735 213 euro Indikatīvais finansējums 2024. gadā atbalsta nodrošināšanai UA civiliedzīvotājiem 3 735 213 EUR. Prognozētais atbalsta apjoms 27 672 unikālajai personai:  58% no unikālo personu kopskaita (prognozētie 16 000 personu - no jaunā iebraukušie 2024.gadā) saņem programmas atbalstu trīs mēnešus kā krīzes situācijā nonākušās mājsaimniecības;  42% no unikālo personu kopskaita (11 672 personu) 2024.gadā turpina saņemt programmas atbalstu vidēji trīs ceturkšņus gada laikā. Aprēķins – indikatīvs personu skaits x paku skaits x cena x 14 % vienotās likmes maksājums par izdali/ papildpasākumiem:  pārtikas pakas: (16 000 personu x 2 pakas + 11 672 personas x 6 pakas) x 26,47 euro x 1,14 = 3 078 897 euro.  higiēnas pakas: (16 000 personu x 1 paka + 11 672 personas x 3 pakas) x 6,05 euro x 1,14 = 351 857 euro.  bērnu pārtikas pakas: (280 bērni x 2 pakas + 202 bērni x 6 pakas) x 50,00 euro x 1,14 = 101 004 euro.  bērnu higiēnas pakas: (329 bērni x 1 paka + 239 bērni x 3 pakas) x 52,98 euro x 1,14 = 63 175 euro.  mācību piederumu pakas: 4 931 skolēni x 1 paka x 24,32 euro x 1,14 = 136 711 euro.  pārtikas pakas zupas virtuvēm: 30 pakas x 104,35 euro = 3 569 euro. | E32: 0
A33: 4.1. | B33: EKK 3000 | C33: Subsīdijas un dotācijas
A34: 4.1. | B34: EKK 5000 | C34: Pamatkapitāla veidošana
A35: 4.1. | B35: EKK 6000 | C35: Sociāla rakstura maksājumi un kompensācijas
A36: 4.1. | B36: EKK 7000 | C36: Transferti, starptautiskā sadarbība
A37: 4.1. | B37: ** Primāri finansē no 74.resora "Gadskārtējā valsts budžeta izpildes procesā pārdalāmais finansējums" 80.00.00 programmas "Nesadalītais finansējums Eiropas Savienības politiku instrumentu un pārējās ārvalstu finanšu palīdzības līdzfinansēto projektu un pasākumu īstenošanai". Nepieciešamības gadījumā tiks sagatavots pieprasījums par papildu līdzekļu piešķiršanu no 74. resorā atsevišķā programmā plānotā finansējuma 17. 00. 00 “Finansējums Ukrainas civiliedzīvotāju atbalsta likumā noteikto pasākumu īstenošanai”.
A38: 4.1. | B38: ***Finansējums apmērs un sadalījums starp EKK tiks pieprasīts atbilstoši faktiskajai nepieciešamībai.
A39: 4.2. | B39: 4.2. Sociālās rehabilitācijas pakalpojuma sniegšana Sociālās integrācijas valsts aģentūrā personām, kurām psihoemocionālā stāvokļa dēļ ir nepieciešams diennakts pakalpojums (līdz 30 dienām), un personām, kuras valsts apmaksātās medicīniskās transportēšanas ietvaros pārvestas no Ukrainas ārstniecības iestādes uz stacionāro ārstniecības iestādi Latvijā un saņem veselības aprūpes pakalpojumus atbilstoši medicīniskās transportēšanas mērķim (līdz 60 dienām)
A40: 4.2. | B40: Labklājības ministrija
A41: 4.2.
...

Sheet 1.tab.
A1: 2.pielikuma 1.tabula
A2: Pasākumu plāns atbalsta sniegšanai Ukrainas civiliedzīvotājiem Latvijas Republikā 2024.gadā
A3: ='Ietekme uz valsts budžetu 2024'!B15 -> 3.3. Virsstundu darba vai papildu darba apmaksa bāriņtiesu un pašvaldības sociālo dienestu darbiniekiem
A4: X | B4: 2023 | D4: 2023 | F4: 2023 | H4: 2023 | J4: 2023 | L4: 2023 | N4: 2023 | P4: 2023 | R4: 2023 | T4: 2023 | V4: 2023 | X4: 2023 | Z4: 2023
B5: janvāris | D5: februāris | F5: marts | H5: aprīlis | J5: maijs | L5: jūnijs | N5: jūlijs | P5: augusts | R5: septembris* | T5: oktobris* | V5: novembris* | X5: decembris*
C6: (euro,centi) | E6: (euro,centi) | G6: (euro,centi) | I6: (euro,centi) | K6: (euro,centi) | M6: (euro,centi) | O6: (euro,centi) | Q6: (euro,centi) | S6: (euro,centi) | U6: (euro,centi) | W6: (euro,centi) | Y6: (euro,centi) | Z6: (euro,centi)
B7: Saņēmēju skaits | C7: Faktiskie izdevumi pārskata periodā | D7: Saņēmēju skaits | E7: Faktiskie izdevumi pārskata periodā | F7: Saņēmēju skaits | G7: Faktiskie izdevumi pārskata periodā | H7: Saņēmēju skaits | I7: Faktiskie izdevumi pārskata periodā | J7: Saņēmēju skaits | K7: Faktiskie izdevumi pārskata periodā | L7: Saņēmēju skaits | M7: Faktiskie izdevumi pārskata periodā | N7: Saņēmēju skaits | O7: Faktiskie izdevumi pārskata periodā | P7: Saņēmēju skaits | Q7: Faktiskie izdevumi pārskata periodā | R7: Saņēmēju skaits | S7: Plānotie izdevumi pārskata periodā | T7: Saņēmēju skaits | U7: Plānotie izdevumi pārskata periodā | V7: Saņēmēju skaits | W7: Plānotie izdevumi pārskata periodā | X7: Saņēmēju skaits | Y7: Plānotie izdevumi pārskata periodā | Z7: Plānotie zdevumi pārskata periodā
A8: A | B8: 1 | C8: 2 | D8: 3 | E8: 4 | F8: 5 | G8: 6 | H8: 7 | I8: 8 | J8: 9 | K8: 10 | L8: 11 | M8: 12 | N8: 13 | O8: 14 | P8: 15 | Q8: 16 | R8: 17 | S8: 18 | T8: 19 | U8: 20 | V8: 21 | W8: 22 | X8: 23 | Y8: 24 | Z8: 25
A9: Piemaksa pie mēnešalgas un virsstundu darbs bāriņtiesu un sociālo dienestu darbiniekiem, kuri iesaistīti atbalsta sniegšanā Ukrainas civiliedzīvotājiem | B9: x | C9: =C10+C11 -> 82658.63 | D9: x | E9: =E10+E11 -> 175311.62 | F9: x | G9: =G10+G11 -> 190022.59 | H9: x | I9: =I10+I11 -> 169374.26 | J9: x | K9: =K10+K11 -> 169216.83 | L9: x | M9: =M10+M11 -> 157080.92 | N9: x | O9: =O10+O11 -> 136711.77 | P9: x | Q9: =Q10+Q11 -> 133006.24 | R9: x | S9: =S10+S11 -> 159237 | T9: x | U9: =U10+U11 -> 159237 | V9: x | W9: =W10+W11 -> 159237 | X9: x | Y9: =Y10+Y11 -> 159237 | Z9: =Z10+Z11 -> 1850330.9
A10: Piemaksa pie mēnešalgas | B10: 261 | C10: 82658.63 | D10: 487 | E10: 173672.37 | F10: 480 | G10: 188697.47 | H10: 454 | I10: 167022.74 | J10: 470 | K10: 166977.71 | L10: 439 | M10: 156043.49 | N10: 425 | O10: 135583.33 | P10: 409 | Q10: 131023.92 | R10: =ROUNDUP(AVERAGE(P10,N10,L10,J10,H10,F10),0) -> 447 | S10: =ROUNDUP(AVERAGE(Q10,O10,M10,K10,I10,G10),0) -> 157559 | T10: =R10 -> 447 | U10: =S10 -> 157559 | V10: =T10 -> 447 | W10: =U10 -> 157559 | X10: =V10 -> 447 | Y10: =W10 -> 157559 | Z10: =G10+I10+K10+M10+O10+Q10+S10+U10+W10+Y10+C10+E10 -> 1831915.7
A11: Virsstundu darbs | B11: 0 | C11: 0 | D11: 4 | E11: 1639.25 | F11: 4 | G11: 1325.12 | H11: 4 | I11: 2351.52 | J11: 5 | K11: 2239.12 | L11: 2 | M11: 1037.43 | N11: 2 | O11: 1128.44 | P11: 6 | Q11: 1982.32 | R11: =ROUNDUP(AVERAGE(P11,N11,L11,J11,H11,F11),0) -> 4 | S11: =ROUNDUP(AVERAGE(Q11,O11,M11,K11,I11,G11),0) -> 1678 | T11: =R11 -> 4 | U11: =S11 -> 1678 | V11: =T11 -> 4 | W11: =U11 -> 1678 | X11: =V11 -> 4 | Y11: =W11 -> 1678 | Z11: =G11+I11+K11+M11+O11+Q11+S11+U11+W11+Y11+C11+E11 -> 18415.2
A12: *Uz 2023. gada 25. septembri Ukrainas civiliedzīvotāju atbalsta sniegšanai nepieciešamās informācijas reģistrā ( UCASNIR ) kā aktīvi bija reģistrēti 32 607, t.sk. 2023. gadā ( 01.01. – 31.08.) pašvaldībās atbalsta saņemšanai no jauna reģistrējās 6964 Ukrainas civiliedzīvotāji. Ņemot vērā, ka prognozēts, ka līdz 2023. gada beigām Latvijā no jauna ieceļos un pēc palīdzības vērsīsies aptuveni 3000 Ukrainas civiliedzīvotāji, tad būtisks pieaugums izdevumiem netiek prognozēts. Izpilde 2023. gada periodā septembris - decembris plānota atbilstoši faktiskai izpildei vidēji iepriekšējos 6 mēnešos (marts - augusts).
Z13: 2024
Z14: janvāris - decembris
Z15: (euro,centi)
Z16: Plānotie zdevumi pārskata periodā**
Z17: 26
Y18: =A9 -> Piemaksa pie mēnešalgas un virsstundu darbs bāriņtiesu un sociālo dienestu darbiniekiem, kuri iesaistīti atbalsta sniegšanā Ukrainas civiliedzīvotājiem | Z18: =Z19+Z20 -> 1942847
Y19: =A10 -> Piemaksa pie mēnešalgas | Z19: =ROUND(Z10*1.05,0) -> 1923511
Y20: =A11 -> Virsstundu darbs | Z20: =ROUND(Z11*1.05,0) -> 19336
A21: **Uz 2023. gada 25. septembri Ukrainas civiliedzīvotāju atbalsta sniegšanai nepieciešamās informācijas reģistrā ( UCASNIR ) kā aktīvi bija reģistrēti 32 607, t.sk. 2023. gadā ( 01.01. – 31.08.) pašvaldībās atbalsta saņemšanai no jauna reģistrējās 6964 Ukrainas civiliedzīvotāji. Ņemot vērā, ka prognozēts, ka līdz 2023. gada beigām Latvijā no jauna ieceļos un pēc palīdzības vērsīsies aptuveni 3000 Ukrainas civiliedzīvotāji. Attiecīgi prognozēts, ka 2023. gadā no jauna būs ieceļojuši un pēc palīdzības vērsušies 9 964 Ukrainas civiliedzīvotāji. Ņemot vērā, ka Iekšlietu ministrija prognozē, ka 2024. gadā Latvijas Republikas teritorijā no jauna varētu ierasties aptuveni 12 000 Ukrainas civiliedzīvotāji, kas ir lielāks skaits kā prognozēts 2023. gadā, tad 2024. gada plānotajiem izdevumiem piemēro koeficientu 1.05 (+5%), jo prognozējams, ka papildus darba un virsstudu apjoms 2024.gadā pieaugs.

Sheet 2.tab.
A1: 2.pielikuma 2.tabula
A2: Pasākumu plāns atbalsta sniegšanai Ukrainas civiliedzīvotājiem Latvijas Republikā 2024.gadā
A3: ='Ietekme uz valsts budžetu 2024'!B39 -> 4.2. Sociālās rehabilitācijas pakalpojuma sniegšana Sociālās integrācijas valsts aģentūrā personām, kurām psihoemocionālā stāvokļa dēļ ir nepieciešams diennakts pakalpojums (līdz 30 dienām), un personām, kuras valsts apmaksātās medicīniskās transportēšanas ietvaros pārvestas no Ukrainas ārstniecības iestādes uz stacionāro ārstniecības iestādi Latvijā un saņem veselības aprūpes pakalpojumus atbilstoši medicīniskās transportēšanas mērķim (līdz 60 dienām)
A4: Gads | C4: 2023 | E4: 2023 | G4: 2023 | I4: 2023 | K4: 2023 | M4: 2023 | O4: 2023 | Q4: 2023 | S4: 2023 | U4: 2023 | W4: 2023 | Y4: 2023 | AA4: 2023 | AB4: 2024 | AC4: EKK
A5: Pārskata periods | C5: Janvāris | E5: Februāris | G5: Marts | I5: Aprīlis | K5: Maijs | M5: Jūnijs | O5: Jūlijs | Q5: Augusts | S5: Septembris | U5: Oktobris | W5: Novembris | Y5: Decembris | AA5: KOPĀ | AB5: KOPĀ
A6: x | D6: (euro,centi) | F6: (euro,centi) | H6: (euro,centi) | J6: (euro,centi) | L6: (euro,centi) | N6: (euro,centi) | P6: (euro,centi) | R6: (euro,centi) | T6: (euro,centi) | V6: (euro,centi) | X6: (euro,centi) | Z6: (euro,centi) | AA6: (euro,centi) | AB6: (euro,centi)
A7: Rādītāja nosaukums | B7: mēr- vienība | C7: skaits | D7: Faktiskie izdevumi pārskata periodā | E7: skaits | F7: Faktiskie izdevumi pārskata periodā | G7: skaits | H7: Faktiskie izdevumi pārskata periodā | I7: skaits | J7: Faktiskie izdevumi pārskata periodā | K7: skaits | L7: Faktiskie izdevumi pārskata periodā | M7: skaits | N7: Faktiskie izdevumi pārskata periodā | O7: skaits | P7: Faktiskie izdevumi pārskata periodā | Q7: skaits | R7: Faktiskie izdevumi pārskata periodā | S7: skaits | T7: Faktiskie izdevumi pārskata periodā | U7: skaits | V7: Faktiskie izdevumi pārskata periodā | W7: skaits | X7: Plānotie izdevumi pārskata periodā | Y7: skaits | Z7: Plānotie izdevumi pārskata periodā | AA7: Plānotie izdevumi pārskata periodā | AB7: Plānotie izdevumi pārskata periodā
A8: A | B8: B | C8: 1 | D8: 2 | E8: 3 | F8: 4 | G8: 5 | H8: 6 | I8: 7 | J8: 8 | K8: 9 | L8: 10 | M8: 11 | N8: 12 | O8: 13 | P8: 14 | Q8: 15 | R8: 16 | S8: 17 | T8: 18 | U8: 19 | V8: 20 | W8: 21 | X8: 22 | Y8: 23 | Z8: 24 | AA8: 25 | AB8: 26 | AC8: 27
A9: līdz 30 dienām ilgs sociālās rehabilitācijas pakalpojums SIVA, ja personai atbilstoši pašvaldības sociālā dienesta novērtējumam psihoemocionālā stāvokļa dēļ ir nepieciešams diennakts pakalpojums (pabeigtie kursi) | B9: kursi | C9: 0 | E9: 3 | F9: =30*E9*62.8 -> 5652 | G9: 3 | H9: =30*G9*62.8 -> 5652 | I9: 7 | J9: =30*I9*62.8 -> 13188 | K9: 5 | L9: =30*K9*62.8 -> 9420 | M9: 0 | O9: 1 | P9: =30*O9*62.8 -> 1884 | AA9: =Z9+X9+V9+T9+R9+P9+N9+L9+J9+H9+F9+D9 -> 35796 | AB9: =AA9*1.05 -> 37585.8 | AC9: 1000
AC10: 2000
A11: līdz 30 dienām ilgs sociālās rehabilitācijas pakalpojums SIVA, ja personai atbilstoši pašvaldības sociālā dienesta novērtējumam psihoemocionālā stāvokļa dēļ ir nepieciešams diennakts pakalpojums (pakalpojumu neturpinās) | B11: dienas | C11: 0 | G11: 4 (25;29;29;28) | H11: =25*62.8+29*62.8*2+62.8*28 -> 6970.8 | I11: 1 (29) | J11: =29*62.8 -> 1821.2 | K11: 1 (27) | L11: =27*62.8 -> 1695.6 | M11: 0 | O11: 0 | AA11: =Z11+X11+V11+T11+R11+P11+N11+L11+J11+H11+F11+D11 -> 10487.6 | AB11: =AA11*1.05 -> 11011.98 | AC11: 1000
AC12: 2000
A13: līdz 60 dienām ilgs sociālās rehabilitācijas pakalpojums SIVA, ja personai atbilstoši pašvaldības sociālā dienesta novērtējumam psihoemocionālā stāvokļa dēļ ir nepieciešams diennakts pakalpojums (pabeigtie kursi) | B13: kursi | K13: 0 | L13: =60*K13*70.17 -> 0 | M13: 0 | N13: =60*M13*70.17 -> 0 | O13: 1 | P13: =60*O13*70.17 -> 4210.2 | Q13: 3 | R13: =60*Q13*70.17 -> 12630.6 | S13: 0 | U13: 6 | V13: 23666.61 | W13: 1 | X13: =60*W13*70.17 -> 4210.2 | Y13: 0 | AA13: =Z13+X13+V13+T13+R13+P13+N13+L13+J13+H13+F13+D13 -> 44717.61 | AB13: =AA13*1.05 -> 46953.49 | AC13: 1000
AC14: 2000
A15: līdz 60 dienām ilgs sociālās rehabilitācijas pakalpojums SIVA, ja personai atbilstoši pašvaldības sociālā dienesta novērtējumam psihoemocionālā stāvokļa dēļ ir nepieciešams diennakts pakalpojums (pakalpojumu neturpinās) | B15: dienas | K15: 4 (5; 8; 5; 8) | L15: =5*70.17*2+8*70.17*2 -> 1824.42 | M15: 1 (33) | N15: =70.17*33 -> 2315.61 | O15: 2 (58; 25) | P15: =70.17*58+70.17*25 -> 5824.11 | Q15: 0 | S15: 3 (58, 58, 29+24) | T15: =70.17*58*2+70.17*53 -> 11858.73 | U15: 0 | W15: 0 | Y15: 0 | AA15: =Z15+X15+V15+T15+R15+P15+N15+L15+J15+H15+F15+D15 -> 21822.87 | AB15: =AA15*1.05 -> 22914.014 | AC15: 1000
AC16: 2000
A18: KOPĀ | C18: x | D18: =SUM(D9:D16) -> 0 | E18: x | F18: =SUM(F9:F16) -> 5652 | G18: x | H18: =SUM(H9:H16) -> 12622.8 | I18: x | J18: =SUM(J9:J16) -> 15009.2 | K18: x | L18: =SUM(L9:L16) -> 12940.02 | M18: x | N18: =SUM(N9:N16) -> 2315.61 | O18: x | P18: =SUM(P9:P16) -> 11918.31 | Q18: x | R18: =SUM(R9:R16) -> 12630.6 | S18: x | T18: =SUM(T9:T16) -> 11858.73 | U18: x | V18: =SUM(V9:V16) -> 23666.61 | W18: x | X18: =SUM(X9:X16) -> 4210.2 | Y18: x | Z18: =SUM(Z9:Z16) -> 0 | AA18: =SUM(AA9:AA16) -> 112824.08 | AB18: =ROUND(SUM(AB9:AB16),0) -> 118465 | AC18: x
A19: *Uz 2023. gada 25. septembri Ukrainas civiliedzīvotāju atbalsta sniegšanai nepieciešamās informācijas reģistrā ( UCASNIR ) kā aktīvi bija reģistrēti 32 607, t.sk. 2023. gadā ( 01.01. – 31.08.) pašvaldībās atbalsta saņemšanai no jauna reģistrējās 6964 Ukrainas civiliedzīvotāji. Ņemot vērā, ka prognozēts, ka līdz 2023. gada beigām Latvijā no jauna ieceļos un pēc palīdzības vērsīsies aptuveni 3000 Ukrainas civiliedzīvotāji. Attiecīgi prognozēts, ka 2023. gadā no jauna būs ieceļojuši un pēc palīdzības vērsušies 9 964 Ukrainas civiliedzīvotāji. Ņemot vērā, ka Iekšlietu ministrija prognozē, ka 2024. gadā Latvijas Republikas teritorijā no jauna varētu ierasties aptuveni 12 000 Ukrainas civiliedzīvotāji, kas ir lielāks skaits kā prognozēts 2023. gadā, tad 2023. gada plānotajiem izdevumiem piemēro koeficientu 1.05 (+5%), jo prognozējams, ka izdevumi 2024. gadā būs lielāki kā 2023.gadā.

Sheet 3.tab.
A1: 2.pielikuma 3.tabula
A2: Pasākumu plāns atbalsta sniegšanai Ukrainas civiliedzīvotājiem Latvijas Republikā 2024.gadā
A3: ='Ietekme uz valsts budžetu 2024'!B52 -> 4.3. Valsts finansēto tehnisko palīglīdzekļu nodrošināšana
A4: Gads | C4: 2023 | E4: 2023 | G4: 2023 | I4: 2023 | K4: 2023 | M4: 2023 | O4: 2023 | Q4: 2023 | S4: 2023 | U4: 2023 | W4: 2023 | Y4: 2023 | AA4: 2023
A5: Pārskata periods | C5: Janvāris | E5: Februāris | G5: Marts | I5: Aprīlis | K5: Maijs | M5: Jūnijs | O5: Jūlijs | Q5: Augusts | S5: Septembris | U5: Oktobris | W5: Novembris | Y5: Decembris | AA5: KOPĀ
A6: x | D6: (euro,centi) | F6: (euro,centi) | H6: (euro,centi) | J6: (euro,centi) | L6: (euro,centi) | N6: (euro,centi) | P6: (euro,centi) | R6: (euro,centi) | T6: (euro,centi) | V6: (euro,centi) | X6: (euro,centi) | Z6: (euro,centi) | AA6: (euro,centi)
A7: Rādītāja nosaukums | B7: mēr- vienība | C7: skaits | D7: Faktiskie izdevumi pārskata periodā | E7: skaits | F7: Faktiskie izdevumi pārskata periodā | G7: skaits | H7: Faktiskie izdevumi pārskata periodā | I7: skaits | J7: Faktiskie izdevumi pārskata periodā | K7: skaits | L7: Faktiskie izdevumi pārskata periodā | M7: skaits | N7: Faktiskie izdevumi pārskata periodā | O7: skaits | P7: Faktiskie izdevumi pārskata periodā | Q7: skaits | R7: Faktiskie izdevumi pārskata periodā | S7: skaits | T7: Plānotie izdevumi pārskata periodā | U7: skaits | V7: Plānotie izdevumi pārskata periodā | W7: skaits | X7: Plānotie izdevumi pārskata periodā | Y7: skaits | Z7: Plānotie izdevumi pārskata periodā | AA7: Plānotie izdevumi pārskata periodā
A8: A | B8: B | C8: 1 | D8: 2 | E8: 1 | F8: 2 | G8: 3 | H8: 4 | I8: 5 | J8: 6 | K8: 7 | L8: 8 | M8: 9 | N8: 10 | O8: 11 | P8: 12 | Q8: 13 | R8: 14 | S8: 15 | T8: 16 | U8: 17 | V8: 18 | W8: 19 | X8: 20 | Y8: 21 | Z8: 22 | AA8: 23
A9: Tiflotehnikas nodrošināšana | B9: Izsniegto tehnisko palīglīdzekļu skaits | C9: 1 | D9: 1680 | E9: 1 | F9: 473.76 | O9: 3 | P9: 736.16 | Q9: 3 | R9: 576.26 | AA9: =Z9+X9+V9+T9+R9+P9+N9+L9+J9+H9+F9+D9 -> 3466.18
A10: Surdotehnikas nodrošināšana | B10: Izsniegto tehnisko palīglīdzekļu skaits | C10: 6 | D10: 1408.84 | G10: 17 | H10: 4398.84 | I10: 19 | J10: 4534.41 | K10: 10 | L10: 3177.94 | M10: 25 | N10: 5673.14 | AA10: =Z10+X10+V10+T10+R10+P10+N10+L10+J10+H10+F10+D10 -> 19193.17
A11: Pārējo tehnisko palīglīdzekļu nodrošināšana | B11: Izsniegto tehnisko palīglīdzekļu skaits | C11: 24 | D11: 15396.48 | E11: 23 | F11: 45679.28 | G11: 28 | H11: 58762.44 | I11: 9 | J11: 6780.5 | K11: 28 | L11: 21943.12 | M11: 20 | N11: 31703.8 | O11: 29 | P11: 22829.01 | Q11: 9 | R11: 11095.2 | AA11: =Z11+X11+V11+T11+R11+P11+N11+L11+J11+H11+F11+D11 -> 214189.83
A12: KOPĀ | C12: =SUM(C9:C11) -> 31 | D12: =SUM(D9:D11) -> 18485.32 | E12: =SUM(E9:E11) -> 24 | F12: =SUM(F9:F11) -> 46153.04 | G12: =SUM(G9:G11) -> 45 | H12: =SUM(H9:H11) -> 63161.28 | I12: =SUM(I9:I11) -> 28 | J12: =SUM(J9:J11) -> 11314.91 | ... AA12: =SUM(AA9:AA11) -> 236849.18
V13: Vidējās TPL vienas vienības izmaksas, euro* | AA13: =AA12/(S12+U12+W12+Y12+Q12+O12+M12+K12+I12+G12+E12+C12) -> 928.82031
V14: Plānotais TPL apjoms 2024. gadā** | AA14: =ROUND(((C12+E12+G12+I12+K12+M12+O12+Q12)/8*12)*1.05,0) -> 402
V15: Plānotie izdevumi 2024. gadā*** | AA15: =ROUND(AA13*AA14,0) -> 373386
U17: *vidējās TPL vienas vienības izmaksas aprēķinātas atbilstoši vidējām faktiskajām izmaksām par Ukrainas civiliedzīvotājiem izsniegtajiem TPL periodā janvāris - augusts, t.i. kopumā izlietoti 236 849 euro un izsniegti 255 TPL vienības (236 849 euro : 255);
U18: **Plānots, ka 2023. gadā tiks izsniegtas 383 TPL vienības (255:8 mēn x 12 mēn). Progozējams, ka 2024. gadā izsniegs par 5% vairāk, t.i. 402 TPL vienības.
U19: *** plānotie izdevumi 2024. gadā aprēķināti, pieņemot, ka 2024. gadā tiks izsniegta 402 TPL vienības, vienas vienības vidējās izmaksas 928.82 euro (rezultāts noapaļots ar 0 (nullle) zīmēm aiz komata).

Sheet 4.tab.
A1: 2.pielikuma 4.tabula
A2: Pasākumu plāns atbalsta sniegšanai Ukrainas civiliedzīvotājiem Latvijas Republikā 2024.gadā
A3: ='Ietekme uz valsts budžetu 2024'!B64 -> 4.4. Atbalsta sniegšana Ukrainas civiliedzīvotājiem, kuriem Latvijā noteikta invaliditāte (pabalsti un pakalpojumi)
A4: I Pabalsti (VSAA) 2023 | W4: Prognoze
A5: Gads | C5: 2023 | E5: 2023 | G5: 2023 | I5: 2023 | K5: 2023 | M5: 2023 | O5: 2023 | Q5: 2023 | S5: 2023 | U5: 2023 | W5: 2023 | Y5: 2023 | AA5: 2023
A6: Pārskata periods | C6: Janvāris | E6: Februāris | G6: Marts | I6: Aprīlis | K6: Maijs | M6: Jūnijs | O6: Jūlijs | Q6: Augusts | S6: Septembris | U6: Oktobris | W6: Novembris | Y6: Decembris | AA6: KOPĀ
A7: x | D7: (euro,centi) | F7: (euro,centi) | H7: (euro,centi) | J7: (euro,centi) | L7: (euro,centi) | N7: (euro,centi) | P7: (euro,centi) | R7: (euro,centi) | T7: (euro,centi) | V7: (euro,centi) | X7: (euro,centi) | Z7: (euro,centi) | AA7: (euro,centi)
A8: Rādītāja nosaukums | B8: mēr- vienība | C8: skaits | D8: Faktiskie izdevumi pārskata periodā | E8: skaits | F8: Faktiskie izdevumi pārskata periodā | G8: skaits | H8: Faktiskie izdevumi pārskata periodā | I8: skaits | J8: Faktiskie izdevumi pārskata periodā | K8: skaits | L8: Faktiskie izdevumi pārskata periodā | M8: skaits | N8: Faktiskie izdevumi pārskata periodā | O8: skaits | P8: Faktiskie izdevumi pārskata periodā | Q8: skaits | R8: Faktiskie izdevumi pārskata periodā | S8: skaits | T8: Faktiskie izdevumi pārskata periodā | U8: skaits | V8: Faktiskie izdevumi pārskata periodā | W8: skaits | X8: Plānotie izdevumi pārskata periodā | Y8: skaits | Z8: Plānotie izdevumi pārskata periodā | AA8: Plānotie izdevumi pārskata periodā
A9: A | B9: B | C9: 1 | D9: 2 | E9: 3 | F9: 4 | G9: 5 | H9: 6 | I9: 7 | J9: 8 | K9: 9 | L9: 10 | M9: 11 | N9: 12 | O9: 13 | P9: 14 | Q9: 15 | R9: 16 | S9: 17 | T9: 18 | U9: 19 | V9: 20 | W9: 21 | X9: 22 | Y9: 23 | Z9: 24 | AA9: 25
A10: Valsts sociālā nodrošinājuma pabalsts personām ar invaliditāti1 | B10: personas | C10: 124 | D10: 23982.17 | E10: 137 | F10: 20912.86 | G10: 155 | H10: 24257.54 | I10: 177 | J10: 28705.09 | K10: 185 | L10: 26953.66 | M10: 198 | N10: 30843.3 | O10: 208 | P10: 28586.95 | Q10: 233 | R10: 39405.35 | S10: 241 | T10: 36675.6 | U10: 242 | V10: 35660.25 | W10: 253 | X10: 38549.61 | Y10: 264 | Z10: 40225.68 | AA10: =F10+H10+J10+L10+N10+P10+R10+T10+V10+X10+Z10+D10 -> 374758.06
A11: Piemaksa pie ģimenes valsts pabalsta par bērnu ar invaliditāti1 | B11: bērnu skaits | C11: 84 | D11: 10665.23 | E11: 90 | F11: 10597.75 | G11: 99 | H11: 12654.91 | I11: 98 | J11: 12573.33 | K11: 97 | L11: 11090.51 | M11: 109 | N11: 13121.84 | O11: 114 | P11: 12768.65 | Q11: 114 | R11: 12683.61 | S11: 115 | T11: 12854.81 | U11: 116 | V11: 13365.23 | W11: 117 | X11: 12486.24 | Y11: 118 | Z11: 12592.96 | AA11: =F11+H11+J11+L11+N11+P11+R11+T11+V11+X11+Z11+D11 -> 147455.07
A12: Bērna ar invaliditāti kopšanas pabalsts1 | B12: bērnu skaits | C12: 58 | D12: 23165.2 | E12: 61 | F12: 20908.43 | G12: 67 | H12: 24614.52 | I12: 65 | J12: 19929.17 | K12: 64 | L12: 21127.87 | M12: 69 | N12: 23577.7 | O12: 68 | P12: 21126.2 | Q12: 70 | R12: 22358 | S12: 68 | T12: 21611.17 | U12: 68 | V12: 22597.29 | W12: 69 | X12: 21626.67 | Y12: 69 | Z12: 21626.67 | AA12: =F12+H12+J12+L12+N12+P12+R12+T12+V12+X12+Z12+D12 -> 264268.89
A13: Pabalsts personai ar invaliditāti, kurai nepieciešama kopšana (ar noteiktu invaliditāti Latvijā)1 | B13: personas | C13: 24 | D13: 8295.42 | E13: 26 | F13: 6599.89 | G13: 29 | H13: 11284.55 | I13: 24 | J13: 5034.76 | K13: 21 | L13: 5765.06 | M13: 26 | N13: 11107.15 | O13: 26 | P13: 6620.42 | Q13: 28 | R13: 9165.18 | S13: 30 | T13: 13096.85 | U13: 30 | V13: 7915.99 | W13: 32 | X13: 10029.76 | Y13: 32 | Z13: 10029.76 | AA13: =F13+H13+J13+L13+N13+P13+R13+T13+V13+X13+Z13+D13 -> 104944.79
A14: 1 saskaņā ar MK sēdē izskatīto un atbalstīto MK rīkojuma projektu ""Grozījums Ministru kabineta 2023.gada 8.jūnija rīkojumā Nr.336 “Par apropriācijas pārdali no budžeta resora “74. Gadskārtējā valsts budžeta izpildes procesā pārdalāmais finansējums” valsts budžeta programmas 17.00.00 “Finansējums Ukrainas civiliedzīvotāju atbalsta likumā noteikto pasākumu īstenošanai””” projekta (23-TA-3060) | Y14: =SUM(Y10:Y13) -> 483 | AA14: =SUM(AA10:AA13) -> 891426.81
A19: Valsts sociālā nodrošinājuma pabalsta apmēri
F20: līdz 31.12. 2023. | G20: no 01.01. 2024. | H20: Pieaugums, %
A21: 1.grupa/ strādā | F21: 175 | G21: 191.8 | H21: =G21*100/F21-100 -> 9.6
A22: 1.grupa/ nestrādā | F22: 227.5 | G22: 249.34 | H22: =G22*100/F22-100 -> 9.6
A23: 1.grupa/ invaliditāte kopš bērnības (strādā) | F23: 219.8 | G23: 239.4 | H23: =G23*100/F23-100 -> 8.9171975
A24: 1.grupa/ invaliditāte kopš bērnības (nestrādā) | F24: 285.74 | G24: 311.22 | H24: =G24*100/F24-100 -> 8.9171975
A25: 2.grupa/ strādā | F25: 150 | G25: 164.4 | H25: =G25*100/F25-100 -> 9.6
A26: 2.grupa/ nestrādā | F26: 180 | G26: 197.28 | H26: =G26*100/F26-100 -> 9.6
A27: 2.grupa/ invaliditāte kopš bērnības (strādā) | F27: 188.4 | G27: 205.2 | H27: =G27*100/F27-100 -> 8.9171975
A28: 2.grupa/ invaliditāte kopš bērnības (nestrādā) | F28: 226.08 | G28: 246.24 | H28: =G28*100/F28-100 -> 8.9171975
A29: 3.grupa/ neatkarīgi no nodarbinātības | F29: 125 | G29: 137 | H29: =G29*100/F29-100 -> 9.6
A30: 3.grupa/ invaliditāte kopš bērnības ( neatkarīgi no nodarbinātības) | F30: 157 | G30: 171 | H30: =G30*100/F30-100 -> 8.9171975
F31: =AVERAGE(F21:F30) -> 193.452 | G31: =AVERAGE(G21:G30) -> 211.288 | H31: =G31*100/F31-100 -> 9.2198582
A33: I Pabalsti (VSAA) 2024
A34: Gads | C34: 2024 | E34: 2024 | G34: 2024 | I34: 2024 | K34: 2024 | M34: 2024 | O34: 2024 | Q34: 2024 | S34: 2024 | U34: 2024 | W34: 2024 | Y34: 2024 | AA34: 2024
A35: Pārskata periods | C35: Janvāris | E35: Februāris | G35: Marts | I35: Aprīlis | K35: Maijs | M35: Jūnijs | O35: Jūlijs | Q35: Augusts | S35: Septembris | U35: Oktobris | W35: Novembris | Y35: Decembris | AA35: KOPĀ
A36: x | D36: (euro,centi) | F36: (euro,centi) | H36: (euro,centi) | J36: (euro,centi) | L36: (euro,centi) | N36: (euro,centi) | P36: (euro,centi) | R36: (euro,centi) | T36: (euro,centi) | V36: (euro,centi) | X36: (euro,centi) | Z36: (euro,centi) | AA36: (euro,centi)
A37: Rādītāja nosaukums | B37: mēr- vienība | C37: skaits | D37: Plānotie izdevumi pārskata periodā | E37: skaits | F37: Plānotie izdevumi pārskata periodā | G37: skaits | H37: Plānotie izdevumi pārskata periodā | I37: skaits | J37: Plānotie izdevumi pārskata periodā | K37: skaits | L37: Plānotie izdevumi pārskata periodā | M37: skaits | N37: Plānotie izdevumi pārskata periodā | O37: skaits | P37: Plānotie izdevumi pārskata periodā | Q37: skaits | R37: Plānotie izdevumi pārskata periodā | S37: skaits | T37: Plānotie izdevumi pārskata periodā | U37: skaits | V37: Plānotie izdevumi pārskata periodā | W37: skaits | X37: Plānotie izdevumi pārskata periodā | Y37: skaits | Z37: Plānotie izdevumi pārskata periodā | AA37: Plānotie izdevumi pārskata periodā
A38: A | B38: B | C38: 1 | D38: 2 | E38: 3 | F38: 4 | G38: 5 | H38: 6 | I38: 7 | J38: 8 | K38: 9 | L38: 10 | M38: 11 | N38: 12 | O38: 13 | P38: 14 | Q38: 15 | R38: 16 | S38: 17 | T38: 18 | U38: 19 | V38: 20 | W38: 21 | X38: 22 | Y38: 23 | Z38: 24 | AA38: 25
A39: Valsts sociālā nodrošinājuma pabalsts personām ar invaliditāti1 | B39: personas | C39: =Y10+15 -> 279 | D39: =C39*(152.91*1.0922) -> 46595.316 | E39: =C39+15 -> 294 | F39: =E39*(152.91*1.0922) -> 49100.441 | G39: =E39+15 -> 309 | H39: =G39*(152.91*1.0922) -> 51605.565 | I39: =G39+15 -> 324 | J39: =I39*(152.91*1.0922) -> 54110.69 | K39: =I39+15 -> 339 | L39: =K39*(152.91*1.0922) -> 56615.814 | M39: =K39+15 -> 354 | N39: =M39*(152.91*1.0922) -> 59120.939 | O39: =M39+15 -> 369 | P39: =O39*(152.91*1.0922) -> 61626.063 | Q39: =O39+15 -> 384 | R39: =Q39*(152.91*1.0922) -> 64131.188 | S39: =Q39+15 -> 399 | T39: =S39*(152.91*1.0922) -> 66636.312 | U39: =S39+15 -> 414 | V39: =U39*(152.91*1.0922) -> 69141.437 | W39: =U39+15 -> 429 | X39: =W39*(152.91*1.0922) -> 71646.562 | Y39: =W39+15 -> 444 | Z39: =Y39*(152.91*1.0922) -> 74151.686 | AA39: =F39+H39+J39+L39+N39+P39+R39+T39+V39+X39+Z39+D39 -> 724482.01
A40: Piemaksa pie ģimenes valsts pabalsta par bērnu ar invaliditāti2 | B40: bērnu skaits | C40: =Y11+5 -> 123 | D40: =C40*160 -> 19680 | E40: =C40+5 -> 128 | F40: =E40*160 -> 20480 | G40: =E40+5 -> 133 | H40: =G40*160 -> 21280 | I40: =G40+5 -> 138 | J40: =I40*160 -> 22080 | K40: =I40+5 -> 143 | L40: =K40*160 -> 22880 | M40: =K40+5 -> 148 | N40: =M40*160 -> 23680 | O40: =M40+5 -> 153 | P40: =O40*160 -> 24480 | Q40: =O40+5 -> 158 | R40: =Q40*160 -> 25280 | S40: =Q40+5 -> 163 | T40: =S40*160 -> 26080 | U40: =S40+5 -> 168 | V40: =U40*160 -> 26880 | W40: =U40+5 -> 173 | X40: =W40*160 -> 27680 | Y40: =W40+5 -> 178 | Z40: =Y40*160 -> 28480 | AA40: =F40+H40+J40+L40+N40+P40+R40+T40+V40+X40+Z40+D40 -> 288960
A41: Bērna ar invaliditāti kopšanas pabalsts3 | B41: bērnu skaits | C41: =Y12+5 -> 74 | D41: =C41*313.43 -> 23193.82 | E41: =C41+5 -> 79 | F41: =E41*313.43 -> 24760.97 | G41: =E41+5 -> 84 | H41: =G41*313.43 -> 26328.12 | I41: =G41+5 -> 89 | J41: =I41*313.43 -> 27895.27 | K41: =I41+5 -> 94 | L41: =K41*313.43 -> 29462.42 | M41: =K41+5 -> 99 | N41: =M41*313.43 -> 31029.57 | O41: =M41+5 -> 104 | P41: =O41*313.43 -> 32596.72 | Q41: =O41+5 -> 109 | R41: =Q41*313.43 -> 34163.87 | S41: =Q41+5 -> 114 | T41: =S41*313.43 -> 35731.02 | U41: =S41+5 -> 119 | V41: =U41*313.43 -> 37298.17 | W41: =U41+5 -> 124 | X41: =W41*313.43 -> 38865.32 | Y41: =W41+5 -> 129 | Z41: =Y41*313.43 -> 40432.47 | AA41: =F41+H41+J41+L41+N41+P41+R41+T41+V41+X41+Z41+D41 -> 381757.74
A42: Pabalsts personai ar invaliditāti, kurai nepieciešama kopšana (ar noteiktu invaliditāti Latvijā)4 | B42: personas | C42: =Y13+1 -> 33 | D42: =C42*313.43 -> 10343.19 | E42: =C42+1 -> 34 | F42: =E42*313.43 -> 10656.62 | G42: =E42+1 -> 35 | H42: =G42*313.43 -> 10970.05 | I42: =G42+1 -> 36 | J42: =I42*313.43 -> 11283.48 | K42: =I42+1 -> 37 | L42: =K42*313.43 -> 11596.91 | M42: =K42+1 -> 38 | N42: =M42*313.43 -> 11910.34 | O42: =M42+1 -> 39 | P42: =O42*313.43 -> 12223.77 | Q42: =O42+1 -> 40 | R42: =Q42*313.43 -> 12537.2 | S42: =Q42+1 -> 41 | T42: =S42*313.43 -> 12850.63 | U42: =S42+1 -> 42 | V42: =U42*313.43 -> 13164.06 | W42: =U42+1 -> 43 | X42: =W42*313.43 -> 13477.49 | Y42: =W42+1 -> 44 | Z42: =Y42*313.43 -> 13790.92 | AA42: =F42+H42+J42+L42+N42+P42+R42+T42+V42+X42+Z42+D42 -> 144804.66
A43: 1 ņemot vērā iepriekšējā perioda izpildi tiek prognozēts saņēmēju skaita pieaugums par 15 personām ik mēnesi līdz 2024. gada beigām, vidējais apmērs 152,91euro (kas atbilst vidējam apmēram periodā 2023. gada jūlijs- 2023.gada septembris, kuram piemēro koeficientu 1.0922 (pieaugumu 9.22% atbilstoši vidējam VSNP pieauguma apmēram no 2024. gada 1.janvāra); | Y43: =SUM(Y39:Y42) -> 795 | AA43: =ROUND(SUM(AA39:AA42),0) -> 1540004
A44: 2 tiek pieņemts, ka saņēmēju skaits pieaugs par 5 personām ik mēnesi līdz gada beigām, vidējais apmērs noteikts atbilstoši MK 26.09.2023. sēdē atbalstītajam PP "Atbalsta pasākumi ģimenēm un bērniem" - 160 euro;
A45: 3 tiek pieņemts, ka saņēmēju skaits pieaugs par 5 personām ik mēnesi līdz gada beigām, vidējais apmērs noteikts atbilstoši normatīvajos aktos noteiktajam vidējam apmēram - 313,43 euro;
...

Sheet 5.tab.
A1: 2.pielikuma 5.tabula
A2: Pasākumu plāns atbalsta sniegšanai Ukrainas civiliedzīvotājiem Latvijas Republikā 2024.gadā
A3: 4.7. Sociālās palīdzības pabalstu un sociālās rehabilitācijas pakalpojumu nodrošināšana Ukrainas civiliedzīvotājiem*
A4: * | B4: Plāns balstīts uz faktisko izpildi 2023. gadā. 2024. gadā faktiski izmaksātie pabalsti un nodrošinātie pakalpojumi var atsķirties (papildus var tikt nodrošināts vēl kāds atbalsta veids) atbilstoši individuālajām personu vajadzībām. Likuma 7.panta trešā daļa paredz, ka Ukrainas civiliedzīvotājiem ir tādas pašas tiesības uz sociālajiem pakalpojumiem un sociālo palīdzību, kādas Sociālo pakalpojumu un sociālās palīdzības likumā noteiktas Latvijas pilsoņiem un Latvijas nepilsoņiem.
B5: X | D5: 2023 | F5: 2023 | H5: 2023 | J5: 2023 | L5: 2023 | N5: 2023 | P5: 2023 | R5: 2023 | T5: 2023 | V5: 2023 | X5: 2023 | Z5: 2023 | AB5: 2023
D6: janvāris | F6: februāris | H6: marts | J6: aprīlis | L6: maijs | N6: jūnijs | P6: jūlijs | R6: augusts | T6: septembris | V6: oktobris | X6: novembris | Z6: decembris | AB6: KOPĀ
E7: (euro,centi) | G7: (euro,centi) | I7: (euro,centi) | K7: (euro,centi) | M7: (euro,centi) | O7: (euro,centi) | Q7: (euro,centi) | S7: (euro,centi) | U7: (euro,centi) | W7: (euro,centi) | Y7: (euro,centi) | AA7: (euro,centi) | AB7: (euro,centi)
D8: Saņēmēju skaits | E8: Faktiskie izdevumi pārskata periodā | F8: Saņēmēju skaits | G8: Faktiskie izdevumi pārskata periodā | H8: Saņēmēju skaits | I8: Faktiskie izdevumi pārskata periodā | J8: Saņēmēju skaits | K8: Faktiskie izdevumi pārskata periodā | L8: Saņēmēju skaits | M8: Faktiskie izdevumi pārskata periodā | N8: Saņēmēju skaits | O8: Faktiskie izdevumi pārskata periodā | P8: Saņēmēju skaits | Q8: Faktiskie izdevumi pārskata periodā | R8: Saņēmēju skaits | S8: Faktiskie izdevumi pārskata periodā | T8: Saņēmēju skaits | U8: Faktiskie izdevumi pārskata periodā | V8: Saņēmēju skaits | W8: Faktiskie izdevumi pārskata periodā | X8: Saņēmēju skaits | Y8: Plānotie izdevumi pārskata periodā | Z8: Saņēmēju skaits | AA8: Plānotie izdevumi pārskata periodā | AB8: Plānotie zdevumi pārskata periodā
B9: A | D9: 1 | E9: 2 | F9: 3 | G9: 4 | H9: 5 | I9: 6 | J9: 7 | K9: 8 | L9: 9 | M9: 10 | N9: 11 | O9: 12 | P9: 13 | Q9: 14 | R9: 15 | S9: 16 | T9: 17 | U9: 18 | V9: 19 | W9: 20 | X9: 21 | Y9: 22 | Z9: 23 | AA9: 24 | AB9: 25
A10: 4.7.1. VARAM/ pašvaldības | B10: Garantētais minimālais ienākums (GMI) – pabalsts 109 euro apmērā pirmajai personai un 76 euro apmērā katrai nākamajai personai mājsaimniecībā. No 01.07.2023. pabalsts 125 euro apmērā pirmajai personai un 87.50 euro apmērā katrai nākamajai personai mājsaimniecībā | D10: 6671 | E10: 567520.88 | F10: 6308 | G10: 545157.77 | H10: 6119 | I10: 527272.94 | J10: 5471 | K10: 440922.64 | L10: 4898 | M10: 404017.96 | N10: 4416 | O10: 361883.32 | P10: 4231 | Q10: 396198.81 | R10: 4183 | S10: 399625.98 | T10: 3792 | U10: 353240.46 | V10: 3582 | W10: 338438.36 | X10: =V10 -> 3582 | Y10: =W10 -> 338438.36 | Z10: =X10 -> 3582 | AA10: =Y10 -> 338438.36 | AB10: =I10+K10+M10+O10+Q10+S10+U10+W10+Y10+AA10+G10+E10 -> 5011155.8 | AC10: =ROUND((U10+W10)/(T10+V10),2) -> 93.8
A11: 4.7.2. VARAM/ pašvaldības | B11: Vienreizējais pabalsts krīzes situācijā 272 euro apmērā pilngadīgai personai un 190 euro apmērā par katru bērnu. No 01.07.2023. 313 euro apmērā pilngadīgai personai un 219 euro apmērā par katru bērnu. | D11: 816 | E11: 202370 | F11: 628 | G11: 156356 | H11: 605 | I11: 152674 | J11: 423 | K11: 104716 | L11: 363 | M11: 90150 | N11: 446 | O11: 113948 | P11: 505 | Q11: 124441 | R11: 526 | S11: 131383 | T11: 423 | U11: 105168.25 | V11: 414 | W11: 105800.5 | X11: =V11 -> 414 | Y11: =X11*$AC$11 -> 104348.7 | Z11: =X11 -> 414 | AA11: =Z11*$AC$11 -> 104348.7 | AB11: =I11+K11+M11+O11+Q11+S11+U11+W11+Y11+AA11+G11+E11 -> 1495704.1 | AC11: =ROUND((U11+W11)/(T11+V11),2) -> 252.05
A12: 4.7.3. VARAM/ pašvaldības | B12: Mājokļa pabalsts pēc aprēķina, ja ir noslēgts īres līgums | D12: 5156 | E12: 716601.25 | F12: 5655 | G12: 888002.39 | H12: 6018 | I12: 976591.67 | J12: 5911 | K12: 893401.79 | L12: 5694 | M12: 718064.93 | N12: 4437 | O12: 473345.1 | P12: 4012 | Q12: 472655.89 | R12: 3796 | S12: 468093.02 | T12: 3248 | U12: 378700.56 | V12: 3129 | W12: 378850.76 | X12: =V12 -> 3129 | Y12: =W12 -> 378850.76 | Z12: =X12 -> 3129 | AA12: =Y12 -> 378850.76 | AB12: =I12+K12+M12+O12+Q12+S12+U12+W12+Y12+AA12+G12+E12 -> 7122008.9 | AD12: =AB12/(D12+F12+H12+J12+L12+N12+P12+R12+T12+V12+X12+Z12) -> 133.58609
C15: no 01.07.2023. | H15: no 01.01.2024. | M15: pieaugums % no 01.01.2024.
C16: Pirmajam vai vienīgajam cilvēkam mājsaimniecībā | E16: pārējiem cilvēkiem mājsaimniecībā | H16: Pirmajam vai vienīgajam cilvēkam mājsaimniecībā | J16: pārējiem cilvēkiem mājsaimniecībā | M16: Pirmajam vai vienīgajam cilvēkam mājsaimniecībā | O16: pārējiem cilvēkiem mājsaimniecībā | Q16: vidēji
B17: Garantētā minimālā ienākuma slieksnis | C17: 125 | E17: 87.5 | H17: 137 | J17: 96 | M17: =H17*100/C17-100 -> 9.6 | O17: =J17*100/E17-100 -> 9.7142857 | Q17: =(M17+O17)/2 -> 9.6571429
B18: Trūcīgas mājsaimniecības ienākumu slieksnis | C18: 313 | E18: 219 | H18: 343 | J18: 240 | M18: =H18*100/C18-100 -> 9.5846645 | O18: =J18*100/E18-100 -> 9.5890411 | Q18: =(M18+O18)/2 -> 9.5868528
B21: X | D21: 2024 | F21: 2024 | H21: 2024 | J21: 2024 | L21: 2024 | N21: 2024 | P21: 2024 | R21: 2024 | T21: 2024 | V21: 2024 | X21: 2024 | Z21: 2024 | AB21: 2024
D22: janvāris | F22: februāris | H22: marts | J22: aprīlis | L22: maijs | N22: jūnijs | P22: jūlijs | R22: augusts | T22: septembris | V22: oktobris | X22: novembris | Z22: decembris | AB22: KOPĀ
E23: (euro,centi) | G23: (euro,centi) | I23: (euro,centi) | K23: (euro,centi) | M23: (euro,centi) | O23: (euro,centi) | Q23: (euro,centi) | S23: (euro,centi) | U23: (euro,centi) | W23: (euro,centi) | Y23: (euro,centi) | AA23: (euro,centi) | AB23: (euro,centi)
D24: Saņēmēju skaits | E24: Plānotie izdevumi pārskata periodā | F24: Saņēmēju skaits | G24: Plānotie izdevumi pārskata periodā | H24: Saņēmēju skaits | I24: Plānotie izdevumi pārskata periodā | J24: Saņēmēju skaits | K24: Plānotie izdevumi pārskata periodā | L24: Saņēmēju skaits | M24: Plānotie izdevumi pārskata periodā | N24: Saņēmēju skaits | O24: Plānotie izdevumi pārskata periodā | P24: Saņēmēju skaits | Q24: Plānotie izdevumi pārskata periodā | R24: Saņēmēju skaits | S24: Plānotie izdevumi pārskata periodā | T24: Saņēmēju skaits | U24: Plānotie izdevumi pārskata periodā | V24: Saņēmēju skaits | W24: Plānotie izdevumi pārskata periodā | X24: Saņēmēju skaits | Y24: Plānotie izdevumi pārskata periodā | Z24: Saņēmēju skaits | AA24: Plānotie izdevumi pārskata periodā | AB24: Plānotie zdevumi pārskata periodā
B25: A | D25: 1 | E25: 2 | F25: 3 | G25: 4 | H25: 5 | I25: 6 | J25: 7 | K25: 8 | L25: 9 | M25: 10 | N25: 11 | O25: 12 | P25: 13 | Q25: 14 | R25: 15 | S25: 16 | T25: 17 | U25: 18 | V25: 19 | W25: 20 | X25: 21 | Y25: 22 | Z25: 23 | AA25: 24 | AB25: 25
A26: 4.7.1. VARAM/ pašvaldības | B26: Garantētais minimālais ienākums (GMI) – pabalsts 137 euro apmērā pirmajai personai un 96 euro apmērā katrai nākamajai personai mājsaimniecībā. 1;2 | D26: =Z10*1.05 -> 3761.1 | E26: =$AC$10*(100+$Q$17)/100*D26 -> 386860.73 | F26: =D26 -> 3761.1 | G26: =$AC$10*(100+$Q$17)/100*F26 -> 386860.73 | H26: =F26 -> 3761.1 | I26: =$AC$10*(100+$Q$17)/100*H26 -> 386860.73 | J26: =H26 -> 3761.1 | K26: =$AC$10*(100+$Q$17)/100*J26 -> 386860.73 | L26: =J26 -> 3761.1 | M26: =$AC$10*(100+$Q$17)/100*L26 -> 386860.73 | N26: =L26 -> 3761.1 | O26: =$AC$10*(100+$Q$17)/100*N26 -> 386860.73 | P26: =N26 -> 3761.1 | Q26: =$AC$10*(100+$Q$17)/100*P26 -> 386860.73 | R26: =P26 -> 3761.1 | S26: =$AC$10*(100+$Q$17)/100*R26 -> 386860.73 | T26: =R26 -> 3761.1 | U26: =$AC$10*(100+$Q$17)/100*T26 -> 386860.73 | V26: =T26 -> 3761.1 | W26: =$AC$10*(100+$Q$17)/100*V26 -> 386860.73 | X26: =V26 -> 3761.1 | Y26: =$AC$10*(100+$Q$17)/100*X26 -> 386860.73 | Z26: =X26 -> 3761.1 | AA26: =$AC$10*(100+$Q$17)/100*Z26 -> 386860.73 | AB26: =ROUND(I26+K26+M26+O26+Q26+S26+U26+W26+Y26+AA26+G26+E26,0) -> 4642329
A27: 4.7.2. VARAM/ pašvaldības | B27: Vienreizējais pabalsts krīzes situācijā 343 euro apmērā pilngadīgai personai un 240 euro apmērā par katru bērnu. 1;3 | D27: =Z11*1.05 -> 434.7 | E27: =$AC$11*(100+$Q$18)/100*D27 -> 120070.08 | F27: =D27 -> 434.7 | G27: =E27 -> 120070.08 | H27: =F27 -> 434.7 | I27: =G27 -> 120070.08 | J27: =H27 -> 434.7 | K27: =I27 -> 120070.08 | L27: =J27 -> 434.7 | M27: =K27 -> 120070.08 | ... AA27: =Y27 -> 120070.08 | AB27: =ROUND(I27+K27+M27+O27+Q27+S27+U27+W27+Y27+AA27+G27+E27,0) -> 1440841
A28: 4.7.3. VARAM/ pašvaldības | B28: Mājokļa pabalsts pēc aprēķina, ja ir noslēgts īres līgums1;4;5 | D28: =Z12*1.05 -> 3285.45 | E28: =$AD$12*1*D28 -> 438890.42 | F28: =D28 -> 3285.45 | G28: =E28 -> 438890.42 | H28: =F28 -> 3285.45 | I28: =G28 -> 438890.42 | J28: =H28 -> 3285.45 | K28: =I28 -> 438890.42 | L28: =J28 -> 3285.45 | M28: =K28 -> 438890.42 | ... AA28: =Y28 -> 438890.42 | AB28: =ROUND(I28+K28+M28+O28+Q28+S28+U28+W28+Y28+AA28+G28+E28,0) -> 5266685
B30: 1Uz 2023. gada 25. septembri Ukrainas civiliedzīvotāju atbalsta sniegšanai nepieciešamās informācijas reģistrā ( UCASNIR ) kā aktīvi bija reģistrēti 32 607, t.sk. 2023. gadā ( 01.01. – 31.08.) pašvaldībās atbalsta saņemšanai no jauna reģistrējās 6964 Ukrainas civiliedzīvotāji. Ņemot vērā, ka prognozēts, ka līdz 2023. gada beigām Latvijā no jauna ieceļos un pēc palīdzības vērsīsies aptuveni 3000 Ukrainas civiliedzīvotāji. Attiecīgi prognozēts, ka 2023. gadā no jauna būs ieceļojuši un pēc palīdzības vērsušies 9 964 Ukrainas civiliedzīvotāji. Ņemot vērā, ka Iekšlietu ministrija prognozē, ka 2024. gadā Latvijas Republikas teritorijā no jauna varētu ierasties aptuveni 12 000 Ukrainas civiliedzīvotāji, kas ir lielāks skaits kā prognozēts 2023. gadā, tad 2024. gadā personu skaits tiek plānots par 5% lielāks nekā prognozēts 2023. gada decembrī;
B31: 2Ņemot vērā izmaiņas GMI slieksnim ar 01.01.2024. vidēji par 9.66 %, vidējie izdevumi uz 1 personu tiek plānoti par 9.66% lielāki nekā faktiski izmaksātais apmērs vidēji uz 1 personu 2023. gada periodā septembris - oktobris;
B32: 3Ņemot vērā izmaiņas Trūcīgas mājsaimniecības ienākumu slieksnim ar 01.01.2024. vidēji par 9.59 %, vidējie izdevumi uz 1 personu tiek plānoti par 9.59% lielāki nekā faktiski izmaksātais apmērs vidēji uz 1 personu 2023. gada periodā septembris - oktobris;
B33: 4 Vidējais apmērs uz 1 personu 2023. gadā tiek prognozēts 133.59 euro. 2024. gadā vidējais apmērs uz 1 personu mēnesī plānots 2023. gada līmenī.
B34: 5 2024. gada izdevumu plānas veidots balstoties uz plānoto pabalsta saņēmēju skaitu vidēji mēnesī 2023. gadā. Norādītais sadalījums pa mēnešiem 2024. gadā ir vidējais apmērs mēnesī (visos mēnešos ir vienāds). Faktiskā izpilde, ņemot vērā pabalsta izmaksu nosacījumus, gada aukstajos mēnešos būs lielāka un vasaras mēnešos zemāka.
B37: Gads | D37: 2023 | F37: 2023 | H37: 2023 | J37: 2023 | L37: 2023 | N37: 2023 | P37: 2023 | R37: 2023 | S37: 2024
B38: Pārskata periods | D38: Janvāris | F38: Februāris | H38: Marts | J38: Aprīlis | L38: Maijs | N38: Jūnijs | P38: Jūlijs | R38: KOPĀ periodā janvāris - jūlijs | S38: KOPĀ
B39: x | E39: (euro,centi) | G39: (euro,centi) | I39: (euro,centi) | K39: (euro,centi) | M39: (euro,centi) | O39: (euro,centi) | Q39: (euro,centi) | R39: (euro,centi) | S39: (euro,centi)
B40: Rādītāja nosaukums | C40: mēr- vienība | D40: skaits | E40: Faktiskie izdevumi pārskata periodā | F40: skaits | G40: Faktiskie izdevumi pārskata periodā | H40: skaits | I40: Faktiskie izdevumi pārskata periodā | J40: skaits | K40: Faktiskie izdevumi pārskata periodā | L40: skaits | M40: Faktiskie izdevumi pārskata periodā | N40: skaits | O40: Faktiskie izdevumi pārskata periodā | P40: skaits | Q40: Faktiskie izdevumi pārskata periodā | R40: Faktiskie izdevumi pārskata periodā | S40: Plānotie izdevumi pārskata periodā
B41: A | C41: B | D41: 1 | E41: 2 | F41: 3 | G41: 4 | H41: 5 | I41: 6 | J41: 7 | K41: 8 | L41: 9 | M41: 10 | N41: 11 | O41: 12 | P41: 13 | Q41: 14 | R41: 15 | S41: 16
A42: 4.7.4. LM | B42: Sociālās rehabilitācijas pakalpojumu sniegšana bērniem, kas cietuši no prettiesiskām darbībām institūcijās 30 vai 60 dienu kurss | C42: klientu dienas (bērniem) | F42: 56 | G42: 3773.28 | H42: 49 | I42: 3301.62 | J42: 30 | K42: 2021.4 | N42: 44 | O42: 2964.72 | P42: 60 | Q42: 4883.4 | R42: =E42+G42+I42+K42+M42+O42+Q42 -> 16944.42 | S42: =R42/7*12 -> 29047.577
C43: klientu dienas (pavadoņiem) | H43: 19 | I43: 583.49 | R43: =E43+G43+I43+K43+M43+O43+Q43 -> 583.49 | S43: =R43/7*12 -> 1000.2686
B44: Sociālās rehabilitācijas pakalpojumu sniegšana bērniem, kas cietuši no prettiesiskām darbībām, dzīvesvietā (līdz 10 konsultācijām) | C44: konsultācijas | H44: 37 | I44: 1379.73 | L44: 3 | M44: 111.87 | N44: 13 | O44: 484.77 | P44: 7 | Q44: 261.03 | R44: =E44+G44+I44+K44+M44+O44+Q44 -> 2237.4 | S44: =R44/7*12 -> 3835.5429
R45: =SUM(R42:R44) -> 19765.31 | S45: =ROUND(SUM(S42:S44),0) -> 33883

Sheet 6.tab.
A1: 2.pielikuma 6.tabula
A2: Pasākumu plāns atbalsta sniegšanai Ukrainas civiliedzīvotājiem Latvijas Republikā 2024.gadā
A3: ='Ietekme uz valsts budžetu 2024'!B155 -> 4.8. Ar ģimeni un bērna aprūpi saistīto valsts sociālo pabalstu nodrošināšana
A4: VSAA/ 2023 | W4: Prognoze
A5: Gads | C5: 2023 | E5: 2023 | G5: 2023 | I5: 2023 | K5: 2023 | M5: 2023 | O5: 2023 | Q5: 2023 | S5: 2023 | U5: 2023 | W5: 2023 | Y5: 2023 | AA5: 2023
A6: Pārskata periods | C6: Janvāris | E6: Februāris | G6: Marts | I6: Aprīlis | K6: Maijs | M6: Jūnijs | O6: Jūlijs | Q6: Augusts | S6: Septembris | U6: Oktobris | W6: Novembris | Y6: Decembris | AA6: KOPĀ
A7: x | D7: (euro,centi) | F7: (euro,centi) | H7: (euro,centi) | J7: (euro,centi) | L7: (euro,centi) | N7: (euro,centi) | P7: (euro,centi) | R7: (euro,centi) | T7: (euro,centi) | V7: (euro,centi) | X7: (euro,centi) | Z7: (euro,centi) | AA7: (euro,centi)
A8: Rādītāja nosaukums | B8: mēr- vienība | C8: skaits | D8: Faktiskie izdevumi pārskata periodā | E8: skaits | F8: Faktiskie izdevumi pārskata periodā | G8: skaits | H8: Faktiskie izdevumi pārskata periodā | I8: skaits | J8: Faktiskie izdevumi pārskata periodā | K8: skaits | L8: Faktiskie izdevumi pārskata periodā | M8: skaits | N8: Faktiskie izdevumi pārskata periodā | O8: skaits | P8: Faktiskie izdevumi pārskata periodā | Q8: skaits | R8: Faktiskie izdevumi pārskata periodā | S8: skaits | T8: Faktiskie izdevumi pārskata periodā | U8: skaits | V8: Faktiskie izdevumi pārskata periodā | W8: skaits | X8: Plānotie izdevumi pārskata periodā | Y8: skaits | Z8: Plānotie izdevumi pārskata periodā | AA8: Plānotie izdevumi pārskata periodā
A9: A | B9: B | C9: 1 | D9: 2 | E9: 3 | F9: 4 | G9: 5 | H9: 6 | I9: 7 | J9: 8 | K9: 9 | L9: 10 | M9: 11 | N9: 12 | O9: 13 | P9: 14 | Q9: 15 | R9: 16 | S9: 17 | T9: 18 | U9: 19 | V9: 20 | W9: 21 | X9: 22 | Y9: 23 | Z9: 24 | AA9: 25
A10: Bērna piedzimšanas pabalsts1 | B10: bērnu skaits | C10: 16 | D10: 6738.72 | E10: 14 | F10: 5896.38 | G10: 9 | H10: 3790.53 | I10: 11 | J10: 4632.87 | K10: 13 | L10: 5475.21 | M10: 15 | N10: 6317.55 | O10: 14 | P10: 5896.38 | Q10: 13 | R10: 5475.21 | S10: 10 | T10: 4211.7 | U10: 20 | V10: 8423.4 | W10: 15 | X10: 6317.55 | Y10: 15 | Z10: 6317.55 | AA10: =F10+H10+J10+L10+N10+P10+R10+T10+V10+X10+Z10+D10 -> 69493.05
A11: Bērna kopšanas pabalsts1 | B11: bērnu skaits | C11: 440 | D11: 58977.17 | E11: 442 | F11: 60366.16 | G11: 442 | H11: 62276.84 | I11: 422 | J11: 52967.69 | K11: 354 | L11: 44654.41 | M11: 340 | N11: 46192.42 | O11: 345 | P11: 45946.31 | Q11: 349 | R11: 44223.71 | S11: 345 | T11: 44695.71 | U11: 330 | V11: 41941.58 | W11: 342 | X11: 44624.16 | Y11: 342 | Z11: 44624.16 | AA11: =F11+H11+J11+L11+N11+P11+R11+T11+V11+X11+Z11+D11 -> 591490.32
A12: Ģimenes valsts pabalsts1 | B12: bērnu skaits | C12: 6266 | D12: 287442.85 | E12: 6310 | F12: 302751.97 | G12: 6285 | H12: 294062.09 | I12: 5963 | J12: 277930.94 | K12: 5760 | L12: 265533.27 | M12: 5636 | N12: 257469.34 | O12: 5530 | P12: 256508.02 | Q12: 5504 | R12: 257059.06 | S12: 5502 | T12: 251141.28 | U12: 5319 | V12: 240407.28 | W12: 5265.81 | X12: 241806 | Y12: 5213.1519 | Z12: 239387.94 | AA12: =F12+H12+J12+L12+N12+P12+R12+T12+V12+X12+Z12+D12 -> 3171500
A13: Valsts atbalsts ar celiakiju slimiem bērniem1 | B13: bērnu skaits | C13: 2 | D13: 213.44 | E13: 2 | F13: 213.44 | G13: 2 | H13: 213.44 | I13: 2 | J13: 213.44 | K13: 2 | L13: 213.44 | M13: 2 | N13: 213.44 | O13: 2 | P13: 213.44 | Q13: 2 | R13: 213.44 | S13: 2 | T13: 213.44 | U13: 2 | V13: 213.44 | W13: 2 | X13: 213.44 | Y13: 2 | Z13: 213.44 | AA13: =F13+H13+J13+L13+N13+P13+R13+T13+V13+X13+Z13+D13 -> 2561.28
A14: KOPĀ | D14: =SUM(D10:D13) -> 353372.18 | F14: =SUM(F10:F13) -> 369227.95 | H14: =SUM(H10:H13) -> 360342.9 | J14: =SUM(J10:J13) -> 335744.94 | L14: =SUM(L10:L13) -> 315876.33 | N14: =SUM(N10:N13) -> 310192.75 | P14: =SUM(P10:P13) -> 308564.15 | R14: =SUM(R10:R13) -> 306971.42 | T14: =SUM(T10:T13) -> 300262.13 | V14: =SUM(V10:V13) -> 290985.7 | X14: =SUM(X10:X13) -> 292961.15 | Z14: =SUM(Z10:Z13) -> 290543.09 | AA14: =ROUND(SUM(AA10:AA13),0) -> 3835045
A15: 1 saskaņā ar MK sēdē izskatīto un atbalstīto MK rīkojuma projektu ""Grozījums Ministru kabineta 2023.gada 8.jūnija rīkojumā Nr.336 “Par apropriācijas pārdali no budžeta resora “74. Gadskārtējā valsts budžeta izpildes procesā pārdalāmais finansējums” valsts budžeta programmas 17.00.00 “Finansējums Ukrainas civiliedzīvotāju atbalsta likumā noteikto pasākumu īstenošanai””” projekta (23-TA-3060)
A23: VSAA/ 2024 | C23: Prognoze
A24: Gads | C24: 2024 | E24: 2024 | G24: 2024 | I24: 2024 | K24: 2024 | M24: 2024 | O24: 2024 | Q24: 2024 | S24: 2024 | U24: 2024 | W24: 2024 | Y24: 2024 | AA24: 2024
A25: Pārskata periods | C25: Janvāris | E25: Februāris | G25: Marts | I25: Aprīlis | K25: Maijs | M25: Jūnijs | O25: Jūlijs | Q25: Augusts | S25: Septembris | U25: Oktobris | W25: Novembris | Y25: Decembris | AA25: KOPĀ
A26: x | D26: (euro,centi) | F26: (euro,centi) | H26: (euro,centi) | J26: (euro,centi) | L26: (euro,centi) | N26: (euro,centi) | P26: (euro,centi) | R26: (euro,centi) | T26: (euro,centi) | V26: (euro,centi) | X26: (euro,centi) | Z26: (euro,centi) | AA26: (euro,centi)
A27: Rādītāja nosaukums | B27: mēr- vienība | C27: skaits | D27: Plānotie izdevumi pārskata periodā | E27: skaits | F27: Plānotie izdevumi pārskata periodā | G27: skaits | H27: Plānotie izdevumi pārskata periodā | I27: skaits | J27: Plānotie izdevumi pārskata periodā | K27: skaits | L27: Plānotie izdevumi pārskata periodā | M27: skaits | N27: Plānotie izdevumi pārskata periodā | O27: skaits | P27: Plānotie izdevumi pārskata periodā | Q27: skaits | R27: Plānotie izdevumi pārskata periodā | S27: skaits | T27: Plānotie izdevumi pārskata periodā | U27: skaits | V27: Plānotie izdevumi pārskata periodā | W27: skaits | X27: Plānotie izdevumi pārskata periodā | Y27: skaits | Z27: Plānotie izdevumi pārskata periodā | AA27: Plānotie izdevumi pārskata periodā
A28: A | B28: B | C28: 1 | D28: 2 | E28: 3 | F28: 4 | G28: 5 | H28: 6 | I28: 7 | J28: 8 | K28: 9 | L28: 10 | M28: 11 | N28: 12 | O28: 13 | P28: 14 | Q28: 15 | R28: 16 | S28: 17 | T28: 18 | U28: 19 | V28: 20 | W28: 21 | X28: 22 | Y28: 23 | Z28: 24 | AA28: 25
A29: Bērna piedzimšanas pabalsts1 | B29: bērnu skaits | C29: =ROUNDUP(AVERAGE(C10,E10,G10,I10,K10,M10,O10,Q10,S10,U10,W10,Y10),0) -> 14 | D29: =C29*421.17 -> 5896.38 | E29: =C29 -> 14 | F29: =E29*421.17 -> 5896.38 | G29: =E29 -> 14 | H29: =G29*421.17 -> 5896.38 | I29: =G29 -> 14 | J29: =I29*421.17 -> 5896.38 | K29: =I29 -> 14 | L29: =K29*421.17 -> 5896.38 | M29: =K29 -> 14 | N29: =M29*421.17 -> 5896.38 | O29: =M29 -> 14 | P29: =O29*421.17 -> 5896.38 | Q29: =O29 -> 14 | R29: =Q29*421.17 -> 5896.38 | S29: =Q29 -> 14 | T29: =S29*421.17 -> 5896.38 | U29: =S29 -> 14 | V29: =U29*421.17 -> 5896.38 | W29: =U29 -> 14 | X29: =W29*421.17 -> 5896.38 | Y29: =W29 -> 14 | Z29: =Y29*421.17 -> 5896.38 | AA29: =F29+H29+J29+L29+N29+P29+R29+T29+V29+X29+Z29+D29 -> 70756.56
A30: Bērna kopšanas pabalsts2 | B30: bērnu skaits | C30: =ROUND(Y11*1.01,0) -> 345 | D30: =C30*131.38 -> 45326.1 | E30: =ROUND(C30*1.01,0) -> 348 | F30: =E30*131.38 -> 45720.24 | G30: =ROUND(E30*1.01,0) -> 351 | H30: =G30*131.38 -> 46114.38 | I30: =ROUND(G30*1.01,0) -> 355 | J30: =I30*131.38 -> 46639.9 | K30: =ROUND(I30*1.01,0) -> 359 | L30: =K30*131.38 -> 47165.42 | M30: =ROUND(K30*1.01,0) -> 363 | N30: =M30*131.38 -> 47690.94 | O30: =ROUND(M30*1.01,0) -> 367 | P30: =O30*131.38 -> 48216.46 | Q30: =ROUND(O30*1.01,0) -> 371 | R30: =Q30*131.38 -> 48741.98 | S30: =ROUND(Q30*1.01,0) -> 375 | T30: =S30*131.38 -> 49267.5 | U30: =ROUND(S30*1.01,0) -> 379 | V30: =U30*131.38 -> 49793.02 | W30: =ROUND(U30*1.01,0) -> 383 | X30: =W30*131.38 -> 50318.54 | Y30: =ROUND(W30*1.01,0) -> 387 | Z30: =Y30*131.38 -> 50844.06 | AA30: =F30+H30+J30+L30+N30+P30+R30+T30+V30+X30+Z30+D30 -> 575838.54
A31: Ģimenes valsts pabalsts3 | B31: bērnu skaits | C31: =ROUND(Y12*1.001,0) -> 5218 | D31: =C31*46.23 -> 241228.14 | E31: =ROUND(C31*1.001,0) -> 5223 | F31: =E31*46.23 -> 241459.29 | G31: =ROUND(E31*1.001,0) -> 5228 | H31: =G31*46.23 -> 241690.44 | I31: =ROUND(G31*1.001,0) -> 5233 | J31: =I31*46.23 -> 241921.59 | K31: =ROUND(I31*1.001,0) -> 5238 | L31: =K31*46.23 -> 242152.74 | M31: =ROUND(K31*1.001,0) -> 5243 | N31: =M31*46.23 -> 242383.89 | O31: =ROUND(M31*1.001,0) -> 5248 | P31: =O31*46.23 -> 242615.04 | Q31: =ROUND(O31*1.001,0) -> 5253 | R31: =Q31*46.23 -> 242846.19 | S31: =ROUND(Q31*1.001,0) -> 5258 | T31: =S31*46.23 -> 243077.34 | U31: =ROUND(S31*1.001,0) -> 5263 | V31: =U31*46.23 -> 243308.49 | W31: =ROUND(U31*1.001,0) -> 5268 | X31: =W31*46.23 -> 243539.64 | Y31: =ROUND(W31*1.001,0) -> 5273 | Z31: =Y31*46.23 -> 243770.79 | AA31: =F31+H31+J31+L31+N31+P31+R31+T31+V31+X31+Z31+D31 -> 2909993.6
A32: Valsts atbalsts ar celiakiju slimiem bērniem4 | B32: bērnu skaits | C32: 2 | D32: =C32*160 -> 320 | E32: =C32 -> 2 | F32: =E32*160 -> 320 | G32: =E32 -> 2 | H32: =G32*160 -> 320 | I32: =G32 -> 2 | J32: =I32*160 -> 320 | K32: =I32 -> 2 | L32: =K32*160 -> 320 | M32: =K32 -> 2 | N32: =M32*160 -> 320 | O32: 2 | P32: =O32*160 -> 320 | Q32: 2 | R32: =Q32*160 -> 320 | S32: =Q32 -> 2 | T32: =S32*160 -> 320 | U32: =S32 -> 2 | V32: =U32*160 -> 320 | W32: =U32 -> 2 | X32: =W32*160 -> 320 | Y32: =W32 -> 2 | Z32: =Y32*160 -> 320 | AA32: =F32+H32+J32+L32+N32+P32+R32+T32+V32+X32+Z32+D32 -> 3840
A33: KOPĀ | D33: =SUM(D29:D32) -> 292770.62 | F33: =SUM(F29:F32) -> 293395.91 | H33: =SUM(H29:H32) -> 294021.2 | J33: =SUM(J29:J32) -> 294777.87 | L33: =SUM(L29:L32) -> 295534.54 | N33: =SUM(N29:N32) -> 296291.21 | P33: =SUM(P29:P32) -> 297047.88 | R33: =SUM(R29:R32) -> 297804.55 | T33: =SUM(T29:T32) -> 298561.22 | V33: =SUM(V29:V32) -> 299317.89 | X33: =SUM(X29:X32) -> 300074.56 | Z33: =SUM(Z29:Z32) -> 300831.23 | AA33: =ROUND(SUM(AA29:AA32),0) -> 3560429
A34: 1 tiek pieņemts, ka vidējais bērnu skaits 2024.gadā būs 14 bērni vidēji mēnesī (vidējais rādītājs 2023.gadā), vidējais apmērs noteikts atbilstoši normatīvajos aktos noteiktajam vidējam apmēram - 421,17 euro
A35: 2 tiek pieņemts, ka bērnu skaits 2023.gada beigās būs 342. 2024. gadā ik mēnesi tiek prognozēts pieaugums bērnu skaitam 1%, vidējais apmērs 131.38 euro (kas atbilst 2023.gadā vidēji izmaksātajam apmēram par 1 bērnu);
A36: 3 tiek pieņemts, ka bērnu skaits 2023.gada beigās būs 5 513 bērni. 2024. gadā tiek prognozēts pieaugums bērnu skaitam mēnesī 0,01%, vidējais apmērs 46,23 euro (kas atbilst 2023. gada vidējam apmēram uz 1 bērnu);
A37: 4 tiek pieņemts, ka vidējais bērnu skaits 2024.gadā būs 2 bērni mēnesī. Vidējais apmērs noteikts atbilstoši MK 26.09.2023. sēdē atbalstītajam PP "Atbalsta pasākumi ģimenēm un bērniem" - 160 euro.

Sheet 7.tab.
A1: 2.pielikuma 7.tabula
A2: Pasākumu plāns atbalsta sniegšanai Ukrainas civiliedzīvotājiem Latvijas Republikā 2024.gadā
A3: 4.9. Cita veida atbalsta sniegšana, pamatojoties uz individuālo vajadzību izvērtējumu, tai skaitā sociālās aprūpes pakalpojuma nodrošināšana dzīvesvietā un pārvietošanās atbalsts, tai skaitā ar specializēto transportu, Ukrainas civiliedzīvotājiem ar smagiem vai ļoti smagiem funkcionāliem traucējumiem, kuri ierobežo personas spējas patstāvīgi pārvietoties un sevi aprūpēt*
A4: *Plāns balstīts uz faktisko izpildi 2023. gadā. 2024. gadā faktiski izmaksātie pabalsti un nodrošinātie pakalpojumi var atsķirties (papildus var tikt nodrošināts vēl kāds atbalsta veids) atbilstoši individuālajām personu vajadzībām. Likuma 7.panta trešā daļa paredz, ka Ukrainas civiliedzīvotājiem ir tādas pašas tiesības uz sociālajiem pakalpojumiem un sociālo palīdzību, kādas Sociālo pakalpojumu un sociālās palīdzības likumā noteiktas Latvijas pilsoņiem un Latvijas nepilsoņiem. Vienlaicīgi pašvaldībās Ukrainas civiliedzīvotājiem ir tādas pašas tiesības uz sociālajiem pakalpojumiem un sociālo palīdzību, kādas pašvaldību saistošajos noteikumos noteiktas pašvaldības iedzīvotājiem.
A5: Pašvaldības (VARAM)
A6: X | B6: 2023 | D6: 2023 | F6: 2023 | H6: 2023 | J6: 2023 | L6: 2023 | N6: 2023 | P6: 2023 | R6: 2023 | T6: 2023 | V6: 2023 | X6: 2023 | Z6: 2023
B7: janvāris | D7: februāris | F7: marts | H7: aprīlis | J7: maijs | L7: jūnijs | N7: jūlijs | P7: augusts | R7: septembris*** | T7: oktobris*** | V7: novembris*** | X7: decembris*** | Z7: KOPĀ
C8: (euro,centi) | E8: (euro,centi) | G8: (euro,centi) | I8: (euro,centi) | K8: (euro,centi) | M8: (euro,centi) | O8: (euro,centi) | Q8: (euro,centi) | S8: (euro,centi) | U8: (euro,centi) | W8: (euro,centi) | Y8: (euro,centi) | Z8: (euro,centi)
B9: Saņēmēju skaits | C9: Faktiskie izdevumi pārskata periodā | D9: Saņēmēju skaits | E9: Faktiskie izdevumi pārskata periodā | F9: Saņēmēju skaits | G9: Faktiskie izdevumi pārskata periodā | H9: Saņēmēju skaits | I9: Faktiskie izdevumi pārskata periodā | J9: Saņēmēju skaits | K9: Faktiskie izdevumi pārskata periodā | L9: Saņēmēju skaits | M9: Faktiskie izdevumi pārskata periodā | N9: Saņēmēju skaits | O9: Faktiskie izdevumi pārskata periodā | P9: Saņēmēju skaits | Q9: Faktiskie izdevumi pārskata periodā | R9: Saņēmēju skaits | S9: Plānotie izdevumi pārskata periodā | T9: Saņēmēju skaits | U9: Plānotie izdevumi pārskata periodā | V9: Saņēmēju skaits | W9: Plānotie izdevumi pārskata periodā | X9: Saņēmēju skaits | Y9: Plānotie izdevumi pārskata periodā | Z9: Plānotie zdevumi pārskata periodā
A10: A | B10: 1 | C10: 2 | D10: 3 | E10: 4 | F10: 5 | G10: 6 | H10: 7 | I10: 8 | J10: 9 | K10: 10 | L10: 11 | M10: 12 | N10: 13 | O10: 14 | P10: 15 | Q10: 16 | R10: 17 | S10: 18 | T10: 19 | U10: 20 | V10: 21 | W10: 22 | X10: 23 | Y10: 24 | Z10: 25
A11: Pabalsts atsevišķu izdevumu apmaksai (UCAL 7.panta trešā daļa) | B11: 475 | C11: 23301.58 | D11: 576 | E11: 32886.17 | F11: 568 | G11: 46806.5 | H11: 535 | I11: 35004.78 | J11: 443 | K11: 23774.53 | L11: 399 | M11: 32107.87 | N11: 335 | O11: 30638.65 | P11: 681 | Q11: 39246.95 | R11: =ROUND((N11+P11)/2,0) -> 508 | S11: =(O11+Q11)/2 -> 34942.8 | T11: =R11 -> 508 | U11: =S11 -> 34942.8 | V11: =T11 -> 508 | W11: =U11 -> 34942.8 | X11: =V11 -> 508 | Y11: =W11 -> 34942.8 | Z11: =G11+I11+K11+M11+O11+Q11+S11+U11+W11+Y11+E11+C11 -> 403538.23 | AA11: =B11+D11+F11+H11+J11+L11+N11+P11+R11+T11+V11+X11 -> 6044 | AB11: =ROUND(Z11/AA11,2) -> 66.77
