Workbook

Sheet VRS_aug
D1: 3.pielikums
D2: Ministru kabineta rīkojuma projekta
D3: “Par apropriācijas pārdali"
D4: sākotnējās ietekmes novērtējuma ziņojumam (anotācijai)
A6: Valsts robežsardzes izdevumi par laika periodu no 2023.gada 1.augusta līdz 31.augustam
A7: Kopsavilkums
A9: Kods | B9: Koda nosaukums | C9: Detalizēts izdevumu aprēķins | D9: Izdevumi, euro
A10: Izdevumi kopā ar vidējās izpeļņas pieauguma kompensēšanu | D10: =D15+D26 -> 656301
A11: 1000 | B11: Atlīdzība | D11: =ROUNDUP(D12+D13,0) -> 656301
A12: 1100 | B12: Atalgojums | D12: =D17+D28 -> 531029.98
A13: 1210 | B13: Darba devēja valsts sociālās apdrošināšanas obligātās iemaksas | D13: =D24+D29 -> 125270.32
A15: 1) Izdevumi saistībā ar rīkojuma Nr. 518 izpildei nepieciešamo pasākumu īstenošanu | D15: =D16 -> 605835
A16: 1000 | B16: Atlīdzība | D16: =ROUNDUP(D17+D24,0) -> 605835
A17: 1100 | B17: Atalgojums | D17: =SUM(D18:D23) -> 490196.6
A18: 1142 | B18: Samaksa par virsstundu darbu | C18: Detalizēts aprēķins par laika periodu no 2023.gada 1. maija līdz 31. augustam 1.tabulā. Iesaistītas 683 amatpersonas, iesaistes laiks 25 146,25 stundas. | D18: ='1.tabula'!I7 -> 428573.61
A19: 1145 | B19: Piemaksa par darbu īpašos apstākļos, speciālās piemaksas | C19: Detalizēts aprēķins par laika periodu no 2023.gada 1. augusta līdz 10. augustam 2.tabulā. Iesaistītas 257 amatpersona, iesaistes laiks - 7841,79 stundas. | D19: ='2.tabula'!J7 -> 12163.52
C20: Detalizēts aprēķins par laika periodu no 2023.gada 11. augusta līdz 31. augustam 3.tabulā. Iesaistītas 409 amatpersona, iesaistes laiks - 21 675,48 stundas. | D20: ='3.tabula '!J7 -> 34832.18
A21: 1149 | B21: Citas normatīvajos aktos noteiktās piemaksas, kas nav iepriekš klasificētas | C21: Detalizēts aprēķins piemaksām par nozīmīgu ieguldījumu attiecīgās institūcijas stratēģisko mērķu sasniegšanā par laika periodu no 2023.gada 1. augusta līdz 10. augustam 4.tabulā. Iesaistītas 19 amatpersonas, iesaistes laiks -984 stundas. | D21: ='4.tabula'!J6 -> 2045.33
C22: Detalizēts aprēķins piemaksām par nozīmīgu ieguldījumu attiecīgās institūcijas stratēģisko mērķu sasniegšanā par laika periodu no 2023.gada 11. augusta līdz 31. augustam 5.tabulā. Iesaistītas 68 amatpersonas, iesaistes laiks -7264 stundas. | D22: ='5.tabula'!J6 -> 11625.97
C23: Precizējums_Detalizēts aprēķins piemaksām par nozīmīgu ieguldījumu attiecīgās institūcijas stratēģisko mērķu sasniegšanā par laika periodu no 2023.gada 1. jūlija līdz 31. jūlijam 6.tabulā. Iesaistītas 7 amatpersonas, iesaistes laiks -696 stundas. *nebija iekļauts finansējuma pieprasījumā par 2023. gada jūliju (Ministru kabineta 2023. gada 13. septembra rīkojums Nr.586 "Par finanšu līdzekļu piešķiršanu no valsts budžeta programmas “Līdzekļi neparedzētiem gadījumiem""). | D23: ='6.tabula '!J6 -> 955.99
A24: 1210 | B24: Darba devēja valsts sociālās apdrošināšanas obligātās iemaksas | C24: 23,59% no aprēķinātā atalgojuma | D24: ='2.tabula'!K7+'3.tabula '!K7+'4.tabula'!K6+'5.tabula'!K6+'6.tabula '!K6+'1.tabula'!J7 -> 115637.73
A26: 2) Vidējās izpeļņas pieauguma kompensēšanai | D26: =D27 -> 50466
A27: 1000 | B27: Atlīdzība | D27: =ROUNDUP(D28+D29,0) -> 50466
A28: 1100 | B28: Atalgojums | C28: 490 196,6 euro * 8,33% = 40 833,38 euro | D28: =ROUND(D17*0.0833,2) -> 40833.38
A29: 1210 | B29: Darba devēja valsts sociālās apdrošināšanas obligātās iemaksas | C29: 23,59% no aprēķinātā atalgojuma | D29: =ROUND(D28*0.2359,2) -> 9632.59

Sheet 1.tabula
K1: 1. tabula
B2: Valsts robežsardze
A3: Amatpersonu ar speciālajām dienesta pakāpēm samaksa par virsstundu darbu laikposmam no 2023. gada 1. maija līdz 31. augustam saistībā ar situāciju uz Latvijas Republikas - Baltkrievijas Republikas valsts robežas
G7: KOPĀ | H7: =SUM(H9:H691) -> 25146.25 | I7: =SUM(I9:I691) -> 428573.61 | J7: =SUM(J9:J691) -> 101100.79 | K7: =SUM(K9:K691) -> 529674.4
A8: N.p.k. | B8: Teritoriālā pārvalde | C8: Amata nosaukums | D8: Tabeles Nr. | E8: Mēnesis | F8: Mēnešalga* | G8: Stundas likme* | H8: Virstundas | I8: Samaksa par virsstundu darbu | J8: DD VSAOI | K8: Atlīdzība
A9: 1 | B9: VRS DAUGAVPILS PĀRVALDE | C9: vecākais inspektors | D9: 27752 | E9: 05.2023. | F9: 1225 | G9: 7.365 | H9: 36 | I9: 528.12 | J9: =ROUND(I9*0.2359,2) -> 124.58 | K9: =I9+J9 -> 652.7
A10: 2 | B10: VRS DAUGAVPILS PĀRVALDE | C10: vecākais inspektors | D10: 27752 | E10: 07.2023. | F10: 1225 | G10: 7.365 | H10: 24 | I10: 353.52 | J10: =ROUND(I10*0.2359,2) -> 83.4 | K10: =I10+J10 -> 436.92
A11: 3 | B11: VRS DAUGAVPILS PĀRVALDE | C11: jaunākais inspektors | D11: 34324 | E11: 07.2023. | F11: 980 | G11: 5.892 | H11: 24 | I11: 282.82 | J11: =ROUND(I11*0.2359,2) -> 66.72 | K11: =I11+J11 -> 349.54
A12: 4 | B12: VRS VENTSPILS PĀRVALDE | C12: jaunākais inspektors | D12: 05977 | E12: 05.2023. | F12: 1060 | G12: 6.373 | H12: 65 | I12: 826.51 | J12: =ROUND(I12*0.2359,2) -> 194.97 | K12: =I12+J12 -> 1021.48
A13: 5 | B13: VRS VENTSPILS PĀRVALDE | C13: jaunākais inspektors | D13: 05977 | E13: 06.2023. | F13: 1060 | G13: 6.373 | H13: 26 | I13: 331.4 | J13: =ROUND(I13*0.2359,2) -> 78.18 | K13: =I13+J13 -> 409.58
A14: 6 | B14: VRS LUDZAS PĀRVALDE | C14: galvenais inspektors (izmeklēšanas darbā) | D14: 06518 | E14: 06.2023. | F14: 1600 | G14: 9.619 | H14: 7.5 | I14: 144.29 | J14: =ROUND(I14*0.2359,2) -> 34.04 | K14: =I14+J14 -> 178.33
A15: 7 | B15: VRS LUDZAS PĀRVALDE | C15: galvenais inspektors (izmeklēšanas darbā) | D15: 06518 | E15: 07.2023. | F15: 1640 | G15: 9.86 | H15: 7.5 | I15: 147.9 | J15: =ROUND(I15*0.2359,2) -> 34.89 | K15: =I15+J15 -> 182.79
A16: 8 | B16: VRS AVIĀCIJAS PĀRVALDES SPECIĀLO OPERĀCIJU DIENESTS "SIGMA" (BIJUŠ) | C16: inspektors | D16: 08497 | E16: 05.2023. | F16: 1636.03 | G16: 9.836 | H16: 55 | I16: 1080.01 | J16: =ROUND(I16*0.2359,2) -> 254.77 | K16: =I16+J16 -> 1334.78
A17: 9 | B17: VRS AVIĀCIJAS PĀRVALDES SPECIĀLO OPERĀCIJU DIENESTS "SIGMA" (BIJUŠ) | C17: inspektors | D17: 08497 | E17: 06.2023. | F17: 1636.03 | G17: 9.836 | H17: 108 | I17: 2124.58 | J17: =ROUND(I17*0.2359,2) -> 501.19 | K17: =I17+J17 -> 2625.77
A18: 10 | B18: VRS AVIĀCIJAS PĀRVALDES SPECIĀLO OPERĀCIJU DIENESTS "SIGMA" (BIJUŠ) | C18: inspektors | D18: 08497 | E18: 07.2023. | F18: 1636.03 | G18: 9.836 | H18: 154.5 | I18: 3039.32 | J18: =ROUND(I18*0.2359,2) -> 716.98 | K18: =I18+J18 -> 3756.3
A19: 11 | B19: VRS DAUGAVPILS PĀRVALDES DAUGAVPILS I KATEGORIJAS DIENESTS | C19: inspektors | D19: 16637 | E19: 07.2023. | F19: 1180 | G19: 7.094 | H19: 12 | I19: 170.26 | J19: =ROUND(I19*0.2359,2) -> 40.16 | K19: =I19+J19 -> 210.42
A20: 12 | B20: VRS LUDZAS PĀRVALDE | C20: inspektors | D20: 16724 | E20: 05.2023. | F20: 1100 | G20: 6.613 | H20: 36 | I20: 474.26 | J20: =ROUND(I20*0.2359,2) -> 111.88 | K20: =I20+J20 -> 586.14
... A691: 683 | B691: VRS DAUGAVPILS PĀRVALDE | C691: jaunākais inspektors | D691: 38462 | E691: 05.2023. | F691: 960 | G691: 5.772 | H691: 12 | I691: 137.98 | J691: =ROUND(I691*0.2359,2) -> 32.55 | K691: =I691+J691 -> 170.53
A692: * mēnešalgai un stundas likmei ir informatīvs raksturs, tā kā izmantoti aprēķina dati, ko veic grāmatvedības programma. Veicot aprēķinu manuāli, vairākos gadījumos rezultāts var atšķirties saistībā ar - mēnešalgu izmaiņām mēneša vidū, darba samaksas veida izmaiņām.

Sheet 2.tabula
L1: 2.tabula
B2: Valsts robežsardze
A4: Piemaksa par darbu paaugstināta riska un slodzes apstākļos amatpersonām ar speciālajām dienesta pakāpēm laika periodā no 2023.gada 1.augusta līdz 10.augustam
A6: Nr. | B6: Pārvalde | C6: Struktūrvienība | D6: Amats | E6: Tabeles Nr. | F6: Piemaksas apmērs | G6: Mēneš-alga | H6: Iesaistes stundas | I6: Stundas likme | J6: Piemaksas apmērs 50%, 20% vai 10% no stundas likmes (EKK1145) | K6: VSAOI 23,59% (EKK1210) | L6: Atlīdzība (EKK1000)
H7: =SUM(H8:H264) -> 7841.79 | J7: =SUM(J8:J264) -> 12163.52 | K7: =SUM(K8:K264) -> 2869.44 | L7: =SUM(L8:L264) -> 15032.96
A8: 1 | B8: VRS LUDZAS PĀRVALDE | C8: VRS LUDZAS PĀRVALDES PASIENES ROBEŽAPSARDZĪBAS NODAĻA | D8: jaunākais inspektors | E8: 37890 | F8: 0.5 | G8: 960 | H8: 2.67 | I8: =ROUND(G8/166.33,3) -> 5.772 | J8: =ROUND(I8*H8*F8,2) -> 7.71 | K8: =ROUND(J8*0.2359,2) -> 1.82 | L8: =J8+K8 -> 9.53
A9: 2 | B9: VRS DAUGAVPILS PĀRVALDE | C9: VRS DAUGAVPILS PĀRVALDES SILENES ROBEŽAPSARDZĪBAS NODAĻA | D9: jaunākais inspektors | E9: 36320 | F9: 0.2 | G9: 960 | H9: 30 | I9: =ROUND(G9/166.33,3) -> 5.772 | J9: =ROUND(I9*H9*F9,2) -> 34.63 | K9: =ROUND(J9*0.2359,2) -> 8.17 | L9: =J9+K9 -> 42.8
A10: 3 | B10: VRS DAUGAVPILS PĀRVALDE | C10: VRS DAUGAVPILS PĀRVALDES KAPLAVAS ROBEŽAPSARDZĪBAS NODAĻA | D10: vecākais inspektors | E10: 27722 | F10: 0.2 | G10: 1225 | H10: 48.67 | I10: =ROUND(G10/166.33,3) -> 7.365 | J10: =ROUND(I10*H10*F10,2) -> 71.69 | K10: =ROUND(J10*0.2359,2) -> 16.91 | L10: =J10+K10 -> 88.6
A11: 4 | B11: VRS DAUGAVPILS PĀRVALDE | C11: VRS DAUGAVPILS PĀRVALDES KAPLAVAS ROBEŽAPSARDZĪBAS NODAĻA | D11: vecākais inspektors | E11: 27722 | F11: 0.5 | G11: 1225 | H11: 5.33 | I11: =ROUND(G11/166.33,3) -> 7.365 | J11: =ROUND(I11*H11*F11,2) -> 19.63 | K11: =ROUND(J11*0.2359,2) -> 4.63 | L11: =J11+K11 -> 24.26
A12: 5 | B12: VRS DAUGAVPILS PĀRVALDE | C12: VRS DAUGAVPILS PĀRVALDES ROBEŽNIEKU ROBEŽAPSARDZĪBAS NODAĻA | D12: jaunākais inspektors | E12: 37214 | F12: 0.2 | G12: 960 | H12: 55 | I12: =ROUND(G12/166.33,3) -> 5.772 | J12: =ROUND(I12*H12*F12,2) -> 63.49 | K12: =ROUND(J12*0.2359,2) -> 14.98 | L12: =J12+K12 -> 78.47
A13: 6 | B13: VRS DAUGAVPILS PĀRVALDE | C13: VRS DAUGAVPILS PĀRVALDES ŠĶAUNES ROBEŽAPSARDZĪBAS NODAĻA | D13: inspektors | E13: 17289 | F13: 0.2 | G13: 1120 | H13: 11 | I13: =ROUND(G13/166.33,3) -> 6.734 | J13: =ROUND(I13*H13*F13,2) -> 14.81 | K13: =ROUND(J13*0.2359,2) -> 3.49 | L13: =J13+K13 -> 18.3
A14: 7 | B14: VRS LUDZAS PĀRVALDE | C14: VRS LUDZAS PĀRVALDES ZILUPES I KATEGORIJAS DZ RKP | D14: inspektors | E14: 28916 | F14: 0.2 | G14: 1060 | H14: 33 | I14: =ROUND(G14/166.33,3) -> 6.373 | J14: =ROUND(I14*H14*F14,2) -> 42.06 | K14: =ROUND(J14*0.2359,2) -> 9.92 | L14: =J14+K14 -> 51.98
A15: 8 | B15: VRS DAUGAVPILS PĀRVALDE | C15: VRS DAUGAVPILS PĀRVALDES ŠĶAUNES ROBEŽAPSARDZĪBAS NODAĻA | D15: inspektors (kinologs) | E15: 36338 | F15: 0.2 | G15: 1135 | H15: 40.5 | I15: =ROUND(G15/166.33,3) -> 6.824 | J15: =ROUND(I15*H15*F15,2) -> 55.27 | K15: =ROUND(J15*0.2359,2) -> 13.04 | L15: =J15+K15 -> 68.31
A16: 9 | B16: VRS DAUGAVPILS PĀRVALDE | C16: VRS DAUGAVPILS PĀRVALDES ŠĶAUNES ROBEŽAPSARDZĪBAS NODAĻA | D16: inspektors (kinologs) | E16: 36338 | F16: 0.5 | G16: 1135 | H16: 3.83 | I16: =ROUND(G16/166.33,3) -> 6.824 | J16: =ROUND(I16*H16*F16,2) -> 13.07 | K16: =ROUND(J16*0.2359,2) -> 3.08 | L16: =J16+K16 -> 16.15
A17: 10 | B17: VRS DAUGAVPILS PĀRVALDE | C17: VRS DAUGAVPILS PĀRVALDES SILENES ROBEŽAPSARDZĪBAS NODAĻA | D17: inspektors (kinologs) | E17: 16896 | F17: 0.2 | G17: 1215 | H17: 44.25 | I17: =ROUND(G17/166.33,3) -> 7.305 | J17: =ROUND(I17*H17*F17,2) -> 64.65 | K17: =ROUND(J17*0.2359,2) -> 15.25 | L17: =J17+K17 -> 79.9
A18: 11 | B18: VRS DAUGAVPILS PĀRVALDE | C18: VRS DAUGAVPILS PĀRVALDES SILENES ROBEŽAPSARDZĪBAS NODAĻA | D18: vecākais inspektors (robežuzraudzības tehnisko līdzekļu jomā) | E18: 16768 | F18: 0.2 | G18: 1265 | H18: 64.25 | I18: =ROUND(G18/166.33,3) -> 7.605 | J18: =ROUND(I18*H18*F18,2) -> 97.72 | K18: =ROUND(J18*0.2359,2) -> 23.05 | L18: =J18+K18 -> 120.77
A19: 12 | B19: VRS DAUGAVPILS PĀRVALDE | C19: VRS DAUGAVPILS PĀRVALDES SILENES ROBEŽAPSARDZĪBAS NODAĻA | D19: vecākais inspektors (robežuzraudzības tehnisko līdzekļu jomā) | E19: 16768 | F19: 0.5 | G19: 1265 | H19: 0.75 | I19: =ROUND(G19/166.33,3) -> 7.605 | J19: =ROUND(I19*H19*F19,2) -> 2.85 | K19: =ROUND(J19*0.2359,2) -> 0.67 | L19: =J19+K19 -> 3.52
... A264: 257 | B264: VRS DAUGAVPILS PĀRVALDE | C264: VRS DAUGAVPILS PĀRVALDES DAUGAVPILS I KATEGORIJAS DIENESTS | D264: vecākais inspektors | E264: 27173 | F264: 0.2 | G264: 1250 | H264: 10.92 | I264: =ROUND(G264/166.33,3) -> 7.515 | J264: =ROUND(I264*H264*F264,2) -> 16.41 | K264: =ROUND(J264*0.2359,2) -> 3.87 | L264: =J264+K264 -> 20.28

Sheet 3.tabula 
L1: 3.tabula
B2: Valsts robežsardze
A4: Piemaksa par darbu paaugstināta riska un slodzes apstākļos amatpersonām laika periodā no 2023.gada 11.augusta līdz 31.augustam
A6: Nr. | B6: Pārvalde | C6: Struktūrvienība | D6: Amats | E6: Tabeles Nr. | F6: Piemaksas apmērs | G6: Mēneš-alga | H6: Iesaistes stundas | I6: Stundas likme | J6: Piemaksas apmērs 50%, 20% vai 10% no stundas likmes (EKK1145) | K6: VSAOI 23,59% (EKK1210) | L6: Atlīdzība (EKK1000)
H7: =SUM(H8:H416) -> 21675.48 | J7: =SUM(J8:J416) -> 34832.18 | K7: =SUM(K8:K416) -> 8216.95 | L7: =SUM(L8:L416) -> 43049.13
A8: 1 | B8: VRS DAUGAVPILS PĀRVALDE | C8: VRS DAUGAVPILS PĀRVALDES SILENES ROBEŽAPSARDZĪBAS NODAĻA | D8: inspektors | E8: 20157 | F8: 0.2 | G8: 1080 | H8: 77 | I8: =ROUND(G8/166.33,3) -> 6.493 | J8: =ROUND(I8*H8*F8,2) -> 99.99 | K8: =ROUND(J8*0.2359,2) -> 23.59 | L8: =J8+K8 -> 123.58
A9: 2 | B9: VRS DAUGAVPILS PĀRVALDE | C9: VRS DAUGAVPILS PĀRVALDES SILENES ROBEŽAPSARDZĪBAS NODAĻA | D9: jaunākais inspektors | E9: 36320 | F9: 0.2 | G9: 960 | H9: 119.5 | I9: =ROUND(G9/166.33,3) -> 5.772 | J9: =ROUND(I9*H9*F9,2) -> 137.95 | K9: =ROUND(J9*0.2359,2) -> 32.54 | L9: =J9+K9 -> 170.49
A10: 3 | B10: VRS DAUGAVPILS PĀRVALDE | C10: VRS DAUGAVPILS PĀRVALDES SILENES ROBEŽAPSARDZĪBAS NODAĻA | D10: jaunākais inspektors | E10: 36320 | F10: 0.5 | G10: 960 | H10: 1.42 | I10: =ROUND(G10/166.33,3) -> 5.772 | J10: =ROUND(I10*H10*F10,2) -> 4.1 | K10: =ROUND(J10*0.2359,2) -> 0.97 | L10: =J10+K10 -> 5.07
A11: 4 | B11: VRS RĪGAS PĀRVALDE | C11: VRS RĪGAS PĀRVALDES ATGRIEŠANAS UN PATVĒRUMA MEKLĒTĀJU DIENESTS | D11: vecākais inspektors | E11: 34340 | F11: 0.1 | G11: 1250 | H11: 0.9 | I11: =ROUND(G11/166.33,3) -> 7.515 | J11: =ROUND(I11*H11*F11,2) -> 0.68 | K11: =ROUND(J11*0.2359,2) -> 0.16 | L11: =J11+K11 -> 0.84
A12: 5 | B12: VRS DAUGAVPILS PĀRVALDE | C12: VRS DAUGAVPILS PĀRVALDES KAPLAVAS ROBEŽAPSARDZĪBAS NODAĻA | D12: vecākais inspektors | E12: 27722 | F12: 0.2 | G12: 1225 | H12: 120.17 | I12: =ROUND(G12/166.33,3) -> 7.365 | J12: =ROUND(I12*H12*F12,2) -> 177.01 | K12: =ROUND(J12*0.2359,2) -> 41.76 | L12: =J12+K12 -> 218.77
A13: 6 | B13: VRS DAUGAVPILS PĀRVALDE | C13: VRS DAUGAVPILS PĀRVALDES KAPLAVAS ROBEŽAPSARDZĪBAS NODAĻA | D13: vecākais inspektors | E13: 27722 | F13: 0.5 | G13: 1225 | H13: 0.83 | I13: =ROUND(G13/166.33,3) -> 7.365 | J13: =ROUND(I13*H13*F13,2) -> 3.06 | K13: =ROUND(J13*0.2359,2) -> 0.72 | L13: =J13+K13 -> 3.78
A14: 7 | B14: VRS DAUGAVPILS PĀRVALDE | C14: VRS DAUGAVPILS PĀRVALDES ROBEŽNIEKU ROBEŽAPSARDZĪBAS NODAĻA | D14: jaunākais inspektors | E14: 38801 | F14: 0.2 | G14: 960 | H14: 31 | I14: =ROUND(G14/166.33,3) -> 5.772 | J14: =ROUND(I14*H14*F14,2) -> 35.79 | K14: =ROUND(J14*0.2359,2) -> 8.44 | L14: =J14+K14 -> 44.23
A15: 8 | B15: VRS DAUGAVPILS PĀRVALDE | C15: VRS DAUGAVPILS PĀRVALDES ROBEŽNIEKU ROBEŽAPSARDZĪBAS NODAĻA | D15: jaunākais inspektors | E15: 37214 | F15: 0.2 | G15: 960 | H15: 101 | I15: =ROUND(G15/166.33,3) -> 5.772 | J15: =ROUND(I15*H15*F15,2) -> 116.59 | K15: =ROUND(J15*0.2359,2) -> 27.5 | L15: =J15+K15 -> 144.09
A16: 9 | B16: VRS DAUGAVPILS PĀRVALDE | C16: VRS DAUGAVPILS PĀRVALDES ROBEŽNIEKU ROBEŽAPSARDZĪBAS NODAĻA | D16: jaunākais inspektors | E16: 37214 | F16: 0.5 | G16: 960 | H16: 10 | I16: =ROUND(G16/166.33,3) -> 5.772 | J16: =ROUND(I16*H16*F16,2) -> 28.86 | K16: =ROUND(J16*0.2359,2) -> 6.81 | L16: =J16+K16 -> 35.67
A17: 10 | B17: VRS DAUGAVPILS PĀRVALDE | C17: VRS DAUGAVPILS PĀRVALDES ROBEŽNIEKU ROBEŽAPSARDZĪBAS NODAĻA | D17: jaunākais inspektors | E17: 37214 | F17: 0.2 | G17: 960 | H17: 14 | I17: =ROUND(G17/166.33,3) -> 5.772 | J17: =ROUND(I17*H17*F17,2) -> 16.16 | K17: =ROUND(J17*0.2359,2) -> 3.81 | L17: =J17+K17 -> 19.97
A18: 11 | B18: VRS DAUGAVPILS PĀRVALDE | C18: VRS DAUGAVPILS PĀRVALDES ŠĶAUNES ROBEŽAPSARDZĪBAS NODAĻA | D18: inspektors | E18: 17289 | F18: 0.2 | G18: 1120 | H18: 33 | I18: =ROUND(G18/166.33,3) -> 6.734 | J18: =ROUND(I18*H18*F18,2) -> 44.44 | K18: =ROUND(J18*0.2359,2) -> 10.48 | L18: =J18+K18 -> 54.92
A19: 12 | B19: VRS LUDZAS PĀRVALDE | C19: VRS LUDZAS PĀRVALDES ZILUPES I KATEGORIJAS DZ RKP | D19: inspektors | E19: 28916 | F19: 0.2 | G19: 1060 | H19: 44 | I19: =ROUND(G19/166.33,3) -> 6.373 | J19: =ROUND(I19*H19*F19,2) -> 56.08 | K19: =ROUND(J19*0.2359,2) -> 13.23 | L19: =J19+K19 -> 69.31
... A416: 409 | B416: VRS DAUGAVPILS PĀRVALDE | C416: VRS DAUGAVPILS PĀRVALDES DAUGAVPILS I KATEGORIJAS DIENESTS | D416: vecākais inspektors | E416: 27173 | F416: 0.2 | G416: 1250 | H416: 4.83 | I416: =ROUND(G416/166.33,3) -> 7.515 | J416: =ROUND(I416*H416*F416,2) -> 7.26 | K416: =ROUND(J416*0.2359,2) -> 1.71 | L416: =J416+K416 -> 8.97

Sheet 4.tabula
L1: 4.tabula
A3: Piemaksas par nozīmīgu ieguldījumu attiecīgās institūcijas stratēģisko mērķu sasniegšanā amatpersonām ar speciālajām dienesta pakāpēm laika periodā no 2023.gada 1.augusta līdz 10.augustam
A5: Nr. p.k. | B5: Pārvalde | C5: Struktūrvienība | D5: Amats | E5: Tabeles Nr. | F5: Piemaksas apmērs | G5: Mēneš-alga | H5: Iesaistes stundas | I5: Stundas likme | J5: Mērķa piemaksa (EKK1149) | K5: VSAOI 23,59% | L5: Atlīdzība (EKK1000)
H6: =SUM(H7:H25) -> 984 | J6: =SUM(J7:J25) -> 2045.33 | K6: =SUM(K7:K25) -> 482.5 | L6: =SUM(L7:L25) -> 2527.83
A7: 1 | B7: VRS RĪGAS PĀRVALDE | C7: VRS RĪGAS PĀRVALDES ATGRIEŠANAS UN PATVĒRUMA MEKLĒTĀJU DIENESTS | D7: galvenais inspektors | E7: 17743 | F7: 0.17 | G7: 1385 | H7: 56 | I7: =ROUND(G7/184,3) -> 7.527 | J7: =ROUND(I7*H7*F7,2) -> 71.66 | K7: =ROUND(J7*0.2359,2) -> 16.9 | L7: =J7+K7 -> 88.56
A8: 2 | B8: VRS RĪGAS PĀRVALDE | C8: VRS RĪGAS PĀRVALDES ATGRIEŠANAS UN PATVĒRUMA MEKLĒTĀJU DIENESTS | D8: galvenais inspektors | E8: 20158 | F8: 0.16 | G8: 1345 | H8: 64 | I8: =ROUND(G8/184,3) -> 7.31 | J8: =ROUND(I8*H8*F8,2) -> 74.85 | K8: =ROUND(J8*0.2359,2) -> 17.66 | L8: =J8+K8 -> 92.51
A9: 3 | B9: VRS DAUGAVPILS PĀRVALDE | C9: VRS DAUGAVPILS PĀRVALDES ROBEŽKONTROLES UN IMIGRĀCIJAS KONTROLES DIENESTS (RIKD) | D9: dienesta priekšnieks | E9: 16955 | F9: 0.3 | G9: 1995 | H9: 64 | I9: =ROUND(G9/184,3) -> 10.842 | J9: =ROUND(I9*H9*F9,2) -> 208.17 | K9: =ROUND(J9*0.2359,2) -> 49.11 | L9: =J9+K9 -> 257.28
A10: 4 | B10: VRS AVIĀCIJAS PĀRVALDE | C10: VRS AVIĀCIJAS UN SPECIĀLO OPERĀCIJU PĀRVALDE (VADĪBA) | D10: pārvaldes priekšnieks | E10: 20717 | F10: 0.3 | G10: 2900 | H10: 64 | I10: =ROUND(G10/184,3) -> 15.761 | J10: =ROUND(I10*H10*F10,2) -> 302.61 | K10: =ROUND(J10*0.2359,2) -> 71.39 | L10: =J10+K10 -> 374
A11: 5 | B11: VRS DAUGAVPILS PĀRVALDE | C11: VRS DAUGAVPILS PĀRVALDE (VADĪBA) | D11: pārvaldes priekšnieka vietnieks (robežkontroles un imigrācijas jautājumos) | E11: 19642 | F11: 0.1 | G11: 2420 | H11: 64 | I11: =ROUND(G11/184,3) -> 13.152 | J11: =ROUND(I11*H11*F11,2) -> 84.17 | K11: =ROUND(J11*0.2359,2) -> 19.86 | L11: =J11+K11 -> 104.03
A12: 6 | B12: VRS AVIĀCIJAS PĀRVALDE | C12: VRS AVIĀCIJAS UN SPECIĀLO OPERĀCIJU PĀRVALDES SOD "SIGMA" TAKTISKĀ ATBALSTA NODAĻA | D12: galvenais inspektors | E12: 17172 | F12: 0.06 | G12: 1870 | H12: 64 | I12: =ROUND(G12/184,3) -> 10.163 | J12: =ROUND(I12*H12*F12,2) -> 39.03 | K12: =ROUND(J12*0.2359,2) -> 9.21 | L12: =J12+K12 -> 48.24
A13: 7 | B13: VRS RĪGAS PĀRVALDE | C13: VRS RĪGAS PĀRVALDES ATGRIEŠANAS UN PATVĒRUMA MEKLĒTĀJU DIENESTS | D13: galvenais inspektors | E13: 20596 | F13: 0.22 | G13: 1365 | H13: 64 | I13: =ROUND(G13/184,3) -> 7.418 | J13: =ROUND(I13*H13*F13,2) -> 104.45 | K13: =ROUND(J13*0.2359,2) -> 24.64 | L13: =J13+K13 -> 129.09
A14: 8 | B14: VRS RĪGAS PĀRVALDE | C14: VRS RĪGAS PĀRVALDES ATGRIEŠANAS UN PATVĒRUMA MEKLĒTĀJU DIENESTS | D14: galvenais inspektors | E14: 19268 | F14: 0.1 | G14: 1345 | H14: 32 | I14: =ROUND(G14/184,3) -> 7.31 | J14: =ROUND(I14*H14*F14,2) -> 23.39 | K14: =ROUND(J14*0.2359,2) -> 5.52 | L14: =J14+K14 -> 28.91
A15: 9 | B15: VRS RĪGAS PĀRVALDE | C15: VRS RĪGAS PĀRVALDES ATGRIEŠANAS UN PATVĒRUMA MEKLĒTĀJU DIENESTS | D15: galvenais inspektors | E15: 18659 | F15: 0.16 | G15: 1385 | H15: 32 | I15: =ROUND(G15/184,3) -> 7.527 | J15: =ROUND(I15*H15*F15,2) -> 38.54 | K15: =ROUND(J15*0.2359,2) -> 9.09 | L15: =J15+K15 -> 47.63
A16: 10 | B16: VRS DAUGAVPILS PĀRVALDE | C16: VRS DAUGAVPILS PĀRVALDES KRID OPERATĪVĀS DARBĪBAS NODAĻA | D16: nodaļas priekšnieks | E16: 20303 | F16: 0.1 | G16: 2185 | H16: 32 | I16: =ROUND(G16/184,3) -> 11.875 | J16: =ROUND(I16*H16*F16,2) -> 38 | K16: =ROUND(J16*0.2359,2) -> 8.96 | L16: =J16+K16 -> 46.96
A17: 11 | B17: VRS DAUGAVPILS PĀRVALDE | C17: VRS DAUGAVPILS PĀRVALDES KRID OPERATĪVĀS DARBĪBAS NODAĻA | D17: nodaļas priekšnieks | E17: 20303 | F17: 0.23 | G17: 2185 | H17: 32 | I17: =ROUND(G17/184,3) -> 11.875 | J17: =ROUND(I17*H17*F17,2) -> 87.4 | K17: =ROUND(J17*0.2359,2) -> 20.62 | L17: =J17+K17 -> 108.02
A18: 12 | B18: VRS AVIĀCIJAS PĀRVALDE | C18: VRS AVIĀCIJAS UN SPECIĀLO OPERĀCIJU PĀRVALDES SPECIĀLO OPERĀCIJU DIENESTS "SIGMA" | D18: dienesta priekšnieka vietnieks (Pirmās taktiskās nodaļas priekšnieks) | E18: 17481 | F18: 0.3 | G18: 2180 | H18: 32 | I18: =ROUND(G18/184,3) -> 11.848 | J18: =ROUND(I18*H18*F18,2) -> 113.74 | K18: =ROUND(J18*0.2359,2) -> 26.83 | L18: =J18+K18 -> 140.57
... A25: 19 | B25: VRS RĪGAS PĀRVALDE | C25: VRS RĪGAS PĀRVALDES ATGRIEŠANAS UN PATVĒRUMA MEKLĒTĀJU DIENESTS | D25: galvenais inspektors | E25: 20557 | F25: 0.19 | G25: 1365 | H25: 32 | I25: =ROUND(G25/184,3) -> 7.418 | J25: =ROUND(I25*H25*F25,2) -> 45.1 | K25: =ROUND(J25*0.2359,2) -> 10.64 | L25: =J25+K25 -> 55.74

Sheet 5.tabula
L1: 5.tabula
A3: Piemaksas par nozīmīgu ieguldījumu attiecīgās institūcijas stratēģisko mērķu sasniegšanā amatpersonām ar speciālajām dienesta pakāpēm laika periodā no 2023.gada 11.augusta līdz 31.augustam
A5: Nr. p.k. | B5: Pārvalde | C5: Struktūrvienība | D5: Amats | E5: Tabeles Nr. | F5: Piemaksas apmērs | G5: Mēneš-alga | H5: Iesaistes stundas | I5: Stundas likme | J5: Mērķa piemaksa (EKK1149) | K5: VSAOI 23,59% | L5: Atlīdzība (EKK1000)
H6: =SUM(H7:H74) -> 7264 | J6: =SUM(J7:J74) -> 11625.97 | K6: =SUM(K7:K74) -> 2742.53 | L6: =SUM(L7:L74) -> 14368.5
A7: 1 | B7: VRS DAUGAVPILS PĀRVALDE | C7: VRS DAP DAUGAVPILS I KAT.DIEN. AIZTURĒTO ĀRZEMNIEKU IZMITINĀŠANAS CENTRS "DAUGAVPILS" | D7: inspektors | E7: 17036 | F7: 0.15 | G7: 1200 | H7: 120 | I7: =ROUND(G7/184,3) -> 6.522 | J7: =ROUND(I7*H7*F7,2) -> 117.4 | K7: =ROUND(J7*0.2359,2) -> 27.69 | L7: =J7+K7 -> 145.09
A8: 2 | B8: VRS DAUGAVPILS PĀRVALDE | C8: VRS DAP DAUGAVPILS I KAT.DIEN. AIZTURĒTO ĀRZEMNIEKU IZMITINĀŠANAS CENTRS "DAUGAVPILS" | D8: inspektors | E8: 17632 | F8: 0.15 | G8: 1200 | H8: 120 | I8: =ROUND(G8/184,3) -> 6.522 | J8: =ROUND(I8*H8*F8,2) -> 117.4 | K8: =ROUND(J8*0.2359,2) -> 27.69 | L8: =J8+K8 -> 145.09
A9: 3 | B9: VRS RĪGAS PĀRVALDE | C9: VRS RĪGAS PĀRVALDES ATGRIEŠANAS UN PATVĒRUMA MEKLĒTĀJU DIENESTS | D9: galvenais inspektors | E9: 17743 | F9: 0.16 | G9: 1385 | H9: 32 | I9: =ROUND(G9/184,3) -> 7.527 | J9: =ROUND(I9*H9*F9,2) -> 38.54 | K9: =ROUND(J9*0.2359,2) -> 9.09 | L9: =J9+K9 -> 47.63
A10: 4 | B10: VRS DAUGAVPILS PĀRVALDE | C10: VRS DAP DAUGAVPILS I KAT.DIEN. AIZTURĒTO ĀRZEMNIEKU IZMITINĀŠANAS CENTRS "DAUGAVPILS" | D10: inspektors | E10: 17098 | F10: 0.15 | G10: 1180 | H10: 120 | I10: =ROUND(G10/184,3) -> 6.413 | J10: =ROUND(I10*H10*F10,2) -> 115.43 | K10: =ROUND(J10*0.2359,2) -> 27.23 | L10: =J10+K10 -> 142.66
A11: 5 | B11: VRS DAUGAVPILS PĀRVALDE | C11: VRS DAP DAUGAVPILS I KAT.DIEN. AIZTURĒTO ĀRZEMNIEKU IZMITINĀŠANAS CENTRS "DAUGAVPILS" | D11: inspektors | E11: 16769 | F11: 0.15 | G11: 1180 | H11: 120 | I11: =ROUND(G11/184,3) -> 6.413 | J11: =ROUND(I11*H11*F11,2) -> 115.43 | K11: =ROUND(J11*0.2359,2) -> 27.23 | L11: =J11+K11 -> 142.66
A12: 6 | B12: VRS DAUGAVPILS PĀRVALDE | C12: VRS DAP DAUGAVPILS I KAT.DIEN. AIZTURĒTO ĀRZEMNIEKU IZMITINĀŠANAS CENTRS "DAUGAVPILS" | D12: inspektors | E12: 27155 | F12: 0.15 | G12: 1160 | H12: 120 | I12: =ROUND(G12/184,3) -> 6.304 | J12: =ROUND(I12*H12*F12,2) -> 113.47 | K12: =ROUND(J12*0.2359,2) -> 26.77 | L12: =J12+K12 -> 140.24
A13: 7 | B13: VRS DAUGAVPILS PĀRVALDE | C13: VRS DAP DAUGAVPILS I KAT.DIEN. AIZTURĒTO ĀRZEMNIEKU IZMITINĀŠANAS CENTRS "DAUGAVPILS" | D13: galvenais inspektors | E13: 19775 | F13: 0.3 | G13: 1390 | H13: 120 | I13: =ROUND(G13/184,3) -> 7.554 | J13: =ROUND(I13*H13*F13,2) -> 271.94 | K13: =ROUND(J13*0.2359,2) -> 64.15 | L13: =J13+K13 -> 336.09
A14: 8 | B14: VRS DAUGAVPILS PĀRVALDE | C14: VRS DAP DAUGAVPILS I KAT.DIEN. AIZTURĒTO ĀRZEMNIEKU IZMITINĀŠANAS CENTRS "DAUGAVPILS" | D14: inspektors | E14: 28437 | F14: 0.15 | G14: 1140 | H14: 120 | I14: =ROUND(G14/184,3) -> 6.196 | J14: =ROUND(I14*H14*F14,2) -> 111.53 | K14: =ROUND(J14*0.2359,2) -> 26.31 | L14: =J14+K14 -> 137.84
A15: 9 | B15: VRS RĪGAS PĀRVALDE | C15: VRS RĪGAS PĀRVALDES ATGRIEŠANAS UN PATVĒRUMA MEKLĒTĀJU DIENESTS | D15: galvenais inspektors | E15: 20158 | F15: 0.17 | G15: 1345 | H15: 48 | I15: =ROUND(G15/184,3) -> 7.31 | J15: =ROUND(I15*H15*F15,2) -> 59.65 | K15: =ROUND(J15*0.2359,2) -> 14.07 | L15: =J15+K15 -> 73.72
A16: 10 | B16: VRS DAUGAVPILS PĀRVALDE | C16: VRS DAP DAUGAVPILS I KAT.DIEN. AIZTURĒTO ĀRZEMNIEKU IZMITINĀŠANAS CENTRS "DAUGAVPILS" | D16: inspektors | E16: 17501 | F16: 0.15 | G16: 1200 | H16: 120 | I16: =ROUND(G16/184,3) -> 6.522 | J16: =ROUND(I16*H16*F16,2) -> 117.4 | K16: =ROUND(J16*0.2359,2) -> 27.69 | L16: =J16+K16 -> 145.09
A17: 11 | B17: VRS DAUGAVPILS PĀRVALDE | C17: VRS DAP DAUGAVPILS I KAT.DIEN. AIZTURĒTO ĀRZEMNIEKU IZMITINĀŠANAS CENTRS "DAUGAVPILS" | D17: galvenais inspektors | E17: 17281 | F17: 0.05 | G17: 1390 | H17: 120 | I17: =ROUND(G17/184,3) -> 7.554 | J17: =ROUND(I17*H17*F17,2) -> 45.32 | K17: =ROUND(J17*0.2359,2) -> 10.69 | L17: =J17+K17 -> 56.01
A18: 12 | B18: VRS DAUGAVPILS PĀRVALDE | C18: VRS DAP DAUGAVPILS I KAT.DIEN. AIZTURĒTO ĀRZEMNIEKU IZMITINĀŠANAS CENTRS "DAUGAVPILS" | D18: inspektors | E18: 17115 | F18: 0.15 | G18: 1180 | H18: 120 | I18: =ROUND(G18/184,3) -> 6.413 | J18: =ROUND(I18*H18*F18,2) -> 115.43 | K18: =ROUND(J18*0.2359,2) -> 27.23 | L18: =J18+K18 -> 142.66
... A74: 68 | B74: VRS DAUGAVPILS PĀRVALDE | C74: VRS DAUGAVPILS PĀRVALDES DAUGAVPILS I KATEGORIJAS DIENESTS | D74: vecākais inspektors | E74: 27173 | F74: 0.2 | G74: 1250 | H74: 120 | I74: =ROUND(G74/184,3) -> 6.793 | J74: =ROUND(I74*H74*F74,2) -> 163.03 | K74: =ROUND(J74*0.2359,2) -> 38.46 | L74: =J74+K74 -> 201.49

Sheet 6.tabula 
L1: 6.tabula
A3: Precizējums_Piemaksas par nozīmīgu ieguldījumu attiecīgās institūcijas stratēģisko mērķu sasniegšanā amatpersonām ar speciālajām dienesta pakāpēm laika periodā no 2023.gada 1.jūlija līdz 31.jūlijam
A5: Nr. p.k. | B5: Pārvalde | C5: Struktūrvienība | D5: Amats | E5: Tabeles Nr. | F5: Piemaksas apmērs | G5: Mēneš-alga | H5: Iesaistes stundas | I5: Stundas likme | J5: Mērķa piemaksa (EKK1149) | K5: VSAOI 23,59% | L5: Atlīdzība (EKK1000)
H6: =SUM(H7:H13) -> 696 | J6: =SUM(J7:J13) -> 955.99 | K6: =SUM(K7:K13) -> 225.52 | L6: =SUM(L7:L13) -> 1181.51
A7: 1 | B7: VRS RĪGAS PĀRVALDE | C7: VRS RĪGAS PĀRVALDES ATGRIEŠANAS UN PATVĒRUMA MEKLĒTĀJU DIENESTS | D7: galvenais inspektors | E7: 17743 | F7: 0.11 | G7: 1385 | H7: 96 | I7: =ROUND(G7/160,3) -> 8.656 | J7: =ROUND(I7*H7*F7,2) -> 91.41 | K7: =ROUND(J7*0.2359,2) -> 21.56 | L7: =J7+K7 -> 112.97
A8: 2 | B8: VRS RĪGAS PĀRVALDE | C8: VRS RĪGAS PĀRVALDES ATGRIEŠANAS UN PATVĒRUMA MEKLĒTĀJU DIENESTS | D8: galvenais inspektors | E8: 20158 | F8: 0.21 | G8: 1345 | H8: 160 | I8: =ROUND(G8/160,3) -> 8.406 | J8: =ROUND(I8*H8*F8,2) -> 282.44 | K8: =ROUND(J8*0.2359,2) -> 66.63 | L8: =J8+K8 -> 349.07
A9: 3 | B9: VRS RĪGAS PĀRVALDE | C9: VRS RĪGAS PĀRVALDES ATGRIEŠANAS UN PATVĒRUMA MEKLĒTĀJU DIENESTS | D9: galvenais inspektors | E9: 20596 | F9: 0.09 | G9: 1365 | H9: 32 | I9: =ROUND(G9/160,3) -> 8.531 | J9: =ROUND(I9*H9*F9,2) -> 24.57 | K9: =ROUND(J9*0.2359,2) -> 5.8 | L9: =J9+K9 -> 30.37
A10: 4 | B10: VRS RĪGAS PĀRVALDE | C10: VRS RĪGAS PĀRVALDES ATGRIEŠANAS UN PATVĒRUMA MEKLĒTĀJU DIENESTS | D10: galvenais inspektors | E10: 19268 | F10: 0.07 | G10: 1345 | H10: 40 | I10: =ROUND(G10/160,3) -> 8.406 | J10: =ROUND(I10*H10*F10,2) -> 23.54 | K10: =ROUND(J10*0.2359,2) -> 5.55 | L10: =J10+K10 -> 29.09
A11: 5 | B11: VRS RĪGAS PĀRVALDE | C11: VRS RĪGAS PĀRVALDES ATGRIEŠANAS UN PATVĒRUMA MEKLĒTĀJU DIENESTS | D11: galvenais inspektors | E11: 20847 | F11: 0.18 | G11: 1385 | H11: 136 | I11: =ROUND(G11/160,3) -> 8.656 | J11: =ROUND(I11*H11*F11,2) -> 211.9 | K11: =ROUND(J11*0.2359,2) -> 49.99 | L11: =J11+K11 -> 261.89
A12: 6 | B12: VRS RĪGAS PĀRVALDE | C12: VRS RĪGAS PĀRVALDES ATGRIEŠANAS UN PATVĒRUMA MEKLĒTĀJU DIENESTS | D12: galvenais inspektors | E12: 17277 | F12: 0.2 | G12: 1365 | H12: 160 | I12: =ROUND(G12/160,3) -> 8.531 | J12: =ROUND(I12*H12*F12,2) -> 272.99 | K12: =ROUND(J12*0.2359,2) -> 64.4 | L12: =J12+K12 -> 337.39
A13: 7 | B13: VRS RĪGAS PĀRVALDE | C13: VRS RĪGAS PĀRVALDES ATGRIEŠANAS UN PATVĒRUMA MEKLĒTĀJU DIENESTS | D13: galvenais inspektors | E13: 20557 | F13: 0.08 | G13: 1365 | H13: 72 | I13: =ROUND(G13/160,3) -> 8.531 | J13: =ROUND(I13*H13*F13,2) -> 49.14 | K13: =ROUND(J13*0.2359,2) -> 11.59 | L13: =J13+K13 -> 60.73
