Workbook
Name _1_2_d_NMP_lim: #REF!
Name _1_2_d_NMP_lim: #REF!
Name aa: #REF!
Name aa: #REF!
Name b: #REF!
Name b: #REF!
Name bt: #REF!
Name bt: #REF!
Name BX: #REF!
Name BX: #REF!
Name CalendarYear: #REF!
Name CalendarYear: #REF!
Name ccc: #REF!
Name ccc: #REF!
Name d: #REF!
Name d: #REF!
Name D_Evija3: #REF!
Name D_Evija3: #REF!
Name DaysAndWeeks: {0,1,2,3,4,5,6} + {0;1;2;3;4;5}*7
Name DaysAndWeeks: {0,1,2,3,4,5,6} + {0;1;2;3;4;5}*7
Name de: #REF!
Name de: #REF!
Name dff: #NAME?
Name DRGNAMES: #REF!
Name DRGNAMES: #REF!
Name e: #REF!
Name e: #REF!
Name ee: #REF!
Name ee: #REF!
Name Excel_BuiltIn__FilterDatabase_2: #REF!
Name Excel_BuiltIn__FilterDatabase_2: #REF!
Name Excel_BuiltIn__FilterDatabase_3: #REF!
Name Excel_BuiltIn__FilterDatabase_3: #REF!
Name Excel_BuiltIn_Print_Titles_2: #REF!
Name Excel_BuiltIn_Print_Titles_2: #REF!
Name Excel_BuiltIn_Print_Titles_3: #REF!
Name Excel_BuiltIn_Print_Titles_3: #REF!
Name gad_skaits: #REF!
Name gad_skaits: #REF!
Name gad_skaits_1: #REF!
Name gad_skaits_1: #REF!
Name gala: {0,1,2,3,4,5,6} + {0;1;2;3;4;5}*7
Name Gala_kopsavilkums: #REF!
Name gggg: #REF!
Name gggg: #REF!
Name ghy: #REF!
Name ghy: #REF!
Name h: #REF!
Name h: #REF!
Name hh: #REF!
Name hh: #REF!
Name hjh: #REF!
Name hjh: #REF!
Name hyh: #REF!
Name hyh: #REF!
Name i: #REF!
Name i: #REF!
Name izm.kods: #REF!
Name izm.kods: #REF!
Name izm.kods_1: [2]izm.posteni!$A$2:$A$216

Sheet 1.Kopsavilkums
G1: 1. pielikums
A2: Papildus nepieciešamais finansējums veselības aprūpes pakalpojumu nepārtrauktības nodrošināšanai 2025. gadā
A3: Pasākums | B3: Pakalpojumu pieejamība | C3: Aprēķina pamatojums | D3: Periods | E3: Papildus plānotais pakalpojumu/pacientu/GD skaits | F3: Papildus plānotais pakalpojumu/pacientu/GD (mērvienība) | G3: Papildus nepieciešamais finansējums 2025.gadā, euro
A4: Neatliekamās medicīniskās palīdzības pārstrādes segšana | B4: Esošais pakalpojumu apjoms | C4: Balstīts uz 2025. gada I-VI faktiskajiem izdevumiem | D4: 2025. gada janvāris- jūnijs | E4: 2322 | F4: pacientu skaits | G4: ='1.1.NEATLIEKAMA'!P84 -> 3185322
A5: Pārstrādes apjoma segšana plānveida programmā un pakalpojumu nodrošināšanu līdz gada beigām | B5: Esošais pakalpojumu apjoms | C5: Balstīts uz 2025. gada I-VIII faktiskajiem izdevumiem | D5: 2025. gada janvāris-decembris | E5: ='1.2.DRG'!Q7 -> 789 | F5: pacientu skaits | G5: ='1.2.DRG'!U7 -> 1657869.8
A6: Papildus nepieciešams finansējums virs līguma apjoma veikto pakalpojumu apmaksai | B6: Esošais pakalpojumu apjoms | C6: Balstīts uz 2025. gada I-VIII faktiskajiem izdevumiem | D6: 2025. gada janvāris- augusts | E6: ='1.3. RAKUS'!AF42 -> 190 | F6: pacientu skaits | G6: ='1.3. RAKUS'!AI42 -> 2692741
A7: Papildus nepieciešams finansējums virs līguma apjoma veikto pakalpojumu apmaksai | B7: Esošais pakalpojumu apjoms | C7: Balstīts uz 2025. gada I-VIII faktiskajiem izdevumiem | D7: 2025. gada janvāris- augusts | E7: ='1.4.PSKUS'!AF36 -> 203 | F7: pacientu skaits | G7: ='1.4.PSKUS'!AI36 -> 1443348
A8: KOPĀ: | G8: =SUM(G4:G7) -> 8979280.8

Sheet 1.1.NEATLIEKAMA
S1: 1.1. pielikums
B2: Papildus nepieciešamais finansējums neatliekamās medicīniskās palīdzības pārstrādes segšanai
A7: 2. Neatliekamās medicīniskās palīdzības pārstrādes segšana
L8: No iekšējām pārdalēm (6M pārplānošana)
A9: Ārstniecības iestāde | B9: Pakalpojumu programmas virssadaļa | C9: Pakalpojumu programmas sadaļa | D9: Pakalpojumu programmas nosaukums | E9: P/N | F9: 1. rīkojums 2025, pacientu skaits | G9: 1. rīkojums 2025 plānotais finansējums, EUR | H9: 6. rīkojums (rīkojums pirms 6 mēnešu pārplānošanas) plānotais finansējums, EUR | I9: Plānotais finansējums uz 2025.gada 6 mēnešiem, EUR | J9: Izpilde uz 2025. gada 6 mēnešiem, EUR | K9: Pārstrāde uz 2025. gada 6 mēnešiem Finansējums 33.17 (neatliekamie) | L9: 1.solis Obligāti sedzamās pozīcijas | M9: 2.solis Apro pārdale | N9: 3. solis Pašu ieņēmumi par 2025. gadu | O9: Papildus piešķirtais finansējums 6 mēnešu pārplānošanas rezultātā, EUR | P9: Papildus nepieciešamais finansējums 2025. gadam, EUR | Q9: 8. rīkojums plānotais finansējums, EUR | R9: Plānotais finansējums uz 2025.gada 8 mēnešiem, EUR | S9: Izpilde uz 2025. gada 8 mēnešiem, EUR
K10: 4434213 | L10: =SUM(L11:L83) -> 988625 | M10: =SUM(M11:M83) -> 20740 | N10: =SUM(N11:N83) -> 239526 | O10: =SUM(O11:O83) -> 1248891 | P10: =SUM(P11:P83) -> 3185322
A11: Bērnu klīniskā universitātes slimnīca | B11: 17. Prognozējamais valsts kompensētais pacientu līdzmaksājums | C11: 17.1. Prognozējamais valsts kompensētais pacientu līdzmaksājums - neatliekamais | D11: Prognozējamais valsts kompensētais pacientu līdzmaksājums - neatliekamais | E11: N | F11: 0 | G11: 523066 | H11: 523066 | I11: 261533 | J11: 278379 | K11: =J11-I11 -> 16846 | L11: 16846 | O11: =L11+M11+N11 -> 16846 | P11: =K11-O11 -> 0 | Q11: 539912 | R11: 359941 | S11: 365717
A12: Bērnu klīniskā universitātes slimnīca | B12: 19. Fiksētais maksājums par iezīmētajām pakalpojumu programmām | C12: 19. Fiksētais maksājums par iezīmētajām pakalpojumu programmām | D12: Stacionārā psihiatriskā palīdzība bērniem | E12: N | F12: 415 | G12: 1538704 | H12: 1538704 | I12: 771206 | J12: 986254 | K12: =J12-I12 -> 215048 | L12: 215048 | O12: =L12+M12+N12 -> 215048 | P12: =K12-O12 -> 0 | Q12: 1753752 | R12: 1167932 | S12: 1260625
A13: Paula Stradiņa klīniskā universitātes slimnīca | B13: 07. Maksājums pa pakalpojumu programmām | C13: 07. Maksājums pa pakalpojumu programmām | D13: Vēdera aortas endoprotezēšana | E13: N | F13: 19 | G13: 267488 | H13: 281566 | I13: 140783 | J13: 239331 | K13: =J13-I13 -> 98548 | O13: =L13+M13+N13 -> 0 | P13: =K13-O13 -> 98548 | Q13: 281566 | R13: 183018 | S13: 239331
A14: Paula Stradiņa klīniskā universitātes slimnīca | B14: 09. Piemaksājamās manipulācijas | C14: 09.02. Piemaksa par trombolīzēm | D14: Trombolīzes | E14: N | F14: 0 | G14: 146906 | H14: 146906 | I14: 73453 | J14: 75774 | K14: =J14-I14 -> 2321 | O14: =L14+M14+N14 -> 0 | P14: =K14-O14 -> 2321 | Q14: 146906 | R14: 97937 | S14: 96254
A15: Paula Stradiņa klīniskā universitātes slimnīca | B15: 09. Piemaksājamās manipulācijas | C15: 09.13. Piemaksa par endovaskulāru trombektomiju | D15: Endovaskulāra trombektomija no precerebrālām un cerebrālām artērijām; Piemaksa par atkārtotu etapu - Endovaskulāra trombektomija no precerebrālām un cerebrālām artērijām; Piemaksa par stenta ievietošanu - Endovaskulāra trombektomija no precerebrālām un cerebrālām artērijām | E15: N | F15: 0 | G15: 183861 | H15: 183861 | I15: 91931 | J15: 110795 | K15: =J15-I15 -> 18864 | M15: 18864 | O15: =L15+M15+N15 -> 18864 | P15: =K15-O15 -> 0 | Q15: 202725 | R15: 135150 | S15: 148807
A16: Paula Stradiņa klīniskā universitātes slimnīca | B16: 09. Piemaksājamās manipulācijas | C16: 09.23. Piemaksa par E.Coli diagnostiku | D16: E.Coli diagnostika | E16: N | F16: 0 | G16: 0 | H16: 0 | I16: 0 | J16: 257 | K16: =J16-I16 -> 257 | O16: =L16+M16+N16 -> 0 | P16: =K16-O16 -> 257 | Q16: 0 | R16: 0 | S16: 642
A17: Paula Stradiņa klīniskā universitātes slimnīca | B17: 09. Piemaksājamās manipulācijas | C17: 09.36. Piemaksa par ekstrakorporālu membrānu oksigenāciju (EKMO) | D17: EKMO | E17: N | F17: 0 | G17: 854374 | H17: 854374 | I17: 427187 | J17: 717411 | K17: =J17-I17 -> 290224 | N17: 216754 | O17: =L17+M17+N17 -> 216754 | P17: =K17-O17 -> 73470 | Q17: 1071128 | R17: 714085 | S17: 770931
A18: Paula Stradiņa klīniskā universitātes slimnīca | B18: 09. Piemaksājamās manipulācijas | C18: 09.57. Piemaksa par narkoloģiskā testa veilkšanu | D18: Narkoloģiskā testa veilkšana | E18: N | F18: 0 | G18: 0 | H18: 0 | I18: 0 | J18: 54 | K18: =J18-I18 -> 54 | O18: =L18+M18+N18 -> 0 | P18: =K18-O18 -> 54 | Q18: 0 | R18: 0 | S18: 54
A19: Paula Stradiņa klīniskā universitātes slimnīca | B19: 10.1. MK noteikumu Nr.555 7.pielikums (atbilstoši rēķiniem) | C19: 10.1. MK noteikumu Nr.555 7.pielikums (atbilstoši rēķiniem) | D19: Medicīniskās ierīces, lai nodrošinātu endovaskulāru trombektomiju no precerebrālām un cerebrālām artērijām (7.p.) PSKUS, RAKUS, DRS | E19: N | F19: 0 | G19: 986086 | H19: 986086 | I19: 493043 | J19: 511207 | K19: =J19-I19 -> 18164 | O19: =L19+M19+N19 -> 0 | P19: =K19-O19 -> 18164 | Q19: 986086 | R19: 657391 | S19: 719006
A20: Paula Stradiņa klīniskā universitātes slimnīca | B20: 11. Apmaksa par NovaSeven medikamentiem | C20: 11. Apmaksa par NovaSeven medikamentiem | D20: Apmaksa par NovaSeven medikamentiem | E20: N | F20: 0 | G20: 4226 | H20: 4226 | I20: 2113 | J20: 2237 | K20: =J20-I20 -> 124 | O20: =L20+M20+N20 -> 0 | P20: =K20-O20 -> 124 | Q20: 4226 | R20: 2817 | S20: 2631
A21: Paula Stradiņa klīniskā universitātes slimnīca | B21: 17. Prognozējamais valsts kompensētais pacientu līdzmaksājums | C21: 17.1. Prognozējamais valsts kompensētais pacientu līdzmaksājums - neatliekamais | D21: Prognozējamais valsts kompensētais pacientu līdzmaksājums - neatliekamais | E21: N | F21: 0 | G21: 812539 | H21: 819522 | I21: 409761 | J21: 456573 | K21: =J21-I21 -> 46812 | L21: 46812 | O21: =L21+M21+N21 -> 46812 | P21: =K21-O21 -> 0 | Q21: 866334 | R21: 577556 | S21: 598194
A22: Rīgas Austrumu klīniskā universitātes slimnīca | B22: 07. Maksājums pa pakalpojumu programmām | C22: 07. Maksājums pa pakalpojumu programmām | D22: Krūšu aortas endoprotezēšana | E22: N | F22: 5 | G22: 105306 | H22: 189551 | I22: 105306 | J22: 147429 | K22: =J22-I22 -> 42123 | O22: =L22+M22+N22 -> 0 | P22: =K22-O22 -> 42123 | Q22: 210612 | R22: 147429 | S22: 168490
A23: Rīgas Austrumu klīniskā universitātes slimnīca | B23: 07. Maksājums pa pakalpojumu programmām | C23: 07. Maksājums pa pakalpojumu programmām | D23: Mikroķirurģija pieaugušajiem | E23: N | F23: 1208 | G23: 3125410 | H23: 3125410 | I23: 1562705 | J23: 1585990 | K23: =J23-I23 -> 23285 | O23: =L23+M23+N23 -> 0 | P23: =K23-O23 -> 23285 | Q23: 3576381 | R23: 2082744 | S23: 2231864
A24: Rīgas Austrumu klīniskā universitātes slimnīca | B24: 07. Maksājums pa pakalpojumu programmām | C24: 07. Maksājums pa pakalpojumu programmām | D24: Neiroloģija (insulta vienība) | E24: N | F24: 1155 | G24: 2297976 | H24: 2297976 | I24: 1149983 | J24: 1157941 | K24: =J24-I24 -> 7958 | O24: =L24+M24+N24 -> 0 | P24: =K24-O24 -> 7958 | Q24: 2309914 | R24: 1539943 | S24: 1520047
A25: Rīgas Austrumu klīniskā universitātes slimnīca | B25: 07. Maksājums pa pakalpojumu programmām | C25: 07. Maksājums pa pakalpojumu programmām | D25: Vēdera aortas endoprotezēšana | E25: N | F25: 13 | G25: 183018 | H25: 197096 | I25: 98548 | J25: 239331 | K25: =J25-I25 -> 140783 | O25: =L25+M25+N25 -> 0 | P25: =K25-O25 -> 140783 | Q25: 225253 | R25: 154862 | S25: 351958
A26: Rīgas Austrumu klīniskā universitātes slimnīca | B26: 09. Piemaksājamās manipulācijas | C26: 09.09. Piemaksa par rehabilitācija psihiatriskā profila pacientiem | D26: Rehabilitācijas komandas darbs psihiatrijas iestādē | E26: N | F26: 0 | G26: 0 | H26: 0 | I26: 0 | J26: 68 | K26: =J26-I26 -> 68 | M26: 68 | O26: =L26+M26+N26 -> 68 | P26: =K26-O26 -> 0 | Q26: 87 | R26: 58 | S26: 68
A27: Rīgas Austrumu klīniskā universitātes slimnīca | B27: 09. Piemaksājamās manipulācijas | C27: 09.13. Piemaksa par endovaskulāru trombektomiju | D27: Endovaskulāra trombektomija no precerebrālām un cerebrālām artērijām; Piemaksa par atkārtotu etapu - Endovaskulāra trombektomija no precerebrālām un cerebrālām artērijām; Piemaksa par stenta ievietošanu - Endovaskulāra trombektomija no precerebrālām un cerebrālām artērijām | E27: N | F27: 0 | G27: 39980 | H27: 39980 | I27: 19990 | J27: 21798 | K27: =J27-I27 -> 1808 | M27: 1808 | O27: =L27+M27+N27 -> 1808 | P27: =K27-O27 -> 0 | Q27: 41788 | R27: 27859 | S27: 26693
A28: Rīgas Austrumu klīniskā universitātes slimnīca | B28: 09. Piemaksājamās manipulācijas | C28: 09.20. Piemaksa par IT gultu uzturēšanu | D28: Intensīvā terapija | E28: N | F28: 0 | G28: 14194256 | H28: 14194256 | I28: 7097128 | J28: 7577099 | K28: =J28-I28 -> 479971 | O28: =L28+M28+N28 -> 0 | P28: =K28-O28 -> 479971 | Q28: 14194256 | R28: 9462837 | S28: 9948003
A29: Rīgas Austrumu klīniskā universitātes slimnīca | B29: 09. Piemaksājamās manipulācijas | C29: 09.23. Piemaksa par E.Coli diagnostiku | D29: E.Coli diagnostika | E29: N | F29: 0 | G29: 0 | H29: 0 | I29: 0 | J29: 49726 | K29: =J29-I29 -> 49726 | O29: =L29+M29+N29 -> 0 | P29: =K29-O29 -> 49726 | Q29: 0 | R29: 0 | S29: 83390
A30: Rīgas Austrumu klīniskā universitātes slimnīca | B30: 09. Piemaksājamās manipulācijas | C30: 09.36. Piemaksa par ekstrakorporālu membrānu oksigenāciju (EKMO) | D30: EKMO | E30: N | F30: 0 | G30: 94771 | H30: 94771 | I30: 47386 | J30: 70158 | K30: =J30-I30 -> 22772 | N30: 22772 | O30: =L30+M30+N30 -> 22772 | P30: =K30-O30 -> 0 | Q30: 117543 | R30: 78362 | S30: 70158
A31: Rīgas Austrumu klīniskā universitātes slimnīca | B31: 09. Piemaksājamās manipulācijas | C31: 09.57. Piemaksa par narkoloģiskā testa veilkšanu | D31: Narkoloģiskā testa veilkšana | E31: N | F31: 0 | G31: 0 | H31: 0 | I31: 0 | J31: 758 | K31: =J31-I31 -> 758 | O31: =L31+M31+N31 -> 0 | P31: =K31-O31 -> 758 | Q31: 0 | R31: 0 | S31: 1408
A32: Rīgas Austrumu klīniskā universitātes slimnīca | B32: 10.1. MK noteikumu Nr.555 7.pielikums (atbilstoši rēķiniem) | C32: 10.1. MK noteikumu Nr.555 7.pielikums (atbilstoši rēķiniem) | D32: Medicīniskās ierīces, lai nodrošinātu endovaskulāru trombektomiju no precerebrālām un cerebrālām artērijām (7.p.) PSKUS, RAKUS, DRS | E32: N | F32: 0 | G32: 104272 | H32: 104272 | I32: 52136 | J32: 84326 | K32: =J32-I32 -> 32190 | O32: =L32+M32+N32 -> 0 | P32: =K32-O32 -> 32190 | Q32: 104272 | R32: 69515 | S32: 102334
A33: Rīgas Austrumu klīniskā universitātes slimnīca | B33: 17. Prognozējamais valsts kompensētais pacientu līdzmaksājums | C33: 17.1. Prognozējamais valsts kompensētais pacientu līdzmaksājums - neatliekamais | D33: Prognozējamais valsts kompensētais pacientu līdzmaksājums - neatliekamais | E33: N | F33: 0 | G33: 1290479 | H33: 1294975 | I33: 647488 | J33: 742703 | K33: =J33-I33 -> 95215 | L33: 95215 | O33: =L33+M33+N33 -> 95215 | P33: =K33-O33 -> 0 | Q33: 1388347 | R33: 925565 | S33: 971624
A34: Daugavpils reģionālā slimnīca | B34: 07. Maksājums pa pakalpojumu programmām | C34: 07. Maksājums pa pakalpojumu programmām | D34: Narkoloģija | E34: N | F34: 783 | G34: 516177 | H34: 516177 | I34: 258418 | J34: 371806 | K34: =J34-I34 -> 113388 | O34: =L34+M34+N34 -> 0 | P34: =K34-O34 -> 113388 | Q34: 516177 | R34: 344118 | S34: 527384
A35: Daugavpils reģionālā slimnīca | B35: 10.1. MK noteikumu Nr.555 7.pielikums (atbilstoši rēķiniem) | C35: 10.1. MK noteikumu Nr.555 7.pielikums (atbilstoši rēķiniem) | D35: Medicīniskās ierīces, lai nodrošinātu endovaskulāru trombektomiju no precerebrālām un cerebrālām artērijām (7.p.) PSKUS, RAKUS, DRS | E35: N | F35: 0 | G35: 152346 | H35: 152346 | I35: 76173 | J35: 81589 | K35: =J35-I35+183 -> 5599 | O35: =L35+M35+N35 -> 0 | P35: =K35-O35 -> 5599 | Q35: 152346 | R35: 101564 | S35: 154815
A36: Daugavpils reģionālā slimnīca | B36: 17. Prognozējamais valsts kompensētais pacientu līdzmaksājums | C36: 17.1. Prognozējamais valsts kompensētais pacientu līdzmaksājums - neatliekamais | D36: Prognozējamais valsts kompensētais pacientu līdzmaksājums - neatliekamais | E36: N | F36: 0 | G36: 479054 | H36: 479054 | I36: 239527 | J36: 264284 | K36: =J36-I36 -> 24757 | L36: 24757 | O36: =L36+M36+N36 -> 24757 | P36: =K36-O36 -> 0 | Q36: 503811 | R36: 335874 | S36: 356114
A37: Jelgavas pilsētas slimnīca | B37: 01. DRG fiksētais maksājums | C37: 01.01. DRG fiksētais maksājums - neatliekamais | D37: DRG fiksētais maksājums - neatliekamais | E37: N | F37: 9714 | G37: 9028248 | H37: 9028248 | I37: 4514124 | J37: 4535501 | K37: =J37-I37 -> 21377 | O37: =L37+M37+N37 -> 0 | P37: =K37-O37 -> 21377 | Q37: 9028248 | R37: 6018832 | S37: 6026267
A38: Jelgavas pilsētas slimnīca | B38: 17. Prognozējamais valsts kompensētais pacientu līdzmaksājums | C38: 17.1. Prognozējamais valsts kompensētais pacientu līdzmaksājums - neatliekamais | D38: Prognozējamais valsts kompensētais pacientu līdzmaksājums - neatliekamais | E38: N | F38: 0 | G38: 321305 | H38: 321305 | I38: 160653 | J38: 183964 | K38: =J38-I38 -> 23311 | L38: 23311 | O38: =L38+M38+N38 -> 23311 | P38: =K38-O38 -> 0 | Q38: 344616 | R38: 229744 | S38: 240003
A39: Jēkabpils reģionālā slimnīca | B39: 01. DRG fiksētais maksājums | C39: 01.01. DRG fiksētais maksājums - neatliekamais | D39: DRG fiksētais maksājums - neatliekamais | E39: N | F39: 6395 | G39: 6204474 | H39: 6204474 | I39: 3102722 | J39: 3322959 | K39: =J39-I39 -> 220237 | O39: =L39+M39+N39 -> 0 | P39: =K39-O39 -> 220237 | Q39: 6204474 | R39: 4135993 | S39: 4442578
A40: Jēkabpils reģionālā slimnīca | B40: 07. Maksājums pa pakalpojumu programmām | C40: 07. Maksājums pa pakalpojumu programmām | D40: Neiroloģija (insulta vienība) | E40: N | F40: 303 | G40: 602846 | H40: 602846 | I40: 302418 | J40: 358126 | K40: =J40-I40 -> 55708 | O40: =L40+M40+N40 -> 0 | P40: =K40-O40 -> 55708 | Q40: 602846 | R40: 401897 | S40: 473522
A41: Jēkabpils reģionālā slimnīca | B41: 17. Prognozējamais valsts kompensētais pacientu līdzmaksājums | C41: 17.1. Prognozējamais valsts kompensētais pacientu līdzmaksājums - neatliekamais | D41: Prognozējamais valsts kompensētais pacientu līdzmaksājums - neatliekamais | E41: N | F41: 0 | G41: 259086 | H41: 259086 | I41: 129543 | J41: 149685 | K41: =J41-I41 -> 20142 | L41: 20142 | O41: =L41+M41+N41 -> 20142 | P41: =K41-O41 -> 0 | Q41: 279228 | R41: 186152 | S41: 196116
A42: Liepājas reģionālā slimnīca | B42: 01. DRG fiksētais maksājums | C42: 01.01. DRG fiksētais maksājums - neatliekamais | D42: DRG fiksētais maksājums - neatliekamais | E42: N | F42: 7717 | G42: 9234984 | H42: 9234984 | I42: 4618090 | J42: 4850251 | K42: =J42-I42 -> 232161 | O42: =L42+M42+N42 -> 0 | P42: =K42-O42 -> 232161 | Q42: 9234984 | R42: 6157055 | S42: 6329381
A43: Liepājas reģionālā slimnīca | B43: 17. Prognozējamais valsts kompensētais pacientu līdzmaksājums | C43: 17.1. Prognozējamais valsts kompensētais pacientu līdzmaksājums - neatliekamais | D43: Prognozējamais valsts kompensētais pacientu līdzmaksājums - neatliekamais | E43: N | F43: 0 | G43: 352517 | H43: 353662 | I43: 176831 | J43: 191049 | K43: =J43-I43 -> 14218 | L43: 14218 | O43: =L43+M43+N43 -> 14218 | P43: =K43-O43 -> 0 | Q43: 367880 | R43: 245253 | S43: 241470
A44: Vidzemes slimnīca | B44: 17. Prognozējamais valsts kompensētais pacientu līdzmaksājums | C44: 17.1. Prognozējamais valsts kompensētais pacientu līdzmaksājums - neatliekamais | D44: Prognozējamais valsts kompensētais pacientu līdzmaksājums - neatliekamais | E44: N | F44: 0 | G44: 337784 | H44: 337784 | I44: 168892 | J44: 186652 | K44: =J44-I44 -> 17760 | L44: 17760 | O44: =L44+M44+N44 -> 17760 | P44: =K44-O44 -> 0 | Q44: 355544 | R44: 237029 | S44: 249358
A45: Ziemeļkurzemes reģionālā slimnīca | B45: 17. Prognozējamais valsts kompensētais pacientu līdzmaksājums | C45: 17.1. Prognozējamais valsts kompensētais pacientu līdzmaksājums - neatliekamais | D45: Prognozējamais valsts kompensētais pacientu līdzmaksājums - neatliekamais | E45: N | F45: 0 | G45: 218002 | H45: 218002 | I45: 109001 | J45: 123633 | K45: =J45-I45 -> 14632 | L45: 14632 | O45: =L45+M45+N45 -> 14632 | P45: =K45-O45 -> 0 | Q45: 232634 | R45: 155089 | S45: 163490
A46: Balvu un Gulbenes slimnīcu apvienība | B46: 01. DRG fiksētais maksājums | C46: 01.01. DRG fiksētais maksājums - neatliekamais | D46: DRG fiksētais maksājums - neatliekamais | E46: N | F46: 2656 | G46: 2218074 | H46: 2218074 | I46: 1109037 | J46: 1149123 | K46: =J46-I46 -> 40086 | O46: =L46+M46+N46 -> 0 | P46: =K46-O46 -> 40086 | Q46: 2218074 | R46: 1478994 | S46: 1505718
A47: Balvu un Gulbenes slimnīcu apvienība | B47: 17. Prognozējamais valsts kompensētais pacientu līdzmaksājums | C47: 17.1. Prognozējamais valsts kompensētais pacientu līdzmaksājums - neatliekamais | D47: Prognozējamais valsts kompensētais pacientu līdzmaksājums - neatliekamais | E47: N | F47: 0 | G47: 112991 | H47: 112991 | I47: 56496 | J47: 69670 | K47: =J47-I47 -> 13174 | L47: 13174 | O47: =L47+M47+N47 -> 13174 | P47: =K47-O47 -> 0 | Q47: 126165 | R47: 84110 | S47: 90276
A48: Cēsu klīnika | B48: 17. Prognozējamais valsts kompensētais pacientu līdzmaksājums | C48: 17.1. Prognozējamais valsts kompensētais pacientu līdzmaksājums - neatliekamais | D48: Prognozējamais valsts kompensētais pacientu līdzmaksājums - neatliekamais | E48: N | F48: 0 | G48: 98423 | H48: 98423 | I48: 49212 | J48: 56527 | K48: =J48-I48 -> 7315 | L48: 7315 | O48: =L48+M48+N48 -> 7315 | P48: =K48-O48 -> 0 | Q48: 105738 | R48: 70492 | S48: 73714
A49: Dobeles un apkārtnes slimnīca | B49: 12. Ilgstošā mākslīgā plaušu ventilācija, aprūpe | C49: 12. Ilgstošā mākslīgā plaušu ventilācija, aprūpe | D49: Ilgstošā mākslīgā plaušu ventilācija, aprūpe | E49: N | F49: 0 | G49: 0 | H49: 4991 | I49: 2496 | J49: 7170 | K49: =J49-I49 -> 4674 | L49: 4674 | O49: =L49+M49+N49 -> 4674 | P49: =K49-O49 -> 0 | Q49: 9665 | R49: 6443 | S49: 7170
A50: Jūrmalas slimnīca | B50: 17. Prognozējamais valsts kompensētais pacientu līdzmaksājums | C50: 17.1. Prognozējamais valsts kompensētais pacientu līdzmaksājums - neatliekamais | D50: Prognozējamais valsts kompensētais pacientu līdzmaksājums - neatliekamais | E50: N | F50: 0 | G50: 115348 | H50: 115348 | I50: 57674 | J50: 63366 | K50: =J50-I50 -> 5692 | L50: 5692 | O50: =L50+M50+N50 -> 5692 | P50: =K50-O50 -> 0 | Q50: 121040 | R50: 80693 | S50: 84634
A51: Krāslavas slimnīca | B51: 01. DRG fiksētais maksājums | C51: 01.01. DRG fiksētais maksājums - neatliekamais | D51: DRG fiksētais maksājums - neatliekamais | E51: N | F51: 1399 | G51: 1205653 | H51: 1205653 | I51: 603257 | J51: 739421 | K51: =J51-I51 -> 136164 | O51: =L51+M51+N51 -> 0 | P51: =K51-O51 -> 136164 | Q51: 1205653 | R51: 804056 | S51: 863520
A52: Krāslavas slimnīca | B52: 17. Prognozējamais valsts kompensētais pacientu līdzmaksājums | C52: 17.1. Prognozējamais valsts kompensētais pacientu līdzmaksājums - neatliekamais | D52: Prognozējamais valsts kompensētais pacientu līdzmaksājums - neatliekamais | E52: N | F52: 0 | G52: 35638 | H52: 35638 | I52: 17819 | J52: 21601 | K52: =J52-I52 -> 3782 | L52: 3782 | O52: =L52+M52+N52 -> 3782 | P52: =K52-O52 -> 0 | Q52: 39420 | R52: 26280 | S52: 25109
A53: Kuldīgas slimnīca | B53: 01. DRG fiksētais maksājums | C53: 01.01. DRG fiksētais maksājums - neatliekamais | D53: DRG fiksētais maksājums - neatliekamais | E53: N | F53: 3223 | G53: 2879567 | H53: 2879567 | I53: 1440230 | J53: 1694862 | K53: =J53-I53 -> 254632 | O53: =L53+M53+N53 -> 0 | P53: =K53-O53 -> 254632 | Q53: 2879567 | R53: 1920009 | S53: 2300616
A54: Kuldīgas slimnīca | B54: 17. Prognozējamais valsts kompensētais pacientu līdzmaksājums | C54: 17.1. Prognozējamais valsts kompensētais pacientu līdzmaksājums - neatliekamais | D54: Prognozējamais valsts kompensētais pacientu līdzmaksājums - neatliekamais | E54: N | F54: 0 | G54: 121248 | H54: 121248 | I54: 60624 | J54: 63265 | K54: =J54-I54 -> 2641 | L54: 2641 | O54: =L54+M54+N54 -> 2641 | P54: =K54-O54 -> 0 | Q54: 123889 | R54: 82593 | S54: 85234
A55: Ogres rajona slimnīca | B55: 01. DRG fiksētais maksājums | C55: 01.01. DRG fiksētais maksājums - neatliekamais | D55: DRG fiksētais maksājums - neatliekamais | E55: N | F55: 5385 | G55: 5291466 | H55: 5291466 | I55: 2646224 | J55: 2826046 | K55: =J55-I55 -> 179822 | O55: =L55+M55+N55 -> 0 | P55: =K55-O55 -> 179822 | Q55: 5291466 | R55: 3527644 | S55: 3768388
A56: Ogres rajona slimnīca | B56: 17. Prognozējamais valsts kompensētais pacientu līdzmaksājums | C56: 17.1. Prognozējamais valsts kompensētais pacientu līdzmaksājums - neatliekamais | D56: Prognozējamais valsts kompensētais pacientu līdzmaksājums - neatliekamais | E56: N | F56: 0 | G56: 123241 | H56: 123241 | I56: 61621 | J56: 70623 | K56: =J56-I56 -> 9002 | L56: 9002 | O56: =L56+M56+N56 -> 9002 | P56: =K56-O56 -> 0 | Q56: 132243 | R56: 88162 | S56: 94457
A57: Preiļu slimnīca | B57: 01. DRG fiksētais maksājums | C57: 01.01. DRG fiksētais maksājums - neatliekamais | D57: DRG fiksētais maksājums - neatliekamais | E57: N | F57: 1291 | G57: 1110553 | H57: 1110553 | I57: 555706 | J57: 569470 | K57: =J57-I57 -> 13764 | O57: =L57+M57+N57 -> 0 | P57: =K57-O57 -> 13764 | Q57: 1110553 | R57: 740655 | S57: 742376
A58: Preiļu slimnīca | B58: 17. Prognozējamais valsts kompensētais pacientu līdzmaksājums | C58: 17.1. Prognozējamais valsts kompensētais pacientu līdzmaksājums - neatliekamais | D58: Prognozējamais valsts kompensētais pacientu līdzmaksājums - neatliekamais | E58: N | F58: 0 | G58: 41700 | H58: 41700 | I58: 20850 | J58: 26249 | K58: =J58-I58 -> 5399 | L58: 5399 | O58: =L58+M58+N58 -> 5399 | P58: =K58-O58 -> 0 | Q58: 47099 | R58: 31399 | S58: 34730
A59: Tukuma slimnīca | B59: 01. DRG fiksētais maksājums | C59: 01.01. DRG fiksētais maksājums - neatliekamais | D59: DRG fiksētais maksājums - neatliekamais | E59: N | F59: 2187 | G59: 2233097 | H59: 2233097 | I59: 1117059 | J59: 1223251 | K59: =J59-I59 -> 106192 | O59: =L59+M59+N59 -> 0 | P59: =K59-O59 -> 106192 | Q59: 2233097 | R59: 1488732 | S59: 1574502
A60: Tukuma slimnīca | B60: 17. Prognozējamais valsts kompensētais pacientu līdzmaksājums | C60: 17.1. Prognozējamais valsts kompensētais pacientu līdzmaksājums - neatliekamais | D60: Prognozējamais valsts kompensētais pacientu līdzmaksājums - neatliekamais | E60: N | F60: 0 | G60: 70279 | H60: 70279 | I60: 35140 | J60: 47012 | K60: =J60-I60 -> 11872 | L60: 11872 | O60: =L60+M60+N60 -> 11872 | P60: =K60-O60 -> 0 | Q60: 82151 | R60: 54767 | S60: 59220
A61: Daugavpils psihoneiroloģiskā slimnīca | B61: 07. Maksājums pa pakalpojumu programmām | C61: 07. Maksājums pa pakalpojumu programmām | D61: Psihiatriskā palīdzība bērniem | E61: N | F61: 209 | G61: 510501 | H61: 510501 | I61: 256472 | J61: 334635 | K61: =J61-I61 -> 78163 | O61: =L61+M61+N61 -> 0 | P61: =K61-O61 -> 78163 | Q61: 510501 | R61: 339520 | S61: 456764
A62: Daugavpils psihoneiroloģiskā slimnīca | B62: 07. Maksājums pa pakalpojumu programmām | C62: 07. Maksājums pa pakalpojumu programmām | D62: Psihiatriskā palīdzība, tai skaitā pēc tiesas lēmuma | E62: N | F62: 3496 | G62: 11067462 | H62: 11067462 | I62: 5533731 | J62: 5641367 | K62: =J62-I62 -> 107636 | O62: =L62+M62+N62 -> 0 | P62: =K62-O62 -> 107636 | Q62: 11067462 | R62: 7379363 | S62: 7607297
A63: Daugavpils psihoneiroloģiskā slimnīca | B63: 17. Prognozējamais valsts kompensētais pacientu līdzmaksājums | C63: 17.1. Prognozējamais valsts kompensētais pacientu līdzmaksājums - neatliekamais | D63: Prognozējamais valsts kompensētais pacientu līdzmaksājums - neatliekamais | E63: N | F63: 0 | G63: 965798 | H63: 965798 | I63: 482899 | J63: 511869 | K63: =J63-I63 -> 28970 | L63: 28970 | O63: =L63+M63+N63 -> 28970 | P63: =K63-O63 -> 0 | Q63: 994768 | R63: 663179 | S63: 687005
A64: Vaivari, nacionālais rehabilitācijas centrs | B64: 17. Prognozējamais valsts kompensētais pacientu līdzmaksājums | C64: 17.1. Prognozējamais valsts kompensētais pacientu līdzmaksājums - neatliekamais | D64: Prognozējamais valsts kompensētais pacientu līdzmaksājums - neatliekamais | E64: N | F64: 0 | G64: 54008 | H64: 54008 | I64: 27004 | J64: 27540 | K64: =J64-I64 -> 536 | L64: 536 | O64: =L64+M64+N64 -> 536 | P64: =K64-O64 -> 0 | Q64: 54544 | R64: 36363 | S64: 35450
A65: Piejūras slimnīca | B65: 07. Maksājums pa pakalpojumu programmām | C65: 07. Maksājums pa pakalpojumu programmām | D65: Psihiatriskā palīdzība, tai skaitā pēc tiesas lēmuma | E65: N | F65: 1055 | G65: 3339866 | H65: 3339866 | I65: 1671516 | J65: 1829804 | K65: =J65-I65 -> 158288 | O65: =L65+M65+N65 -> 0 | P65: =K65-O65 -> 158288 | Q65: 3339866 | R65: 2225522 | S65: 2421799
A66: Rīgas 2. slimnīca | B66: 17. Prognozējamais valsts kompensētais pacientu līdzmaksājums | C66: 17.1. Prognozējamais valsts kompensētais pacientu līdzmaksājums - neatliekamais | D66: Prognozējamais valsts kompensētais pacientu līdzmaksājums - neatliekamais | E66: N | F66: 0 | G66: 38018 | H66: 38018 | I66: 19009 | J66: 20742 | K66: =J66-I66 -> 1733 | L66: 1733 | O66: =L66+M66+N66 -> 1733 | P66: =K66-O66 -> 0 | Q66: 39751 | R66: 26501 | S66: 27292
A67: Nacionālais psihiskās veselības centrs | B67: 07. Maksājums pa pakalpojumu programmām | C67: 07. Maksājums pa pakalpojumu programmām | D67: Narkoloģija | E67: N | F67: 1067 | G67: 703398 | H67: 725154 | I67: 362577 | J67: 487830 | K67: =J67-I67 -> 125253 | O67: =L67+M67+N67 -> 0 | P67: =K67-O67 -> 125253 | Q67: 725154 | R67: 483216 | S67: 578804
A68: Nacionālais psihiskās veselības centrs | B68: 07. Maksājums pa pakalpojumu programmām | C68: 07. Maksājums pa pakalpojumu programmām | D68: Psihiatriskā palīdzība, tai skaitā pēc tiesas lēmuma | E68: N | F68: 4661 | G68: 14755561 | H68: 14755561 | I68: 7379363 | J68: 7673778 | K68: =J68-I68 -> 294415 | O68: =L68+M68+N68 -> 0 | P68: =K68-O68 -> 294415 | Q68: 14755561 | R68: 9835985 | S68: 10839528
A69: Nacionālais psihiskās veselības centrs | B69: 17. Prognozējamais valsts kompensētais pacientu līdzmaksājums | C69: 17.1. Prognozējamais valsts kompensētais pacientu līdzmaksājums - neatliekamais | D69: Prognozējamais valsts kompensētais pacientu līdzmaksājums - neatliekamais | E69: N | F69: 0 | G69: 1376194 | H69: 1376683 | I69: 688342 | J69: 702944 | K69: =J69-I69 -> 14602 | L69: 14602 | O69: =L69+M69+N69 -> 14602 | P69: =K69-O69 -> 0 | Q69: 1391285 | R69: 927523 | S69: 956963
A70: Slimnīca Ģintermuiža | B70: 07. Maksājums pa pakalpojumu programmām | C70: 07. Maksājums pa pakalpojumu programmām | D70: Narkoloģija | E70: N | F70: 509 | G70: 335548 | H70: 335548 | I70: 168104 | J70: 179311 | K70: =J70-I70 -> 11207 | O70: =L70+M70+N70 -> 0 | P70: =K70-O70 -> 11207 | Q70: 335548 | R70: 223479 | S70: 240619
A71: Slimnīca Ģintermuiža | B71: 07. Maksājums pa pakalpojumu programmām | C71: 07. Maksājums pa pakalpojumu programmām | D71: Psihiatriskā palīdzība, tai skaitā pēc tiesas lēmuma | E71: N | F71: 1999 | G71: 6328334 | H71: 6363157 | I71: 3181579 | J71: 3200573 | K71: =J71-I71 -> 18994 | O71: =L71+M71+N71 -> 0 | P71: =K71-O71 -> 18994 | Q71: 6363157 | R71: 4242105 | S71: 4264265
A72: Slimnīca Ģintermuiža | B72: 17. Prognozējamais valsts kompensētais pacientu līdzmaksājums | C72: 17.1. Prognozējamais valsts kompensētais pacientu līdzmaksājums - neatliekamais | D72: Prognozējamais valsts kompensētais pacientu līdzmaksājums - neatliekamais | E72: N | F72: 0 | G72: 643583 | H72: 645399 | I72: 322700 | J72: 324785 | K72: =J72-I72 -> 2085 | L72: 2085 | O72: =L72+M72+N72 -> 2085 | P72: =K72-O72 -> 0 | Q72: 647484 | R72: 431656 | S72: 434309
A73: Strenču psihoneiroloģiskā slimnīca | B73: 07. Maksājums pa pakalpojumu programmām | C73: 07. Maksājums pa pakalpojumu programmām | D73: Psihiatriskā palīdzība, tai skaitā pēc tiesas lēmuma | E73: N | F73: 2499 | G73: 7911209 | H73: 7930204 | I73: 3966685 | J73: 3973016 | K73: =J73-I73 -> 6331 | O73: =L73+M73+N73 -> 0 | P73: =K73-O73 -> 6331 | Q73: 7936536 | R73: 5289968 | S73: 5454587
A74: Strenču psihoneiroloģiskā slimnīca | B74: 07. Maksājums pa pakalpojumu programmām | C74: 07. Maksājums pa pakalpojumu programmām | D74: Tuberkuloze (psihiatrijas pacientiem) | E74: N | F74: 21 | G74: 253214 | H74: 253214 | I74: 132636 | J74: 168809 | K74: =J74-I74 -> 36173 | O74: =L74+M74+N74 -> 0 | P74: =K74-O74 -> 36173 | Q74: 253214 | R74: 168809 | S74: 192925
A75: Traumatoloģijas un ortopēdijas slimnīca | B75: 17. Prognozējamais valsts kompensētais pacientu līdzmaksājums | C75: 17.1. Prognozējamais valsts kompensētais pacientu līdzmaksājums - neatliekamais | D75: Prognozējamais valsts kompensētais pacientu līdzmaksājums - neatliekamais | E75: N | F75: 0 | G75: 69901 | H75: 69901 | I75: 34951 | J75: 40565 | K75: =J75-I75 -> 5614 | L75: 5614 | O75: =L75+M75+N75 -> 5614 | P75: =K75-O75 -> 0 | Q75: 75515 | R75: 50343 | S75: 53903
A76: Aizkraukles slimnīca | B76: 01. DRG fiksētais maksājums | C76: 01.01. DRG fiksētais maksājums - neatliekamais | D76: DRG fiksētais maksājums - neatliekamais | E76: N | F76: 33 | G76: 27822 | H76: 27822 | I76: 14333 | J76: 79251 | K76: =J76-I76 -> 64918 | L76: 64918 | O76: =L76+M76+N76 -> 64918 | P76: =K76-O76 -> 0 | Q76: 92740 | R76: 61546 | S76: 103701
A77: Aizkraukles slimnīca | B77: 17. Prognozējamais valsts kompensētais pacientu līdzmaksājums | C77: 17.1. Prognozējamais valsts kompensētais pacientu līdzmaksājums - neatliekamais | D77: Prognozējamais valsts kompensētais pacientu līdzmaksājums - neatliekamais | E77: N | F77: 0 | G77: 77 | H77: 77 | I77: 39 | J77: 1980 | K77: =J77-I77 -> 1941 | L77: 1941 | O77: =L77+M77+N77 -> 1941 | P77: =K77-O77 -> 0 | Q77: 2018 | R77: 1345 | S77: 2374
A78: Bauskas slimnīca | B78: 01. DRG fiksētais maksājums | C78: 01.01. DRG fiksētais maksājums - neatliekamais | D78: DRG fiksētais maksājums - neatliekamais | E78: N | F78: 46 | G78: 36496 | H78: 36496 | I78: 18248 | J78: 220566 | K78: =J78-I78 -> 202318 | L78: 202318 | O78: =L78+M78+N78 -> 202318 | P78: =K78-O78 -> 0 | Q78: 238814 | R78: 159474 | S78: 269757
A79: Bauskas slimnīca | B79: 17. Prognozējamais valsts kompensētais pacientu līdzmaksājums | C79: 17.1. Prognozējamais valsts kompensētais pacientu līdzmaksājums - neatliekamais | D79: Prognozējamais valsts kompensētais pacientu līdzmaksājums - neatliekamais | E79: N | F79: 0 | G79: 232 | H79: 232 | I79: 116 | J79: 13191 | K79: =J79-I79 -> 13075 | L79: 13075 | O79: =L79+M79+N79 -> 13075 | P79: =K79-O79 -> 0 | Q79: 13307 | R79: 8871 | S79: 15856
A80: Limbažu slimnīca | B80: 01. DRG fiksētais maksājums | C80: 01.01. DRG fiksētais maksājums - neatliekamais | D80: DRG fiksētais maksājums - neatliekamais | E80: N | F80: 0 | G80: 0 | H80: 0 | I80: 0 | J80: 67276 | K80: =J80-I80 -> 67276 | L80: 67276 | O80: =L80+M80+N80 -> 67276 | P80: =K80-O80 -> 0 | Q80: 67276 | R80: 45135 | S80: 97934
A81: Limbažu slimnīca | B81: 17. Prognozējamais valsts kompensētais pacientu līdzmaksājums | C81: 17.1. Prognozējamais valsts kompensētais pacientu līdzmaksājums - neatliekamais | D81: Prognozējamais valsts kompensētais pacientu līdzmaksājums - neatliekamais | E81: N | F81: 0 | G81: 0 | H81: 0 | I81: 0 | J81: 2189 | K81: =J81-I81 -> 2189 | L81: 2189 | O81: =L81+M81+N81 -> 2189 | P81: =K81-O81 -> 0 | Q81: 2189 | R81: 1459 | S81: 3359
A82: Sanare KRC Jaunķemeri | B82: 17. Prognozējamais valsts kompensētais pacientu līdzmaksājums | C82: 17.1. Prognozējamais valsts kompensētais pacientu līdzmaksājums - neatliekamais | D82: Prognozējamais valsts kompensētais pacientu līdzmaksājums - neatliekamais | E82: N | F82: 0 | G82: 193 | H82: 193 | I82: 97 | J82: 29640 | K82: =J82-I82 -> 29543 | L82: 29543 | O82: =L82+M82+N82 -> 29543 | P82: =K82-O82 -> 0 | Q82: 29736 | R82: 19824 | S82: 45810
A83: Līgatne, rehabilitācijas centrs | B83: 17. Prognozējamais valsts kompensētais pacientu līdzmaksājums | C83: 17.1. Prognozējamais valsts kompensētais pacientu līdzmaksājums - neatliekamais | D83: Prognozējamais valsts kompensētais pacientu līdzmaksājums - neatliekamais | E83: N | F83: 0 | G83: 0 | H83: 0 | I83: 0 | J83: 1533 | K83: =J83-I83 -> 1533 | L83: 1533 | O83: =L83+M83+N83 -> 1533 | P83: =K83-O83 -> 0 | Q83: 1533 | R83: 1022 | S83: 2481
E84: =SUM(E11:E83) -> 0 | F84: =SUM(F11:F83) -> 59463 | G84: =SUM(G11:G83) -> 118534234 | H84: =SUM(H11:H83) -> 118742129 | I84: =SUM(I11:I83) -> 59401918 | K84: =SUM(K11:K83) -> 4434213 | L84: =SUM(L11:L83) -> 988625 | M84: =SUM(M11:M83) -> 20740 | N84: =SUM(N11:N83) -> 239526 | O84: =SUM(O11:O83) -> 1248891 | P84: =SUM(P11:P83) -> 3185322 | Q84: =SUM(Q11:Q83) -> 120507655 | R84: =SUM(R11:R83) -> 80040838 | S84: =SUM(S11:S83) -> 85181173
A86: 33.17.00 Neatliekamās medicīniskās palīdzības nodrošināšana stacionārās ārstniecības iestādēs

Sheet 1.2.DRG
AA1: 1.2. pielikums
B2: Papildus nepieciešamais finansējums plānveida veselības aprūpes pakalpojumu nepārtrauktības nodrošināšanai stacionārā, kas pārsniedz līgumā ar VSIA “Paula Stradiņa klīniskā universitātes slimnīca iekļauto apjomu 2025. gadā
A5: 2. Plānveida veselības aprūpes pakalpojumu nepārtrauktības nodrošināšanu stacionārā, kas pārsniedz līgumā ar VSIA “Paula Stradiņa klīniskā universitātes slimnīca iekļauto apjomu 2025. gadā
A6: Ārstniecības iestādes kods | B6: Ārstniecības iestāde | C6: ar Diagnozēm saistīto grupu sistēmas bāzes tarifs* EUR 2025 | D6: CMI ** 2025 | E6: Prognozētais pacientu skaits 2025.g. ar Diagnozēm saistīto grupu sistēmā | F6: Finansējums uz 2025.gada 1.rīkojumu | G6: ar Diagnozēm saistīto grupu sistēmas bāzes tarifs* EUR (uz 6M pārplānošanu) | H6: CMI** (uz 6M pārplānošanu) | I6: Prognozētais pacientu skaits 2025.g. DRG | J6: Finansējums uz 2025.gada 8.rīkojumu (izmaiņas ar Diagnozēm saistīto grupu sistēmas bāzes tarifā* un CMI**) | K6: Plāns 8M 2025 pacientu skaits ar Diagnozēm saistīto grupu sistēmā | L6: Plāns 8M 2025 finansējums, EUR ar Diagnozēm saistīto grupu sistēmā | M6: Izpilde uz 8M 2025 pacientu skaits | N6: Izpilde uz 8M 2025 finansējums, EUR | O6: Faktiskā pacientu skaita pārstrāde 2025. gada 8 mēnešos | P6: Faktiskā finansējuma pārstrāde 2025. gada 8 mēnešos, EUR | Q6: Prognozētā pacientu skaita pārstrāde, balstoties uz 8 mēnešu izpildes prognozi, pacientu skaits | R6: Pārstrāde uz 12M 2025 finansējums, EUR | S6: ar Diagnozēm saistīto grupu sistēmas bāzes tarifs EUR | T6: CMI** | U6: Papildus nepieciešamais finansējums 2025. gadā, EUR
A7: 010011803 | B7: Paula Stradiņa klīniskā universitātes slimnīca | C7: 1353.18 | D7: 1.5278 | E7: 18608 | F7: =ROUND(C7*D7*E7,0) -> 38469963 | G7: 1375.33 | H7: 1.5278 | I7: 18608 | J7: =ROUND(I7*G7*H7,0) -> 39099672 | K7: =ROUND(I7/12*8,0) -> 12405 | L7: =ROUND(K7*G7*H7,0) -> 26065748 | M7: =12923+8 -> 12931 | N7: =ROUND(M7*H7*G7,0) -> 27170994 | O7: =M7-K7 -> 526 | P7: =N7-L7 -> 1105246 | Q7: =ROUND(O7/8*12,0) -> 789 | R7: =ROUND(Q7*S7*T7,0) -> 1657870 | S7: 1375.33 | T7: 1.5278 | U7: =N7/M7*Q7 -> 1657869.8
A9: 33.18.00 Plānveida stacionāro veselības aprūpes pakalpojumu nodrošināšana
A10: * Diagnostiski radniecīgo grupu bāzes tarifs- vidējās izmaksas valstī (kopējās izmaksas/ pacientu skaits)
A11: ** Ārstniecības iestādes veiktā darba indekss- summē iegūtās vērtības katrai iestādei (summētās vērtības katrai iestādei / iestādes kopējais DRG pacientu skaits)

Sheet 1.3. RAKUS
Q1: 1.3. pielikums
B2: Papildus nepieciešams finansējums virs līguma apjoma veikto pakalpojumu apmaksai SIA “Rīgas Austrumu klīniskā universitātes slimnīca”
A4: Ārstniecības iestāde | B4: Pakalpojuma programma | C4: Pakalpojuma programmas nosaukums | D4: Tarifs, EUR (N) | E4: Tarifs, EUR (P) | F4: Plāns gadam 1.rīkojums Pacientu skaits, kopā | G4: Plāns gadam 1.rīkojums Pacientu skaits, N | H4: Plāns gadam 1.rīkojums Pacientu skaits, P | I4: Plāns gadam 1.rīkojums Finansējums, EUR kopā | J4: Plāns gadam 1.rīkojums Finansējums, EUR N | K4: Plāns gadam 1.rīkojums Finansējums, EUR P | L4: Plāns gadam (8.rīkojums) Pacientu skaits, kopā | M4: Plāns gadam (8.rīkojums) Pacientu skaits, N | N4: Plāns gadam (8.rīkojums) Pacientu skaits, P | O4: Plāns gadam (8.rīkojums) Finansējums, EUR kopā | P4: Plāns gadam (8.rīkojums) Finansējums, EUR N | Q4: Plāns gadam (8.rīkojums) Finansējums, EUR P | R4: Plāns 8M Pacientu skaits, kopā | S4: Plāns 8M Pacientu skaits, N | T4: Plāns 8M Pacientu skaits, P | U4: Plāns 8M Finansējums, EUR kopā | V4: Plāns 8M Finansējums, EUR N | W4: Plāns 8M Finansējums, EUR P | X4: Faktiskā izpilde 8M Pacientu skaits, kopā | Y4: Faktiskā izpilde 8M Pacientu skaits, N | Z4: Faktiskā izpilde 8M Pacientu skaits, P | AA4: Faktiskā izpilde 8M Finansējums, EUR kopā | AB4: Faktiskā izpilde 8M Finansējums, EUR N | AC4: Faktiskā izpilde 8M Finansējums, EUR P | AD4: % Pacientu izpilde | AE4: % Finansējuma izpilde | AF4: Pacientu skaitu starpība 8/8 mēn | AG4: Finansējuma starpība 8/8 mēn, EUR | AH4: Pieprasīts ar LNG pieprasījumu (izdalīts no neatliekamās palīdzības pieprasījuma 1.1. pielikumā iekļautās infprmācijas) | AI4: Papildus nepieciešams finansējums 2025. gadam, EUR
A5: Rīgas Austrumu klīniskā universitātes slimnīca | B5: 07. Maksājums pa pakalpojumu programmām | C5: Ceļa locītavas endoprotezēšana | D5: 0 | E5: 3719.7 | F5: =G5+H5 -> 139 | G5: 0 | H5: 139 | I5: =J5+K5 -> 517038 | J5: 0 | K5: 517038 | L5: =M5+N5 -> 142 | M5: 0 | N5: 142 | O5: =P5+Q5 -> 528197 | P5: 0 | Q5: 528197 | R5: =S5+T5 -> 95 | S5: =ROUND(M5/12*8,0) -> 0 | T5: =ROUND(N5/12*8,0) -> 95 | U5: =V5+W5 -> 353372 | V5: =ROUND(S5*D5,0) -> 0 | W5: =ROUND(T5*E5,0) -> 353372 | X5: 126 | Y5: 0 | Z5: 126 | AA5: 468682 | AB5: 0 | AC5: 468682 | AD5: =X5/R5 -> 1.3263158 | AE5: =AA5/U5 -> 1.3263133 | AF5: =X5-R5 -> 31 | AG5: =AA5-U5 -> 115310 | AH5: 0 | AI5: =AG5-AH5 -> 115310
A6: Rīgas Austrumu klīniskā universitātes slimnīca | B6: 07. Maksājums pa pakalpojumu programmām | C6: Diennakts stacionārā sniedzamie otrā etapa medicīniskās rehabilitācijas pakalpojumi pieaugušajiem | D6: 0 | E6: 4048.34 | F6: =G6+H6 -> 315 | G6: 0 | H6: 315 | I6: =J6+K6 -> 1275227 | J6: 0 | K6: 1275227 | L6: =M6+N6 -> 315 | M6: 0 | N6: 315 | O6: =P6+Q6 -> 1275227 | P6: 0 | Q6: 1275227 | R6: =S6+T6 -> 210 | S6: =ROUND(M6/12*8,0) -> 0 | T6: =ROUND(N6/12*8,0) -> 210 | U6: =V6+W6 -> 850151 | V6: =ROUND(S6*D6,0) -> 0 | W6: =ROUND(T6*E6,0) -> 850151 | X6: 271 | Y6: 0 | Z6: 271 | AA6: 908322 | AB6: 0 | AC6: 908322 | AD6: =X6/R6 -> 1.2904762 | AE6: =AA6/U6 -> 1.0684243 | AF6: =X6-R6 -> 61 | AG6: =AA6-U6 -> 58171 | AH6: 0 | AI6: =AG6-AH6 -> 58171
A7: Rīgas Austrumu klīniskā universitātes slimnīca | B7: 07. Maksājums pa pakalpojumu programmām | C7: Gūžas locītavas endoprotezēšana ar bezcementa fiksācijas vai hibrīda tipa endoprotēzi | D7: 0 | E7: 3640.1 | F7: =G7+H7 -> 178 | G7: 0 | H7: 178 | I7: =J7+K7 -> 647938 | J7: 0 | K7: 647938 | L7: =M7+N7 -> 178 | M7: 0 | N7: 178 | O7: =P7+Q7 -> 647938 | P7: 0 | Q7: 647938 | R7: =S7+T7 -> 119 | S7: =ROUND(M7/12*8,0) -> 0 | T7: =ROUND(N7/12*8,0) -> 119 | U7: =V7+W7 -> 433172 | V7: =ROUND(S7*D7,0) -> 0 | W7: =ROUND(T7*E7,0) -> 433172 | X7: 130 | Y7: 0 | Z7: 130 | AA7: 473213 | AB7: 0 | AC7: 473213 | AD7: =X7/R7 -> 1.092437 | AE7: =AA7/U7 -> 1.0924367 | AF7: =X7-R7 -> 11 | AG7: =AA7-U7 -> 40041 | AH7: 0 | AI7: =AG7-AH7 -> 40041
A8: Rīgas Austrumu klīniskā universitātes slimnīca | B8: 07. Maksājums pa pakalpojumu programmām | C8: Gūžas locītavas endoprotezēšana ar cementējamu endoprotēzi | D8: 0 | E8: 2913.81 | F8: =G8+H8 -> 68 | G8: 0 | H8: 68 | I8: =J8+K8 -> 198139 | J8: 0 | K8: 198139 | L8: =M8+N8 -> 68 | M8: 0 | N8: 68 | O8: =P8+Q8 -> 198139 | P8: 0 | Q8: 198139 | R8: =S8+T8 -> 45 | S8: =ROUND(M8/12*8,0) -> 0 | T8: =ROUND(N8/12*8,0) -> 45 | U8: =V8+W8 -> 131121 | V8: =ROUND(S8*D8,0) -> 0 | W8: =ROUND(T8*E8,0) -> 131121 | X8: 52 | Y8: 0 | Z8: 52 | AA8: 151518 | AB8: 0 | AC8: 151518 | AD8: =X8/R8 -> 1.1555556 | AE8: =AA8/U8 -> 1.1555586 | AF8: =X8-R8 -> 7 | AG8: =AA8-U8 -> 20397 | AH8: 0 | AI8: =AG8-AH8 -> 20397
A9: Rīgas Austrumu klīniskā universitātes slimnīca | B9: 07. Maksājums pa pakalpojumu programmām | C9: Hronisko pacientu aprūpe ar ārstēšanās ilgumu līdz 14 gultasdienām | D9: 0 | E9: 749.25 | F9: =G9+H9 -> 8 | G9: 0 | H9: 8 | I9: =J9+K9 -> 5994 | J9: 0 | K9: 5994 | L9: =M9+N9 -> 10 | M9: 0 | N9: 10 | O9: =P9+Q9 -> 7493 | P9: 0 | Q9: 7493 | R9: =S9+T9 -> 7 | S9: =ROUND(M9/12*8,0) -> 0 | T9: =ROUND(N9/12*8,0) -> 7 | U9: =V9+W9 -> 5245 | V9: =ROUND(S9*D9,0) -> 0 | W9: =ROUND(T9*E9,0) -> 5245 | X9: 8 | Y9: 0 | Z9: 8 | AA9: 5994 | AB9: 0 | AC9: 5994 | AD9: =X9/R9 -> 1.1428571 | AE9: =AA9/U9 -> 1.1428027 | AF9: =X9-R9 -> 1 | AG9: =AA9-U9 -> 749 | AH9: 0 | AI9: =AG9-AH9 -> 749
A10: Rīgas Austrumu klīniskā universitātes slimnīca | B10: 07. Maksājums pa pakalpojumu programmām | C10: Izgulējumu, t.sk komplicētu ar osteomielītu mikroķirurģiskā ārstēšana | D10: 0 | E10: 22079.76 | F10: =G10+H10 -> 26 | G10: 0 | H10: 26 | I10: =J10+K10 -> 574074 | J10: 0 | K10: 574074 | L10: =M10+N10 -> 28 | M10: 0 | N10: 28 | O10: =P10+Q10 -> 618234 | P10: 0 | Q10: 618234 | R10: =S10+T10 -> 19 | S10: =ROUND(M10/12*8,0) -> 0 | T10: =ROUND(N10/12*8,0) -> 19 | U10: =V10+W10 -> 419515 | V10: =ROUND(S10*D10,0) -> 0 | W10: =ROUND(T10*E10,0) -> 419515 | X10: 22 | Y10: 0 | Z10: 22 | AA10: 485755 | AB10: 0 | AC10: 485755 | AD10: =X10/R10 -> 1.1578947 | AE10: =AA10/U10 -> 1.1578966 | AF10: =X10-R10 -> 3 | AG10: =AA10-U10 -> 66240 | AH10: 0 | AI10: =AG10-AH10 -> 66240
A11: Rīgas Austrumu klīniskā universitātes slimnīca | B11: 07. Maksājums pa pakalpojumu programmām | C11: Ķīmijterapija pieaugušajiem | D11: 0 | E11: 990.88 | F11: =G11+H11 -> 5651 | G11: 0 | H11: 5651 | I11: =J11+K11 -> 5599463 | J11: 0 | K11: 5599463 | L11: =M11+N11 -> 5852 | M11: 0 | N11: 5852 | O11: =P11+Q11 -> 5798630 | P11: 0 | Q11: 5798630 | R11: =S11+T11 -> 3901 | S11: =ROUND(M11/12*8,0) -> 0 | T11: =ROUND(N11/12*8,0) -> 3901 | U11: =V11+W11 -> 3865423 | V11: =ROUND(S11*D11,0) -> 0 | W11: =ROUND(T11*E11,0) -> 3865423 | X11: 3902 | Y11: 0 | Z11: 3902 | AA11: 3866414 | AB11: 0 | AC11: 3866414 | AD11: =X11/R11 -> 1.0002563 | AE11: =AA11/U11 -> 1.0002564 | AF11: =X11-R11 -> 1 | AG11: =AA11-U11 -> 991 | AH11: 0 | AI11: =AG11-AH11 -> 991
A12: Rīgas Austrumu klīniskā universitātes slimnīca | B12: 07. Maksājums pa pakalpojumu programmām | C12: Mikrodiskektomija, mikrofenestrācija | D12: 0 | E12: 2281.33 | F12: =G12+H12 -> 121 | G12: 0 | H12: 121 | I12: =J12+K12 -> 276041 | J12: 0 | K12: 276041 | L12: =M12+N12 -> 122 | M12: 0 | N12: 122 | O12: =P12+Q12 -> 277067 | P12: 0 | Q12: 277067 | R12: =S12+T12 -> 81 | S12: =ROUND(M12/12*8,0) -> 0 | T12: =ROUND(N12/12*8,0) -> 81 | U12: =V12+W12 -> 184711 | V12: =ROUND(P12/12*8,0) -> 0 | W12: =ROUND(Q12/12*8,0) -> 184711 | X12: 127 | Y12: 0 | Z12: 127 | AA12: 275715 | AB12: 0 | AC12: 275715 | AD12: =X12/R12 -> 1.5679012 | AE12: =AA12/U12 -> 1.4926832 | AF12: =X12-R12 -> 46 | AG12: =AA12-U12 -> 91004 | AH12: 0 | AI12: =AG12-AH12 -> 91004
A13: Rīgas Austrumu klīniskā universitātes slimnīca | B13: 07. Maksājums pa pakalpojumu programmām | C13: Mikroķirurģija pieaugušajiem | D13: 2587.26 | E13: 0 | F13: =G13+H13 -> 1208 | G13: 1208 | H13: 0 | I13: =J13+K13 -> 3125410 | J13: 3125410 | K13: 0 | L13: =M13+N13 -> 1208 | M13: 1208 | N13: 0 | O13: =P13+Q13 -> 3576381 | P13: 3576381 | Q13: 0 | R13: =S13+T13 -> 805 | S13: =ROUND(M13/12*8,0) -> 805 | T13: =ROUND(N13/12*8,0) -> 0 | U13: =V13+W13 -> 2082744 | V13: =ROUND(S13*D13,0) -> 2082744 | W13: =ROUND(T13*E13,0) -> 0 | X13: 813 | Y13: 813 | Z13: 0 | AA13: 2231864 | AB13: 2231864 | AC13: 0 | AD13: =X13/R13 -> 1.0099379 | AE13: =AA13/U13 -> 1.0715979 | AF13: =X13-R13 -> 8 | AG13: =AA13-U13 -> 149120 | AH13: 23285 | AI13: =AG13-AH13 -> 125835
A14: Rīgas Austrumu klīniskā universitātes slimnīca | B14: 07. Maksājums pa pakalpojumu programmām | C14: Nacionālsociālistiskajā režīmā cietušo personu rehabilitācija | D14: 0 | E14: 2373.95 | F14: =G14+H14 -> 12 | G14: 0 | H14: 12 | I14: =J14+K14 -> 28487 | J14: 0 | K14: 28487 | L14: =M14+N14 -> 12 | M14: 0 | N14: 12 | O14: =P14+Q14 -> 28487 | P14: 0 | Q14: 28487 | R14: =S14+T14 -> 8 | S14: =ROUND(M14/12*8,0) -> 0 | T14: =ROUND(N14/12*8,0) -> 8 | U14: =V14+W14 -> 18992 | V14: =ROUND(S14*D14,0) -> 0 | W14: =ROUND(T14*E14,0) -> 18992 | X14: 10 | Y14: 0 | Z14: 10 | AA14: 23740 | AB14: 0 | AC14: 23740 | AD14: =X14/R14 -> 1.25 | AE14: =AA14/U14 -> 1.25 | AF14: =X14-R14 -> 2 | AG14: =AA14-U14 -> 4748 | AH14: 0 | AI14: =AG14-AH14 -> 4748
A15: Rīgas Austrumu klīniskā universitātes slimnīca | B15: 07. Maksājums pa pakalpojumu programmām | C15: Pieaugušo apdegumu stacionārā ārstēšana | D15: 6836.55 | E15: 0 | F15: =G15+H15 -> 247 | G15: 247 | H15: 0 | I15: =J15+K15 -> 1688628 | J15: 1688628 | K15: 0 | L15: =M15+N15 -> 219 | M15: 219 | N15: 0 | O15: =P15+Q15 -> 1497204 | P15: 1497204 | Q15: 0 | R15: =S15+T15 -> 146 | S15: =ROUND(M15/12*8,0) -> 146 | T15: =ROUND(N15/12*8,0) -> 0 | U15: =V15+W15 -> 998136 | V15: =ROUND(S15*D15,0) -> 998136 | W15: =ROUND(T15*E15,0) -> 0 | X15: 148 | Y15: 148 | Z15: 0 | AA15: 1011809 | AB15: 1011809 | AC15: 0 | AD15: =X15/R15 -> 1.0136986 | AE15: =AA15/U15 -> 1.0136985 | AF15: =X15-R15 -> 2 | AG15: =AA15-U15 -> 13673 | AH15: 0 | AI15: =AG15-AH15 -> 13673
A16: Rīgas Austrumu klīniskā universitātes slimnīca | B16: 07. Maksājums pa pakalpojumu programmām | C16: Radioķiruģija, stereotaktiskā staru terapija un staru terapija ar augsti tehnoloģiskām apstarošanas metodēm | D16: 0 | E16: 5760.86 | F16: =G16+H16 -> 42 | G16: 0 | H16: 42 | I16: =J16+K16 -> 241956 | J16: 0 | K16: 241956 | L16: =M16+N16 -> 32 | M16: 0 | N16: 32 | O16: =P16+Q16 -> 184348 | P16: 0 | Q16: 184348 | R16: =S16+T16 -> 21 | S16: =ROUND(M16/12*8,0) -> 0 | T16: =ROUND(N16/12*8,0) -> 21 | U16: =V16+W16 -> 120978 | V16: =ROUND(S16*D16,0) -> 0 | W16: =ROUND(T16*E16,0) -> 120978 | X16: 22 | Y16: 0 | Z16: 22 | AA16: 126739 | AB16: 0 | AC16: 126739 | AD16: =X16/R16 -> 1.047619 | AE16: =AA16/U16 -> 1.0476202 | AF16: =X16-R16 -> 1 | AG16: =AA16-U16 -> 5761 | AH16: 0 | AI16: =AG16-AH16 -> 5761
A17: Rīgas Austrumu klīniskā universitātes slimnīca | B17: 07. Maksājums pa pakalpojumu programmām | C17: Revīzijas endoprotēžu implantēšana, endoprotezēšana osteomielīta un onkoloģijas pacientiem (bez implanta vērtības) | D17: 0 | E17: 4102.26 | F17: =G17+H17 -> 13 | G17: 0 | H17: 13 | I17: =J17+K17 -> 53329 | J17: 0 | K17: 53329 | L17: =M17+N17 -> 11 | M17: 0 | N17: 11 | O17: =P17+Q17 -> 45125 | P17: 0 | Q17: 45125 | R17: =S17+T17 -> 7 | S17: =ROUND(M17/12*8,0) -> 0 | T17: =ROUND(N17/12*8,0) -> 7 | U17: =V17+W17 -> 28716 | V17: =ROUND(S17*D17,0) -> 0 | W17: =ROUND(T17*E17,0) -> 28716 | X17: 8 | Y17: 0 | Z17: 8 | AA17: 32818 | AB17: 0 | AC17: 32818 | AD17: =X17/R17 -> 1.1428571 | AE17: =AA17/U17 -> 1.1428472 | AF17: =X17-R17 -> 1 | AG17: =AA17-U17 -> 4102 | AH17: 0 | AI17: =AG17-AH17 -> 4102
A18: Rīgas Austrumu klīniskā universitātes slimnīca | B18: 07. Maksājums pa pakalpojumu programmām | C18: Vēdera aortas endoprotezēšana | D18: 14078.32 | E18: 0 | F18: =G18+H18 -> 13 | G18: 13 | H18: 0 | I18: =J18+K18 -> 183018 | J18: 183018 | K18: 0 | L18: =M18+N18 -> 16 | M18: 16 | N18: 0 | O18: =P18+Q18 -> 225253 | P18: 225253 | Q18: 0 | R18: =S18+T18 -> 11 | S18: =ROUND(M18/12*8,0) -> 11 | T18: =ROUND(N18/12*8,0) -> 0 | U18: =V18+W18 -> 154862 | V18: =ROUND(S18*D18,0) -> 154862 | W18: =ROUND(T18*E18,0) -> 0 | X18: 25 | Y18: 25 | Z18: 0 | AA18: 351958 | AB18: 351958 | AC18: 0 | AD18: =X18/R18 -> 2.2727273 | AE18: =AA18/U18 -> 2.2727202 | AF18: =X18-R18 -> 14 | AG18: =AA18-U18 -> 197096 | AH18: 140783 | AI18: =AG18-AH18 -> 56313
A19: Rīgas Austrumu klīniskā universitātes slimnīca | B19: 09.02. Piemaksa par trombolīzēm | C19: Trombolīzes | D19: 0 | E19: 0 | F19: =G19+H19 -> 0 | G19: 0 | H19: 0 | I19: =J19+K19 -> 207399 | J19: 207399 | K19: 0 | L19: =M19+N19 -> 0 | M19: 0 | N19: 0 | O19: =P19+Q19 -> 183159 | P19: 183159 | Q19: 0 | R19: =S19+T19 -> 0 | S19: =ROUND(M19/12*8,0) -> 0 | T19: =ROUND(N19/12*8,0) -> 0 | U19: =V19+W19 -> 122106 | V19: =ROUND(P19/12*8,0) -> 122106 | W19: =ROUND(Q19/12*8,0) -> 0 | X19: 0 | Y19: 0 | Z19: 0 | AA19: 139670 | AB19: 139670 | AC19: 0 | AD19: 0 | AE19: =AA19/U19 -> 1.1438422 | AF19: =X19-R19 -> 0 | AG19: =AA19-U19 -> 17564 | AH19: 0 | AI19: =AG19-AH19 -> 17564
A20: Rīgas Austrumu klīniskā universitātes slimnīca | B20: 09.03. Piemaksa par sarežģītu primāras onkooperācijas veikšanu | C20: Sarežģītas primāras onkooperācijas veikšana | D20: 0 | E20: 0 | F20: =G20+H20 -> 0 | G20: 0 | H20: 0 | I20: =J20+K20 -> 3538004 | J20: 0 | K20: 3538004 | L20: =M20+N20 -> 0 | M20: 0 | N20: 0 | O20: =P20+Q20 -> 3777848 | P20: 0 | Q20: 3777848 | R20: =S20+T20 -> 0 | S20: =ROUND(M20/12*8,0) -> 0 | T20: =ROUND(N20/12*8,0) -> 0 | U20: =V20+W20 -> 2518565 | V20: =ROUND(P20/12*8,0) -> 0 | W20: =ROUND(Q20/12*8,0) -> 2518565 | X20: 0 | Y20: 0 | Z20: 0 | AA20: 3844885 | AB20: 0 | AC20: 3844885 | AD20: 0 | AE20: =AA20/U20 -> 1.5266173 | AF20: =X20-R20 -> 0 | AG20: =AA20-U20 -> 1326320 | AH20: 0 | AI20: =AG20-AH20 -> 1326320
A21: Rīgas Austrumu klīniskā universitātes slimnīca | B21: 09.04. Piemaksa par akūto rehabilitāciju jaukta profila gultās | C21: Akūtā rehabilitācija jaukta profila gultās | D21: 0 | E21: 0 | F21: =G21+H21 -> 0 | G21: 0 | H21: 0 | I21: =J21+K21 -> 863534 | J21: 0 | K21: 863534 | L21: =M21+N21 -> 0 | M21: 0 | N21: 0 | O21: =P21+Q21 -> 978855 | P21: 0 | Q21: 978855 | R21: =S21+T21 -> 0 | S21: =ROUND(M21/12*8,0) -> 0 | T21: =ROUND(N21/12*8,0) -> 0 | U21: =V21+W21 -> 652570 | V21: =ROUND(P21/12*8,0) -> 0 | W21: =ROUND(Q21/12*8,0) -> 652570 | X21: 0 | Y21: 0 | Z21: 0 | AA21: 711769 | AB21: 0 | AC21: 711769 | AD21: 0 | AE21: =AA21/U21 -> 1.0907167 | AF21: =X21-R21 -> 0 | AG21: =AA21-U21 -> 59199 | AH21: 0 | AI21: =AG21-AH21 -> 59199
A22: Rīgas Austrumu klīniskā universitātes slimnīca | B22: 09.05. Piemaksa par urīnpūšļa fotodinamisku diagnostiku (FDD) | C22: Urīnpūšļa fotodinamisku diagnostika (FDD) | D22: 0 | E22: 0 | F22: =G22+H22 -> 0 | G22: 0 | H22: 0 | I22: =J22+K22 -> 10652 | J22: 0 | K22: 10652 | L22: =M22+N22 -> 0 | M22: 0 | N22: 0 | O22: =P22+Q22 -> 10652 | P22: 0 | Q22: 10652 | R22: =S22+T22 -> 0 | S22: =ROUND(M22/12*8,0) -> 0 | T22: =ROUND(N22/12*8,0) -> 0 | U22: =V22+W22 -> 7101 | V22: =ROUND(P22/12*8,0) -> 0 | W22: =ROUND(Q22/12*8,0) -> 7101 | X22: 0 | Y22: 0 | Z22: 0 | AA22: 14895 | AB22: 0 | AC22: 14895 | AD22: 0 | AE22: =AA22/U22 -> 2.0975919 | AF22: =X22-R22 -> 0 | AG22: =AA22-U22 -> 7794 | AH22: 0 | AI22: =AG22-AH22 -> 7794
A23: Rīgas Austrumu klīniskā universitātes slimnīca | B23: 09.06. Piemaksa par pozitronu emisijas tomogrāfiju/datortomogrāfiju | C23: PET/DT (Pozitronu emisijas tomogrāfija/datortomogrāfija ar medikamentiem ar/bez kontrastvielām) (50810, 50795, 50796) | D23: 0 | E23: 0 | F23: =G23+H23 -> 0 | G23: 0 | H23: 0 | I23: =J23+K23 -> 87692 | J23: 0 | K23: 87692 | L23: =M23+N23 -> 0 | M23: 0 | N23: 0 | O23: =P23+Q23 -> 87692 | P23: 0 | Q23: 87692 | R23: =S23+T23 -> 0 | S23: =ROUND(M23/12*8,0) -> 0 | T23: =ROUND(N23/12*8,0) -> 0 | U23: =V23+W23 -> 58461 | V23: =ROUND(P23/12*8,0) -> 0 | W23: =ROUND(Q23/12*8,0) -> 58461 | X23: 0 | Y23: 0 | Z23: 0 | AA23: 168230 | AB23: 0 | AC23: 168230 | AD23: 0 | AE23: =AA23/U23 -> 2.8776449 | AF23: =X23-R23 -> 0 | AG23: =AA23-U23 -> 109769 | AH23: 0 | AI23: =AG23-AH23 -> 109769
A24: Rīgas Austrumu klīniskā universitātes slimnīca | B24: 09.07. Piemaksa par hibridizācijas izmeklējumu mutāciju noteikšanai | C24: Hibridizācija | D24: 0 | E24: 0 | F24: =G24+H24 -> 0 | G24: 0 | H24: 0 | I24: =J24+K24 -> 939 | J24: 0 | K24: 939 | L24: =M24+N24 -> 0 | M24: 0 | N24: 0 | O24: =P24+Q24 -> 939 | P24: 0 | Q24: 939 | R24: =S24+T24 -> 0 | S24: =ROUND(M24/12*8,0) -> 0 | T24: =ROUND(N24/12*8,0) -> 0 | U24: =V24+W24 -> 626 | V24: =ROUND(P24/12*8,0) -> 0 | W24: =ROUND(Q24/12*8,0) -> 626 | X24: 0 | Y24: 0 | Z24: 0 | AA24: 8912 | AB24: 0 | AC24: 8912 | AD24: 0 | AE24: =AA24/U24 -> 14.236422 | AF24: =X24-R24 -> 0 | AG24: =AA24-U24 -> 8286 | AH24: 0 | AI24: =AG24-AH24 -> 8286
A25: Rīgas Austrumu klīniskā universitātes slimnīca | B25: 09.08. Piemaksa par pavadošās personas atrašanās pie pacienta | C25: Pavadošās personas atrašanās pie pacienta | D25: 0 | E25: 0 | F25: =G25+H25 -> 0 | G25: 0 | H25: 0 | I25: =J25+K25 -> 11399 | J25: 0 | K25: 11399 | L25: =M25+N25 -> 0 | M25: 0 | N25: 0 | O25: =P25+Q25 -> 11399 | P25: 0 | Q25: 11399 | R25: =S25+T25 -> 0 | S25: =ROUND(M25/12*8,0) -> 0 | T25: =ROUND(N25/12*8,0) -> 0 | U25: =V25+W25 -> 7599 | V25: =ROUND(P25/12*8,0) -> 0 | W25: =ROUND(Q25/12*8,0) -> 7599 | X25: 0 | Y25: 0 | Z25: 0 | AA25: 13372 | AB25: 0 | AC25: 13372 | AD25: 0 | AE25: =AA25/U25 -> 1.7597052 | AF25: =X25-R25 -> 0 | AG25: =AA25-U25 -> 5773 | AH25: 0 | AI25: =AG25-AH25 -> 5773
A26: Rīgas Austrumu klīniskā universitātes slimnīca | B26: 09.09. Piemaksa par rehabilitācija psihiatriskā profila pacientiem | C26: Rehabilitācijas komandas darbs psihiatrijas iestādē | D26: 0 | E26: 0 | F26: =G26+H26 -> 0 | G26: 0 | H26: 0 | I26: =J26+K26 -> 0 | J26: 0 | K26: 0 | L26: =M26+N26 -> 0 | M26: 0 | N26: 0 | O26: =P26+Q26 -> 87 | P26: 87 | Q26: 0 | R26: =S26+T26 -> 0 | S26: =ROUND(M26/12*8,0) -> 0 | T26: =ROUND(N26/12*8,0) -> 0 | U26: =V26+W26 -> 58 | V26: =ROUND(P26/12*8,0) -> 58 | W26: =ROUND(Q26/12*8,0) -> 0 | X26: 0 | Y26: 0 | Z26: 0 | AA26: 68 | AB26: 68 | AC26: 0 | AD26: 0 | AE26: =AA26/U26 -> 1.1724138 | AF26: =X26-R26 -> 0 | AG26: =AA26-U26 -> 10 | AH26: 0 | AI26: =AG26-AH26 -> 10
A27: Rīgas Austrumu klīniskā universitātes slimnīca | B27: 09.12. Piemaksa par pacienta apmācību stacionārā par enterālu un parenterālu barošanu | C27: Enterāla un parenterāla barošana - apmācība | D27: 0 | E27: 0 | F27: =G27+H27 -> 0 | G27: 0 | H27: 0 | I27: =J27+K27 -> 2712 | J27: 0 | K27: 2712 | L27: =M27+N27 -> 0 | M27: 0 | N27: 0 | O27: =P27+Q27 -> 2712 | P27: 0 | Q27: 2712 | R27: =S27+T27 -> 0 | S27: =ROUND(M27/12*8,0) -> 0 | T27: =ROUND(N27/12*8,0) -> 0 | U27: =V27+W27 -> 1808 | V27: =ROUND(P27/12*8,0) -> 0 | W27: =ROUND(Q27/12*8,0) -> 1808 | X27: 0 | Y27: 0 | Z27: 0 | AA27: 7572 | AB27: 0 | AC27: 7572 | AD27: 0 | AE27: =AA27/U27 -> 4.1880531 | AF27: =X27-R27 -> 0 | AG27: =AA27-U27 -> 5764 | AH27: 0 | AI27: =AG27-AH27 -> 5764
A28: Rīgas Austrumu klīniskā universitātes slimnīca | B28: 09.19. Piemaksa par elektromagnētiski navigētas bronhoskopijas (ENB) izmantošanu | C28: Bronhoskopija | D28: 0 | E28: 0 | F28: =G28+H28 -> 0 | G28: 0 | H28: 0 | I28: =J28+K28 -> 253694 | J28: 0 | K28: 253694 | L28: =M28+N28 -> 0 | M28: 0 | N28: 0 | O28: =P28+Q28 -> 253694 | P28: 0 | Q28: 253694 | R28: =S28+T28 -> 0 | S28: =ROUND(M28/12*8,0) -> 0 | T28: =ROUND(N28/12*8,0) -> 0 | U28: =V28+W28 -> 169129 | V28: =ROUND(P28/12*8,0) -> 0 | W28: =ROUND(Q28/12*8,0) -> 169129 | X28: 0 | Y28: 0 | Z28: 0 | AA28: 387805 | AB28: 0 | AC28: 387805 | AD28: 0 | AE28: =AA28/U28 -> 2.2929539 | AF28: =X28-R28 -> 0 | AG28: =AA28-U28 -> 218676 | AH28: 0 | AI28: =AG28-AH28 -> 218676
A29: Rīgas Austrumu klīniskā universitātes slimnīca | B29: 09.20. Piemaksa par IT gultu uzturēšanu | C29: Intensīvā terapija | D29: 0 | E29: 0 | F29: =G29+H29 -> 0 | G29: 0 | H29: 0 | I29: =J29+K29 -> 14194256 | J29: 10425270 | K29: 3768985.8 | L29: =M29+N29 -> 0 | M29: 0 | N29: 0 | O29: =P29+Q29 -> 14194256 | P29: 10425270 | Q29: 3768986 | R29: =S29+T29 -> 0 | S29: =ROUND(M29/12*8,0) -> 0 | T29: =ROUND(N29/12*8,0) -> 0 | U29: =V29+W29 -> 9462837 | V29: =ROUND(P29/12*8,0) -> 6950180 | W29: =ROUND(Q29/12*8,0) -> 2512657 | X29: 0 | Y29: 0 | Z29: 0 | AA29: 9948003 | AB29: 6179017 | AC29: 3768986 | AD29: 0 | AE29: =AA29/U29 -> 1.0512707 | AF29: =X29-R29 -> 0 | AG29: =AA29-U29 -> 485166 | AH29: 479971 | AI29: =AG29-AH29 -> 5195
A30: Rīgas Austrumu klīniskā universitātes slimnīca | B30: 09.23. Piemaksa par E.Coli diagnostiku | C30: E.Coli diagnostika | D30: 0 | E30: 0 | F30: =G30+H30 -> 0 | I30: =J30+K30 -> 0 | L30: =M30+N30 -> 0 | M30: 0 | N30: 0 | O30: =P30+Q30 -> 0 | P30: 0 | Q30: 0 | R30: =S30+T30 -> 0 | S30: =ROUND(M30/12*8,0) -> 0 | T30: =ROUND(N30/12*8,0) -> 0 | U30: =V30+W30 -> 0 | V30: =ROUND(P30/12*8,0) -> 0 | W30: =ROUND(Q30/12*8,0) -> 0 | X30: 0 | Y30: 0 | Z30: 0 | AA30: 83390 | AB30: 83390 | AC30: 0 | AD30: 0 | AE30: 1.01 | AF30: =X30-R30 -> 0 | AG30: =AA30-U30 -> 83390 | AH30: 49726 | AI30: =AG30-AH30 -> 33664
A31: Rīgas Austrumu klīniskā universitātes slimnīca | B31: 09.29. Piemaksa par zāļu koagulācijas faktoru | C31: Koagulācijas faktors | D31: 0 | E31: 0 | F31: =G31+H31 -> 0 | G31: 0 | H31: 0 | I31: =J31+K31 -> 8788 | J31: 0 | K31: 8788 | L31: =M31+N31 -> 0 | M31: 0 | N31: 0 | O31: =P31+Q31 -> 8788 | P31: 0 | Q31: 8788 | R31: =S31+T31 -> 0 | S31: =ROUND(M31/12*8,0) -> 0 | T31: =ROUND(N31/12*8,0) -> 0 | U31: =V31+W31 -> 5859 | V31: =ROUND(P31/12*8,0) -> 0 | W31: =ROUND(Q31/12*8,0) -> 5859 | X31: 0 | Y31: 0 | Z31: 0 | AA31: 11145 | AB31: 0 | AC31: 11145 | AD31: 0 | AE31: =AA31/U31 -> 1.9022017 | AF31: =X31-R31 -> 0 | AG31: =AA31-U31 -> 5286 | AH31: 0 | AI31: =AG31-AH31 -> 5286
A32: Rīgas Austrumu klīniskā universitātes slimnīca | B32: 09.39. Multiplais miega latentuma tests (BKUS 02127) | C32: Multiplais miega latentuma tests | D32: 0 | E32: 0 | F32: =G32+H32 -> 0 | G32: 0 | H32: 0 | I32: =J32+K32 -> 0 | J32: 0 | K32: 0 | L32: =M32+N32 -> 0 | M32: 0 | N32: 0 | O32: =P32+Q32 -> 0 | P32: 0 | Q32: 0 | R32: =S32+T32 -> 0 | S32: =ROUND(M32/12*8,0) -> 0 | T32: =ROUND(N32/12*8,0) -> 0 | U32: =V32+W32 -> 0 | V32: =ROUND(P32/12*8,0) -> 0 | W32: =ROUND(Q32/12*8,0) -> 0 | X32: 0 | Y32: 0 | Z32: 0 | AA32: 5494 | AB32: 0 | AC32: 5494 | AD32: 0 | AE32: 1.01 | AF32: =X32-R32 -> 0 | AG32: =AA32-U32 -> 5494 | AH32: 0 | AI32: =AG32-AH32 -> 5494
A33: Rīgas Austrumu klīniskā universitātes slimnīca | B33: 09.42. Piemaksa par medikamenta Radium Ra 223 dichloride lietošanu | C33: Medikamenta Radium Ra 223 dichloride lietošana (60528, 60529) | D33: 0 | E33: 0 | F33: =G33+H33 -> 0 | G33: 0 | H33: 0 | I33: =J33+K33 -> 82264 | J33: 0 | K33: 82264 | L33: =M33+N33 -> 0 | M33: 0 | N33: 0 | O33: =P33+Q33 -> 82264 | P33: 0 | Q33: 82264 | R33: =S33+T33 -> 0 | S33: =ROUND(M33/12*8,0) -> 0 | T33: =ROUND(N33/12*8,0) -> 0 | U33: =V33+W33 -> 54843 | V33: =ROUND(P33/12*8,0) -> 0 | W33: =ROUND(Q33/12*8,0) -> 54843 | X33: 0 | Y33: 0 | Z33: 0 | AA33: 98902 | AB33: 0 | AC33: 98902 | AD33: 0 | AE33: =AA33/U33 -> 1.803366 | AF33: =X33-R33 -> 0 | AG33: =AA33-U33 -> 44059 | AH33: 0 | AI33: =AG33-AH33 -> 44059
A34: Rīgas Austrumu klīniskā universitātes slimnīca | B34: 09.46. Piemaksa par ginekoloģiskiem izmeklējumiem | C34: Ginekoloģiskie izmeklējumi (16011, 16012, 16021, 16090, 16091) | D34: 0 | E34: 0 | F34: =G34+H34 -> 0 | G34: 0 | H34: 0 | I34: =J34+K34 -> 22750 | J34: 0 | K34: 22750 | L34: =M34+N34 -> 0 | M34: 0 | N34: 0 | O34: =P34+Q34 -> 20281 | P34: 0 | Q34: 20281 | R34: =S34+T34 -> 0 | S34: =ROUND(M34/12*8,0) -> 0 | T34: =ROUND(N34/12*8,0) -> 0 | U34: =V34+W34 -> 13521 | V34: =ROUND(P34/12*8,0) -> 0 | W34: =ROUND(Q34/12*8,0) -> 13521 | X34: 0 | Y34: 0 | Z34: 0 | AA34: 16097 | AB34: 0 | AC34: 16097 | AD34: 0 | AE34: =AA34/U34 -> 1.1905185 | AF34: =X34-R34 -> 0 | AG34: =AA34-U34 -> 2576 | AH34: 0 | AI34: =AG34-AH34 -> 2576
A35: Rīgas Austrumu klīniskā universitātes slimnīca | B35: 09.50. Piemaksa par griezējšuvējiem | C35: Griezējšuvēji | D35: 0 | E35: 0 | F35: =G35+H35 -> 0 | G35: 0 | H35: 0 | I35: =J35+K35 -> 349562 | J35: 0 | K35: 349562 | L35: =M35+N35 -> 0 | M35: 0 | N35: 0 | O35: =P35+Q35 -> 349562 | P35: 0 | Q35: 349562 | R35: =S35+T35 -> 0 | S35: =ROUND(M35/12*8,0) -> 0 | T35: =ROUND(N35/12*8,0) -> 0 | U35: =V35+W35 -> 233041 | V35: =ROUND(P35/12*8,0) -> 0 | W35: =ROUND(Q35/12*8,0) -> 233041 | X35: 0 | Y35: 0 | Z35: 0 | AA35: 361913 | AB35: 0 | AC35: 361913 | AD35: 0 | AE35: =AA35/U35 -> 1.5530014 | AF35: =X35-R35 -> 0 | AG35: =AA35-U35 -> 128872 | AH35: 0 | AI35: =AG35-AH35 -> 128872
A36: Rīgas Austrumu klīniskā universitātes slimnīca | B36: 09.53. Piemaksa par miega izmeklējumiem | C36: Miega izmeklējumi | D36: 0 | E36: 0 | F36: =G36+H36 -> 0 | G36: 0 | H36: 0 | I36: =J36+K36 -> 19082 | J36: 0 | K36: 19082 | L36: =M36+N36 -> 0 | M36: 0 | N36: 0 | O36: =P36+Q36 -> 19082 | P36: 0 | Q36: 19082 | R36: =S36+T36 -> 0 | S36: =ROUND(M36/12*8,0) -> 0 | T36: =ROUND(N36/12*8,0) -> 0 | U36: =V36+W36 -> 12721 | V36: =ROUND(P36/12*8,0) -> 0 | W36: =ROUND(Q36/12*8,0) -> 12721 | X36: 0 | Y36: 0 | Z36: 0 | AA36: 15432 | AB36: 0 | AC36: 15432 | AD36: 0 | AE36: =AA36/U36 -> 1.2131122 | AF36: =X36-R36 -> 0 | AG36: =AA36-U36 -> 2711 | AH36: 0 | AI36: =AG36-AH36 -> 2711
A37: Rīgas Austrumu klīniskā universitātes slimnīca | B37: 09.57. Piemaksa par narkoloģiskā testa veilkšanu | C37: Narkoloģiskā testa veilkšana | D37: 0 | E37: 0 | F37: =G37+H37 -> 0 | G37: 0 | H37: 0 | I37: =J37+K37 -> 0 | J37: 0 | K37: 0 | L37: =M37+N37 -> 0 | M37: 0 | N37: 0 | O37: =P37+Q37 -> 0 | P37: 0 | Q37: 0 | R37: =S37+T37 -> 0 | S37: =ROUND(M37/12*8,0) -> 0 | T37: =ROUND(N37/12*8,0) -> 0 | U37: =V37+W37 -> 0 | V37: =ROUND(P37/12*8,0) -> 0 | W37: =ROUND(Q37/12*8,0) -> 0 | X37: 0 | Y37: 0 | Z37: 0 | AA37: 1408 | AB37: 1408 | AC37: 0 | AD37: 0 | AE37: 1.01 | AF37: =X37-R37 -> 0 | AG37: =AA37-U37 -> 1408 | AH37: 758 | AI37: =AG37-AH37 -> 650
A38: Rīgas Austrumu klīniskā universitātes slimnīca | B38: 09.62. Piemaksa par rutēnija aplikatoru izmantošanu acs melanomas ārstēšanai | C38: Piemaksa par rutēnija aplikatoru izmantošu acs melanomas ārstēšanai | D38: 0 | E38: 0 | F38: =G38+H38 -> 0 | G38: 0 | H38: 0 | I38: =J38+K38 -> 9521 | J38: 0 | K38: 9521 | L38: =M38+N38 -> 0 | M38: 0 | N38: 0 | O38: =P38+Q38 -> 9521 | P38: 0 | Q38: 9521 | R38: =S38+T38 -> 0 | S38: =ROUND(M38/12*8,0) -> 0 | T38: =ROUND(N38/12*8,0) -> 0 | U38: =V38+W38 -> 6347 | V38: =ROUND(P38/12*8,0) -> 0 | W38: =ROUND(Q38/12*8,0) -> 6347 | X38: 0 | Y38: 0 | Z38: 0 | AA38: 8570 | AB38: 0 | AC38: 8570 | AD38: 0 | AE38: =AA38/U38 -> 1.3502442 | AF38: =X38-R38 -> 0 | AG38: =AA38-U38 -> 2223 | AH38: 0 | AI38: =AG38-AH38 -> 2223
A39: Rīgas Austrumu klīniskā universitātes slimnīca | B39: 10. MK noteikumu Nr.555 7.pielikums (atbilstoši rēķiniem) | C39: Individuāli veidotas stentprotēzes endovazālas torakoabdominālas aneirismas gadījumos (3.4.p.) RAKUS | D39: 0 | E39: 0 | F39: =G39+H39 -> 0 | G39: 0 | H39: 0 | I39: =J39+K39 -> 0 | J39: 0 | K39: 0 | L39: =M39+N39 -> 0 | M39: 0 | N39: 0 | O39: =P39+Q39 -> 67034 | P39: 0 | Q39: 67034 | R39: =S39+T39 -> 0 | S39: =ROUND(M39/12*8,0) -> 0 | T39: =ROUND(N39/12*8,0) -> 0 | U39: =V39+W39 -> 44689 | V39: =ROUND(P39/12*8,0) -> 0 | W39: =ROUND(Q39/12*8,0) -> 44689 | X39: 0 | AA39: 142175 | AC39: 142175 | AD39: 0 | AE39: =AA39/U39 -> 3.1814317 | AF39: =X39-R39 -> 0 | AG39: =AA39-U39 -> 97486 | AH39: 0 | AI39: =AG39-AH39 -> 97486
A40: Rīgas Austrumu klīniskā universitātes slimnīca | B40: 10.1. MK noteikumu Nr.555 7.pielikums (atbilstoši rēķiniem) | C40: Medicīniskās ierīces, lai nodrošinātu endovaskulāru trombektomiju no precerebrālām un cerebrālām artērijām (7.p.) PSKUS, RAKUS, DRS | D40: 0 | E40: 0 | F40: =G40+H40 -> 0 | G40: 0 | H40: 0 | I40: =J40+K40 -> 104272 | J40: 104272 | K40: 0 | L40: =M40+N40 -> 0 | M40: 0 | N40: 0 | O40: =P40+Q40 -> 104272 | P40: 104272 | Q40: 0 | R40: =S40+T40 -> 0 | S40: =ROUND(M40/12*8,0) -> 0 | T40: =ROUND(N40/12*8,0) -> 0 | U40: =V40+W40 -> 69515 | V40: =ROUND(P40/12*8,0) -> 69515 | W40: =ROUND(Q40/12*8,0) -> 0 | X40: 0 | Y40: 0 | Z40: 0 | AA40: 102334 | AB40: 102334 | AC40: 0 | AD40: 0 | AE40: =AA40/U40 -> 1.4721139 | AF40: =X40-R40 -> 0 | AG40: =AA40-U40 -> 32819 | AH40: 32190 | AI40: =AG40-AH40 -> 629
A41: Rīgas Austrumu klīniskā universitātes slimnīca | B41: 12. Ilgstošā mākslīgā plaušu ventilācija, aprūpe | C41: Ilgstošā mākslīgā plaušu ventilācija, aprūpe | D41: 0 | E41: 0 | F41: =G41+H41 -> 0 | G41: 0 | H41: 0 | I41: =J41+K41 -> 0 | J41: 0 | K41: 0 | L41: =M41+N41 -> 0 | M41: 0 | N41: 0 | O41: =P41+Q41 -> 0 | P41: 0 | Q41: 0 | R41: =S41+T41 -> 0 | S41: =ROUND(M41/12*8,0) -> 0 | U41: =V41+W41 -> 0 | V41: =ROUND(P41/12*8,0) -> 0 | W41: =ROUND(Q41/12*8,0) -> 0 | X41: 1 | Y41: 1 | Z41: 0 | AA41: 1406 | AB41: 1406 | AC41: 0 | AD41: 1.01 | AE41: 1.01 | AF41: =X41-R41 -> 1 | AG41: =AA41-U41 -> 1406 | AH41: 0 | AI41: =AG41-AH41 -> 1406
F42: =SUM(F5:F41) -> 8041 | G42: =SUM(G5:G41) -> 1468 | H42: =SUM(H5:H41) -> 6573 | I42: =SUM(I5:I41) -> 34181262 | J42: =SUM(J5:J41) -> 15733997 | K42: =SUM(K5:K41) -> 18447265 | L42: =SUM(L5:L41) -> 8213 | M42: =SUM(M5:M41) -> 1443 | ... AC42: =SUM(AC5:AC41) -> 16405064 | AF42: =SUM(AF5:AF41) -> 190 | AG42: =SUM(AG5:AG41) -> 3419454 | AH42: =SUM(AH5:AH41) -> 726713 | AI42: =SUM(AI5:AI41) -> 2692741

Sheet 1.4.PSKUS
Q1: 1.4. pielikums
A2: Papildus nepieciešams finansējums virs līguma apjoma veikto pakalpojumu apmaksai VSIA “Paula Stradiņa klīniskā universitātes slimnīca"
A4: Ārstniecības iestāde | B4: Pakalpojuma programma | C4: Pakalpojuma programmas nosaukums | D4: Tarifs, EUR (N) | E4: Tarifs, EUR (P) | F4: Plāns gadam 1.rīkojums Pacientu skaits, kopā | G4: Plāns gadam 1.rīkojums Pacientu skaits, N | H4: Plāns gadam1.rīkojums Pacientu skaits, P | I4: Plāns gadam 1.rīkojums Finansējums, EUR kopā | J4: Plāns gadam 1.rīkojums Finansējums, EUR N | K4: Plāns gadam 1.rīkojums Finansējums, EUR P | L4: Plāns gadam 8.rīkojums Pacientu skaits, kopā | M4: Plāns gadam 8.rīkojums Pacientu skaits, N | N4: Plāns gadam 8.rīkojums Pacientu skaits, P | O4: Plāns gadam 8.rīkojums Finansējums, EUR kopā | P4: Plāns gadam 8.rīkojums Finansējums, EUR N | Q4: Plāns gadam 8.rīkojums Finansējums, EUR P | R4: Plāns 8M Pacientu skaits, kopā | S4: Plāns 8M Pacientu skaits, N | T4: Plāns 8M Pacientu skaits, P | U4: Plāns 8M Finansējums, EUR kopā | V4: Plāns 8M Finansējums, EUR N | W4: Plāns 8M Finansējums, EUR P | X4: Faktiskā izpilde 8M Pacientu skaits, kopā | Y4: Faktiskā izpilde 8M Pacientu skaits, N | Z4: Faktiskā izpilde 8M Pacientu skaits, P | AA4: Faktiskā izpilde 8M Finansējums, EUR kopā | AB4: Faktiskā izpilde 8M Finansējums, EUR N | AC4: Faktiskā izpilde 8M Finansējums, EUR P | AD4: % Pacientu izpilde | AE4: % Finansējuma izpilde | AF4: Pacientu skaitu starpība | AG4: Finansējuma starpība, EUR | AH4: Pieprasīts ar LNG pieprasījumu (izdalīts no neatliekamās palīdzības pieprasījuma 1.1. pielikumā iekļautās infprmācijas) | AI4: Papildus nepieciešams finansējums 2025. gadam, EUR
A5: Paula Stradiņa klīniskā universitātes slimnīca | B5: 04. DRG fiksētais maksājums - "Krūšu rekonstrukcija" | C5: DRG fiksētais maksājums - "Krūšu rekonstrukcija" | D5: 0 | E5: 3804.29 | F5: 161 | G5: 0 | H5: 161 | I5: 612491 | J5: 0 | K5: 612491 | L5: =M5+N5 -> 169 | M5: 0 | N5: 169 | O5: =P5+Q5 -> 642925 | P5: 0 | Q5: 642925 | R5: =S5+T5 -> 113 | S5: 0 | T5: =ROUND(N5/12*8,0) -> 113 | U5: =V5+W5 -> 428617 | V5: 0 | W5: =ROUND(Q5/12*8,0) -> 428617 | X5: =Y5+Z5 -> 114 | Y5: 0 | Z5: 114 | AA5: =AB5+AC5 -> 477590 | AB5: 0 | AC5: 477590 | AD5: =X5/R5 -> 1.0088496 | AE5: =AA5/U5 -> 1.1142582 | AF5: =X5-R5 -> 1 | AG5: =AA5-U5 -> 48973 | AH5: 0 | AI5: =AG5-AH5 -> 48973
A6: Paula Stradiņa klīniskā universitātes slimnīca | B6: 07. Maksājums pa pakalpojumu programmām | C6: Aortālā vārstuļa transkatetrāla implantācija (TAVI) | D6: 0 | E6: 27096.63 | F6: 125 | G6: 0 | H6: 125 | I6: 3387079 | J6: 0 | K6: 3387079 | L6: =M6+N6 -> 125 | M6: 0 | N6: 125 | O6: =P6+Q6 -> 3387079 | P6: 0 | Q6: 3387079 | R6: =S6+T6 -> 83 | S6: 0 | T6: =ROUND(N6/12*8,0) -> 83 | U6: =V6+W6 -> 2249020 | V6: 0 | W6: =ROUND(T6*E6,0) -> 2249020 | X6: =Y6+Z6 -> 84 | Y6: 0 | Z6: 84 | AA6: =AB6+AC6 -> 2276117 | AB6: 0 | AC6: 2276117 | AD6: =X6/R6 -> 1.0120482 | AE6: =AA6/U6 -> 1.0120484 | AF6: =X6-R6 -> 1 | AG6: =AA6-U6 -> 27097 | AH6: 0 | AI6: =AG6-AH6 -> 27097
A7: Paula Stradiņa klīniskā universitātes slimnīca | B7: 07. Maksājums pa pakalpojumu programmām | C7: Černobiļas AES avārijas likvidētāju un arodslimnieku ārstēšana stacionārā | D7: 0 | E7: 999.06 | F7: 304 | G7: 0 | H7: 304 | I7: 303714 | J7: 0 | K7: 303714 | L7: =M7+N7 -> 304 | M7: 0 | N7: 304 | O7: =P7+Q7 -> 303714 | P7: 0 | Q7: 303714 | R7: =S7+T7 -> 203 | S7: 0 | T7: =ROUND(N7/12*8,0) -> 203 | U7: =V7+W7 -> 202809 | V7: 0 | W7: =ROUND(T7*E7,0) -> 202809 | X7: =Y7+Z7 -> 206 | Y7: 0 | Z7: 206 | AA7: =AB7+AC7 -> 205806 | AB7: 0 | AC7: 205806 | AD7: =X7/R7 -> 1.0147783 | AE7: =AA7/U7 -> 1.0147775 | AF7: =X7-R7 -> 3 | AG7: =AA7-U7 -> 2997 | AH7: 0 | AI7: =AG7-AH7 -> 2997
A8: Paula Stradiņa klīniskā universitātes slimnīca | B8: 07. Maksājums pa pakalpojumu programmām | C8: Diennakts stacionārā sniedzamie otrā etapa medicīniskās rehabilitācijas pakalpojumi pieaugušajiem | D8: 0 | E8: 3283.57 | F8: 67 | G8: 0 | H8: 67 | I8: 219999 | J8: 0 | K8: 219999 | L8: =M8+N8 -> 67 | M8: 0 | N8: 67 | O8: =P8+Q8 -> 219999 | P8: 0 | Q8: 219999 | R8: =S8+T8 -> 45 | S8: 0 | T8: =ROUND(N8/12*8,0) -> 45 | U8: =V8+W8 -> 146666 | V8: 0 | W8: =ROUND(Q8/12*8,0) -> 146666 | X8: =Y8+Z8 -> 65 | Y8: 0 | Z8: 65 | AA8: =AB8+AC8 -> 162160 | AB8: 0 | AC8: 162160 | AD8: =X8/R8 -> 1.4444444 | AE8: =AA8/U8 -> 1.1056414 | AF8: =X8-R8 -> 20 | AG8: =AA8-U8 -> 15494 | AH8: 0 | AI8: =AG8-AH8 -> 15494
A9: Paula Stradiņa klīniskā universitātes slimnīca | B9: 07. Maksājums pa pakalpojumu programmām | C9: Hronisko pacientu aprūpe ar ārstēšanās ilgumu līdz 14 gultasdienām | D9: 0 | E9: 749.25 | F9: 144 | G9: 0 | H9: 144 | I9: 107892 | J9: 0 | K9: 107892 | L9: =M9+N9 -> 144 | M9: 0 | N9: 144 | O9: =P9+Q9 -> 107892 | P9: 0 | Q9: 107892 | R9: =S9+T9 -> 96 | S9: 0 | T9: =ROUND(N9/12*8,0) -> 96 | U9: =V9+W9 -> 71928 | V9: 0 | W9: =ROUND(T9*E9,0) -> 71928 | X9: =Y9+Z9 -> 103 | Y9: 0 | Z9: 103 | AA9: =AB9+AC9 -> 77173 | AB9: 0 | AC9: 77173 | AD9: =X9/R9 -> 1.0729167 | AE9: =AA9/U9 -> 1.0729201 | AF9: =X9-R9 -> 7 | AG9: =AA9-U9 -> 5245 | AH9: 0 | AI9: =AG9-AH9 -> 5245
A10: Paula Stradiņa klīniskā universitātes slimnīca | B10: 07. Maksājums pa pakalpojumu programmām | C10: Hronisko pacientu aprūpe no 15. ārstēšanās dienas vai aprūpes turpināšana pēc akūta ārstēšanas perioda iestādes ietvaros | D10: 0 | E10: 629.68 | F10: 657 | G10: 0 | H10: 657 | I10: 413700 | J10: 0 | K10: 413700 | L10: =M10+N10 -> 729 | M10: 0 | N10: 729 | O10: =P10+Q10 -> 454006 | P10: 0 | Q10: 454006 | R10: =S10+T10 -> 486 | S10: 0 | T10: =ROUND(N10/12*8,0) -> 486 | U10: =V10+W10 -> 302671 | V10: 0 | W10: =ROUND(Q10/12*8,0) -> 302671 | X10: =Y10+Z10 -> 554 | Y10: 0 | Z10: 554 | AA10: =AB10+AC10 -> 332924 | AB10: 0 | AC10: 332924 | AD10: =X10/R10 -> 1.1399177 | AE10: =AA10/U10 -> 1.0999534 | AF10: =X10-R10 -> 68 | AG10: =AA10-U10 -> 30253 | AH10: 0 | AI10: =AG10-AH10 -> 30253
A11: Paula Stradiņa klīniskā universitātes slimnīca | B11: 07. Maksājums pa pakalpojumu programmām | C11: Kohleāro impalntu impalntēšana pieaugušajiem | D11: 0 | E11: 26184.97 | F11: 3 | G11: 0 | H11: 3 | I11: 78555 | J11: 0 | K11: 78555 | L11: =M11+N11 -> 2 | M11: 0 | N11: 2 | O11: =P11+Q11 -> 52493 | P11: 0 | Q11: 52493 | R11: =S11+T11 -> 1 | S11: 0 | T11: =ROUND(N11/12*8,0) -> 1 | U11: =V11+W11 -> 26185 | V11: 0 | W11: =ROUND(T11*E11,0) -> 26185 | X11: =Y11+Z11 -> 2 | Y11: 0 | Z11: 2 | AA11: =AB11+AC11 -> 52648 | AB11: 0 | AC11: 52648 | AD11: =X11/R11 -> 2 | AE11: =AA11/U11 -> 2.0106168 | AF11: =X11-R11 -> 1 | AG11: =AA11-U11 -> 26463 | AH11: 0 | AI11: =AG11-AH11 -> 26463
A12: Paula Stradiņa klīniskā universitātes slimnīca | B12: 07. Maksājums pa pakalpojumu programmām | C12: Mikrodiskektomija, mikrofenestrācija | D12: 0 | E12: 1264.01 | F12: 111 | G12: 0 | H12: 111 | I12: 140305 | J12: 0 | K12: 140305 | L12: =M12+N12 -> 111 | M12: 0 | N12: 111 | O12: =P12+Q12 -> 140305 | P12: 0 | Q12: 140305 | R12: =S12+T12 -> 74 | S12: 0 | T12: =ROUND(N12/12*8,0) -> 74 | U12: =V12+W12 -> 93537 | V12: 0 | W12: =ROUND(Q12/12*8,0) -> 93537 | X12: =Y12+Z12 -> 112 | Y12: 0 | Z12: 112 | AA12: =AB12+AC12 -> 159216 | AB12: 0 | AC12: 159216 | AD12: =X12/R12 -> 1.5135135 | AE12: =AA12/U12 -> 1.7021713 | AF12: =X12-R12 -> 38 | AG12: =AA12-U12 -> 65679 | AH12: 0 | AI12: =AG12-AH12 -> 65679
A13: Paula Stradiņa klīniskā universitātes slimnīca | B13: 07. Maksājums pa pakalpojumu programmām | C13: Ortotopiskā sirds transplantācija | D13: 0 | E13: 36697.95 | F13: 2 | G13: 0 | H13: 2 | I13: 73396 | J13: 0 | K13: 73396 | L13: =M13+N13 -> 3 | M13: 0 | N13: 3 | O13: =P13+Q13 -> 110094 | P13: 0 | Q13: 110094 | R13: =S13+T13 -> 2 | S13: 0 | T13: =ROUND(N13/12*8,0) -> 2 | U13: =V13+W13 -> 73396 | V13: 0 | W13: =ROUND(T13*E13,0) -> 73396 | X13: =Y13+Z13 -> 3 | Y13: 0 | Z13: 3 | AA13: =AB13+AC13 -> 110094 | AB13: 0 | AC13: 110094 | AD13: =X13/R13 -> 1.5 | AE13: =AA13/U13 -> 1.5 | AF13: =X13-R13 -> 1 | AG13: =AA13-U13 -> 36698 | AH13: 0 | AI13: =(AG13-AH13)*3 -> 110094
A14: Paula Stradiņa klīniskā universitātes slimnīca | B14: 07. Maksājums pa pakalpojumu programmām | C14: Pakalpojumi, kas sniegti ilgstoši slimojošām personām darbspējīgā vecumā, ar mērķi novērst iespējamas invaliditātes iestāšanos (01.09.2024) | D14: 0 | E14: 4674.71 | F14: 385 | G14: 0 | H14: 385 | I14: 1799763 | J14: 0 | K14: 1799763 | L14: =M14+N14 -> 447 | M14: 0 | N14: 447 | O14: =P14+Q14 -> 2132019 | P14: 0 | Q14: 2132019 | R14: =S14+T14 -> 298 | S14: 0 | T14: =ROUND(N14/12*8,0) -> 298 | U14: =V14+W14 -> 1421346 | V14: 0 | W14: =ROUND(Q14/12*8,0) -> 1421346 | X14: =Y14+Z14 -> 346 | Y14: 0 | Z14: 346 | AA14: =AB14+AC14 -> 1701472 | AB14: 0 | AC14: 1701472 | AD14: =X14/R14 -> 1.1610738 | AE14: =AA14/U14 -> 1.197085 | AF14: =X14-R14 -> 48 | AG14: =AA14-U14 -> 280126 | AH14: 0 | AI14: =AG14-AH14 -> 280126
A15: Paula Stradiņa klīniskā universitātes slimnīca | B15: 07. Maksājums pa pakalpojumu programmām | C15: Slimnieku sagatavošana transplantācijai, pacienti ar transplantāta disfunkciju, pacienti ar imūnsuperesīvas terapijas komplikācijām, tās kontrole, korekcija, kā arī pacienti ar nefunkcionējošu transplantātu (niere) | D15: 0 | E15: 2031.62 | F15: 243 | G15: 0 | H15: 243 | I15: 493684 | J15: 0 | K15: 493684 | L15: =M15+N15 -> 257 | M15: 0 | N15: 257 | O15: =P15+Q15 -> 522127 | P15: 0 | Q15: 522127 | R15: =S15+T15 -> 171 | S15: 0 | T15: =ROUND(N15/12*8,0) -> 171 | U15: =V15+W15 -> 347407 | V15: 0 | W15: =ROUND(T15*E15,0) -> 347407 | X15: =Y15+Z15 -> 176 | Y15: 0 | Z15: 176 | AA15: =AB15+AC15 -> 357565 | AB15: 0 | AC15: 357565 | AD15: =X15/R15 -> 1.0292398 | AE15: =AA15/U15 -> 1.0292395 | AF15: =X15-R15 -> 5 | AG15: =AA15-U15 -> 10158 | AH15: 0 | AI15: =AG15-AH15 -> 10158
A16: Paula Stradiņa klīniskā universitātes slimnīca | B16: 07. Maksājums pa pakalpojumu programmām | C16: Staru terapija, staru terapija un ķīmijterapija pieaugušajiem | D16: 0 | E16: 5745.09 | F16: 255 | G16: 0 | H16: 255 | I16: 1464998 | J16: 0 | K16: 1464998 | L16: =M16+N16 -> 170 | M16: 0 | N16: 170 | O16: =P16+Q16 -> 976665 | P16: 0 | Q16: 976665 | R16: =S16+T16 -> 113 | S16: 0 | T16: =ROUND(N16/12*8,0) -> 113 | U16: =V16+W16 -> 649195 | V16: 0 | W16: =ROUND(T16*E16,0) -> 649195 | X16: =Y16+Z16 -> 123 | Y16: 0 | Z16: 123 | AA16: =AB16+AC16 -> 706646 | AB16: 0 | AC16: 706646 | AD16: =X16/R16 -> 1.0884956 | AE16: =AA16/U16 -> 1.0884958 | AF16: =X16-R16 -> 10 | AG16: =AA16-U16 -> 57451 | AH16: 0 | AI16: =AG16-AH16 -> 57451
A17: Paula Stradiņa klīniskā universitātes slimnīca | B17: 09.01. Piemaksa par hemodialīzēm | C17: Hemodialīzes | D17: 0 | E17: 0 | F17: 0 | G17: 0 | H17: 0 | I17: 1833319 | J17: 1833319 | K17: 0 | L17: =M17+N17 -> 0 | M17: 0 | N17: 0 | O17: =P17+Q17 -> 1833319 | P17: 1833319 | Q17: 0 | R17: =S17+T17 -> 0 | S17: 0 | T17: 0 | U17: =V17+W17 -> 1222213 | V17: =ROUND(P17/12*8,0) -> 1222213 | W17: 0 | X17: =Y17+Z17 -> 0 | Y17: 0 | Z17: 0 | AA17: =AB17+AC17 -> 1303255 | AB17: =1302943+312 -> 1303255 | AC17: 0 | AD17: 0 | AE17: =AA17/U17 -> 1.0663076 | AF17: =X17-R17 -> 0 | AG17: =AA17-U17 -> 81042 | AH17: 0 | AI17: =AG17-AH17 -> 81042
A18: Paula Stradiņa klīniskā universitātes slimnīca | B18: 09.03. Piemaksa par sarežģītu primāras onkooperācijas veikšanu | C18: Sarežģītas primāras onkooperācijas veikšana | D18: 0 | E18: 0 | F18: 0 | G18: 0 | H18: 0 | I18: 1241436 | J18: 0 | K18: 1241436 | L18: =M18+N18 -> 0 | M18: 0 | N18: 0 | O18: =P18+Q18 -> 1348229 | P18: 0 | Q18: 1348229 | R18: =S18+T18 -> 0 | S18: 0 | T18: 0 | U18: =V18+W18 -> 898819 | V18: 0 | W18: =ROUND(Q18/12*8,0) -> 898819 | X18: =Y18+Z18 -> 0 | Y18: 0 | Z18: 0 | AA18: =AB18+AC18 -> 985557 | AB18: 0 | AC18: 985557 | AD18: 0 | AE18: =AA18/U18 -> 1.0965022 | AF18: =X18-R18 -> 0 | AG18: =AA18-U18 -> 86738 | AH18: 0 | AI18: =AG18-AH18 -> 86738
A19: Paula Stradiņa klīniskā universitātes slimnīca | B19: 09.04. Piemaksa par akūto rehabilitāciju jaukta profila gultās | C19: Akūtā rehabilitācija jaukta profila gultās | D19: 0 | E19: 0 | F19: 0 | G19: 0 | H19: 0 | I19: 391510 | J19: 0 | K19: 391510 | L19: =M19+N19 -> 0 | M19: 0 | N19: 0 | O19: =P19+Q19 -> 391510 | P19: 0 | Q19: 391510 | R19: =S19+T19 -> 0 | S19: 0 | T19: 0 | U19: =V19+W19 -> 261007 | V19: 0 | W19: =ROUND(Q19/12*8,0) -> 261007 | X19: =Y19+Z19 -> 0 | Y19: 0 | Z19: 0 | AA19: =AB19+AC19 -> 375775 | AB19: 0 | AC19: 375775 | AD19: 0 | AE19: =AA19/U19 -> 1.4397123 | AF19: =X19-R19 -> 0 | AG19: =AA19-U19 -> 114768 | AH19: 0 | AI19: =AG19-AH19 -> 114768
A20: Paula Stradiņa klīniskā universitātes slimnīca | B20: 09.07. Piemaksa par hibridizācijas izmeklējumu mutāciju noteikšanai | C20: Hibridizācija | D20: 0 | E20: 0 | F20: 0 | G20: 0 | H20: 0 | I20: 0 | J20: 0 | K20: 0 | L20: =M20+N20 -> 0 | M20: 0 | N20: 0 | O20: =P20+Q20 -> 0 | P20: 0 | Q20: 0 | R20: =S20+T20 -> 0 | S20: 0 | T20: 0 | U20: =V20+W20 -> 0 | V20: 0 | W20: 0 | X20: =Y20+Z20 -> 0 | Y20: 0 | Z20: 0 | AA20: =AB20+AC20 -> 3036 | AB20: 0 | AC20: 3036 | AD20: 0 | AE20: 1.01 | AF20: =X20-R20 -> 0 | AG20: =AA20-U20 -> 3036 | AH20: 0 | AI20: =AG20-AH20 -> 3036
A21: Paula Stradiņa klīniskā universitātes slimnīca | B21: 09.13. Piemaksa par endovaskulāru trombektomiju | C21: Endovaskulāra trombektomija no precerebrālām un cerebrālām artērijām; Piemaksa par atkārtotu etapu - Endovaskulāra trombektomija no precerebrālām un cerebrālām artērijām; Piemaksa par stenta ievietošanu - Endovaskulāra trombektomija no precerebrālām un cerebrālām artērijām | D21: 0 | E21: 0 | F21: 0 | G21: 0 | H21: 0 | I21: 183861 | J21: 183861 | K21: 0 | L21: =M21+N21 -> 0 | M21: 0 | N21: 0 | O21: =P21+Q21 -> 202725 | P21: 202725 | Q21: 0 | R21: =S21+T21 -> 0 | S21: 0 | T21: 0 | U21: =V21+W21 -> 135150 | V21: =ROUND(P21/12*8,0) -> 135150 | W21: 0 | X21: =Y21+Z21 -> 0 | Y21: 0 | Z21: 0 | AA21: =AB21+AC21 -> 148807 | AB21: 148807 | AC21: 0 | AD21: 0 | AE21: =AA21/U21 -> 1.1010507 | AF21: =X21-R21 -> 0 | AG21: =AA21-U21 -> 13657 | AH21: 0 | AI21: =AG21-AH21 -> 13657
A22: Paula Stradiņa klīniskā universitātes slimnīca | B22: 09.15. Piemaksa par baklofēna sūkņa nomaiņu | C22: Piemaksa par baklofēna sūkņa nomaiņu | D22: 0 | E22: 0 | F22: 0 | G22: 0 | H22: 0 | I22: 0 | J22: 0 | K22: 0 | L22: =M22+N22 -> 0 | M22: 0 | N22: 0 | O22: =P22+Q22 -> 3249 | P22: 0 | Q22: 3249 | R22: =S22+T22 -> 0 | S22: 0 | T22: 0 | U22: =V22+W22 -> 2166 | V22: 0 | W22: =ROUND(Q22/12*8,0) -> 2166 | X22: =Y22+Z22 -> 0 | Y22: 0 | Z22: 0 | AA22: =AB22+AC22 -> 4331 | AB22: 0 | AC22: 4331 | AD22: 0 | AE22: =AA22/U22 -> 1.9995383 | AF22: =X22-R22 -> 0 | AG22: =AA22-U22 -> 2165 | AH22: 0 | AI22: =AG22-AH22 -> 2165
A23: Paula Stradiņa klīniskā universitātes slimnīca | B23: 09.23. Piemaksa par E.Coli diagnostiku | C23: E.Coli diagnostika | D23: 0 | E23: 0 | L23: =M23+N23 -> 0 | M23: 0 | N23: 0 | O23: =P23+Q23 -> 0 | P23: 0 | Q23: 0 | R23: =S23+T23 -> 0 | S23: 0 | T23: 0 | U23: =V23+W23 -> 0 | V23: 0 | W23: 0 | X23: =Y23+Z23 -> 0 | Y23: 0 | Z23: 0 | AA23: =AB23+AC23 -> 642 | AB23: 642 | AC23: 0 | AD23: 0 | AE23: 1.01 | AF23: =X23-R23 -> 0 | AG23: =AA23-U23 -> 642 | AH23: 257 | AI23: =AG23-AH23 -> 385
A24: Paula Stradiņa klīniskā universitātes slimnīca | B24: 09.28. Piemaksa par hemodialīzes filtru lietošanu | C24: Hemodialīzes filtri | D24: 0 | E24: 0 | F24: 0 | G24: 0 | H24: 0 | I24: 0 | J24: 0 | K24: 0 | L24: =M24+N24 -> 0 | M24: 0 | N24: 0 | O24: =P24+Q24 -> 0 | P24: 0 | Q24: 0 | R24: =S24+T24 -> 0 | S24: 0 | T24: 0 | U24: =V24+W24 -> 0 | V24: 0 | W24: 0 | X24: =Y24+Z24 -> 0 | Y24: 0 | Z24: 0 | AA24: =AB24+AC24 -> 57359 | AB24: 0 | AC24: 57359 | AD24: 0 | AE24: 1.01 | AF24: =X24-R24 -> 0 | AG24: =AA24-U24 -> 57359 | AH24: 0 | AI24: =AG24-AH24 -> 57359
A25: Paula Stradiņa klīniskā universitātes slimnīca | B25: 09.37. Piemaksa par litotripsija | C25: Litotripsija | D25: 0 | E25: 0 | F25: 0 | G25: 0 | H25: 0 | I25: 20288 | J25: 20288 | K25: 0 | L25: =M25+N25 -> 0 | M25: 0 | N25: 0 | O25: =P25+Q25 -> 17169 | P25: 17169 | Q25: 0 | R25: =S25+T25 -> 0 | S25: 0 | T25: 0 | U25: =V25+W25 -> 11446 | V25: =ROUND(P25/12*8,0) -> 11446 | W25: 0 | X25: =Y25+Z25 -> 0 | Y25: 0 | Z25: 0 | AA25: =AB25+AC25 -> 21671 | AB25: 21671 | AC25: 0 | AD25: 0 | AE25: =AA25/U25 -> 1.8933252 | AF25: =X25-R25 -> 0 | AG25: =AA25-U25 -> 10225 | AH25: 0 | AI25: =AG25-AH25 -> 10225
A26: Paula Stradiņa klīniskā universitātes slimnīca | B26: 09.40. Piemaksa par krūšu rekonstrukcijai pacientēm mastektomijas (ļaundabīga audzēja gadījumā) nepieciešamie papildmateriāliem (saizeri, pēcoperāciju krūšturi, acelulāras dermālās matricas) | C26: Krūšu rekonstrukcijas papildmateriāli (23042, 23043, 23044) | D26: 0 | E26: 0 | F26: 0 | G26: 0 | H26: 0 | I26: 221988 | J26: 0 | K26: 221988 | L26: =M26+N26 -> 0 | M26: 0 | N26: 0 | O26: =P26+Q26 -> 221988 | P26: 0 | Q26: 221988 | R26: =S26+T26 -> 0 | S26: 0 | T26: 0 | U26: =V26+W26 -> 147992 | V26: 0 | W26: =ROUND(Q26/12*8,0) -> 147992 | X26: =Y26+Z26 -> 0 | Y26: 0 | Z26: 0 | AA26: =AB26+AC26 -> 172720 | AB26: 0 | AC26: 172720 | AD26: 0 | AE26: =AA26/U26 -> 1.1670901 | AF26: =X26-R26 -> 0 | AG26: =AA26-U26 -> 24728 | AH26: 0 | AI26: =AG26-AH26 -> 24728
A27: Paula Stradiņa klīniskā universitātes slimnīca | B27: 09.49. Piemaksa par jaundzimušo skrīningu | C27: Jaundzimušo skrīnings | D27: 0 | E27: 0 | F27: 0 | G27: 0 | H27: 0 | I27: 0 | J27: 0 | K27: 0 | L27: =M27+N27 -> 0 | M27: 0 | N27: 0 | O27: =P27+Q27 -> 0 | P27: 0 | Q27: 0 | R27: =S27+T27 -> 0 | S27: 0 | T27: 0 | U27: =V27+W27 -> 0 | V27: 0 | W27: 0 | X27: =Y27+Z27 -> 0 | Y27: 0 | Z27: 0 | AA27: =AB27+AC27 -> 12722 | AB27: 0 | AC27: 12722 | AD27: 0 | AE27: 1.01 | AF27: =X27-R27 -> 0 | AG27: =AA27-U27 -> 12722 | AH27: 0 | AI27: =AG27-AH27 -> 12722
A28: Paula Stradiņa klīniskā universitātes slimnīca | B28: 09.50. Piemaksa par griezējšuvējiem | C28: Griezējšuvēji | D28: 0 | E28: 0 | F28: 0 | G28: 0 | H28: 0 | I28: 88897 | J28: 0 | K28: 88897 | L28: =M28+N28 -> 0 | M28: 0 | N28: 0 | O28: =P28+Q28 -> 88897 | P28: 0 | Q28: 88897 | R28: =S28+T28 -> 0 | S28: 0 | T28: 0 | U28: =V28+W28 -> 59265 | V28: 0 | W28: =ROUND(Q28/12*8,0) -> 59265 | X28: =Y28+Z28 -> 0 | Y28: 0 | Z28: 0 | AA28: =AB28+AC28 -> 286171 | AB28: 0 | AC28: 286171 | AD28: 0 | AE28: =AA28/U28 -> 4.8286678 | AF28: =X28-R28 -> 0 | AG28: =AA28-U28 -> 226906 | AH28: 0 | AI28: =AG28-AH28 -> 226906
A29: Paula Stradiņa klīniskā universitātes slimnīca | B29: 09.53. Piemaksa par miega izmeklējumiem | C29: Miega izmeklējumi | D29: 0 | E29: 0 | F29: 0 | G29: 0 | H29: 0 | I29: 3311 | J29: 0 | K29: 3311 | L29: =M29+N29 -> 0 | M29: 0 | N29: 0 | O29: =P29+Q29 -> 3311 | P29: 0 | Q29: 3311 | R29: =S29+T29 -> 0 | S29: 0 | T29: 0 | U29: =V29+W29 -> 2207 | V29: 0 | W29: =ROUND(Q29/12*8,0) -> 2207 | X29: =Y29+Z29 -> 0 | Y29: 0 | Z29: 0 | AA29: =AB29+AC29 -> 5318 | AB29: 0 | AC29: 5318 | AD29: 0 | AE29: =AA29/U29 -> 2.4096058 | AF29: =X29-R29 -> 0 | AG29: =AA29-U29 -> 3111 | AH29: 0 | AI29: =AG29-AH29 -> 3111
A30: Paula Stradiņa klīniskā universitātes slimnīca | B30: 09.61. Piemaksa par multidisciplināru sanāksmi paliatīvajiem pacientiem | C30: Piemaksa par multidisciplināru sanāksmi paliatīvajiem pacientiem | D30: 0 | E30: 0 | F30: 0 | G30: 0 | H30: 0 | I30: 1978 | J30: 0 | K30: 1978 | L30: =M30+N30 -> 0 | M30: 0 | N30: 0 | O30: =P30+Q30 -> 1978 | P30: 0 | Q30: 1978 | R30: =S30+T30 -> 0 | S30: 0 | T30: 0 | U30: =V30+W30 -> 1319 | V30: 0 | W30: =ROUND(Q30/12*8,0) -> 1319 | X30: =Y30+Z30 -> 0 | Y30: 0 | Z30: 0 | AA30: =AB30+AC30 -> 5064 | AB30: 0 | AC30: 5064 | AD30: 0 | AE30: =AA30/U30 -> 3.8392722 | AF30: =X30-R30 -> 0 | AG30: =AA30-U30 -> 3745 | AH30: 0 | AI30: =AG30-AH30 -> 3745
A31: Paula Stradiņa klīniskā universitātes slimnīca | B31: 09.62. Piemaksa par rutēnija aplikatoru izmantošanu acs melanomas ārstēšanai | C31: Piemaksa par rutēnija aplikatoru izmantošu acs melanomas ārstēšanai | D31: 0 | E31: 0 | F31: 0 | G31: 0 | H31: 0 | I31: 38084 | J31: 0 | K31: 38084 | L31: =M31+N31 -> 0 | M31: 0 | N31: 0 | O31: =P31+Q31 -> 38084 | P31: 0 | Q31: 38084 | R31: =S31+T31 -> 0 | S31: 0 | T31: 0 | U31: =V31+W31 -> 25389 | V31: 0 | W31: =ROUND(Q31/12*8,0) -> 25389 | X31: =Y31+Z31 -> 0 | Y31: 0 | Z31: 0 | AA31: =AB31+AC31 -> 28538 | AB31: 0 | AC31: 28538 | AD31: 0 | AE31: =AA31/U31 -> 1.1240301 | AF31: =X31-R31 -> 0 | AG31: =AA31-U31 -> 3149 | AH31: 0 | AI31: =AG31-AH31 -> 3149
A32: Paula Stradiņa klīniskā universitātes slimnīca | B32: 10. MK noteikumu Nr.555 7.pielikums (atbilstoši rēķiniem) | C32: Dziļās smadzeņu stimulāciju komplekti (2.1.p.) PSKUS | D32: 0 | E32: 0 | F32: 0 | G32: 0 | H32: 0 | I32: 0 | J32: 0 | K32: 0 | L32: =M32+N32 -> 0 | M32: 0 | N32: 0 | O32: =P32+Q32 -> 18695 | P32: 0 | Q32: 18695 | R32: =S32+T32 -> 0 | S32: 0 | T32: 0 | U32: =V32+W32 -> 12463 | V32: 0 | W32: =ROUND(Q32/12*8,0) -> 12463 | X32: =Y32+Z32 -> 0 | Y32: 0 | Z32: 0 | AA32: =AB32+AC32 -> 20225 | AB32: 0 | AC32: 20225 | AD32: 0 | AE32: =AA32/U32 -> 1.6228035 | AF32: =X32-R32 -> 0 | AG32: =AA32-U32 -> 7762 | AH32: 0 | AI32: =AG32-AH32 -> 7762
A33: Paula Stradiņa klīniskā universitātes slimnīca | B33: 10. MK noteikumu Nr.555 7.pielikums (atbilstoši rēķiniem) | C33: Perfūzijas komplekts (2.2.p. un 2.3.p.) PSKUS | D33: 0 | E33: 0 | F33: 0 | G33: 0 | H33: 0 | I33: 23755 | J33: 0 | K33: 23755 | L33: =M33+N33 -> 0 | M33: 0 | N33: 0 | O33: =P33+Q33 -> 23755 | P33: 0 | Q33: 23755 | R33: =S33+T33 -> 0 | S33: 0 | T33: 0 | U33: =V33+W33 -> 15837 | V33: 0 | W33: =ROUND(Q33/12*8,0) -> 15837 | X33: =Y33+Z33 -> 0 | Y33: 0 | Z33: 0 | AA33: =AB33+AC33 -> 25551 | AB33: 0 | AC33: 25551 | AD33: 0 | AE33: =AA33/U33 -> 1.6133737 | AF33: =X33-R33 -> 0 | AG33: =AA33-U33 -> 9714 | AH33: 0 | AI33: =AG33-AH33 -> 9714
A34: Paula Stradiņa klīniskā universitātes slimnīca | B34: 10.1. MK noteikumu Nr.555 7.pielikums (atbilstoši rēķiniem) | C34: Medicīniskās ierīces, lai nodrošinātu endovaskulāru trombektomiju no precerebrālām un cerebrālām artērijām (7.p.) PSKUS, RAKUS, DRS | D34: 0 | E34: 0 | F34: 0 | G34: 0 | H34: 0 | I34: 986086 | J34: 986086 | K34: 0 | L34: =M34+N34 -> 0 | M34: 0 | N34: 0 | O34: =P34+Q34 -> 986086 | P34: 986086 | Q34: 0 | R34: =S34+T34 -> 0 | S34: 0 | T34: 0 | U34: =V34+W34 -> 657391 | V34: =ROUND(P34/12*8,0) -> 657391 | W34: 0 | X34: =Y34+Z34 -> 0 | Y34: 0 | Z34: 0 | AA34: =AB34+AC34 -> 719006 | AB34: 719006 | AC34: 0 | AD34: 0 | AE34: =AA34/U34 -> 1.0937266 | AF34: =X34-R34 -> 0 | AG34: =AA34-U34 -> 61615 | AH34: 18164 | AI34: =AG34-AH34 -> 43451
A35: Paula Stradiņa klīniskā universitātes slimnīca | B35: 18. Piemaksa par ķīmijte.zāļu izlietošanu | C35: Piemaksa par ķīmijte.zāļu izlietošanu | D35: 0 | E35: 0 | F35: 0 | G35: 0 | H35: 0 | I35: 0 | J35: 0 | K35: 0 | L35: =M35+N35 -> 0 | M35: 0 | N35: 0 | O35: =P35+Q35 -> 74160 | P35: 0 | Q35: 74160 | R35: =S35+T35 -> 0 | S35: 0 | T35: 0 | U35: =V35+W35 -> 49440 | V35: 0 | W35: =ROUND(Q35/12*8,0) -> 49440 | X35: =Y35+Z35 -> 0 | Y35: 0 | Z35: 0 | AA35: =AB35+AC35 -> 108095 | AB35: 0 | AC35: 108095 | AD35: 0 | AE35: =AA35/U35 -> 2.1863875 | AF35: =X35-R35 -> 0 | AG35: =AA35-U35 -> 58655 | AH35: 0 | AI35: =AG35-AH35 -> 58655
F36: =SUM(F5:F35) -> 2457 | G36: =SUM(G5:G35) -> 0 | H36: =SUM(H5:H35) -> 2457 | I36: =SUM(I5:I35) -> 14130089 | J36: =SUM(J5:J35) -> 3023554 | K36: =SUM(K5:K35) -> 11106535 | L36: =SUM(L5:L35) -> 2528 | M36: =SUM(M5:M35) -> 0 | ... AI36: =SUM(AI5:AI35) -> 1443348
