Workbook

Sheet PIELIKUMS
B1: Pielikums
B2: Plāns ilgtermiņa aprūpes pakalpojumu pieejamības un attīstības veicināšanai
B3: Plānā iekļauto uzdevumu īstenošanai nepieciešamais valsts un pašvaldību budžeta finansējums (euro)
B4: Pasākums | C4: Budžeta programmas (apakšprogrammas) kods un nosaukums | D4: Vidēja termiņa budžeta ietvara likumā plānotais finansējums | G4: Nepieciešamais papildu finansējums
D5: 2024 | E5: 2025 | F5: 2026 | G5: 2025 | H5: 2026 | I5: 2027 | J5: turpmākajā laikposmā līdz pasākuma pabeigšanai (ja pasākuma īstenošana ir terminēta) | K5: turpmāk ik gadu (ja pasākuma izpilde nav terminēta)
B6: 1 | C6: 2 | D6: 3 | E6: 4 | F6: 5 | G6: 6 | H6: 7 | I6: 8 | J6: 9 | K6: 10
A7: 0 | B7: =tabula!C8 -> Rīcības plānā iekļauto uzdevumu īstenošanai nepieciešamais valsts un pašvaldību budžeta finansējums (euro) | C7: =tabula!D8 -> KOPĀ | D7: =tabula!E8 -> 2.3503822e+08 | E7: =tabula!F8 -> 2.6592641e+08 | F7: =tabula!G8 -> 2.5454239e+08 | G7: =tabula!H8 -> 26240209 | H7: =tabula!I8 -> 47249194 | I7: =tabula!J8 -> 76550198 | ... K7: =tabula!L8 -> 74153270
B8: =tabula!C9 -> Pašvaldību budžets | C8: =tabula!D9 -> x | D8: =tabula!E9 -> 189312195 | E8: =tabula!F9 -> 193830301 | F8: =tabula!G9 -> 222610688 | G8: =tabula!H9 -> 8531671 | H8: =tabula!I9 -> 26586333 | I8: =tabula!J9 -> 26586333 | ... K8: =tabula!L9 -> 26586333
B9: =tabula!C10 -> Vidēja termiņa budžeta ietvara likums, kopā, t.sk.: | C9: =tabula!D10 -> x | D9: =tabula!E10 -> 45726023 | E9: =tabula!F10 -> 72096109 | F9: =tabula!G10 -> 31931703 | G9: =tabula!H10 -> 17708538 | H9: =tabula!I10 -> 20662861 | I9: =tabula!J10 -> 49963865 | ... K9: =tabula!L10 -> 47566937
B10: =tabula!C11 -> valsts pamatfunkciju īstenošana | C10: =tabula!D11 -> x | D10: =tabula!E11 -> 17914834 | E10: =tabula!F11 -> 18028414 | F10: =tabula!G11 -> 18131834 | G10: =tabula!H11 -> 11277895 | H10: =tabula!I11 -> 14048041 | I10: =tabula!J11 -> 40158419 | ... K10: =tabula!L11 -> 47566937
B11: =tabula!C12 -> valsts sociālās apdrošināšanas speciālais budžets | C11: =tabula!D12 -> x | D11: =tabula!E12 -> 0 | E11: =tabula!F12 -> 0 | F11: =tabula!G12 -> 0 | G11: =tabula!H12 -> 0 | H11: =tabula!I12 -> 0 | I11: =tabula!J12 -> 0 | ... K11: =tabula!L12 -> 0
B12: =tabula!C13 -> Eiropas Savienības politiku instrumentu un pārējās ārvalstu finanšu palīdzības līdzfinansēto projektu un pasākumu īstenošana | C12: =tabula!D13 -> x | D12: =tabula!E13 -> 27811189 | E12: =tabula!F13 -> 54067695 | F12: =tabula!G13 -> 13799869 | G12: =tabula!H13 -> 6430643 | H12: =tabula!I13 -> 6614820 | I12: =tabula!J13 -> 9805446 | ... K12: =tabula!L13 -> 0
B13: =tabula!C14 -> Informatīvi Sadalījumā pa budžeta resoriem | C13: =tabula!D14 -> x | D13: =tabula!E14 -> x | E13: =tabula!F14 -> x | F13: =tabula!G14 -> x | G13: =tabula!H14 -> x | H13: =tabula!I14 -> x | I13: =tabula!J14 -> x | ... K13: =tabula!L14 -> x
B14: =tabula!C15 -> 08. Sabiedrības integrācijas fonds | C14: =tabula!D15 -> x | D14: =tabula!E15 -> 0 | E14: =tabula!F15 -> 0 | F14: =tabula!G15 -> 0 | G14: =tabula!H15 -> 4350000 | H14: =tabula!I15 -> 4500000 | I14: =tabula!J15 -> 4500000 | ... K14: =tabula!L15 -> 0
B15: =tabula!C16 -> valsts pamatfunkciju īstenošana | C15: =tabula!D16 -> x | D15: =tabula!E16 -> 0 | E15: =tabula!F16 -> 0 | F15: =tabula!G16 -> 0 | G15: =tabula!H16 -> 0 | H15: =tabula!I16 -> 0 | I15: =tabula!J16 -> 0 | ... K15: =tabula!L16 -> 0
B16: =tabula!C17 -> Eiropas Savienības politiku instrumentu un pārējās ārvalstu finanšu palīdzības līdzfinansēto projektu un pasākumu īstenošana | C16: =tabula!D17 -> x | D16: =tabula!E17 -> 0 | E16: =tabula!F17 -> 0 | F16: =tabula!G17 -> 0 | G16: =tabula!H17 -> 4350000 | H16: =tabula!I17 -> 4500000 | I16: =tabula!J17 -> 4500000 | ... K16: =tabula!L17 -> 0
B17: =tabula!C18 -> 13. Finanšu ministrija | C17: =tabula!D18 -> x | D17: =tabula!E18 -> 27267589 | E17: =tabula!F18 -> 53855595 | F17: =tabula!G18 -> 13649869 | G17: =tabula!H18 -> 0 | H17: =tabula!I18 -> 0 | I17: =tabula!J18 -> 0 | ... K17: =tabula!L18 -> 0
B18: =tabula!C19 -> valsts pamatfunkciju īstenošana | C18: =tabula!D19 -> x | D18: =tabula!E19 -> 0 | E18: =tabula!F19 -> 0 | F18: =tabula!G19 -> 0 | G18: =tabula!H19 -> 0 | H18: =tabula!I19 -> 0 | I18: =tabula!J19 -> 0 | ... K18: =tabula!L19 -> 0
B19: =tabula!C20 -> Eiropas Savienības politiku instrumentu un pārējās ārvalstu finanšu palīdzības līdzfinansēto projektu un pasākumu īstenošana | C19: =tabula!D20 -> x | D19: =tabula!E20 -> 27267589 | E19: =tabula!F20 -> 53855595 | F19: =tabula!G20 -> 13649869 | G19: =tabula!H20 -> 0 | H19: =tabula!I20 -> 0 | I19: =tabula!J20 -> 0 | ... K19: =tabula!L20 -> 0
... B29: =tabula!C30 -> Eiropas Savienības politiku instrumentu un pārējās ārvalstu finanšu palīdzības līdzfinansēto projektu un pasākumu īstenošana | C29: =tabula!D30 -> x | D29: =tabula!E30 -> 0 | E29: =tabula!F30 -> 0 | F29: =tabula!G30 -> 0 | G29: =tabula!H30 -> 0 | H29: =tabula!I30 -> 0 | I29: =tabula!J30 -> 0 | ... K29: =tabula!L30 -> 0
A30: 1 | B30: =tabula!C31 -> Nodrošināt minimālo sociālo pakalpojumu grozu un tā ietvaros ilgtermiņa aprūpes pakalpojumu pieejamību pašvaldībā | C30: =tabula!D31 -> KOPĀ | D30: =tabula!E31 -> 188315299 | E30: =tabula!F31 -> 188315299 | F30: =tabula!G31 -> 224059623 | G30: =tabula!H31 -> 8531671 | H30: =tabula!I31 -> 26586333 | I30: =tabula!J31 -> 26586333 | ... K30: =tabula!L31 -> 26586333
B31: =tabula!C32 -> Pašvaldību budžets | C31: =tabula!D32 -> x | D31: =tabula!E32 -> 182451677 | E31: =tabula!F32 -> 182451677 | F31: =tabula!G32 -> 218092581 | G31: =tabula!H32 -> 8531671 | H31: =tabula!I32 -> 26586333 | I31: =tabula!J32 -> 26586333 | ... K31: =tabula!L32 -> 26586333
B32: =tabula!C33 -> Vidēja termiņa budžeta ietvara likums, kopā, t.sk.: | C32: =tabula!D33 -> x | D32: =tabula!E33 -> 5863622 | E32: =tabula!F33 -> 5863622 | F32: =tabula!G33 -> 5967042 | G32: =tabula!H33 -> 0 | H32: =tabula!I33 -> 0 | I32: =tabula!J33 -> 0 | ... K32: =tabula!L33 -> 0
B33: =tabula!C34 -> valsts pamatfunkciju īstenošana | C33: =tabula!D44 -> 05.01.00 Sociālās rehabilitācijas valsts programmas | D33: =tabula!E34 -> 5863622 | E33: =tabula!F34 -> 5863622 | F33: =tabula!G34 -> 5967042 | G33: =tabula!H34 -> 0 | H33: =tabula!I34 -> 0 | I33: =tabula!J34 -> 0 | J33: =tabula!K34 -> 0 | K33: =tabula!L34 -> 0
B34: =tabula!C36 -> Eiropas Savienības politiku instrumentu un pārējās ārvalstu finanšu palīdzības līdzfinansēto projektu un pasākumu īstenošana | C34: =tabula!D36 -> x | D34: =tabula!E36 -> 0 | E34: =tabula!F36 -> 0 | F34: =tabula!G36 -> 0 | G34: =tabula!H36 -> 0 | H34: =tabula!I36 -> 0 | I34: =tabula!J36 -> 0 | ... K34: =tabula!L36 -> 0
A35: 2 | B35: =tabula!C53 -> Harmonizēt sociālo pakalpojumu jomā lietojamos terminus ar ES normatīvos iekļautajiem terminiem un to definīcijām ** | C35: =tabula!D53 -> KOPĀ | D35: =tabula!E53 -> 0 | E35: =tabula!F53 -> 0 | F35: =tabula!G53 -> 0 | G35: =tabula!H53 -> 0 | H35: =tabula!I53 -> 0 | I35: =tabula!J53 -> 0 | ... K35: =tabula!L53 -> 0
B36: =tabula!C54 -> Pašvaldību budžets | C36: =tabula!D54 -> x | D36: =tabula!E54 -> 0 | E36: =tabula!F54 -> 0 | F36: =tabula!G54 -> 0 | G36: =tabula!H54 -> 0 | H36: =tabula!I54 -> 0 | I36: =tabula!J54 -> 0 | ... K36: =tabula!L54 -> 0
B37: =tabula!C55 -> Vidēja termiņa budžeta ietvara likums, kopā, t.sk.: | C37: =tabula!D55 -> x | D37: =tabula!E55 -> 0 | E37: =tabula!F55 -> 0 | F37: =tabula!G55 -> 0 | G37: =tabula!H55 -> 0 | H37: =tabula!I55 -> 0 | I37: =tabula!J55 -> 0 | ... K37: =tabula!L55 -> 0
B38: =tabula!C56 -> valsts pamatfunkciju īstenošana | C38: =tabula!D66 -> apakšprogramma 97.01.00 "Labklājības nozares vadība un politikas plānošana"** | D38: =tabula!E56 -> 0 | E38: =tabula!F56 -> 0 | F38: =tabula!G56 -> 0 | G38: =tabula!H56 -> 0 | H38: =tabula!I56 -> 0 | I38: =tabula!J56 -> 0 | J38: =tabula!K56 -> 0 | K38: =tabula!L56 -> 0
B39: =tabula!C58 -> Eiropas Savienības politiku instrumentu un pārējās ārvalstu finanšu palīdzības līdzfinansēto projektu un pasākumu īstenošana | C39: =tabula!D58 -> x | D39: =tabula!E58 -> 0 | E39: =tabula!F58 -> 0 | F39: =tabula!G58 -> 0 | G39: =tabula!H58 -> 0 | H39: =tabula!I58 -> 0 | I39: =tabula!J58 -> 0 | ... K39: =tabula!L58 -> 0
A40: 3 | B40: =tabula!C75 -> Pārskatīt sociālo pakalpojumu samaksas kārtību personai, personas apgādniekiem | C40: =tabula!D75 -> KOPĀ | D40: =tabula!E75 -> 120200 | E40: =tabula!F75 -> 0 | F40: =tabula!G75 -> 0 | G40: =tabula!H75 -> 0 | H40: =tabula!I75 -> 0 | I40: =tabula!J75 -> 0 | ... K40: =tabula!L75 -> 0
B41: =tabula!C76 -> Pašvaldību budžets | C41: =tabula!D76 -> x | D41: =tabula!E76 -> 0 | E41: =tabula!F76 -> 0 | F41: =tabula!G76 -> 0 | G41: =tabula!H76 -> 0 | H41: =tabula!I76 -> 0 | I41: =tabula!J76 -> 0 | ... K41: =tabula!L76 -> 0
B42: =tabula!C77 -> Vidēja termiņa budžeta ietvara likums, kopā, t.sk.: | C42: =tabula!D77 -> x | D42: =tabula!E77 -> 120200 | E42: =tabula!F77 -> 0 | F42: =tabula!G77 -> 0 | G42: =tabula!H77 -> 0 | H42: =tabula!I77 -> 0 | I42: =tabula!J77 -> 0 | ... K42: =tabula!L77 -> 0
B43: =tabula!C78 -> valsts pamatfunkciju īstenošana | C43: =tabula!D88 -> apakšprogramma 05.63.00 „Dotācija biedrībām, nodibinājumiem un reliģiskām organizācijām” | D43: =tabula!E78 -> 5000 | E43: =tabula!F78 -> 0 | F43: =tabula!G78 -> 0 | G43: =tabula!H78 -> 0 | H43: =tabula!I78 -> 0 | I43: =tabula!J78 -> 0 | J43: =tabula!K78 -> 0 | K43: =tabula!L78 -> 0
B44: =tabula!C80 -> Eiropas Savienības politiku instrumentu un pārējās ārvalstu finanšu palīdzības līdzfinansēto projektu un pasākumu īstenošana | C44: =tabula!D90 -> apakšprogramma 70.50.00 “Tehniskā palīdzība ERAF, ESF+, KF, TPF finansējuma apgūšanai (2021-2027)” | D44: =tabula!E80 -> 115200 | E44: =tabula!F80 -> 0 | F44: =tabula!G80 -> 0 | G44: =tabula!H80 -> 0 | H44: =tabula!I80 -> 0 | I44: =tabula!J80 -> 0 | J44: =tabula!K80 -> 0 | K44: =tabula!L80 -> 0
A45: 4 | B45: =tabula!C97 -> Ieviest jaunus sociālo pakalpojumu apmaksas modeļus | C45: =tabula!D97 -> KOPĀ | D45: =tabula!E97 -> 0 | E45: =tabula!F97 -> 0 | F45: =tabula!G97 -> 0 | G45: =tabula!H97 -> 0 | H45: =tabula!I97 -> 0 | I45: =tabula!J97 -> 18610378 | ... K45: =tabula!L97 -> 26018896
B46: =tabula!C98 -> Pašvaldību budžets | C46: =tabula!D98 -> x | D46: =tabula!E98 -> 0 | E46: =tabula!F98 -> 0 | F46: =tabula!G98 -> 0 | G46: =tabula!H98 -> 0 | H46: =tabula!I98 -> 0 | I46: =tabula!J98 -> 0 | ... K46: =tabula!L98 -> 0
B47: =tabula!C99 -> Vidēja termiņa budžeta ietvara likums, kopā, t.sk.: | C47: =tabula!D99 -> x | D47: =tabula!E99 -> 0 | E47: =tabula!F99 -> 0 | F47: =tabula!G99 -> 0 | G47: =tabula!H99 -> 0 | H47: =tabula!I99 -> 0 | I47: =tabula!J99 -> 18610378 | ... K47: =tabula!L99 -> 26018896
B48: =tabula!C100 -> valsts pamatfunkciju īstenošana | C48: =tabula!D110 -> 05.01.00 Sociālās rehabilitācijas valsts programmas | D48: =tabula!E100 -> 0 | E48: =tabula!F100 -> 0 | F48: =tabula!G100 -> 0 | G48: =tabula!H100 -> 0 | H48: =tabula!I100 -> 0 | I48: =tabula!J100 -> 18610378 | J48: =tabula!K100 -> 22164466 | K48: =tabula!L100 -> 26018896
B49: =tabula!C102 -> Eiropas Savienības politiku instrumentu un pārējās ārvalstu finanšu palīdzības līdzfinansēto projektu un pasākumu īstenošana | C49: =tabula!D102 -> x | D49: =tabula!E102 -> 0 | E49: =tabula!F102 -> 0 | F49: =tabula!G102 -> 0 | G49: =tabula!H102 -> 0 | H49: =tabula!I102 -> 0 | I49: =tabula!J102 -> 0 | ... K49: =tabula!L102 -> 0
A50: 5 | B50: =tabula!C119 -> Pārskatīt ilgtermiņa aprūpes pakalpojumu nodrošināšanas procesus regulējošos normatīvos aktus ** | C50: =tabula!D119 -> KOPĀ | D50: =tabula!E119 -> 0 | E50: =tabula!F119 -> 0 | F50: =tabula!G119 -> 0 | G50: =tabula!H119 -> 0 | H50: =tabula!I119 -> 0 | I50: =tabula!J119 -> 0 | ... K50: =tabula!L119 -> 0
B51: =tabula!C120 -> Pašvaldību budžets | C51: =tabula!D120 -> x | D51: =tabula!E120 -> 0 | E51: =tabula!F120 -> 0 | F51: =tabula!G120 -> 0 | G51: =tabula!H120 -> 0 | H51: =tabula!I120 -> 0 | I51: =tabula!J120 -> 0 | ... K51: =tabula!L120 -> 0
B52: =tabula!C121 -> Vidēja termiņa budžeta ietvara likums, kopā, t.sk.: | C52: =tabula!D121 -> x | D52: =tabula!E121 -> 0 | E52: =tabula!F121 -> 0 | F52: =tabula!G121 -> 0 | G52: =tabula!H121 -> 0 | H52: =tabula!I121 -> 0 | I52: =tabula!J121 -> 0 | ... K52: =tabula!L121 -> 0
B53: =tabula!C122 -> valsts pamatfunkciju īstenošana | C53: =tabula!D132 -> apakšprogramma 97.01.00 "Labklājības nozares vadība un politikas plānošana"** | D53: =tabula!E122 -> 0 | E53: =tabula!F122 -> 0 | F53: =tabula!G122 -> 0 | G53: =tabula!H122 -> 0 | H53: =tabula!I122 -> 0 | I53: =tabula!J122 -> 0 | J53: =tabula!K122 -> 0 | K53: =tabula!L122 -> 0
B54: =tabula!C124 -> Eiropas Savienības politiku instrumentu un pārējās ārvalstu finanšu palīdzības līdzfinansēto projektu un pasākumu īstenošana | C54: =tabula!D124 -> x | D54: =tabula!E124 -> 0 | E54: =tabula!F124 -> 0 | F54: =tabula!G124 -> 0 | G54: =tabula!H124 -> 0 | H54: =tabula!I124 -> 0 | I54: =tabula!J124 -> 0 | ... K54: =tabula!L124 -> 0
A55: 6 | B55: =tabula!C141 -> Pilnveidot pakalpojumu kvalitātes novērtēšanu un nodrošināt to ievērošanas uzraudzību ** | C55: =tabula!D141 -> KOPĀ | D55: =tabula!E141 -> 0 | E55: =tabula!F141 -> 0 | F55: =tabula!G141 -> 0 | G55: =tabula!H141 -> 0 | H55: =tabula!I141 -> 0 | I55: =tabula!J141 -> 0 | ... K55: =tabula!L141 -> 0
B56: =tabula!C142 -> Pašvaldību budžets | C56: =tabula!D142 -> x | D56: =tabula!E142 -> 0 | E56: =tabula!F142 -> 0 | F56: =tabula!G142 -> 0 | G56: =tabula!H142 -> 0 | H56: =tabula!I142 -> 0 | I56: =tabula!J142 -> 0 | ... K56: =tabula!L142 -> 0
B57: =tabula!C143 -> Vidēja termiņa budžeta ietvara likums, kopā, t.sk.: | C57: =tabula!D143 -> x | D57: =tabula!E143 -> 0 | E57: =tabula!F143 -> 0 | F57: =tabula!G143 -> 0 | G57: =tabula!H143 -> 0 | H57: =tabula!I143 -> 0 | I57: =tabula!J143 -> 0 | ... K57: =tabula!L143 -> 0
B58: =tabula!C144 -> valsts pamatfunkciju īstenošana | C58: =tabula!D154 -> apakšprogramma 97.01.00 "Labklājības nozares vadība un politikas plānošana"** | D58: =tabula!E144 -> 0 | E58: =tabula!F144 -> 0 | F58: =tabula!G144 -> 0 | G58: =tabula!H144 -> 0 | H58: =tabula!I144 -> 0 | I58: =tabula!J144 -> 0 | J58: =tabula!K144 -> 0 | K58: =tabula!L144 -> 0
B59: =tabula!C146 -> Eiropas Savienības politiku instrumentu un pārējās ārvalstu finanšu palīdzības līdzfinansēto projektu un pasākumu īstenošana | C59: =tabula!D146 -> x | D59: =tabula!E146 -> 0 | E59: =tabula!F146 -> 0 | F59: =tabula!G146 -> 0 | G59: =tabula!H146 -> 0 | H59: =tabula!I146 -> 0 | I59: =tabula!J146 -> 0 | ... K59: =tabula!L146 -> 0
A60: 7 | B60: =tabula!C163 -> Nodrošināt veselības un sociālās aprūpes pakalpojumu integritāti ilgtermiņa aprūpes pakalpojumos | C60: =tabula!D163 -> KOPĀ | D60: =tabula!E163 -> 0 | E60: =tabula!F163 -> 0 | F60: =tabula!G163 -> 0 | G60: =tabula!H163 -> 1800000 | H60: =tabula!I163 -> 0 | I60: =tabula!J163 -> 0 | ... K60: =tabula!L163 -> 0
B61: =tabula!C164 -> Pašvaldību budžets | C61: =tabula!D164 -> x | D61: =tabula!E164 -> 0 | E61: =tabula!F164 -> 0 | F61: =tabula!G164 -> 0 | G61: =tabula!H164 -> 0 | H61: =tabula!I164 -> 0 | I61: =tabula!J164 -> 0 | ... K61: =tabula!L164 -> 0
B62: =tabula!C165 -> Vidēja termiņa budžeta ietvara likums, kopā, t.sk.: | C62: =tabula!D165 -> x | D62: =tabula!E165 -> 0 | E62: =tabula!F165 -> 0 | F62: =tabula!G165 -> 0 | G62: =tabula!H165 -> 1800000 | H62: =tabula!I165 -> 0 | I62: =tabula!J165 -> 0 | ... K62: =tabula!L165 -> 0
B63: =tabula!C166 -> valsts pamatfunkciju īstenošana | C63: =tabula!D176 -> 05.01.00 Sociālās rehabilitācijas valsts programmas | D63: =tabula!E166 -> 0 | E63: =tabula!F166 -> 0 | F63: =tabula!G166 -> 0 | G63: =tabula!H166 -> 1800000 | H63: =tabula!I166 -> 0 | I63: =tabula!J166 -> 0 | J63: =tabula!K166 -> 0 | K63: =tabula!L166 -> 0
B64: =tabula!C168 -> Eiropas Savienības politiku instrumentu un pārējās ārvalstu finanšu palīdzības līdzfinansēto projektu un pasākumu īstenošana | C64: =tabula!D168 -> x | D64: =tabula!E168 -> 0 | E64: =tabula!F168 -> 0 | F64: =tabula!G168 -> 0 | G64: =tabula!H168 -> 0 | H64: =tabula!I168 -> 0 | I64: =tabula!J168 -> 0 | ... K64: =tabula!L168 -> 0
A65: 8 | B65: =tabula!C185 -> Veicināt ģimeniskai videi pietuvināta pakalpojuma veidošanu ilgstošas sociālās aprūpes un sociālās rehabilitācijas institūcijās | C65: =tabula!D185 -> KOPĀ | D65: =tabula!E185 -> 34128107 | E65: =tabula!F185 -> 65234219 | F65: =tabula!G185 -> 18167976 | G65: =tabula!H185 -> 0 | H65: =tabula!I185 -> 0 | I65: =tabula!J185 -> 0 | ... K65: =tabula!L185 -> 0
B66: =tabula!C186 -> Pašvaldību budžets | C66: =tabula!D186 -> x | D66: =tabula!E186 -> 6860518 | E66: =tabula!F186 -> 11378624 | F66: =tabula!G186 -> 4518107 | G66: =tabula!H186 -> 0 | H66: =tabula!I186 -> 0 | I66: =tabula!J186 -> 0 | ... K66: =tabula!L186 -> 0
B67: =tabula!C187 -> Vidēja termiņa budžeta ietvara likums, kopā, t.sk.: | C67: =tabula!D187 -> x | D67: =tabula!E187 -> 27267589 | E67: =tabula!F187 -> 53855595 | F67: =tabula!G187 -> 13649869 | G67: =tabula!H187 -> 0 | H67: =tabula!I187 -> 0 | I67: =tabula!J187 -> 0 | ... K67: =tabula!L187 -> 0
B68: =tabula!C188 -> valsts pamatfunkciju īstenošana | C68: =tabula!D188 -> x | D68: =tabula!E188 -> 0 | E68: =tabula!F188 -> 0 | F68: =tabula!G188 -> 0 | G68: =tabula!H188 -> 0 | H68: =tabula!I188 -> 0 | I68: =tabula!J188 -> 0 | ... K68: =tabula!L188 -> 0
B69: =tabula!C190 -> Eiropas Savienības politiku instrumentu un pārējās ārvalstu finanšu palīdzības līdzfinansēto projektu un pasākumu īstenošana | C69: =tabula!D196 -> apakšprogrammā 74.07. "Atveseļošanas un noturības mehānisma (ANM) finansējums projektu un pasākumu īstenotajiem" | D69: =tabula!E190 -> 27267589 | E69: =tabula!F190 -> 53855595 | F69: =tabula!G190 -> 13649869 | G69: =tabula!H190 -> 0 | H69: =tabula!I190 -> 0 | I69: =tabula!J190 -> 0 | J69: =tabula!K190 -> 0 | K69: =tabula!L190 -> 0
A70: 9 | B70: =tabula!C207 -> Nodrošināt klientu pašaprūpes spējām un objektīvajām vajadzībām atbilstošus sociālos pakalpojumus * | C70: =tabula!D207 -> KOPĀ | D70: =tabula!E207 -> 0 | E70: =tabula!F207 -> 0 | F70: =tabula!G207 -> 0 | G70: =tabula!H207 -> 725643 | H70: =tabula!I207 -> 969820 | I70: =tabula!J207 -> 1605446 | ... K70: =tabula!L207 -> 0
B71: =tabula!C208 -> Pašvaldību budžets | C71: =tabula!D208 -> x | D71: =tabula!E208 -> 0 | E71: =tabula!F208 -> 0 | F71: =tabula!G208 -> 0 | G71: =tabula!H208 -> 0 | H71: =tabula!I208 -> 0 | I71: =tabula!J208 -> 0 | ... K71: =tabula!L208 -> 0
B72: =tabula!C209 -> Vidēja termiņa budžeta ietvara likums, kopā, t.sk.: | C72: =tabula!D209 -> x | D72: =tabula!E209 -> 0 | E72: =tabula!F209 -> 0 | F72: =tabula!G209 -> 0 | G72: =tabula!H209 -> 725643 | H72: =tabula!I209 -> 969820 | I72: =tabula!J209 -> 1605446 | ... K72: =tabula!L209 -> 0
B73: =tabula!C210 -> valsts pamatfunkciju īstenošana | C73: =tabula!D210 -> x | D73: =tabula!E210 -> 0 | E73: =tabula!F210 -> 0 | F73: =tabula!G210 -> 0 | G73: =tabula!H210 -> 0 | H73: =tabula!I210 -> 0 | I73: =tabula!J210 -> 0 | ... K73: =tabula!L210 -> 0
B74: =tabula!C212 -> Eiropas Savienības politiku instrumentu un pārējās ārvalstu finanšu palīdzības līdzfinansēto projektu un pasākumu īstenošana | C74: =tabula!D222 -> 63.08.00 “Eiropas Sociālā fonda Plus (ESF+) projektu un pasākumu īstenošana (2021.-2027.)” | D74: =tabula!E212 -> 0 | E74: =tabula!F212 -> 0 | F74: =tabula!G212 -> 0 | G74: =tabula!H212 -> 725643 | H74: =tabula!I212 -> 969820 | I74: =tabula!J212 -> 1605446 | J74: =tabula!K212 -> 3899091 | K74: =tabula!L212 -> 0
A75: 10 | B75: =tabula!C229 -> Paplašināt inovatīvas pieejas aprūpes pakalpojumos, tai skaitā pielietojot tehnoloģiskos risinājumus | C75: =tabula!D229 -> KOPĀ | D75: =tabula!E229 -> 0 | E75: =tabula!F229 -> 0 | F75: =tabula!G229 -> 0 | G75: =tabula!H229 -> 4350000 | H75: =tabula!I229 -> 4500000 | I75: =tabula!J229 -> 4500000 | ... K75: =tabula!L229 -> 0
B76: =tabula!C230 -> Pašvaldību budžets | C76: =tabula!D230 -> x | D76: =tabula!E230 -> 0 | E76: =tabula!F230 -> 0 | F76: =tabula!G230 -> 0 | G76: =tabula!H230 -> 0 | H76: =tabula!I230 -> 0 | I76: =tabula!J230 -> 0 | ... K76: =tabula!L230 -> 0
B77: =tabula!C231 -> Vidēja termiņa budžeta ietvara likums, kopā, t.sk.: | C77: =tabula!D231 -> x | D77: =tabula!E231 -> 0 | E77: =tabula!F231 -> 0 | F77: =tabula!G231 -> 0 | G77: =tabula!H231 -> 4350000 | H77: =tabula!I231 -> 4500000 | I77: =tabula!J231 -> 4500000 | ... K77: =tabula!L231 -> 0
B78: =tabula!C232 -> valsts pamatfunkciju īstenošana | C78: =tabula!D232 -> x | D78: =tabula!E232 -> 0 | E78: =tabula!F232 -> 0 | F78: =tabula!G232 -> 0 | G78: =tabula!H232 -> 0 | H78: =tabula!I232 -> 0 | I78: =tabula!J232 -> 0 | ... K78: =tabula!L232 -> 0
B79: =tabula!C234 -> Eiropas Savienības politiku instrumentu un pārējās ārvalstu finanšu palīdzības līdzfinansēto projektu un pasākumu īstenošana | C79: =tabula!D237 -> 63.10.00 “Eiropas Sociālā fonda Plus (ESF+) projektu īstenošana (2021–2027)” | D79: =tabula!E234 -> 0 | E79: =tabula!F234 -> 0 | F79: =tabula!G234 -> 0 | G79: =tabula!H234 -> 4350000 | H79: =tabula!I234 -> 4500000 | I79: =tabula!J234 -> 4500000 | J79: =tabula!K234 -> 0 | K79: =tabula!L234 -> 0
A80: 11 | B80: =tabula!C251 -> Uzlabot personu ar GRT patstāvīgās dzīves iespējas | C80: =tabula!D251 -> KOPĀ | D80: =tabula!E251 -> 510835 | E80: =tabula!F251 -> 629321 | F80: =tabula!G251 -> 629321 | G80: =tabula!H251 -> 910113 | H80: =tabula!I251 -> 4019609 | I80: =tabula!J251 -> 4019609 | ... K80: =tabula!L251 -> 4019609
B81: =tabula!C252 -> Pašvaldību budžets | C81: =tabula!D252 -> x | D81: =tabula!E252 -> 0 | E81: =tabula!F252 -> 0 | F81: =tabula!G252 -> 0 | G81: =tabula!H252 -> 0 | H81: =tabula!I252 -> 0 | I81: =tabula!J252 -> 0 | ... K81: =tabula!L252 -> 0
B82: =tabula!C253 -> Vidēja termiņa budžeta ietvara likums, kopā, t.sk.: | C82: =tabula!D253 -> x | D82: =tabula!E253 -> 510835 | E82: =tabula!F253 -> 629321 | F82: =tabula!G253 -> 629321 | G82: =tabula!H253 -> 910113 | H82: =tabula!I253 -> 4019609 | I82: =tabula!J253 -> 4019609 | ... K82: =tabula!L253 -> 4019609
B83: =tabula!C254 -> valsts pamatfunkciju īstenošana | C83: =tabula!D264 -> 05.01.00 Sociālās rehabilitācijas valsts programmas | D83: =tabula!E254 -> 510835 | E83: =tabula!F254 -> 629321 | F83: =tabula!G254 -> 629321 | G83: =tabula!H254 -> 910113 | H83: =tabula!I254 -> 4019609 | I83: =tabula!J254 -> 4019609 | J83: =tabula!K254 -> 0 | K83: =tabula!L254 -> 4019609
B84: =tabula!C256 -> Eiropas Savienības politiku instrumentu un pārējās ārvalstu finanšu palīdzības līdzfinansēto projektu un pasākumu īstenošana | C84: =tabula!D256 -> x | D84: =tabula!E256 -> 0 | E84: =tabula!F256 -> 0 | F84: =tabula!G256 -> 0 | G84: =tabula!H256 -> 0 | H84: =tabula!I256 -> 0 | I84: =tabula!J256 -> 0 | ... K84: =tabula!L256 -> 0
A85: 12 | B85: =tabula!C273 -> Izveidot sociālo pakalpojumu sniedzēju infrastruktūras sakārtošanas finansēšanas programmas | C85: =tabula!D273 -> KOPĀ | D85: =tabula!E273 -> 0 | E85: =tabula!F273 -> 0 | F85: =tabula!G273 -> 0 | G85: =tabula!H273 -> 0 | H85: =tabula!I273 -> 0 | I85: =tabula!J273 -> 7500000 | ... K85: =tabula!L273 -> 7500000
B86: =tabula!C274 -> Pašvaldību budžets | C86: =tabula!D274 -> x | D86: =tabula!E274 -> 0 | E86: =tabula!F274 -> 0 | F86: =tabula!G274 -> 0 | G86: =tabula!H274 -> 0 | H86: =tabula!I274 -> 0 | I86: =tabula!J274 -> 0 | ... K86: =tabula!L274 -> 0
B87: =tabula!C275 -> Vidēja termiņa budžeta ietvara likums, kopā, t.sk.: | C87: =tabula!D275 -> x | D87: =tabula!E275 -> 0 | E87: =tabula!F275 -> 0 | F87: =tabula!G275 -> 0 | G87: =tabula!H275 -> 0 | H87: =tabula!I275 -> 0 | I87: =tabula!J275 -> 7500000 | ... K87: =tabula!L275 -> 7500000
B88: =tabula!C276 -> valsts pamatfunkciju īstenošana | C88: =tabula!D286 -> jauna LM apakšprogramma | D88: =tabula!E276 -> 0 | E88: =tabula!F276 -> 0 | F88: =tabula!G276 -> 0 | G88: =tabula!H276 -> 0 | H88: =tabula!I276 -> 0 | I88: =tabula!J276 -> 7500000 | J88: =tabula!K276 -> 0 | K88: =tabula!L276 -> 7500000
B89: =tabula!C278 -> Eiropas Savienības politiku instrumentu un pārējās ārvalstu finanšu palīdzības līdzfinansēto projektu un pasākumu īstenošana | C89: =tabula!D278 -> x | D89: =tabula!E278 -> 0 | E89: =tabula!F278 -> 0 | F89: =tabula!G278 -> 0 | G89: =tabula!H278 -> 0 | H89: =tabula!I278 -> 0 | I89: =tabula!J278 -> 0 | ... K89: =tabula!L278 -> 0
A90: 13 | B90: =tabula!C295 -> Uzlabot tehnisko palīglīdzekļu un tehnoloģiju nodrošinājumu (funkcionālās gultas, pacēlāji, slīdpalagi, slīddēļi, vertikalizatori u.c.) aprūpes institūcijās | C90: =tabula!D295 -> KOPĀ | D90: =tabula!E295 -> 0 | E90: =tabula!F295 -> 0 | F90: =tabula!G295 -> 0 | G90: =tabula!H295 -> 0 | H90: =tabula!I295 -> 1430400 | I90: =tabula!J295 -> 1430400 | ... K90: =tabula!L295 -> 1430400
B91: =tabula!C296 -> Pašvaldību budžets | C91: =tabula!D296 -> x | D91: =tabula!E296 -> 0 | E91: =tabula!F296 -> 0 | F91: =tabula!G296 -> 0 | G91: =tabula!H296 -> 0 | H91: =tabula!I296 -> 0 | I91: =tabula!J296 -> 0 | ... K91: =tabula!L296 -> 0
B92: =tabula!C297 -> Vidēja termiņa budžeta ietvara likums, kopā, t.sk.: | C92: =tabula!D297 -> x | D92: =tabula!E297 -> 0 | E92: =tabula!F297 -> 0 | F92: =tabula!G297 -> 0 | G92: =tabula!H297 -> 0 | H92: =tabula!I297 -> 1430400 | I92: =tabula!J297 -> 1430400 | ... K92: =tabula!L297 -> 1430400
B93: =tabula!C298 -> valsts pamatfunkciju īstenošana | C93: =tabula!D308 -> jauna LM apakšprogramma | D93: =tabula!E298 -> 0 | E93: =tabula!F298 -> 0 | F93: =tabula!G298 -> 0 | G93: =tabula!H298 -> 0 | H93: =tabula!I298 -> 1430400 | I93: =tabula!J298 -> 1430400 | J93: =tabula!K298 -> 0 | K93: =tabula!L298 -> 1430400
B94: =tabula!C300 -> Eiropas Savienības politiku instrumentu un pārējās ārvalstu finanšu palīdzības līdzfinansēto projektu un pasākumu īstenošana | C94: =tabula!D300 -> x | D94: =tabula!E300 -> 0 | E94: =tabula!F300 -> 0 | F94: =tabula!G300 -> 0 | G94: =tabula!H300 -> 0 | H94: =tabula!I300 -> 0 | I94: =tabula!J300 -> 0 | ... K94: =tabula!L300 -> 0
A95: 14 | B95: =tabula!C317 -> Uzlabot tehnisko palīglīdzekļu, digitālo un tehnoloģisko risinājumu pieejamību | C95: =tabula!D317 -> KOPĀ | D95: =tabula!E317 -> 11535377 | E95: =tabula!F317 -> 11535471 | F95: =tabula!G317 -> 11535471 | G95: =tabula!H317 -> 1862580 | H95: =tabula!I317 -> 1862580 | I95: =tabula!J317 -> 1862580 | ... K95: =tabula!L317 -> 1862580
B96: =tabula!C318 -> Pašvaldību budžets | C96: =tabula!D318 -> x | D96: =tabula!E318 -> 0 | E96: =tabula!F318 -> 0 | F96: =tabula!G318 -> 0 | G96: =tabula!H318 -> 0 | H96: =tabula!I318 -> 0 | I96: =tabula!J318 -> 0 | ... K96: =tabula!L318 -> 0
B97: =tabula!C319 -> Vidēja termiņa budžeta ietvara likums, kopā, t.sk.: | C97: =tabula!D319 -> x | D97: =tabula!E319 -> 11535377 | E97: =tabula!F319 -> 11535471 | F97: =tabula!G319 -> 11535471 | G97: =tabula!H319 -> 1862580 | H97: =tabula!I319 -> 1862580 | I97: =tabula!J319 -> 1862580 | ... K97: =tabula!L319 -> 1862580
B98: =tabula!C320 -> valsts pamatfunkciju īstenošana | C98: =tabula!D330 -> 05.01.00 Sociālās rehabilitācijas valsts programmas* | D98: =tabula!E320 -> 11535377 | E98: =tabula!F320 -> 11535471 | F98: =tabula!G320 -> 11535471 | G98: =tabula!H320 -> 1862580 | H98: =tabula!I320 -> 1862580 | I98: =tabula!J320 -> 1862580 | J98: =tabula!K320 -> 0 | K98: =tabula!L320 -> 1862580
B99: =tabula!C322 -> Eiropas Savienības politiku instrumentu un pārējās ārvalstu finanšu palīdzības līdzfinansēto projektu un pasākumu īstenošana | C99: =tabula!D322 -> x | D99: =tabula!E322 -> 0 | E99: =tabula!F322 -> 0 | F99: =tabula!G322 -> 0 | G99: =tabula!H322 -> 0 | H99: =tabula!I322 -> 0 | I99: =tabula!J322 -> 0 | ... K99: =tabula!L322 -> 0
A100: 15 | B100: =tabula!C339 -> Veicināt sabiedrības informēšanu un ilgtermiņa aprūpes speciālistu profesijas prestiža paaugstināšanu ** | C100: =tabula!D339 -> KOPĀ | D100: =tabula!E339 -> 0 | E100: =tabula!F339 -> 0 | F100: =tabula!G339 -> 0 | G100: =tabula!H339 -> 0 | H100: =tabula!I339 -> 0 | I100: =tabula!J339 -> 0 | ... K100: =tabula!L339 -> 0
B101: =tabula!C340 -> Pašvaldību budžets | C101: =tabula!D340 -> x | D101: =tabula!E340 -> 0 | E101: =tabula!F340 -> 0 | F101: =tabula!G340 -> 0 | G101: =tabula!H340 -> 0 | H101: =tabula!I340 -> 0 | I101: =tabula!J340 -> 0 | ... K101: =tabula!L340 -> 0
B102: =tabula!C341 -> Vidēja termiņa budžeta ietvara likums, kopā, t.sk.: | C102: =tabula!D341 -> x | D102: =tabula!E341 -> 0 | E102: =tabula!F341 -> 0 | F102: =tabula!G341 -> 0 | G102: =tabula!H341 -> 0 | H102: =tabula!I341 -> 0 | I102: =tabula!J341 -> 0 | ... K102: =tabula!L341 -> 0
B103: =tabula!C342 -> valsts pamatfunkciju īstenošana | C103: =tabula!D352 -> apakšprogramma 97.01.00 "Labklājības nozares vadība un politikas plānošana"** | D103: =tabula!E342 -> 0 | E103: =tabula!F342 -> 0 | F103: =tabula!G342 -> 0 | G103: =tabula!H342 -> 0 | H103: =tabula!I342 -> 0 | I103: =tabula!J342 -> 0 | J103: =tabula!K342 -> 0 | K103: =tabula!L342 -> 0
B104: =tabula!C344 -> Eiropas Savienības politiku instrumentu un pārējās ārvalstu finanšu palīdzības līdzfinansēto projektu un pasākumu īstenošana | C104: =tabula!D344 -> x | D104: =tabula!E344 -> 0 | E104: =tabula!F344 -> 0 | F104: =tabula!G344 -> 0 | G104: =tabula!H344 -> 0 | H104: =tabula!I344 -> 0 | I104: =tabula!J344 -> 0 | ... K104: =tabula!L344 -> 0
A105: 16 | B105: =tabula!C361 -> Aprūpētāji/ Formālie aprūpētāji Nodrošināt pietiekamu darbinieku skaitu un konkurētspējīgu atalgojumu | C105: =tabula!D361 -> KOPĀ | D105: =tabula!E361 -> 0 | E105: =tabula!F361 -> 0 | F105: =tabula!G361 -> 0 | G105: =tabula!H361 -> 6674952 | H105: =tabula!I361 -> 6674952 | I105: =tabula!J361 -> 6674952 | ... K105: =tabula!L361 -> 6674952
B106: =tabula!C362 -> Pašvaldību budžets | C106: =tabula!D362 -> x | D106: =tabula!E362 -> 0 | E106: =tabula!F362 -> 0 | F106: =tabula!G362 -> 0 | G106: =tabula!H362 -> 0 | H106: =tabula!I362 -> 0 | I106: =tabula!J362 -> 0 | ... K106: =tabula!L362 -> 0
B107: =tabula!C363 -> Vidēja termiņa budžeta ietvara likums, kopā, t.sk.: | C107: =tabula!D363 -> x | D107: =tabula!E363 -> 0 | E107: =tabula!F363 -> 0 | F107: =tabula!G363 -> 0 | G107: =tabula!H363 -> 6674952 | H107: =tabula!I363 -> 6674952 | I107: =tabula!J363 -> 6674952 | ... K107: =tabula!L363 -> 6674952
B108: =tabula!C364 -> valsts pamatfunkciju īstenošana | C108: =tabula!D374 -> 05.01.00 Sociālās rehabilitācijas valsts programmas | D108: =tabula!E364 -> 0 | E108: =tabula!F364 -> 0 | F108: =tabula!G364 -> 0 | G108: =tabula!H364 -> 6674952 | H108: =tabula!I364 -> 6674952 | I108: =tabula!J364 -> 6674952 | J108: =tabula!K364 -> 0 | K108: =tabula!L364 -> 6674952
B109: =tabula!C366 -> Eiropas Savienības politiku instrumentu un pārējās ārvalstu finanšu palīdzības līdzfinansēto projektu un pasākumu īstenošana | C109: =tabula!D376 -> 63.08.00 “Eiropas Sociālā fonda Plus (ESF+) projektu un pasākumu īstenošana (2021.-2027.)” (pasākumaam finansējums iekļauts 9. pasākuma izdevumos) | D109: =tabula!E366 -> 0 | E109: =tabula!F366 -> 0 | F109: =tabula!G366 -> 0 | G109: =tabula!H366 -> 0 | H109: =tabula!I366 -> 0 | I109: =tabula!J366 -> 0 | J109: =tabula!K366 -> 0 | K109: =tabula!L366 -> 0
...

Sheet tabula
C1: tabula
C2: Pielikums
C3: Rīcības plāns ilgtermiņa aprūpes pakalpojumu pieejamības un attīstības veicināšanai
C4: Rīcības plānā iekļauto uzdevumu īstenošanai nepieciešamais valsts un pašvaldību budžeta finansējums (euro)
C5: Pasākums | D5: Budžeta programmas (apakšprogrammas) kods un nosaukums | E5: Vidēja termiņa budžeta ietvara likumā plānotais finansējums | H5: Nepieciešamais papildu finansējums | M5: Pasākuma īstenošanas gads (ja pasākuma īstenošana ir terminēta) | N5: Komentārs
E6: 2024 | F6: 2025 | G6: 2026 | H6: 2025 | I6: 2026 | J6: 2027 | K6: turpmākajā laikposmā līdz pasākuma pabeigšanai (ja pasākuma īstenošana ir terminēta) | L6: turpmāk ik gadu (ja pasākuma izpilde nav terminēta)
C7: 1 | D7: 2 | E7: 3 | F7: 4 | G7: 5 | H7: 6 | I7: 7 | J7: 8 | K7: 9 | L7: 10 | M7: 11 | N7: 12
A8: 0 | C8: Rīcības plānā iekļauto uzdevumu īstenošanai nepieciešamais valsts un pašvaldību budžeta finansējums (euro) | D8: KOPĀ | E8: =E31+E53+E75+E97+E119+E141+E163+E185+E207+E229+E251+E273+E295+E317+E339+E361+E383+E405+E427+E449+E471+E493+E515+E537+E559+E581+E603+E625+E647+E669 -> 2.3503822e+08 | F8: =F31+F53+F75+F97+F119+F141+F163+F185+F207+F229+F251+F273+F295+F317+F339+F361+F383+F405+F427+F449+F471+F493+F515+F537+F559+F581+F603+F625+F647+F669 -> 2.6592641e+08 | G8: =G31+G53+G75+G97+G119+G141+G163+G185+G207+G229+G251+G273+G295+G317+G339+G361+G383+G405+G427+G449+G471+G493+G515+G537+G559+G581+G603+G625+G647+G669 -> 2.5454239e+08 | H8: =H31+H53+H75+H97+H119+H141+H163+H185+H207+H229+H251+H273+H295+H317+H339+H361+H383+H405+H427+H449+H471+H493+H515+H537+H559+H581+H603+H625+H647+H669 -> 26240209 | I8: =I31+I53+I75+I97+I119+I141+I163+I185+I207+I229+I251+I273+I295+I317+I339+I361+I383+I405+I427+I449+I471+I493+I515+I537+I559+I581+I603+I625+I647+I669 -> 47249194 | J8: =J31+J53+J75+J97+J119+J141+J163+J185+J207+J229+J251+J273+J295+J317+J339+J361+J383+J405+J427+J449+J471+J493+J515+J537+J559+J581+J603+J625+J647+J669 -> 76550198 | K8: =K31+K53+K75+K97+K119+K141+K163+K185+K207+K229+K251+K273+K295+K317+K339+K361+K383+K405+K427+K449+K471+K493+K515+K537+K559+K581+K603+K625+K647+K669 -> 26063557 | L8: =L31+L53+L75+L97+L119+L141+L163+L185+L207+L229+L251+L273+L295+L317+L339+L361+L383+L405+L427+L449+L471+L493+L515+L537+L559+L581+L603+L625+L647+L669 -> 74153270 | M8: x | N8: x
C9: Pašvaldību budžets | D9: x | E9: =E32+E54+E76+E98+E120+E142+E164+E186+E208+E230+E252+E274+E296+E318+E340+E362+E384+E406+E428+E450+E472+E494+E516+E538+E560+E582+E604+E626+E648+E670 -> 189312195 | F9: =F32+F54+F76+F98+F120+F142+F164+F186+F208+F230+F252+F274+F296+F318+F340+F362+F384+F406+F428+F450+F472+F494+F516+F538+F560+F582+F604+F626+F648+F670 -> 193830301 | G9: =G32+G54+G76+G98+G120+G142+G164+G186+G208+G230+G252+G274+G296+G318+G340+G362+G384+G406+G428+G450+G472+G494+G516+G538+G560+G582+G604+G626+G648+G670 -> 222610688 | H9: =H32+H54+H76+H98+H120+H142+H164+H186+H208+H230+H252+H274+H296+H318+H340+H362+H384+H406+H428+H450+H472+H494+H516+H538+H560+H582+H604+H626+H648+H670 -> 8531671 | I9: =I32+I54+I76+I98+I120+I142+I164+I186+I208+I230+I252+I274+I296+I318+I340+I362+I384+I406+I428+I450+I472+I494+I516+I538+I560+I582+I604+I626+I648+I670 -> 26586333 | J9: =J32+J54+J76+J98+J120+J142+J164+J186+J208+J230+J252+J274+J296+J318+J340+J362+J384+J406+J428+J450+J472+J494+J516+J538+J560+J582+J604+J626+J648+J670 -> 26586333 | K9: =K32+K54+K76+K98+K120+K142+K164+K186+K208+K230+K252+K274+K296+K318+K340+K362+K384+K406+K428+K450+K472+K494+K516+K538+K560+K582+K604+K626+K648+K670 -> 0 | L9: =L32+L54+L76+L98+L120+L142+L164+L186+L208+L230+L252+L274+L296+L318+L340+L362+L384+L406+L428+L450+L472+L494+L516+L538+L560+L582+L604+L626+L648+L670 -> 26586333 | M9: x
C10: Vidēja termiņa budžeta ietvara likums, kopā, t.sk.: | D10: x | E10: =E33+E55+E77+E99+E121+E143+E165+E187+E209+E231+E253+E275+E297+E319+E341+E363+E385+E407+E429+E451+E473+E495+E517+E539+E561+E583+E605+E627+E649+E671 -> 45726023 | F10: =F33+F55+F77+F99+F121+F143+F165+F187+F209+F231+F253+F275+F297+F319+F341+F363+F385+F407+F429+F451+F473+F495+F517+F539+F561+F583+F605+F627+F649+F671 -> 72096109 | G10: =G33+G55+G77+G99+G121+G143+G165+G187+G209+G231+G253+G275+G297+G319+G341+G363+G385+G407+G429+G451+G473+G495+G517+G539+G561+G583+G605+G627+G649+G671 -> 31931703 | H10: =H33+H55+H77+H99+H121+H143+H165+H187+H209+H231+H253+H275+H297+H319+H341+H363+H385+H407+H429+H451+H473+H495+H517+H539+H561+H583+H605+H627+H649+H671 -> 17708538 | I10: =I33+I55+I77+I99+I121+I143+I165+I187+I209+I231+I253+I275+I297+I319+I341+I363+I385+I407+I429+I451+I473+I495+I517+I539+I561+I583+I605+I627+I649+I671 -> 20662861 | J10: =J33+J55+J77+J99+J121+J143+J165+J187+J209+J231+J253+J275+J297+J319+J341+J363+J385+J407+J429+J451+J473+J495+J517+J539+J561+J583+J605+J627+J649+J671 -> 49963865 | K10: =K33+K55+K77+K99+K121+K143+K165+K187+K209+K231+K253+K275+K297+K319+K341+K363+K385+K407+K429+K451+K473+K495+K517+K539+K561+K583+K605+K627+K649+K671 -> 26063557 | L10: =L33+L55+L77+L99+L121+L143+L165+L187+L209+L231+L253+L275+L297+L319+L341+L363+L385+L407+L429+L451+L473+L495+L517+L539+L561+L583+L605+L627+L649+L671 -> 47566937 | M10: x
C11: valsts pamatfunkciju īstenošana | D11: x | E11: =E34+E56+E78+E100+E122+E144+E166+E188+E210+E232+E254+E276+E298+E320+E342+E364+E386+E408+E430+E452+E474+E496+E518+E540+E562+E584+E606+E628+E650+E672 -> 17914834 | F11: =F34+F56+F78+F100+F122+F144+F166+F188+F210+F232+F254+F276+F298+F320+F342+F364+F386+F408+F430+F452+F474+F496+F518+F540+F562+F584+F606+F628+F650+F672 -> 18028414 | G11: =G34+G56+G78+G100+G122+G144+G166+G188+G210+G232+G254+G276+G298+G320+G342+G364+G386+G408+G430+G452+G474+G496+G518+G540+G562+G584+G606+G628+G650+G672 -> 18131834 | H11: =H34+H56+H78+H100+H122+H144+H166+H188+H210+H232+H254+H276+H298+H320+H342+H364+H386+H408+H430+H452+H474+H496+H518+H540+H562+H584+H606+H628+H650+H672 -> 11277895 | I11: =I34+I56+I78+I100+I122+I144+I166+I188+I210+I232+I254+I276+I298+I320+I342+I364+I386+I408+I430+I452+I474+I496+I518+I540+I562+I584+I606+I628+I650+I672 -> 14048041 | J11: =J34+J56+J78+J100+J122+J144+J166+J188+J210+J232+J254+J276+J298+J320+J342+J364+J386+J408+J430+J452+J474+J496+J518+J540+J562+J584+J606+J628+J650+J672 -> 40158419 | K11: =K34+K56+K78+K100+K122+K144+K166+K188+K210+K232+K254+K276+K298+K320+K342+K364+K386+K408+K430+K452+K474+K496+K518+K540+K562+K584+K606+K628+K650+K672 -> 22164466 | L11: =L34+L56+L78+L100+L122+L144+L166+L188+L210+L232+L254+L276+L298+L320+L342+L364+L386+L408+L430+L452+L474+L496+L518+L540+L562+L584+L606+L628+L650+L672 -> 47566937 | M11: x
C12: valsts sociālās apdrošināšanas speciālais budžets | D12: x | E12: =E35+E57+E79+E101+E123+E145+E167+E189+E211+E233+E255+E277+E299+E321+E343+E365+E387+E409+E431+E453+E475+E497+E519+E541+E563+E585+E607+E629+E651+E673 -> 0 | F12: =F35+F57+F79+F101+F123+F145+F167+F189+F211+F233+F255+F277+F299+F321+F343+F365+F387+F409+F431+F453+F475+F497+F519+F541+F563+F585+F607+F629+F651+F673 -> 0 | G12: =G35+G57+G79+G101+G123+G145+G167+G189+G211+G233+G255+G277+G299+G321+G343+G365+G387+G409+G431+G453+G475+G497+G519+G541+G563+G585+G607+G629+G651+G673 -> 0 | H12: =H35+H57+H79+H101+H123+H145+H167+H189+H211+H233+H255+H277+H299+H321+H343+H365+H387+H409+H431+H453+H475+H497+H519+H541+H563+H585+H607+H629+H651+H673 -> 0 | I12: =I35+I57+I79+I101+I123+I145+I167+I189+I211+I233+I255+I277+I299+I321+I343+I365+I387+I409+I431+I453+I475+I497+I519+I541+I563+I585+I607+I629+I651+I673 -> 0 | J12: =J35+J57+J79+J101+J123+J145+J167+J189+J211+J233+J255+J277+J299+J321+J343+J365+J387+J409+J431+J453+J475+J497+J519+J541+J563+J585+J607+J629+J651+J673 -> 0 | K12: =K35+K57+K79+K101+K123+K145+K167+K189+K211+K233+K255+K277+K299+K321+K343+K365+K387+K409+K431+K453+K475+K497+K519+K541+K563+K585+K607+K629+K651+K673 -> 0 | L12: =L35+L57+L79+L101+L123+L145+L167+L189+L211+L233+L255+L277+L299+L321+L343+L365+L387+L409+L431+L453+L475+L497+L519+L541+L563+L585+L607+L629+L651+L673 -> 0 | M12: x
C13: Eiropas Savienības politiku instrumentu un pārējās ārvalstu finanšu palīdzības līdzfinansēto projektu un pasākumu īstenošana | D13: x | E13: =E36+E58+E80+E102+E124+E146+E168+E190+E212+E234+E256+E278+E300+E322+E344+E366+E388+E410+E432+E454+E476+E498+E520+E542+E564+E586+E608+E630+E652+E674 -> 27811189 | F13: =F36+F58+F80+F102+F124+F146+F168+F190+F212+F234+F256+F278+F300+F322+F344+F366+F388+F410+F432+F454+F476+F498+F520+F542+F564+F586+F608+F630+F652+F674 -> 54067695 | G13: =G36+G58+G80+G102+G124+G146+G168+G190+G212+G234+G256+G278+G300+G322+G344+G366+G388+G410+G432+G454+G476+G498+G520+G542+G564+G586+G608+G630+G652+G674 -> 13799869 | H13: =H36+H58+H80+H102+H124+H146+H168+H190+H212+H234+H256+H278+H300+H322+H344+H366+H388+H410+H432+H454+H476+H498+H520+H542+H564+H586+H608+H630+H652+H674 -> 6430643 | I13: =I36+I58+I80+I102+I124+I146+I168+I190+I212+I234+I256+I278+I300+I322+I344+I366+I388+I410+I432+I454+I476+I498+I520+I542+I564+I586+I608+I630+I652+I674 -> 6614820 | J13: =J36+J58+J80+J102+J124+J146+J168+J190+J212+J234+J256+J278+J300+J322+J344+J366+J388+J410+J432+J454+J476+J498+J520+J542+J564+J586+J608+J630+J652+J674 -> 9805446 | K13: =K36+K58+K80+K102+K124+K146+K168+K190+K212+K234+K256+K278+K300+K322+K344+K366+K388+K410+K432+K454+K476+K498+K520+K542+K564+K586+K608+K630+K652+K674 -> 3899091 | L13: =L36+L58+L80+L102+L124+L146+L168+L190+L212+L234+L256+L278+L300+L322+L344+L366+L388+L410+L432+L454+L476+L498+L520+L542+L564+L586+L608+L630+L652+L674 -> 0 | M13: x
C14: Informatīvi Sadalījumā pa budžeta resoriem | D14: x | E14: x | F14: x | G14: x | H14: x | I14: x | J14: x | K14: x | L14: x | M14: x
C15: 08. Sabiedrības integrācijas fonds | D15: x | E15: =E37+E59+E81+E103+E125+E147+E169+E191+E213+E235+E257+E279+E301+E323+E345+E367+E389+E411+E433+E455+E477+E499+E521+E543+E565+E587+E609+E631+E653+E675 -> 0 | F15: =F37+F59+F81+F103+F125+F147+F169+F191+F213+F235+F257+F279+F301+F323+F345+F367+F389+F411+F433+F455+F477+F499+F521+F543+F565+F587+F609+F631+F653+F675 -> 0 | G15: =G37+G59+G81+G103+G125+G147+G169+G191+G213+G235+G257+G279+G301+G323+G345+G367+G389+G411+G433+G455+G477+G499+G521+G543+G565+G587+G609+G631+G653+G675 -> 0 | H15: =H37+H59+H81+H103+H125+H147+H169+H191+H213+H235+H257+H279+H301+H323+H345+H367+H389+H411+H433+H455+H477+H499+H521+H543+H565+H587+H609+H631+H653+H675 -> 4350000 | I15: =I37+I59+I81+I103+I125+I147+I169+I191+I213+I235+I257+I279+I301+I323+I345+I367+I389+I411+I433+I455+I477+I499+I521+I543+I565+I587+I609+I631+I653+I675 -> 4500000 | J15: =J37+J59+J81+J103+J125+J147+J169+J191+J213+J235+J257+J279+J301+J323+J345+J367+J389+J411+J433+J455+J477+J499+J521+J543+J565+J587+J609+J631+J653+J675 -> 4500000 | K15: =K37+K59+K81+K103+K125+K147+K169+K191+K213+K235+K257+K279+K301+K323+K345+K367+K389+K411+K433+K455+K477+K499+K521+K543+K565+K587+K609+K631+K653+K675 -> 0 | L15: =L37+L59+L81+L103+L125+L147+L169+L191+L213+L235+L257+L279+L301+L323+L345+L367+L389+L411+L433+L455+L477+L499+L521+L543+L565+L587+L609+L631+L653+L675 -> 0 | M15: x
C16: valsts pamatfunkciju īstenošana | D16: x | E16: =E38+E60+E82+E104+E126+E148+E170+E192+E214+E236+E258+E280+E302+E324+E346+E368+E390+E412+E434+E456+E478+E500+E522+E544+E566+E588+E610+E632+E654+E676 -> 0 | F16: =F38+F60+F82+F104+F126+F148+F170+F192+F214+F236+F258+F280+F302+F324+F346+F368+F390+F412+F434+F456+F478+F500+F522+F544+F566+F588+F610+F632+F654+F676 -> 0 | G16: =G38+G60+G82+G104+G126+G148+G170+G192+G214+G236+G258+G280+G302+G324+G346+G368+G390+G412+G434+G456+G478+G500+G522+G544+G566+G588+G610+G632+G654+G676 -> 0 | H16: =H38+H60+H82+H104+H126+H148+H170+H192+H214+H236+H258+H280+H302+H324+H346+H368+H390+H412+H434+H456+H478+H500+H522+H544+H566+H588+H610+H632+H654+H676 -> 0 | I16: =I38+I60+I82+I104+I126+I148+I170+I192+I214+I236+I258+I280+I302+I324+I346+I368+I390+I412+I434+I456+I478+I500+I522+I544+I566+I588+I610+I632+I654+I676 -> 0 | J16: =J38+J60+J82+J104+J126+J148+J170+J192+J214+J236+J258+J280+J302+J324+J346+J368+J390+J412+J434+J456+J478+J500+J522+J544+J566+J588+J610+J632+J654+J676 -> 0 | K16: =K38+K60+K82+K104+K126+K148+K170+K192+K214+K236+K258+K280+K302+K324+K346+K368+K390+K412+K434+K456+K478+K500+K522+K544+K566+K588+K610+K632+K654+K676 -> 0 | L16: =L38+L60+L82+L104+L126+L148+L170+L192+L214+L236+L258+L280+L302+L324+L346+L368+L390+L412+L434+L456+L478+L500+L522+L544+L566+L588+L610+L632+L654+L676 -> 0 | M16: x
C17: Eiropas Savienības politiku instrumentu un pārējās ārvalstu finanšu palīdzības līdzfinansēto projektu un pasākumu īstenošana | D17: x | E17: =E39+E61+E83+E105+E127+E149+E171+E193+E215+E237+E259+E281+E303+E325+E347+E369+E391+E413+E435+E457+E479+E501+E523+E545+E567+E589+E611+E633+E655+E677 -> 0 | F17: =F39+F61+F83+F105+F127+F149+F171+F193+F215+F237+F259+F281+F303+F325+F347+F369+F391+F413+F435+F457+F479+F501+F523+F545+F567+F589+F611+F633+F655+F677 -> 0 | G17: =G39+G61+G83+G105+G127+G149+G171+G193+G215+G237+G259+G281+G303+G325+G347+G369+G391+G413+G435+G457+G479+G501+G523+G545+G567+G589+G611+G633+G655+G677 -> 0 | H17: =H39+H61+H83+H105+H127+H149+H171+H193+H215+H237+H259+H281+H303+H325+H347+H369+H391+H413+H435+H457+H479+H501+H523+H545+H567+H589+H611+H633+H655+H677 -> 4350000 | I17: =I39+I61+I83+I105+I127+I149+I171+I193+I215+I237+I259+I281+I303+I325+I347+I369+I391+I413+I435+I457+I479+I501+I523+I545+I567+I589+I611+I633+I655+I677 -> 4500000 | J17: =J39+J61+J83+J105+J127+J149+J171+J193+J215+J237+J259+J281+J303+J325+J347+J369+J391+J413+J435+J457+J479+J501+J523+J545+J567+J589+J611+J633+J655+J677 -> 4500000 | K17: =K39+K61+K83+K105+K127+K149+K171+K193+K215+K237+K259+K281+K303+K325+K347+K369+K391+K413+K435+K457+K479+K501+K523+K545+K567+K589+K611+K633+K655+K677 -> 0 | L17: =L39+L61+L83+L105+L127+L149+L171+L193+L215+L237+L259+L281+L303+L325+L347+L369+L391+L413+L435+L457+L479+L501+L523+L545+L567+L589+L611+L633+L655+L677 -> 0 | M17: x
C18: 13. Finanšu ministrija | D18: x | E18: =E40+E62+E84+E106+E128+E150+E172+E194+E216+E238+E260+E282+E304+E326+E348+E370+E392+E414+E436+E458+E480+E502+E524+E546+E568+E590+E612+E634+E656+E678 -> 27267589 | F18: =F40+F62+F84+F106+F128+F150+F172+F194+F216+F238+F260+F282+F304+F326+F348+F370+F392+F414+F436+F458+F480+F502+F524+F546+F568+F590+F612+F634+F656+F678 -> 53855595 | G18: =G40+G62+G84+G106+G128+G150+G172+G194+G216+G238+G260+G282+G304+G326+G348+G370+G392+G414+G436+G458+G480+G502+G524+G546+G568+G590+G612+G634+G656+G678 -> 13649869 | H18: =H40+H62+H84+H106+H128+H150+H172+H194+H216+H238+H260+H282+H304+H326+H348+H370+H392+H414+H436+H458+H480+H502+H524+H546+H568+H590+H612+H634+H656+H678 -> 0 | I18: =I40+I62+I84+I106+I128+I150+I172+I194+I216+I238+I260+I282+I304+I326+I348+I370+I392+I414+I436+I458+I480+I502+I524+I546+I568+I590+I612+I634+I656+I678 -> 0 | J18: =J40+J62+J84+J106+J128+J150+J172+J194+J216+J238+J260+J282+J304+J326+J348+J370+J392+J414+J436+J458+J480+J502+J524+J546+J568+J590+J612+J634+J656+J678 -> 0 | K18: =K40+K62+K84+K106+K128+K150+K172+K194+K216+K238+K260+K282+K304+K326+K348+K370+K392+K414+K436+K458+K480+K502+K524+K546+K568+K590+K612+K634+K656+K678 -> 0 | L18: =L40+L62+L84+L106+L128+L150+L172+L194+L216+L238+L260+L282+L304+L326+L348+L370+L392+L414+L436+L458+L480+L502+L524+L546+L568+L590+L612+L634+L656+L678 -> 0 | M18: x
C19: valsts pamatfunkciju īstenošana | D19: x | E19: =E41+E63+E85+E107+E129+E151+E173+E195+E217+E239+E261+E283+E305+E327+E349+E371+E393+E415+E437+E459+E481+E503+E525+E547+E569+E591+E613+E635+E657+E679 -> 0 | F19: =F41+F63+F85+F107+F129+F151+F173+F195+F217+F239+F261+F283+F305+F327+F349+F371+F393+F415+F437+F459+F481+F503+F525+F547+F569+F591+F613+F635+F657+F679 -> 0 | G19: =G41+G63+G85+G107+G129+G151+G173+G195+G217+G239+G261+G283+G305+G327+G349+G371+G393+G415+G437+G459+G481+G503+G525+G547+G569+G591+G613+G635+G657+G679 -> 0 | H19: =H41+H63+H85+H107+H129+H151+H173+H195+H217+H239+H261+H283+H305+H327+H349+H371+H393+H415+H437+H459+H481+H503+H525+H547+H569+H591+H613+H635+H657+H679 -> 0 | I19: =I41+I63+I85+I107+I129+I151+I173+I195+I217+I239+I261+I283+I305+I327+I349+I371+I393+I415+I437+I459+I481+I503+I525+I547+I569+I591+I613+I635+I657+I679 -> 0 | J19: =J41+J63+J85+J107+J129+J151+J173+J195+J217+J239+J261+J283+J305+J327+J349+J371+J393+J415+J437+J459+J481+J503+J525+J547+J569+J591+J613+J635+J657+J679 -> 0 | K19: =K41+K63+K85+K107+K129+K151+K173+K195+K217+K239+K261+K283+K305+K327+K349+K371+K393+K415+K437+K459+K481+K503+K525+K547+K569+K591+K613+K635+K657+K679 -> 0 | L19: =L41+L63+L85+L107+L129+L151+L173+L195+L217+L239+L261+L283+L305+L327+L349+L371+L393+L415+L437+L459+L481+L503+L525+L547+L569+L591+L613+L635+L657+L679 -> 0 | M19: x
C20: Eiropas Savienības politiku instrumentu un pārējās ārvalstu finanšu palīdzības līdzfinansēto projektu un pasākumu īstenošana | D20: x | E20: =E42+E64+E86+E108+E130+E152+E174+E196+E218+E240+E262+E284+E306+E328+E350+E372+E394+E416+E438+E460+E482+E504+E526+E548+E570+E592+E614+E636+E658+E680 -> 27267589 | F20: =F42+F64+F86+F108+F130+F152+F174+F196+F218+F240+F262+F284+F306+F328+F350+F372+F394+F416+F438+F460+F482+F504+F526+F548+F570+F592+F614+F636+F658+F680 -> 53855595 | G20: =G42+G64+G86+G108+G130+G152+G174+G196+G218+G240+G262+G284+G306+G328+G350+G372+G394+G416+G438+G460+G482+G504+G526+G548+G570+G592+G614+G636+G658+G680 -> 13649869 | H20: =H42+H64+H86+H108+H130+H152+H174+H196+H218+H240+H262+H284+H306+H328+H350+H372+H394+H416+H438+H460+H482+H504+H526+H548+H570+H592+H614+H636+H658+H680 -> 0 | I20: =I42+I64+I86+I108+I130+I152+I174+I196+I218+I240+I262+I284+I306+I328+I350+I372+I394+I416+I438+I460+I482+I504+I526+I548+I570+I592+I614+I636+I658+I680 -> 0 | J20: =J42+J64+J86+J108+J130+J152+J174+J196+J218+J240+J262+J284+J306+J328+J350+J372+J394+J416+J438+J460+J482+J504+J526+J548+J570+J592+J614+J636+J658+J680 -> 0 | K20: =K42+K64+K86+K108+K130+K152+K174+K196+K218+K240+K262+K284+K306+K328+K350+K372+K394+K416+K438+K460+K482+K504+K526+K548+K570+K592+K614+K636+K658+K680 -> 0 | L20: =L42+L64+L86+L108+L130+L152+L174+L196+L218+L240+L262+L284+L306+L328+L350+L372+L394+L416+L438+L460+L482+L504+L526+L548+L570+L592+L614+L636+L658+L680 -> 0 | M20: x
C21: 18. Labklājības ministrija | D21: x | E21: =E43+E65+E87+E109+E131+E153+E175+E197+E219+E241+E263+E285+E307+E329+E351+E373+E395+E417+E439+E461+E483+E505+E527+E549+E571+E593+E615+E637+E659+E681 -> 18458434 | F21: =F43+F65+F87+F109+F131+F153+F175+F197+F219+F241+F263+F285+F307+F329+F351+F373+F395+F417+F439+F461+F483+F505+F527+F549+F571+F593+F615+F637+F659+F681 -> 18240514 | G21: =G43+G65+G87+G109+G131+G153+G175+G197+G219+G241+G263+G285+G307+G329+G351+G373+G395+G417+G439+G461+G483+G505+G527+G549+G571+G593+G615+G637+G659+G681 -> 18281834 | H21: =H43+H65+H87+H109+H131+H153+H175+H197+H219+H241+H263+H285+H307+H329+H351+H373+H395+H417+H439+H461+H483+H505+H527+H549+H571+H593+H615+H637+H659+H681 -> 13358538 | I21: =I43+I65+I87+I109+I131+I153+I175+I197+I219+I241+I263+I285+I307+I329+I351+I373+I395+I417+I439+I461+I483+I505+I527+I549+I571+I593+I615+I637+I659+I681 -> 16162861 | J21: =J43+J65+J87+J109+J131+J153+J175+J197+J219+J241+J263+J285+J307+J329+J351+J373+J395+J417+J439+J461+J483+J505+J527+J549+J571+J593+J615+J637+J659+J681 -> 45463865 | K21: =K43+K65+K87+K109+K131+K153+K175+K197+K219+K241+K263+K285+K307+K329+K351+K373+K395+K417+K439+K461+K483+K505+K527+K549+K571+K593+K615+K637+K659+K681 -> 26063557 | L21: =L43+L65+L87+L109+L131+L153+L175+L197+L219+L241+L263+L285+L307+L329+L351+L373+L395+L417+L439+L461+L483+L505+L527+L549+L571+L593+L615+L637+L659+L681 -> 47566937 | M21: x
C22: valsts pamatfunkciju īstenošana | D22: x | E22: =E44+E66+E88+E110+E132+E154+E176+E198+E220+E242+E264+E286+E308+E330+E352+E374+E396+E418+E440+E462+E484+E506+E528+E550+E572+E594+E616+E638+E660+E682 -> 17914834 | F22: =F44+F66+F88+F110+F132+F154+F176+F198+F220+F242+F264+F286+F308+F330+F352+F374+F396+F418+F440+F462+F484+F506+F528+F550+F572+F594+F616+F638+F660+F682 -> 18028414 | G22: =G44+G66+G88+G110+G132+G154+G176+G198+G220+G242+G264+G286+G308+G330+G352+G374+G396+G418+G440+G462+G484+G506+G528+G550+G572+G594+G616+G638+G660+G682 -> 18131834 | H22: =H44+H66+H88+H110+H132+H154+H176+H198+H220+H242+H264+H286+H308+H330+H352+H374+H396+H418+H440+H462+H484+H506+H528+H550+H572+H594+H616+H638+H660+H682 -> 11277895 | I22: =I44+I66+I88+I110+I132+I154+I176+I198+I220+I242+I264+I286+I308+I330+I352+I374+I396+I418+I440+I462+I484+I506+I528+I550+I572+I594+I616+I638+I660+I682 -> 14048041 | J22: =J44+J66+J88+J110+J132+J154+J176+J198+J220+J242+J264+J286+J308+J330+J352+J374+J396+J418+J440+J462+J484+J506+J528+J550+J572+J594+J616+J638+J660+J682 -> 40158419 | K22: =K44+K66+K88+K110+K132+K154+K176+K198+K220+K242+K264+K286+K308+K330+K352+K374+K396+K418+K440+K462+K484+K506+K528+K550+K572+K594+K616+K638+K660+K682 -> 22164466 | L22: =L44+L66+L88+L110+L132+L154+L176+L198+L220+L242+L264+L286+L308+L330+L352+L374+L396+L418+L440+L462+L484+L506+L528+L550+L572+L594+L616+L638+L660+L682 -> 47566937 | M22: x
C23: valsts sociālās apdrošināšanas speciālais budžets | D23: x | E23: =E45+E67+E89+E111+E133+E155+E177+E199+E221+E243+E265+E287+E309+E331+E353+E375+E397+E419+E441+E463+E485+E507+E529+E551+E573+E595+E617+E639+E661+E683 -> 0 | F23: =F45+F67+F89+F111+F133+F155+F177+F199+F221+F243+F265+F287+F309+F331+F353+F375+F397+F419+F441+F463+F485+F507+F529+F551+F573+F595+F617+F639+F661+F683 -> 0 | G23: =G45+G67+G89+G111+G133+G155+G177+G199+G221+G243+G265+G287+G309+G331+G353+G375+G397+G419+G441+G463+G485+G507+G529+G551+G573+G595+G617+G639+G661+G683 -> 0 | H23: =H45+H67+H89+H111+H133+H155+H177+H199+H221+H243+H265+H287+H309+H331+H353+H375+H397+H419+H441+H463+H485+H507+H529+H551+H573+H595+H617+H639+H661+H683 -> 0 | I23: =I45+I67+I89+I111+I133+I155+I177+I199+I221+I243+I265+I287+I309+I331+I353+I375+I397+I419+I441+I463+I485+I507+I529+I551+I573+I595+I617+I639+I661+I683 -> 0 | J23: =J45+J67+J89+J111+J133+J155+J177+J199+J221+J243+J265+J287+J309+J331+J353+J375+J397+J419+J441+J463+J485+J507+J529+J551+J573+J595+J617+J639+J661+J683 -> 0 | K23: =K45+K67+K89+K111+K133+K155+K177+K199+K221+K243+K265+K287+K309+K331+K353+K375+K397+K419+K441+K463+K485+K507+K529+K551+K573+K595+K617+K639+K661+K683 -> 0 | L23: =L45+L67+L89+L111+L133+L155+L177+L199+L221+L243+L265+L287+L309+L331+L353+L375+L397+L419+L441+L463+L485+L507+L529+L551+L573+L595+L617+L639+L661+L683 -> 0 | M23: x
C24: Eiropas Savienības politiku instrumentu un pārējās ārvalstu finanšu palīdzības līdzfinansēto projektu un pasākumu īstenošana | D24: x | E24: =E46+E68+E90+E112+E134+E156+E178+E200+E222+E244+E266+E288+E310+E332+E354+E376+E398+E420+E442+E464+E486+E508+E530+E552+E574+E596+E618+E640+E662+E684 -> 543600 | F24: =F46+F68+F90+F112+F134+F156+F178+F200+F222+F244+F266+F288+F310+F332+F354+F376+F398+F420+F442+F464+F486+F508+F530+F552+F574+F596+F618+F640+F662+F684 -> 212100 | G24: =G46+G68+G90+G112+G134+G156+G178+G200+G222+G244+G266+G288+G310+G332+G354+G376+G398+G420+G442+G464+G486+G508+G530+G552+G574+G596+G618+G640+G662+G684 -> 150000 | H24: =H46+H68+H90+H112+H134+H156+H178+H200+H222+H244+H266+H288+H310+H332+H354+H376+H398+H420+H442+H464+H486+H508+H530+H552+H574+H596+H618+H640+H662+H684 -> 2080643 | I24: =I46+I68+I90+I112+I134+I156+I178+I200+I222+I244+I266+I288+I310+I332+I354+I376+I398+I420+I442+I464+I486+I508+I530+I552+I574+I596+I618+I640+I662+I684 -> 2114820 | J24: =J46+J68+J90+J112+J134+J156+J178+J200+J222+J244+J266+J288+J310+J332+J354+J376+J398+J420+J442+J464+J486+J508+J530+J552+J574+J596+J618+J640+J662+J684 -> 5305446 | K24: =K46+K68+K90+K112+K134+K156+K178+K200+K222+K244+K266+K288+K310+K332+K354+K376+K398+K420+K442+K464+K486+K508+K530+K552+K574+K596+K618+K640+K662+K684 -> 3899091 | L24: =L46+L68+L90+L112+L134+L156+L178+L200+L222+L244+L266+L288+L310+L332+L354+L376+L398+L420+L442+L464+L486+L508+L530+L552+L574+L596+L618+L640+L662+L684 -> 0 | M24: x
B25: x | C25: 21.Vides aizsardzības un reģionālās attīstības ministrija | D25: x | E25: =E47+E69+E91+E113+E135+E157+E179+E201+E223+E245+E267+E289+E311+E333+E355+E377+E399+E421+E443+E465+E487+E509+E531+E553+E575+E597+E619+E641+E663+E685 -> 0 | F25: =F47+F69+F91+F113+F135+F157+F179+F201+F223+F245+F267+F289+F311+F333+F355+F377+F399+F421+F443+F465+F487+F509+F531+F553+F575+F597+F619+F641+F663+F685 -> 0 | G25: =G47+G69+G91+G113+G135+G157+G179+G201+G223+G245+G267+G289+G311+G333+G355+G377+G399+G421+G443+G465+G487+G509+G531+G553+G575+G597+G619+G641+G663+G685 -> 0 | H25: =H47+H69+H91+H113+H135+H157+H179+H201+H223+H245+H267+H289+H311+H333+H355+H377+H399+H421+H443+H465+H487+H509+H531+H553+H575+H597+H619+H641+H663+H685 -> 0 | I25: =I47+I69+I91+I113+I135+I157+I179+I201+I223+I245+I267+I289+I311+I333+I355+I377+I399+I421+I443+I465+I487+I509+I531+I553+I575+I597+I619+I641+I663+I685 -> 0 | J25: =J47+J69+J91+J113+J135+J157+J179+J201+J223+J245+J267+J289+J311+J333+J355+J377+J399+J421+J443+J465+J487+J509+J531+J553+J575+J597+J619+J641+J663+J685 -> 0 | K25: =K47+K69+K91+K113+K135+K157+K179+K201+K223+K245+K267+K289+K311+K333+K355+K377+K399+K421+K443+K465+K487+K509+K531+K553+K575+K597+K619+K641+K663+K685 -> 0 | L25: =L47+L69+L91+L113+L135+L157+L179+L201+L223+L245+L267+L289+L311+L333+L355+L377+L399+L421+L443+L465+L487+L509+L531+L553+L575+L597+L619+L641+L663+L685 -> 0 | M25: x
B26: x | C26: valsts pamatfunkciju īstenošana | D26: x | E26: =E48+E70+E92+E114+E136+E158+E180+E202+E224+E246+E268+E290+E312+E334+E356+E378+E400+E422+E444+E466+E488+E510+E532+E554+E576+E598+E620+E642+E664+E686 -> 0 | F26: =F48+F70+F92+F114+F136+F158+F180+F202+F224+F246+F268+F290+F312+F334+F356+F378+F400+F422+F444+F466+F488+F510+F532+F554+F576+F598+F620+F642+F664+F686 -> 0 | G26: =G48+G70+G92+G114+G136+G158+G180+G202+G224+G246+G268+G290+G312+G334+G356+G378+G400+G422+G444+G466+G488+G510+G532+G554+G576+G598+G620+G642+G664+G686 -> 0 | H26: =H48+H70+H92+H114+H136+H158+H180+H202+H224+H246+H268+H290+H312+H334+H356+H378+H400+H422+H444+H466+H488+H510+H532+H554+H576+H598+H620+H642+H664+H686 -> 0 | I26: =I48+I70+I92+I114+I136+I158+I180+I202+I224+I246+I268+I290+I312+I334+I356+I378+I400+I422+I444+I466+I488+I510+I532+I554+I576+I598+I620+I642+I664+I686 -> 0 | J26: =J48+J70+J92+J114+J136+J158+J180+J202+J224+J246+J268+J290+J312+J334+J356+J378+J400+J422+J444+J466+J488+J510+J532+J554+J576+J598+J620+J642+J664+J686 -> 0 | K26: =K48+K70+K92+K114+K136+K158+K180+K202+K224+K246+K268+K290+K312+K334+K356+K378+K400+K422+K444+K466+K488+K510+K532+K554+K576+K598+K620+K642+K664+K686 -> 0 | L26: =L48+L70+L92+L114+L136+L158+L180+L202+L224+L246+L268+L290+L312+L334+L356+L378+L400+L422+L444+L466+L488+L510+L532+L554+L576+L598+L620+L642+L664+L686 -> 0 | M26: x
B27: x | C27: Eiropas Savienības politiku instrumentu un pārējās ārvalstu finanšu palīdzības līdzfinansēto projektu un pasākumu īstenošana | D27: x | E27: =E49+E71+E93+E115+E137+E159+E181+E203+E225+E247+E269+E291+E313+E335+E357+E379+E401+E423+E445+E467+E489+E511+E533+E555+E577+E599+E621+E643+E665+E687 -> 0 | F27: =F49+F71+F93+F115+F137+F159+F181+F203+F225+F247+F269+F291+F313+F335+F357+F379+F401+F423+F445+F467+F489+F511+F533+F555+F577+F599+F621+F643+F665+F687 -> 0 | G27: =G49+G71+G93+G115+G137+G159+G181+G203+G225+G247+G269+G291+G313+G335+G357+G379+G401+G423+G445+G467+G489+G511+G533+G555+G577+G599+G621+G643+G665+G687 -> 0 | H27: =H49+H71+H93+H115+H137+H159+H181+H203+H225+H247+H269+H291+H313+H335+H357+H379+H401+H423+H445+H467+H489+H511+H533+H555+H577+H599+H621+H643+H665+H687 -> 0 | I27: =I49+I71+I93+I115+I137+I159+I181+I203+I225+I247+I269+I291+I313+I335+I357+I379+I401+I423+I445+I467+I489+I511+I533+I555+I577+I599+I621+I643+I665+I687 -> 0 | J27: =J49+J71+J93+J115+J137+J159+J181+J203+J225+J247+J269+J291+J313+J335+J357+J379+J401+J423+J445+J467+J489+J511+J533+J555+J577+J599+J621+J643+J665+J687 -> 0 | K27: =K49+K71+K93+K115+K137+K159+K181+K203+K225+K247+K269+K291+K313+K335+K357+K379+K401+K423+K445+K467+K489+K511+K533+K555+K577+K599+K621+K643+K665+K687 -> 0 | L27: =L49+L71+L93+L115+L137+L159+L181+L203+L225+L247+L269+L291+L313+L335+L357+L379+L401+L423+L445+L467+L489+L511+L533+L555+L577+L599+L621+L643+L665+L687 -> 0 | M27: x
C28: 29.Veselības ministrija | D28: x | E28: =E50+E72+E94+E116+E138+E160+E182+E204+E226+E248+E270+E292+E314+E336+E358+E380+E402+E424+E446+E468+E490+E512+E534+E556+E578+E600+E622+E644+E666+E688 -> 0 | F28: =F50+F72+F94+F116+F138+F160+F182+F204+F226+F248+F270+F292+F314+F336+F358+F380+F402+F424+F446+F468+F490+F512+F534+F556+F578+F600+F622+F644+F666+F688 -> 0 | G28: =G50+G72+G94+G116+G138+G160+G182+G204+G226+G248+G270+G292+G314+G336+G358+G380+G402+G424+G446+G468+G490+G512+G534+G556+G578+G600+G622+G644+G666+G688 -> 0 | H28: =H50+H72+H94+H116+H138+H160+H182+H204+H226+H248+H270+H292+H314+H336+H358+H380+H402+H424+H446+H468+H490+H512+H534+H556+H578+H600+H622+H644+H666+H688 -> 0 | I28: =I50+I72+I94+I116+I138+I160+I182+I204+I226+I248+I270+I292+I314+I336+I358+I380+I402+I424+I446+I468+I490+I512+I534+I556+I578+I600+I622+I644+I666+I688 -> 0 | J28: =J50+J72+J94+J116+J138+J160+J182+J204+J226+J248+J270+J292+J314+J336+J358+J380+J402+J424+J446+J468+J490+J512+J534+J556+J578+J600+J622+J644+J666+J688 -> 0 | K28: =K50+K72+K94+K116+K138+K160+K182+K204+K226+K248+K270+K292+K314+K336+K358+K380+K402+K424+K446+K468+K490+K512+K534+K556+K578+K600+K622+K644+K666+K688 -> 0 | L28: =L50+L72+L94+L116+L138+L160+L182+L204+L226+L248+L270+L292+L314+L336+L358+L380+L402+L424+L446+L468+L490+L512+L534+L556+L578+L600+L622+L644+L666+L688 -> 0 | M28: x
C29: valsts pamatfunkciju īstenošana | D29: x | E29: =E51+E73+E95+E117+E139+E161+E183+E205+E227+E249+E271+E293+E315+E337+E359+E381+E403+E425+E447+E469+E491+E513+E535+E557+E579+E601+E623+E645+E667+E689 -> 0 | F29: =F51+F73+F95+F117+F139+F161+F183+F205+F227+F249+F271+F293+F315+F337+F359+F381+F403+F425+F447+F469+F491+F513+F535+F557+F579+F601+F623+F645+F667+F689 -> 0 | G29: =G51+G73+G95+G117+G139+G161+G183+G205+G227+G249+G271+G293+G315+G337+G359+G381+G403+G425+G447+G469+G491+G513+G535+G557+G579+G601+G623+G645+G667+G689 -> 0 | H29: =H51+H73+H95+H117+H139+H161+H183+H205+H227+H249+H271+H293+H315+H337+H359+H381+H403+H425+H447+H469+H491+H513+H535+H557+H579+H601+H623+H645+H667+H689 -> 0 | I29: =I51+I73+I95+I117+I139+I161+I183+I205+I227+I249+I271+I293+I315+I337+I359+I381+I403+I425+I447+I469+I491+I513+I535+I557+I579+I601+I623+I645+I667+I689 -> 0 | J29: =J51+J73+J95+J117+J139+J161+J183+J205+J227+J249+J271+J293+J315+J337+J359+J381+J403+J425+J447+J469+J491+J513+J535+J557+J579+J601+J623+J645+J667+J689 -> 0 | K29: =K51+K73+K95+K117+K139+K161+K183+K205+K227+K249+K271+K293+K315+K337+K359+K381+K403+K425+K447+K469+K491+K513+K535+K557+K579+K601+K623+K645+K667+K689 -> 0 | L29: =L51+L73+L95+L117+L139+L161+L183+L205+L227+L249+L271+L293+L315+L337+L359+L381+L403+L425+L447+L469+L491+L513+L535+L557+L579+L601+L623+L645+L667+L689 -> 0 | M29: x
C30: Eiropas Savienības politiku instrumentu un pārējās ārvalstu finanšu palīdzības līdzfinansēto projektu un pasākumu īstenošana | D30: x | E30: =E52+E74+E96+E118+E140+E162+E184+E206+E228+E250+E272+E294+E316+E338+E360+E382+E404+E426+E448+E470+E492+E514+E536+E558+E580+E602+E624+E646+E668+E690 -> 0 | F30: =F52+F74+F96+F118+F140+F162+F184+F206+F228+F250+F272+F294+F316+F338+F360+F382+F404+F426+F448+F470+F492+F514+F536+F558+F580+F602+F624+F646+F668+F690 -> 0 | G30: =G52+G74+G96+G118+G140+G162+G184+G206+G228+G250+G272+G294+G316+G338+G360+G382+G404+G426+G448+G470+G492+G514+G536+G558+G580+G602+G624+G646+G668+G690 -> 0 | H30: =H52+H74+H96+H118+H140+H162+H184+H206+H228+H250+H272+H294+H316+H338+H360+H382+H404+H426+H448+H470+H492+H514+H536+H558+H580+H602+H624+H646+H668+H690 -> 0 | I30: =I52+I74+I96+I118+I140+I162+I184+I206+I228+I250+I272+I294+I316+I338+I360+I382+I404+I426+I448+I470+I492+I514+I536+I558+I580+I602+I624+I646+I668+I690 -> 0 | J30: =J52+J74+J96+J118+J140+J162+J184+J206+J228+J250+J272+J294+J316+J338+J360+J382+J404+J426+J448+J470+J492+J514+J536+J558+J580+J602+J624+J646+J668+J690 -> 0 | K30: =K52+K74+K96+K118+K140+K162+K184+K206+K228+K250+K272+K294+K316+K338+K360+K382+K404+K426+K448+K470+K492+K514+K536+K558+K580+K602+K624+K646+K668+K690 -> 0 | L30: =L52+L74+L96+L118+L140+L162+L184+L206+L228+L250+L272+L294+L316+L338+L360+L382+L404+L426+L448+L470+L492+L514+L536+L558+L580+L602+L624+L646+L668+L690 -> 0 | M30: x
A31: 1 | C31: Nodrošināt minimālo sociālo pakalpojumu grozu un tā ietvaros ilgtermiņa aprūpes pakalpojumu pieejamību pašvaldībā | D31: KOPĀ | E31: =E32+E33 -> 188315299 | F31: =F32+F33 -> 188315299 | G31: =G32+G33 -> 224059623 | H31: =H32+H33 -> 8531671 | I31: =I32+I33 -> 26586333 | J31: =J32+J33 -> 26586333 | K31: =K32+K33 -> 0 | L31: =L32+L33 -> 26586333 | M31: x | N31: Finansējums atbilstoši 22-TA-1080 Tiesību akta projekta "Grozījumi Sociālo pakalpojumu un sociālās palīdzības likumā" sākotnējās ietekmes (ex-ante) novērtējuma ziņojuma/anotācijas 3. sadaļai (I daļa).
C32: Pašvaldību budžets | D32: x | E32: 182451677 | F32: =E32 -> 182451677 | G32: 218092581 | H32: 8531671 | I32: 26586333 | J32: =I32 -> 26586333 | L32: =J32 -> 26586333
C33: Vidēja termiņa budžeta ietvara likums, kopā, t.sk.: | D33: x | E33: =E34+E35+E36 -> 5863622 | F33: =F34+F35+F36 -> 5863622 | G33: =G34+G35+G36 -> 5967042 | H33: =H34+H35+H36 -> 0 | I33: =I34+I35+I36 -> 0 | J33: =J34+J35+J36 -> 0 | K33: =K34+K35+K36 -> 0 | L33: =L34+L35+L36 -> 0 | M33: x
C34: valsts pamatfunkciju īstenošana | D34: x | E34: =E44+E48+E51+E41+E38 -> 5863622 | F34: =F44+F48+F51+F41+F38 -> 5863622 | G34: =G44+G48+G51+G41+G38 -> 5967042 | H34: =H44+H48+H51+H41+H38 -> 0 | I34: =I44+I48+I51+I41+I38 -> 0 | J34: =J44+J48+J51+J41+J38 -> 0 | K34: =K44+K48+K51+K41+K38 -> 0 | L34: =L44+L48+L51+L41+L38 -> 0 | M34: x
C35: valsts sociālās apdrošināšanas speciālais budžets | D35: x | E35: =E45 -> 0 | F35: =F45 -> 0 | G35: =G45 -> 0 | H35: =H45 -> 0 | I35: =I45 -> 0 | J35: =J45 -> 0 | K35: =K45 -> 0 | L35: =L45 -> 0 | M35: x
C36: Eiropas Savienības politiku instrumentu un pārējās ārvalstu finanšu palīdzības līdzfinansēto projektu un pasākumu īstenošana | D36: x | E36: =E46+E49+E52+E39+E42 -> 0 | F36: =F46+F49+F52+F39+F42 -> 0 | G36: =G46+G49+G52+G39+G42 -> 0 | H36: =H46+H49+H52+H39+H42 -> 0 | I36: =I46+I49+I52+I39+I42 -> 0 | J36: =J46+J49+J52+J39+J42 -> 0 | K36: =K46+K49+K52+K39+K42 -> 0 | L36: =L46+L49+L52+L39+L42 -> 0 | M36: x
B37: x | C37: 08. Sabiedrības integrācijas fonds | D37: x | E37: =E38+E39 -> 0 | F37: =F38+F39 -> 0 | G37: =G38+G39 -> 0 | H37: =H38+H39 -> 0 | I37: =I38+I39 -> 0 | J37: =J38+J39 -> 0 | K37: =K38+K39 -> 0 | L37: =L38+L39 -> 0 | M37: x
B38: x | C38: valsts pamatfunkciju īstenošana
B39: x | C39: Eiropas Savienības politiku instrumentu un pārējās ārvalstu finanšu palīdzības līdzfinansēto projektu un pasākumu īstenošana
B40: x | C40: 13. Finanšu ministrija | D40: x | E40: =E41+E42 -> 0 | F40: =F41+F42 -> 0 | G40: =G41+G42 -> 0 | H40: =H41+H42 -> 0 | I40: =I41+I42 -> 0 | J40: =J41+J42 -> 0 | K40: =K41+K42 -> 0 | L40: =L41+L42 -> 0 | M40: x
B41: x | C41: valsts pamatfunkciju īstenošana
B42: x | C42: Eiropas Savienības politiku instrumentu un pārējās ārvalstu finanšu palīdzības līdzfinansēto projektu un pasākumu īstenošana
C43: 18. Labklājības ministrija | D43: x | E43: =E44+E45+E46 -> 5863622 | F43: =F44+F45+F46 -> 5863622 | G43: =G44+G45+G46 -> 5967042 | H43: =H44+H45+H46 -> 0 | I43: =I44+I45+I46 -> 0 | J43: =J44+J45+J46 -> 0 | K43: =K44+K45+K46 -> 0 | L43: =L44+L45+L46 -> 0 | M43: x
C44: valsts pamatfunkciju īstenošana | D44: 05.01.00 Sociālās rehabilitācijas valsts programmas | E44: 5863622 | F44: =E44 -> 5863622 | G44: 5967042
C45: valsts sociālās apdrošināšanas speciālais budžets
C46: Eiropas Savienības politiku instrumentu un pārējās ārvalstu finanšu palīdzības līdzfinansēto projektu un pasākumu īstenošana
B47: x | C47: 21.Vides aizsardzības un reģionālās attīstības ministrija | D47: x | E47: =E48+E49 -> 0 | F47: =F48+F49 -> 0 | G47: =G48+G49 -> 0 | H47: =H48+H49 -> 0 | I47: =I48+I49 -> 0 | J47: =J48+J49 -> 0 | K47: =K48+K49 -> 0 | L47: =L48+L49 -> 0 | M47: x
B48: x | C48: valsts pamatfunkciju īstenošana
B49: x | C49: Eiropas Savienības politiku instrumentu un pārējās ārvalstu finanšu palīdzības līdzfinansēto projektu un pasākumu īstenošana
B50: x | C50: 29.Veselības ministrija | D50: x | E50: =E51+E52 -> 0 | F50: =F51+F52 -> 0 | G50: =G51+G52 -> 0 | H50: =H51+H52 -> 0 | I50: =I51+I52 -> 0 | J50: =J51+J52 -> 0 | K50: =K51+K52 -> 0 | L50: =L51+L52 -> 0 | M50: x
B51: x | C51: valsts pamatfunkciju īstenošana
B52: x | C52: Eiropas Savienības politiku instrumentu un pārējās ārvalstu finanšu palīdzības līdzfinansēto projektu un pasākumu īstenošana
A53: 2 | C53: Harmonizēt sociālo pakalpojumu jomā lietojamos terminus ar ES normatīvos iekļautajiem terminiem un to definīcijām ** | D53: KOPĀ | E53: =E54+E55 -> 0 | F53: =F54+F55 -> 0 | G53: =G54+G55 -> 0 | H53: =H54+H55 -> 0 | I53: =I54+I55 -> 0 | J53: =J54+J55 -> 0 | K53: =K54+K55 -> 0 | L53: =L54+L55 -> 0 | M53: x | N53: Pasākums tiek veikts iestādes administratīvās kapacitātes ietvaros. Šādi pasākumi tabulā tiek atzīmēti ar ** atzīmi un aprēķinā izadlīt finansējumu šī pasākuma īstenošanai nav iespējams.
C54: Pašvaldību budžets | D54: x
C55: Vidēja termiņa budžeta ietvara likums, kopā, t.sk.: | D55: x | E55: =E56+E57+E58 -> 0 | F55: =F56+F57+F58 -> 0 | G55: =G56+G57+G58 -> 0 | H55: =H56+H57+H58 -> 0 | I55: =I56+I57+I58 -> 0 | J55: =J56+J57+J58 -> 0 | K55: =K56+K57+K58 -> 0 | L55: =L56+L57+L58 -> 0 | M55: x
C56: valsts pamatfunkciju īstenošana | D56: x | E56: =E66+E70+E73+E63+E60 -> 0 | F56: =F66+F70+F73+F63+F60 -> 0 | G56: =G66+G70+G73+G63+G60 -> 0 | H56: =H66+H70+H73+H63+H60 -> 0 | I56: =I66+I70+I73+I63+I60 -> 0 | J56: =J66+J70+J73+J63+J60 -> 0 | K56: =K66+K70+K73+K63+K60 -> 0 | L56: =L66+L70+L73+L63+L60 -> 0 | M56: x
C57: valsts sociālās apdrošināšanas speciālais budžets | D57: x | E57: =E67 -> 0 | F57: =F67 -> 0 | G57: =G67 -> 0 | H57: =H67 -> 0 | I57: =I67 -> 0 | J57: =J67 -> 0 | K57: =K67 -> 0 | L57: =L67 -> 0 | M57: x
C58: Eiropas Savienības politiku instrumentu un pārējās ārvalstu finanšu palīdzības līdzfinansēto projektu un pasākumu īstenošana | D58: x | E58: =E68+E71+E74+E61+E64 -> 0 | F58: =F68+F71+F74+F61+F64 -> 0 | G58: =G68+G71+G74+G61+G64 -> 0 | H58: =H68+H71+H74+H61+H64 -> 0 | I58: =I68+I71+I74+I61+I64 -> 0 | J58: =J68+J71+J74+J61+J64 -> 0 | K58: =K68+K71+K74+K61+K64 -> 0 | L58: =L68+L71+L74+L61+L64 -> 0 | M58: x
B59: x | C59: 08. Sabiedrības integrācijas fonds | D59: x | E59: =E60+E61 -> 0 | F59: =F60+F61 -> 0 | G59: =G60+G61 -> 0 | H59: =H60+H61 -> 0 | I59: =I60+I61 -> 0 | J59: =J60+J61 -> 0 | K59: =K60+K61 -> 0 | L59: =L60+L61 -> 0 | M59: x
B60: x | C60: valsts pamatfunkciju īstenošana
B61: x | C61: Eiropas Savienības politiku instrumentu un pārējās ārvalstu finanšu palīdzības līdzfinansēto projektu un pasākumu īstenošana
B62: x | C62: 13. Finanšu ministrija | D62: x | E62: =E63+E64 -> 0 | F62: =F63+F64 -> 0 | G62: =G63+G64 -> 0 | H62: =H63+H64 -> 0 | I62: =I63+I64 -> 0 | J62: =J63+J64 -> 0 | K62: =K63+K64 -> 0 | L62: =L63+L64 -> 0 | M62: x
B63: x | C63: valsts pamatfunkciju īstenošana
B64: x | C64: Eiropas Savienības politiku instrumentu un pārējās ārvalstu finanšu palīdzības līdzfinansēto projektu un pasākumu īstenošana
C65: 18. Labklājības ministrija | E65: =E66+E67+E68 -> 0 | F65: =F66+F67+F68 -> 0 | G65: =G66+G67+G68 -> 0 | H65: =H66+H67+H68 -> 0 | I65: =I66+I67+I68 -> 0 | J65: =J66+J67+J68 -> 0 | K65: =K66+K67+K68 -> 0 | L65: =L66+L67+L68 -> 0 | M65: x
C66: valsts pamatfunkciju īstenošana | D66: apakšprogramma 97.01.00 "Labklājības nozares vadība un politikas plānošana"**
C67: valsts sociālās apdrošināšanas speciālais budžets
C68: Eiropas Savienības politiku instrumentu un pārējās ārvalstu finanšu palīdzības līdzfinansēto projektu un pasākumu īstenošana | F68: 0 | G68: 0 | H68: 0 | I68: 0 | J68: 0 | K68: 0 | L68: 0 | M68: 0
B69: x | C69: 21.Vides aizsardzības un reģionālās attīstības ministrija | D69: x | E69: =E70+E71 -> 0 | F69: =F70+F71 -> 0 | G69: =G70+G71 -> 0 | H69: =H70+H71 -> 0 | I69: =I70+I71 -> 0 | J69: =J70+J71 -> 0 | K69: =K70+K71 -> 0 | L69: =L70+L71 -> 0 | M69: x
B70: x | C70: valsts pamatfunkciju īstenošana
B71: x | C71: Eiropas Savienības politiku instrumentu un pārējās ārvalstu finanšu palīdzības līdzfinansēto projektu un pasākumu īstenošana
B72: x | C72: 29.Veselības ministrija | D72: x | E72: =E73+E74 -> 0 | F72: =F73+F74 -> 0 | G72: =G73+G74 -> 0 | H72: =H73+H74 -> 0 | I72: =I73+I74 -> 0 | J72: =J73+J74 -> 0 | K72: =K73+K74 -> 0 | L72: =L73+L74 -> 0 | M72: x
B73: x | C73: valsts pamatfunkciju īstenošana
B74: x | C74: Eiropas Savienības politiku instrumentu un pārējās ārvalstu finanšu palīdzības līdzfinansēto projektu un pasākumu īstenošana
A75: 3 | C75: Pārskatīt sociālo pakalpojumu samaksas kārtību personai, personas apgādniekiem | D75: KOPĀ | E75: =E76+E77 -> 120200 | F75: =F76+F77 -> 0 | G75: =G76+G77 -> 0 | H75: =H76+H77 -> 0 | I75: =I76+I77 -> 0 | J75: =J76+J77 -> 0 | K75: =K76+K77 -> 0 | L75: =L76+L77 -> 0 | M75: x | N75: 1) Pasākums tiek veikts 2024.gadā noslēgtā līguma ietvaros starp Labklājības ministriju un biedrību „Latvijas Samariešu apvienība”, nodrošinot pētījumu par ārvalstu pieredzi labklājības nozarei aktuālos jautājumos, kas skar ilgtermiņa aprūpes nodrošināšanu – “Kopšanas apdrošināšana” un “Pašaprūpes novērtējuma instrumenti” veikšanu. 2) Pasākuma ietvaros tiek veikts pētījums par ilgtermiņa sociālās aprūpes finansēšanas modeļiem un izstrādāti priekšlikumi ilgtspējīga finansēšanas modeļa ieviešanai.
C76: Pašvaldību budžets | D76: x
C77: Vidēja termiņa budžeta ietvara likums, kopā, t.sk.: | D77: x | E77: =E78+E79+E80 -> 120200 | F77: =F78+F79+F80 -> 0 | G77: =G78+G79+G80 -> 0 | H77: =H78+H79+H80 -> 0 | I77: =I78+I79+I80 -> 0 | J77: =J78+J79+J80 -> 0 | K77: =K78+K79+K80 -> 0 | L77: =L78+L79+L80 -> 0 | M77: x
C78: valsts pamatfunkciju īstenošana | D78: x | E78: =E88+E92+E95+E85+E82 -> 5000 | F78: =F88+F92+F95+F85+F82 -> 0 | G78: =G88+G92+G95+G85+G82 -> 0 | H78: =H88+H92+H95+H85+H82 -> 0 | I78: =I88+I92+I95+I85+I82 -> 0 | J78: =J88+J92+J95+J85+J82 -> 0 | K78: =K88+K92+K95+K85+K82 -> 0 | L78: =L88+L92+L95+L85+L82 -> 0 | M78: x
C79: valsts sociālās apdrošināšanas speciālais budžets | D79: x | E79: =E89 -> 0 | F79: =F89 -> 0 | G79: =G89 -> 0 | H79: =H89 -> 0 | I79: =I89 -> 0 | J79: =J89 -> 0 | K79: =K89 -> 0 | L79: =L89 -> 0 | M79: x
C80: Eiropas Savienības politiku instrumentu un pārējās ārvalstu finanšu palīdzības līdzfinansēto projektu un pasākumu īstenošana | D80: x | E80: =E90+E93+E96+E83+E86 -> 115200 | F80: =F90+F93+F96+F83+F86 -> 0 | G80: =G90+G93+G96+G83+G86 -> 0 | H80: =H90+H93+H96+H83+H86 -> 0 | I80: =I90+I93+I96+I83+I86 -> 0 | J80: =J90+J93+J96+J83+J86 -> 0 | K80: =K90+K93+K96+K83+K86 -> 0 | L80: =L90+L93+L96+L83+L86 -> 0 | M80: x
B81: x | C81: 08. Sabiedrības integrācijas fonds | D81: x | E81: =E82+E83 -> 0 | F81: =F82+F83 -> 0 | G81: =G82+G83 -> 0 | H81: =H82+H83 -> 0 | I81: =I82+I83 -> 0 | J81: =J82+J83 -> 0 | K81: =K82+K83 -> 0 | L81: =L82+L83 -> 0 | M81: x
B82: x | C82: valsts pamatfunkciju īstenošana
B83: x | C83: Eiropas Savienības politiku instrumentu un pārējās ārvalstu finanšu palīdzības līdzfinansēto projektu un pasākumu īstenošana
B84: x | C84: 13. Finanšu ministrija | D84: x | E84: =E85+E86 -> 0 | F84: =F85+F86 -> 0 | G84: =G85+G86 -> 0 | H84: =H85+H86 -> 0 | I84: =I85+I86 -> 0 | J84: =J85+J86 -> 0 | K84: =K85+K86 -> 0 | L84: =L85+L86 -> 0 | M84: x
B85: x | C85: valsts pamatfunkciju īstenošana
B86: x | C86: Eiropas Savienības politiku instrumentu un pārējās ārvalstu finanšu palīdzības līdzfinansēto projektu un pasākumu īstenošana
C87: 18. Labklājības ministrija | D87: x | E87: =E88+E89+E90 -> 120200 | F87: =F88+F89+F90 -> 0 | G87: =G88+G89+G90 -> 0 | H87: =H88+H89+H90 -> 0 | I87: =I88+I89+I90 -> 0 | J87: =J88+J89+J90 -> 0 | K87: =K88+K89+K90 -> 0 | L87: =L88+L89+L90 -> 0 | M87: x
C88: valsts pamatfunkciju īstenošana | D88: apakšprogramma 05.63.00 „Dotācija biedrībām, nodibinājumiem un reliģiskām organizācijām” | E88: 5000 | M88: 2024
C89: valsts sociālās apdrošināšanas speciālais budžets
C90: Eiropas Savienības politiku instrumentu un pārējās ārvalstu finanšu palīdzības līdzfinansēto projektu un pasākumu īstenošana | D90: apakšprogramma 70.50.00 “Tehniskā palīdzība ERAF, ESF+, KF, TPF finansējuma apgūšanai (2021-2027)” | E90: 115200 | M90: 2024
B91: x | C91: 21.Vides aizsardzības un reģionālās attīstības ministrija | D91: x | E91: =E92+E93 -> 0 | F91: =F92+F93 -> 0 | G91: =G92+G93 -> 0 | H91: =H92+H93 -> 0 | I91: =I92+I93 -> 0 | J91: =J92+J93 -> 0 | K91: =K92+K93 -> 0 | L91: =L92+L93 -> 0 | M91: x
B92: x | C92: valsts pamatfunkciju īstenošana
B93: x | C93: Eiropas Savienības politiku instrumentu un pārējās ārvalstu finanšu palīdzības līdzfinansēto projektu un pasākumu īstenošana
B94: x | C94: 29.Veselības ministrija | D94: x | E94: =E95+E96 -> 0 | F94: =F95+F96 -> 0 | G94: =G95+G96 -> 0 | H94: =H95+H96 -> 0 | I94: =I95+I96 -> 0 | J94: =J95+J96 -> 0 | K94: =K95+K96 -> 0 | L94: =L95+L96 -> 0 | M94: x
B95: x | C95: valsts pamatfunkciju īstenošana
B96: x | C96: Eiropas Savienības politiku instrumentu un pārējās ārvalstu finanšu palīdzības līdzfinansēto projektu un pasākumu īstenošana
A97: 4 | C97: Ieviest jaunus sociālo pakalpojumu apmaksas modeļus | D97: KOPĀ | E97: =E98+E99 -> 0 | F97: =F98+F99 -> 0 | G97: =G98+G99 -> 0 | H97: =H98+H99 -> 0 | I97: =I98+I99 -> 0 | J97: =J98+J99 -> 18610378 | K97: =K98+K99 -> 22164466 | L97: =L98+L99 -> 26018896 | M97: x | N97: Atbilstoši LM Konceptuālā ziņojuma "Par individuālā budžeta pieeju sociālo pakalpojumu sniegšanā personām ar funkcionāliem traucējumiem" projekta B.variantam.
C98: Pašvaldību budžets | D98: x
C99: Vidēja termiņa budžeta ietvara likums, kopā, t.sk.: | D99: x | E99: =E100+E101+E102 -> 0 | F99: =F100+F101+F102 -> 0 | G99: =G100+G101+G102 -> 0 | H99: =H100+H101+H102 -> 0 | I99: =I100+I101+I102 -> 0 | J99: =J100+J101+J102 -> 18610378 | K99: =K100+K101+K102 -> 22164466 | L99: =L100+L101+L102 -> 26018896 | M99: x
C100: valsts pamatfunkciju īstenošana | D100: x | E100: =E110+E114+E117+E107+E104 -> 0 | F100: =F110+F114+F117+F107+F104 -> 0 | G100: =G110+G114+G117+G107+G104 -> 0 | H100: =H110+H114+H117+H107+H104 -> 0 | I100: =I110+I114+I117+I107+I104 -> 0 | J100: =J110+J114+J117+J107+J104 -> 18610378 | K100: =K110+K114+K117+K107+K104 -> 22164466 | L100: =L110+L114+L117+L107+L104 -> 26018896 | M100: x
...
