Workbook
Name _bkm78: [1]Pielikums39!#REF!

Sheet priekšlikumi_teksta_daļai
B1: Ministriju un citu centrālo valsts iestāžu priekšlikumi
B2: likumprojekta „Par valsts budžetu 2024. gadam un budžeta ietvaru 2024., 2025. un 2026. gadam” izskatīšanai Saeimā otrajā lasījumā
D4: Priekšlikums MK atzinumam
B5: Pieņemts pirmajā lasījumā | C5: Priekšlikumi 2.lasījumam
B7: Par likumprojekta "Par valsts budžetu 2024. gadam un budžeta ietvaru 2024., 2025. un 2026. gadam" teksta daļu:
B9: 15. Izglītības un zinātnes ministrija
A10: =1 -> 1 | B10: 30. pants. Apstiprināt mērķdotāciju apjomu pašvaldībām 617 072 715 euro apmērā, tai skaitā: | C10: Izteikt likumprojekta 30.panta pirmo daļu šādā redakcijā: "30. pants. Apstiprināt mērķdotāciju apjomu pašvaldībām 617 052 664 euro apmērā, tai skaitā: | D10: Atbalstīt
B11: 1) pašvaldību pamata un vispārējās vidējās izglītības iestāžu, pašvaldību speciālās izglītības iestāžu, pašvaldību profesionālās izglītības iestāžu un daļējai interešu izglītības programmu pedagogu darba samaksai un valsts sociālās apdrošināšanas obligātajām iemaksām 465 825 869 euro apmērā saskaņā ar 6. un 7. pielikumu; | C11: 1) pašvaldību pamata un vispārējās vidējās izglītības iestāžu, pašvaldību speciālās izglītības iestāžu, pašvaldību profesionālās izglītības iestāžu un daļējai interešu izglītības programmu pedagogu darba samaksai un valsts sociālās apdrošināšanas obligātajām iemaksām 469 140 318 euro apmērā saskaņā ar 6. un 7. pielikumu;
B12: 2) pašvaldību speciālo pirmsskolas izglītības grupu pedagogu darba samaksai un valsts sociālās apdrošināšanas obligātajām iemaksām, speciālajām izglītības iestādēm, kas nodrošina internāta pakalpojumus, 69 318 243 euro apmērā saskaņā ar 8. pielikumu; | C12: 2) pašvaldību speciālo pirmsskolas izglītības grupu pedagogu darba samaksai un valsts sociālās apdrošināšanas obligātajām iemaksām, speciālajām izglītības iestādēm, kas nodrošina internāta pakalpojumus,71 175 863 euro apmērā saskaņā ar 8. pielikumu;
B13: 3) pašvaldību izglītības iestādēs bērnu no piecu gadu vecuma izglītošanā nodarbināto pedagogu darba samaksai un valsts sociālās apdrošināšanas obligātajām iemaksām 80 962 209 euro apmērā saskaņā ar 9. pielikumu; | C13: 3) pašvaldību izglītības iestādēs bērnu no piecu gadu vecuma izglītošanā nodarbināto pedagogu darba samaksai un valsts sociālās apdrošināšanas obligātajām iemaksām 75 770 089 euro apmērā saskaņā ar 9. pielikumu;
B14: 4) māksliniecisko kolektīvu vadītāju darba samaksai un valsts sociālās apdrošināšanas obligātajām iemaksām 966 394 euro apmērā saskaņā ar 10. pielikumu. | C14: 4) māksliniecisko kolektīvu vadītāju darba samaksai un valsts sociālās apdrošināšanas obligātajām iemaksām 966 394 euro apmērā saskaņā ar 10. pielikumu."
B15: Lai nodrošinātu pedagogu darba samaksu 2024.gadā un turpmāk, ņemot vērā pedagogu minimālās algas likmes palielināšanu ar 2023.gada 1.septembri un 2024.gada 1.janvāri (Satversmes tiesas spriedums par pirmsskolu un pedagogu darba samaksas paaugstināšanas grafiks) un izglītojamo skaita (neieskaitot Ukrainas civiliedzīvotājus) un struktūras uz 2023.gada 1.septembri izmaiņu ietekmi (MK 03.10.2023. prot. Nr. 48 23. §, 3.punkts), veikta finansējuma pārdale starp 62.resora programmām un 20 051 euro apmērā no programmas 10 .00. "Mērķdotācijas pašvaldībām – pašvaldību izglītības iestādēs bērnu no piecu gadu vecuma izglītošanā nodarbināto pedagogu darba samaksai un valsts sociālās apdrošināšanas obligātajām iemaksām" uz 15. resora programmu 01.05.00. "Dotācija privātajām mācību iestādēm" .
B17: 13. Finanšu ministrija
A18: =A10+1 -> 2 | B18: 31. pants. Apstiprināt valsts budžeta dotāciju pašvaldībām 36 525 543 euro apmērā, tai skaitā: | C18: Izteikt likumprojekta 31.pantu šādā redakcijā: "31. pants. Apstiprināt valsts budžeta dotāciju pašvaldībām 43 552 539 euro apmērā, tai skaitā: | D18: Atbalstīt
B19: 1) pašvaldību finanšu izlīdzināšanas fondam 35 921 931 euro apmērā; | C19: 1) pašvaldību finanšu izlīdzināšanas fondam 35 921 931 euro apmērā;
B20: 2) pašvaldībām par iemītniekiem veco ļaužu pansionātos un centros (par vienu iemītnieku 8748 euro), kuri tajos ievietoti līdz 1998. gada 1. janvārim, 603 612 euro apmērā. Ministru kabinets nosaka kārtību, kādā pašvaldībām piešķir valsts budžeta dotāciju. | C20: 2) pašvaldībām par iemītniekiem veco ļaužu pansionātos un centros (par vienu iemītnieku 8748 euro), kuri tajos ievietoti līdz 1998. gada 1. janvārim, 603 612 euro apmērā. Ministru kabinets nosaka kārtību, kādā pašvaldībām piešķir valsts budžeta dotāciju;
C21: 3) budžeta dotāciju 7 026 996 euro apmērā pamatojoties uz Ministru kabineta rīkojumu piešķiršanai pašvaldībām, kurām zlīdzinātie ieņēmumi uz vienu izlīdzināmo vienību ir zemāki par 90 procentiem no vidējiem izlīdzinātiem ieņēmumiem, nodrošinot šīs starpības samazināšanu par 30 procentiem."
B22: Pamatojoties uz Ministru kabineta 2023. gada 24. oktobra sēdes protokolu Nr.53, 52.§. 3. punktu veikta pārdale 7 026 996 euro apmērā no budžeta resora "74. Gadskārtējā valsts budžeta izpildes procesā pārdalāmais finansējums" programmas 02.00.00 "Līdzekļi neparedzētiem gadījumiem" uz 64.resora programmu 01.01.00 "Dotācija pašvaldību finanšu izlīdzināšanas fondam", lai piešķirtu valsts budžeta dotāciju pašvaldībām, kurām izlīdzinātie ieņēmumi uz vienu izlīdzināmo vienību ir zemāki par 90% no vidējiem izlīdzinātiem ieņēmumiem, nodrošinot šīs starpības samazināšanu par 30%.
B24: 13. Finanšu ministrija
A25: =A18+1 -> 3 | B25: --- | C25: Papildināt likumprojektu ar jaunu pantu: "xx. pants. Lai nodrošinātu Latvijas Republikas dalību Starptautisko Valūtas fonda kvotu palielināšanā atbilstoši Starptautiskā Valūtas fonda kvotu 16. vispārējam pārskatam, atļaut finanšu ministram palielināt Latvijas Republikas saistības pret Starptautisko Valūtas fondu un palielināt apropriāciju Finanšu ministrijas budžeta apakšprogrammā 41.03.00 "Iemaksas starptautiskajās organizācijās", lai apmaksātu Latvijas Republikas kvotas palielināšanu, ja ir pieņemts attiecīgs Ministru kabineta lēmums un Saeimas Budžeta un finanšu (nodokļu) komisija piecu darba dienu laikā no attiecīgās informācijas saņemšanas dienas ir to izskatījusi un nav iebildusi pret apropriācijas palielinājumu." | D25: Atbalstīt
B26: Pants nepieciešams, lai nepieciešamības gadījumā nodrošinātu Latvijas Republikas dalību Starptautisko Valūtas fonda kvotu palielināšanā atbilstoši Starptautiskā Valūtas fonda kvotu 16. vispārējam pārskatam un palielinātu apropriāciju Finanšu ministrijas budžeta apakšprogrammā 41.03.00 “Iemaksas starptautiskajās organizācijās”, lai apmaksātu Latvijas Republikas kvotas palielināšanu.
B28: 13. Finanšu ministrija
A29: =A25+1 -> 4 | B29: --- | C29: Papildināt likumprojektu ar jaunu pantu: "xx. pants. Atļaut finanšu ministram palielināt apropriāciju Finanšu ministrijai resursiem no dotācijas no vispārējiem ieņēmumiem un izdevumiem Patērētāju tiesību aizsardzības likumā noteiktā atbalsta izmaksai kredītņēmējiem un administrēšanas izmaksu segšanai Valsts ieņēmumu dienestam, nepārsniedzot budžetā ieskaitāmās hipotekārā kredīta ņēmēju aizsardzības nodevas apmēru, ja ir pieņemts attiecīgs Ministru kabinets lēmums un Saeimas Budžeta un finanšu (nodokļu) komisija piecu darba dienu laikā no attiecīgās informācijas saņemšanas dienas ir to izskatījusi un nav iebildusi pret apropriācijas palielinājumu." | D29: Atbalstīt
B30: Pants nepieciešams, lai nodrošinātu finansējumu Patērētāju tiesību aizsardzības likumā noteiktā atbalsta izmaksai kredītņēmējiem, kā arī Valsts ieņēmumu dienestam administrēšanas izmaksu segšanai, nepārsniedzot budžetā ieskaitāmās hipotekārā kredīta ņēmēju aizsardzības nodevas apmēru.
B32: 13. Finanšu ministrija
A33: =A29+1 -> 5 | C33: Kopsavilkuma skaitļus likumprojekta tekstā un pielikumos precizēt pēc balsojumiem par konkrētām pielikumu pozīcijām. | D33: Atbalstīt

Sheet SIF
C1: Pieņemts pirmajā lasījumā | D1: Priekšlikums par izmaiņām | F1: Pieņemts pirmajā lasījumā | G1: Priekšlikums par izmaiņām | H1: Priekšlikums MK atzinumam
B3: Par likumprojekta "Par valsts budžetu 2024. gadam un budžeta ietvaru 2024., 2025. un 2026. gadam" skaitlisko daļu:
B5: Sadalījumā pa budžeta resoriem
B7: 08. Sabiedrības integrācijas fonds
A8: =1 -> 1 | B8: Valsts budžeta ieņēmumi | E8: 08.Sabiedrības integrācijas fonds | H8: Atbalstīt
B9: 2.pielikums | E9: 4.pielikums
B10: Valsts pamatbudžeta ieņēmumi | E10: 05.00.00 "NVO atbalsts un sabiedrības saliedētības programma"
B11: 2024.gads | E11: Resursi izdevumu segšanai | F11: 4325761 | G11: 150000
B12: Ieņēmumi no dividendēm (ieņēmumi no valsts (pašvaldību) kapitāla izmantošanas) | C12: 373206565 | D12: 150000 | E12: Dotācija no vispārējiem ieņēmumiem | F12: =F13 -> 3865223 | G12: 150000
E13: Vispārējā kārtībā sadalāmā dotācija no vispārējiem ieņēmumiem | F13: 3865223 | G13: 150000
E14: Izdevumi – kopā | F14: 4325761 | G14: 150000
E15: Uzturēšanas izdevumi | F15: 4315761 | G15: 150000
E16: Kārtējie izdevumi | F16: 1097677 | G16: 3738
E17: Atlīdzība | F17: 461822 | G17: 3141
E18: Preces un pakalpojumi | F18: 635855 | G18: 597
E19: Subsīdijas, dotācijas, sociālie maksājumi un kompensācijas | F19: 3118084 | G19: =G20 -> 146262
E20: Subsīdijas un dotācijas | F20: 3118084 | G20: 146262
B21: Papildus finansējums 2024.gadā paredzēts vismaz trīs gadus aprobētam digitālajam rīkam kiberdrošības aizsardzībai demokrātijas un sabiedrības iesaistes nodrošināšanai nevalstiskajā sektorā. Finansējuma avots: AS “Latvijas valsts meži” iemaksas valsts budžetā.

Sheet AM
C1: Pieņemts pirmajā lasījumā | D1: Priekšlikums par izmaiņām | F1: Pieņemts pirmajā lasījumā | G1: Priekšlikums par izmaiņām | H1: Priekšlikums MK atzinumam
B3: 11. Ārlietu ministrija
A4: =SIF!A8+1 -> 2 | B4: 74. Gadskārtējā valsts budžeta izpildes procesā pārdalāmais finansējums | E4: 11. Ārlietu ministrija | H4: Atbalstīt
B5: 4.pielikums | E5: 4.pielikums
B6: 02.00.00 Līdzekļi neparedzētiem gadījumiem | E6: 03.00.00 Diplomātisko un konsulāro misiju nodrošinājums
B7: Resursi izdevumu segšanai | C7: 127226869 | D7: -86304 | E7: Resursi izdevumu segšanai | F7: 57470117 | G7: 86304
B8: Dotācija no vispārējiem ieņēmumiem | C8: 127226869 | D8: -86304 | E8: Ieņēmumi no maksas pakalpojumiem un citi pašu ieņēmumi – kopā | F8: 2050000
B9: Vispārējā kārtībā sadalāmā dotācija no vispārējiem ieņēmumiem | C9: 127226869 | D9: -86304 | E9: Dotācija no vispārējiem ieņēmumiem | F9: 55420117 | G9: 86304
B10: Izdevumi – kopā | C10: 127226869 | D10: -86304 | E10: Vispārējā kārtībā sadalāmā dotācija no vispārējiem ieņēmumiem | F10: 55420117 | G10: 86304
B11: Uzturēšanas izdevumi | C11: 127226869 | D11: -86304 | E11: Izdevumi – kopā | F11: 57470117 | G11: 86304
B12: Subsīdijas, dotācijas, sociālie maksājumi un kompensācijas | C12: 127226869 | D12: -86304 | E12: Uzturēšanas izdevumi | F12: 56294845 | G12: 86304
B13: Subsīdijas un dotācijas | C13: 127226869 | D13: -86304 | E13: Kārtējie izdevumi | F13: 55936765 | G13: 86304
E14: Atlīdzība | F14: 31171597 | G14: 70376
E15: Preces un pakalpojumi | F15: 24765168 | G15: 15928
E16: Subsīdijas, dotācijas, sociālie maksājumi un kompensācijas | F16: 60000
E17: Subsīdijas un dotācijas | F17: 60000
E18: Transferti viena budžeta veida ietvaros un uzturēšanas izdevumu transferti starp budžeta veidiem | F18: 298080
E19: Valsts budžeta transferti un uzturēšanas izdevumu transferti | F19: 298080
E20: Valsts budžeta uzturēšanas izdevumu transferti no valsts pamatbudžeta uz valsts speciālo budžetu | F20: 298080
E21: Kapitālie izdevumi | F21: 1175272
E22: Pamatkapitāla veidošana | F22: 1175272
B23: Finansējuma pārdale no 74.resora programmas 02.00.00 "Līdzekļi neparedzētiem gadījumiem" uz Ārlietu ministrijas programmu 03.00.00 "Diplomātisko un konsulāro misiju nodrošinājums", lai segtu izdevumus civilā eksperta dalības nodrošināšanai Eiropas Savienības Padomdevēja misijā civilā drošības sektora reformām Ukrainā, pamatojoties uz Ministru kabineta 2023.gada 16. novembra rīkojumu Nr.744 “Par civilā eksperta dalības laika pagarināšanu Eiropas Savienības Padomdevēja misijā civilā drošības sektora reformām Ukrainā”.

Sheet EM
C1: Pieņemts pirmajā lasījumā | D1: Priekšlikums par izmaiņām | F1: Pieņemts pirmajā lasījumā | G1: Priekšlikums par izmaiņām | H1: Priekšlikums MK atzinumam
B3: 12. Ekonomikas ministrija
A4: =AM!A4+1 -> 3 | B4: 74. Gadskārtējā valsts budžeta izpildes procesā pārdalāmais finansējums | E4: 12.Ekonomikas ministrija | H4: Atbalstīt
B5: 4.pielikums | E5: 4.pielikums
B6: 02.00.00 “Līdzekļi neparedzētiem gadījumiem” | E6: 26.02.00 "Konkurences politikas ieviešana"
B7: Resursi izdevumu segšanai | C7: =C8 -> 127226869 | D7: =D8 -> -179429 | E7: Resursi izdevumu segšanai | F7: =F8 -> 4713567 | G7: 179429
B8: Dotācija no vispārējiem ieņēmumiem | C8: =C9 -> 127226869 | D8: =D9 -> -179429 | E8: Dotācija no vispārējiem ieņēmumiem | F8: =F9 -> 4713567 | G8: 179429
B9: Vispārējā kārtībā sadalāmā dotācija no vispārējiem ieņēmumiem | C9: 127226869 | D9: -179429 | E9: Vispārējā kārtībā sadalāmā dotācija no vispārējiem ieņēmumiem | F9: 4713567 | G9: 179429
B10: Izdevumi – kopā | C10: =C11 -> 127226869 | D10: =D11 -> -179429 | E10: Izdevumi – kopā | F10: =F11+F15 -> 4713567 | G10: 179429
B11: Uzturēšanas izdevumi | C11: =C12 -> 127226869 | D11: =D12 -> -179429 | E11: Uzturēšanas izdevumi | F11: =F12 -> 3940667 | G11: 174629
B12: Subsīdijas, dotācijas, sociālie maksājumi un kompensācijas | C12: =C13 -> 127226869 | D12: =D13 -> -179429 | E12: Kārtējie izdevumi | F12: =F13+F14 -> 3940667 | G12: 174629
B13: Subsīdijas un dotācijas | C13: 127226869 | D13: -179429 | E13: Atlīdzība | F13: 3657324 | G13: 155279
E14: Preces un pakalpojumi | F14: 283343 | G14: 19350
E15: Kapitālie izdevumi | F15: =F16 -> 772900 | G15: 4800
E16: Pamatkapitāla veidošana | F16: 772900 | G16: 4800
B17: 74. Gadskārtējā valsts budžeta izpildes procesā pārdalāmais finansējums | E17: 12.Ekonomikas ministrija
B18: 3.pielikums | E18: 3.pielikums
B19: I. Valsts pamatfunkciju īstenošana | E19: I. Valsts pamatfunkciju īstenošana
B20: 2025.gads | E20: 2025.gads
B21: Resursi izdevumu segšanai | C21: =C22 -> 920111247 | D21: =D22 -> -171763 | E21: Resursi izdevumu segšanai | F21: =F22+F23+F28 -> 132213407 | G21: =G22+G23+G28 -> 171763
B22: Dotācija no vispārējiem ieņēmumiem | C22: =C23 -> 920111247 | D22: =D23 -> -171763 | E22: Ieņēmumi no maksas pakalpojumiem un citi pašu ieņēmumi – kopā | F22: 1834287
B23: Vispārējā kārtībā sadalāmā dotācija no vispārējiem ieņēmumiem | C23: 920111247 | D23: -171763 | E23: Transferti | F23: =F24 -> 118066 | G23: =G24 -> 0
B24: Izdevumi – kopā | C24: =C25 -> 920111247 | D24: =D25 -> -171763 | E24: Valsts budžeta transferti | F24: =F25 -> 118066 | G24: =G25 -> 0
B25: Uzturēšanas izdevumi | C25: =C26 -> 920111247 | D25: =D26 -> -171763 | E25: Valsts pamatbudžeta savstarpējie transferti | F25: =F26 -> 118066 | G25: =G26 -> 0
B26: Subsīdijas, dotācijas, sociālie maksājumi un kompensācijas | C26: =C27 -> 920111247 | D26: =D27 -> -171763 | E26: Valsts pamatbudžeta iestāžu saņemtie transferti no valsts pamatbudžeta | F26: =F27 -> 118066 | G26: =G27 -> 0
B27: Subsīdijas un dotācijas | C27: 920111247 | D27: -171763 | E27: Valsts pamatbudžeta iestāžu saņemtie transferti no valsts pamatbudžeta dotācijas no vispārējiem ieņēmumiem | F27: 118066
E28: Dotācija no vispārējiem ieņēmumiem | F28: =F29 -> 130261054 | G28: =G29 -> 171763
E29: Vispārējā kārtībā sadalāmā dotācija no vispārējiem ieņēmumiem | F29: 130261054 | G29: 171763
E30: Izdevumi – kopā | F30: =F31+F46 -> 132311407 | G30: =G31+G46 -> 171763
E31: Uzturēšanas izdevumi | F31: =F32+F35+F37+F39 -> 126358036 | G31: =G32+G35+G37+G39 -> 171763
E32: Kārtējie izdevumi | F32: =F33+F34 -> 60529318 | G32: =G33+G34 -> 171763
E33: Atlīdzība | F33: 37106896 | G33: 155279
E34: Preces un pakalpojumi | F34: 23422422 | G34: 16484
E35: Subsīdijas, dotācijas, sociālie maksājumi un kompensācijas | F35: =F36 -> 65401763 | G35: =G36 -> 0
E36: Subsīdijas un dotācijas | F36: 65401763
E37: Kārtējie maksājumi Eiropas Savienības budžetā un starptautiskā sadarbība | F37: =F38 -> 216083 | G37: =G38 -> 0
E38: Starptautiskā sadarbība | F38: 216083
E39: Transferti viena budžeta veida ietvaros un uzturēšanas izdevumu transferti starp budžeta veidiem | F39: =F40+F44 -> 210872 | G39: =G40+G44 -> 0
E40: Valsts budžeta transferti un uzturēšanas izdevumu transferti | F40: =F41+F42 -> 186312 | G40: =G41+G42 -> 0
E41: Valsts budžeta uzturēšanas izdevumu transferti no valsts pamatbudžeta uz valsts speciālo budžetu | F41: 23328
...

Sheet FM
C1: Pieņemts pirmajā lasījumā | D1: Priekšlikums par izmaiņām | F1: Pieņemts pirmajā lasījumā | G1: Priekšlikums par izmaiņām | H1: Priekšlikums MK atzinumam
B3: 13. Finanšu ministrija
A4: =EM!A86+1 -> 5 | B4: 13. Finanšu ministrija | E4: 22. Kultūras ministrija | H4: Atbalstīt
B5: 4. pielikums | E5: 4. pielikums
B6: 41.13.00 Finansējums VAS "Valsts nekustamie īpašumi" īstenojamiem projektiem un pasākumiem | E6: 22.07.00 "Nomas maksas VAS "Valsts nekustamie īpašumi” programmas Mantojums-2018" ietvaros"
B7: Resursi izdevumu segšanai | C7: 21544328 | D7: -343534 | E7: Resursi izdevumu segšanai | F7: 5966891 | G7: 343534
B8: Dotācija no vispārējiem ieņēmumiem | C8: 21544328 | D8: -343534 | E8: Dotācija no vispārējiem ieņēmumiem | F8: 5966891 | G8: 343534
B9: Vispārējā kārtībā sadalāmā dotācija no vispārējiem ieņēmumiem | C9: 21544328 | D9: -343534 | E9: Vispārējā kārtībā sadalāmā dotācija no vispārējiem ieņēmumiem | F9: 5966891 | G9: 343534
B10: Izdevumi – kopā | C10: 21544328 | D10: -343534 | E10: Izdevumi – kopā | F10: 5966891 | G10: 343534
B11: Kapitālie izdevumi | C11: 21544328 | D11: -343534 | E11: Uzturēšanas izdevumi | F11: 5966891 | G11: 343534
B12: Pamatkapitāla veidošana | C12: 21544328 | D12: -343534 | E12: Kārtējie izdevumi | F12: 4597549 | G12: 343534
E13: Preces un pakalpojumi | F13: 4597549 | G13: 343534
B14: 13. Finanšu ministrija | E14: 22. Kultūras ministrija
B15: 3. pielikums | E15: 3. pielikums
B16: I. Valsts pamatfunkciju īstenošana | E16: I. Valsts pamatfunkciju īstenošana
B17: 2026.gadā | E17: 2026.gadā
B18: Resursi izdevumu segšanai | C18: 1291135002 | D18: -637988 | E18: Resursi izdevumu segšanai | F18: 236020838 | G18: 637988
B19: Dotācija no vispārējiem ieņēmumiem | C19: 1290848546 | D19: -637988 | E19: Dotācija no vispārējiem ieņēmumiem | F19: 227872021 | G19: 637988
B20: Vispārējā kārtībā sadalāmā dotācija no vispārējiem ieņēmumiem | C20: 1290848546 | D20: -637988 | E20: Vispārējā kārtībā sadalāmā dotācija no vispārējiem ieņēmumiem | F20: 227872021 | G20: 637988
B21: Izdevumi – kopā | C21: 1186853379 | D21: -637988 | E21: Izdevumi – kopā | F21: 236020838 | G21: 637988
B22: Kapitālie izdevumi | C22: 30223378 | D22: -637988 | E22: Uzturēšanas izdevumi | F22: 231965894 | G22: 637988
B23: Pamatkapitāla veidošana | C23: 30223378 | D23: -637988 | E23: Kārtējie izdevumi | F23: 100039773 | G23: 637988
E24: Preces un pakalpojumi | F24: 26824491 | G24: 637988
B26: 13. Finanšu ministrija | E26: 13. Finanšu ministrija
B27: 11. pielikums | E27: 11. pielikums
B28: 41.13.00 Finansējums VAS "Valsts nekustamie īpašumi" īstenojamiem projektiem un pasākumiem | E28: 41.13.00 Finansējums VAS "Valsts nekustamie īpašumi" īstenojamiem projektiem un pasākumiem
B29: 0600000000 Citas ilgtermiņa saistības | E29: 0600000000 Citas ilgtermiņa saistības
B30: "Dotācija VAS "Valsts nekustamie īpašumi" Rīgas pils restaurācijai un rekonstrukcijai Rīgā, Pils laukumā 3 (būvniecības II kārtas - Konventa nodrošināšanai)" | C30: CIS/FM/006 | E30: "Dotācija VAS "Valsts nekustamie īpašumi" nekustamā īpašuma Jēkaba ielā 11, Rīgā, sastāvā esošās būves pārbūves un restaurācijas darbiem" | F30: CIS/FM/025
B31: 2024.gadā | E31: 2024.gadā
B32: Resursi izdevumu segšanai | C32: 1992410 | D32: -693313 | E32: Resursi izdevumu segšanai | F32: 1023689 | G32: 349779
B33: Dotācija no vispārējiem ieņēmumiem | C33: 1992410 | D33: -693313 | E33: Dotācija no vispārējiem ieņēmumiem | F33: 1023689 | G33: 349779
B34: Vispārējā kārtībā sadalāmā dotācija no vispārējiem ieņēmumiem | C34: 1992410 | D34: -693313 | E34: Vispārējā kārtībā sadalāmā dotācija no vispārējiem ieņēmumiem | F34: 1023689 | G34: 349779
B35: Izdevumi – kopā | C35: 1992410 | D35: -693313 | E35: Izdevumi – kopā | F35: 1023689 | G35: 349779
B36: Kapitālie izdevumi | C36: 1992410 | D36: -693313 | E36: Kapitālie izdevumi | F36: 1023689 | G36: 349779
B37: Pamatkapitāla veidošana | C37: 1992410 | D37: -693313 | E37: Pamatkapitāla veidošana | F37: 1023689 | G37: 349779
E39: 22. Kultūras ministrija
E40: 11. pielikums
B41: 41.13.00 Finansējums VAS "Valsts nekustamie īpašumi" īstenojamiem projektiem un pasākumiem | E41: 22.07.00 "Nomas maksas VAS "Valsts nekustamie īpašumi” programmas Mantojums-2018" ietvaros"
B42: 0600000000 Citas ilgtermiņa saistības | E42: 0600000000 Citas ilgtermiņa saistības
B43: "Dotācija VAS "Valsts nekustamie īpašumi" nekustamā īpašuma Jēkaba ielā 11, Rīgā, sastāvā esošās būves pārbūves un restaurācijas darbiem" | C43: CIS/FM/025 | E43: Ēkas Rīgas pils Konventa Pils laukumā 3 nomas maksa un papildu izdevumi VAS "Valsts nekustamie īpašumi" | F43: CIS/KM/018
...

Sheet IeM
C1: Pieņemts pirmajā lasījumā | D1: Priekšlikums par izmaiņām | F1: Pieņemts pirmajā lasījumā | G1: Priekšlikums par izmaiņām | H1: Priekšlikums MK atzinumam
B3: 14. Iekšlietu ministrija
A4: =FM!A275+1 -> 13 | B4: 14. Iekšlietu ministrija | H4: Atbalstīt
B5: 4.pielikums
B6: 07.00.00 "Ugunsdrošība, glābšana un civilā aizsardzība"
B7: Resursi izdevumu segšanai | C7: 129880468 | D7: =D8 -> 5747
B8: Ieņēmumi no maksas pakalpojumiem un citi pašu ieņēmumi – kopā | C8: 43947 | D8: 5747
B9: Dotācija no vispārējiem ieņēmumiem | C9: 129836521
B10: Vispārējā kārtībā sadalāmā dotācija no vispārējiem ieņēmumiem | C10: 129836521
B11: Izdevumi – kopā | C11: 129880468 | D11: =D12+D20 -> 5747
B12: Uzturēšanas izdevumi | C12: 80536767 | D12: =D13 -> 4103
B13: Kārtējie izdevumi | C13: 80527651 | D13: =D14+D15 -> 4103
B14: Atlīdzība | C14: 76803877 | D14: 3125
B15: Preces un pakalpojumi | C15: 3723774 | D15: 978
B16: Subsīdijas, dotācijas, sociālie maksājumi un kompensācijas | C16: 6666
B17: Sociāla rakstura maksājumi un kompensācijas | C17: 6666
B18: Kārtējie maksājumi Eiropas Savienības budžetā un starptautiskā sadarbība | C18: 2450
B19: Starptautiskā sadarbība | C19: 2450
B20: Kapitālie izdevumi | C20: 49343701 | D20: =D21 -> 1644
B21: Pamatkapitāla veidošana | C21: 49343701 | D21: 1644
B22: 14. Iekšlietu ministrija
B23: 3.pielikums
B24: I. Valsts pamatfunkciju īstenošana
B25: 2025.gads
B26: Resursi izdevumu segšanai | C26: 508888186 | D26: =D27 -> 5747
B27: Ieņēmumi no maksas pakalpojumiem un citi pašu ieņēmumi – kopā | C27: 4303518 | D27: 5747
B28: Dotācija no vispārējiem ieņēmumiem | C28: 504584668
B29: Vispārējā kārtībā sadalāmā dotācija no vispārējiem ieņēmumiem | C29: 504584668
B30: Izdevumi – kopā | C30: 508888186 | D30: =D31+D47 -> 5747
B31: Uzturēšanas izdevumi | C31: 495523391 | D31: =D32 -> 4103
B32: Kārtējie izdevumi | C32: 483660250 | D32: =D33+D34 -> 4103
B33: Atlīdzība | C33: 348108350 | D33: 3125
B34: Preces un pakalpojumi | C34: 135551900 | D34: 978
B35: Subsīdijas, dotācijas, sociālie maksājumi un kompensācijas | C35: 8276651
B36: Subsīdijas un dotācijas | C36: 8015939
B37: Sociāla rakstura maksājumi un kompensācijas | C37: 260712
B38: Kārtējie maksājumi Eiropas Savienības budžetā un starptautiskā sadarbība | C38: 140306
B39: Starptautiskā sadarbība | C39: 140306
B40: Transferti viena budžeta veida ietvaros un uzturēšanas izdevumu transferti starp budžeta veidiem | C40: 3446184
B41: Valsts budžeta transferti un uzturēšanas izdevumu transferti | C41: 276702
...

Sheet IZM
C1: Pieņemts pirmajā lasījumā | D1: Priekšlikums par izmaiņām | F1: Pieņemts pirmajā lasījumā | G1: Priekšlikums par izmaiņām | H1: Priekšlikums MK atzinumam
B3: 15. Izglītības un zinātnes ministrija
A4: =IeM!A794+1 -> 26 | B4: 15. Izglītības un zinātnes ministrija | H4: Atbalstīt
B5: 4.pielikums
B6: 97.01.00 Ministrijas centrālā aparāta darbības nodrošināšana
B7: Resursi izdevumu segšanai | C7: 6225981 | D7: 0
B8: Izdevumi – kopā | C8: 6547603 | D8: 0
B9: Atlīdzība | C9: 5477345 | D9: 100000
B10: Preces un pakalpojumi | C10: 1061002 | D10: -100000
B11: 15. Izglītības un zinātnes ministrija
B12: 3.pielikums
B13: I. Valsts pamatfunkciju īstenošana
B14: 2025.gads
B15: Resursi izdevumu segšanai | C15: 449389371 | D15: 0
B16: Izdevumi – kopā | C16: 448706430 | D16: 0
B17: Atlīdzība | C17: 87629766 | D17: 100000
B18: Preces un pakalpojumi | C18: 24796443 | D18: -100000
B19: 2026.gads
B20: Resursi izdevumu segšanai | C20: 449526433 | D20: 0
B21: Izdevumi – kopā | C21: 448909703 | D21: 0
B22: Atlīdzība | C22: 87944170 | D22: 100000
B23: Preces un pakalpojumi | C23: 24796203 | D23: -100000
B24: Finansējuma pārdale starp izdevumu ekonomiskās klasifikācijas kodiem 2024.-2026. gadā un turpmāk ik gadu nepieciešama Izglītības un zinātnes ministrijas darbinieku kapacitātes stiprināšanai un daļēji izdevumu kompensēšanai jauno darbinieku atalgojuma segšanai, ņemot vērā ka prioritāra pasākuma “Valsts tiešās pārvaldes iestādēs nodarbināto atalgojuma palielināšana” ietvaros netika piešķirts papildu finansējums vakantām vietām. Pārdale plānota no Izglītības un zinātnes ministrijas saimnieciskajiem izdevumiem (sakari, komunālie maksājumi un iestādes administratīvās darbības nodrošināšanā), ņemot vērā faktisko līdzekļu nepieciešamību un vienreizējas izmaiņas, IZM telpu samazināšanas un darba vietas optimizēšanas ietekmē.
A26: =A4+1 -> 27 | B26: 15. Izglītības un zinātnes ministrija | E26: 15. Izglītības un zinātnes ministrija | H26: Atbalstīt
B27: 4.pielikums | E27: 4.pielikums
B28: 03.01.00 Augstākās izglītības programmu nodrošināšana | E28: 97.01.00 Ministrijas centrālā aparāta darbības nodrošināšana
B29: Resursi izdevumu segšanai | C29: 96897297 | D29: =D30 -> -287843 | E29: Resursi izdevumu segšanai | F29: 6225981 | G29: =G32 -> 287843
B30: Dotācija no vispārējiem ieņēmumiem | C30: 96642997 | D30: =+D31 -> -287843 | E30: Dotācija no vispārējiem ieņēmumiem | F30: 6053309 | G30: =+G31 -> 287843
B31: Vispārējā kārtībā sadalāmā dotācija no vispārējiem ieņēmumiem | C31: 96642997 | D31: =+D32 -> -287843 | E31: Vispārējā kārtībā sadalāmā dotācija no vispārējiem ieņēmumiem | F31: 6053309 | G31: =+G32 -> 287843
B32: Izdevumi – kopā | C32: 96897297 | D32: =D33 -> -287843 | E32: Izdevumi – kopā | F32: 6547603 | G32: =G33 -> 287843
B33: Uzturēšanas izdevumi | C33: 96853199 | D33: =D34 -> -287843 | E33: Uzturēšanas izdevumi | F33: 6540939 | G33: =G34 -> 287843
B34: Transferti viena budžeta veida ietvaros un uzturēšanas izdevumu transferti starp budžeta veidiem | C34: 93541530 | D34: =D35 -> -287843 | E34: Kārtējie izdevumi | F34: 6538347 | G34: =G35 -> 287843
B35: Pārējie valsts budžeta uzturēšanas izdevumu transferti citiem budžetiem | C35: 93541530 | D35: =D36 -> -287843 | E35: Atlīdzība | F35: 5477345 | G35: 287843
B36: Pārējie valsts budžeta uzturēšanas izdevumu transferti valsts budžeta daļēji finansētām atvasinātām publiskām personām un budžeta nefinansētām iestādēm | C36: 93541530 | D36: -287843
B37: 15. Izglītības un zinātnes ministrija
B38: 3.pielikums
B39: I. Valsts pamatfunkciju īstenošana
B40: 2025.gads
B41: Resursi izdevumu segšanai | C41: 449389371 | D41: 0
B42: Izdevumi – kopā | C42: 448706430 | D42: 0
...

Sheet SM
C1: Pieņemts pirmajā lasījumā | D1: Priekšlikums par izmaiņām | F1: Pieņemts pirmajā lasījumā | G1: Priekšlikums par izmaiņām | H1: Priekšlikums MK atzinumam
B3: 17. Satiksmes ministrija
A4: =IZM!A103+1 -> 31 | B4: 17 Satiksmes ministrija | E4: 17 Satiksmes ministrija | H4: Atbalstīt
B5: 4.pielikums | E5: 4.pielikums
B6: 04.04.00 Universālā pakalpojuma saistību izpildes radīto zaudējumu kompensācija elektronisko sakaru jomā | E6: 02.00.00 Kompensācijas par abonētās preses piegādi un saistību izpildi
B7: Resursi izdevumu segšanai | C7: =SUM(C8) -> 300000 | D7: =D8 -> -14946 | E7: Resursi izdevumu segšanai | F7: =SUM(F8) -> 6957500 | G7: =G8 -> 14946
B8: Dotācija no vispārējiem ieņēmumiem | C8: =SUM(C9) -> 300000 | D8: =D9 -> -14946 | E8: Dotācija no vispārējiem ieņēmumiem | F8: =SUM(F9) -> 6957500 | G8: =G9 -> 14946
B9: Vispārējā kārtībā sadalāmā dotācija no vispārējiem ieņēmumiem | C9: 300000 | D9: -14946 | E9: Vispārējā kārtībā sadalāmā dotācija no vispārējiem ieņēmumiem | F9: 6957500 | G9: 14946
B10: Izdevumi – kopā | C10: =SUM(C11) -> 300000 | D10: =D11 -> -14946 | E10: Izdevumi – kopā | F10: =SUM(F11) -> 6957500 | G10: =G11 -> 14946
B11: Uzturēšanas izdevumi | C11: =SUM(C12) -> 300000 | D11: =D12 -> -14946 | E11: Uzturēšanas izdevumi | F11: =SUM(F12) -> 6957500 | G11: =G12 -> 14946
B12: Subsīdijas, dotācijas, sociālie maksājumi un kompensācijas | C12: =SUM(C13) -> 300000 | D12: =D13 -> -14946 | E12: Subsīdijas, dotācijas, sociālie maksājumi un kompensācijas | F12: =SUM(F13) -> 6957500 | G12: =G13 -> 14946
B13: Subsīdijas un dotācijas | C13: 300000 | D13: -14946 | E13: Subsīdijas un dotācijas | F13: 6957500 | G13: 14946
B14: Tā kā SIA „Tet” aprēķinātās 2022.gada universālā pakalpojuma saistību tīrās izmaksas tika apstiprinātas 285 054 EUR apmērā, bet šim mērķim 2024.gada valsts budžetā paredzēts finansējums EUR 300 000 apmērā, atbalstot prioritāro pasākumu "SIA "Tet" 2022.gadā sniegtā universālā pakalpojuma saistību izpildes radīto zaudējumu kompensācija", tad par atlikušo summu 14 946 EUR apmērā paredzēts kompensēt VAS “Latvijas Pasts” universālā pasta pakalpojuma saistību izpildes tīrās izmaksas, jo 2024.gadā budžetā paredzētais finansējums to apmaksai indikatīvi ir nepietiekams.
A16: =A4+1 -> 32 | B16: 17 Satiksmes ministrija | E16: 17 Satiksmes ministrija | H16: Atbalstīt
B17: 4.pielikums | E17: 4.pielikums
B18: 2024. gads | E18: 2024. gads
B19: 23.06.00 Valsts autoceļu uzturēšana un atjaunošana | E19: 23.04.00 Mērķdotācijas pašvaldību autoceļiem (ielām)
B20: Resursi izdevumu segšanai | C20: =SUM(C21,C22) -> 210679185 | D20: =SUM(D21,D22) -> -194676 | E20: Resursi izdevumu segšanai | F20: =SUM(F22) -> 59930899 | G20: =SUM(G22) -> 194676
B21: Ieņēmumi no maksas pakalpojumiem un citi pašu ieņēmumi – kopā | C21: 142287 | E21: Dotācija no vispārējiem ieņēmumiem | F21: =SUM(F22) -> 59930899 | G21: =SUM(G22) -> 194676
B22: Dotācija no vispārējiem ieņēmumiem | C22: =SUM(C23) -> 210536898 | D22: =SUM(D23) -> -194676 | E22: Vispārējā kārtībā sadalāmā dotācija no vispārējiem ieņēmumiem | F22: 59930899 | G22: 194676
B23: Vispārējā kārtībā sadalāmā dotācija no vispārējiem ieņēmumiem | C23: 210536898 | D23: -194676 | E23: Izdevumi – kopā | F23: =SUM(F24,F28) -> 59930899 | G23: =SUM(G24,G28) -> 194676
B24: Izdevumi – kopā | C24: =SUM(C25,C28) -> 210679185 | D24: =SUM(D25,D28) -> -194676 | E24: Uzturēšanas izdevumi | F24: =SUM(F25) -> 43670738 | G24: =SUM(G25) -> 194676
B25: Uzturēšanas izdevumi | C25: =SUM(C26) -> 69362000 | D25: =SUM(D26) -> -194676 | E25: Transferti viena budžeta veida ietvaros un uzturēšanas izdevumu transferti starp budžeta veidiem | F25: =SUM(F26) -> 43670738 | G25: =SUM(G26) -> 194676
B26: Kārtējie izdevumi | C26: =SUM(C27) -> 69362000 | D26: =SUM(D27) -> -194676 | E26: Pārējie valsts budžeta uzturēšanas izdevumu transferti citiem budžetiem | F26: =SUM(F27) -> 43670738 | G26: =SUM(G27) -> 194676
B27: Preces un pakalpojumi | C27: 69362000 | D27: -194676 | E27: Pārējie valsts budžeta uzturēšanas izdevumu transferti pašvaldībām | F27: 43670738 | G27: 194676
B28: Kapitālie izdevumi | C28: =SUM(C29,C30) -> 141317185 | D28: =SUM(D29,D30) -> 0 | E28: Kapitālie izdevumi | F28: =SUM(F29) -> 16260161 | G28: =SUM(G29) -> 0
B29: Pamatkapitāla veidošana | C29: 138317185 | E29: Kapitālo izdevumu transferti | F29: =SUM(F30) -> 16260161 | G29: =SUM(G30) -> 0
B30: Kapitālo izdevumu transferti | C30: =SUM(C31) -> 3000000 | D30: =SUM(D31) -> 0 | E30: Pārējie valsts budžeta kapitālo izdevumu transferti citiem budžetiem | F30: =SUM(F31) -> 16260161 | G30: =SUM(G31) -> 0
B31: Pārējie valsts budžeta kapitālo izdevumu transferti citiem budžetiem | C31: =SUM(C32) -> 3000000 | D31: =SUM(D32) -> 0 | E31: Pārējie valsts budžeta kapitālo izdevumu transferti pašvaldībām | F31: 16260161
B32: Pārējie valsts budžeta kapitālo izdevumu transferti pašvaldībām | C32: 3000000
B33: 17 Satiksmes ministrija
B34: 3.pielikums
B35: I. Valsts pamatfunkciju īstenošana
B36: 2025. gads
B37: Resursi izdevumu segšanai | C37: =SUM(C38,C39,C44) -> 474720966
B38: Ieņēmumi no maksas pakalpojumiem un citi pašu ieņēmumi – kopā | C38: 1052287
B39: Transferti | C39: =SUM(C40) -> 464222
B40: Valsts budžeta transferti | C40: =SUM(C41) -> 464222
B41: Valsts pamatbudžeta savstarpējie transferti | C41: =SUM(C42) -> 464222
B42: Valsts pamatbudžeta iestāžu saņemtie transferti no valsts pamatbudžeta | C42: =SUM(C43) -> 464222
...

Sheet LM PB
C1: Pieņemts pirmajā lasījumā | D1: Priekšlikums par izmaiņām | F1: Pieņemts pirmajā lasījumā | G1: Priekšlikums par izmaiņām | H1: Priekšlikums MK atzinumam
B3: 18. Labklājības ministrija
A4: =SM!A16+1 -> 33 | B4: 74. Gadskārtējā valsts budžeta izpildes procesā pārdalāmais finansējums | E4: 18. Labklājības ministrija | H4: Atbalstīt
B5: 4.pielikums | E5: 4.pielikums
B6: 02.00.00 Līdzekļi neparedzētiem gadījumiem | E6: 05.01.00 Sociālās rehabilitācijas valsts programmas | F6: `
B7: Resursi izdevumu segšanai | C7: =C8 -> 127226869 | D7: =D8 -> -5542020 | E7: Resursi izdevumu segšanai | F7: =F8 -> 107586576 | G7: =G8 -> 5542020
B8: Dotācija no vispārējiem ieņēmumiem | C8: =C9 -> 127226869 | D8: =D9 -> -5542020 | E8: Dotācija no vispārējiem ieņēmumiem | F8: =F9 -> 107586576 | G8: =G9 -> 5542020
B9: Vispārējā kārtībā sadalāmā dotācija no vispārējiem ieņēmumiem | C9: =C10 -> 127226869 | D9: =D10 -> -5542020 | E9: Vispārējā kārtībā sadalāmā dotācija no vispārējiem ieņēmumiem | F9: =F10 -> 107586576 | G9: =G10 -> 5542020
B10: Izdevumi – kopā | C10: =C11 -> 127226869 | D10: =D11 -> -5542020 | E10: Izdevumi - kopā | F10: =F11 -> 107586576 | G10: =G11 -> 5542020
B11: Uzturēšanas izdevumi | C11: =C12 -> 127226869 | D11: =D12 -> -5542020 | E11: Uzturēšanas izdevumi | F11: =F12+F14+F16 -> 107586576 | G11: =G12+G14+G16 -> 5542020
B12: Subsīdijas, dotācijas, sociālie maksājumi un kompensācijas | C12: =C13 -> 127226869 | D12: =D13 -> -5542020 | E12: Kārtējie izdevumi | F12: =F13 -> 71603
B13: Subsīdijas un dotācijas | C13: 127226869 | D13: =-5542020 -> -5542020 | E13: Preces un pakalpojumi | F13: 71603
E14: Subsīdijas, dotācijas, sociālie maksājumi un kompensācijas | F14: =F15 -> 33720174
E15: Subsīdijas un dotācijas | F15: 33720174
E16: Transferti viena budžeta veida ietvaros un uzturēšanas izdevumu transferti starp budžeta veidiem | F16: =F17 -> 73794799 | G16: =G17 -> 5542020
E17: Pārējie valsts budžeta uzturēšanas izdevumu transferti citiem budžetiem | F17: =F18 -> 73794799 | G17: =G18 -> 5542020
E18: Pārējie valsts budžeta uzturēšanas izdevumu transferti pašvaldībām | F18: 73794799 | G18: 5542020
B19: 74. Gadskārtējā valsts budžeta izpildes procesā pārdalāmais finansējums | E19: 18. Labklājības ministrija
B20: 3.pielikums | E20: 3.pielikums
B21: I. Valsts pamatfunkciju īstenošana | E21: I. Valsts pamatfunkciju īstenošana
B22: 2025.gads | E22: 2025.gads
B23: Resursi izdevumu segšanai | C23: =C24 -> 920111247 | D23: =D24 -> -5542020 | E23: Resursi izdevumu segšanai | F23: =F24+F25+F31 -> 1096916548 | G23: =G31 -> 5542020
B24: Dotācija no vispārējiem ieņēmumiem | C24: =C25 -> 920111247 | D24: =D25 -> -5542020 | E24: Ieņēmumi no maksas pakalpojumiem un citi pašu ieņēmumi – kopā | F24: 10702110
B25: Vispārējā kārtībā sadalāmā dotācija no vispārējiem ieņēmumiem | C25: =C26 -> 920111247 | D25: =D26 -> -5542020 | E25: Transferti | F25: =F26 -> 122735
B26: Izdevumi – kopā | C26: =C27 -> 920111247 | D26: =D27 -> -5542020 | E26: Valsts budžeta transferti | F26: =F27+F30 -> 122735
B27: Uzturēšanas izdevumi | C27: =C28 -> 920111247 | D27: =D28 -> -5542020 | E27: Valsts pamatbudžeta savstarpējie transferti | F27: =F28 -> 107735
B28: Subsīdijas, dotācijas, sociālie maksājumi un kompensācijas | C28: =C29 -> 920111247 | D28: =D29 -> -5542020 | E28: Valsts pamatbudžeta iestāžu saņemtie transferti no valsts pamatbudžeta | F28: =F29 -> 107735
B29: Subsīdijas un dotācijas | C29: 920111247 | D29: -5542020 | E29: Valsts pamatbudžeta iestāžu saņemtie transferti no valsts pamatbudžeta dotācijas no vispārējiem ieņēmumiem | F29: 107735
E30: Valsts pamatbudžetā saņemtie transferti no valsts speciālā budžeta | F30: 15000
E31: Dotācija no vispārējiem ieņēmumiem | F31: =F32 -> 1086091703 | G31: =G32 -> 5542020
E32: Vispārējā kārtībā sadalāmā dotācija no vispārējiem ieņēmumiem | F32: 1086091703 | G32: =G33 -> 5542020
E33: Izdevumi - kopā | F33: =F34+F48 -> 1096916548 | G33: =G34+G48 -> 5542020
E34: Uzturēšanas izdevumi | F34: =F35+F38+F41+F43 -> 1095343690 | G34: =G35+G38+G41+G43 -> 5542020
E35: Kārtējie izdevumi | F35: =F36+F37 -> 101821129
E36: Atlīdzība | F36: 80655896
E37: Preces un pakalpojumi | F37: 21165233
E38: Subsīdijas, dotācijas, sociālie maksājumi un kompensācijas | F38: =F39+F40 -> 580168129
E39: Subsīdijas un dotācijas | F39: 38604790
E40: Sociāla rakstura maksājumi un kompensācijas | F40: 541563339
E41: Kārtējie maksājumi Eiropas Savienības budžetā un starptautiskā sadarbība | F41: =F42 -> 231992
...

Sheet VARAM
C1: Pieņemts pirmajā lasījumā | D1: Priekšlikums par izmaiņām | F1: Pieņemts pirmajā lasījumā | G1: Priekšlikums par izmaiņām | H1: Priekšlikums MK atzinumam
B3: 21. Vides aizsardzības un reģionālās attīstības ministrija
A4: ='LM PB'!A103+1 -> 36 | B4: 21. Vides aizsardzības un reģionālās attīstības ministrija | E4: 21. Vides aizsardzības un reģionālās attīstības ministrija | H4: Atbalstīt
B5: 4. pielikums | E5: 4. pielikums
B6: 21.02.00. Vides aizsardzības projekti | E6: 97.00.00. Nozaru vadība un politikas plānošana
B7: Resursi izdevumu segšanai | C7: 4152803 | D7: -12158 | E7: Resursi izdevumu segšanai | F7: 10646889 | G7: 90018
B8: Dotācija no vispārējiem ieņēmumiem | C8: 4152803 | D8: -12158 | E8: Dotācija no vispārējiem ieņēmumiem | F8: 10646889 | G8: 90018
B9: Vispārējā kārtībā sadalāmā dotācija no vispārējiem ieņēmumiem | C9: 4152803 | D9: -12158 | E9: Vispārējā kārtībā sadalāmā dotācija no vispārējiem ieņēmumiem | F9: 10646889 | G9: 90018
B10: Izdevumi – kopā | C10: 4152803 | D10: -12158 | E10: Izdevumi – kopā | F10: 10646889 | G10: 90018
B11: Uzturēšanas izdevumi | C11: 4152803 | D11: -12158 | E11: Uzturēšanas izdevumi | F11: 10450547 | G11: 90018
B12: Subsīdijas, dotācijas, sociālie maksājumi un kompensācijas | C12: 3400645 | E12: Kārtējie izdevumi | F12: 10445131 | G12: 90018
B13: Subsīdijas un dotācijas | C13: 3400645 | E13: Atlīdzība | F13: 8883355 | G13: 71058
B14: Transferti viena budžeta veida ietvaros un uzturēšanas izdevumu transferti starp budžeta veidiem | C14: 752158 | D14: -12158 | E14: Preces un pakalpojumi | F14: 1561776 | G14: 18960
B15: Pārējie valsts budžeta uzturēšanas izdevumu transferti citiem budžetiem | C15: 752158 | D15: -12158 | E15: Transferti viena budžeta veida ietvaros un uzturēšanas izdevumu transferti starp budžeta veidiem | F15: 5416
B16: Pārējie valsts budžeta uzturēšanas izdevumu transferti pašvaldībām | C16: 402158 | D16: -12158 | E16: Valsts budžeta transferi un uzturēšanas izdevumu transferti | F16: 5416
B17: Pārējie valsts budžeta uzturēšanas izdevumu transferti valsts budžeta daļēji finansētām atvasinātām publiskām personām un budžeta nefinansētām iestādēm | C17: 350000 | E17: Valsts budžeta uzturēšanas izdevumu transferti no valsts pamatbudžeta uz valsts speciālo budžetu | F17: 5416
B18: 24.08.00. Nacionālo parku darbības nodrošināšana | E18: Kapitālie izdevumi | F18: 196342
B19: Resursi izdevumu segšanai | C19: 7273383 | D19: -77860 | E19: Pamatkapitāla veidošana | F19: 196342
B20: Ieņēmumi no maksas pakalpojumiem un citi pašu ieņēmumi – kopā | C20: 365476
B21: Dotācija no vispārējiem ieņēmumiem | C21: 6907907 | D21: -77860
B22: Vispārējā kārtībā sadalāmā dotācija no vispārējiem ieņēmumiem | C22: 6907907 | D22: -77860
B23: Izdevumi – kopā | C23: 7273383 | D23: -77860
B24: Uzturēšanas izdevumi | C24: 6928001 | D24: -77860
B25: Kārtējie izdevumi | C25: 6030537
B26: Atlīdzība | C26: 3303929
B27: Preces un pakalpojumi | C27: 2726608
B28: Subsīdijas, dotācijas, sociālie maksājumi un kompensācijas | C28: 897464 | D28: -77860
B29: Sociāla rakstura maksājumi un kompensācijas | C29: 897464 | D29: -77860
B30: Kapitālie izdevumi | C30: 345382
B31: Pamatkapitāla veidošana | C31: 345382
B32: 21. Vides aizsardzības un reģionālās attīstības ministrija
B33: 3. pielikums
B34: I. Valsts pamatfunkciju īstenošana
B35: 2025. gads
B36: Resursi izdevumu segšanai | C36: 61344694 | D36: 0
B37: Ieņēmumi no maksas pakalpojumiem un citi pašu ieņēmumi | C37: 614735
B38: Transferti | C38: 465401
B39: Valsts budžeta transferti | C39: 465401
B40: Valsts pamatbudžeta savstarpējie transferti | C40: 465401
B41: Valsts pamatbudžeta iestāžu saņemtie transferti no valsts pamatbudžeta | C41: 465401
...

Sheet KM
C1: Pieņemts pirmajā lasījumā | D1: Priekšlikums par izmaiņām | F1: Pieņemts pirmajā lasījumā | G1: Priekšlikums par izmaiņām | H1: Priekšlikums MK atzinumam
B3: 22. Kultūras ministrija
A4: =VARAM!A103+1 -> 38 | B4: 22. Kultūras ministrija | E4: 22. Kultūras ministrija | H4: Atbalstīt
B5: 4.pielikums | E5: 4.pielikums
B6: 25.02.00 Valsts kultūrkapitāla fonda programmu un projektu konkursi | E6: 25.01.00 Valsts kultūrkapitāla fonda darbības nodrošināšana
B7: Resursi izdevumu segšanai | C7: 15387281 | D7: -7524 | E7: Resursi izdevumu segšanai | F7: 807049 | G7: 7524
B8: Dotācija no vispārējiem ieņēmumiem | C8: 15387281 | D8: -7524 | E8: Dotācija no vispārējiem ieņēmumiem | F8: 807049 | G8: 7524
B9: Vispārējā kārtībā sadalāmā dotācija no vispārējiem ieņēmumiem | C9: 15387281 | D9: -7524 | E9: Vispārējā kārtībā sadalāmā dotācija no vispārējiem ieņēmumiem | F9: 807049 | G9: 7524
B10: Izdevumi – kopā | C10: 15387281 | D10: -7524 | E10: Izdevumi – kopā | F10: 807049 | G10: 7524
B11: Uzturēšanas izdevumi | C11: 15387281 | D11: -7524 | E11: Uzturēšanas izdevumi | F11: 802780 | G11: 7524
B12: Subsīdijas, dotācijas, sociālie maksājumi un kompensācijas | C12: 13937281 | D12: -7524 | E12: Kārtējie izdevumi | F12: 802780 | G12: 7524
B13: Subsīdijas un dotācijas | C13: 13937281 | D13: -7524 | E13: Atlīdzība | F13: 660323 | G13: 7524
B14: 22. Kultūras ministrija
B15: 3.pielikums
B16: I. Valsts pamatfunkciju īstenošana
B17: 2025.gads
B18: Resursi izdevumu segšanai | C18: 235173150
B19: Izdevumi – kopā | C19: 235173150
B20: Kārtējie izdevumi | C20: 99474635 | D20: 13824
B21: Atlīdzība | C21: 72334194 | D21: 13824
B22: Subsīdijas, dotācijas, sociālie maksājumi un kompensācijas | C22: 77813725 | D22: -13824
B23: Subsīdijas un dotācijas | C23: 76713040 | D23: -13824
B24: 2026.gads
B25: Resursi izdevumu segšanai | C25: 236020838
B26: Izdevumi – kopā | C26: 236020838
B27: Kārtējie izdevumi | C27: 100039773 | D27: 19848
B28: Atlīdzība | C28: 73215282 | D28: 19848
B29: Subsīdijas, dotācijas, sociālie maksājumi un kompensācijas | C29: 78194725 | D29: -19848
B30: Subsīdijas un dotācijas | C30: 77097040 | D30: -19848
B31: Pārdalīt izdevumus starp Kultūras ministrijas apakšprogrammu 25.02.00 “Valsts kultūrkapitāla fonda programmu un projektu konkursi” un apakšprogrammu 25.01.00 “Valsts kultūrkapitāla fonda darbības nodrošināšana”, lai 2024., 2025. un 2026.gadā nodrošinātu 2023.gada 26.septembra Ministru kabineta sēdes protokollēmuma Nr.47 43. § “Informatīvais ziņojums "Par priekšlikumiem valsts budžeta prioritārajiem pasākumiem 2024. gadam un budžeta ietvaram 2024.–2026. gadam" 15.punktā noteikto.
A33: =A4+1 -> 39 | B33: 32. Prokuratūra | E33: 22. Kultūras ministrija | H33: Atbalstīt
B34: 3.pielikums | E34: 3.pielikums
B35: I. Valsts pamatfunkciju īstenošana | E35: I. Valsts pamatfunkciju īstenošana
B36: 2025.gads | E36: 2025.gads
B37: Resursi izdevumu segšanai | C37: 52673058 | D37: -485615 | E37: Resursi izdevumu segšanai | F37: 235173150 | G37: 485615
B38: Dotācija no vispārējiem ieņēmumiem | C38: 52673058 | D38: -485615 | E38: Dotācija no vispārējiem ieņēmumiem | F38: 226824405 | G38: 485615
B39: Vispārējā kārtībā sadalāmā dotācija no vispārējiem ieņēmumiem | C39: 52673058 | D39: -485615 | E39: Vispārējā kārtībā sadalāmā dotācija no vispārējiem ieņēmumiem | F39: 226824405 | G39: 485615
B40: Izdevumi – kopā | C40: 52673058 | D40: -485615 | E40: Izdevumi – kopā | F40: 235173150 | G40: 485615
B41: Kapitālie izdevumi | C41: 1902541 | D41: -485615 | E41: Uzturēšanas izdevumi | F41: 231148206 | G41: 485615
B42: Pamatkapitāla veidošana | C42: 1902541 | D42: -485615 | E42: Kārtējie izdevumi | F42: 99474635 | G42: 485615
...

Sheet SEPL
C1: Pieņemts pirmajā lasījumā | D1: Priekšlikums par izmaiņām | F1: Pieņemts pirmajā lasījumā | G1: Priekšlikums par izmaiņām | H1: Priekšlikums MK atzinumam
B3: 46. Sabiedriskie elektroniskie plašsaziņas līdzekļi
A4: =KM!A151+1 -> 45 | B4: 74. Gadskārtējā valsts budžeta izpildes procesā pārdalāmais finansējums | H4: Atbalstīt
B5: 4. pielikums
B6: 18.00.00 Finansējums valsts drošības stiprināšanas pasākumiem
B7: Resursi izdevumu segšanai | C7: 376115734 | D7: -7260000
B8: Dotācija no vispārējiem ieņēmumiem | C8: 376115734 | D8: -7260000
B9: Vispārējā kārtībā sadalāmā dotācija no vispārējiem ieņēmumiem | C9: 376115734 | D9: -7260000
B10: Izdevumi – kopā | C10: 376115734 | D10: -7260000
B11: Uzturēšanas izdevumi | C11: 376115734 | D11: -7260000
B12: Subsīdijas, dotācijas, sociālie maksājumi un kompensācijas | C12: 376115734 | D12: -7260000
B13: Subsīdijas un dotācijas | C13: 376115734 | D13: -7260000
B14: 74. Gadskārtējā valsts budžeta izpildes procesā pārdalāmais finansējums
B15: 3. pielikums
B16: I. Valsts pamatfunkciju īstenošana
B17: 2025.gadā
B18: Resursi izdevumu segšanai | C18: 920111247 | D18: 11979000
B19: Dotācija no vispārējiem ieņēmumiem | C19: 920111247 | D19: 11979000
B20: Vispārējā kārtībā sadalāmā dotācija no vispārējiem ieņēmumiem | C20: 920111247 | D20: 11979000
B21: Izdevumi – kopā | C21: 920111247 | D21: 11979000
B22: Uzturēšanas izdevumi | C22: 920111247 | D22: 11979000
B23: Subsīdijas, dotācijas, sociālie maksājumi un kompensācijas | C23: 920111247 | D23: 11979000
B24: Subsīdijas un dotācijas | C24: 920111247 | D24: 11979000
B26: Veikta finansējuma pārdale resora “74. Gadskārtējā valsts budžeta izpildes procesā pārdalāmais finansējums” programmā 18.00.00 “Finansējums valsts drošības stiprināšanas pasākumiem” starp gadiem, lai nodrošinātu iesākto drošības pasākumu “VSIA “Latvijas Televīzija” pārvietojamās televīzijas stacijas (PTS) 8 kameru iegāde” un “VSIA “Latvijas Televīzija” pārvietojamās televīzijas stacijas (PTS) 14 kameru iegāde” sekmīgu realizāciju, jo līdzekļu apguve aizkavējusies sakarā ar laikietilpīgo un sarežģīto iepirkumu procesu un salīdzinoši garu nepieciešamo automašīnu un to pārbūves laika patēriņu. Pilnīga pasākumu realizācija un līdzekļu apguve ir iespējama tikai 2025. gadā.

Sheet Prokuratūra
C1: Pieņemts pirmajā lasījumā | D1: Priekšlikums par izmaiņām | F1: Pieņemts pirmajā lasījumā | G1: Priekšlikums par izmaiņām | H1: Priekšlikums MK atzinumam
B3: 32. Prokuratūra
A4: =SEPL!A4+1 -> 46 | B4: 32. Prokuratūra | H4: Atbalstīt
B5: 4. pielikums
B6: 01.00.00 Prokuratūras iestāžu uzturēšana
B7: 2024.gadā
B8: Resursi izdevumu segšanai | C8: 50278616 | D8: 0
B9: Dotācija no vispārējiem ieņēmumiem | C9: 50278616 | D9: 0
B10: Vispārējā kārtībā sadalāmā dotācija no vispārējiem ieņēmumiem | C10: 50278616 | D10: 0
B11: Izdevumi – kopā | C11: 50278616 | D11: 0
B12: Uzturēšanas izdevumi | C12: 49630674 | D12: -42990
B13: Kārtējie izdevumi | C13: 49628082 | D13: -42990
B14: Preces un pakalpojumi | C14: 7850242 | D14: -42990
B15: Kapitālie izdevumi | C15: 647942 | D15: 42990
B16: Pamatkapitāla veidošana | C16: 647942 | D16: 42990
E17: 32.Prokuratūra
E18: 11. pielikums
E19: 01.00.00 "Prokuratūras iestāžu uzturēšana"
E20: 0600000000 Citas ilgtermiņa saistības
E21: Ēkas Krišjāņa Valdemāra ielā 2, Cēsīs, Cēsu novadā, telpu nomas maksa | F21: CIS/PROK/006
E22: 2024.gadā
E23: Resursi izdevumu segšanai | F23: 0 | G23: 3630
E24: Dotācija no vispārējiem ieņēmumiem | F24: 0 | G24: 3630
E25: Vispārējā kārtībā sadalāmā dotācija no vispārējiem ieņēmumiem | F25: 0 | G25: 3630
E26: Izdevumi – kopā | F26: 0 | G26: 3630
E27: Uzturēšanas izdevumi | F27: 0 | G27: 3630
E28: Kārtējie izdevumi | F28: 0 | G28: 3630
E29: Preces un pakalpojumi | F29: 0 | G29: 3630
E30: 2025.gadā
E31: Resursi izdevumu segšanai | F31: 0 | G31: 5446
E32: Dotācija no vispārējiem ieņēmumiem | F32: 0 | G32: 5446
E33: Vispārējā kārtībā sadalāmā dotācija no vispārējiem ieņēmumiem | F33: 0 | G33: 5446
E34: Izdevumi – kopā | F34: 0 | G34: 5446
E35: Uzturēšanas izdevumi | F35: 0 | G35: 5446
E36: Kārtējie izdevumi | F36: 0 | G36: 5446
E37: Preces un pakalpojumi | F37: 0 | G37: 5446
E38: 2026.gadā
E39: Resursi izdevumu segšanai | F39: 0 | G39: 5446
E40: Dotācija no vispārējiem ieņēmumiem | F40: 0 | G40: 5446
E41: Vispārējā kārtībā sadalāmā dotācija no vispārējiem ieņēmumiem | F41: 0 | G41: 5446
...

Sheet 62res
C1: Pieņemts pirmajā lasījumā | D1: Priekšlikums par izmaiņām | F1: Pieņemts pirmajā lasījumā | G1: Priekšlikums par izmaiņām | H1: Priekšlikums MK atzinumam
B3: 62. Mērķdotācijas pašvaldībām (iesniedz 15. Izglītības un zinātnes ministrija)
A4: =Prokuratūra!A4+1 -> 47 | B4: 62. Mērķdotācijas pašvaldībām | E4: 62. Mērķdotācijas pašvaldībām | H4: Atbalstīt
B5: 4.pielikums | E5: 4.pielikums
B6: 10.00.00. "Mērķdotācijas pašvaldībām – pašvaldību izglītības iestādēs bērnu no piecu gadu vecuma izglītošanā nodarbināto pedagogu darba samaksai un valsts sociālās apdrošināšanas obligātajām iemaksām" | E6: 01.00.00. "Mērķdotācijas izglītības pasākumiem"
B7: Resursi izdevumu segšanai | C7: =+C8 -> 80962209 | D7: =+D8 -> -1857620 | E7: Resursi izdevumu segšanai | F7: =+F8 -> 69318243 | G7: =+G8 -> 1857620
B8: Dotācija no vispārējiem ieņēmumiem | C8: =+C9 -> 80962209 | D8: =+D9 -> -1857620 | E8: Dotācija no vispārējiem ieņēmumiem | F8: =+F9 -> 69318243 | G8: =+G9 -> 1857620
B9: Vispārējā kārtībā sadalāmā dotācija no vispārējiem ieņēmumiem | C9: =+C10 -> 80962209 | D9: =+D10 -> -1857620 | E9: Vispārējā kārtībā sadalāmā dotācija no vispārējiem ieņēmumiem | F9: =+F10 -> 69318243 | G9: =+G10 -> 1857620
B10: Izdevumi – kopā | C10: =+C11 -> 80962209 | D10: =+D11 -> -1857620 | E10: Izdevumi – kopā | F10: =+F11 -> 69318243 | G10: =+G11 -> 1857620
B11: Uzturēšanas izdevumi | C11: =+C12 -> 80962209 | D11: =+D12 -> -1857620 | E11: Uzturēšanas izdevumi | F11: =+F12 -> 69318243 | G11: =+G12 -> 1857620
B12: Transferti viena budžeta veida ietvaros un uzturēšanas izdevumu transferti starp budžeta veidiem | C12: =+C13 -> 80962209 | D12: =+D13 -> -1857620 | E12: Transferti viena budžeta veida ietvaros un uzturēšanas izdevumu transferti starp budžeta veidiem | F12: =+F13 -> 69318243 | G12: =+G13 -> 1857620
B13: Pārējie valsts budžeta uzturēšanas izdevumu transferti citiem budžetiem | C13: =+C14 -> 80962209 | D13: =+D14 -> -1857620 | E13: Pārējie valsts budžeta uzturēšanas izdevumu transferti citiem budžetiem | F13: =+F14 -> 69318243 | G13: =+G14 -> 1857620
B14: Pārējie valsts budžeta uzturēšanas izdevumu transferti pašvaldībām | C14: 80962209 | D14: -1857620 | E14: Pārējie valsts budžeta uzturēšanas izdevumu transferti pašvaldībām | F14: 69318243 | G14: 1857620
B15: Lai nodrošinātu pedagogu darba samaksu 2024.gadā un turpmāk, ņemot vērā pedagogu minimālās algas likmes palielināšanu ar 2023.gada 1.septembri un 2024.gada 1.janvāri (Satversmes tiesas spriedums par pirmsskolu un pedagogu darba samaksas paaugstināšanas grafiks) un izglītojamo skaita (neieskaitot Ukrainas civiliedzīvotājus) un struktūras uz 2023.gada 1.septembri izmaiņu ietekmi (MK 03.10.2023. prot. Nr. 48 23. §, 3.punkts), veikta finansējuma pārdale: 2024. gadā 1 857 620 euro apmērā no 62. resora programmas 10.00.00. "Mērķdotācijas pašvaldībām – pašvaldību izglītības iestādēs bērnu no piecu gadu vecuma izglītošanā nodarbināto pedagogu darba samaksai un valsts sociālās apdrošināšanas obligātajām iemaksām" (tai skaitā 54 794 euro no prioritārā pasākuma 15_01_P "Lai īstenotu secīgu pāreju uz mācībām valsts valodā") uz 62. resora programmu 01.00.00. "Mērķdotācijas izglītības pasākumiem" (tai skaitā 70 383 euro apmērā uz prioritāro pasākumu 15_01_P "Lai īstenotu secīgu pāreju uz mācībām valsts valodā"). 2025. gadā 2 321 872 euro apmērā no 62. resora programmas 10.00.00. "Mērķdotācijas pašvaldībām – pašvaldību izglītības iestādēs bērnu no piecu gadu vecuma izglītošanā nodarbināto pedagogu darba samaksai un valsts sociālās apdrošināšanas obligātajām iemaksām" uz 62. resora programmu 01.00.00. "Mērķdotācijas izglītības pasākumiem" (tai skaitā 41 853 euro uz prioritāro pasākumu 15_01_P "Lai īstenotu secīgu pāreju uz mācībām valsts valodā"). 2026. gadā 2 552 269 euro apmērā no 62. resora programmas 10.00.00. "Mērķdotācijas pašvaldībām – pašvaldību izglītības iestādēs bērnu no piecu gadu vecuma izglītošanā nodarbināto pedagogu darba samaksai un valsts sociālās apdrošināšanas obligātajām iemaksām" uz 62. resora programmu 01.00.00. "Mērķdotācijas izglītības pasākumiem" (tai skaitā 24 415 euro uz prioritāro pasākumu 15_01_P "Lai īstenotu secīgu pāreju uz mācībām valsts valodā").
A17: =A4+1 -> 48 | B17: 62. Mērķdotācijas pašvaldībām | E17: 62. Mērķdotācijas pašvaldībām | H17: Atbalstīt
B18: 4.pielikums | E18: 4.pielikums
B19: 10.00.00. "Mērķdotācijas pašvaldībām – pašvaldību izglītības iestādēs bērnu no piecu gadu vecuma izglītošanā nodarbināto pedagogu darba samaksai un valsts sociālās apdrošināšanas obligātajām iemaksām" | E19: 05.00.00. "Mērķdotācijas pašvaldībām – pašvaldību izglītības iestāžu pedagogu darba samaksai un valsts sociālās apdrošināšanas obligātajām iemaksām"
B20: Resursi izdevumu segšanai | C20: =+C21 -> 80962209 | D20: =+D21 -> -3314449 | E20: Resursi izdevumu segšanai | F20: =+F21 -> 465825869 | G20: =+G21 -> 3314449
B21: Dotācija no vispārējiem ieņēmumiem | C21: =+C22 -> 80962209 | D21: =+D22 -> -3314449 | E21: Dotācija no vispārējiem ieņēmumiem | F21: =+F22 -> 465825869 | G21: =+G22 -> 3314449
B22: Vispārējā kārtībā sadalāmā dotācija no vispārējiem ieņēmumiem | C22: =+C23 -> 80962209 | D22: =+D23 -> -3314449 | E22: Vispārējā kārtībā sadalāmā dotācija no vispārējiem ieņēmumiem | F22: =+F23 -> 465825869 | G22: =+G23 -> 3314449
B23: Izdevumi – kopā | C23: =+C24 -> 80962209 | D23: =+D24 -> -3314449 | E23: Izdevumi – kopā | F23: =+F24 -> 465825869 | G23: =+G24 -> 3314449
B24: Uzturēšanas izdevumi | C24: =+C25 -> 80962209 | D24: =+D25 -> -3314449 | E24: Uzturēšanas izdevumi | F24: =+F25 -> 465825869 | G24: =+G25 -> 3314449
B25: Transferti viena budžeta veida ietvaros un uzturēšanas izdevumu transferti starp budžeta veidiem | C25: =+C26 -> 80962209 | D25: =+D26 -> -3314449 | E25: Transferti viena budžeta veida ietvaros un uzturēšanas izdevumu transferti starp budžeta veidiem | F25: =+F26 -> 465825869 | G25: =+G26 -> 3314449
B26: Pārējie valsts budžeta uzturēšanas izdevumu transferti citiem budžetiem | C26: =+C27 -> 80962209 | D26: =+D27 -> -3314449 | E26: Pārējie valsts budžeta uzturēšanas izdevumu transferti citiem budžetiem | F26: =+F27 -> 465825869 | G26: =+G27 -> 3314449
B27: Pārējie valsts budžeta uzturēšanas izdevumu transferti pašvaldībām | C27: 80962209 | D27: -3314449 | E27: Pārējie valsts budžeta uzturēšanas izdevumu transferti pašvaldībām | F27: 465825869 | G27: 3314449
B28: Lai nodrošinātu pedagogu darba samaksu 2024.gadā un turpmāk, ņemot vērā pedagogu minimālās algas likmes palielināšanu ar 2023.gada 1.septembri un 2024.gada 1.janvāri (Satversmes tiesas spriedums par pirmsskolu un pedagogu darba samaksas paaugstināšanas grafiks) un izglītojamo skaita (neieskaitot Ukrainas civiliedzīvotājus) un struktūras uz 2023.gada 1.septembri izmaiņu ietekmi (MK 03.10.2023. prot. Nr. 48 23. §, 3.punkts), veikta finansējuma pārdale: 2024. gadā 3 314 449 euro apmērā no 62. resora programmas 10.00.00. "Mērķdotācijas pašvaldībām – pašvaldību izglītības iestādēs bērnu no piecu gadu vecuma izglītošanā nodarbināto pedagogu darba samaksai un valsts sociālās apdrošināšanas obligātajām iemaksām" uz 62. resora programmu 05.00.00. "Mērķdotācijas pašvaldībām – pašvaldību izglītības iestāžu pedagogu darba samaksai un valsts sociālās apdrošināšanas obligātajām iemaksām" (tai skaitā samazinot finansējumu prioritārajam pasākumam 15_01_P "Lai īstenotu secīgu pāreju uz mācībām valsts valodā" par 866 484 euro un palielinot finansējumu pārējiem izdevumiem pedagogu darba samaksai par 4 180 933 euro). 2025. gadā 2 795 403 euro apmērā no 62. resora programmas 10.00.00. "Mērķdotācijas pašvaldībām – pašvaldību izglītības iestādēs bērnu no piecu gadu vecuma izglītošanā nodarbināto pedagogu darba samaksai un valsts sociālās apdrošināšanas obligātajām iemaksām" uz 62. resora programmu 05.00.00. "Mērķdotācijas pašvaldībām – pašvaldību izglītības iestāžu pedagogu darba samaksai un valsts sociālās apdrošināšanas obligātajām iemaksām" (tai skaitā samazinot finansējumu prioritārajam pasākumam 15_01_P "Lai īstenotu secīgu pāreju uz mācībām valsts valodā" par 1 142 876 euro un palielinot finansējumu pārējiem izdevumiem pedagogu darba samaksai par 3 938 279 euro). 2026. gadā 2 565 006 euro apmērā no 62. resora programmas 10.00.00. "Mērķdotācijas pašvaldībām – pašvaldību izglītības iestādēs bērnu no piecu gadu vecuma izglītošanā nodarbināto pedagogu darba samaksai un valsts sociālās apdrošināšanas obligātajām iemaksām" uz 62. resora programmu 05.00.00. "Mērķdotācijas pašvaldībām – pašvaldību izglītības iestāžu pedagogu darba samaksai un valsts sociālās apdrošināšanas obligātajām iemaksām" (tai skaitā samazinot finansējumu prioritārajam pasākumam 15_01_P "Lai īstenotu secīgu pāreju uz mācībām valsts valodā" par 415 417 euro un palielinot finansējumu pārējiem izdevumiem pedagogu darba samaksai par 2 980 423 euro).

Sheet 64res
C1: Pieņemts pirmajā lasījumā | D1: Priekšlikums par izmaiņām | F1: Pieņemts pirmajā lasījumā | G1: Priekšlikums par izmaiņām | H1: Priekšlikums MK atzinumam
B3: 64. Dotācija pašvaldībām (iesniedz 13. Finanšu ministrija)
A4: ='62res'!A17+1 -> 49 | B4: 74. Gadskārtējā valsts budžeta izpildes procesā pārdalāmais finansējums | E4: 64.resors "Dotācija pašvaldībām" | H4: Atbalstīt
B5: 4.pielikums | E5: 4.pielikums
B6: 02.00.00 "Līdzekļi neparedzētiem gadījumiem" | E6: 01.00.00. "Dotācija pašvaldību finanšu izlīdzināšanas fondam"
B7: Resursi izdevumu segšanai | C7: 127226869 | D7: -7026996 | E7: Resursi izdevumu segšanai | F7: 36525543 | G7: 7026996
B8: Dotācija no vispārējiem ieņēmumiem | C8: 127226869 | D8: -7026996 | E8: Dotācija no vispārējiem ieņēmumiem | F8: 36525543 | G8: 7026996
B9: Vispārējā kārtībā sadalāmā dotācija no vispārējiem ieņēmumiem | C9: 127226869 | D9: -7026996 | E9: Vispārējā kārtībā sadalāmā dotācija no vispārējiem ieņēmumiem | F9: 36525543 | G9: 7026996
B10: Izdevumi – kopā | C10: 127226869 | D10: -7026996 | E10: Izdevumi – kopā | F10: 36525543 | G10: 7026996
B11: Uzturēšanas izdevumi | C11: 127226869 | D11: -7026996 | E11: Uzturēšanas izdevumi | F11: 36525543 | G11: 7026996
B12: Subsīdijas, dotācijas, sociālie maksājumi un kompensācijas | C12: 127226869 | D12: -7026996 | E12: Transferti viena budžeta veida ietvaros un uzturēšanas izdevumu transferti starp budžeta veidiem | F12: 36525543 | G12: 7026996
B13: Subsīdijas un dotācijas | C13: 127226869 | D13: -7026996 | E13: Pārējie valsts budžeta uzturēšanas izdevumu transferti citiem budžetiem | F13: 36525543 | G13: 7026996
E14: Pārējie valsts budžeta uzturēšanas izdevumu transferti pašvaldībām | F14: 36525543 | G14: 7026996
B15: Pamatojoties uz Ministru kabineta 2023. gada 24. oktobra sēdes protokolu Nr.53, 52.§. 3. punktu veikta pārdale 7 026 996 euro apmērā no budžeta resora "74. Gadskārtējā valsts budžeta izpildes procesā pārdalāmais finansējums" programmas 02.00.00 "Līdzekļi neparedzētiem gadījumiem" uz 64.resora programmu 01.01.00 "Dotācija pašvaldību finanšu izlīdzināšanas fondam", lai piešķirtu valsts budžeta dotāciju pašvaldībām, kurām izlīdzinātie ieņēmumi uz vienu izlīdzināmo vienību ir zemāki par 90% no vidējiem izlīdzinātiem ieņēmumiem, nodrošinot šīs starpības samazināšanu par 30%.

Sheet 6_piel
B3: Nobalsots 1.lasījumā | D3: Priekšlikumi 2.lasījumam | G3: Priekšlikums MK atzinumam
