Workbook
Name _bkm78: [1]Pielikums39!#REF!

Sheet priekšlikumi_teksta_daļai
B1: Ministriju un citu centrālo valsts iestāžu priekšlikumi
B2: likumprojekta „Par valsts budžetu 2024. gadam un budžeta ietvaru 2024., 2025. un 2026. gadam” izskatīšanai Saeimā otrajā lasījumā
D4: Priekšlikums MK atzinumam
B5: Pieņemts pirmajā lasījumā | C5: Priekšlikumi 2.lasījumam
B7: Par likumprojekta "Par valsts budžetu 2024. gadam un budžeta ietvaru 2024., 2025. un 2026. gadam" teksta daļu:
B9: 15. Izglītības un zinātnes ministrija
A10: =1 -> 1 | B10: 30. pants. Apstiprināt mērķdotāciju apjomu pašvaldībām 617 072 715 euro apmērā, tai skaitā: | C10: Izteikt likumprojekta 30.panta pirmo daļu šādā redakcijā: "30. pants. Apstiprināt mērķdotāciju apjomu pašvaldībām 617 052 664 euro apmērā, tai skaitā: | D10: Atbalstīt
B11: 1) pašvaldību pamata un vispārējās vidējās izglītības iestāžu, pašvaldību speciālās izglītības iestāžu, pašvaldību profesionālās izglītības iestāžu un daļējai interešu izglītības programmu pedagogu darba samaksai un valsts sociālās apdrošināšanas obligātajām iemaksām 465 825 869 euro apmērā saskaņā ar 6. un 7. pielikumu; | C11: 1) pašvaldību pamata un vispārējās vidējās izglītības iestāžu, pašvaldību speciālās izglītības iestāžu, pašvaldību profesionālās izglītības iestāžu un daļējai interešu izglītības programmu pedagogu darba samaksai un valsts sociālās apdrošināšanas obligātajām iemaksām 469 140 318 euro apmērā saskaņā ar 6. un 7. pielikumu;
B12: 2) pašvaldību speciālo pirmsskolas izglītības grupu pedagogu darba samaksai un valsts sociālās apdrošināšanas obligātajām iemaksām, speciālajām izglītības iestādēm, kas nodrošina internāta pakalpojumus, 69 318 243 euro apmērā saskaņā ar 8. pielikumu; | C12: 2) pašvaldību speciālo pirmsskolas izglītības grupu pedagogu darba samaksai un valsts sociālās apdrošināšanas obligātajām iemaksām, speciālajām izglītības iestādēm, kas nodrošina internāta pakalpojumus,71 175 863 euro apmērā saskaņā ar 8. pielikumu;
B13: 3) pašvaldību izglītības iestādēs bērnu no piecu gadu vecuma izglītošanā nodarbināto pedagogu darba samaksai un valsts sociālās apdrošināšanas obligātajām iemaksām 80 962 209 euro apmērā saskaņā ar 9. pielikumu; | C13: 3) pašvaldību izglītības iestādēs bērnu no piecu gadu vecuma izglītošanā nodarbināto pedagogu darba samaksai un valsts sociālās apdrošināšanas obligātajām iemaksām 75 770 089 euro apmērā saskaņā ar 9. pielikumu;
B14: 4) māksliniecisko kolektīvu vadītāju darba samaksai un valsts sociālās apdrošināšanas obligātajām iemaksām 966 394 euro apmērā saskaņā ar 10. pielikumu. | C14: 4) māksliniecisko kolektīvu vadītāju darba samaksai un valsts sociālās apdrošināšanas obligātajām iemaksām 966 394 euro apmērā saskaņā ar 10. pielikumu."
B15: Lai nodrošinātu pedagogu darba samaksu 2024.gadā un turpmāk, ņemot vērā pedagogu minimālās algas likmes palielināšanu ar 2023.gada 1.septembri un 2024.gada 1.janvāri (Satversmes tiesas spriedums par pirmsskolu un pedagogu darba samaksas paaugstināšanas grafiks) un izglītojamo skaita (neieskaitot Ukrainas civiliedzīvotājus) un struktūras uz 2023.gada 1.septembri izmaiņu ietekmi (MK 03.10.2023. prot. Nr. 48 23. §, 3.punkts), veikta finansējuma pārdale starp 62.resora programmām un 20 051 euro apmērā no programmas 10 .00. "Mērķdotācijas pašvaldībām – pašvaldību izglītības iestādēs bērnu no piecu gadu vecuma izglītošanā nodarbināto pedagogu darba samaksai un valsts sociālās apdrošināšanas obligātajām iemaksām" uz 15. resora programmu 01.05.00. "Dotācija privātajām mācību iestādēm" .
B17: 13. Finanšu ministrija
A18: =A10+1 -> 2 | B18: 31. pants. Apstiprināt valsts budžeta dotāciju pašvaldībām 36 525 543 euro apmērā, tai skaitā: | C18: Izteikt likumprojekta 31.pantu šādā redakcijā: "31. pants. Apstiprināt valsts budžeta dotāciju pašvaldībām 43 552 539 euro apmērā, tai skaitā: | D18: Atbalstīt
B19: 1) pašvaldību finanšu izlīdzināšanas fondam 35 921 931 euro apmērā; | C19: 1) pašvaldību finanšu izlīdzināšanas fondam 35 921 931 euro apmērā;
B20: 2) pašvaldībām par iemītniekiem veco ļaužu pansionātos un centros (par vienu iemītnieku 8748 euro), kuri tajos ievietoti līdz 1998. gada 1. janvārim, 603 612 euro apmērā. Ministru kabinets nosaka kārtību, kādā pašvaldībām piešķir valsts budžeta dotāciju. | C20: 2) pašvaldībām par iemītniekiem veco ļaužu pansionātos un centros (par vienu iemītnieku 8748 euro), kuri tajos ievietoti līdz 1998. gada 1. janvārim, 603 612 euro apmērā. Ministru kabinets nosaka kārtību, kādā pašvaldībām piešķir valsts budžeta dotāciju;
C21: 3) budžeta dotāciju 7 026 996 euro apmērā pamatojoties uz Ministru kabineta rīkojumu piešķiršanai pašvaldībām, kurām zlīdzinātie ieņēmumi uz vienu izlīdzināmo vienību ir zemāki par 90 procentiem no vidējiem izlīdzinātiem ieņēmumiem, nodrošinot šīs starpības samazināšanu par 30 procentiem."
B22: Pamatojoties uz Ministru kabineta 2023. gada 24. oktobra sēdes protokolu Nr.53, 52.§. 3. punktu veikta pārdale 7 026 996 euro apmērā no budžeta resora "74. Gadskārtējā valsts budžeta izpildes procesā pārdalāmais finansējums" programmas 02.00.00 "Līdzekļi neparedzētiem gadījumiem" uz 64.resora programmu 01.01.00 "Dotācija pašvaldību finanšu izlīdzināšanas fondam", lai piešķirtu valsts budžeta dotāciju pašvaldībām, kurām izlīdzinātie ieņēmumi uz vienu izlīdzināmo vienību ir zemāki par 90% no vidējiem izlīdzinātiem ieņēmumiem, nodrošinot šīs starpības samazināšanu par 30%.
B24: 13. Finanšu ministrija
A25: =A18+1 -> 3 | B25: --- | C25: Papildināt likumprojektu ar jaunu pantu: "xx. pants. Lai nodrošinātu Latvijas Republikas dalību Starptautisko Valūtas fonda kvotu palielināšanā atbilstoši Starptautiskā Valūtas fonda kvotu 16. vispārējam pārskatam, atļaut finanšu ministram palielināt Latvijas Republikas saistības pret Starptautisko Valūtas fondu un palielināt apropriāciju Finanšu ministrijas budžeta apakšprogrammā 41.03.00 "Iemaksas starptautiskajās organizācijās", lai apmaksātu Latvijas Republikas kvotas palielināšanu, ja ir pieņemts attiecīgs Ministru kabineta lēmums un Saeimas Budžeta un finanšu (nodokļu) komisija piecu darba dienu laikā no attiecīgās informācijas saņemšanas dienas ir to izskatījusi un nav iebildusi pret apropriācijas palielinājumu." | D25: Atbalstīt
B26: Pants nepieciešams, lai nepieciešamības gadījumā nodrošinātu Latvijas Republikas dalību Starptautisko Valūtas fonda kvotu palielināšanā atbilstoši Starptautiskā Valūtas fonda kvotu 16. vispārējam pārskatam un palielinātu apropriāciju Finanšu ministrijas budžeta apakšprogrammā 41.03.00 “Iemaksas starptautiskajās organizācijās”, lai apmaksātu Latvijas Republikas kvotas palielināšanu.
B28: 13. Finanšu ministrija
A29: =A25+1 -> 4 | B29: --- | C29: Papildināt likumprojektu ar jaunu pantu: "xx. pants. Atļaut finanšu ministram palielināt apropriāciju Finanšu ministrijai resursiem no dotācijas no vispārējiem ieņēmumiem un izdevumiem Patērētāju tiesību aizsardzības likumā noteiktā atbalsta izmaksai kredītņēmējiem un administrēšanas izmaksu segšanai Valsts ieņēmumu dienestam, nepārsniedzot budžetā ieskaitāmās hipotekārā kredīta ņēmēju aizsardzības nodevas apmēru, ja ir pieņemts attiecīgs Ministru kabinets lēmums un Saeimas Budžeta un finanšu (nodokļu) komisija piecu darba dienu laikā no attiecīgās informācijas saņemšanas dienas ir to izskatījusi un nav iebildusi pret apropriācijas palielinājumu." | D29: Atbalstīt
B30: Pants nepieciešams, lai nodrošinātu finansējumu Patērētāju tiesību aizsardzības likumā noteiktā atbalsta izmaksai kredītņēmējiem, kā arī Valsts ieņēmumu dienestam administrēšanas izmaksu segšanai, nepārsniedzot budžetā ieskaitāmās hipotekārā kredīta ņēmēju aizsardzības nodevas apmēru.
B32: 13. Finanšu ministrija
A33: =A29+1 -> 5 | C33: Kopsavilkuma skaitļus likumprojekta tekstā un pielikumos precizēt pēc balsojumiem par konkrētām pielikumu pozīcijām. | D33: Atbalstīt

Sheet SIF
C1: Pieņemts pirmajā lasījumā | D1: Priekšlikums par izmaiņām | F1: Pieņemts pirmajā lasījumā | G1: Priekšlikums par izmaiņām | H1: Priekšlikums MK atzinumam
B3: Par likumprojekta "Par valsts budžetu 2024. gadam un budžeta ietvaru 2024., 2025. un 2026. gadam" skaitlisko daļu:
B5: Sadalījumā pa budžeta resoriem
B7: 08. Sabiedrības integrācijas fonds
A8: =1 -> 1 | B8: Valsts budžeta ieņēmumi | E8: 08.Sabiedrības integrācijas fonds | H8: Atbalstīt
B9: 2.pielikums | E9: 4.pielikums
B10: Valsts pamatbudžeta ieņēmumi | E10: 05.00.00 "NVO atbalsts un sabiedrības saliedētības programma"
B11: 2024.gads | E11: Resursi izdevumu segšanai | F11: 4325761 | G11: 150000
B12: Ieņēmumi no dividendēm (ieņēmumi no valsts (pašvaldību) kapitāla izmantošanas) | C12: 373206565 | D12: 150000 | E12: Dotācija no vispārējiem ieņēmumiem | F12: =F13 -> 3865223 | G12: 150000
E13: Vispārējā kārtībā sadalāmā dotācija no vispārējiem ieņēmumiem | F13: 3865223 | G13: 150000
E14: Izdevumi – kopā | F14: 4325761 | G14: 150000
E15: Uzturēšanas izdevumi | F15: 4315761 | G15: 150000
E16: Kārtējie izdevumi | F16: 1097677 | G16: 3738
E17: Atlīdzība | F17: 461822 | G17: 3141
E18: Preces un pakalpojumi | F18: 635855 | G18: 597
E19: Subsīdijas, dotācijas, sociālie maksājumi un kompensācijas | F19: 3118084 | G19: =G20 -> 146262
E20: Subsīdijas un dotācijas | F20: 3118084 | G20: 146262
B21: Papildus finansējums 2024.gadā paredzēts vismaz trīs gadus aprobētam digitālajam rīkam kiberdrošības aizsardzībai demokrātijas un sabiedrības iesaistes nodrošināšanai nevalstiskajā sektorā. Finansējuma avots: AS “Latvijas valsts meži” iemaksas valsts budžetā.

Sheet AM
C1: Pieņemts pirmajā lasījumā | D1: Priekšlikums par izmaiņām | F1: Pieņemts pirmajā lasījumā | G1: Priekšlikums par izmaiņām | H1: Priekšlikums MK atzinumam
B3: 11. Ārlietu ministrija
A4: =SIF!A8+1 -> 2 | B4: 74. Gadskārtējā valsts budžeta izpildes procesā pārdalāmais finansējums | E4: 11. Ārlietu ministrija | H4: Atbalstīt
B5: 4.pielikums | E5: 4.pielikums
B6: 02.00.00 Līdzekļi neparedzētiem gadījumiem | E6: 03.00.00 Diplomātisko un konsulāro misiju nodrošinājums
B7: Resursi izdevumu segšanai | C7: 127226869 | D7: -86304 | E7: Resursi izdevumu segšanai | F7: 57470117 | G7: 86304
B8: Dotācija no vispārējiem ieņēmumiem | C8: 127226869 | D8: -86304 | E8: Ieņēmumi no maksas pakalpojumiem un citi pašu ieņēmumi – kopā | F8: 2050000
B9: Vispārējā kārtībā sadalāmā dotācija no vispārējiem ieņēmumiem | C9: 127226869 | D9: -86304 | E9: Dotācija no vispārējiem ieņēmumiem | F9: 55420117 | G9: 86304
B10: Izdevumi – kopā | C10: 127226869 | D10: -86304 | E10: Vispārējā kārtībā sadalāmā dotācija no vispārējiem ieņēmumiem | F10: 55420117 | G10: 86304
B11: Uzturēšanas izdevumi | C11: 127226869 | D11: -86304 | E11: Izdevumi – kopā | F11: 57470117 | G11: 86304
B12: Subsīdijas, dotācijas, sociālie maksājumi un kompensācijas | C12: 127226869 | D12: -86304 | E12: Uzturēšanas izdevumi | F12: 56294845 | G12: 86304
B13: Subsīdijas un dotācijas | C13: 127226869 | D13: -86304 | E13: Kārtējie izdevumi | F13: 55936765 | G13: 86304
E14: Atlīdzība | F14: 31171597 | G14: 70376
E15: Preces un pakalpojumi | F15: 24765168 | G15: 15928
E16: Subsīdijas, dotācijas, sociālie maksājumi un kompensācijas | F16: 60000
E17: Subsīdijas un dotācijas | F17: 60000
E18: Transferti viena budžeta veida ietvaros un uzturēšanas izdevumu transferti starp budžeta veidiem | F18: 298080
E19: Valsts budžeta transferti un uzturēšanas izdevumu transferti | F19: 298080
E20: Valsts budžeta uzturēšanas izdevumu transferti no valsts pamatbudžeta uz valsts speciālo budžetu | F20: 298080
E21: Kapitālie izdevumi | F21: 1175272
E22: Pamatkapitāla veidošana | F22: 1175272
B23: Finansējuma pārdale no 74.resora programmas 02.00.00 "Līdzekļi neparedzētiem gadījumiem" uz Ārlietu ministrijas programmu 03.00.00 "Diplomātisko un konsulāro misiju nodrošinājums", lai segtu izdevumus civilā eksperta dalības nodrošināšanai Eiropas Savienības Padomdevēja misijā civilā drošības sektora reformām Ukrainā, pamatojoties uz Ministru kabineta 2023.gada 16. novembra rīkojumu Nr.744 “Par civilā eksperta dalības laika pagarināšanu Eiropas Savienības Padomdevēja misijā civilā drošības sektora reformām Ukrainā”.

Sheet EM
C1: Pieņemts pirmajā lasījumā | D1: Priekšlikums par izmaiņām | F1: Pieņemts pirmajā lasījumā | G1: Priekšlikums par izmaiņām | H1: Priekšlikums MK atzinumam
B3: 12. Ekonomikas ministrija
A4: =AM!A4+1 -> 3 | B4: 74. Gadskārtējā valsts budžeta izpildes procesā pārdalāmais finansējums | E4: 12.Ekonomikas ministrija | H4: Atbalstīt
B5: 4.pielikums | E5: 4.pielikums
B6: 02.00.00 “Līdzekļi neparedzētiem gadījumiem” | E6: 26.02.00 "Konkurences politikas ieviešana"
B7: Resursi izdevumu segšanai | C7: =C8 -> 127226869 | D7: =D8 -> -179429 | E7: Resursi izdevumu segšanai | F7: =F8 -> 4713567 | G7: 179429
B8: Dotācija no vispārējiem ieņēmumiem | C8: =C9 -> 127226869 | D8: =D9 -> -179429 | E8: Dotācija no vispārējiem ieņēmumiem | F8: =F9 -> 4713567 | G8: 179429
B9: Vispārējā kārtībā sadalāmā dotācija no vispārējiem ieņēmumiem | C9: 127226869 | D9: -179429 | E9: Vispārējā kārtībā sadalāmā dotācija no vispārējiem ieņēmumiem | F9: 4713567 | G9: 179429
B10: Izdevumi – kopā | C10: =C11 -> 127226869 | D10: =D11 -> -179429 | E10: Izdevumi – kopā | F10: =F11+F15 -> 4713567 | G10: 179429
B11: Uzturēšanas izdevumi | C11: =C12 -> 127226869 | D11: =D12 -> -179429 | E11: Uzturēšanas izdevumi | F11: =F12 -> 3940667 | G11: 174629
B12: Subsīdijas, dotācijas, sociālie maksājumi un kompensācijas | C12: =C13 -> 127226869 | D12: =D13 -> -179429 | E12: Kārtējie izdevumi | F12: =F13+F14 -> 3940667 | G12: 174629
B13: Subsīdijas un dotācijas | C13: 127226869 | D13: -179429 | E13: Atlīdzība | F13: 3657324 | G13: 155279
E14: Preces un pakalpojumi | F14: 283343 | G14: 19350
E15: Kapitālie izdevumi | F15: =F16 -> 772900 | G15: 4800
E16: Pamatkapitāla veidošana | F16: 772900 | G16: 4800
B17: 74. Gadskārtējā valsts budžeta izpildes procesā pārdalāmais finansējums | E17: 12.Ekonomikas ministrija
B18: 3.pielikums | E18: 3.pielikums
B19: I. Valsts pamatfunkciju īstenošana | E19: I. Valsts pamatfunkciju īstenošana
B20: 2025.gads | E20: 2025.gads
B21: Resursi izdevumu segšanai | C21: =C22 -> 920111247 | D21: =D22 -> -171763 | E21: Resursi izdevumu segšanai | F21: =F22+F23+F28 -> 132213407 | G21: =G22+G23+G28 -> 171763
B22: Dotācija no vispārējiem ieņēmumiem | C22: =C23 -> 920111247 | D22: =D23 -> -171763 | E22: Ieņēmumi no maksas pakalpojumiem un citi pašu ieņēmumi – kopā | F22: 1834287
B23: Vispārējā kārtībā sadalāmā dotācija no vispārējiem ieņēmumiem | C23: 920111247 | D23: -171763 | E23: Transferti | F23: =F24 -> 118066 | G23: =G24 -> 0
B24: Izdevumi – kopā | C24: =C25 -> 920111247 | D24: =D25 -> -171763 | E24: Valsts budžeta transferti | F24: =F25 -> 118066 | G24: =G25 -> 0
B25: Uzturēšanas izdevumi | C25: =C26 -> 920111247 | D25: =D26 -> -171763 | E25: Valsts pamatbudžeta savstarpējie transferti | F25: =F26 -> 118066 | G25: =G26 -> 0
B26: Subsīdijas, dotācijas, sociālie maksājumi un kompensācijas | C26: =C27 -> 920111247 | D26: =D27 -> -171763 | E26: Valsts pamatbudžeta iestāžu saņemtie transferti no valsts pamatbudžeta | F26: =F27 -> 118066 | G26: =G27 -> 0
B27: Subsīdijas un dotācijas | C27: 920111247 | D27: -171763 | E27: Valsts pamatbudžeta iestāžu saņemtie transferti no valsts pamatbudžeta dotācijas no vispārējiem ieņēmumiem | F27: 118066
E28: Dotācija no vispārējiem ieņēmumiem | F28: =F29 -> 130261054 | G28: =G29 -> 171763
E29: Vispārējā kārtībā sadalāmā dotācija no vispārējiem ieņēmumiem | F29: 130261054 | G29: 171763
E30: Izdevumi – kopā | F30: =F31+F46 -> 132311407 | G30: =G31+G46 -> 171763
E31: Uzturēšanas izdevumi | F31: =F32+F35+F37+F39 -> 126358036 | G31: =G32+G35+G37+G39 -> 171763
E32: Kārtējie izdevumi | F32: =F33+F34 -> 60529318 | G32: =G33+G34 -> 171763
E33: Atlīdzība | F33: 37106896 | G33: 155279
E34: Preces un pakalpojumi | F34: 23422422 | G34: 16484
E35: Subsīdijas, dotācijas, sociālie maksājumi un kompensācijas | F35: =F36 -> 65401763 | G35: =G36 -> 0
E36: Subsīdijas un dotācijas | F36: 65401763
E37: Kārtējie maksājumi Eiropas Savienības budžetā un starptautiskā sadarbība | F37: =F38 -> 216083 | G37: =G38 -> 0
E38: Starptautiskā sadarbība | F38: 216083
E39: Transferti viena budžeta veida ietvaros un uzturēšanas izdevumu transferti starp budžeta veidiem | F39: =F40+F44 -> 210872 | G39: =G40+G44 -> 0
E40: Valsts budžeta transferti un uzturēšanas izdevumu transferti | F40: =F41+F42 -> 186312 | G40: =G41+G42 -> 0
E41: Valsts budžeta uzturēšanas izdevumu transferti no valsts pamatbudžeta uz valsts speciālo budžetu | F41: 23328
E42: Valsts budžeta transferti no valsts pamatbudžeta uz valsts pamatbudžetu | F42: =F43 -> 162984 | G42: =G43 -> 0
E43: Valsts budžeta transferti no valsts pamatbudžeta dotācijas no vispārējiem ieņēmumiem uz valsts pamatbudžetu | F43: 162984
E44: Pārējie valsts budžeta uzturēšanas izdevumu transferti citiem budžetiem | F44: =F45 -> 24560 | G44: =G45 -> 0
E45: Pārējie valsts budžeta uzturēšanas izdevumu transferti valsts budžeta daļēji finansētām atvasinātām publiskām personām un budžeta nefinansētām iestādēm | F45: 24560
E46: Kapitālie izdevumi | F46: =F47 -> 5953371 | G46: =G47 -> 0
E47: Pamatkapitāla veidošana | F47: 5953371
E48: Finansiālā bilance | F48: =F21-F30 -> -98000 | G48: =G21-G30 -> 0
E49: Finansēšana | F49: =F50 -> 98000 | G49: =G50 -> 0
E50: Naudas līdzekļi | F50: =F51 -> 98000 | G50: =G51 -> 0
E51: Maksas pakalpojumu un citu pašu ieņēmumu naudas līdzekļu atlikumu izmaiņas palielinājums (-) vai samazinājums (+) | F51: 98000
B52: 2026.gads | E52: 2026.gads
B53: Resursi izdevumu segšanai | C53: =C54 -> 527160746 | D53: =D54 -> -171912 | E53: Resursi izdevumu segšanai | F53: =F54+F55+F60 -> 133421609 | G53: =G54+G55+G60 -> 171912
B54: Dotācija no vispārējiem ieņēmumiem | C54: =C55 -> 527160746 | D54: =D55 -> -171912 | E54: Ieņēmumi no maksas pakalpojumiem un citi pašu ieņēmumi – kopā | F54: 1834287
B55: Vispārējā kārtībā sadalāmā dotācija no vispārējiem ieņēmumiem | C55: 527160746 | D55: -171912 | E55: Transferti | F55: =F56 -> 118066 | G55: =G56 -> 0
B56: Izdevumi – kopā | C56: =C57 -> 527160746 | D56: =D57 -> -171912 | E56: Valsts budžeta transferti | F56: =F57 -> 118066 | G56: =G57 -> 0
B57: Uzturēšanas izdevumi | C57: =C58 -> 527160746 | D57: =D58 -> -171912 | E57: Valsts pamatbudžeta savstarpējie transferti | F57: =F58 -> 118066 | G57: =G58 -> 0
B58: Subsīdijas, dotācijas, sociālie maksājumi un kompensācijas | C58: =C59 -> 527160746 | D58: =D59 -> -171912 | E58: Valsts pamatbudžeta iestāžu saņemtie transferti no valsts pamatbudžeta | F58: =F59 -> 118066 | G58: =G59 -> 0
B59: Subsīdijas un dotācijas | C59: 527160746 | D59: -171912 | E59: Valsts pamatbudžeta iestāžu saņemtie transferti no valsts pamatbudžeta dotācijas no vispārējiem ieņēmumiem | F59: 118066
E60: Dotācija no vispārējiem ieņēmumiem | F60: =F61 -> 131469256 | G60: =G61 -> 171912
E61: Vispārējā kārtībā sadalāmā dotācija no vispārējiem ieņēmumiem | F61: 131469256 | G61: 171912
E62: Izdevumi – kopā | F62: =F63+F78 -> 133519609 | G62: =G63+G78 -> 171912
E63: Uzturēšanas izdevumi | F63: =F64+F67+F69+F71 -> 131093279 | G63: =G64+G67+G69+G71 -> 171912
E64: Kārtējie izdevumi | F64: =F65+F66 -> 58864561 | G64: =G65+G66 -> 171912
E65: Atlīdzība | F65: 37878385 | G65: 155279
E66: Preces un pakalpojumi | F66: 20986176 | G66: 16633
E67: Subsīdijas, dotācijas, sociālie maksājumi un kompensācijas | F67: =F68 -> 71801763 | G67: =G68 -> 0
E68: Subsīdijas un dotācijas | F68: 71801763
E69: Kārtējie maksājumi Eiropas Savienības budžetā un starptautiskā sadarbība | F69: =F70 -> 216083 | G69: =G70 -> 0
E70: Starptautiskā sadarbība | F70: 216083
E71: Transferti viena budžeta veida ietvaros un uzturēšanas izdevumu transferti starp budžeta veidiem | F71: =F72+F76 -> 210872 | G71: =G72+G76 -> 0
E72: Valsts budžeta transferti un uzturēšanas izdevumu transferti | F72: =F73+F74 -> 186312 | G72: =G73+G74 -> 0
E73: Valsts budžeta uzturēšanas izdevumu transferti no valsts pamatbudžeta uz valsts speciālo budžetu | F73: 23328
E74: Valsts budžeta transferti no valsts pamatbudžeta uz valsts pamatbudžetu | F74: =F75 -> 162984 | G74: =G75 -> 0
E75: Valsts budžeta transferti no valsts pamatbudžeta dotācijas no vispārējiem ieņēmumiem uz valsts pamatbudžetu | F75: 162984
E76: Pārējie valsts budžeta uzturēšanas izdevumu transferti citiem budžetiem | F76: =F77 -> 24560 | G76: =G77 -> 0
E77: Pārējie valsts budžeta uzturēšanas izdevumu transferti valsts budžeta daļēji finansētām atvasinātām publiskām personām un budžeta nefinansētām iestādēm | F77: 24560
E78: Kapitālie izdevumi | F78: =F79 -> 2426330 | G78: =G79 -> 0
E79: Pamatkapitāla veidošana | F79: 2426330
E80: Finansiālā bilance | F80: =F53-F62 -> -98000 | G80: =G53-G62 -> 0
E81: Finansēšana | F81: =F82 -> 98000 | G81: =G82 -> 0
E82: Naudas līdzekļi | F82: =F83 -> 98000 | G82: =G83 -> 0
E83: Maksas pakalpojumu un citu pašu ieņēmumu naudas līdzekļu atlikumu izmaiņas palielinājums (-) vai samazinājums (+) | F83: 98000
B84: Finansējuma pārdale no valsts budžeta resora "74. Gadskārtējā valsts budžeta izpildes procesā pārdalāmais finansējums" programmas 02.00.00 "Līdzekļi neparedzētiem gadījumiem" uz Ekonomikas ministrijas budžeta apakšprogrammu 26.02.00 "Konkurences politikas ieviešana" 2024. gadā 179 429 euro, 2025. gadā 171 763 euro, 2026. gadā 171 912 euro apmērā, lai nodrošinātu Ārvalstu subsīdiju regulas prasību izpildi atbilstoši MK 14.11.2023. protokola Nr.57 32.§ "Likumprojekts "Grozījumi Konkurences likumā"" 5.punktam. Ar Konkurences likuma grozījumiem paredzēts nodrošināt Eiropas Parlamenta un Padomes 2022. gada 14. decembra regulas (ES) 2022/2560 par ārvalstu subsīdijām, kas izkropļo iekšējo tirgu (Regula), piemērošanu. Direktīvaa 2019/1 (preambulas 24.punkts) paredz, ka līdz ar jaunu kompetenču piešķiršanu konkurences iestādei ir jāparedz arī pietiekami resursi šo jauno uzdevumu efektīvai izpildei, tādējādi neapgrūtinot tās primāro funkciju (konkurences tiesību pārkāpumu atklāšanu un izmeklēšanu) īstenošanu. Līdz ar to jaunas funkcijas Ārvalstu subsīdiju regulas prasību izpildei finansējums paredzēts trīm jaunām amata vietām.
A86: =A4+1 -> 4 | B86: 12.Ekonomikas ministrija | H86: Atbalstīt
B87: 11.pielikums
B88: 35.00.00 "Valsts atbalsta programmas"
B89: 0600000000 - Citas ilgtermiņa saistības
B90: tajā skaitā
B91: Īpašuma kompensācijas sertifikātu dzēšana
B92: 2027.gads
B93: Resursi izdevumu segšanai | C93: =C94 -> 0 | D93: =D94 -> 3318991
B94: Dotācija no vispārējiem ieņēmumiem | C94: =C95 -> 0 | D94: =D95 -> 3318991
B95: Vispārējā kārtībā sadalāmā dotācija no vispārējiem ieņēmumiem | D95: 3318991
B96: Izdevumi – kopā | C96: =C97 -> 0 | D96: =D97 -> 3318991
B97: Uzturēšanas izdevumi | C97: =C98 -> 0 | D97: =D98 -> 3318991
B98: Subsīdijas, dotācijas, sociālie maksājumi un kompensācijas | C98: =C99 -> 0 | D98: =D99 -> 3318991
B99: Subsīdijas un dotācijas | D99: 3318991
B100: Paredzētas ilgtermiņa saistības Ekonomikas ministrijas budžetā 2027. gadam 3 318 991 euro apmērā, lai nodrošinātu īpašuma kompensācijas sertifikātu dzēšanu atbilstoši MK 31.10.2023. protokola Nr.54 30.§ "Likumprojekts "Grozījumi Valsts un pašvaldību īpašuma privatizācijas un privatizācijas sertifikātu izmantošanas pabeigšanas likumā"" 2.punktam. Ievērojot īpašuma kompensācijas sertifikātu piešķiršanas īpašo mērķi – kompensācija par zaudēto īpašumu, personām, kurām piešķirti īpašuma kompensācijas sertifikāti, vai šo personu mantiniekiem pirms sertifikātu dzēšanas, tiek paredzētas tiesības dzēst piešķirtos un neizmantotos īpašuma kompensācijas sertifikātus, saņemot to nominālvērtību naudā, vienlaicīgi deleģējot Ministru kabinetam noteikt precīzu kārtību.

Sheet FM
C1: Pieņemts pirmajā lasījumā | D1: Priekšlikums par izmaiņām | F1: Pieņemts pirmajā lasījumā | G1: Priekšlikums par izmaiņām | H1: Priekšlikums MK atzinumam
B3: 13. Finanšu ministrija
A4: =EM!A86+1 -> 5 | B4: 13. Finanšu ministrija | E4: 22. Kultūras ministrija | H4: Atbalstīt
B5: 4. pielikums | E5: 4. pielikums
B6: 41.13.00 Finansējums VAS "Valsts nekustamie īpašumi" īstenojamiem projektiem un pasākumiem | E6: 22.07.00 "Nomas maksas VAS "Valsts nekustamie īpašumi” programmas Mantojums-2018" ietvaros"
B7: Resursi izdevumu segšanai | C7: 21544328 | D7: -343534 | E7: Resursi izdevumu segšanai | F7: 5966891 | G7: 343534
B8: Dotācija no vispārējiem ieņēmumiem | C8: 21544328 | D8: -343534 | E8: Dotācija no vispārējiem ieņēmumiem | F8: 5966891 | G8: 343534
B9: Vispārējā kārtībā sadalāmā dotācija no vispārējiem ieņēmumiem | C9: 21544328 | D9: -343534 | E9: Vispārējā kārtībā sadalāmā dotācija no vispārējiem ieņēmumiem | F9: 5966891 | G9: 343534
B10: Izdevumi – kopā | C10: 21544328 | D10: -343534 | E10: Izdevumi – kopā | F10: 5966891 | G10: 343534
B11: Kapitālie izdevumi | C11: 21544328 | D11: -343534 | E11: Uzturēšanas izdevumi | F11: 5966891 | G11: 343534
B12: Pamatkapitāla veidošana | C12: 21544328 | D12: -343534 | E12: Kārtējie izdevumi | F12: 4597549 | G12: 343534
E13: Preces un pakalpojumi | F13: 4597549 | G13: 343534
B14: 13. Finanšu ministrija | E14: 22. Kultūras ministrija
B15: 3. pielikums | E15: 3. pielikums
B16: I. Valsts pamatfunkciju īstenošana | E16: I. Valsts pamatfunkciju īstenošana
B17: 2026.gadā | E17: 2026.gadā
B18: Resursi izdevumu segšanai | C18: 1291135002 | D18: -637988 | E18: Resursi izdevumu segšanai | F18: 236020838 | G18: 637988
B19: Dotācija no vispārējiem ieņēmumiem | C19: 1290848546 | D19: -637988 | E19: Dotācija no vispārējiem ieņēmumiem | F19: 227872021 | G19: 637988
B20: Vispārējā kārtībā sadalāmā dotācija no vispārējiem ieņēmumiem | C20: 1290848546 | D20: -637988 | E20: Vispārējā kārtībā sadalāmā dotācija no vispārējiem ieņēmumiem | F20: 227872021 | G20: 637988
B21: Izdevumi – kopā | C21: 1186853379 | D21: -637988 | E21: Izdevumi – kopā | F21: 236020838 | G21: 637988
B22: Kapitālie izdevumi | C22: 30223378 | D22: -637988 | E22: Uzturēšanas izdevumi | F22: 231965894 | G22: 637988
B23: Pamatkapitāla veidošana | C23: 30223378 | D23: -637988 | E23: Kārtējie izdevumi | F23: 100039773 | G23: 637988
E24: Preces un pakalpojumi | F24: 26824491 | G24: 637988
B26: 13. Finanšu ministrija | E26: 13. Finanšu ministrija
B27: 11. pielikums | E27: 11. pielikums
B28: 41.13.00 Finansējums VAS "Valsts nekustamie īpašumi" īstenojamiem projektiem un pasākumiem | E28: 41.13.00 Finansējums VAS "Valsts nekustamie īpašumi" īstenojamiem projektiem un pasākumiem
B29: 0600000000 Citas ilgtermiņa saistības | E29: 0600000000 Citas ilgtermiņa saistības
B30: "Dotācija VAS "Valsts nekustamie īpašumi" Rīgas pils restaurācijai un rekonstrukcijai Rīgā, Pils laukumā 3 (būvniecības II kārtas - Konventa nodrošināšanai)" | C30: CIS/FM/006 | E30: "Dotācija VAS "Valsts nekustamie īpašumi" nekustamā īpašuma Jēkaba ielā 11, Rīgā, sastāvā esošās būves pārbūves un restaurācijas darbiem" | F30: CIS/FM/025
B31: 2024.gadā | E31: 2024.gadā
B32: Resursi izdevumu segšanai | C32: 1992410 | D32: -693313 | E32: Resursi izdevumu segšanai | F32: 1023689 | G32: 349779
B33: Dotācija no vispārējiem ieņēmumiem | C33: 1992410 | D33: -693313 | E33: Dotācija no vispārējiem ieņēmumiem | F33: 1023689 | G33: 349779
B34: Vispārējā kārtībā sadalāmā dotācija no vispārējiem ieņēmumiem | C34: 1992410 | D34: -693313 | E34: Vispārējā kārtībā sadalāmā dotācija no vispārējiem ieņēmumiem | F34: 1023689 | G34: 349779
B35: Izdevumi – kopā | C35: 1992410 | D35: -693313 | E35: Izdevumi – kopā | F35: 1023689 | G35: 349779
B36: Kapitālie izdevumi | C36: 1992410 | D36: -693313 | E36: Kapitālie izdevumi | F36: 1023689 | G36: 349779
B37: Pamatkapitāla veidošana | C37: 1992410 | D37: -693313 | E37: Pamatkapitāla veidošana | F37: 1023689 | G37: 349779
E39: 22. Kultūras ministrija
E40: 11. pielikums
B41: 41.13.00 Finansējums VAS "Valsts nekustamie īpašumi" īstenojamiem projektiem un pasākumiem | E41: 22.07.00 "Nomas maksas VAS "Valsts nekustamie īpašumi” programmas Mantojums-2018" ietvaros"
B42: 0600000000 Citas ilgtermiņa saistības | E42: 0600000000 Citas ilgtermiņa saistības
B43: "Dotācija VAS "Valsts nekustamie īpašumi" nekustamā īpašuma Jēkaba ielā 11, Rīgā, sastāvā esošās būves pārbūves un restaurācijas darbiem" | C43: CIS/FM/025 | E43: Ēkas Rīgas pils Konventa Pils laukumā 3 nomas maksa un papildu izdevumi VAS "Valsts nekustamie īpašumi" | F43: CIS/KM/018
B44: 2026.gadā | E44: 2024.gadā
B45: Resursi izdevumu segšanai | C45: 12725492 | D45: -637988 | E45: Resursi izdevumu segšanai | F45: 125181 | G45: 343534
B46: Dotācija no vispārējiem ieņēmumiem | C46: 12725492 | D46: -637988 | E46: Dotācija no vispārējiem ieņēmumiem | F46: 125181 | G46: 343534
B47: Vispārējā kārtībā sadalāmā dotācija no vispārējiem ieņēmumiem | C47: 12725492 | D47: -637988 | E47: Vispārējā kārtībā sadalāmā dotācija no vispārējiem ieņēmumiem | F47: 125181 | G47: 343534
B48: Izdevumi – kopā | C48: 12725492 | D48: -637988 | E48: Izdevumi – kopā | F48: 125181 | G48: 343534
B49: Kapitālie izdevumi | C49: 12725492 | D49: -637988 | E49: Uzturēšanas izdevumi | F49: 125181 | G49: 343534
B50: Pamatkapitāla veidošana | C50: 12725492 | D50: -637988 | E50: Kārtējie izdevumi | F50: 125181 | G50: 343534
B51: 2027.gadā | E51: Preces un pakalpojumi | F51: 125181 | G51: 343534
B52: Resursi izdevumu segšanai | C52: 16993598 | D52: -790361 | E52: 2026.gadā
B53: Dotācija no vispārējiem ieņēmumiem | C53: 16993598 | D53: -790361 | E53: Resursi izdevumu segšanai | F53: 375543 | G53: 637988
B54: Vispārējā kārtībā sadalāmā dotācija no vispārējiem ieņēmumiem | C54: 16993598 | D54: -790361 | E54: Dotācija no vispārējiem ieņēmumiem | F54: 375543 | G54: 637988
B55: Izdevumi – kopā | C55: 16993598 | D55: -790361 | E55: Vispārējā kārtībā sadalāmā dotācija no vispārējiem ieņēmumiem | F55: 375543 | G55: 637988
B56: Kapitālie izdevumi | C56: 16993598 | D56: -790361 | E56: Izdevumi – kopā | F56: 375543 | G56: 637988
B57: Pamatkapitāla veidošana | C57: 16993598 | D57: -790361 | E57: Uzturēšanas izdevumi | F57: 375543 | G57: 637988
E58: Kārtējie izdevumi | F58: 375543 | G58: 637988
E59: Preces un pakalpojumi | F59: 375543 | G59: 637988
E60: 2027.gadā
E61: Resursi izdevumu segšanai | F61: 375543 | G61: 790361
E62: Dotācija no vispārējiem ieņēmumiem | F62: 375543 | G62: 790361
E63: Vispārējā kārtībā sadalāmā dotācija no vispārējiem ieņēmumiem | F63: 375543 | G63: 790361
E64: Izdevumi – kopā | F64: 375543 | G64: 790361
E65: Uzturēšanas izdevumi | F65: 375543 | G65: 790361
E66: Kārtējie izdevumi | F66: 375543 | G66: 790361
E67: Preces un pakalpojumi | F67: 375543 | G67: 790361
B68: Finansējuma pārdale Kultūras ministijai, lai nodrošinātu nomas maksas un papildu maksājumu izdevumu segšanu Rīgas pils Konventa Pils laukumā 3, Rīgā un Finanšu ministrijai nekustamā īpašuma Jēkaba ielā 11, Rīgā, sastāvā esošās būves pārbūves un restaurācijas darbiem 2024.gadā saskaņā ar Ministru kabineta 2023.gada 21.novembra sēdē atbalstītajiem rīkojumiem "Grozījumi Ministru kabineta 2018. gada 12. jūnija rīkojumā Nr. 267 "Par finansējumu Rīgas pils Konventa Pils laukumā 3, Rīgā, un Muzeju krātuvju kompleksa Pulka ielā 8, Rīgā, būvniecības projekta, nomas maksas, pārcelšanās un aprīkojuma iegādes izdevumu segšanai" un "Grozījumi Ministru kabineta 2021. gada 1. septembra rīkojumā Nr. 608 "Par valsts nekustamā īpašuma Jēkaba ielā 11, Rīgā, nodošanu Finanšu ministrijas valdījumā un finansējumu nekustamā īpašuma būvniecības projekta izdevumu segšanai". Finansējuma pārdale veikta 2024.gadā no Rīgas pils restaurācijai un rekonstrukcijai Rīgā, Pils laukumā 3 (būvniecības II kārtas - Konventa nodrošināšanai) plānotā finansējuma, 2026. un 2027.gadā no nekustamā īpašuma Jēkaba ielā 11, Rīgā, sastāvā esošās būves pārbūves un restaurācijas darbiem plānotā finansējuma.
A70: =A4+1 -> 6 | B70: 32. Prokuratūra | E70: 13. Finanšu ministrija | H70: Atbalstīt
B71: 4. pielikums | E71: 4. pielikums
B72: 01.00.00 Prokuratūras iestāžu uzturēšana | E72: 41.13.00 Finansējums VAS "Valsts nekustamie īpašumi" īstenojamiem projektiem un pasākumiem
B73: Resursi izdevumu segšanai | C73: 50278616 | D73: -123604 | E73: Resursi izdevumu segšanai | F73: 21544328 | G73: 123604
B74: Dotācija no vispārējiem ieņēmumiem | C74: 50278616 | D74: -123604 | E74: Dotācija no vispārējiem ieņēmumiem | F74: 21544328 | G74: 123604
B75: Vispārējā kārtībā sadalāmā dotācija no vispārējiem ieņēmumiem | C75: 50278616 | D75: -123604 | E75: Vispārējā kārtībā sadalāmā dotācija no vispārējiem ieņēmumiem | F75: 21544328 | G75: 123604
B76: Izdevumi – kopā | C76: 50278616 | D76: -123604 | E76: Izdevumi – kopā | F76: 21544328 | G76: 123604
B77: Uzturēšanas izdevumi | C77: 49630674 | D77: -123604 | E77: Kapitālie izdevumi | F77: 21544328 | G77: 123604
B78: Kārtējie izdevumi | C78: 49628082 | D78: -123604 | E78: Pamatkapitāla veidošana | F78: 21544328 | G78: 123604
B79: Preces un pakalpojumi | C79: 7850242 | D79: -123604
B80: 32. Prokuratūra | E80: 13. Finanšu ministrija
B81: 3. pielikums | E81: 3. pielikums
B82: I. Valsts pamatfunkciju īstenošana | E82: I. Valsts pamatfunkciju īstenošana
B83: 2025.gadā | E83: 2025.gadā
B84: Resursi izdevumu segšanai | C84: 52673058 | D84: -1760295 | E84: Resursi izdevumu segšanai | F84: 1153830414 | G84: 1760295
B85: Dotācija no vispārējiem ieņēmumiem | C85: 52673058 | D85: -1760295 | E85: Dotācija no vispārējiem ieņēmumiem | F85: 1153543958 | G85: 1760295
B86: Vispārējā kārtībā sadalāmā dotācija no vispārējiem ieņēmumiem | C86: 52673058 | D86: -1760295 | E86: Vispārējā kārtībā sadalāmā dotācija no vispārējiem ieņēmumiem | F86: 1153543958 | G86: 1760295
B87: Izdevumi – kopā | C87: 52673058 | D87: -1760295 | E87: Izdevumi – kopā | F87: 1152708791 | G87: 1760295
B88: Uzturēšanas izdevumi | C88: 50770517 | D88: -991311 | E88: Kapitālie izdevumi | F88: 39372666 | G88: 1760295
B89: Kārtējie izdevumi | C89: 50767925 | D89: -991311 | E89: Pamatkapitāla veidošana | F89: 39372666 | G89: 1760295
B90: Preces un pakalpojumi | C90: 8484931 | D90: -991311
B91: Kapitālie izdevumi | C91: 1902541 | D91: -768984
B92: Pamatkapitāla veidošana | C92: 1902541 | D92: -768984
E93: 13. Finanšu ministrija
E94: 11. pielikums
E95: 41.13.00 Finansējums VAS "Valsts nekustamie īpašumi" īstenojamiem projektiem un pasākumiem
E96: 0600000000 Citas ilgtermiņa saistības
E97: "Dotācija VAS "Valsts nekustamie īpašumi" ēkas pārbūvei Kalpaka bulvārī 6, Rīgā Latvijas Republikas Prokuratūras vajadzībām" | F97: CIS/FM/022
E98: 2024.gadā
E99: Resursi izdevumu segšanai | F99: 6420035 | G99: 123604
E100: Dotācija no vispārējiem ieņēmumiem | F100: 6420035 | G100: 123604
E101: Vispārējā kārtībā sadalāmā dotācija no vispārējiem ieņēmumiem | F101: 6420035 | G101: 123604
E102: Izdevumi – kopā | F102: 6420035 | G102: 123604
E103: Kapitālie izdevumi | F103: 6420035 | G103: 123604
E104: Pamatkapitāla veidošana | F104: 6420035 | G104: 123604
...

Sheet IeM
C1: Pieņemts pirmajā lasījumā | D1: Priekšlikums par izmaiņām | F1: Pieņemts pirmajā lasījumā | G1: Priekšlikums par izmaiņām | H1: Priekšlikums MK atzinumam
B3: 14. Iekšlietu ministrija
A4: =FM!A275+1 -> 13 | B4: 14. Iekšlietu ministrija | H4: Atbalstīt
B5: 4.pielikums
B6: 07.00.00 "Ugunsdrošība, glābšana un civilā aizsardzība"
B7: Resursi izdevumu segšanai | C7: 129880468 | D7: =D8 -> 5747
B8: Ieņēmumi no maksas pakalpojumiem un citi pašu ieņēmumi – kopā | C8: 43947 | D8: 5747
B9: Dotācija no vispārējiem ieņēmumiem | C9: 129836521
B10: Vispārējā kārtībā sadalāmā dotācija no vispārējiem ieņēmumiem | C10: 129836521
B11: Izdevumi – kopā | C11: 129880468 | D11: =D12+D20 -> 5747
B12: Uzturēšanas izdevumi | C12: 80536767 | D12: =D13 -> 4103
B13: Kārtējie izdevumi | C13: 80527651 | D13: =D14+D15 -> 4103
B14: Atlīdzība | C14: 76803877 | D14: 3125
B15: Preces un pakalpojumi | C15: 3723774 | D15: 978
B16: Subsīdijas, dotācijas, sociālie maksājumi un kompensācijas | C16: 6666
B17: Sociāla rakstura maksājumi un kompensācijas | C17: 6666
B18: Kārtējie maksājumi Eiropas Savienības budžetā un starptautiskā sadarbība | C18: 2450
B19: Starptautiskā sadarbība | C19: 2450
B20: Kapitālie izdevumi | C20: 49343701 | D20: =D21 -> 1644
B21: Pamatkapitāla veidošana | C21: 49343701 | D21: 1644
B22: 14. Iekšlietu ministrija
B23: 3.pielikums
B24: I. Valsts pamatfunkciju īstenošana
B25: 2025.gads
B26: Resursi izdevumu segšanai | C26: 508888186 | D26: =D27 -> 5747
B27: Ieņēmumi no maksas pakalpojumiem un citi pašu ieņēmumi – kopā | C27: 4303518 | D27: 5747
B28: Dotācija no vispārējiem ieņēmumiem | C28: 504584668
B29: Vispārējā kārtībā sadalāmā dotācija no vispārējiem ieņēmumiem | C29: 504584668
B30: Izdevumi – kopā | C30: 508888186 | D30: =D31+D47 -> 5747
B31: Uzturēšanas izdevumi | C31: 495523391 | D31: =D32 -> 4103
B32: Kārtējie izdevumi | C32: 483660250 | D32: =D33+D34 -> 4103
B33: Atlīdzība | C33: 348108350 | D33: 3125
B34: Preces un pakalpojumi | C34: 135551900 | D34: 978
B35: Subsīdijas, dotācijas, sociālie maksājumi un kompensācijas | C35: 8276651
B36: Subsīdijas un dotācijas | C36: 8015939
B37: Sociāla rakstura maksājumi un kompensācijas | C37: 260712
B38: Kārtējie maksājumi Eiropas Savienības budžetā un starptautiskā sadarbība | C38: 140306
B39: Starptautiskā sadarbība | C39: 140306
B40: Transferti viena budžeta veida ietvaros un uzturēšanas izdevumu transferti starp budžeta veidiem | C40: 3446184
B41: Valsts budžeta transferti un uzturēšanas izdevumu transferti | C41: 276702
B42: Valsts budžeta uzturēšanas izdevumu transferti no valsts pamatbudžeta uz valsts speciālo budžetu | C42: 7776
B43: Valsts budžeta transferti no valsts pamatbudžeta uz valsts pamatbudžetu | C43: 268926
B44: Valsts budžeta transferti no valsts pamatbudžeta dotācijas no vispārējiem ieņēmumiem uz valsts pamatbudžetu | C44: 268926
B45: Pārējie valsts budžeta uzturēšanas izdevumu transferti citiem budžetiem | C45: 3169482
B46: Pārējie valsts budžeta uzturēšanas izdevumu transferti valsts budžeta daļēji finansētām atvasinātām publiskām personām un budžeta nefinansētām iestādēm | C46: 3169482
B47: Kapitālie izdevumi | C47: 13364795 | D47: =D48 -> 1644
B48: Pamatkapitāla veidošana | C48: 13364795 | D48: 1644
B49: 2026.gads
B50: Resursi izdevumu segšanai | C50: 494219641 | D50: =D51 -> 5747
B51: Ieņēmumi no maksas pakalpojumiem un citi pašu ieņēmumi – kopā | C51: 4303518 | D51: 5747
B52: Dotācija no vispārējiem ieņēmumiem | C52: 489916123
B53: Vispārējā kārtībā sadalāmā dotācija no vispārējiem ieņēmumiem | C53: 489916123
B54: Izdevumi – kopā | C54: 494219641 | D54: =D55+D71 -> 5747
B55: Uzturēšanas izdevumi | C55: 486658433 | D55: =D56 -> 4103
B56: Kārtējie izdevumi | C56: 478033018 | D56: =D57+D58 -> 4103
B57: Atlīdzība | C57: 347688766 | D57: 3125
B58: Preces un pakalpojumi | C58: 130344252 | D58: 978
B59: Subsīdijas, dotācijas, sociālie maksājumi un kompensācijas | C59: 4463468
B60: Subsīdijas un dotācijas | C60: 4202756
B61: Sociāla rakstura maksājumi un kompensācijas | C61: 260712
B62: Kārtējie maksājumi Eiropas Savienības budžetā un starptautiskā sadarbība | C62: 140306
B63: Starptautiskā sadarbība | C63: 140306
B64: Transferti viena budžeta veida ietvaros un uzturēšanas izdevumu transferti starp budžeta veidiem | C64: 4021641
B65: Valsts budžeta transferti un uzturēšanas izdevumu transferti | C65: 15716
B66: Valsts budžeta uzturēšanas izdevumu transferti no valsts pamatbudžeta uz valsts speciālo budžetu | C66: 7776
B67: Valsts budžeta transferti no valsts pamatbudžeta uz valsts pamatbudžetu | C67: 7940
B68: Valsts budžeta transferti no valsts pamatbudžeta dotācijas no vispārējiem ieņēmumiem uz valsts pamatbudžetu | C68: 7940
B69: Pārējie valsts budžeta uzturēšanas izdevumu transferti citiem budžetiem | C69: 4005925
B70: Pārējie valsts budžeta uzturēšanas izdevumu transferti valsts budžeta daļēji finansētām atvasinātām publiskām personām un budžeta nefinansētām iestādēm | C70: 4005925
B71: Kapitālie izdevumi | C71: 7561208 | D71: =D72 -> 1644
B72: Pamatkapitāla veidošana | C72: 7561208 | D72: 1644
B73: Saskaņā ar Ministru kabineta 2023. gada 7. novembra noteikumiem Nr.633 "Ugunsdrošības un civilās aizsardzības koledžas maksas pakalpojumu cenrādis" palielināti ieņēmumi no maksas pakalpojumiem un citi pašu ieņēmumi un attiecīgie izdevumi 2024. gadā un turpmāk ik gadu 5 747 euro.
A75: =A4+1 -> 14 | B75: 74. Gadskārtējā valsts budžeta izpildes procesā pārdalāmais finansējums | E75: 14. Iekšlietu ministrija | H75: Atbalstīt
B76: 4.pielikums | E76: 4.pielikums
B77: 18.00.00 "Finansējums valsts drošības stiprināšanas pasākumiem" | E77: 09.00.00 "Valsts drošības dienesta darbība"
B78: Resursi izdevumu segšanai | C78: 376115734 | D78: =D79 -> -785000 | E78: Resursi izdevumu segšanai | F78: 43132523 | G78: =G79+G80 -> 785000
B79: Dotācija no vispārējiem ieņēmumiem | C79: 376115734 | D79: =D80 -> -785000 | E79: Ieņēmumi no maksas pakalpojumiem un citi pašu ieņēmumi – kopā | F79: 9384
B80: Vispārējā kārtībā sadalāmā dotācija no vispārējiem ieņēmumiem | C80: 376115734 | D80: -785000 | E80: Dotācija no vispārējiem ieņēmumiem | F80: 43123139 | G80: =G81 -> 785000
B81: Izdevumi – kopā | C81: 376115734 | D81: =D82 -> -785000 | E81: Vispārējā kārtībā sadalāmā dotācija no vispārējiem ieņēmumiem | F81: 43123139 | G81: 785000
B82: Uzturēšanas izdevumi | C82: 376115734 | D82: =D83 -> -785000 | E82: Izdevumi – kopā | F82: 43132523 | G82: =G83 -> 785000
B83: Subsīdijas, dotācijas, sociālie maksājumi un kompensācijas | C83: 376115734 | D83: =D84 -> -785000 | E83: Uzturēšanas izdevumi | F83: 43132523 | G83: =G84 -> 785000
B84: Subsīdijas un dotācijas | C84: 376115734 | D84: -785000 | E84: Kārtējie izdevumi | F84: 43132523 | G84: =G85 -> 785000
E85: Preces un pakalpojumi | F85: 43132523 | G85: 785000
B86: Veikta finansējuma pārdale no 74. resora "Gadskārtējā valsts budžeta izpildes procesā pārdalāmais finansējums" budžeta programmas 18.00.00 "Finansējums valsts drošības stiprināšanas pasākumiem" uz Iekšlietu ministrijas budžeta programmu 09.00.00 "Valsts drošības dienesta darbība" 2024. gadā 785 000 euro (informācija - klasificēta).
A88: =A75+1 -> 15 | B88: 14. Iekšlietu ministrija | H88: Atbalstīt
B89: 4.pielikums
B90: 11.01.00 "Pilsonības un migrācijas lietu pārvalde"
B91: Resursi izdevumu segšanai | C91: 29613713 | D91: =D92+D93 -> 0
B92: Ieņēmumi no maksas pakalpojumiem un citi pašu ieņēmumi – kopā | C92: 463364
B93: Dotācija no vispārējiem ieņēmumiem | C93: 29150349 | D93: =D94 -> 0
B94: Vispārējā kārtībā sadalāmā dotācija no vispārējiem ieņēmumiem | C94: 29150349
B95: Izdevumi – kopā | C95: 29613713 | D95: =D96+D105 -> 0
B96: Uzturēšanas izdevumi | C96: 29058525 | D96: =D97+D100+D103 -> -225000
B97: Kārtējie izdevumi | C97: 25145336 | D97: =D98+D99 -> -225000
B98: Atlīdzība | C98: 15954162
B99: Preces un pakalpojumi | C99: 9191174 | D99: -225000
B100: Subsīdijas, dotācijas, sociālie maksājumi un kompensācijas | C100: 3853557
B101: Subsīdijas un dotācijas | C101: 3720366
B102: Sociāla rakstura maksājumi un kompensācijas | C102: 133191
B103: Kārtējie maksājumi Eiropas Savienības budžetā un starptautiskā sadarbība | C103: 59632
...

Sheet IZM
C1: Pieņemts pirmajā lasījumā | D1: Priekšlikums par izmaiņām | F1: Pieņemts pirmajā lasījumā | G1: Priekšlikums par izmaiņām | H1: Priekšlikums MK atzinumam
B3: 15. Izglītības un zinātnes ministrija
A4: =IeM!A794+1 -> 26 | B4: 15. Izglītības un zinātnes ministrija | H4: Atbalstīt
B5: 4.pielikums
B6: 97.01.00 Ministrijas centrālā aparāta darbības nodrošināšana
B7: Resursi izdevumu segšanai | C7: 6225981 | D7: 0
B8: Izdevumi – kopā | C8: 6547603 | D8: 0
B9: Atlīdzība | C9: 5477345 | D9: 100000
B10: Preces un pakalpojumi | C10: 1061002 | D10: -100000
B11: 15. Izglītības un zinātnes ministrija
B12: 3.pielikums
B13: I. Valsts pamatfunkciju īstenošana
B14: 2025.gads
B15: Resursi izdevumu segšanai | C15: 449389371 | D15: 0
B16: Izdevumi – kopā | C16: 448706430 | D16: 0
B17: Atlīdzība | C17: 87629766 | D17: 100000
B18: Preces un pakalpojumi | C18: 24796443 | D18: -100000
B19: 2026.gads
B20: Resursi izdevumu segšanai | C20: 449526433 | D20: 0
B21: Izdevumi – kopā | C21: 448909703 | D21: 0
B22: Atlīdzība | C22: 87944170 | D22: 100000
B23: Preces un pakalpojumi | C23: 24796203 | D23: -100000
B24: Finansējuma pārdale starp izdevumu ekonomiskās klasifikācijas kodiem 2024.-2026. gadā un turpmāk ik gadu nepieciešama Izglītības un zinātnes ministrijas darbinieku kapacitātes stiprināšanai un daļēji izdevumu kompensēšanai jauno darbinieku atalgojuma segšanai, ņemot vērā ka prioritāra pasākuma “Valsts tiešās pārvaldes iestādēs nodarbināto atalgojuma palielināšana” ietvaros netika piešķirts papildu finansējums vakantām vietām. Pārdale plānota no Izglītības un zinātnes ministrijas saimnieciskajiem izdevumiem (sakari, komunālie maksājumi un iestādes administratīvās darbības nodrošināšanā), ņemot vērā faktisko līdzekļu nepieciešamību un vienreizējas izmaiņas, IZM telpu samazināšanas un darba vietas optimizēšanas ietekmē.
A26: =A4+1 -> 27 | B26: 15. Izglītības un zinātnes ministrija | E26: 15. Izglītības un zinātnes ministrija | H26: Atbalstīt
B27: 4.pielikums | E27: 4.pielikums
B28: 03.01.00 Augstākās izglītības programmu nodrošināšana | E28: 97.01.00 Ministrijas centrālā aparāta darbības nodrošināšana
B29: Resursi izdevumu segšanai | C29: 96897297 | D29: =D30 -> -287843 | E29: Resursi izdevumu segšanai | F29: 6225981 | G29: =G32 -> 287843
B30: Dotācija no vispārējiem ieņēmumiem | C30: 96642997 | D30: =+D31 -> -287843 | E30: Dotācija no vispārējiem ieņēmumiem | F30: 6053309 | G30: =+G31 -> 287843
B31: Vispārējā kārtībā sadalāmā dotācija no vispārējiem ieņēmumiem | C31: 96642997 | D31: =+D32 -> -287843 | E31: Vispārējā kārtībā sadalāmā dotācija no vispārējiem ieņēmumiem | F31: 6053309 | G31: =+G32 -> 287843
B32: Izdevumi – kopā | C32: 96897297 | D32: =D33 -> -287843 | E32: Izdevumi – kopā | F32: 6547603 | G32: =G33 -> 287843
B33: Uzturēšanas izdevumi | C33: 96853199 | D33: =D34 -> -287843 | E33: Uzturēšanas izdevumi | F33: 6540939 | G33: =G34 -> 287843
B34: Transferti viena budžeta veida ietvaros un uzturēšanas izdevumu transferti starp budžeta veidiem | C34: 93541530 | D34: =D35 -> -287843 | E34: Kārtējie izdevumi | F34: 6538347 | G34: =G35 -> 287843
B35: Pārējie valsts budžeta uzturēšanas izdevumu transferti citiem budžetiem | C35: 93541530 | D35: =D36 -> -287843 | E35: Atlīdzība | F35: 5477345 | G35: 287843
B36: Pārējie valsts budžeta uzturēšanas izdevumu transferti valsts budžeta daļēji finansētām atvasinātām publiskām personām un budžeta nefinansētām iestādēm | C36: 93541530 | D36: -287843
B37: 15. Izglītības un zinātnes ministrija
B38: 3.pielikums
B39: I. Valsts pamatfunkciju īstenošana
B40: 2025.gads
B41: Resursi izdevumu segšanai | C41: 449389371 | D41: 0
B42: Izdevumi – kopā | C42: 448706430 | D42: 0
B43: Kārtējie izdevumi | C43: 112426209 | D43: 287843
B44: Atlīdzība | C44: 87629766 | D44: 287843
B45: Transferti viena budžeta veida ietvaros un uzturēšanas izdevumu transferti starp budžeta veidiem | C45: 255024978 | D45: -287843
B46: Pārējie valsts budžeta uzturēšanas izdevumu transferti citiem budžetiem | C46: 254941211 | D46: -287843
B47: Pārējie valsts budžeta uzturēšanas izdevumu transferti valsts budžeta daļēji finansētām atvasinātām publiskām personām un budžeta nefinansētām iestādēm | C47: 200136575 | D47: -287843
B48: 2026.gads
B49: Resursi izdevumu segšanai | C49: 449526433 | D49: 0
B50: Izdevumi – kopā | C50: 448909703 | D50: 0
B51: Kārtējie izdevumi | C51: 112740373 | D51: 287843
B52: Atlīdzība | C52: 87944170 | D52: 287843
B53: Transferti viena budžeta veida ietvaros un uzturēšanas izdevumu transferti starp budžeta veidiem | C53: 253946084 | D53: -287843
B54: Pārējie valsts budžeta uzturēšanas izdevumu transferti citiem budžetiem | C54: 253946084 | D54: -287843
B55: Pārējie valsts budžeta uzturēšanas izdevumu transferti valsts budžeta daļēji finansētām atvasinātām publiskām personām un budžeta nefinansētām iestādēm | C55: 199416750 | D55: -287843
B56: Finansējuma pārdale starp Izglītības un zinātnes ministrijas budžeta apakšprogrammām 2024.-2026. gadā un turpmāk ik gadu nepieciešama Izglītības un zinātnes ministrijas politikas veidošanas, pārraudzības un administratīvās kapacitātes stiprināšanai, administratīvo funkciju centralizācijai un efektīvās darbības nodrošināšanai (0.3% no apakšprogrammas 03.01.00 izdevumiem) un daļēji izdevumu kompensēšanai darbinieku atalgojuma segšanai, ņemot vērā ka prioritāra pasākuma “Valsts tiešās pārvaldes iestādēs nodarbināto atalgojuma palielināšana” ietvaros netika piešķirts papildu finansējums vakantām vietām. Augstākās izglītības un arī zinātnes jomā tiek īstenotas vērienīgas reformas, kam ir nepieciešami kompetenti un motivēti darbinieki.
A58: =A26+1 -> 28 | B58: 15. Izglītības un zinātnes ministrija | E58: 15. Izglītības un zinātnes ministrija | H58: Atbalstīt
B59: 4.pielikums | E59: 4.pielikums
B60: 05.02.00 Zinātnes bāzes finansējums | E60: 97.01.00 Ministrijas centrālā aparāta darbības nodrošināšana
B61: Resursi izdevumu segšanai | C61: 48242592 | D61: =D62 -> -320378 | E61: Resursi izdevumu segšanai | F61: 6225981 | G61: =G64 -> 320378
B62: Dotācija no vispārējiem ieņēmumiem | C62: 48197592 | D62: =+D63 -> -320378 | E62: Dotācija no vispārējiem ieņēmumiem | F62: 6053309 | G62: =+G63 -> 320378
B63: Vispārējā kārtībā sadalāmā dotācija no vispārējiem ieņēmumiem | C63: 48197592 | D63: =+D64 -> -320378 | E63: Vispārējā kārtībā sadalāmā dotācija no vispārējiem ieņēmumiem | F63: 6053309 | G63: =+G64 -> 320378
B64: Izdevumi – kopā | C64: 48242592 | D64: =D65 -> -320378 | E64: Izdevumi – kopā | F64: 6547603 | G64: =G65 -> 320378
B65: Uzturēšanas izdevumi | C65: 47984734 | D65: =D66 -> -320378 | E65: Uzturēšanas izdevumi | F65: 6540939 | G65: =G66 -> 320378
B66: Transferti viena budžeta veida ietvaros un uzturēšanas izdevumu transferti starp budžeta veidiem | C66: 43853874 | D66: =D67 -> -320378 | E66: Kārtējie izdevumi | F66: 6538347 | G66: =G67 -> 320378
B67: Pārējie valsts budžeta uzturēšanas izdevumu transferti citiem budžetiem | C67: 43853874 | D67: =D68 -> -320378 | E67: Atlīdzība | F67: 5477345 | G67: 320378
B68: Pārējie valsts budžeta uzturēšanas izdevumu transferti valsts budžeta daļēji finansētām atvasinātām publiskām personām un budžeta nefinansētām iestādēm | C68: 43853874 | D68: -320378
B69: 15. Izglītības un zinātnes ministrija
B70: 3.pielikums
B71: I. Valsts pamatfunkciju īstenošana
B72: 2025.gads
B73: Resursi izdevumu segšanai | C73: 449389371 | D73: 0
B74: Izdevumi – kopā | C74: 448706430 | D74: 0
B75: Kārtējie izdevumi | C75: 112426209 | D75: =D76 -> 320378
B76: Atlīdzība | C76: 87629766 | D76: 320378
B77: Transferti viena budžeta veida ietvaros un uzturēšanas izdevumu transferti starp budžeta veidiem | C77: 255024978 | D77: -320378
B78: Pārējie valsts budžeta uzturēšanas izdevumu transferti citiem budžetiem | C78: 254941211 | D78: -320378
B79: Pārējie valsts budžeta uzturēšanas izdevumu transferti valsts budžeta daļēji finansētām atvasinātām publiskām personām un budžeta nefinansētām iestādēm | C79: 200136575 | D79: -320378
B80: 2026.gads
B81: Resursi izdevumu segšanai | C81: 449526433 | D81: 0
B82: Izdevumi – kopā | C82: 448909703 | D82: 0
B83: Kārtējie izdevumi | C83: 112740373 | D83: 320378
B84: Atlīdzība | C84: 87944170 | D84: 320378
B85: Transferti viena budžeta veida ietvaros un uzturēšanas izdevumu transferti starp budžeta veidiem | C85: 253946084 | D85: -320378
B86: Pārējie valsts budžeta uzturēšanas izdevumu transferti citiem budžetiem | C86: 253946084 | D86: -320378
B87: Pārējie valsts budžeta uzturēšanas izdevumu transferti valsts budžeta daļēji finansētām atvasinātām publiskām personām un budžeta nefinansētām iestādēm | C87: 199416750 | D87: -320378
B88: Finansējuma pārdale starp Izglītības un zinātnes ministrijas budžeta apakšprogrammām 2024.-2026. gadā un turpmāk ik gadu nepieciešama Izglītības un zinātnes ministrijas politikas veidošanas, pārraudzības un administratīvās kapacitātes stiprināšanai, administratīvo funkciju centralizācijai un efektīvās darbības nodrošināšanai (0.6% no apakšprogrammas 05.02.00 izdevumiem)un daļēji izdevumu kompensēšanai darbinieku atalgojuma segšanai, ņemot vērā ka prioritāra pasākuma “Valsts tiešās pārvaldes iestādēs nodarbināto atalgojuma palielināšana” ietvaros netika piešķirts papildu finansējums vakantām vietām. Augstākās izglītības un arī zinātnes jomā tiek īstenotas vērienīgas reformas, kam ir nepieciešami kompetenti un motivēti darbinieki.
A90: =A58+1 -> 29 | B90: 62. Mērķdotācijas pašvaldībām | E90: 15. Izglītības un zinātnes ministrija | H90: Atbalstīt
B91: 4.pielikums | E91: 4.pielikums
B92: 10.00.00. Mērķdotācijas pašvaldībām – pašvaldību izglītības iestādēs bērnu no piecu gadu vecuma izglītošanā nodarbināto pedagogu darba samaksai un valsts sociālās apdrošināšanas obligātajām iemaksām | E92: 01.05.00. Dotācija privātajām mācību iestādēm
B93: Resursi izdevumu segšanai | C93: =+C94 -> 80962209 | D93: =+D94 -> -20051 | E93: Resursi izdevumu segšanai | F93: 22851257 | G93: 20051
B94: Dotācija no vispārējiem ieņēmumiem | C94: =+C95 -> 80962209 | D94: =+D95 -> -20051 | E94: Dotācija no vispārējiem ieņēmumiem | F94: 22851257 | G94: 20051
B95: Vispārējā kārtībā sadalāmā dotācija no vispārējiem ieņēmumiem | C95: =+C96 -> 80962209 | D95: =+D96 -> -20051 | E95: Vispārējā kārtībā sadalāmā dotācija no vispārējiem ieņēmumiem | F95: 22851257 | G95: 20051
B96: Izdevumi – kopā | C96: =+C97 -> 80962209 | D96: =+D97 -> -20051 | E96: Izdevumi – kopā | F96: 22851257 | G96: 20051
B97: Uzturēšanas izdevumi | C97: =+C98 -> 80962209 | D97: =+D98 -> -20051 | E97: Uzturēšanas izdevumi | F97: 22851257 | G97: 20051
B98: Transferti viena budžeta veida ietvaros un uzturēšanas izdevumu transferti starp budžeta veidiem | C98: =+C99 -> 80962209 | D98: =+D99 -> -20051 | E98: Subsīdijas, dotācijas, sociālie maksājumi un kompensācijas | F98: 22638255 | G98: 20051
B99: Pārējie valsts budžeta uzturēšanas izdevumu transferti citiem budžetiem | C99: =+C100 -> 80962209 | D99: =+D100 -> -20051 | E99: Subsīdijas un dotācijas | F99: 22638255 | G99: 20051
B100: Pārējie valsts budžeta uzturēšanas izdevumu transferti pašvaldībām | C100: 80962209 | D100: -20051
B101: Lai nodrošinātu pedagogu darba samaksu 2024.gadā un turpmāk, ņemot vērā pedagogu minimālās algas likmes palielināšanu ar 2023.gada 1.septembri un 2024.gada 1.janvāri (Satversmes tiesas spriedums par pirmsskolu un pedagogu darba samaksas paaugstināšanas grafiks) un izglītojamo skaita (neieskaitot Ukrainas civiliedzīvotājus) un struktūras uz 2023.gada 1.septembri izmaiņu ietekmi (MK 03.10.2023. prot. Nr. 48 23. §, 3.punkts), veikta finansējuma pārdale: 2024. gadā 20 051 euro apmērā no 62. resora programmas 10.00.00. "Mērķdotācijas pašvaldībām – pašvaldību izglītības iestādēs bērnu no piecu gadu vecuma izglītošanā nodarbināto pedagogu darba samaksai un valsts sociālās apdrošināšanas obligātajām iemaksām" (tai skaitā 20 051 euro no prioritārā pasākuma 15_01_P "Lai īstenotu secīgu pāreju uz mācībām valsts valodā") uz 15. resora programmu 01.05.00. "Dotācija privātajām mācību iestādēm" (tai skaitā 20 051 euro apmērā uz prioritāro pasākumu 15_01_P "Lai īstenotu secīgu pāreju uz mācībām valsts valodā"). 2025. gadā 11 444 euro 15. resora apakšprogrammas 01.05.00. "Dotācija privātajām mācību iestādēm" ietvaros (tai skaitā 11 444 euro no prioritārā pasākuma 15_01_P "Lai īstenotu secīgu pāreju uz mācībām valsts valodā" uz prioritāro pasākumu 15_01_H "Pedagogu darba samaksas pieauguma grafika īstenošanas 2.solim no 2024. gada 1. janvāra" pārējiem izdevumiem pedagogu darba samaksai). 2026. gadā 6 676 euro 15. resora apakšprogrammas 01.05.00. "Dotācija privātajām mācību iestādēm" ietvaros (tai skaitā 6 676 euro no prioritārā pasākuma 15_01_P "Lai īstenotu secīgu pāreju uz mācībām valsts valodā" uz prioritāro pasākumu 15_01_H "Pedagogu darba samaksas pieauguma grafika īstenošanas 2.solim no 2024. gada 1. janvāra" pārējiem izdevumiem pedagogu darba samaksai).
A103: =A90+1 -> 30 | B103: Valsts budžeta ieņēmumi | E103: 15. Izglītības un zinātnes ministrija ministrija | H103: Atbalstīt
B104: 2.pielikums | E104: 4.pielikums
B105: Valsts pamatbudžeta ieņēmumi | E105: 42.03.00 Skolu jaunatnes dziesmu un deju svētki
...

Sheet SM
C1: Pieņemts pirmajā lasījumā | D1: Priekšlikums par izmaiņām | F1: Pieņemts pirmajā lasījumā | G1: Priekšlikums par izmaiņām | H1: Priekšlikums MK atzinumam
B3: 17. Satiksmes ministrija
A4: =IZM!A103+1 -> 31 | B4: 17 Satiksmes ministrija | E4: 17 Satiksmes ministrija | H4: Atbalstīt
B5: 4.pielikums | E5: 4.pielikums
B6: 04.04.00 Universālā pakalpojuma saistību izpildes radīto zaudējumu kompensācija elektronisko sakaru jomā | E6: 02.00.00 Kompensācijas par abonētās preses piegādi un saistību izpildi
B7: Resursi izdevumu segšanai | C7: =SUM(C8) -> 300000 | D7: =D8 -> -14946 | E7: Resursi izdevumu segšanai | F7: =SUM(F8) -> 6957500 | G7: =G8 -> 14946
B8: Dotācija no vispārējiem ieņēmumiem | C8: =SUM(C9) -> 300000 | D8: =D9 -> -14946 | E8: Dotācija no vispārējiem ieņēmumiem | F8: =SUM(F9) -> 6957500 | G8: =G9 -> 14946
B9: Vispārējā kārtībā sadalāmā dotācija no vispārējiem ieņēmumiem | C9: 300000 | D9: -14946 | E9: Vispārējā kārtībā sadalāmā dotācija no vispārējiem ieņēmumiem | F9: 6957500 | G9: 14946
B10: Izdevumi – kopā | C10: =SUM(C11) -> 300000 | D10: =D11 -> -14946 | E10: Izdevumi – kopā | F10: =SUM(F11) -> 6957500 | G10: =G11 -> 14946
B11: Uzturēšanas izdevumi | C11: =SUM(C12) -> 300000 | D11: =D12 -> -14946 | E11: Uzturēšanas izdevumi | F11: =SUM(F12) -> 6957500 | G11: =G12 -> 14946
B12: Subsīdijas, dotācijas, sociālie maksājumi un kompensācijas | C12: =SUM(C13) -> 300000 | D12: =D13 -> -14946 | E12: Subsīdijas, dotācijas, sociālie maksājumi un kompensācijas | F12: =SUM(F13) -> 6957500 | G12: =G13 -> 14946
B13: Subsīdijas un dotācijas | C13: 300000 | D13: -14946 | E13: Subsīdijas un dotācijas | F13: 6957500 | G13: 14946
B14: Tā kā SIA „Tet” aprēķinātās 2022.gada universālā pakalpojuma saistību tīrās izmaksas tika apstiprinātas 285 054 EUR apmērā, bet šim mērķim 2024.gada valsts budžetā paredzēts finansējums EUR 300 000 apmērā, atbalstot prioritāro pasākumu "SIA "Tet" 2022.gadā sniegtā universālā pakalpojuma saistību izpildes radīto zaudējumu kompensācija", tad par atlikušo summu 14 946 EUR apmērā paredzēts kompensēt VAS “Latvijas Pasts” universālā pasta pakalpojuma saistību izpildes tīrās izmaksas, jo 2024.gadā budžetā paredzētais finansējums to apmaksai indikatīvi ir nepietiekams.
A16: =A4+1 -> 32 | B16: 17 Satiksmes ministrija | E16: 17 Satiksmes ministrija | H16: Atbalstīt
B17: 4.pielikums | E17: 4.pielikums
B18: 2024. gads | E18: 2024. gads
B19: 23.06.00 Valsts autoceļu uzturēšana un atjaunošana | E19: 23.04.00 Mērķdotācijas pašvaldību autoceļiem (ielām)
B20: Resursi izdevumu segšanai | C20: =SUM(C21,C22) -> 210679185 | D20: =SUM(D21,D22) -> -194676 | E20: Resursi izdevumu segšanai | F20: =SUM(F22) -> 59930899 | G20: =SUM(G22) -> 194676
B21: Ieņēmumi no maksas pakalpojumiem un citi pašu ieņēmumi – kopā | C21: 142287 | E21: Dotācija no vispārējiem ieņēmumiem | F21: =SUM(F22) -> 59930899 | G21: =SUM(G22) -> 194676
B22: Dotācija no vispārējiem ieņēmumiem | C22: =SUM(C23) -> 210536898 | D22: =SUM(D23) -> -194676 | E22: Vispārējā kārtībā sadalāmā dotācija no vispārējiem ieņēmumiem | F22: 59930899 | G22: 194676
B23: Vispārējā kārtībā sadalāmā dotācija no vispārējiem ieņēmumiem | C23: 210536898 | D23: -194676 | E23: Izdevumi – kopā | F23: =SUM(F24,F28) -> 59930899 | G23: =SUM(G24,G28) -> 194676
B24: Izdevumi – kopā | C24: =SUM(C25,C28) -> 210679185 | D24: =SUM(D25,D28) -> -194676 | E24: Uzturēšanas izdevumi | F24: =SUM(F25) -> 43670738 | G24: =SUM(G25) -> 194676
B25: Uzturēšanas izdevumi | C25: =SUM(C26) -> 69362000 | D25: =SUM(D26) -> -194676 | E25: Transferti viena budžeta veida ietvaros un uzturēšanas izdevumu transferti starp budžeta veidiem | F25: =SUM(F26) -> 43670738 | G25: =SUM(G26) -> 194676
B26: Kārtējie izdevumi | C26: =SUM(C27) -> 69362000 | D26: =SUM(D27) -> -194676 | E26: Pārējie valsts budžeta uzturēšanas izdevumu transferti citiem budžetiem | F26: =SUM(F27) -> 43670738 | G26: =SUM(G27) -> 194676
B27: Preces un pakalpojumi | C27: 69362000 | D27: -194676 | E27: Pārējie valsts budžeta uzturēšanas izdevumu transferti pašvaldībām | F27: 43670738 | G27: 194676
B28: Kapitālie izdevumi | C28: =SUM(C29,C30) -> 141317185 | D28: =SUM(D29,D30) -> 0 | E28: Kapitālie izdevumi | F28: =SUM(F29) -> 16260161 | G28: =SUM(G29) -> 0
B29: Pamatkapitāla veidošana | C29: 138317185 | E29: Kapitālo izdevumu transferti | F29: =SUM(F30) -> 16260161 | G29: =SUM(G30) -> 0
B30: Kapitālo izdevumu transferti | C30: =SUM(C31) -> 3000000 | D30: =SUM(D31) -> 0 | E30: Pārējie valsts budžeta kapitālo izdevumu transferti citiem budžetiem | F30: =SUM(F31) -> 16260161 | G30: =SUM(G31) -> 0
B31: Pārējie valsts budžeta kapitālo izdevumu transferti citiem budžetiem | C31: =SUM(C32) -> 3000000 | D31: =SUM(D32) -> 0 | E31: Pārējie valsts budžeta kapitālo izdevumu transferti pašvaldībām | F31: 16260161
B32: Pārējie valsts budžeta kapitālo izdevumu transferti pašvaldībām | C32: 3000000
B33: 17 Satiksmes ministrija
B34: 3.pielikums
B35: I. Valsts pamatfunkciju īstenošana
B36: 2025. gads
B37: Resursi izdevumu segšanai | C37: =SUM(C38,C39,C44) -> 474720966
B38: Ieņēmumi no maksas pakalpojumiem un citi pašu ieņēmumi – kopā | C38: 1052287
B39: Transferti | C39: =SUM(C40) -> 464222
B40: Valsts budžeta transferti | C40: =SUM(C41) -> 464222
B41: Valsts pamatbudžeta savstarpējie transferti | C41: =SUM(C42) -> 464222
B42: Valsts pamatbudžeta iestāžu saņemtie transferti no valsts pamatbudžeta | C42: =SUM(C43) -> 464222
B43: Valsts pamatbudžeta iestāžu saņemtie transferti no valsts pamatbudžeta dotācijas no vispārējiem ieņēmumiem | C43: 464222
B44: Dotācija no vispārējiem ieņēmumiem | C44: =SUM(C45) -> 473204457
B45: Vispārējā kārtībā sadalāmā dotācija no vispārējiem ieņēmumiem | C45: 473204457
B46: Izdevumi - kopā | C46: =SUM(C47,C61) -> 475068935
B47: Uzturēšanas izdevumi | C47: =SUM(C48,C51,C53,C55) -> 310432868
B48: Kārtējie izdevumi | C48: =SUM(C49,C50) -> 79411162 | D48: -194676
B49: Atlīdzība | C49: 5975352
B50: Preces un pakalpojumi | C50: 73435810 | D50: -194676
B51: Subsīdijas, dotācijas, sociālie maksājumi un kompensācijas | C51: =SUM(C52) -> 171200378
B52: Subsīdijas un dotācijas | C52: 171200378
B53: Kārtējie maksājumi Eiropas Savienības budžetā un starptautiskā sadarbība | C53: =SUM(C54) -> 333220
B54: Starptautiskā sadarbība | C54: 333220
B55: Transferti viena budžeta veida ietvaros un uzturēšanas izdevumu transferti starp budžeta veidiem | C55: =SUM(C56,C58) -> 59488108 | D55: 194676
B56: Valsts budžeta transferti un uzturēšanas izdevumu transferti | C56: =SUM(C57) -> 2592
B57: Valsts budžeta uzturēšanas izdevumu transferti no valsts pamatbudžeta uz valsts speciālo budžetu | C57: 2592
B58: Pārējie valsts budžeta uzturēšanas izdevumu transferti citiem budžetiem | C58: =SUM(C59:C60) -> 59485516 | D58: 194676
B59: Pārējie valsts budžeta uzturēšanas izdevumu transferti pašvaldībām | C59: 59220916 | D59: 194676
B60: Pārējie valsts budžeta uzturēšanas izdevumu transferti valsts budžeta daļēji finansētām atvasinātām publiskām personām un budžeta nefinansētām iestādēm | C60: 264600
B61: Kapitālie izdevumi | C61: =SUM(C62,C63) -> 164636067
B62: Pamatkapitāla veidošana | C62: 145458406
B63: Kapitālo izdevumu transferti | C63: =SUM(C64) -> 19177661
B64: Pārējie valsts budžeta kapitālo izdevumu transferti citiem budžetiem | C64: =SUM(C65) -> 19177661
B65: Pārējie valsts budžeta kapitālo izdevumu transferti pašvaldībām | C65: 19177661
B66: Finansiālā bilance | C66: =SUM(C37-C46) -> -347969
B67: Finansēšana | C67: =SUM(C68) -> 347969
B68: Naudas līdzekļi | C68: =SUM(C69) -> 347969
B69: Maksas pakalpojumu un citu pašu ieņēmumu naudas līdzekļu atlikumu izmaiņas palielinājums (-) vai samazinājums (+) | C69: 347969
B70: 2026. gads
B71: Resursi izdevumu segšanai | C71: =SUM(C72,C73,C78) -> 472046655
B72: Ieņēmumi no maksas pakalpojumiem un citi pašu ieņēmumi – kopā | C72: 1052287
B73: Transferti | C73: =SUM(C74) -> 464222
B74: Valsts budžeta transferti | C74: =SUM(C75) -> 464222
B75: Valsts pamatbudžeta savstarpējie transferti | C75: =SUM(C76) -> 464222
B76: Valsts pamatbudžeta iestāžu saņemtie transferti no valsts pamatbudžeta | C76: =SUM(C77) -> 464222
B77: Valsts pamatbudžeta iestāžu saņemtie transferti no valsts pamatbudžeta dotācijas no vispārējiem ieņēmumiem | C77: 464222
B78: Dotācija no vispārējiem ieņēmumiem | C78: =SUM(C79) -> 470530146
B79: Vispārējā kārtībā sadalāmā dotācija no vispārējiem ieņēmumiem | C79: 470530146
B80: Izdevumi - kopā | C80: =SUM(C81,C95) -> 472046655
B81: Uzturēšanas izdevumi | C81: =SUM(C82,C85,C87,C89) -> 307410588
B82: Kārtējie izdevumi | C82: =SUM(C83,C84) -> 79063193 | D82: -194676
B83: Atlīdzība | C83: 5975352
B84: Preces un pakalpojumi | C84: 73087841 | D84: -194676
B85: Subsīdijas, dotācijas, sociālie maksājumi un kompensācijas | C85: =SUM(C86) -> 168526067
B86: Subsīdijas un dotācijas | C86: 168526067
B87: Kārtējie maksājumi Eiropas Savienības budžetā un starptautiskā sadarbība | C87: =SUM(C88) -> 333220
B88: Starptautiskā sadarbība | C88: 333220
B89: Transferti viena budžeta veida ietvaros un uzturēšanas izdevumu transferti starp budžeta veidiem | C89: =SUM(C90,C92) -> 59488108 | D89: 194676
B90: Valsts budžeta transferti un uzturēšanas izdevumu transferti | C90: =SUM(C91) -> 2592
B91: Valsts budžeta uzturēšanas izdevumu transferti no valsts pamatbudžeta uz valsts speciālo budžetu | C91: 2592
B92: Pārējie valsts budžeta uzturēšanas izdevumu transferti citiem budžetiem | C92: =SUM(C93:C94) -> 59485516 | D92: 194676
B93: Pārējie valsts budžeta uzturēšanas izdevumu transferti pašvaldībām | C93: 59220916 | D93: 194676
B94: Pārējie valsts budžeta uzturēšanas izdevumu transferti valsts budžeta daļēji finansētām atvasinātām publiskām personām un budžeta nefinansētām iestādēm | C94: 264600
B95: Kapitālie izdevumi | C95: =SUM(C96,C97) -> 164636067
B96: Pamatkapitāla veidošana | C96: 145458406
B97: Kapitālo izdevumu transferti | C97: =SUM(C98) -> 19177661
B98: Pārējie valsts budžeta kapitālo izdevumu transferti citiem budžetiem | C98: =SUM(C99) -> 19177661
B99: Pārējie valsts budžeta kapitālo izdevumu transferti pašvaldībām | C99: 19177661
B100: Saskaņā ar Ministru kabineta 2008. gada 11. marta noteikumu Nr. 173 “Valsts pamatbudžeta valsts autoceļu fonda programmai piešķirto līdzekļu izlietošanas kārtība” 9.¹ un 9.² punktā noteikto, samazināt finansējumu valsts budžeta apakšprogrammai 23.06.00 “Valsts autoceļu uzturēšana un atjaunošana” EKK 2000 “Preces un pakalpojumi” 2024., 2025. un 2026. gadā par 194 676 euro un palielināt finansējumu valsts budžeta apakšprogrammai 23.04.00 “Mērķdotācijas pašvaldību autoceļiem (ielām)” EKK 7460 “Pārējie valsts budžeta uzturēšanas izdevumu transferti pašvaldībām” 2024., 2025. un 2026. gadā par 194 676 euro papildu mērķdotācijas maksājumu veikšanai pašvaldībām par 124,792 km valsts vietējo autoceļu pārņemšanu īpašumā.

Sheet LM PB
C1: Pieņemts pirmajā lasījumā | D1: Priekšlikums par izmaiņām | F1: Pieņemts pirmajā lasījumā | G1: Priekšlikums par izmaiņām | H1: Priekšlikums MK atzinumam
B3: 18. Labklājības ministrija
A4: =SM!A16+1 -> 33 | B4: 74. Gadskārtējā valsts budžeta izpildes procesā pārdalāmais finansējums | E4: 18. Labklājības ministrija | H4: Atbalstīt
B5: 4.pielikums | E5: 4.pielikums
B6: 02.00.00 Līdzekļi neparedzētiem gadījumiem | E6: 05.01.00 Sociālās rehabilitācijas valsts programmas | F6: `
B7: Resursi izdevumu segšanai | C7: =C8 -> 127226869 | D7: =D8 -> -5542020 | E7: Resursi izdevumu segšanai | F7: =F8 -> 107586576 | G7: =G8 -> 5542020
B8: Dotācija no vispārējiem ieņēmumiem | C8: =C9 -> 127226869 | D8: =D9 -> -5542020 | E8: Dotācija no vispārējiem ieņēmumiem | F8: =F9 -> 107586576 | G8: =G9 -> 5542020
B9: Vispārējā kārtībā sadalāmā dotācija no vispārējiem ieņēmumiem | C9: =C10 -> 127226869 | D9: =D10 -> -5542020 | E9: Vispārējā kārtībā sadalāmā dotācija no vispārējiem ieņēmumiem | F9: =F10 -> 107586576 | G9: =G10 -> 5542020
B10: Izdevumi – kopā | C10: =C11 -> 127226869 | D10: =D11 -> -5542020 | E10: Izdevumi - kopā | F10: =F11 -> 107586576 | G10: =G11 -> 5542020
B11: Uzturēšanas izdevumi | C11: =C12 -> 127226869 | D11: =D12 -> -5542020 | E11: Uzturēšanas izdevumi | F11: =F12+F14+F16 -> 107586576 | G11: =G12+G14+G16 -> 5542020
B12: Subsīdijas, dotācijas, sociālie maksājumi un kompensācijas | C12: =C13 -> 127226869 | D12: =D13 -> -5542020 | E12: Kārtējie izdevumi | F12: =F13 -> 71603
B13: Subsīdijas un dotācijas | C13: 127226869 | D13: =-5542020 -> -5542020 | E13: Preces un pakalpojumi | F13: 71603
E14: Subsīdijas, dotācijas, sociālie maksājumi un kompensācijas | F14: =F15 -> 33720174
E15: Subsīdijas un dotācijas | F15: 33720174
E16: Transferti viena budžeta veida ietvaros un uzturēšanas izdevumu transferti starp budžeta veidiem | F16: =F17 -> 73794799 | G16: =G17 -> 5542020
E17: Pārējie valsts budžeta uzturēšanas izdevumu transferti citiem budžetiem | F17: =F18 -> 73794799 | G17: =G18 -> 5542020
E18: Pārējie valsts budžeta uzturēšanas izdevumu transferti pašvaldībām | F18: 73794799 | G18: 5542020
B19: 74. Gadskārtējā valsts budžeta izpildes procesā pārdalāmais finansējums | E19: 18. Labklājības ministrija
B20: 3.pielikums | E20: 3.pielikums
B21: I. Valsts pamatfunkciju īstenošana | E21: I. Valsts pamatfunkciju īstenošana
B22: 2025.gads | E22: 2025.gads
B23: Resursi izdevumu segšanai | C23: =C24 -> 920111247 | D23: =D24 -> -5542020 | E23: Resursi izdevumu segšanai | F23: =F24+F25+F31 -> 1096916548 | G23: =G31 -> 5542020
B24: Dotācija no vispārējiem ieņēmumiem | C24: =C25 -> 920111247 | D24: =D25 -> -5542020 | E24: Ieņēmumi no maksas pakalpojumiem un citi pašu ieņēmumi – kopā | F24: 10702110
B25: Vispārējā kārtībā sadalāmā dotācija no vispārējiem ieņēmumiem | C25: =C26 -> 920111247 | D25: =D26 -> -5542020 | E25: Transferti | F25: =F26 -> 122735
B26: Izdevumi – kopā | C26: =C27 -> 920111247 | D26: =D27 -> -5542020 | E26: Valsts budžeta transferti | F26: =F27+F30 -> 122735
B27: Uzturēšanas izdevumi | C27: =C28 -> 920111247 | D27: =D28 -> -5542020 | E27: Valsts pamatbudžeta savstarpējie transferti | F27: =F28 -> 107735
B28: Subsīdijas, dotācijas, sociālie maksājumi un kompensācijas | C28: =C29 -> 920111247 | D28: =D29 -> -5542020 | E28: Valsts pamatbudžeta iestāžu saņemtie transferti no valsts pamatbudžeta | F28: =F29 -> 107735
B29: Subsīdijas un dotācijas | C29: 920111247 | D29: -5542020 | E29: Valsts pamatbudžeta iestāžu saņemtie transferti no valsts pamatbudžeta dotācijas no vispārējiem ieņēmumiem | F29: 107735
E30: Valsts pamatbudžetā saņemtie transferti no valsts speciālā budžeta | F30: 15000
E31: Dotācija no vispārējiem ieņēmumiem | F31: =F32 -> 1086091703 | G31: =G32 -> 5542020
E32: Vispārējā kārtībā sadalāmā dotācija no vispārējiem ieņēmumiem | F32: 1086091703 | G32: =G33 -> 5542020
E33: Izdevumi - kopā | F33: =F34+F48 -> 1096916548 | G33: =G34+G48 -> 5542020
E34: Uzturēšanas izdevumi | F34: =F35+F38+F41+F43 -> 1095343690 | G34: =G35+G38+G41+G43 -> 5542020
E35: Kārtējie izdevumi | F35: =F36+F37 -> 101821129
E36: Atlīdzība | F36: 80655896
E37: Preces un pakalpojumi | F37: 21165233
E38: Subsīdijas, dotācijas, sociālie maksājumi un kompensācijas | F38: =F39+F40 -> 580168129
E39: Subsīdijas un dotācijas | F39: 38604790
E40: Sociāla rakstura maksājumi un kompensācijas | F40: 541563339
E41: Kārtējie maksājumi Eiropas Savienības budžetā un starptautiskā sadarbība | F41: =F42 -> 231992
E42: Starptautiskā sadarbība | F42: 231992
E43: Transferti viena budžeta veida ietvaros un uzturēšanas izdevumu transferti starp budžeta veidiem | F43: =F44+F46 -> 413122440 | G43: =G44+G46 -> 5542020
E44: Valsts budžeta transferti un uzturēšanas izdevumu transferti | F44: =F45 -> 331426944
E45: Valsts budžeta uzturēšanas izdevumu transferti no valsts pamatbudžeta uz valsts speciālo budžetu | F45: 331426944
E46: Pārējie valsts budžeta uzturēšanas izdevumu transferti citiem budžetiem | F46: =F47 -> 81695496 | G46: =G47 -> 5542020
E47: Pārējie valsts budžeta uzturēšanas izdevumu transferti pašvaldībām | F47: 81695496 | G47: 5542020
E48: Kapitālie izdevumi | F48: =F49+F50 -> 1572858
E49: Pamatkapitāla veidošana | F49: 1361786
E50: Kapitālo izdevumu transferti | F50: =F52 -> 211072
E51: Valsts budžeta kapitālo izdevumu transferti | F51: =F52 -> 211072
E52: Valsts budžeta kapitālo izdevumu transferti no valsts pamatbudžeta uz valsts speciālo budžetu | F52: 211072
B53: 2026.gads | E53: 2026.gads
B54: Resursi izdevumu segšanai | C54: =C55 -> 527160746 | D54: =D55 -> -5542020 | E54: Resursi izdevumu segšanai | F54: =F55+F56+F62 -> 1177788212 | G54: =G62 -> 5542020
B55: Dotācija no vispārējiem ieņēmumiem | C55: =C56 -> 527160746 | D55: =D56 -> -5542020 | E55: Ieņēmumi no maksas pakalpojumiem un citi pašu ieņēmumi – kopā | F55: 11173826
B56: Vispārējā kārtībā sadalāmā dotācija no vispārējiem ieņēmumiem | C56: =C57 -> 527160746 | D56: =D57 -> -5542020 | E56: Transferti | F56: =F57 -> 122735
B57: Izdevumi – kopā | C57: =C58 -> 527160746 | D57: =D58 -> -5542020 | E57: Valsts budžeta transferti | F57: =F58+F61 -> 122735
B58: Uzturēšanas izdevumi | C58: =C59 -> 527160746 | D58: =D59 -> -5542020 | E58: Valsts pamatbudžeta savstarpējie transferti | F58: =F59 -> 107735
B59: Subsīdijas, dotācijas, sociālie maksājumi un kompensācijas | C59: =C60 -> 527160746 | D59: =D60 -> -5542020 | E59: Valsts pamatbudžeta iestāžu saņemtie transferti no valsts pamatbudžeta | F59: =F60 -> 107735
B60: Subsīdijas un dotācijas | C60: 527160746 | D60: -5542020 | E60: Valsts pamatbudžeta iestāžu saņemtie transferti no valsts pamatbudžeta dotācijas no vispārējiem ieņēmumiem | F60: 107735
E61: Valsts pamatbudžetā saņemtie transferti no valsts speciālā budžeta | F61: 15000
E62: Dotācija no vispārējiem ieņēmumiem | F62: =F63 -> 1166491651 | G62: =G63 -> 5542020
E63: Vispārējā kārtībā sadalāmā dotācija no vispārējiem ieņēmumiem | F63: 1166491651 | G63: =G64 -> 5542020
E64: Izdevumi - kopā | F64: =F65+F79 -> 1177788212 | G64: =G65+G79 -> 5542020
E65: Uzturēšanas izdevumi | F65: =F66+F69+F72+F74 -> 1176301189 | G65: =G66+G69+G72+G74 -> 5542020
E66: Kārtējie izdevumi | F66: =F67+F68 -> 103385339
E67: Atlīdzība | F67: 81793213
E68: Preces un pakalpojumi | F68: 21592126
E69: Subsīdijas, dotācijas, sociālie maksājumi un kompensācijas | F69: =F70+F71 -> 599130075
E70: Subsīdijas un dotācijas | F70: 39188065
E71: Sociāla rakstura maksājumi un kompensācijas | F71: 559942010
E72: Kārtējie maksājumi Eiropas Savienības budžetā un starptautiskā sadarbība | F72: =F73 -> 231992
E73: Starptautiskā sadarbība | F73: 231992
E74: Transferti viena budžeta veida ietvaros un uzturēšanas izdevumu transferti starp budžeta veidiem | F74: =F75+F77 -> 473553783 | G74: =G75+G77 -> 5542020
E75: Valsts budžeta transferti un uzturēšanas izdevumu transferti | F75: =F76 -> 388875078
E76: Valsts budžeta uzturēšanas izdevumu transferti no valsts pamatbudžeta uz valsts speciālo budžetu | F76: 388875078
E77: Pārējie valsts budžeta uzturēšanas izdevumu transferti citiem budžetiem | F77: =F78 -> 84678705 | G77: =G78 -> 5542020
E78: Pārējie valsts budžeta uzturēšanas izdevumu transferti pašvaldībām | F78: 84678705 | G78: 5542020
E79: Kapitālie izdevumi | F79: =F80+F81 -> 1487023
E80: Pamatkapitāla veidošana | F80: 1308546
E81: Kapitālo izdevumu transferti | F81: =F83 -> 178477
E82: Valsts budžeta kapitālo izdevumu transferti | F82: =F83 -> 178477
E83: Valsts budžeta kapitālo izdevumu transferti no valsts pamatbudžeta uz valsts speciālo budžetu | F83: 178477
B84: Papildu finansējums, lai ar 2024.gada 1.janvāri valsts piedalītos ar līdzfinansējumu 30% apmērā aprūpes mājās pakalpojuma nodrošināšanā bērniem ar invaliditāti, kuriem ir izsniegts Veselības un darbspēju ekspertīzes ārstu valsts komisijas atzinums par īpašas kopšanas nepieciešamību, līdzfinansējumu minētajam pakalpojumam nodrošinot bērnam arī pēc pilngadības sasniegšanas līdz persona sasniedz 24 gadu vecumu atbilstoši likumprojektam “Grozījums Sociālo pakalpojumu un sociālās palīdzības likumā” (MK 24.10.2023. sēdes prot. Nr.53 51.§).
A86: =A4+1 -> 34 | B86: Valsts budžeta ieņēmumi | E86: 18. Labklājības ministrija | H86: Atbalstīt
B87: 2.pielikums | E87: 4.pielikums
B88: Valsts pamatbudžeta ieņēmumi | E88: 05.01.00 Sociālās rehabilitācijas valsts programmas | F88: `
B89: 2024.gads | E89: Resursi izdevumu segšanai | F89: =F90 -> 107586576 | G89: =G90 -> 350000
B90: Ieņēmumi no dividendēm (ieņēmumi no valsts (pašvaldību) kapitāla izmantošanas) | C90: 373206565 | D90: 350000 | E90: Dotācija no vispārējiem ieņēmumiem | F90: =F91 -> 107586576 | G90: =G91 -> 350000
E91: Vispārējā kārtībā sadalāmā dotācija no vispārējiem ieņēmumiem | F91: =F92 -> 107586576 | G91: =G92 -> 350000
E92: Izdevumi - kopā | F92: =F93 -> 107586576 | G92: =G93 -> 350000
E93: Uzturēšanas izdevumi | F93: =F94+F96+F98 -> 107586576 | G93: =G94+G96+G98 -> 350000
E94: Kārtējie izdevumi | F94: =F95 -> 71603
E95: Preces un pakalpojumi | F95: 71603
E96: Subsīdijas, dotācijas, sociālie maksājumi un kompensācijas | F96: =F97 -> 33720174 | G96: =G97 -> 350000
E97: Subsīdijas un dotācijas | F97: 33720174 | G97: 350000
E98: Transferti viena budžeta veida ietvaros un uzturēšanas izdevumu transferti starp budžeta veidiem | F98: =F99 -> 73794799
E99: Pārējie valsts budžeta uzturēšanas izdevumu transferti citiem budžetiem | F99: =F100 -> 73794799
E100: Pārējie valsts budžeta uzturēšanas izdevumu transferti pašvaldībām | F100: 73794799
B101: Papildu finansējums 2024.gadā nodibinājumam “Bērnu slimnīcas fonds” pilotprojekta īstenošanai, lai nodrošinātu psihosociālo rehabilitāciju-uzturošo terapiju bērniem pēc autisma diagnosticēšanas un agrīnās intervences programmas. Uzturošās terapijas ietvaros paredzēts nodrošināt multiprofesionālas komandas darbu un dažādas psihosociālas rehabilitācijas metodes: ABA terapijas, ergoterapijas, logopēda, speciālā pedagoga nodarbības bērniem ar autiskā spektra traucējumiem, kas tiek nodrošinātas, pamatojoties uz ārsta rekomendāciju, bet maksimums divas nodarbības nedēļā. Finansējuma avots: AS “Latvijas valsts meži” iemaksas valsts budžetā.
A103: =A86+1 -> 35 | B103: 18. Labklājības ministrija (speciālais budžets) | E103: 18. Labklājības ministrija | H103: Atbalstīt
...

Sheet VARAM
C1: Pieņemts pirmajā lasījumā | D1: Priekšlikums par izmaiņām | F1: Pieņemts pirmajā lasījumā | G1: Priekšlikums par izmaiņām | H1: Priekšlikums MK atzinumam
B3: 21. Vides aizsardzības un reģionālās attīstības ministrija
A4: ='LM PB'!A103+1 -> 36 | B4: 21. Vides aizsardzības un reģionālās attīstības ministrija | E4: 21. Vides aizsardzības un reģionālās attīstības ministrija | H4: Atbalstīt
B5: 4. pielikums | E5: 4. pielikums
B6: 21.02.00. Vides aizsardzības projekti | E6: 97.00.00. Nozaru vadība un politikas plānošana
B7: Resursi izdevumu segšanai | C7: 4152803 | D7: -12158 | E7: Resursi izdevumu segšanai | F7: 10646889 | G7: 90018
B8: Dotācija no vispārējiem ieņēmumiem | C8: 4152803 | D8: -12158 | E8: Dotācija no vispārējiem ieņēmumiem | F8: 10646889 | G8: 90018
B9: Vispārējā kārtībā sadalāmā dotācija no vispārējiem ieņēmumiem | C9: 4152803 | D9: -12158 | E9: Vispārējā kārtībā sadalāmā dotācija no vispārējiem ieņēmumiem | F9: 10646889 | G9: 90018
B10: Izdevumi – kopā | C10: 4152803 | D10: -12158 | E10: Izdevumi – kopā | F10: 10646889 | G10: 90018
B11: Uzturēšanas izdevumi | C11: 4152803 | D11: -12158 | E11: Uzturēšanas izdevumi | F11: 10450547 | G11: 90018
B12: Subsīdijas, dotācijas, sociālie maksājumi un kompensācijas | C12: 3400645 | E12: Kārtējie izdevumi | F12: 10445131 | G12: 90018
B13: Subsīdijas un dotācijas | C13: 3400645 | E13: Atlīdzība | F13: 8883355 | G13: 71058
B14: Transferti viena budžeta veida ietvaros un uzturēšanas izdevumu transferti starp budžeta veidiem | C14: 752158 | D14: -12158 | E14: Preces un pakalpojumi | F14: 1561776 | G14: 18960
B15: Pārējie valsts budžeta uzturēšanas izdevumu transferti citiem budžetiem | C15: 752158 | D15: -12158 | E15: Transferti viena budžeta veida ietvaros un uzturēšanas izdevumu transferti starp budžeta veidiem | F15: 5416
B16: Pārējie valsts budžeta uzturēšanas izdevumu transferti pašvaldībām | C16: 402158 | D16: -12158 | E16: Valsts budžeta transferi un uzturēšanas izdevumu transferti | F16: 5416
B17: Pārējie valsts budžeta uzturēšanas izdevumu transferti valsts budžeta daļēji finansētām atvasinātām publiskām personām un budžeta nefinansētām iestādēm | C17: 350000 | E17: Valsts budžeta uzturēšanas izdevumu transferti no valsts pamatbudžeta uz valsts speciālo budžetu | F17: 5416
B18: 24.08.00. Nacionālo parku darbības nodrošināšana | E18: Kapitālie izdevumi | F18: 196342
B19: Resursi izdevumu segšanai | C19: 7273383 | D19: -77860 | E19: Pamatkapitāla veidošana | F19: 196342
B20: Ieņēmumi no maksas pakalpojumiem un citi pašu ieņēmumi – kopā | C20: 365476
B21: Dotācija no vispārējiem ieņēmumiem | C21: 6907907 | D21: -77860
B22: Vispārējā kārtībā sadalāmā dotācija no vispārējiem ieņēmumiem | C22: 6907907 | D22: -77860
B23: Izdevumi – kopā | C23: 7273383 | D23: -77860
B24: Uzturēšanas izdevumi | C24: 6928001 | D24: -77860
B25: Kārtējie izdevumi | C25: 6030537
B26: Atlīdzība | C26: 3303929
B27: Preces un pakalpojumi | C27: 2726608
B28: Subsīdijas, dotācijas, sociālie maksājumi un kompensācijas | C28: 897464 | D28: -77860
B29: Sociāla rakstura maksājumi un kompensācijas | C29: 897464 | D29: -77860
B30: Kapitālie izdevumi | C30: 345382
B31: Pamatkapitāla veidošana | C31: 345382
B32: 21. Vides aizsardzības un reģionālās attīstības ministrija
B33: 3. pielikums
B34: I. Valsts pamatfunkciju īstenošana
B35: 2025. gads
B36: Resursi izdevumu segšanai | C36: 61344694 | D36: 0
B37: Ieņēmumi no maksas pakalpojumiem un citi pašu ieņēmumi | C37: 614735
B38: Transferti | C38: 465401
B39: Valsts budžeta transferti | C39: 465401
B40: Valsts pamatbudžeta savstarpējie transferti | C40: 465401
B41: Valsts pamatbudžeta iestāžu saņemtie transferti no valsts pamatbudžeta | C41: 465401
B42: Valsts pamatbudžeta iestāžu saņemtie transferti no valsts pamatbudžeta dotācijas no vispārējiem ieņēmumiem | C42: 465401
B43: Dotācija no vispārējiem ieņēmumiem | C43: 60264558
B44: Vispārējā kārtībā sadalāmā dotācija no vispārējiem ieņēmumiem | C44: 60264558
B45: Izdevumi – kopā | C45: 61344694 | D45: 0
B46: Uzturēšanas izdevumi | C46: 55855362
B47: Kārtējie izdevumi | C47: 37628274 | D47: 90018
B48: Atlīdzība | C48: 26245974 | D48: 71058
B49: Preces un pakalpojumi | C49: 11382300 | D49: 18960
B50: Subsīdijas, dotācijas, sociālie maksājumi un kompensācijas | C50: 10494443 | D50: -77860
B51: Subsīdijas un dotācijas | C51: 9596979
B52: Sociāla rakstura maksājumi un kompensācijas | C52: 897464 | D52: -77860
B53: Kārtējie maksājumi Eiropas Savienības budžetā un starptautiskā sadarbība | C53: 1552491
B54: Starptautiskā sadarbība | C54: 1552491
B55: Transferti viena budžeta veida ietvaros un uzturēšanas izdevumu transferti starp budžeta veidiem | C55: 6180154 | D55: -12158
B56: Valsts budžeta transferti un uzturēšanas izdevumu transferti | C56: 10179
B57: Valsts budžeta uzturēšanas izdevumu transferti no valsts pamatbudžeta uz valsts speciālo budžetu | C57: 7222
B58: Valsts budžeta transferti no valsts pamatbudžeta uz valsts pamatbudžetu | C58: 2957
B59: Valsts budžeta transferti no valsts pamatbudžeta dotācijas no vispārējiem ieņēmumiem uz valsts pamatbudžetu | C59: 2957
B60: Pārējie valsts budžeta uzturēšanas izdevumu transferti citiem budžetiem | C60: 6169975 | D60: -12158
B61: Pārējie valsts budžeta uzturēšanas izdevumu transferti pašvaldībām | C61: 1460857 | D61: -12158
B62: Pārējie valsts budžeta uzturēšanas izdevumu transferti valsts budžeta daļēji finansētām atvasinātām publiskām personām un budžeta nefinansētām iestādēm | C62: 4709118
B63: Kapitālie izdevumi | C63: 5489332
B64: Pamatkapitāla veidošana | C64: 4667264
B65: Kapitālo izdevumu transferti | C65: 822068
B66: Pārējie valsts budžeta kapitālo izdevumu transferti citiem budžetiem | C66: 822068
B67: Pārējie valsts budžeta kapitālo izdevumu transferti pašvaldībām | C67: 639083
B68: Pārējie valsts budžeta transferti kapitālajiem izdevumiem valsts budžeta daļēji finansētām atvasinātām publiskām personām un budžeta nefinansētām iestādēm | C68: 182985
B69: 2026. gads
B70: Resursi izdevumu segšanai | C70: 61591964 | D70: 0
B71: Ieņēmumi no maksas pakalpojumiem un citi pašu ieņēmumi | C71: 614735
B72: Trnasferti | C72: 58796
B73: Valsts budžeta transferti | C73: 58796
B74: Valsts pamatbudžeta savstarpējie transferti | C74: 58796
B75: Valsts pamatbudžeta iestāžu saņemtie transferti no valsts pamatbudžeta | C75: 58796
B76: Valsts pamatbudžeta iestāžu saņemtie transferti no valsts pamatbudžeta dotācijas no vispārējiem ieņēmumiem | C76: 58796
B77: Dotācija no vispārējiem ieņēmumiem | C77: 60918433
B78: Vispārējā kārtībā sadalāmā dotācija no vispārējiem ieņēmumiem | C78: 60918433
B79: Izdevumi – kopā | C79: 61591964 | D79: 0
B80: Uzturēšanas izdevumi | C80: 56118853 | D80: 0
B81: Kārtējie izdevumi | C81: 37616921 | D81: 90018
B82: Atlīdzība | C82: 26324236 | D82: 71058
B83: Preces un pakalpojumi | C83: 11292685 | D83: 18960
B84: Subsīdijas, dotācijas, sociālie maksājumi un kompensācijas | C84: 10733601 | D84: -77860
B85: Subsīdijas un dotācijas | C85: 9836137
B86: Sociāla rakstura maksājumi un kompensācijas | C86: 897464 | D86: -77860
B87: Kārtējie maksājumi Eiropas Savienības budžetā un starptautiskā sadarbība | C87: 1588634
B88: Starptautiskā sadarbība | C88: 1588634
B89: Transferti viena budžeta veida ietvaros un uzturēšanas izdevumu transferti starp budžeta veidiem | C89: 6179697 | D89: -12158
B90: Valsts budžeta transferti un uzturēšanas izdevumu transferti | C90: 7222
B91: Valsts budžeta uzturēšanas izdevumu transferti no valsts pamatbudžeta uz valsts speciālo budžetu | C91: 7222
B92: Pārējie valsts budžeta uzturēšanas izdevumu transferti citiem budžetiem | C92: 6172475 | D92: -12158
B93: Pārējie valsts budžeta uzturēšanas izdevumu transferti pašvaldībām | C93: 1460857 | D93: -12158
B94: Pārējie valsts budžeta uzturēšanas izdevumu transferti valsts budžeta daļēji finansētām atvasinātām publiskām personām un budžeta nefinansētām iestādēm | C94: 4711618
B95: Kapitālie izdevumi | C95: 5473111
B96: Pamatkapitāla veidošana | C96: 4653543
B97: Kapitālo izdevumu transferti | C97: 819568
B98: Pārējie valsts budžeta kapitālo izdevumu transferti citiem budžetiem | C98: 819568
B99: Pārējie valsts budžeta kapitālo izdevumu transferti pašvaldībām | C99: 639083
B100: Pārējie valsts budžeta transferti kapitālajiem izdevumiem valsts budžeta daļēji finansētām atvasinātām publiskām personām un budžeta nefinansētām iestādēm | C100: 180485
B101: Finansējuma pārdale no apakšprogrammas 21.02.00 “Vides aizsardzības projekti” 2024. gadā un turpmāk ik gadu prioritāra pasākuma 2022-2024 "LVAF finansējums nacionālās nozīmes un vides projektiem" 12 158 euro apmērā un no apakšprogrammas 24.08.00. Nacionālo parku darbības nodrošināšana 77 860 euro apmērā uz programmu 97.00.00 “Nozaru vadība un politikas plānošana”, lai nodrošinātu finansējumu nozares padomniekam vides jautājumos.
...

Sheet KM
C1: Pieņemts pirmajā lasījumā | D1: Priekšlikums par izmaiņām | F1: Pieņemts pirmajā lasījumā | G1: Priekšlikums par izmaiņām | H1: Priekšlikums MK atzinumam
B3: 22. Kultūras ministrija
A4: =VARAM!A103+1 -> 38 | B4: 22. Kultūras ministrija | E4: 22. Kultūras ministrija | H4: Atbalstīt
B5: 4.pielikums | E5: 4.pielikums
B6: 25.02.00 Valsts kultūrkapitāla fonda programmu un projektu konkursi | E6: 25.01.00 Valsts kultūrkapitāla fonda darbības nodrošināšana
B7: Resursi izdevumu segšanai | C7: 15387281 | D7: -7524 | E7: Resursi izdevumu segšanai | F7: 807049 | G7: 7524
B8: Dotācija no vispārējiem ieņēmumiem | C8: 15387281 | D8: -7524 | E8: Dotācija no vispārējiem ieņēmumiem | F8: 807049 | G8: 7524
B9: Vispārējā kārtībā sadalāmā dotācija no vispārējiem ieņēmumiem | C9: 15387281 | D9: -7524 | E9: Vispārējā kārtībā sadalāmā dotācija no vispārējiem ieņēmumiem | F9: 807049 | G9: 7524
B10: Izdevumi – kopā | C10: 15387281 | D10: -7524 | E10: Izdevumi – kopā | F10: 807049 | G10: 7524
B11: Uzturēšanas izdevumi | C11: 15387281 | D11: -7524 | E11: Uzturēšanas izdevumi | F11: 802780 | G11: 7524
B12: Subsīdijas, dotācijas, sociālie maksājumi un kompensācijas | C12: 13937281 | D12: -7524 | E12: Kārtējie izdevumi | F12: 802780 | G12: 7524
B13: Subsīdijas un dotācijas | C13: 13937281 | D13: -7524 | E13: Atlīdzība | F13: 660323 | G13: 7524
B14: 22. Kultūras ministrija
B15: 3.pielikums
B16: I. Valsts pamatfunkciju īstenošana
B17: 2025.gads
B18: Resursi izdevumu segšanai | C18: 235173150
B19: Izdevumi – kopā | C19: 235173150
B20: Kārtējie izdevumi | C20: 99474635 | D20: 13824
B21: Atlīdzība | C21: 72334194 | D21: 13824
B22: Subsīdijas, dotācijas, sociālie maksājumi un kompensācijas | C22: 77813725 | D22: -13824
B23: Subsīdijas un dotācijas | C23: 76713040 | D23: -13824
B24: 2026.gads
B25: Resursi izdevumu segšanai | C25: 236020838
B26: Izdevumi – kopā | C26: 236020838
B27: Kārtējie izdevumi | C27: 100039773 | D27: 19848
B28: Atlīdzība | C28: 73215282 | D28: 19848
B29: Subsīdijas, dotācijas, sociālie maksājumi un kompensācijas | C29: 78194725 | D29: -19848
B30: Subsīdijas un dotācijas | C30: 77097040 | D30: -19848
B31: Pārdalīt izdevumus starp Kultūras ministrijas apakšprogrammu 25.02.00 “Valsts kultūrkapitāla fonda programmu un projektu konkursi” un apakšprogrammu 25.01.00 “Valsts kultūrkapitāla fonda darbības nodrošināšana”, lai 2024., 2025. un 2026.gadā nodrošinātu 2023.gada 26.septembra Ministru kabineta sēdes protokollēmuma Nr.47 43. § “Informatīvais ziņojums "Par priekšlikumiem valsts budžeta prioritārajiem pasākumiem 2024. gadam un budžeta ietvaram 2024.–2026. gadam" 15.punktā noteikto.
A33: =A4+1 -> 39 | B33: 32. Prokuratūra | E33: 22. Kultūras ministrija | H33: Atbalstīt
B34: 3.pielikums | E34: 3.pielikums
B35: I. Valsts pamatfunkciju īstenošana | E35: I. Valsts pamatfunkciju īstenošana
B36: 2025.gads | E36: 2025.gads
B37: Resursi izdevumu segšanai | C37: 52673058 | D37: -485615 | E37: Resursi izdevumu segšanai | F37: 235173150 | G37: 485615
B38: Dotācija no vispārējiem ieņēmumiem | C38: 52673058 | D38: -485615 | E38: Dotācija no vispārējiem ieņēmumiem | F38: 226824405 | G38: 485615
B39: Vispārējā kārtībā sadalāmā dotācija no vispārējiem ieņēmumiem | C39: 52673058 | D39: -485615 | E39: Vispārējā kārtībā sadalāmā dotācija no vispārējiem ieņēmumiem | F39: 226824405 | G39: 485615
B40: Izdevumi – kopā | C40: 52673058 | D40: -485615 | E40: Izdevumi – kopā | F40: 235173150 | G40: 485615
B41: Kapitālie izdevumi | C41: 1902541 | D41: -485615 | E41: Uzturēšanas izdevumi | F41: 231148206 | G41: 485615
B42: Pamatkapitāla veidošana | C42: 1902541 | D42: -485615 | E42: Kārtējie izdevumi | F42: 99474635 | G42: 485615
E43: Preces un pakalpojumi | F43: 27140441 | G43: 485615
E44: 22. Kultūras ministrija
E45: 11.pielikums
E46: 22.07.00 Nomas maksas VAS "Valsts nekustamie īpašumi" programmas "Mantojums-2018" ietvaros
E47: 0600000000 Citas ilgtermiņa saistības
E48: tajā skaitā
E49: Ēkas Rīgas pils Konventa Pils laukumā 3 nomas maksa un papildu izdevumi VAS "Valsts nekustamie īpašumi" | F49: CIS/KM/018
E50: 2025.gads
E51: Resursi izdevumu segšanai | F51: 375543 | G51: 485615
E52: Dotācija no vispārējiem ieņēmumiem | F52: 375543 | G52: 485615
E53: Vispārējā kārtībā sadalāmā dotācija no vispārējiem ieņēmumiem | F53: 375543 | G53: 485615
E54: Izdevumi – kopā | F54: 375543 | G54: 485615
E55: Uzturēšanas izdevumi | F55: 375543 | G55: 485615
E56: Kārtējie izdevumi | F56: 375543 | G56: 485615
E57: Preces un pakalpojumi | F57: 375543 | G57: 485615
B58: Pārdalīt izdevumus no Prokuratūra programmas 01.00.00 "Prokuratūras iestāžu uzturēšana" uz Kultūras ministrijas apakšprogrammu 22.07.00 "Nomas maksas VAS "Valsts nekustamie īpašumi" programmas "Mantojums-2018" ietvaros", lai 2025.gadā nodrošinātu finansējumu ilgtermiņa saistību pasākumam "Ēkas Rīgas pils Konventa Pils laukumā 3 nomas maksa un papildu izdevumi VAS "Valsts nekustamie īpašumi"" , nomas maksas un papildu maksājumu izdevumu segšanai valsts akciju sabiedrībai "Valsts nekustamie īpašumi" saskaņā ar Ministru kabineta 2023.gada 21.novembra sēdē atbalstītajiem rīkojumiem "Grozījumi Ministru kabineta 2018. gada 12. jūnija rīkojumā Nr. 267 "Par finansējumu Rīgas pils Konventa Pils laukumā 3, Rīgā, un Muzeju krātuvju kompleksa Pulka ielā 8, Rīgā, būvniecības projekta, nomas maksas, pārcelšanās un aprīkojuma iegādes izdevumu segšanai" un "Grozījumi Ministru kabineta 2021. gada 28. septembra rīkojumā Nr. 686 "Par finansējuma piešķiršanu ēkas Latvijas Republikas Prokuratūras vajadzībām Kalpaka bulvārī 6, Rīgā, pārbūves, telpu nomas maksas, aprīkojuma, pārcelšanās un citu saistīto izdevumu segšanai un finansējuma piešķiršanu Latvijas Republikas Prokuratūrai un Tieslietu ministrijai ēkas Cēsu ielā 28, Limbažos, Limbažu novadā, pielāgošanas un telpu nomas maksas un citu saistīto izdevumu segšanai".
A60: =A33+1 -> 40 | B60: 22.Kultūras ministrija | H60: Atbalstīt
B61: 21.00.00 "Kultūras mantojums"
B62: 4.pielikums
B63: Resursi izdevumu segšanai | C63: 63831942
B64: Izdevumi – kopā | C64: 63831942
B65: Uzturēšanas izdevumi | C65: 60384244 | D65: -70624
B66: Kārtējie izdevumi | C66: 52142154 | D66: -70624
B67: Preces un pakalpojumi | C67: 16351691 | D67: -70624
B68: Kapitālie izdevumi | C68: 3447698 | D68: 70624
B69: Pamatkapitāla veidošana | C69: 3447698 | D69: 70624
B70: Pārdalīt izdevumus Kultūras ministrijas programmā 21.00.00 “Kultūras mantojums”saskaņā ar Ministru kabineta 2023.gada 15.augusta sēdes Nr. 40 43. § Informatīvā ziņojuma “Par valsts pamatbudžeta un valsts speciālā budžeta bāzi un izdevumu pārskatīšanas rezultātiem 2024., 2025. un 2026.gadam” protokollēmuma 46.punktu un grozījumiem Ministru kabineta 2018. gada 12. jūnija rīkojumā Nr. 267 “Par finansējumu Rīgas pils Konventa Pils laukumā 3, Rīgā, un Muzeju krātuvju kompleksa Pulka ielā 8, Rīgā, būvniecības projekta, nomas maksas, pārcelšanās un aprīkojuma iegādes izdevumu segšanai”, lai 2024. gadā novirzītu Rakstniecības un mūzikas muzeja ekspozīcijas Mārstaļu ielā 6, Rīgā, izveidei.
A72: =A60+1 -> 41 | B72: 22.Kultūras ministrija | H72: Atbalstīt
B73: 3.pielikums
B74: I. Valsts pamatfunkciju īstenošana
B75: 2025.gads
B76: Resursi izdevumu segšanai | C76: 235173150
B77: Izdevumi – kopā | C77: 235173150
B78: Kārtējie izdevumi | C78: 99474635 | D78: =D79 -> -120812
B79: Preces un pakalpojumi | C79: 27140441 | D79: -120812
B80: Subsīdijas, dotācijas, sociālie maksājumi un kompensācijas | C80: 77813725 | D80: 120812
B81: Subsīdijas un dotācijas | C81: 76713040 | D81: 120812
B82: 2026.gads
B83: Resursi izdevumu segšanai | C83: 236020838
B84: Izdevumi – kopā | C84: 236020838
B85: Kārtējie izdevumi | C85: 100039773 | D85: -120812
B86: Preces un pakalpojumi | C86: 26824491 | D86: -120812
B87: Subsīdijas, dotācijas, sociālie maksājumi un kompensācijas | C87: 78194725 | D87: 120812
B88: Subsīdijas un dotācijas | C88: 77097040 | D88: 120812
B89: Pārdalīt izdevumus starp Kultūras ministrijas programmu 21.00.00 “Kultūras mantojums” un apakšprogrammu 19.07.00 “Mākslas un literatūra” saskaņā ar Ministru kabineta 2023.gada 15.augusta sēdes Nr. 40 43. § Informatīvā ziņojuma “Par valsts pamatbudžeta un valsts speciālā budžeta bāzi un izdevumu pārskatīšanas rezultātiem 2024., 2025. un 2026.gadam” protokollēmuma 46.punktu un grozījumiem Ministru kabineta 2018. gada 12. jūnija rīkojumā Nr. 267 “Par finansējumu Rīgas pils Konventa Pils laukumā 3, Rīgā, un Muzeju krātuvju kompleksa Pulka ielā 8, Rīgā, būvniecības projekta, nomas maksas, pārcelšanās un aprīkojuma iegādes izdevumu segšanai”, lai no 2025.gada un turpmāk katru gadu daļēji segtu valsts sabiedrībai ar ierobežotu atbildību VSIA “Jaunais Rīgas teātris” atjaunotās ēkas Lāčplēša ielā 25, Rīgā, komunālos maksājumus.
A91: =A72+1 -> 42 | B91: Valsts budžeta ieņēmumi | E91: 74. Gadskārtējā valsts budžeta izpildes procesā pārdalāmais finansējums | H91: Atbalstīt
B92: 2.pielikums | E92: 4.pielikums
B93: Valsts pamatbudžeta ieņēmumi | E93: 09.00.00 Valsts nozīmes reformas īstenošanai
B94: 2024.gads | E94: Resursi izdevumu segšanai | F94: =F95 -> 15200000 | G94: =G95 -> 1223916
B95: Ieņēmumi no dividendēm (ieņēmumi no valsts (pašvaldību) kapitāla izmantošanas) | C95: 373206565 | D95: 1223916 | E95: Dotācija no vispārējiem ieņēmumiem | F95: =F96 -> 15200000 | G95: =G96 -> 1223916
E96: Vispārējā kārtībā sadalāmā dotācija no vispārējiem ieņēmumiem | F96: 15200000 | G96: 1223916
E97: Izdevumi – kopā | F97: =F98 -> 15200000 | G97: =G98 -> 1223916
E98: Uzturēšanas izdevumi | F98: =F99 -> 15200000 | G98: =G99 -> 1223916
E99: Subsīdijas, dotācijas, sociālie maksājumi un kompensācijas | F99: =F100 -> 15200000 | G99: =G100 -> 1223916
E100: Subsīdijas un dotācijas | F100: 15200000 | G100: 1223916
B101: 2.pielikums | E101: 3.pielikums
B102: Valsts pamatbudžeta ieņēmumi | E102: I. Valsts pamatfunkciju īstenošana
B103: 2025.gads | E103: 2025.gads
B104: Akcīzes nodoklis | C104: 1317087000 | D104: 1223916 | E104: Resursi izdevumu segšanai | F104: 920111247 | G104: =G105 -> 1223916
E105: Dotācija no vispārējiem ieņēmumiem | F105: 920111247 | G105: =G106 -> 1223916
...

Sheet SEPL
C1: Pieņemts pirmajā lasījumā | D1: Priekšlikums par izmaiņām | F1: Pieņemts pirmajā lasījumā | G1: Priekšlikums par izmaiņām | H1: Priekšlikums MK atzinumam
B3: 46. Sabiedriskie elektroniskie plašsaziņas līdzekļi
A4: =KM!A151+1 -> 45 | B4: 74. Gadskārtējā valsts budžeta izpildes procesā pārdalāmais finansējums | H4: Atbalstīt
B5: 4. pielikums
B6: 18.00.00 Finansējums valsts drošības stiprināšanas pasākumiem
B7: Resursi izdevumu segšanai | C7: 376115734 | D7: -7260000
B8: Dotācija no vispārējiem ieņēmumiem | C8: 376115734 | D8: -7260000
B9: Vispārējā kārtībā sadalāmā dotācija no vispārējiem ieņēmumiem | C9: 376115734 | D9: -7260000
B10: Izdevumi – kopā | C10: 376115734 | D10: -7260000
B11: Uzturēšanas izdevumi | C11: 376115734 | D11: -7260000
B12: Subsīdijas, dotācijas, sociālie maksājumi un kompensācijas | C12: 376115734 | D12: -7260000
B13: Subsīdijas un dotācijas | C13: 376115734 | D13: -7260000
B14: 74. Gadskārtējā valsts budžeta izpildes procesā pārdalāmais finansējums
B15: 3. pielikums
B16: I. Valsts pamatfunkciju īstenošana
B17: 2025.gadā
B18: Resursi izdevumu segšanai | C18: 920111247 | D18: 11979000
B19: Dotācija no vispārējiem ieņēmumiem | C19: 920111247 | D19: 11979000
B20: Vispārējā kārtībā sadalāmā dotācija no vispārējiem ieņēmumiem | C20: 920111247 | D20: 11979000
B21: Izdevumi – kopā | C21: 920111247 | D21: 11979000
B22: Uzturēšanas izdevumi | C22: 920111247 | D22: 11979000
B23: Subsīdijas, dotācijas, sociālie maksājumi un kompensācijas | C23: 920111247 | D23: 11979000
B24: Subsīdijas un dotācijas | C24: 920111247 | D24: 11979000
B26: Veikta finansējuma pārdale resora “74. Gadskārtējā valsts budžeta izpildes procesā pārdalāmais finansējums” programmā 18.00.00 “Finansējums valsts drošības stiprināšanas pasākumiem” starp gadiem, lai nodrošinātu iesākto drošības pasākumu “VSIA “Latvijas Televīzija” pārvietojamās televīzijas stacijas (PTS) 8 kameru iegāde” un “VSIA “Latvijas Televīzija” pārvietojamās televīzijas stacijas (PTS) 14 kameru iegāde” sekmīgu realizāciju, jo līdzekļu apguve aizkavējusies sakarā ar laikietilpīgo un sarežģīto iepirkumu procesu un salīdzinoši garu nepieciešamo automašīnu un to pārbūves laika patēriņu. Pilnīga pasākumu realizācija un līdzekļu apguve ir iespējama tikai 2025. gadā.

Sheet Prokuratūra
C1: Pieņemts pirmajā lasījumā | D1: Priekšlikums par izmaiņām | F1: Pieņemts pirmajā lasījumā | G1: Priekšlikums par izmaiņām | H1: Priekšlikums MK atzinumam
B3: 32. Prokuratūra
A4: =SEPL!A4+1 -> 46 | B4: 32. Prokuratūra | H4: Atbalstīt
B5: 4. pielikums
B6: 01.00.00 Prokuratūras iestāžu uzturēšana
B7: 2024.gadā
B8: Resursi izdevumu segšanai | C8: 50278616 | D8: 0
B9: Dotācija no vispārējiem ieņēmumiem | C9: 50278616 | D9: 0
B10: Vispārējā kārtībā sadalāmā dotācija no vispārējiem ieņēmumiem | C10: 50278616 | D10: 0
B11: Izdevumi – kopā | C11: 50278616 | D11: 0
B12: Uzturēšanas izdevumi | C12: 49630674 | D12: -42990
B13: Kārtējie izdevumi | C13: 49628082 | D13: -42990
B14: Preces un pakalpojumi | C14: 7850242 | D14: -42990
B15: Kapitālie izdevumi | C15: 647942 | D15: 42990
B16: Pamatkapitāla veidošana | C16: 647942 | D16: 42990
E17: 32.Prokuratūra
E18: 11. pielikums
E19: 01.00.00 "Prokuratūras iestāžu uzturēšana"
E20: 0600000000 Citas ilgtermiņa saistības
E21: Ēkas Krišjāņa Valdemāra ielā 2, Cēsīs, Cēsu novadā, telpu nomas maksa | F21: CIS/PROK/006
E22: 2024.gadā
E23: Resursi izdevumu segšanai | F23: 0 | G23: 3630
E24: Dotācija no vispārējiem ieņēmumiem | F24: 0 | G24: 3630
E25: Vispārējā kārtībā sadalāmā dotācija no vispārējiem ieņēmumiem | F25: 0 | G25: 3630
E26: Izdevumi – kopā | F26: 0 | G26: 3630
E27: Uzturēšanas izdevumi | F27: 0 | G27: 3630
E28: Kārtējie izdevumi | F28: 0 | G28: 3630
E29: Preces un pakalpojumi | F29: 0 | G29: 3630
E30: 2025.gadā
E31: Resursi izdevumu segšanai | F31: 0 | G31: 5446
E32: Dotācija no vispārējiem ieņēmumiem | F32: 0 | G32: 5446
E33: Vispārējā kārtībā sadalāmā dotācija no vispārējiem ieņēmumiem | F33: 0 | G33: 5446
E34: Izdevumi – kopā | F34: 0 | G34: 5446
E35: Uzturēšanas izdevumi | F35: 0 | G35: 5446
E36: Kārtējie izdevumi | F36: 0 | G36: 5446
E37: Preces un pakalpojumi | F37: 0 | G37: 5446
E38: 2026.gadā
E39: Resursi izdevumu segšanai | F39: 0 | G39: 5446
E40: Dotācija no vispārējiem ieņēmumiem | F40: 0 | G40: 5446
E41: Vispārējā kārtībā sadalāmā dotācija no vispārējiem ieņēmumiem | F41: 0 | G41: 5446
E42: Izdevumi – kopā | F42: 0 | G42: 5446
E43: Uzturēšanas izdevumi | F43: 0 | G43: 5446
E44: Kārtējie izdevumi | F44: 0 | G44: 5446
E45: Preces un pakalpojumi | F45: 0 | G45: 5446
B46: 13. Finanšu ministrija | E46: 32.Prokuratūra
B47: 11. pielikums | E47: 11. pielikums
B48: 41.13.00 Finansējums VAS "Valsts nekustamie īpašumi" īstenojamiem projektiem un pasākumiem | E48: 01.00.00 "Prokuratūras iestāžu uzturēšana"
B49: 0600000000 Citas ilgtermiņa saistības | E49: 0600000000 Citas ilgtermiņa saistības
B50: "Dotācija VAS "Valsts nekustamie īpašumi" nekustamā īpašuma Jēkaba ielā 11, Rīgā, sastāvā esošās būves pārbūves un restaurācijas darbiem" | C50: CIS/FM/025 | E50: Ēkas Krišjāņa Valdemāra ielā 2, Cēsīs, Cēsu novadā, telpu nomas maksa | F50: CIS/PROK/006
B51: 2027.gadā | E51: 2027.gadā
B52: Resursi izdevumu segšanai | C52: 16993598 | D52: -5446 | E52: Resursi izdevumu segšanai | F52: 0 | G52: 5446
B53: Dotācija no vispārējiem ieņēmumiem | C53: 16993598 | D53: -5446 | E53: Dotācija no vispārējiem ieņēmumiem | F53: 0 | G53: 5446
B54: Vispārējā kārtībā sadalāmā dotācija no vispārējiem ieņēmumiem | C54: 16993598 | D54: -5446 | E54: Vispārējā kārtībā sadalāmā dotācija no vispārējiem ieņēmumiem | F54: 0 | G54: 5446
B55: Izdevumi – kopā | C55: 16993598 | D55: -5446 | E55: Izdevumi – kopā | F55: 0 | G55: 5446
B56: Kapitālie izdevumi | C56: 16993598 | D56: -5446 | E56: Uzturēšanas izdevumi | F56: 0 | G56: 5446
B57: Pamatkapitāla veidošana | C57: 16993598 | D57: -5446 | E57: Kārtējie izdevumi | F57: 0 | G57: 5446
E58: Preces un pakalpojumi | F58: 0 | G58: 5446
E59: 32.Prokuratūra
E60: 11. pielikums
E61: 01.00.00 "Prokuratūras iestāžu uzturēšana"
E62: 0600000000 Citas ilgtermiņa saistības
E63: Ēkas Krišjāņa Valdemāra ielā 2, Cēsīs, Cēsu novadā, telpu nomas maksa | F63: CIS/PROK/006
E64: Tālākā laika posmā līdz projekta īstenošanai
E65: Resursi izdevumu segšanai | F65: 0 | G65: 105488
E66: Dotācija no vispārējiem ieņēmumiem | F66: 0 | G66: 105488
E67: Vispārējā kārtībā sadalāmā dotācija no vispārējiem ieņēmumiem | F67: 0 | G67: 105488
E68: Izdevumi – kopā | F68: 0 | G68: 105488
E69: Uzturēšanas izdevumi | F69: 0 | G69: 105488
E70: Kārtējie izdevumi | F70: 0 | G70: 105488
E71: Preces un pakalpojumi | F71: 0 | G71: 105488
B72: Saskaņā ar Ministru kabineta 2023.gada 21.novembra sēdē atbalstītajiem rīkojumiem"Par finansējuma piešķiršanu ēkas Latvijas Republikas prokuratūras vajadzībām Krišjāņa Valdemāra ielā 2, Cēsīs, Cēsu novadā, telpu pielāgošanas, telpu nomas maksas, aprīkojuma un pārcelšanās izdevumu segšanai" un "Grozījumi Ministru kabineta 2021. gada 1. septembra rīkojumā Nr. 608 "Par valsts nekustamā īpašuma Jēkaba ielā 11, Rīgā, nodošanu Finanšu ministrijas valdījumā un finansējumu nekustamā īpašuma būvniecības projekta izdevumu segšanai"" Prokuratūrai tiek paradzēts finansējums ilgtermiņa saistību pasākumam "Ēkas Krišjāņa Valdemāra ielā 2, Cēsīs, Cēsu novadā, telpu nomas maksa" 2024.gadā 3 630 euro apmērā, sākot ar 2025.gadu un turpmākos gados līdz 2046.gadam katru gadu 5 446 euro apmērā, un 2047.gadā 2014 euro. Vienlaikus Prokuratūras budžeta ietvaros, veicot iekšējās pārdales 2024. gadā tiek nodrošināts finansējums ēkas (būves kadastra apzīmējums 4201 005 2316 001) Krišjāņa Valdemāra ielā 2, Cēsīs, Cēsu novadā, pielāgošanas izdevumu segšanai valsts akciju sabiedrībai "Valsts nekustamie īpašumi" 104 076 euro apmērā, pārcelšanās izdevumu segšanai 3 246 euro apmērā un aprīkojuma iegādes izdevumu segšanai 93 591 euro apmērā.

Sheet 62res
C1: Pieņemts pirmajā lasījumā | D1: Priekšlikums par izmaiņām | F1: Pieņemts pirmajā lasījumā | G1: Priekšlikums par izmaiņām | H1: Priekšlikums MK atzinumam
B3: 62. Mērķdotācijas pašvaldībām (iesniedz 15. Izglītības un zinātnes ministrija)
A4: =Prokuratūra!A4+1 -> 47 | B4: 62. Mērķdotācijas pašvaldībām | E4: 62. Mērķdotācijas pašvaldībām | H4: Atbalstīt
B5: 4.pielikums | E5: 4.pielikums
B6: 10.00.00. "Mērķdotācijas pašvaldībām – pašvaldību izglītības iestādēs bērnu no piecu gadu vecuma izglītošanā nodarbināto pedagogu darba samaksai un valsts sociālās apdrošināšanas obligātajām iemaksām" | E6: 01.00.00. "Mērķdotācijas izglītības pasākumiem"
B7: Resursi izdevumu segšanai | C7: =+C8 -> 80962209 | D7: =+D8 -> -1857620 | E7: Resursi izdevumu segšanai | F7: =+F8 -> 69318243 | G7: =+G8 -> 1857620
B8: Dotācija no vispārējiem ieņēmumiem | C8: =+C9 -> 80962209 | D8: =+D9 -> -1857620 | E8: Dotācija no vispārējiem ieņēmumiem | F8: =+F9 -> 69318243 | G8: =+G9 -> 1857620
B9: Vispārējā kārtībā sadalāmā dotācija no vispārējiem ieņēmumiem | C9: =+C10 -> 80962209 | D9: =+D10 -> -1857620 | E9: Vispārējā kārtībā sadalāmā dotācija no vispārējiem ieņēmumiem | F9: =+F10 -> 69318243 | G9: =+G10 -> 1857620
B10: Izdevumi – kopā | C10: =+C11 -> 80962209 | D10: =+D11 -> -1857620 | E10: Izdevumi – kopā | F10: =+F11 -> 69318243 | G10: =+G11 -> 1857620
B11: Uzturēšanas izdevumi | C11: =+C12 -> 80962209 | D11: =+D12 -> -1857620 | E11: Uzturēšanas izdevumi | F11: =+F12 -> 69318243 | G11: =+G12 -> 1857620
B12: Transferti viena budžeta veida ietvaros un uzturēšanas izdevumu transferti starp budžeta veidiem | C12: =+C13 -> 80962209 | D12: =+D13 -> -1857620 | E12: Transferti viena budžeta veida ietvaros un uzturēšanas izdevumu transferti starp budžeta veidiem | F12: =+F13 -> 69318243 | G12: =+G13 -> 1857620
B13: Pārējie valsts budžeta uzturēšanas izdevumu transferti citiem budžetiem | C13: =+C14 -> 80962209 | D13: =+D14 -> -1857620 | E13: Pārējie valsts budžeta uzturēšanas izdevumu transferti citiem budžetiem | F13: =+F14 -> 69318243 | G13: =+G14 -> 1857620
B14: Pārējie valsts budžeta uzturēšanas izdevumu transferti pašvaldībām | C14: 80962209 | D14: -1857620 | E14: Pārējie valsts budžeta uzturēšanas izdevumu transferti pašvaldībām | F14: 69318243 | G14: 1857620
B15: Lai nodrošinātu pedagogu darba samaksu 2024.gadā un turpmāk, ņemot vērā pedagogu minimālās algas likmes palielināšanu ar 2023.gada 1.septembri un 2024.gada 1.janvāri (Satversmes tiesas spriedums par pirmsskolu un pedagogu darba samaksas paaugstināšanas grafiks) un izglītojamo skaita (neieskaitot Ukrainas civiliedzīvotājus) un struktūras uz 2023.gada 1.septembri izmaiņu ietekmi (MK 03.10.2023. prot. Nr. 48 23. §, 3.punkts), veikta finansējuma pārdale: 2024. gadā 1 857 620 euro apmērā no 62. resora programmas 10.00.00. "Mērķdotācijas pašvaldībām – pašvaldību izglītības iestādēs bērnu no piecu gadu vecuma izglītošanā nodarbināto pedagogu darba samaksai un valsts sociālās apdrošināšanas obligātajām iemaksām" (tai skaitā 54 794 euro no prioritārā pasākuma 15_01_P "Lai īstenotu secīgu pāreju uz mācībām valsts valodā") uz 62. resora programmu 01.00.00. "Mērķdotācijas izglītības pasākumiem" (tai skaitā 70 383 euro apmērā uz prioritāro pasākumu 15_01_P "Lai īstenotu secīgu pāreju uz mācībām valsts valodā"). 2025. gadā 2 321 872 euro apmērā no 62. resora programmas 10.00.00. "Mērķdotācijas pašvaldībām – pašvaldību izglītības iestādēs bērnu no piecu gadu vecuma izglītošanā nodarbināto pedagogu darba samaksai un valsts sociālās apdrošināšanas obligātajām iemaksām" uz 62. resora programmu 01.00.00. "Mērķdotācijas izglītības pasākumiem" (tai skaitā 41 853 euro uz prioritāro pasākumu 15_01_P "Lai īstenotu secīgu pāreju uz mācībām valsts valodā"). 2026. gadā 2 552 269 euro apmērā no 62. resora programmas 10.00.00. "Mērķdotācijas pašvaldībām – pašvaldību izglītības iestādēs bērnu no piecu gadu vecuma izglītošanā nodarbināto pedagogu darba samaksai un valsts sociālās apdrošināšanas obligātajām iemaksām" uz 62. resora programmu 01.00.00. "Mērķdotācijas izglītības pasākumiem" (tai skaitā 24 415 euro uz prioritāro pasākumu 15_01_P "Lai īstenotu secīgu pāreju uz mācībām valsts valodā").
A17: =A4+1 -> 48 | B17: 62. Mērķdotācijas pašvaldībām | E17: 62. Mērķdotācijas pašvaldībām | H17: Atbalstīt
B18: 4.pielikums | E18: 4.pielikums
B19: 10.00.00. "Mērķdotācijas pašvaldībām – pašvaldību izglītības iestādēs bērnu no piecu gadu vecuma izglītošanā nodarbināto pedagogu darba samaksai un valsts sociālās apdrošināšanas obligātajām iemaksām" | E19: 05.00.00. "Mērķdotācijas pašvaldībām – pašvaldību izglītības iestāžu pedagogu darba samaksai un valsts sociālās apdrošināšanas obligātajām iemaksām"
B20: Resursi izdevumu segšanai | C20: =+C21 -> 80962209 | D20: =+D21 -> -3314449 | E20: Resursi izdevumu segšanai | F20: =+F21 -> 465825869 | G20: =+G21 -> 3314449
B21: Dotācija no vispārējiem ieņēmumiem | C21: =+C22 -> 80962209 | D21: =+D22 -> -3314449 | E21: Dotācija no vispārējiem ieņēmumiem | F21: =+F22 -> 465825869 | G21: =+G22 -> 3314449
B22: Vispārējā kārtībā sadalāmā dotācija no vispārējiem ieņēmumiem | C22: =+C23 -> 80962209 | D22: =+D23 -> -3314449 | E22: Vispārējā kārtībā sadalāmā dotācija no vispārējiem ieņēmumiem | F22: =+F23 -> 465825869 | G22: =+G23 -> 3314449
B23: Izdevumi – kopā | C23: =+C24 -> 80962209 | D23: =+D24 -> -3314449 | E23: Izdevumi – kopā | F23: =+F24 -> 465825869 | G23: =+G24 -> 3314449
B24: Uzturēšanas izdevumi | C24: =+C25 -> 80962209 | D24: =+D25 -> -3314449 | E24: Uzturēšanas izdevumi | F24: =+F25 -> 465825869 | G24: =+G25 -> 3314449
B25: Transferti viena budžeta veida ietvaros un uzturēšanas izdevumu transferti starp budžeta veidiem | C25: =+C26 -> 80962209 | D25: =+D26 -> -3314449 | E25: Transferti viena budžeta veida ietvaros un uzturēšanas izdevumu transferti starp budžeta veidiem | F25: =+F26 -> 465825869 | G25: =+G26 -> 3314449
B26: Pārējie valsts budžeta uzturēšanas izdevumu transferti citiem budžetiem | C26: =+C27 -> 80962209 | D26: =+D27 -> -3314449 | E26: Pārējie valsts budžeta uzturēšanas izdevumu transferti citiem budžetiem | F26: =+F27 -> 465825869 | G26: =+G27 -> 3314449
B27: Pārējie valsts budžeta uzturēšanas izdevumu transferti pašvaldībām | C27: 80962209 | D27: -3314449 | E27: Pārējie valsts budžeta uzturēšanas izdevumu transferti pašvaldībām | F27: 465825869 | G27: 3314449
B28: Lai nodrošinātu pedagogu darba samaksu 2024.gadā un turpmāk, ņemot vērā pedagogu minimālās algas likmes palielināšanu ar 2023.gada 1.septembri un 2024.gada 1.janvāri (Satversmes tiesas spriedums par pirmsskolu un pedagogu darba samaksas paaugstināšanas grafiks) un izglītojamo skaita (neieskaitot Ukrainas civiliedzīvotājus) un struktūras uz 2023.gada 1.septembri izmaiņu ietekmi (MK 03.10.2023. prot. Nr. 48 23. §, 3.punkts), veikta finansējuma pārdale: 2024. gadā 3 314 449 euro apmērā no 62. resora programmas 10.00.00. "Mērķdotācijas pašvaldībām – pašvaldību izglītības iestādēs bērnu no piecu gadu vecuma izglītošanā nodarbināto pedagogu darba samaksai un valsts sociālās apdrošināšanas obligātajām iemaksām" uz 62. resora programmu 05.00.00. "Mērķdotācijas pašvaldībām – pašvaldību izglītības iestāžu pedagogu darba samaksai un valsts sociālās apdrošināšanas obligātajām iemaksām" (tai skaitā samazinot finansējumu prioritārajam pasākumam 15_01_P "Lai īstenotu secīgu pāreju uz mācībām valsts valodā" par 866 484 euro un palielinot finansējumu pārējiem izdevumiem pedagogu darba samaksai par 4 180 933 euro). 2025. gadā 2 795 403 euro apmērā no 62. resora programmas 10.00.00. "Mērķdotācijas pašvaldībām – pašvaldību izglītības iestādēs bērnu no piecu gadu vecuma izglītošanā nodarbināto pedagogu darba samaksai un valsts sociālās apdrošināšanas obligātajām iemaksām" uz 62. resora programmu 05.00.00. "Mērķdotācijas pašvaldībām – pašvaldību izglītības iestāžu pedagogu darba samaksai un valsts sociālās apdrošināšanas obligātajām iemaksām" (tai skaitā samazinot finansējumu prioritārajam pasākumam 15_01_P "Lai īstenotu secīgu pāreju uz mācībām valsts valodā" par 1 142 876 euro un palielinot finansējumu pārējiem izdevumiem pedagogu darba samaksai par 3 938 279 euro). 2026. gadā 2 565 006 euro apmērā no 62. resora programmas 10.00.00. "Mērķdotācijas pašvaldībām – pašvaldību izglītības iestādēs bērnu no piecu gadu vecuma izglītošanā nodarbināto pedagogu darba samaksai un valsts sociālās apdrošināšanas obligātajām iemaksām" uz 62. resora programmu 05.00.00. "Mērķdotācijas pašvaldībām – pašvaldību izglītības iestāžu pedagogu darba samaksai un valsts sociālās apdrošināšanas obligātajām iemaksām" (tai skaitā samazinot finansējumu prioritārajam pasākumam 15_01_P "Lai īstenotu secīgu pāreju uz mācībām valsts valodā" par 415 417 euro un palielinot finansējumu pārējiem izdevumiem pedagogu darba samaksai par 2 980 423 euro).

Sheet 64res
C1: Pieņemts pirmajā lasījumā | D1: Priekšlikums par izmaiņām | F1: Pieņemts pirmajā lasījumā | G1: Priekšlikums par izmaiņām | H1: Priekšlikums MK atzinumam
B3: 64. Dotācija pašvaldībām (iesniedz 13. Finanšu ministrija)
A4: ='62res'!A17+1 -> 49 | B4: 74. Gadskārtējā valsts budžeta izpildes procesā pārdalāmais finansējums | E4: 64.resors "Dotācija pašvaldībām" | H4: Atbalstīt
B5: 4.pielikums | E5: 4.pielikums
B6: 02.00.00 "Līdzekļi neparedzētiem gadījumiem" | E6: 01.00.00. "Dotācija pašvaldību finanšu izlīdzināšanas fondam"
B7: Resursi izdevumu segšanai | C7: 127226869 | D7: -7026996 | E7: Resursi izdevumu segšanai | F7: 36525543 | G7: 7026996
B8: Dotācija no vispārējiem ieņēmumiem | C8: 127226869 | D8: -7026996 | E8: Dotācija no vispārējiem ieņēmumiem | F8: 36525543 | G8: 7026996
B9: Vispārējā kārtībā sadalāmā dotācija no vispārējiem ieņēmumiem | C9: 127226869 | D9: -7026996 | E9: Vispārējā kārtībā sadalāmā dotācija no vispārējiem ieņēmumiem | F9: 36525543 | G9: 7026996
B10: Izdevumi – kopā | C10: 127226869 | D10: -7026996 | E10: Izdevumi – kopā | F10: 36525543 | G10: 7026996
B11: Uzturēšanas izdevumi | C11: 127226869 | D11: -7026996 | E11: Uzturēšanas izdevumi | F11: 36525543 | G11: 7026996
B12: Subsīdijas, dotācijas, sociālie maksājumi un kompensācijas | C12: 127226869 | D12: -7026996 | E12: Transferti viena budžeta veida ietvaros un uzturēšanas izdevumu transferti starp budžeta veidiem | F12: 36525543 | G12: 7026996
B13: Subsīdijas un dotācijas | C13: 127226869 | D13: -7026996 | E13: Pārējie valsts budžeta uzturēšanas izdevumu transferti citiem budžetiem | F13: 36525543 | G13: 7026996
E14: Pārējie valsts budžeta uzturēšanas izdevumu transferti pašvaldībām | F14: 36525543 | G14: 7026996
B15: Pamatojoties uz Ministru kabineta 2023. gada 24. oktobra sēdes protokolu Nr.53, 52.§. 3. punktu veikta pārdale 7 026 996 euro apmērā no budžeta resora "74. Gadskārtējā valsts budžeta izpildes procesā pārdalāmais finansējums" programmas 02.00.00 "Līdzekļi neparedzētiem gadījumiem" uz 64.resora programmu 01.01.00 "Dotācija pašvaldību finanšu izlīdzināšanas fondam", lai piešķirtu valsts budžeta dotāciju pašvaldībām, kurām izlīdzinātie ieņēmumi uz vienu izlīdzināmo vienību ir zemāki par 90% no vidējiem izlīdzinātiem ieņēmumiem, nodrošinot šīs starpības samazināšanu par 30%.

Sheet 6_piel
B3: Nobalsots 1.lasījumā | D3: Priekšlikumi 2.lasījumam | G3: Priekšlikums MK atzinumam
B6: 15. Izglītības un zinātnes ministrija | D6: Izteikt likumprojekta 6.pielikumu jaunā redakcijā:
B8: 6.pielikums | F8: 6.pielikums
A9: ='64res'!A4+1 -> 50 | B9: Mērķdotācijas pašvaldībām – pašvaldību pamata un vispārējās vidējās izglītības iestāžu, pašvaldību speciālās izglītības iestāžu un pašvaldību profesionālās izglītības iestāžu pedagogu darba samaksai un valsts sociālās apdrošināšanas obligātajām iemaksām | D9: Mērķdotācijas pašvaldībām – pašvaldību pamata un vispārējās vidējās izglītības iestāžu, pašvaldību speciālās izglītības iestāžu un pašvaldību profesionālās izglītības iestāžu pedagogu darba samaksai un valsts sociālās apdrošināšanas obligātajām iemaksām | G9: Atbalstīt
D11: I. No 2024. gada 1. janvāra līdz 2024. gada 31. augustam
B12: Pašvaldības | C12: Euro | D12: Pašvaldības | E12: Euro | F12: tai skaitā par izglītības programmu īstenošanu valsts valodā mazākumtautību izglītojamiem
B14: KOPĀ | C14: 438525801 | D14: Rīgas valstspilsēta | E14: 83473427 | F14: 1150570
D15: Daugavpils valstspilsēta | E15: 11857688 | F15: 239501
D16: Jelgavas valstspilsēta | E16: 10449948 | F16: 49190
D17: Jūrmalas valstspilsēta | E17: 5647411 | F17: 63383
D18: Liepājas valstspilsēta | E18: 10287247 | F18: 80801
D19: Rēzeknes valstspilsēta | E19: 5094592 | F19: 79511
D20: Ventspils valstspilsēta | E20: 5422893 | F20: 40965
D21: Aizkraukles novads | E21: 4880330 | F21: 2097
D22: Alūksnes novads | E22: 2214258 | F22: 161
D23: Augšdaugavas novads | E23: 3289592 | F23: 24192
D24: Ādažu novads | E24: 3389180 | F24: 11612
D25: Balvu novads | E25: 3420018 | F25: 0
D26: Bauskas novads | E26: 7295006 | F26: 323
... D56: Ventspils novads | E56: 1701638 | F56: 161
D57: KOPĀ | E57: =SUM(E14:E56) -> 292680835 | F57: =SUM(F14:F56) -> 1915685
D59: II. No 2024. gada 1. septembra līdz 2024. gada 31. decembrim
D60: Pašvaldības | E60: Euro
D61: Nesadalītie līdzekļi | E61: 145686117
D63: PAVISAM KOPĀ | E63: =+E57+E61 -> 438366952
B64: * Mērķdotācijas sadalījumu pašvaldībām Izglītības un zinātnes ministrija iesniegs uz likumprojekta izskatīšanu Saeimā otrajā lasījumā, kad būs apkopota informācija par skolēnu skaitu izglītības iestādēs 2023.gada 1.septembrī.

Sheet 7_piel
B3: Nobalsots 1.lasījumā | D3: Priekšlikumi 2.lasījumam | G3: Priekšlikums MK atzinumam
B6: 15. Izglītības un zinātnes ministrija | D6: Izteikt likumprojekta 7.pielikumu jaunā redakcijā:
B8: 7.pielikums | F8: 7.pielikums
A9: ='6_piel'!A9+1 -> 51 | B9: Mērķdotācijas pašvaldībām – interešu izglītības programmu pedagogu daļējai darba samaksai un valsts sociālās apdrošināšanas obligātajām iemaksām iestāžu pedagogu darba samaksai un valsts sociālās apdrošināšanas obligātajām iemaksām | D9: Mērķdotācijas pašvaldībām – interešu izglītības programmu pedagogu daļējai darba samaksai un valsts sociālās apdrošināšanas obligātajām iemaksām iestāžu pedagogu darba samaksai un valsts sociālās apdrošināšanas obligātajām iemaksām | G9: Atbalstīt
D11: I. No 2024. gada 1. janvāra līdz 2024. gada 31. augustam
B12: Pašvaldības | C12: Euro | D12: Pašvaldības | E12: Euro | F12: tai skaitā par izglītības programmu īstenošanu valsts valodā mazākumtautību izglītojamiem
B14: KOPĀ | C14: 27300068 | D14: Rīgas valstspilsēta | E14: 6856269 | F14: 69372
D15: Daugavpils valstspilsēta | E15: 846753 | F15: 13884
D16: Jelgavas valstspilsēta | E16: 678643 | F16: 2821
D17: Jūrmalas valstspilsēta | E17: 403290 | F17: 3658
D18: Liepājas valstspilsēta | E18: 753115 | F18: 4586
D19: Rēzeknes valstspilsēta | E19: 386251 | F19: 4623
D20: Ventspils valstspilsēta | E20: 356731 | F20: 2311
D21: Aizkraukles novads | E21: 261128 | F21: 118
D22: Alūksnes novads | E22: 114271 | F22: 9
D23: Augšdaugavas novads | E23: 167718 | F23: 1410
D24: Ādažu novads | E24: 277585 | F24: 655
D25: Balvu novads | E25: 157024 | F25: 0
D26: Bauskas novads | E26: 639991 | F26: 164
... D57: KOPĀ | E57: 20094317 | F57: 113908
D59: II. No 2024. gada 1. septembra līdz 2024. gada 31. decembrim
D60: Pašvaldības | E60: Euro
D61: Nesadalītie līdzekļi | E61: 10679049
D63: PAVISAM KOPĀ | E63: =+E57+E61 -> 30773366
B64: * Mērķdotācijas sadalījumu pašvaldībām Izglītības un zinātnes ministrija iesniegs uz likumprojekta izskatīšanu Saeimā otrajā lasījumā, kad būs apkopota informācija par skolēnu skaitu izglītības iestādēs 2023.gada 1.septembrī.

Sheet 8_piel
B3: Nobalsots 1.lasījumā | E3: Priekšlikumi 2.lasījumam | I3: Priekšlikums MK atzinumam
B6: 15. Izglītības un zinātnes ministrija | E6: Izteikt likumprojekta 8.pielikumu jaunā redakcijā:
B8: 8.pielikums | H8: 8.pielikums
A9: ='7_piel'!A9+1 -> 52 | B9: Mērķdotācijas pašvaldībām – pašvaldību speciālo pirmsskolas izglītības grupu pedagogu darba samaksai un valsts sociālās apdrošināšanas obligātajām iemaksām, speciālajām izglītības iestādēm, kas nodrošina internāta pakalpojumus | E9: Mērķdotācijas pašvaldībām – pašvaldību speciālo pirmsskolas izglītības grupu pedagogu darba samaksai un valsts sociālās apdrošināšanas obligātajām iemaksām, speciālajām izglītības iestādēm, kas nodrošina internāta pakalpojumus | I9: Atbalstīt
E11: I. No 2024.gada 1.janvāra līdz 2024.gada 31.augustam
B12: Pašvaldības | C12: Pedagogu darba samaksai un valsts sociālās apdrošināšanas obligātajām iemaksām (Euro) | D12: Pavisam kopā (Euro) | E12: Pašvaldības | F12: Pedagogu darba samaksai un valsts sociālās apdrošināšanas obligātajām iemaksām (Euro) | G12: tai skaitā par izglītības programmu īstenošanu valsts valodā mazākumtautību izglītojamiem | H12: Pavisam kopā (Euro)
B14: KOPĀ | C14: 48399895 | D14: 69318243 | E14: Rīgas valstspilsēta | F14: 9908949 | G14: 54269 | H14: 13870444
E15: Daugavpils valstspilsēta | F15: 1824861 | G15: 43225 | H15: 2539955
E16: Jelgavas valstspilsēta | F16: 795066 | G16: 1081 | H16: 1151542
E17: Jūrmalas valstspilsēta | F17: 558596 | G17: 2828 | H17: 798040
E18: Liepājas valstspilsēta | F18: 1530749 | G18: 2202 | H18: 2164283
E19: Rēzeknes valstspilsēta | F19: 781522 | G19: 8039 | H19: 1118870
E20: Ventspils valstspilsēta | F20: 9083 | G20: 275 | H20: 9083
E21: Aizkraukles novads | F21: 1007560 | G21: 0 | H21: 1363268
E22: Alūksnes novads | F22: 54744 | G22: 0 | H22: 54744
E23: Augšdaugavas novads | F23: 657843 | G23: 806 | H23: 954781
E24: Bauskas novads | F24: 1022407 | G24: 0 | H24: 1412043
E25: Cēsu novads | F25: 937915 | G25: 323 | H25: 1310539
E26: Dienvidkurzemes novads | F26: 833880 | G26: 0 | H26: 1171564
... E47: Valmieras novads | F47: 2226976 | G47: 0 | H47: 3180398
E48: KOPĀ | F48: =SUM(F14:F47) -> 33551275 | G48: =SUM(G14:G47) -> 114888 | H48: =SUM(H14:H47) -> 47479571
E50: II. No 2024. gada 1. septembra līdz 2024. gada 31. decembrim
E51: Pašvaldības | F51: Pedagogu darba samaksai un valsts sociālās apdrošināšanas obligātajām iemaksām (Euro) | H51: Pavisam kopā (Euro)
E52: Nesadalītie līdzekļi | F52: 16732144 | H52: 23696292
E54: PAVISAM KOPĀ | F54: =+F48+F52 -> 50283419 | H54: =+H48+H52 -> 71175863
B55: * Mērķdotācijas sadalījumu pašvaldībām Izglītības un zinātnes ministrija iesniegs uz likumprojekta izskatīšanu Saeimā otrajā lasījumā, kad būs apkopota informācija par skolēnu skaitu izglītības iestādēs 2023.gada 1.septembrī.

Sheet 9_piel
B3: Nobalsots 1.lasījumā | D3: Priekšlikumi 2.lasījumam | G3: Priekšlikums MK atzinumam
B6: 15. Izglītības un zinātnes ministrija | D6: Izteikt likumprojekta 9.pielikumu jaunā redakcijā:
B8: 9.pielikums | F8: 9.pielikums
A9: ='8_piel'!A9+1 -> 53 | B9: Mērķdotācijas pašvaldībām – pašvaldību izglītības iestādēs bērnu no piecu gadu vecuma izglītošanā nodarbināto pedagogu darba samaksai un valsts sociālās apdrošināšanas obligātajām iemaksām | D9: Mērķdotācijas pašvaldībām – pašvaldību izglītības iestādēs bērnu no piecu gadu vecuma izglītošanā nodarbināto pedagogu darba samaksai un valsts sociālās apdrošināšanas obligātajām iemaksām | G9: Atbalstīt
D11: I. No 2024.gada 1.janvāra līdz 2024.gada 31.augustam
B12: Pašvaldības | C12: Euro | D12: Pasvaldības | E12: Euro | F12: tai skaitā par izglītības programmu īstenošanu valsts valodā mazākumtautību izglītojamiem
B14: KOPĀ | C14: 80962209 | D14: Rīgas valstspilsēta | E14: 12507011 | F14: 918883
D15: Daugavpils valstspilsēta | E15: 2228472 | F15: 187190
D16: Jelgavas valstspilsēta | E16: 1375066 | F16: 7983
D17: Jūrmalas valstspilsēta | E17: 1179258 | F17: 69921
D18: Liepājas valstspilsēta | E18: 1890094 | F18: 75702
D19: Rēzeknes valstspilsēta | E19: 804852 | F19: 51202
D20: Ventspils valstspilsēta | E20: 845367 | F20: 22573
D21: Aizkraukles novads | E21: 931887 | F21: 0
D22: Alūksnes novads | E22: 431303 | F22: 0
D23: Augšdaugavas novads | E23: 429669 | F23: 10461
D24: Ādažu novads | E24: 730060 | F24: 4129
D25: Balvu novads | E25: 571647 | F25: 275
D26: Bauskas novads | E26: 1604827 | F26: 551
... D57: KOPĀ | E57: 50994857 | F57: 1444392
D59: II. No 2024.gada 1.septembra līdz 2024.gada 31.decembrim
D60: Pašvaldības | E60: Euro
D61: Nesadalītie līdzekļi | E61: 24775232
D63: PAVISAM KOPĀ | E63: =+E57+E61 -> 75770089
B64: * Mērķdotācijas sadalījumu pašvaldībām Izglītības un zinātnes ministrija iesniegs uz likumprojekta izskatīšanu Saeimā otrajā lasījumā, kad būs apkopota informācija par skolēnu skaitu izglītības iestādēs 2023.gada 1.septembrī.
B67: Finanšu ministrs | F67: A. Ašeradens
B70: Siņkovska, 26573078
B71: dace.sinkovska@fm.gov.lv
