Workbook
Name Dropdownlist: #REF!:INDEX(#REF!,COUNTIF(#REF!,"?*"))
Name Poligonu_skaits: 'Skaidrojumi 1. daļa un biotopi'!$I$2:$I$11
Name Teritorijas_platība: 'Skaidrojumi 1. daļa un biotopi'!$I$2:$I$11

Sheet Anketa
A1: Natura 2000 teritorijas izveides priekšlikuma zinātniskais pamatojums
A2: 1. Vispārēja informācija
A3: 1.1. | B3: Plānotais Natura 2000 teritorijas tips: | F3: B tips | K3: 4
B4: =IFERROR(INDEX('Skaidrojumi 1. daļa un biotopi'!$B$3:$C$5,MATCH(Anketa!$F$3,'Skaidrojumi 1. daļa un biotopi'!$B$3:$B$5,0),2),"") -> teritorijas, kas noteiktas īpaši aizsargājamo sugu, izņemot putnus, un īpaši aizsargājamo biotopu aizsardzībai
A5: 1.2. | B5: Poligona ID kods | E5: 1028
B6: Teritorijai piešķirtais kods
A7: 1.3. | B7: Teritorijas aizsardzības statuss | E7: Šobrīd statusa nav, tiks veidota jauna ĪADT
A8: 1.4. | B8: Teritorijas aizsardzības kategorija eošais vai, veidojot jaunu ĪADT, plānotais | E8: Dabas liegums
A9: 1.5. | B9: Teritorijas nosaukums | E9: Jānēnu un Zonu pļavas
A10: 1.6. | B10: Priekšlikuma sagatavošanas datums | F10: 16.05.2024.
A11: 1.7. | B11: Priekšlikuma sagatavotājs (organizācija) | F11: Dabas aizsardzības parvalde
A12: 1.8. | B12: Teritorijas centra koordinātes LKS-92 sistēmā | F12: X | G12: 438384
F13: Y | G13: 312792
A14: 1.9. | B14: Teritorijas platība, ha | D14: 33.9137 | E14: Telpiski nodalītu teritoriju daļu skaits: | I14: 2
A15: 2. Teritorijā sastopamie Eiropas Savienības nozīmes biotopi, kuru aizsardzībai teritorija tiek veidota, un to novērtējums
A16: Kods | B16: Biotopa nosaukums | E16: Platība, ha | F16: Datu kvalitāte | G16: Teritorijas novērtējums | K16: Biotopa kopējā platība valstī, ha | L16: % no valsts
G17: Reprezen-tativitāte | H17: Relatīvā platība | I17: Saglabāšanās pakāpe | J17: Vispārējais novērtējums
A18: 6270* | B18: =IFERROR(INDEX('Skaidrojumi 1. daļa un biotopi'!$B$18:$C$78,MATCH(Anketa!A18,'Skaidrojumi 1. daļa un biotopi'!$B$18:$B$78,0),2),"") -> Sugām bagātas ganības un ganītas pļavas | E18: 29.3386 | F18: G | G18: B | H18: C | I18: B | J18: B | K18: 24936.41 | L18: =E18*100/K18 -> 0.11765366
A19: Lietoto apzīmējumu skaidrojumi: Datu kvalitāte - G = laba, M = vidēja, P = slikta; Teritorijas novērtējums (Reprezentativitāte) - A = izcila, B = laba, C = nozīmīga, D = nenozīmīga; Teritorijas novērtējums (Relatīvā platība) - A = 100 ≥ p > 15 %, B = 15 ≥ p > 2 %, C = 2 ≥ p > 0 %; Teritorijas novērtējums (Saglabāšanās pakāpe) - A = izcila, B = laba, C = viduvēja vai zema; Teritorijas novērtējums (Vispārējais novērtējums-Šis kritērijs atspoguļo vispārējo novērtējumu par to, kāda ir teritorijas nozīme attiecīgā dzīvotņu veida saglabāšanā) - A = izcila vērtība, B = liela vērtība, C = ievērojama vērtība.
A20: 2.2. | B20: Biotopu kopējā platība, ha | D20: =SUM(E18:E18) -> 29.3386 | E20: Biotopu kopējā platība, % | H20: =D20/D14 -> 0.86509582
A21: 3. Teritorijā sastopamās Eiropas Savienības nozīmes sugas, izņemot putnus, kuru aizsardzībai teritorija tiek veidota, un to novērtējums
A22: 3.1. Teritorijā konstatēto īpaši aizsargājamo sugu, kas nozīmīgas Natura 2000 teritorijas aizsardzības stāvokļa pamatošanai, saraksts un populācijas raksturojums teritorijā
A23: Sugu atradņu skaits
A24: Suga | E24: Teritorijā sastopamā populācija
A25: Taks. grupa | B25: Kods | C25: Zinātniskais nosaukums | D25: Latviskais nosaukums | E25: Tips | F25: Lielums | H25: Vienība | I25: Sastopamības kategorija | J25: Datu kvalitāte
F26: Min | G26: Max
A27: Sugas no 1992. gada 21. maija Padomes Direktīvas 92/43/EEK par dabisko dzīvotņu, savvaļas faunas un flora (Biotopu direktīva) II pielikuma
B28: =IFERROR(INDEX('Biotopu direktīvas II p. sugas'!$B$2:$D$69,MATCH($D28,'Biotopu direktīvas II p. sugas'!$B$2:$B$69,0),3),"") | C28: =IFERROR(INDEX('Biotopu direktīvas II p. sugas'!$B$2:$D$69,MATCH($D28,'Biotopu direktīvas II p. sugas'!$B$2:$B$69,0),2),"") | F28: =IFERROR(INDEX('Sugas skaidrojumi'!$A$12:$B$15,MATCH(Anketa!E28,'Sugas skaidrojumi'!$A$12:$A$15,0),2),"")
A29: Sugas no 2012. gada 18. decembra Ministru kabineta noteikumiem Nr. 940 "Noteikumi par mikroliegumu izveidošanas un apsaimniekošanas kārtību, to aizsardzību, kā arī mikroliegumu un to buferzonu noteikšanu" 1. pielikuma
A31: Lietoto apzīmējumu skaidrojumi: Taks. grupa - A = abinieki, F = zivis, I = bezmugurkaulnieki, M = zīdītāji, P = augi, R = rāpuļi, Fu = sēnes, L = ķērpji; Tips - p = uzturas pastāvīgi, r = vairojas, c = pulcējas, w = ziemo; Vienība - i = atsevišķi īpatņi, p = pāri, adults = pieaugušie, area = populācija m2, bfemales = mātīšu skaits, kuras vairojas, cmales = vokalizējošu tēviņu skaits, colonies = kolonijas, fstems = ziedošo augu skaits, grids10x10 = 10x10 km laukuma skaits, grids1x1 = 1x1 km laukuma skaits, grids5x5 = 5x5 km laukuma skaits, length = apdzīvotā biotopa garums km, localities = atradnes, logs = apdzīvoto stumbru skaits, males = tēviņu skaits, shoots = dzinumu skaits, stones = apdzīvoto akmeņu skaits, subadults = jauno indivīdu skaits, trees = apdzīvoto koku skaits, tufts = ceru skaits; Sastopamības kategorija - C = izplatīta suga, R = reta suga, V = ļoti reta suga, P = pārstāvēta suga; Datu kvalitāte - G = laba, M = vidēja, P = slikta, DD = nepilnīgi dati;
A32: 3.2. | B32: Prioritāras sugām/sugu grupu aizsardzības nodrošināšanai nepieciešamas teritorijas | G32: Platība, ha
B33: Lapkoku praulgrauzis Osmoderma eremita (barnabita) | G33: 0
B34: Pūces/dzeņi | G34: 0
A36: 3.3. | B36: Sugas, kuru aizsardzībai teritorijā izveidots mikroliegums
B37: Taksonomiskā grupa | D37: Sugas nosaukums latviski | E37: Sugas zinātniskais nosaukums | G37: Mikrolieguma kods | I37: Teritorijas platība, ha | K37: Mikrolieguma buferzonas platība, ha
B39: Visas Kollemas ir zem sugas nosaukuma "Kollemas", visas Skleroforas ir zem sugas nosaukuma "Skleroforas", Baktrospora sp.
A40: 3.4. Īpaši aizsargājamās sugas/-u, kas būtiskas Naturas 2000 teritorijas izveidē, populācijas/-u raksturojums
A42: * īpaši aizsargājamās sugas populācijas lielums un blīvums attiecīgajā teritorijā attiecībā pret šīs sugas populāciju lielumu un blīvumu Latvijā kopumā; * īpaši aizsargājamai sugai nozīmīgas dzīvotnes un tās iezīmju aizsardzības pakāpe un atjaunošanas iespējas; * attiecīgajā teritorijā esošās īpaši aizsargājamās sugas populācijas izolācijas pakāpe attiecībā pret citām tās pašas sugas populācijām un šīs sugas dabisko izplatību kopumā; * attiecīgās teritorijas starptautiskā nozīme īpaši aizsargājamās sugas un tās dzīvotņu aizsardzībā un saglabāšanā; * dzīvnieku sugai ar plašu dabiskās izplatības areālu teritoriju nosaka atbilstoši sugas dabiskās izplatības robežām, kuru ietvaros biotiskajiem un abiotiskajiem faktoriem ir būtiska nozīme sugas pastāvēšanas un vairošanās procesā; * ūdenī mītošai sugai ar plašu izplatības areālu teritoriju nosaka tikai tad, ja iespējams precīzi noteikt robežas, kuru ietvaros izpaužas biotiskie un abiotiskie faktori, kuriem ir būtiska nozīme sugas pastāvēšanas un vairošanās procesā.
A43: 4. Teritorijas apraksts
A44: 4.1. | B44: Īpašumu formas teritorijā | G44: Platība
...

Sheet Lapa1

Sheet N200 info
A1: Poligona ID | B1: Platība, ha | C1: Piekļaujas esošai N2000 | D1: Mikroliegumi, ha | E1: ML buferzonas, ha | F1: Pūču/ dzeņu prioritārās vietas, ha | G1: LVM zemes, ha | H1: LVM zemes, % | I1: Biotopi, ha | J1: Biotopi, % | K1: Sugu atradņu skaits | L1: Poligona pārklāšanās ar praulgrauža kodolteritorijām, ha
A2: 1 | B2: 986.84516 | C2: Jā | D2: 40.21963 | E2: 0.474618 | F2: 732.81608 | G2: 792.6136 | H2: =G2/B2 -> 0.80317929 | I2: 403.18155 | J2: =I2/B2 -> 0.40855604 | K2: 51 | L2: 0
A3: 2 | B3: 298.6939 | C3: Jā | D3: 22.505749 | E3: 0 | F3: 111.89097 | G3: 256.98959 | H3: =G3/B3 -> 0.86037777 | I3: 162.08444 | J3: =I3/B3 -> 0.54264394 | K3: 2 | L3: 0
A4: 5 | B4: 350.72147 | C4: Nē | D4: 0 | E4: 0 | F4: 117.75305 | G4: 0 | H4: =G4/B4 -> 0 | I4: 122.00124 | J4: =I4/B4 -> 0.3478579 | K4: 11 | L4: 0
A5: 6 | B5: 798.19693 | C5: Nē | D5: 0 | E5: 0 | F5: 167.72499 | G5: 0 | H5: =G5/B5 -> 0 | I5: 39.336234 | J5: =I5/B5 -> 0.049281365 | K5: 11 | L5: 0
A6: 12 | B6: 5.581001 | C6: Jā | D6: 0 | E6: 0 | F6: 5.581001 | G6: 0 | H6: =G6/B6 -> 0 | I6: 4.728487 | J6: =I6/B6 -> 0.84724712 | K6: 0 | L6: 0
A7: 15 | B7: 1198.4522 | C7: Jā | D7: 16.153749 | E7: 0 | F7: 448.91271 | G7: 580.11979 | H7: =G7/B7 -> 0.48405751 | I7: 620.39282 | J7: =I7/B7 -> 0.51766171 | K7: 13 | L7: 0
A8: 24 | B8: 6.700569 | C8: Jā | D8: 0 | E8: 0 | F8: 2.163225 | G8: 0 | H8: =G8/B8 -> 0 | I8: 0 | J8: =I8/B8 -> 0 | K8: 0 | L8: 6.700569
A9: 28 | B9: 186.05789 | C9: Nē | D9: 0 | E9: 0 | F9: 82.909118 | G9: 1.768502 | H9: =G9/B9 -> 0.0095051171 | I9: 85.136026 | J9: =I9/B9 -> 0.45757816 | K9: 0 | L9: 0
A10: 32 | B10: 4637.3857 | C10: Jā | D10: 4.981019 | E10: 24.519833 | F10: 1423.3632 | G10: 0 | H10: =G10/B10 -> 0 | I10: 2314.8625 | J10: =I10/B10 -> 0.49917404 | K10: 218 | L10: 978.86892
A11: 35 | B11: 66.379384 | C11: Nē | D11: 6.716242 | E11: 16.564395 | F11: 50.368208 | G11: 66.379384 | H11: =G11/B11 -> 1 | I11: 28.789908 | J11: =I11/B11 -> 0.43371761 | K11: 2 | L11: 0
A12: 37 | B12: 3.709001 | C12: Nē | D12: 0 | E12: 0 | F12: 0.506846 | G12: 0 | H12: =G12/B12 -> 0 | I12: 2.96298 | J12: =I12/B12 -> 0.79886201 | K12: 0 | L12: 0
A13: 39 | B13: 72.142787 | C13: Nē | D13: 0 | E13: 0 | F13: 14.19761 | G13: 0 | H13: =G13/B13 -> 0 | I13: 54.581028 | J13: =I13/B13 -> 0.75656944 | K13: 2 | L13: 0
... A342: 1000 | B342: 45.324164 | C342: Nē | D342: 0 | E342: 0 | F342: 43.260404 | G342: 45.324135 | H342: =G342/B342 -> 0.99999936 | I342: 24.301059 | J342: =I342/B342 -> 0.53616122 | K342: 10 | L342: 0

Sheet Biotopi poligonos
A1: Biotopi potenciālajās Natura 2000
A2: Poligona ID | B2: Biotops | C2: Biotopa platība, ha | D2: Biotopa īpatsvars, %
A3: 1 | B3: 3150 | C3: 75.197662 | D3: 0.076200062 | E3: =EXACT(Anketa!$E$5,'Biotopi poligonos'!A3) -> FALSE | F3: =IF(E3=TRUE,COUNTIF($E$3:E3,TRUE),"") | G3: =IFERROR(INDEX($B$3:$B$1772,MATCH(ROWS($F$3:F3),$F$3:$F$1772,0)),"") | H3: =IFERROR(INDEX($C$3:$C$1772,MATCH(ROWS($F$3:F3),$F$3:$F$1772,0)),"")
A4: 1 | B4: 6120* | C4: 1.868102 | D4: 0.0018930042 | E4: =EXACT(Anketa!$E$5,'Biotopi poligonos'!A4) -> FALSE | F4: =IF(E4=TRUE,COUNTIF($E$3:E4,TRUE),"") | G4: =IFERROR(INDEX($B$3:$B$1772,MATCH(ROWS($F$3:F4),$F$3:$F$1772,0)),"") | H4: =IFERROR(INDEX($C$3:$C$1772,MATCH(ROWS($F$3:F4),$F$3:$F$1772,0)),"")
A5: 1 | B5: 7140 | C5: 4.731213 | D5: 0.004794281 | E5: =EXACT(Anketa!$E$5,'Biotopi poligonos'!A5) -> FALSE | F5: =IF(E5=TRUE,COUNTIF($E$3:E5,TRUE),"") | G5: =IFERROR(INDEX($B$3:$B$1772,MATCH(ROWS($F$3:F5),$F$3:$F$1772,0)),"") | H5: =IFERROR(INDEX($C$3:$C$1772,MATCH(ROWS($F$3:F5),$F$3:$F$1772,0)),"")
A6: 1 | B6: 9010* | C6: 70.451809 | D6: 0.071390945 | E6: =EXACT(Anketa!$E$5,'Biotopi poligonos'!A6) -> FALSE | F6: =IF(E6=TRUE,COUNTIF($E$3:E6,TRUE),"") | G6: =IFERROR(INDEX($B$3:$B$1772,MATCH(ROWS($F$3:F6),$F$3:$F$1772,0)),"") | H6: =IFERROR(INDEX($C$3:$C$1772,MATCH(ROWS($F$3:F6),$F$3:$F$1772,0)),"")
A7: 1 | B7: 9020* | C7: 1.53755 | D7: 0.0015580458 | E7: =EXACT(Anketa!$E$5,'Biotopi poligonos'!A7) -> FALSE | F7: =IF(E7=TRUE,COUNTIF($E$3:E7,TRUE),"") | G7: =IFERROR(INDEX($B$3:$B$1772,MATCH(ROWS($F$3:F7),$F$3:$F$1772,0)),"") | H7: =IFERROR(INDEX($C$3:$C$1772,MATCH(ROWS($F$3:F7),$F$3:$F$1772,0)),"")
A8: 1 | B8: 9050 | C8: 0.170254 | D8: 0.00017252352 | E8: =EXACT(Anketa!$E$5,'Biotopi poligonos'!A8) -> FALSE | F8: =IF(E8=TRUE,COUNTIF($E$3:E8,TRUE),"") | G8: =IFERROR(INDEX($B$3:$B$1772,MATCH(ROWS($F$3:F8),$F$3:$F$1772,0)),"") | H8: =IFERROR(INDEX($C$3:$C$1772,MATCH(ROWS($F$3:F8),$F$3:$F$1772,0)),"")
A9: 1 | B9: 9080* | C9: 32.757231 | D9: 0.033193891 | E9: =EXACT(Anketa!$E$5,'Biotopi poligonos'!A9) -> FALSE | F9: =IF(E9=TRUE,COUNTIF($E$3:E9,TRUE),"") | G9: =IFERROR(INDEX($B$3:$B$1772,MATCH(ROWS($F$3:F9),$F$3:$F$1772,0)),"") | H9: =IFERROR(INDEX($C$3:$C$1772,MATCH(ROWS($F$3:F9),$F$3:$F$1772,0)),"")
A10: 1 | B10: 91D0* | C10: 189.40441 | D10: 0.19192921 | E10: =EXACT(Anketa!$E$5,'Biotopi poligonos'!A10) -> FALSE | F10: =IF(E10=TRUE,COUNTIF($E$3:E10,TRUE),"") | G10: =IFERROR(INDEX($B$3:$B$1772,MATCH(ROWS($F$3:F10),$F$3:$F$1772,0)),"") | H10: =IFERROR(INDEX($C$3:$C$1772,MATCH(ROWS($F$3:F10),$F$3:$F$1772,0)),"")
A11: 1 | B11: 91E0* | C11: 27.063317 | D11: 0.027424076 | E11: =EXACT(Anketa!$E$5,'Biotopi poligonos'!A11) -> FALSE | F11: =IF(E11=TRUE,COUNTIF($E$3:E11,TRUE),"") | G11: =IFERROR(INDEX($B$3:$B$1772,MATCH(ROWS($F$3:F11),$F$3:$F$1772,0)),"") | H11: =IFERROR(INDEX($C$3:$C$1772,MATCH(ROWS($F$3:F11),$F$3:$F$1772,0)),"")
A12: 2 | B12: 3150 | C12: 0.058007 | D12: 0.00019420216 | E12: =EXACT(Anketa!$E$5,'Biotopi poligonos'!A12) -> FALSE | F12: =IF(E12=TRUE,COUNTIF($E$3:E12,TRUE),"") | G12: =IFERROR(INDEX($B$3:$B$1772,MATCH(ROWS($F$3:F12),$F$3:$F$1772,0)),"") | H12: =IFERROR(INDEX($C$3:$C$1772,MATCH(ROWS($F$3:F12),$F$3:$F$1772,0)),"")
A13: 2 | B13: 6270* | C13: 14.241391 | D13: 0.047678882 | E13: =EXACT(Anketa!$E$5,'Biotopi poligonos'!A13) -> FALSE | F13: =IF(E13=TRUE,COUNTIF($E$3:E13,TRUE),"") | G13: =IFERROR(INDEX($B$3:$B$1772,MATCH(ROWS($F$3:F13),$F$3:$F$1772,0)),"") | H13: =IFERROR(INDEX($C$3:$C$1772,MATCH(ROWS($F$3:F13),$F$3:$F$1772,0)),"")
A14: 2 | B14: 7110* | C14: 1.943796 | D14: 0.0065076522 | E14: =EXACT(Anketa!$E$5,'Biotopi poligonos'!A14) -> FALSE | F14: =IF(E14=TRUE,COUNTIF($E$3:E14,TRUE),"") | G14: =IFERROR(INDEX($B$3:$B$1772,MATCH(ROWS($F$3:F14),$F$3:$F$1772,0)),"") | H14: =IFERROR(INDEX($C$3:$C$1772,MATCH(ROWS($F$3:F14),$F$3:$F$1772,0)),"")
A15: 2 | B15: 7140 | C15: 0.784269 | D15: 0.0026256613 | E15: =EXACT(Anketa!$E$5,'Biotopi poligonos'!A15) -> FALSE | F15: =IF(E15=TRUE,COUNTIF($E$3:E15,TRUE),"") | G15: =IFERROR(INDEX($B$3:$B$1772,MATCH(ROWS($F$3:F15),$F$3:$F$1772,0)),"") | H15: =IFERROR(INDEX($C$3:$C$1772,MATCH(ROWS($F$3:F15),$F$3:$F$1772,0)),"")
A16: 2 | B16: 9010* | C16: 30.170874 | D16: 0.10100934 | E16: =EXACT(Anketa!$E$5,'Biotopi poligonos'!A16) -> FALSE | F16: =IF(E16=TRUE,COUNTIF($E$3:E16,TRUE),"") | G16: =IFERROR(INDEX($B$3:$B$1772,MATCH(ROWS($F$3:F16),$F$3:$F$1772,0)),"") | H16: =IFERROR(INDEX($C$3:$C$1772,MATCH(ROWS($F$3:F16),$F$3:$F$1772,0)),"")
A17: 2 | B17: 9020* | C17: 10.623778 | D17: 0.035567442 | E17: =EXACT(Anketa!$E$5,'Biotopi poligonos'!A17) -> FALSE | F17: =IF(E17=TRUE,COUNTIF($E$3:E17,TRUE),"") | G17: =IFERROR(INDEX($B$3:$B$1772,MATCH(ROWS($F$3:F17),$F$3:$F$1772,0)),"") | H17: =IFERROR(INDEX($C$3:$C$1772,MATCH(ROWS($F$3:F17),$F$3:$F$1772,0)),"")
A18: 2 | B18: 9050 | C18: 7.81757 | D18: 0.026172513 | E18: =EXACT(Anketa!$E$5,'Biotopi poligonos'!A18) -> FALSE | F18: =IF(E18=TRUE,COUNTIF($E$3:E18,TRUE),"") | G18: =IFERROR(INDEX($B$3:$B$1772,MATCH(ROWS($F$3:F18),$F$3:$F$1772,0)),"") | H18: =IFERROR(INDEX($C$3:$C$1772,MATCH(ROWS($F$3:F18),$F$3:$F$1772,0)),"")
A19: 2 | B19: 9080* | C19: 33.573804 | D19: 0.11240204 | E19: =EXACT(Anketa!$E$5,'Biotopi poligonos'!A19) -> FALSE | F19: =IF(E19=TRUE,COUNTIF($E$3:E19,TRUE),"") | G19: =IFERROR(INDEX($B$3:$B$1772,MATCH(ROWS($F$3:F19),$F$3:$F$1772,0)),"") | H19: =IFERROR(INDEX($C$3:$C$1772,MATCH(ROWS($F$3:F19),$F$3:$F$1772,0)),"")
A20: 2 | B20: 91D0* | C20: 24.257469 | D20: 0.0812118 | E20: =EXACT(Anketa!$E$5,'Biotopi poligonos'!A20) -> FALSE | F20: =IF(E20=TRUE,COUNTIF($E$3:E20,TRUE),"") | G20: =IFERROR(INDEX($B$3:$B$1772,MATCH(ROWS($F$3:F20),$F$3:$F$1772,0)),"") | H20: =IFERROR(INDEX($C$3:$C$1772,MATCH(ROWS($F$3:F20),$F$3:$F$1772,0)),"")
A21: 2 | B21: 91E0* | C21: 38.613474 | D21: 0.1292744 | E21: =EXACT(Anketa!$E$5,'Biotopi poligonos'!A21) -> FALSE | F21: =IF(E21=TRUE,COUNTIF($E$3:E21,TRUE),"") | G21: =IFERROR(INDEX($B$3:$B$1772,MATCH(ROWS($F$3:F21),$F$3:$F$1772,0)),"") | H21: =IFERROR(INDEX($C$3:$C$1772,MATCH(ROWS($F$3:F21),$F$3:$F$1772,0)),"")
A22: 5 | B22: 3260 | C22: 3.898379 | D22: 0.011115313 | E22: =EXACT(Anketa!$E$5,'Biotopi poligonos'!A22) -> FALSE | F22: =IF(E22=TRUE,COUNTIF($E$3:E22,TRUE),"") | G22: =IFERROR(INDEX($B$3:$B$1772,MATCH(ROWS($F$3:F22),$F$3:$F$1772,0)),"") | H22: =IFERROR(INDEX($C$3:$C$1772,MATCH(ROWS($F$3:F22),$F$3:$F$1772,0)),"")
A23: 5 | B23: 6120* | C23: 15.554358 | D23: 0.044349603 | E23: =EXACT(Anketa!$E$5,'Biotopi poligonos'!A23) -> FALSE | F23: =IF(E23=TRUE,COUNTIF($E$3:E23,TRUE),"") | G23: =IFERROR(INDEX($B$3:$B$1772,MATCH(ROWS($F$3:F23),$F$3:$F$1772,0)),"") | H23: =IFERROR(INDEX($C$3:$C$1772,MATCH(ROWS($F$3:F23),$F$3:$F$1772,0)),"")
A24: 5 | B24: 6270* | C24: 12.713279 | D24: 0.036248932 | E24: =EXACT(Anketa!$E$5,'Biotopi poligonos'!A24) -> FALSE | F24: =IF(E24=TRUE,COUNTIF($E$3:E24,TRUE),"") | G24: =IFERROR(INDEX($B$3:$B$1772,MATCH(ROWS($F$3:F24),$F$3:$F$1772,0)),"") | H24: =IFERROR(INDEX($C$3:$C$1772,MATCH(ROWS($F$3:F24),$F$3:$F$1772,0)),"")
A25: 5 | B25: 6450 | C25: 89.835221 | D25: 0.25614406 | E25: =EXACT(Anketa!$E$5,'Biotopi poligonos'!A25) -> FALSE | F25: =IF(E25=TRUE,COUNTIF($E$3:E25,TRUE),"") | G25: =IFERROR(INDEX($B$3:$B$1772,MATCH(ROWS($F$3:F25),$F$3:$F$1772,0)),"") | H25: =IFERROR(INDEX($C$3:$C$1772,MATCH(ROWS($F$3:F25),$F$3:$F$1772,0)),"")
A26: 6 | B26: 7110* | C26: 0.025028 | D26: 3.1355671e-05 | E26: =EXACT(Anketa!$E$5,'Biotopi poligonos'!A26) -> FALSE | F26: =IF(E26=TRUE,COUNTIF($E$3:E26,TRUE),"") | G26: =IFERROR(INDEX($B$3:$B$1772,MATCH(ROWS($F$3:F26),$F$3:$F$1772,0)),"") | H26: =IFERROR(INDEX($C$3:$C$1772,MATCH(ROWS($F$3:F26),$F$3:$F$1772,0)),"")
A27: 6 | B27: 9010* | C27: 0.070583 | D27: 8.8428053e-05 | E27: =EXACT(Anketa!$E$5,'Biotopi poligonos'!A27) -> FALSE | F27: =IF(E27=TRUE,COUNTIF($E$3:E27,TRUE),"") | G27: =IFERROR(INDEX($B$3:$B$1772,MATCH(ROWS($F$3:F27),$F$3:$F$1772,0)),"") | H27: =IFERROR(INDEX($C$3:$C$1772,MATCH(ROWS($F$3:F27),$F$3:$F$1772,0)),"")
A28: 6 | B28: 9050 | C28: 0.503865 | D28: 0.000631254 | E28: =EXACT(Anketa!$E$5,'Biotopi poligonos'!A28) -> FALSE | F28: =IF(E28=TRUE,COUNTIF($E$3:E28,TRUE),"") | G28: =IFERROR(INDEX($B$3:$B$1772,MATCH(ROWS($F$3:F28),$F$3:$F$1772,0)),"") | H28: =IFERROR(INDEX($C$3:$C$1772,MATCH(ROWS($F$3:F28),$F$3:$F$1772,0)),"")
A29: 6 | B29: 9080* | C29: 38.736754 | D29: 0.048530322 | E29: =EXACT(Anketa!$E$5,'Biotopi poligonos'!A29) -> FALSE | F29: =IF(E29=TRUE,COUNTIF($E$3:E29,TRUE),"") | G29: =IFERROR(INDEX($B$3:$B$1772,MATCH(ROWS($F$3:F29),$F$3:$F$1772,0)),"") | H29: =IFERROR(INDEX($C$3:$C$1772,MATCH(ROWS($F$3:F29),$F$3:$F$1772,0)),"")
A30: 12 | B30: 6410 | C30: 0.046655 | D30: 0.0083596115 | E30: =EXACT(Anketa!$E$5,'Biotopi poligonos'!A30) -> FALSE | F30: =IF(E30=TRUE,COUNTIF($E$3:E30,TRUE),"") | G30: =IFERROR(INDEX($B$3:$B$1772,MATCH(ROWS($F$3:F30),$F$3:$F$1772,0)),"") | H30: =IFERROR(INDEX($C$3:$C$1772,MATCH(ROWS($F$3:F30),$F$3:$F$1772,0)),"")
A31: 12 | B31: 6450 | C31: 4.681832 | D31: 0.8388875 | E31: =EXACT(Anketa!$E$5,'Biotopi poligonos'!A31) -> FALSE | F31: =IF(E31=TRUE,COUNTIF($E$3:E31,TRUE),"") | G31: =IFERROR(INDEX($B$3:$B$1772,MATCH(ROWS($F$3:F31),$F$3:$F$1772,0)),"")
A32: 15 | B32: 2330 | C32: 38.660209 | D32: 0.032258449 | E32: =EXACT(Anketa!$E$5,'Biotopi poligonos'!A32) -> FALSE | F32: =IF(E32=TRUE,COUNTIF($E$3:E32,TRUE),"") | G32: =IFERROR(INDEX($B$3:$B$1772,MATCH(ROWS($F$3:F32),$F$3:$F$1772,0)),"")
A33: 15 | B33: 3150 | C33: 1.972842 | D33: 0.0016461583 | E33: =EXACT(Anketa!$E$5,'Biotopi poligonos'!A33) -> FALSE | F33: =IF(E33=TRUE,COUNTIF($E$3:E33,TRUE),"") | G33: =IFERROR(INDEX($B$3:$B$1772,MATCH(ROWS($F$3:F33),$F$3:$F$1772,0)),"")
A34: 15 | B34: 3260 | C34: 4.414796 | D34: 0.0036837481 | E34: =EXACT(Anketa!$E$5,'Biotopi poligonos'!A34) -> FALSE | F34: =IF(E34=TRUE,COUNTIF($E$3:E34,TRUE),"") | G34: =IFERROR(INDEX($B$3:$B$1772,MATCH(ROWS($F$3:F34),$F$3:$F$1772,0)),"")
A35: 15 | B35: 6450 | C35: 34.074055 | D35: 0.028431718 | E35: =EXACT(Anketa!$E$5,'Biotopi poligonos'!A35) -> FALSE | F35: =IF(E35=TRUE,COUNTIF($E$3:E35,TRUE),"") | G35: =IFERROR(INDEX($B$3:$B$1772,MATCH(ROWS($F$3:F35),$F$3:$F$1772,0)),"")
A36: 15 | B36: 7110* | C36: 4.863637 | D36: 0.0040582653 | E36: =EXACT(Anketa!$E$5,'Biotopi poligonos'!A36) -> FALSE | F36: =IF(E36=TRUE,COUNTIF($E$3:E36,TRUE),"") | G36: =IFERROR(INDEX($B$3:$B$1772,MATCH(ROWS($F$3:F36),$F$3:$F$1772,0)),"")
A37: 15 | B37: 7140 | C37: 37.532812 | D37: 0.031317738 | E37: =EXACT(Anketa!$E$5,'Biotopi poligonos'!A37) -> FALSE | F37: =IF(E37=TRUE,COUNTIF($E$3:E37,TRUE),"") | G37: =IFERROR(INDEX($B$3:$B$1772,MATCH(ROWS($F$3:F37),$F$3:$F$1772,0)),"")
A38: 15 | B38: 9010* | C38: 202.01928 | D38: 0.16856683 | E38: =EXACT(Anketa!$E$5,'Biotopi poligonos'!A38) -> FALSE | F38: =IF(E38=TRUE,COUNTIF($E$3:E38,TRUE),"") | G38: =IFERROR(INDEX($B$3:$B$1772,MATCH(ROWS($F$3:F38),$F$3:$F$1772,0)),"")
A39: 15 | B39: 9050 | C39: 1.218607 | D39: 0.0010168173 | E39: =EXACT(Anketa!$E$5,'Biotopi poligonos'!A39) -> FALSE | F39: =IF(E39=TRUE,COUNTIF($E$3:E39,TRUE),"") | G39: =IFERROR(INDEX($B$3:$B$1772,MATCH(ROWS($F$3:F39),$F$3:$F$1772,0)),"")
A40: 15 | B40: 9080* | C40: 48.402848 | D40: 0.0403878 | E40: =EXACT(Anketa!$E$5,'Biotopi poligonos'!A40) -> FALSE | F40: =IF(E40=TRUE,COUNTIF($E$3:E40,TRUE),"") | G40: =IFERROR(INDEX($B$3:$B$1772,MATCH(ROWS($F$3:F40),$F$3:$F$1772,0)),"")
...

Sheet Sheet1
A1: CODE_EC | B1: Ha
A2: 1110 | B2: 296.14945
A3: 1150* | B3: 31.343818
A4: 1170 | B4: 51070.993
A5: 1210 | B5: 30.245531
A6: 1220 | B6: 27.018231
A7: 1230 | B7: 8.639776
A8: 1310 | B8: 30.3389
A9: 1630* | B9: 184.40663
A10: 1640 | B10: 32.253346
A11: 2110 | B11: 134.54836
A12: 2120 | B12: 314.56305
A13: 2130* | B13: 1118.762
A14: 2140* | B14: 54.832023
A15: 2170 | B15: 15.956972
A16: 2180 | B16: 25000.113
A17: 2190 | B17: 773.02993
A18: 2320 | B18: 2489.9369
A19: 2330 | B19: 4.682474
A20: 3130 | B20: 4186.953
A21: 3140 | B21: 6817.4402
A22: 3150 | B22: 29654.591
A23: 3160 | B23: 1355.196
A24: 3190* | B24: 7.774291
A25: 3260 | B25: 5122.6147
A26: 4010 | B26: 1209.3283
A27: 4030 | B27: 18.691191
A28: 5130 | B28: 65.881937
A29: 6110* | B29: 205.49875
A30: 6120* | B30: 270.5124
A31: 6210 | B31: 2754.8033
A32: 6230* | B32: 127.8081
A33: 6270* | B33: 4492.93
A34: 6410 | B34: 1535.8242
A35: 6430 | B35: 253.9603
A36: 6450 | B36: 9916.7445
A37: 6510 | B37: 1471.5844
A38: 6530* | B38: 1395.2329
A39: 7110* | B39: 83909.95
A40: 7120 | B40: 4593.3308
...

Sheet Mikroliegumu sugas
A1: Nosaukums latviski | B1: Latīniski | D1: abinieki | E1: bezmugurkaulnieki | F1: ķērpji | G1: aļģes | H1: putni | I1: rāpuļi | J1: sēnes | K1: sūnas | L1: ziedaugi un paparžaugi | M1: zivis | N1: zīdītāji
A2: Sarkanvēdera ugunskrupis | B2: Bombina bombina | D2: Sarkanvēdera ugunskrupis | E2: Dobumu māņskorpions | F2: Dobumainā akrokodija | G2: Caurspīdīgā nitella | H2: Vistu vanags | I2: Gludenā čūska | J2: Sarainā rūsassēne | K2: Hellera ķīļlape | L2: Dzeltenā kurpīte | M2: Sīga | N2: Meža susuris
A3: Smilšu krupis | B3: Bufo calamita | D3: Smilšu krupis | E3: Garlūpas racējlapsene | F3: Atvasainā alektorija | H3: Bikšainais apogs | I3: Purva bruņurupucis | J3: Kāpu tintene | K3: Nokarenā stardzīslene | L3: Ženēvas cekuliņš | M3: Upes nēģis | N3: Lielais susuris
A4: Lielais tritons | B4: Triturus cristatus | D4: Lielais tritons | E4: Lielacu kamene | F4: Artonijveida artonija | H4: Klinšu ērglis | J4: Rožainā piepe | K4: Sašaurinātā bārdlape | L4: Piramidālais cekuliņš | M4: Lasis | N4: Lidvāvere
A5: Dobumu māņskorpions | B5: Anthrenochernes stellae | E5: Šneidera mizmīlis | F5: Sīkpunktainā artonija | H5: Vidējais ērglis | J5: Lakas plakanpiepe | K5: Trejdaivu bacānija | L5: Zālainā cirvene | M5: Taimiņš
A6: Garlūpas racējlapsene | B6: Bembix rostrata | E6: Lielais Ozolu koksngrauzis | F6: Bālā bacīdija | H6: Mazais ērglis | J6: Košā zeltpore | K6: Zaļā buksbaumija | L6: Šaurlapu cirvene | M6: Alata
A7: Lielacu kamene | B7: Bombus confusus | E7: Bērzu briežvabole | F7: Baktrospora sp. | H7: Lielais dumpis | J7: Hadriāna zemestauki | K7: Apaļlapu dumbrene | L7: Laksis
A8: Šneidera mizmīlis | B8: Boros schneideri | E8: Asribu vārpstiņgliemezis | F8: Lodveida biatora | H8: Ūpis | J8: Melnsvītras cietpiepe | K8: Donavas krāčsūna | L8: Purva mātsakne
A9: Lielais Ozolu koksngrauzis | B9: Cerambyx cerdo | E9: Parastā strautspāre | F9: Null kollema | H9: Baltvaigu zīriņš | J9: Vēdekļa sārtaine | K9: Tamariska frulānija | L9: Spožais suņburkšķis
A10: Bērzu briežvabole | B10: Ceruchus chrysomelinus | E10: Sarkanais plakanis | F10: Divkrāsainā briorija | H10: Baltspārnu zīriņš | J10: Melnā zvīņbeka | K10: Smaržīgā zemessomenīte | L10: Zāļlapu smiltenīte
A11: Asribu vārpstiņgliemezis | B11: Clausilia cruciata | E11: Platā airvabole | F11: Apsarmotā kalīcija | H11: Melnais zīriņš | J11: Milzu skropstvaigzne | K11: Lapzemes āķīte | L11: Jūrmalas miķelīte
A12: Parastā strautspāre | B12: Cordulegaster annulata | E12: Lielais torņgliemezis | F12: Ozolu kalīcija | H12: Melnais stārķis | J12: Parazītiskā samtbeka | K12: Spīdīgā āķīte | L12: Nokarenais tragantzirnis
A13: Sarkanais plakanis | B13: Cucujus cinnaberinus | E13: Lielais dižkoksngrauzis | F13: Olīvzaļā cetrēlija | H13: Čūskērglis | J13: Plaisājošā rūtaine | K13: Ēnāja stāvaine | L13: Vārpu ēnpaparde
A14: Platā airvabole | B14: Dytiscus latissimus | E14: Skabiosu pļavraibenis | F14: Zaļganā henotēka | H14: Meža balodis | K14: Gludkausiņa jungermannija | L14: Zarainā ķekarpaparde
A15: Lielais torņgliemezis | B15: Ena montana | E15: Spīdīgais praulgrauzis | F15: Brūngalvainā henotēka | H15: Zaļā vārna | K15: Doblapu leženeja | L15: Plūksnu ķekarpaparde
A16: Lielais dižkoksngrauzis | B16: Ergates faber | E16: Blāvais praulgrauzis | F16: Lapveida kladonija | H16: Ziemeļu gulbis | K16: Astīšu smaillape | L16: Vienkāršā ķekarpaparde
A17: Skabiosu pļavraibenis | B17: Euphydryas aurinia | E17: Divjoslu airvabole | F17: Paresninātā kladonija | H17: Lielais piekūns | K17: Trīsrindu mēzija | L17: Virdžīnijas ķekarpaparde
A18: Spīdīgais praulgrauzis | B18: Gnorimus nobilis | E18: Lēcveida vīngliemezis | F18: Parazītiskā kladonija | H18: Apodziņš | K18: Īrijas merkija | L18: Benekena zaķauza
A19: Blāvais praulgrauzis | B19: Gnorimus variabilis | E19: Medicīnas dēle | F19: Kollemas | H19: Jūras ērglis | K19: Viļņainā nekera | L19: Izlocītā ķērsa
A20: Divjoslu airvabole | B20: Graphoderus bilineatus | E20: Ošu pļavraibenis | F20: Izplestā evernija | H20: Mazais ķīris | K20: Kailā apaļlape | L20: Pūkainā ķērsa
A21: Lēcveida vīngliemezis | B21: Helicigona lapicida | E21: Liellūpas vīngliemezis | F21: Gobu gialekta | H21: Lielais ķīris | K21: Spurainā dzīparene | L21: Ūdeņu grīslis
A22: Medicīnas dēle | B22: Hirudo medicinalis | E22: Dižā briežvabole | F22: Lentveida hipogimnija | H22: Melnā klija | K22: Nemanāmā šķībvācelīte | L22: Akotainais grīslis
A23: Ošu pļavraibenis | B23: Hypodryas maturna | E23: Skrajribu vārpstiņgliemezis | F23: Zilganā leptogija | H23: Sarkanā klija | K23: Peldošā ričijvācelīte | L23: Vizuļu grīslis
A24: Liellūpas vīngliemezis | B24: Isognomostoma isognomostoma | E24: Ziemeļu upespērlene | F24: Piesātinātā leptogija | H24: Zivjērglis | K24: Birztalu lāpstīte | L24: Divsēklu grīslis
A25: Dižā briežvabole | B25: Lucanus cervus | E25: Sīkspāre | F25: Dobumainais plaušķērpis | H25: Baltmugurdzenis | K25: Tūbainā bārkstlape | L25: Kūdrāja grīslis
... A27: Ziemeļu upespērlene | B27: Margaritifera margaritifera | E27: Lapkoku praulgrauzis | F27: Asinssārtais mikoblasts | H27: Trīspirkstu dzenis | K27: Košzaļā pārzobe | L27: Makenzija grīslis
A28: Sīkspāre | B28: Nehalennia speciosa | E28: Mannerheima īsspārnis | F28: Gludā nefroma | H28: Zaļā dzilna | L28: Pleznveida grīslis
A29: Priežu sveķotājkoksngrauzis | B29: Nothorina punctata | E29: Dzeltenkrūšu ēnvabole | F29: Vienādā nefroma | H29: Mazais zīriņš | L29: Palu grīslis
A30: Lapkoku praulgrauzis | B30: Osmoderma eremita | E30: Īsspārnu sisenis | F30: Izlocītā opegrafa | H30: Upes zīriņš | L30: Matainais grīslis
A31: Mannerheima īsspārnis | B31: Oxyporus mannerheimii | E31: Skujkoku dižkoksngrauzis | F31: Koraļveida parmeliella | H31: Jūras zīriņš | L31: Reihenbaha grīslis
A32: Dzeltenkrūšu ēnvabole | B32: Phryganophilus ruficollis | E32: Biezā perlamutrene | F32: Liepu parmelīna | H32: Mednis | L32: Pēdveida grīslis
A33: Īsspārnu sisenis | B33: Podisma pedestris | E33: Slaidais pumpurgliemezis | F33: Caurumainā pertuzārija | L33: Knābja grīslis
A34: Skujkoku dižkoksngrauzis | B34: Tragosoma depsarium | E34: Spožais pumpurgliemezis | F34: Knupjveida piknotēlija | L34: Skandināvijas grīslis
A35: Biezā perlamutrene | B35: Unio crassus | E35: Četrzobu pumpurgliemezis | F35: Trauslā ramalīna | L35: Sarkanā cefalantēra
A36: Slaidais pumpurgliemezis | B36: Vertigo angustior | E36: Resnais pumpurgliemezis | F36: Skleroforas | L36: Zviedrijas pundurgrimonis
A37: Spožais pumpurgliemezis | B37: Vertigo genesii | F37: Zvīņainā telotrēma | L37: Platlapu cinna
A38: Četrzobu pumpurgliemezis | B38: Vertigo geyeri | F38: Daudzlapu umbilikārija | L38: Lielā raganzālīte
A39: Resnais pumpurgliemezis | B39: Vertigo moulinsiana | F39: Mužo ksantoparmēlija | L39: Mānīgā knīdija
A40: Dobumainā akrokodija | B40: Acrocordia cavata | L40: Zaļā dobziede
A41: Atvasainā alektorija | B41: Alectoria sarmentosa | L41: Trejdaivu koraļsakne
...

Sheet Skaidrojumi 1. daļa un biotopi
H1: 1.8. | I1: Poligonu skaits
A2: 1.1. | B2: Natura 2000 teritorijas izveides mērķis: | I2: nav
B3: A tips | C3: teritorijas, kas noteiktas īpaši aizsargājamo putnu sugu aizsardzībai | I3: 2
B4: B tips | C4: teritorijas, kas noteiktas īpaši aizsargājamo sugu, izņemot putnus, un īpaši aizsargājamo biotopu aizsardzībai | I4: 3
B5: C tips | C5: teritorijas, kas noteiktas īpaši aizsargājamo sugu un īpaši aizsargājamo biotopu aizsardzībai | I5: 4
I6: 5
A7: 1.3. | B7: Teritorijas statuss | I7: 6
B8: ĪADT vai mikroliegums, kam nav Natura 2000 statuss | I8: 7
B9: Šobrīd statusa nav, tiks veidota jauna ĪADT | I9: 8
B10: Teritorija daļēji ietver jau aizsargātu platību (piemēram, mikroliegumu) | I10: 9
I11: 10
A16: 2. | B16: Eiropas Savienības biotopi
B17: Kods | C17: Nosaukums | D17: Datu kvalitāte | F17: Kvalitāte | G17: Sastopamība | H17: Aizsardzība | I17: Globālā vērtība
B18: 1110 | C18: Smilts sēkļi jūrā | D18: G | E18: good | F18: A | G18: A | H18: A | I18: A
B19: 1150* | C19: Lagūnas | D19: M | E19: moderate | F19: B | G19: B | H19: B | I19: B
B20: 1170 | C20: Akmeņu sēkļi jūrā | D20: P | E20: poor | F20: C | G20: C | H20: C | I20: C
B21: 1210 | C21: Viengadīgu augu sabiedrības uz sanesumu joslām | D21: DD | E21: data deficient | F21: D
B22: 1220 | C22: Daudzgadīgs augājs akmeņainās pludmalēs
B23: 1230 | C23: Jūras stāvkrasti
B24: 1310 | C24: Viengadīgu augu sabiedrības dūņainās un zemās smilšainās pludmalēs
B25: 1630* | C25: Piejūras zālāji
B26: 1640 | C26: Smilšainas pludmales ar daudzgadīgu augāju
B27: 2110 | C27: Embrionālās kāpas
B28: 2120 | C28: Priekškāpas
B29: 2130* | C29: Ar lakstaugiem klātas pelēkās kāpas
B30: 2140* | C30: Pelēkās kāpas ar sīkkrūmu audzēm
B31: 2170 | C31: Pelēkās kāpas ar ložņu kārklu
B32: 2180 | C32: Mežainas piejūras kāpas
B33: 2190 | C33: Mitras starpkāpu ieplakas
B34: 2320 | C34: Piejūras zemienes smiltāju līdzenumu sausi virsāji
B35: 2330 | C35: Klajas iekšzemes kāpas
B36: 3130 | C36: Ezeri ar oligotrofām līdz mezotrofām augu sabiedrībām
B37: 3140 | C37: Ezeri ar mieturaļģu augāju
B38: 3150 | C38: Eitrofi ezeri ar iegrimušu ūdensaugu un peldaugu augāju
B39: 3160 | C39: Distrofi ezeri
B40: 3190* | C40: Karsta kritenes
B41: 3260 | C41: Upju straujteces un dabiski upju posmi
B42: 3270 | C42: Dūņaini upju krasti ar slāpekli mīlošu viengadīgu pioniersugu augāju
B43: 4010 | C43: Slapji virsāji
B44: 4030 | C44: Sausi virsāji
...

Sheet Sugas skaidrojumi
A1: Taksonomiskās grupas
A2: A
A3: F
A4: I
A5: M
A6: P
A7: R
A11: Tipi
A12: p | B12: pastāvīgi
A13: r | B13: vairojas
A14: c | B14: koncentrējas
A15: w | B15: ziemo
A17: Sastopamības kategorija
A18: C
A19: R
A20: V
A21: P
A23: i | B23: number of individuals | C23: atsevišķi īpatņi
A24: p | B24: number of pairs | C24: pāri
A25: adults | B25: number of adults | C25: pieaugušie
A26: area | B26: area covered by population in m² | C26: populācija m2
A27: bfemales | B27: number of breeding females | C27: mātīšu skaits, kuras vairojas
A28: cmales | B28: number of calling males | C28: vokalizējošu tēviņu skaits
A29: colonies | B29: number of colonies | C29: kolonijas
A30: fstems | B30: number of flowering stems | C30: ziedošo augu skaits
A31: grids10x10 | B31: number of map 10x10 km grid cells | C31: 10x10 km laukuma skaits
A32: grids1x1 | B32: number of map 1x1 km grid cells | C32: 1x1 km laukuma skaits
A33: grids5x5 | B33: number of map 5x5 km grid cells | C33: 5x5 km laukuma skaits
A34: length | B34: length of inhabited feature in km | C34: apdzīvotā biotopa garums km
... A42: tufts | B42: number of tufts | C42: ceru skaits

Sheet Biotopu direktīvas II p. sugas
F1: I | G1: A | H1: R | I1: M | J1: P | K1: F | L1: Fu | M1: L
B2: Glotsēņu kailvabole | C2: Agathidium pulchellum | D2: 1919 | F2: Glotsēņu kailvabole | G2: Sarkanvēdera ugunskrupis | H2: Purva bruņurupucis | I2: Eiropas platausis | J2: Zaļā buksbaumija | K2: Palede
B3: Dobumu māņskorpions | C3: Anthrenochernes stellae | D3: 1936 | F3: Dobumu māņskorpions | G3: Lielais tritons | I3: Pelēkais vilks | J3: Zaļā divzobe | K3: Salate
B4: Deguma mizublakts | C4: Aradus angularis | D4: 1929 | F4: Deguma mizublakts | I4: Eirāzijas bebrs | J4: Lapzemes āķīte | K4: Akmeņgrauzis
B5: Šneidera mizmīlis | C5: Boros schneideri | D5: 1920 | F5: Šneidera mizmīlis | I5: Pelēkais ronis | J5: Spīdīgā āķīte | K5: Platgalve
B6: Zaigojošais zeltenis | C6: Colias myrmidone | D6: 4030 | F6: Zaigojošais zeltenis | I6: Ūdrs | J6: Spilvainais ancītis | K6: Upes nēģis
B7: Sarkanais plakanis | C7: Cucujus cinnaberinus | D7: 1086 | F7: Sarkanais plakanis | I7: Eirāzijas lūsis | J7: Purva mātsakne | K7: Strauta nēģis
B8: Platā airvabole | C8: Dytiscus latissimus | D8: 1081 | F8: Platā airvabole | I8: Dīķa naktssikspārnis | J8: Vienkāršā ķekarpaparde | K8: Dūņu pīkste
B9: Skabiosu pļavraibenis | C9: Euphydryas aurinia | D9: 1065 | F9: Skabiosu pļavraibenis | I9: Cūkdelfīns | J9: Platlapu cinna | K9: Kaze
B10: Divjoslu airvabole | C10: Graphoderus bilineatus | D10: 1082 | F10: Divjoslu airvabole | I10: Lidvāvere | J10: Dzeltenā dzegužkurpīte | K10: Spidiļķis
B11: Ošu pļavraibenis | C11: Hypodryas maturna | D11: 6169 | F11: Ošu pļavraibenis | I11: Brūnais lācis | J11: Smiltāja neļķe | K11: Zeltainais akmeņgrauzis
B12: Spilgtā purvsupāre | C12: Leucorrhinia pectoralis | D12: 1042 | F12: Spilgtā purvsupāre | J12: Sibīrijas mēlziede | K12: Lasis
B13: Zirgskābeņu zilenītis | C13: Lycaena dispar | D13: 1060 | F13: Zirgskābeņu zilenītis | J13: Lēzeļa vīrcele
B14: Brūnvālīšu zilenītis | C14: Maculinea teleius | D14: 6177 | F14: Brūnvālīšu zilenītis | J14: Lēzeļa lipare
B15: Ziemeļu upespērlene | C15: Margaritifera margaritifera | D15: 1029 | F15: Ziemeļu upespērlene | J15: Lokanā kaulīnija
B16: Zaļā upjuspāre | C16: Ophiogomphus cecilia | D16: 1037 | F16: Zaļā upjuspāre | J16: Smalkā najāda
B17: Lapkoku praulgrauzis | C17: Osmoderma eremita | D17: 1084 | F17: Lapkoku praulgrauzis | J17: Meža silpurene
B18: Mannerheima īsspārnis | C18: Oxyporus mannerheimii | D18: 1924 | F18: Mannerheima īsspārnis | J18: Igaunijas rūgtlape
B19: Dzeltenkrūšu ēnvabole | C19: Phryganophilus ruficollis | D19: 4021 | F19: Dzeltenkrūšu ēnvabole | J19: Dzeltenā akmeņlauzīte
B20: Svītrainais kapucķirmis | C20: Stephanopachys linearis | D20: 1926 | F20: Svītrainais kapucķirmis | J20: Pļavas linlape
B21: Biezā perlamutrene | C21: Unio crassus | D21: 1032 | F21: Biezā perlamutrene
B22: Slaidais pumpurgliemezis | C22: Vertigo angustior | D22: 1014 | F22: Slaidais pumpurgliemezis
B23: Spožais pumpurgliemezis | C23: Vertigo genesii | D23: 1015 | F23: Spožais pumpurgliemezis
B24: Četrzobu pumpurgliemezis | C24: Vertigo geyeri | D24: 1013 | F24: Četrzobu pumpurgliemezis
B25: Resnais pumpurgliemezis | C25: Vertigo moulinsiana | D25: 1016 | F25: Resnais pumpurgliemezis
B26: Tumšā pūcīte | C26: Xylomoia strix | D26: 4044 | F26: Tumšā pūcīte
B27: Sarkanvēdera ugunskrupis | C27: Bombina bombina | D27: 1188
B28: Lielais tritons | C28: Triturus cristatus | D28: 1166
B29: Purva bruņurupucis | C29: Emys orbicularis | D29: 1220
B30: Palede | C30: Alosa fallax | D30: 1103
B31: Salate | C31: Aspius aspius | D31: 1130
B32: Akmeņgrauzis | C32: Cobitis taenia | D32: 1149
B33: Platgalve | C33: Cottus gobio | D33: 1163
B34: Upes nēģis | C34: Lampetra fluviatilis | D34: 1099
B35: Strauta nēģis | C35: Lampetra planeri | D35: 1096
B36: Dūņu pīkste | C36: Misgurnus fossilis | D36: 1145
B37: Kaze | C37: Pelecus cultratus | D37: 2522
B38: Spidiļķis | C38: Rhodeus amarus | D38: 5339
... B59: Dzeltenā dzegužkurpīte | C59: Cypripedium calceolus | D59: 1902
B60: Smiltāja neļķe | C60: Dianthus arenarius | D60: N
...

Sheet 3.2.+4. anketas daļa
A1: Aizsardzības formas
A2: Dabas liegums
A3: Dabas parks
A4: Aizsargājamo ainavu apvidus
A5: Aizsargājami dendroloģiskie stādījumi
A6: Aizsargājama aleja
A7: Ģeoloģisks un ģeomorfoloģisks dabas piemineklis
A8: Mikroliegums
A9: Sugus aizsardziības plāni
A10: Pūces
A11: Dzeņi
A12: Lapkoku praulgrauzis Osmoderma eremita
... A24: Ģeoloģisks un ģeomorfoloģisks dabas piemineklis
