Workbook

Sheet Augšdaugavas novads
A2: Augšdaugavas novada pašvaldības 2025. gada 10. - 11. jūlijā lietavu laikā radītie postījumi
A3: Nr. p.k. | B3: Objekta nosaukums un adrese | C3: Veicamie pasākumi/darbi | D3: Postījumu novēršanai nepieciešamā finansējuma apmērs, euro | E3: Pašvaldības līdz- finansējums, euro | F3: No valsts budžeta programmas "Līdzekļi neparedzētiem gadījumiem" nepieciešamā finansējuma apmērs, euro | G3: Pašvaldības iesniegtie finansiālā pamatojuma dokumenti | M3: Piezīmes, komentāri
G4: MK noteikumu Nr.421 5.pielikums | H4: apsekošanas akts (zaudējumu novērtējums vai dokumenti, kas apliecina notikušo faktu), vai ir pievienota fotogrāfija/jas | I4: pieprasīto līdzekļu aprēķins/tāme (veicamo darbu/ pakalpojumu apraksts, nepieciešamo materiālu daudzums, cena, atalgojums un paredzamo nodokļu samaksa) | J4: apliecinājums, ka infrastruktūras objekts ir pašvaldības īpašumā vai valdījumā (pamatlīdzekļu uzskaites kartīte vai zemesgrāmatas apliecinājums) | K4: informācija par pašvaldības līdzfinansējuma apmēru objektam radīto zaudējumu novēršanai (domes lēmums) | L4: apliecinājums, ka par objektu pašvaldībai nepienākas vai pienākas apdrošināšanas atlīdzība + skaidrojums, ja nebija apdrošināts
A5: 1 | B5: Ceļš Ambeļi - Jaunaiskrūgs, Ambeļu pagasts, Augšdaugavas novads, posmos 0,860 km - 0,940 km, 1,290 km - 1,390 km, 3,030 km - 3,110 km, 3,370 km - 3,450 km | C5: Nesaistīta seguma ceļa klātnes izskalojumu un bedru labošana ar drupinātas grants maisījumu 0/32s | D5: 11616.85 | E5: =D5*30% -> 3485.055 | F5: =D5-E5 -> 8131.795 | G5: x | H5: 14.07.2025. akts Nr.2, piedalījās attiecīgās jomas speciālists, pievienotas fotogrāfijas | I5: Atbilstoši 29.07.2025. sarunu procedūras rezultātiem, iepirkuma identifikācijas Nr. ANPCP 2025/59SP, Darbu apjomu saraksts Nr.2 | J5: Pamatlīdzekļu uzskaites kartīte Nr. PL0011357 | K5: Augšdaugavas novada domes 29.07.2025. lēmums Nr. 28 "Par 2025.gada 10.-11.jūlija lietavu laikā radīto postījumu novēršanu"
A6: 2 | B6: Ceļš Mīžusāta - Lauku Ļāperi, Ambeļu pagasts, Augšdaugavas novads, posmos 0,660 km - 0,760 km, 0,900 km - 1,050 km | C6: Nesaistīta seguma ceļa klātnes izskalojumu un bedru labošana ar drupinātas grants maisījumu 0/32s | D6: 5701.52 | E6: =D6*30% -> 1710.456 | F6: =D6-E6 -> 3991.064 | G6: x | H6: 14.07.2025. akts Nr.5, piedalījās attiecīgās jomas speciālists, pievienotas fotogrāfijas | I6: Atbilstoši 29.07.2025. sarunu procedūras rezultātiem, iepirkuma identifikācijas Nr. ANPCP 2025/59SP, Darbu apjomu saraksts Nr.5 | J6: Pamatlīdzekļu uzskaites kartīte Nr. PL0011359 | K6: Augšdaugavas novada domes 29.07.2025. lēmums Nr. 28 "Par 2025.gada 10.-11.jūlija lietavu laikā radīto postījumu novēršanu"
A7: 3 | B7: Ceļš Daniševka - Gaju c. - Kebži, Višķu pagasts, Augšdaugavas novads, posmos 0,050 km - 0,150 km, 0,400 km - 0,600 km, 1,050 km - 1,150 km, 1,430 km - 1,530 km, 1,700 km - 1,800 km | C7: Bojājumu novēršana, nesaistīta seguma ceļa klātnes iesēdumu un bedru labošana ar drupinātas grants maisījumu 0/32s | D7: 17104.56 | E7: =D7*30% -> 5131.368 | F7: =D7-E7 -> 11973.192 | G7: x | H7: 14.07.2025. akts Nr._1, piedalījās attiecīgās jomas speciālists, pievienotas fotogrāfijas | I7: Atbilstoši 29.07.2025. sarunu procedūras rezultātiem, iepirkuma identifikācijas Nr. ANPCP 2025/59SP, Darbu apjomu saraksts Nr.6 | J7: Pamatlīdzekļu uzskaites kartīte Nr. PL0031659 | K7: Augšdaugavas novada domes 29.07.2025. lēmums Nr. 28 "Par 2025.gada 10.-11.jūlija lietavu laikā radīto postījumu novēršanu"
A8: 4 | B8: Ceļš Peipiņi - Lociki - Deiki - Brenči, Všķu pagasts, Augšdaugavas novads, posmos 0,500 km - 0,700 km, 0,800 km - 0,830 km, 1,150 km - 1,250 km, 1,350 km - 1,550 km | C8: Bojājumu novēršana, nesaistīta seguma ceļa klātnes iesēdumu un bedru labošana ar drupinātas grants maisījumu 0/32s | D8: 15109.03 | E8: =D8*30% -> 4532.709 | F8: =D8-E8 -> 10576.321 | G8: x | H8: 14.07.2025. akts Nr.2, piedalījās attiecīgās jomas speciālists, pievienotas fotogrāfijas | I8: Atbilstoši 29.07.2025. sarunu procedūras rezultātiem, iepirkuma identifikācijas Nr. ANPCP 2025/59SP, Darbu apjomu saraksts Nr.7 | J8: Pamatlīdzekļu uzskaites kartīte Nr. PL0031542 | K8: Augšdaugavas novada domes 29.07.2025. lēmums Nr. 28 "Par 2025.gada 10.-11.jūlija lietavu laikā radīto postījumu novēršanu"
A9: 5 | B9: Ceļš Antāni - Vīgantu ciems, Višķu pagasts, Augšdaugavas novads, posmos 0,050 km - 0,150 km, 0,400 km - 0,600 km, 1,050 km - 1,150 km, 1,430 km - 1,530 km, 1,700 km - 1,800 km | C9: Bojājumu novēršana, nesaistīta seguma ceļa klātnes iesēdumu un bedru labošana ar drupinātas grants maisījumu 0/32s | D9: 17104.56 | E9: =D9*30% -> 5131.368 | F9: =D9-E9 -> 11973.192 | G9: x | H9: 14.07.2025. akts Nr._3, piedalījās attiecīgās jomas speciālists, pievienotas fotogrāfijas | I9: Atbilstoši 29.07.2025. sarunu procedūras rezultātiem, iepirkuma identifikācijas Nr. ANPCP 2025/59SP, Darbu apjomu saraksts Nr.8 | J9: Pamatlīdzekļu uzskaites kartīte Nr. PL0031559, Nr. PL0031560 | K9: Augšdaugavas novada domes 29.07.2025. lēmums Nr. 28 "Par 2025.gada 10.-11.jūlija lietavu laikā radīto postījumu novēršanu"
A10: 6 | B10: Ceļš Smaņi - Plotupi, Višķu pagasts, Augšdaugavas novads, posmā 0,250 km - 0,350 km | C10: Bojājumu novēršana, nesaistīta seguma ceļa klātnes iesēdumu un bedru labošana ar drupinātas grants maisījumu 0/32s, caurtekas posma un uzgaļu bojājumu novēršana | D10: 5371.19 | E10: =D10*30% -> 1611.357 | F10: =D10-E10 -> 3759.833 | G10: x | H10: 14.07.2025. akts Nr._5, piedalījās attiecīgās jomas speciālists, pievienotas fotogrāfijas | I10: Atbilstoši 29.07.2025. sarunu procedūras rezultātiem, iepirkuma identifikācijas Nr. ANPCP 2025/59SP, Darbu apjomu saraksts Nr.11 | J10: Pamatlīdzekļu uzskaites kartīte Nr. PL0031611 | K10: Augšdaugavas novada domes 29.07.2025. lēmums Nr. 28 "Par 2025.gada 10.-11.jūlija lietavu laikā radīto postījumu novēršanu"
A11: 7 | B11: Ceļš Smaņi-Ģuļāni, Višķu pagasts, Augšdaugavas novads, posmā 0,580 km - 0,600 km | C11: Bojājumu novēršana, nesaistīta seguma ceļa klātnes iesēdumu un bedru labošana ar drupinātas grants maisījumu 0/32s, caurtekas posma un uzgaļu bojājumu novēršana | D11: 3661.46 | E11: =D11*30% -> 1098.438 | F11: =D11-E11 -> 2563.022 | G11: x | H11: 14.07.2025. akts Nr.6, piedalījās attiecīgās jomas speciālists, pievienota fotogrāfija | I11: Atbilstoši 29.07.2025. sarunu procedūras rezultātiem, iepirkuma identifikācijas Nr. ANPCP 2025/59SP, Darbu apjomu saraksts Nr.12 | J11: Pamatlīdzekļu uzskaites kartīte Nr. PL0031594 | K11: Augšdaugavas novada domes 29.07.2025. lēmums Nr. 28 "Par 2025.gada 10.-11.jūlija lietavu laikā radīto postījumu novēršanu"
A12: 8 | B12: Ceļš Kalna Višķi - Tabūni - Ļadi - Makarova, Višķu pagasts, Augšdaugavas novads, posmos 0,970 km - 1,070 km, 1,200 km - 1,320 km, 1,900 km - 2,000 km | C12: Bojājumu novēršana, nesaistīta seguma ceļa klātnes iesēdumu un bedru labošana ar drupinātas grants maisījumu 0/32s | D12: 9122.43 | E12: =D12*30% -> 2736.729 | F12: =D12-E12 -> 6385.701 | G12: x | H12: 14.07.2025. akts Nr.7, piedalījās attiecīgās jomas speciālists, pievienotas fotogrāfijas | I12: Atbilstoši 29.07.2025. sarunu procedūras rezultātiem, iepirkuma identifikācijas Nr. ANPCP 2025/59SP, Darbu apjomu saraksts Nr.9 | J12: Pamatlīdzekļu uzskaites kartīte Nr. PL0031685, Nr. PL0031686 | K12: Augšdaugavas novada domes 29.07.2025. lēmums Nr. 28 "Par 2025.gada 10.-11.jūlija lietavu laikā radīto postījumu novēršanu"
A13: 9 | B13: Ceļš Grāviņi - Nārbuti, Višķu pagasts, Augšdaugavas novads, posmā 0,700 km - 0,720 km | C13: Bojājumu novēršana, nesaistīta seguma ceļa klātnes iesēdumu un bedru labošana ar drupinātas grants maisījumu 0/32s, caurtekas posma un uzgaļu bojājumu novēršana | D13: 3792.14 | E13: =D13*30% -> 1137.642 | F13: =D13-E13 -> 2654.498 | G13: x | H13: 14.07.2025. akts Nr.8, piedalījās attiecīgās jomas speciālists, pievienotas fotogrāfijas | I13: Atbilstoši 29.07.2025. sarunu procedūras rezultātiem, iepirkuma identifikācijas Nr. ANPCP 2025/59SP, Darbu apjomu saraksts Nr.16 | J13: Pamatlīdzekļu uzskaites kartīte Nr. PL0031526 | K13: Augšdaugavas novada domes 29.07.2025. lēmums Nr. 28 "Par 2025.gada 10.-11.jūlija lietavu laikā radīto postījumu novēršanu"
A14: 10 | B14: Ceļš VVLT - KalnaVišķi, Višķu pagasts, Augšdaugavas novads, posmā 1,150 km - 1,300 km | C14: Bojājumu novēršana, nesaistīta seguma ceļa klātnes iesēdumu un bedru labošana ar drupinātas grants maisījumu 0/32s | D14: 3420.91 | E14: =D14*30% -> 1026.273 | F14: =D14-E14 -> 2394.637 | G14: x | H14: 14.07.2025. akts Nr.9, piedalījās attiecīgās jomas speciālists, pievienotas fotogrāfijas | I14: Atbilstoši 29.07.2025. sarunu procedūras rezultātiem, iepirkuma identifikācijas Nr. ANPCP 2025/59SP, Darbu apjomu saraksts Nr.14 | J14: Pamatlīdzekļu uzskaites kartīte Nr. PL0031509 | K14: Augšdaugavas novada domes 29.07.2025. lēmums Nr. 28 "Par 2025.gada 10.-11.jūlija lietavu laikā radīto postījumu novēršanu"
A15: 11 | B15: Ceļš Mozuļi - Kalna Višķi, Višķu pagasts, Augšdaugavas novads, posmā 0,000 km - 0,200 km | C15: Bojājumu novēršana, nesaistīta seguma ceļa klātnes iesēdumu un bedru labošana ar drupinātas grants maisījumu 0/32s | D15: 3420.91 | E15: =D15*30% -> 1026.273 | F15: =D15-E15 -> 2394.637 | G15: x | H15: 14.07.2025. akts Nr.11, piedalījās attiecīgās jomas speciālists, pievienota fotogrāfija | I15: Atbilstoši 29.07.2025. sarunu procedūras rezultātiem, iepirkuma identifikācijas Nr. ANPCP 2025/59SP, Darbu apjomu saraksts Nr.15 | J15: Pamatlīdzekļu uzskaites kartīte Nr. PL0031622 | K15: Augšdaugavas novada domes 29.07.2025. lēmums Nr. 28 "Par 2025.gada 10.-11.jūlija lietavu laikā radīto postījumu novēršanu"
A16: 12 | B16: Ceļš Maskovskaja - Tabūni, Višķu pagasts, Augšdaugavas novads, posmos 0,100 km - 0,200 km, 0,200 km - 0,300 km | C16: Bojājumu novēršana, nesaistīta seguma ceļa klātnes iesēdumu un bedru labošana ar drupinātas grants maisījumu 0/32s | D16: 4561.22 | E16: =D16*30% -> 1368.366 | F16: =D16-E16 -> 3192.854 | G16: x | H16: 14.07.2025. akts Nr.12, piedalījās attiecīgās jomas speciālists, pievienota fotogrāfija | I16: Atbilstoši 29.07.2025. sarunu procedūras rezultātiem, iepirkuma identifikācijas Nr. ANPCP 2025/59SP, Darbu apjomu saraksts Nr.13 | J16: Pamatlīdzekļu uzskaites kartīte Nr. PL0031621 | K16: Augšdaugavas novada domes 29.07.2025. lēmums Nr. 28 "Par 2025.gada 10.-11.jūlija lietavu laikā radīto postījumu novēršanu"
... A56: 52 | B56: Ceļš Centrs - Rija, Dvietes pagasts, Augšdaugavas novads, posmā 0,740 km - 0,940 km | C56: Nesaistīta seguma ceļa klātnes iesēdumu un bedru labošana ar drupinātas grants maisījumu 0/32s | D56: 5701.52 | E56: =D56*30% -> 1710.456 | F56: =D56-E56 -> 3991.064 | G56: x | H56: 14.07.2025. akts Nr.1, piedalījās attiecīgās jomas speciālists, pievienotas fotogrāfijas | I56: Atbilstoši 29.07.2025. sarunu procedūras rezultātiem, iepirkuma identifikācijas Nr. ANPCP 2025/59SP, Darbu apjomu saraksts Nr.70 | J56: Pamatlīdzekļu uzskaites kartīte Nr. PL0007121 | K56: Augšdaugavas novada domes 29.07.2025. lēmums Nr. 28 "Par 2025.gada 10.-11.jūlija lietavu laikā radīto postījumu novēršanu"
A57: 53 | B57: Ceļš Laši - Pabērži, Eglaines pagasts, Augšdaugavas novads, posmā 0,550 km - 0,545 km | C57: Izcelt no upes un nostiprināt dzelzsbetona paneli uz caurtekas apmalesun atjaunot ceļa apmales ar drupinātas grants maisījumu 0/32s | D57: 1917.85 | E57: =D57*30% -> 575.355 | F57: =D57-E57 -> 1342.495 | G57: x | H57: 14.07.2025. akts Nr.1, piedalījās attiecīgās jomas speciālists, pievienotas fotogrāfijas | I57: Atbilstoši 29.07.2025. sarunu procedūras rezultātiem, iepirkuma identifikācijas Nr. ANPCP 2025/59SP, Darbu apjomu saraksts Nr.71 | J57: Pamatlīdzekļu uzskaites kartīte Nr. PL0007184, Nr. PL0007232 | K57: Augšdaugavas novada domes 29.07.2025. lēmums Nr. 28 "Par 2025.gada 10.-11.jūlija lietavu laikā radīto postījumu novēršanu" | M57: Subates apvienībā ietilpst Eglaines pagasts
B58: Būvdarbu tehniskās dokumentācijas sagatavošanas izmaksas, saskaņā ar 25.07.2025. līgumu Nr.000.2.1-17.3-2025/279 ar SIA “Cerva” | D58: 1197.9 | E58: =D58*30% -> 359.37 | F58: =D58-E58 -> 838.53 | K58: Augšdaugavas novada domes 29.07.2025. lēmums Nr. 28 "Par 2025.gada 10.-11.jūlija lietavu laikā radīto postījumu novēršanu"
C59: KOPĀ: | D59: =SUM(D5:D58) -> 359120.94 | E59: =SUM(E5:E58) -> 107736.28 | F59: =SUM(F5:F58) -> 251384.66

Sheet Ludzas novads
A2: Ludzas novada pašvaldības 2025. gada jūlijā lietavu laikā radītie postījumi
A3: Nr. p.k. | B3: Objekta nosaukums un adrese | C3: Veicamie pasākumi/darbi | D3: Postījumu novēršanai nepieciešamā finansējuma apmērs, euro | E3: Pašvaldības līdz- finansējums, euro | F3: No valsts budžeta programmas "Līdzekļi neparedzētiem gadījumiem" nepieciešamā finansējuma apmērs, euro | G3: Pašvaldības iesniegtie finansiālā pamatojuma dokumenti | M3: Piezīmes, komentāri
G4: MK noteikumu Nr.421 5.pielikums | H4: apsekošanas akts (zaudējumu novērtējums vai dokumenti, kas apliecina notikušo faktu), vai ir pievienota fotogrāfija/jas | I4: pieprasīto līdzekļu aprēķins/tāme (veicamo darbu/ pakalpojumu apraksts, nepieciešamo materiālu daudzums, cena, atalgojums un paredzamo nodokļu samaksa) | J4: apliecinājums, ka infrastruktūras objekts ir pašvaldības īpašumā vai valdījumā (pamatlīdzekļu uzskaites kartīte vai zemesgrāmatas apliecinājums) | K4: informācija par pašvaldības līdzfinansējuma apmēru objektam radīto zaudējumu novēršanai (domes lēmums) | L4: apliecinājums, ka par objektu pašvaldībai nepienākas vai pienākas apdrošināšanas atlīdzība + skaidrojums, ja nebija apdrošināts
A5: 1 | B5: Ceļš Gaveiki - Rūdova - Sleinova, Ņukšu pagasts, Ludzas novads | C5: Ceļa virskārtas atjaunošana | D5: 15187.79 | E5: =D5*30% -> 4556.337 | F5: =D5-E5 -> 10631.453 | G5: x | H5: 25.07.2025. apsekošanas akts, piedalījās attiecīgās jomas speciālists, atsevišķi iesniegtas fotogrāfijas | I5: 26.07.2025. Lokālā tāme Nr. 072025/2, sagatavoja sertificēts speciālists sertifikāta Nr. 4 – 01879 | J5: Pamatlīdzekļu uzskaites kartīte Nr. NU081 | K5: 30.07.2025. Ludzas novada pašvaldības priekšsēdētāja parakstīts apliecinājums, ka nodrošinās līdzfinansējumu 30% apmērā. | L5: 30.07.2025. Ludzas novada pašvaldības priekšsēdētāja parakstīts apliecinājums, ka pašvaldībai nepienākas apdrošināšanas atlīdzība, jo minētie autoceļi nebija apdrošināti.
A6: 2 | B6: Ceļš Pilda - Tjapši - Gajeva, Pildas pagasts, Ludzas novads 0,640 km | C6: Bojātas caurtekas demontāža un jaunas izbūve | D6: 12975.37 | E6: =D6*30% -> 3892.611 | F6: =D6-E6 -> 9082.759 | G6: x | H6: 25.07.2025. apsekošanas akts, piedalījās attiecīgās jomas speciālists, atsevišķi iesniegtas fotogrāfijas | I6: 26.07.2025. Lokālā tāme Nr. 072025/3, sagatavoja sertificēts speciālists sertifikāta Nr. 4 – 01879 | J6: Pamatlīdzekļu uzskaites kartīte Nr. 000603, Nr. Pi038, Nr. Pi073 | K6: 30.07.2025. Ludzas novada pašvaldības priekšsēdētāja parakstīts apliecinājums, ka nodrošinās līdzfinansējumu 30% apmērā. | L6: 30.07.2025. Ludzas novada pašvaldības priekšsēdētāja parakstīts apliecinājums, ka pašvaldībai nepienākas apdrošināšanas atlīdzība, jo minētie autoceļi nebija apdrošināti.
C7: KOPĀ: | D7: =SUM(D5:D6) -> 28163.16 | E7: =SUM(E5:E6) -> 8448.948 | F7: =SUM(F5:F6) -> 19714.212

Sheet Preiļu novads
A2: Preiļu novada pašvaldības 2025. gada 10. - 11. jūlijā lietavu laikā radītie postījumi
A3: Nr. p.k. | B3: Objekta nosaukums un adrese | C3: Veicamie pasākumi/darbi | D3: Postījumu novēršanai nepieciešamā finansējuma apmērs, euro | E3: Pašvaldības līdz- finansējums, euro | F3: No valsts budžeta programmas "Līdzekļi neparedzētiem gadījumiem" nepieciešamā finansējuma apmērs, euro | G3: Pašvaldības iesniegtie finansiālā pamatojuma dokumenti
G4: MK noteikumu Nr.421 5.pielikums | H4: apsekošanas akts (zaudējumu novērtējums vai dokumenti, kas apliecina notikušo faktu), vai ir pievienota fotogrāfija/jas | I4: pieprasīto līdzekļu aprēķins/tāme (veicamo darbu/ pakalpojumu apraksts, nepieciešamo materiālu daudzums, cena, atalgojums un paredzamo nodokļu samaksa) | J4: apliecinājums, ka infrastruktūras objekts ir pašvaldības īpašumā vai valdījumā (pamatlīdzekļu uzskaites kartīte vai zemesgrāmatas apliecinājums) | K4: informācija par pašvaldības līdzfinansējuma apmēru objektam radīto zaudējumu novēršanai (domes lēmums) | L4: apliecinājums, ka par objektu pašvaldībai nepienākas vai pienākas apdrošināšanas atlīdzība + skaidrojums, ja nebija apdrošināts
A5: 1 | B5: VA-2 Gaters-Kaļvi, Vārkavas pagasts, Preiļu novads | C5: Malu nostiprināšana uzpildīšana- izmantojot minerālmateriālu. Piebēršana, izskalojumu uzpildīšana izmantojot šķembu. Grāvja tīrīšana, profilu atjaunošana, nomaļu mehanizēta profilešana. | D5: 3954.97 | E5: =D5*30% -> 1186.491 | F5: =D5-E5 -> 2768.479 | G5: x | H5: 16.07.2025. apsekošanas akts, apsekošanā piedalījās attiecīgās jomas speciālisti (viens apsekošanas akts par visiem objektiem), veikta fotofiksācija | I5: 16.07.2025. Lokālā tāme/darbu apjomu saraksts, sagatavoja sertificēts speciālists, sertifikāta Nr. 4-04522 | J5: Pamatlīdzekļu uzskaites kartīte Nr. V-689 | K5: Preiļu novada pašvaldības 21.07.2025. sēdes protokols Nr. 15 (4.§) "Par pieteikuma sagatavošanu finansējuma saņemšanai no valsts budžeta programmas “Līdzekļi neparedzētiem gadījumiem”" | L5: 5. pielikumā norāda, ka pašvaldība ceļus neapdrošina
A6: 2 | B6: VA-19 Ceļš uz kompleksu, Vārkavas pagasts, Preiļu novads | C6: Caurtekas tīrīšana. Piebēršana apmale - izmantojot minerālmateriālu. Piebēršana, izskalojumu uzpildīšana izmantojot šķembu. Profilu atjaunošana, nomaļu mehanizēta profilēšana. | D6: 1938.9 | E6: =D6*30% -> 581.67 | F6: =D6-E6 -> 1357.23 | G6: x | H6: 16.07.2025. apsekošanas akts, apsekošanā piedalījās attiecīgās jomas speciālisti (viens apsekošanas akts par visiem objektiem), veikta fotofiksācija | I6: 16.07.2025. Lokālā tāme/darbu apjomu saraksts, sagatavoja sertificēts speciālists, sertifikāta Nr. 4-04523 | J6: Pamatlīdzekļu uzskaites kartīte Nr. V-707 | K6: Preiļu novada pašvaldības 21.07.2025. sēdes protokols Nr. 15 (4.§) "Par pieteikuma sagatavošanu finansējuma saņemšanai no valsts budžeta programmas “Līdzekļi neparedzētiem gadījumiem”" | L6: 5. pielikumā norāda, ka pašvaldība ceļus neapdrošina
A7: 3 | B7: VA-21 Spūles-Lidlauks-Ašenieki, Vārkavas pagasts, Preiļu novads | C7: Sakārtot noteku galus un atbalsta sienas. Piebēršana, izskalojumu uzpildīšana izmantojot šķembu. Profilu atjaunošana, nomaļu mehanizēta profilēšana. | D7: 3402.73 | E7: =D7*30% -> 1020.819 | F7: =D7-E7 -> 2381.911 | G7: x | H7: 16.07.2025. apsekošanas akts, apsekošanā piedalījās attiecīgās jomas speciālisti (viens apsekošanas akts par visiem objektiem), veikta fotofiksācija | I7: 16.07.2025. Lokālā tāme/darbu apjomu saraksts, sagatavoja sertificēts speciālists, sertifikāta Nr. 4-04524 | J7: Pamatlīdzekļu uzskaites kartīte Nr. V-701, Nr. V-702, Nr. V-1622 | K7: Preiļu novada pašvaldības 21.07.2025. sēdes protokols Nr. 15 (4.§) "Par pieteikuma sagatavošanu finansējuma saņemšanai no valsts budžeta programmas “Līdzekļi neparedzētiem gadījumiem”" | L7: 5. pielikumā norāda, ka pašvaldība ceļus neapdrošina
A8: 4 | B8: VA-26 Stivrenieki-Spūļu ezers, Vārkavas pagasts, Preiļu novads | C8: Caurtekas tīrīšana. Piebēršana, izskalojumu uzpildīšana izmantojot šķembu. Profilu atjaunošana, nomaļu mehanizēta profilēšana. | D8: 1810.53 | E8: =D8*30% -> 543.159 | F8: =D8-E8 -> 1267.371 | G8: x | H8: 16.07.2025. apsekošanas akts, apsekošanā piedalījās attiecīgās jomas speciālisti (viens apsekošanas akts par visiem objektiem), veikta fotofiksācija | I8: 16.07.2025. Lokālā tāme/darbu apjomu saraksts, sagatavoja sertificēts speciālists, sertifikāta Nr. 4-04525 | J8: Pamatlīdzekļu uzskaites kartīte Nr. V-1621 | K8: Preiļu novada pašvaldības 21.07.2025. sēdes protokols Nr. 15 (4.§) "Par pieteikuma sagatavošanu finansējuma saņemšanai no valsts budžeta programmas “Līdzekļi neparedzētiem gadījumiem”" | L8: 5. pielikumā norāda, ka pašvaldība ceļus neapdrošina
A9: 5 | B9: VA-18 Zibergova-Pūtkas-Klapari, Vārkavas pagasts, Preiļu novads | C9: Caurteka jauna diam 1m uz L=12m pielnā ielikšana. Nomales uzpildīšāna nostiprināšana - izmantojot minerālmateriālu. Profilu atjaunošana, nomaļu mehanizēta profilēšana. | D9: 11235.1 | E9: =D9*30% -> 3370.53 | F9: =D9-E9 -> 7864.57 | G9: x | H9: 16.07.2025. apsekošanas akts, apsekošanā piedalījās attiecīgās jomas speciālisti (viens apsekošanas akts par visiem objektiem), veikta fotofiksācija | I9: 16.07.2025. Lokālā tāme/darbu apjomu saraksts, sagatavoja sertificēts speciālists, sertifikāta Nr. 4-04526 | J9: Pamatlīdzekļu uzskaites kartīte Nr. V-1623 | K9: Preiļu novada pašvaldības 21.07.2025. sēdes protokols Nr. 15 (4.§) "Par pieteikuma sagatavošanu finansējuma saņemšanai no valsts budžeta programmas “Līdzekļi neparedzētiem gadījumiem”" | L9: 5. pielikumā norāda, ka pašvaldība ceļus neapdrošina
A10: 6 | B10: VA-34 Skolas ielas nobrauktuve, Vārkavas pagasts, Preiļu novads | C10: Nomales piebēršana - izmantojot minerālmateriālu. Krastu stiprināšna, piebēršana, izmantjot šķembu. Profilu atjaunošana, nomaļu mehanizēta profilēšana. | D10: 3723.78 | E10: =D10*30% -> 1117.134 | F10: =D10-E10 -> 2606.646 | G10: x | H10: 16.07.2025. apsekošanas akts, apsekošanā piedalījās attiecīgās jomas speciālisti (viens apsekošanas akts par visiem objektiem), veikta fotofiksācija | I10: 16.07.2025. Lokālā tāme/darbu apjomu saraksts, sagatavoja sertificēts speciālists, sertifikāta Nr. 4-04527 | J10: Pamatlīdzekļu uzskaites kartīte Nr. V-700 | K10: Preiļu novada pašvaldības 21.07.2025. sēdes protokols Nr. 15 (4.§) "Par pieteikuma sagatavošanu finansējuma saņemšanai no valsts budžeta programmas “Līdzekļi neparedzētiem gadījumiem”" | L10: 5. pielikumā norāda, ka pašvaldība ceļus neapdrošina
A11: 7 | B11: VA-14 Piliškas- Vēverauka, Vārkavas pagasts, preiļu novads | C11: Nomales piebēršana - izmantojot minerālmateriālu. Profilu atjaunošana, nomaļu mehanizēta profilēšana. | D11: 963.02 | E11: =D11*30% -> 288.906 | F11: =D11-E11 -> 674.114 | G11: x | H11: 16.07.2025. apsekošanas akts, apsekošanā piedalījās attiecīgās jomas speciālisti (viens apsekošanas akts par visiem objektiem), veikta fotofiksācija | I11: 16.07.2025. Lokālā tāme/darbu apjomu saraksts, sagatavoja sertificēts speciālists, sertifikāta Nr. 4-04528 | J11: Pamatlīdzekļu uzskaites kartīte Nr. V-691.1 | K11: Preiļu novada pašvaldības 21.07.2025. sēdes protokols Nr. 15 (4.§) "Par pieteikuma sagatavošanu finansējuma saņemšanai no valsts budžeta programmas “Līdzekļi neparedzētiem gadījumiem”" | L11: 5. pielikumā norāda, ka pašvaldība ceļus neapdrošina
A12: 8 | B12: PE-10 Gubanišķi- Lielie Livmaņi (7 vietās), Vārkavas pagasts, preiļu novads | C12: Jauna ceurtkea diam 12 metru. Ceļa posma ataunošana pilnā apjomā. Apmaļu piebēršana 7 vietas. Apauguma noņemšana. Sāngrāvju tīrīšana no saskalojuime pie tīruma.. Profilu atjaunošana, nomaļu mehanizēta profilēšana. | D12: 19388.87 | E12: =D12*30% -> 5816.661 | F12: =D12-E12 -> 13572.209 | G12: x | H12: 16.07.2025. apsekošanas akts, apsekošanā piedalījās attiecīgās jomas speciālisti (viens apsekošanas akts par visiem objektiem), veikta fotofiksācija | I12: 16.07.2025. Lokālā tāme/darbu apjomu saraksts, sagatavoja sertificēts speciālists, sertifikāta Nr. 4-04529 | J12: Pamatlīdzekļu uzskaites kartīte Nr. 1930, Nr. 9404 | K12: Preiļu novada pašvaldības 21.07.2025. sēdes protokols Nr. 15 (4.§) "Par pieteikuma sagatavošanu finansējuma saņemšanai no valsts budžeta programmas “Līdzekļi neparedzētiem gadījumiem”" | L12: 5. pielikumā norāda, ka pašvaldība ceļus neapdrošina
A13: 9 | B13: PE-3 Arendole-Pelēči, Vārkavas pagasts, Preiļu novads | C13: Apauguma noņemšana pie caurtekas. Caurrekas galu piepildišana - izmantojot minerālmateriālu. Profilu atjaunošana, nomaļu mehanizēta profilēšana. | D13: 1091.46 | E13: =D13*30% -> 327.438 | F13: =D13-E13 -> 764.022 | G13: x | H13: 16.07.2025. apsekošanas akts, apsekošanā piedalījās attiecīgās jomas speciālisti (viens apsekošanas akts par visiem objektiem), veikta fotofiksācija | I13: 16.07.2025. Lokālā tāme/darbu apjomu saraksts, sagatavoja sertificēts speciālists, sertifikāta Nr. 4-04530 | J13: Pamatlīdzekļu uzskaites kartīte Nr. 1926, Nr. 6380, Nr. 9397, Nr. 9398 | K13: Preiļu novada pašvaldības 21.07.2025. sēdes protokols Nr. 15 (4.§) "Par pieteikuma sagatavošanu finansējuma saņemšanai no valsts budžeta programmas “Līdzekļi neparedzētiem gadījumiem”" | L13: 5. pielikumā norāda, ka pašvaldība ceļus neapdrošina
A14: 10 | B14: RO-14 Lazdāni-Andiņi-Rudinova, Rožkalnu pagasts, Preiļu novads | C14: Izskalotā posma piebēršana - izmantojot minerālmateriālu. Profilu atjaunošana, nomaļu mehanizēta profilēšana. | D14: 1476.63 | E14: =D14*30% -> 442.989 | F14: =D14-E14 -> 1033.641 | G14: x | H14: 16.07.2025. apsekošanas akts, apsekošanā piedalījās attiecīgās jomas speciālisti (viens apsekošanas akts par visiem objektiem), veikta fotofiksācija | I14: 16.07.2025. Lokālā tāme/darbu apjomu saraksts, sagatavoja sertificēts speciālists, sertifikāta Nr. 4-04531 | J14: Pamatlīdzekļu uzskaites kartīte Nr. V-375, Nr. V-376 | K14: Preiļu novada pašvaldības 21.07.2025. sēdes protokols Nr. 15 (4.§) "Par pieteikuma sagatavošanu finansējuma saņemšanai no valsts budžeta programmas “Līdzekļi neparedzētiem gadījumiem”" | L14: 5. pielikumā norāda, ka pašvaldība ceļus neapdrošina
A15: 11 | B15: RO-5 Kalēji-Arendole, Rožkalnu pagasts, Preiļu novads | C15: Izskalotā posma piebēršana - izmantojot minerālmateriālu. Profilu atjaunošana, nomaļu mehanizēta profilēšana. | D15: 2247.04 | E15: =D15*30% -> 674.112 | F15: =D15-E15 -> 1572.928 | G15: x | H15: 16.07.2025. apsekošanas akts, apsekošanā piedalījās attiecīgās jomas speciālisti (viens apsekošanas akts par visiem objektiem), veikta fotofiksācija | I15: 16.07.2025. Lokālā tāme/darbu apjomu saraksts, sagatavoja sertificēts speciālists, sertifikāta Nr. 4-04532 | J15: Pamatlīdzekļu uzskaites kartīte Nr. V-378, Nr. V-379, Nr. V-380 | K15: Preiļu novada pašvaldības 21.07.2025. sēdes protokols Nr. 15 (4.§) "Par pieteikuma sagatavošanu finansējuma saņemšanai no valsts budžeta programmas “Līdzekļi neparedzētiem gadījumiem”" | L15: 5. pielikumā norāda, ka pašvaldība ceļus neapdrošina
A16: 12 | B16: RO- 2 Brieži-Jadvigova-Strodi, Rožkalnu pagasts, Preiļu novads | C16: Izskalotā posma piebēršana - izmantojot minerālmateriālu. Profilu atjaunošana, nomaļu mehanizēta profilēšana. | D16: 963.02 | E16: =D16*30% -> 288.906 | F16: =D16-E16 -> 674.114 | G16: x | H16: 16.07.2025. apsekošanas akts, apsekošanā piedalījās attiecīgās jomas speciālisti (viens apsekošanas akts par visiem objektiem), veikta fotofiksācija | I16: 16.07.2025. Lokālā tāme/darbu apjomu saraksts, sagatavoja sertificēts speciālists, sertifikāta Nr. 4-04533 | J16: Pamatlīdzekļu uzskaites kartīte Nr. V-369, Nr. V-368, Nr. V-1613 | K16: Preiļu novada pašvaldības 21.07.2025. sēdes protokols Nr. 15 (4.§) "Par pieteikuma sagatavošanu finansējuma saņemšanai no valsts budžeta programmas “Līdzekļi neparedzētiem gadījumiem”" | L16: 5. pielikumā norāda, ka pašvaldība ceļus neapdrošina
... A20: 16 | B20: RU-7 Gaiļmuiža - Pizāni - Ivanāni, Rušonas pagasts, Preiļu novads | C20: Izskalotā posma piebēršana - izmantojot minerālmateriālu. Profilu atjaunošana, nomaļu mehanizēta profilēšana. | D20: 930.92 | E20: =D20*30% -> 279.276 | F20: =D20-E20 -> 651.644 | G20: x | H20: 16.07.2025. apsekošanas akts, apsekošanā piedalījās attiecīgās jomas speciālisti (viens apsekošanas akts par visiem objektiem), veikta fotofiksācija | I20: 16.07.2025. Lokālā tāme/darbu apjomu saraksts, sagatavoja sertificēts speciālists, sertifikāta Nr. 4-04537 | J20: Pamatlīdzekļu uzskaites kartīte Nr. R-2639 | K20: Preiļu novada pašvaldības 21.07.2025. sēdes protokols Nr. 15 (4.§) "Par pieteikuma sagatavošanu finansējuma saņemšanai no valsts budžeta programmas “Līdzekļi neparedzētiem gadījumiem”" | L20: 5. pielikumā norāda, ka pašvaldība ceļus neapdrošina
C21: KOPĀ: | D21: =SUM(D5:D20) -> 75725.63 | E21: =SUM(E5:E20) -> 22717.689 | F21: =SUM(F5:F20) -> 53007.941

Sheet Kopā
A2: Pašvaldība | B2: Izdevumi kopā, euro | C2: Pašvaldības līdzfinansējums, euro | D2: No LNG nepieciešams, euro
A3: Augšdaugavas novada pašvaldība | B3: ='Augšdaugavas novads'!D59 -> 359120.94 | C3: ='Augšdaugavas novads'!E59 -> 107736.28 | D3: =B3-C3 -> 251384.66
A4: Ludzas novada pašvaldība | B4: ='Ludzas novads'!D7 -> 28163.16 | C4: ='Ludzas novads'!E7 -> 8448.948 | D4: =B4-C4 -> 19714.212
A5: Preiļu novada pašvaldība | B5: ='Preiļu novads'!D21 -> 75725.63 | C5: ='Preiļu novads'!E21 -> 22717.689 | D5: =B5-C5 -> 53007.941
A6: Kopā: | B6: =SUM(B3:B5) -> 463009.73 | C6: =SUM(C3:C5) -> 138902.92 | D6: =SUM(D3:D5) -> 324106.81
