Workbook

Sheet Kopsavilkums
A2: Mērķis: | B2: Vidējā pedagogu alga = 2.5 *min alga
A3: Pieņēmumi: | B3: 1) Pedagogu vidējā alga ir par 20% augstāka kā zemākā algas likme
B4: 2) Valstī noteiktā minimālā alga turpmākos gados tiek celta ik gadu par 40 EUR
B5: Zemākā pedagogu algas likme (2025)
A7: Sākotnējā vērtība: | B7: Stundas likme | C7: Mēnešalga (40h)
B8: =9.79 -> 9.79 | C8: 1566
H9: Scenārijs A (mērķis sasniegts 2030.g.)
A10: Gads | B10: Minimālā mēnešalga, EUR / mēn. (bruto) | C10: Minimālās mēnešalgas izmaiņas, % pret iepriekšējo gadu | E10: Mērķa pedagogu vidējā mēnešalga (2,5 x valstī noteiktā minimimālā alga), EUR / mēn. (bruto) | F10: Mērķa pedagogu zemākā mēnešalga (vidējā / 120%), EUR / mēn. (bruto) | G10: Mērķa pedagogu zemākā stundas likme, EUR / mēn. (bruto) | H10: Zemākā stundas likme | I10: Zemākā mēnešalgas likme (40h) | J10: pieauguma temps, % (piemērots stundas likmei) | K10: Prognozētā vidējā mēnešalga (40h)
A11: 2024 | B11: 700 | C11: 0.129
A12: 2025 | B12: 740 | C12: =B12/B11-1 -> 0.057 | E12: =B12*2.5 -> 1850 | F12: =E12/120% -> 1542 | G12: =F12/40/4 -> 9.64 | H12: 9.79 | I12: 1566
A13: 2026 | B13: 780 | C13: =B13/B12-1 -> 0.054 | E13: =B13*2.5 -> 1950 | F13: =E13/120% -> 1625 | G13: =F13/40/4 -> 10.16 | H13: 9.79 | I13: 1566 | J13: 0 | K13: =I13*120% -> 1879
A14: 2027 | B14: 820 | C14: =B14/B13-1 -> 0.051 | D14: prognoze | E14: =B14*2.5 -> 2050 | F14: =E14/120% -> 1708 | G14: =F14/40/4 -> 10.68 | H14: 10.35 | I14: 1656 | J14: 0.0575 | K14: =I14*120% -> 1987
A15: 2028 | B15: 860 | C15: =B15/B14-1 -> 0.049 | D15: prognoze | E15: =B15*2.5 -> 2150 | F15: =E15/120% -> 1792 | G15: =F15/40/4 -> 11.2 | H15: 10.94 | I15: 1751 | J15: =J14 -> 0.0575 | K15: =I15*120% -> 2101
A16: 2029 | B16: 900 | C16: =B16/B15-1 -> 0.047 | D16: prognoze | E16: =B16*2.5 -> 2250 | F16: =E16/120% -> 1875 | G16: =F16/40/4 -> 11.72 | H16: 11.57 | I16: 1852 | J16: =J15 -> 0.0575 | K16: =I16*120% -> 2222
A17: 2030 | B17: 940 | C17: =B17/B16-1 -> 0.044 | D17: prognoze | E17: =B17*2.5 -> 2350 | F17: =E17/120% -> 1958 | G17: =F17/40/4 -> 12.24 | H17: 12.24 | I17: 1958 | J17: =J16 -> 0.0575 | K17: =I17*120% -> 2350
F18: =B17*2.5 -> 2350 | G18: =F18/40/4 -> 14.69
A21: FISKĀLĀ IETEKME
A22: Scenāriji | B22: Pieauguma temps | C22: Mērķa saniegts … | D22: 2027 | E22: 2028 | F22: 2029 | G22: 2030
A23: Scenārijs A1 (jan) | B23: =J14 -> 0.0575 | C23: 47484 | D23: ='IZM_5,75 no 01.01.27.'!C27 -> 55996103 | E23: ='IZM_5,75 no 01.01.27.'!E27 -> 114981372 | F23: ='IZM_5,75 no 01.01.27.'!G27 -> 177349657 | G23: ='IZM_5,75 no 01.01.27.'!I27 -> 243295918

Sheet Pedagogi_VB_ar modeli
A1: Plānotais finansējums pedagogu darba samaksai un valsts sociālās apdrošināšanas obligātajām iemaksām
A2: Resors Nr. | B2: Ministrija | C2: programma/ apakšprogramma | D2: EKK | E2: Plānots | H2: Izglītības iestādes | I2: Izglītības programmas
E3: 2026. | F3: 2027. | G3: 2028.
A4: KOPĀ | E4: =+E5+E15+E31+E32+E33+E34+E39 -> 850151534 | F4: =+F5+F15+F31+F32+F33+F34+F39 -> 889623870 | G4: =+G5+G15+G31+G32+G33+G34+G39 -> 885641296
A5: 62. | B5: MD/IZM | C5: Kopā | E5: =+E6+E9+E14 -> 655406775 | F5: =+F6+F9+F14 -> 692629729 | G5: =+G6+G9+G14 -> 688629729
C6: 01.00.00. | D6: 7460 | E6: =+E7+E8 -> 52099664 | F6: =+F7+F8 -> 51542287 | G6: =+G7+G8 -> 51542287 | H6: Speciālās izgl. iestādes, pirmsskolu grupas
E7: 50389491 | F7: 49842796 | G7: 49842796 | H7: spec.skolas ar internātu | I7: Speciālā izglītība
E8: 1710173 | F8: 1699491 | G8: 1699491 | H8: spec.pirmsskolas grupas | I8: Pirmsskolas izglītība
C9: 05.00.00. | D9: 7460 | E9: =SUM(E10:E13) -> 532478609 | F9: =SUM(F10:F13) -> 570709326 | G9: =SUM(G10:G13) -> 566709326 | H9: Pamata un vispŗējā vidējā izgl., spec. bez internāta, prof., interešu
E10: 488944296 | F10: 526500747 | G10: 522500747 | H10: pamata un visp.vid. | I10: Pamata un vispārējā vidējā izglītība
E11: 1284000 | F11: 1284000 | G11: 1284000 | H11: spec. skolas bez internāta | I11: Speciālā izglītība
E12: 3158652 | F12: 3158652 | G12: 3158652 | H12: prof.skolas | I12: Profesionālā izglītība
E13: 39091661 | F13: 39765927 | G13: 39765927 | H13: interešu izglītība | I13: Interešu izglītība
C14: 10.00.00. | D14: 7460 | E14: 70828502 | F14: 70378116 | G14: 70378116 | H14: Bērnu no 5 gadu vecuma izglītošana | I14: Pirmsskolas izglītība
A15: 15. | B15: IZM | C15: Kopā | E15: =+E16+E21+E24+E27+E28 -> 126028773 | F15: =+F16+F21+F24+F27+F28 -> 128116795 | G15: =+G16+G21+G24+G27+G28 -> 128116795
C16: 01.05.00. | D16: 3000 | E16: =SUM(E17:E20) -> 32357759 | F16: =SUM(F17:F20) -> 34417899 | G16: =SUM(G17:G20) -> 34417899 | H16: Privātās izglītības iestādes
E17: 25117162 | F17: 27408420 | G17: 27408420 | H17: pamata un visp.vid. | I17: Pamata un vispārējā vidējā izglītība
E18: 316576 | F18: 315024 | G18: 315024 | H18: starptautiskās skolas | I18: Pamata un vispārējā vidējā izglītība
E19: 5847484 | F19: 5625852 | G19: 5625852 | H19: bērnu no 5 gadu vecuma izglītošana | I19: Pirmsskolas izglītība
E20: 1076537 | F20: 1068603 | G20: 1068603 | H20: prof.skola | I20: Profesionālā izglītība
C21: 01.08.00. | D21: 1000 | E21: =+E22+E23 -> 247007 | F21: =+F22+F23 -> 274889 | G21: =+G22+G23 -> 274889 | H21: Eiropas skolas
E22: 23225 | F22: 23225 | G22: 23225 | H22: pirmsskola | I22: Pirmsskolas izglītība
E23: =198722+25060 -> 223782 | F23: =198722+52942 -> 251664 | G23: =198722+52942 -> 251664 | H23: pamata un visp.vid. | I23: Pamata un vispārējā vidējā izglītība
C24: 02.01.00. | D24: 1000 | E24: =+E25+E26 -> 60243585 | F24: =+F25+F26 -> 60243585 | G24: =+G25+G26 -> 60243585 | H24: Prof.skolas
E25: 60012361 | F25: 60012361 | G25: 60012361 | H25: profesionālajām vidusskolām | I25: Profesionālā izglītība
E26: 231224 | F26: 231224 | G26: 231224 | H26: Vidzemes tehnoloģiju un dizaina tehn. - visp.izgl. ieslodz.vietā | I26: Pamata un vispārējā vidējā izglītība
C27: 09.10.00. | D27: 1000 | E27: 1645534 | F27: 1645534 | G27: 1645534 | H27: Murjāņu sporta ģimnāzija | I27: Pamata un vispārējā vidējā izglītība
C28: 09.19.00. | D28: 7460 | E28: =+E29+E30 -> 31534888 | F28: =+F29+F30 -> 31534888 | G28: =+G29+G30 -> 31534888 | H28: Profesionālās ievirzes sporta pedagogu darba samaksa
D29: 3000 | E29: 3351041 | F29: 3351041 | G29: 3351041 | H29: privātās iestādes | I29: Profesionālās ievirzes izglītība
D30: 7460 | E30: 28183847 | F30: 28183847 | G30: 28183847 | H30: pašvaldību iestādes | I30: Profesionālās ievirzes izglītība
A31: 10. | B31: AM | C31: 22.10.00. | D31: 1000 | E31: 615576 | F31: 615576 | G31: 615576 | H31: Pulkveža Oskara Kalpaka profesionālā vidusskola | I31: Profesionālā izglītība
A32: 16. | B32: ZM | C32: 22.01.00. | D32: 7470 | E32: 1200074 | F32: 1367286 | G32: 1384712 | H32: Malnavas koledža; Bulduru Dārzkopības vidusskola | I32: Profesionālā izglītība
A33: 18. | B33: LM | C33: 05.37.00. | D33: 1000 | E33: 549020 | F33: 549020 | G33: 549020 | H33: SIVA koledža | I33: Profesionālā izglītība
A34: 22. | B34: KM | C34: Kopā | E34: =SUM(E35:E38) -> 65758378 | F34: =SUM(F35:F38) -> 65752526 | G34: =SUM(G35:G38) -> 65752526
C35: 20.00.00. | D35: 1000 | E35: 27077537 | F35: 27071685 | G35: 27071685 | H35: KM profesionālajām vidusskolām | I35: Profesionālā izglītība
C36: 20.00.00. | D36: 1000 | E36: 1130152 | F36: 1130152 | G36: 1130152 | H36: KM profesionālajām vidusskolām | I36: Vispārējā izglītība
C37: 20.00.00. | D37: 7460 | E37: 2536439 | F37: 2536439 | G37: 2536439 | H37: pašvaldību vidusskolām | I37: Profesionālā izglītība
C38: 20.00.00. | D38: 7460 | E38: 35014250 | F38: 35014250 | G38: 35014250 | H38: mākslu ievirzes skolām | I38: Profesionālās ievirzes izglītība
A39: 29. | B39: VM | C39: Kopā | E39: =SUM(E40:E41) -> 592938 | F39: =SUM(F40:F41) -> 592938 | G39: =SUM(G40:G41) -> 592938
C40: 02.03.00. | D40: 7470 | E40: 277262 | F40: 277262 | G40: 277262 | H40: Sarkanā krusta medicīnas koledža *) | I40: Profesionālā izglītība
C41: 33.09.00. | D41: 3000 | E41: 315676 | F41: 315676 | G41: 315676 | H41: Interešu izglītība "Bērnu klīniskās universitātes slimnīca" | I41: Interešu izglītība
H42: *) pēc MK noteikumiem Nr.445 aprēķinātais finansējums
D44: 2026 | E44: 2027 | F44: 2028 | G44: 2029 | H44: 2030
C45: Augstskolas | D45: 136814283 | E45: 136814283 | F45: 136814283 | G45: 136814283 | H45: 136814283
C46: Pārējie | D46: 850151534 | E46: 889623870 | F46: 885641296 | G46: 885641296 | H46: 885641296
C47: Kopā | D47: =D45+D46 -> 986965817 | E47: =E45+E46 -> 1026438153 | F47: =F45+F46 -> 1022455579 | G47: =G45+G46 -> 1022455579 | H47: =H45+H46 -> 1022455579

Sheet IZM_5,75 no 01.01.27.
B4: 2026 | C4: 2027 | E4: 2028 | G4: 2029 | I4: 2030
A5: Kopējais budžets pedagogu darba samaksai, projekts | B5: ='Pedagogi_VB_ar modeli'!E4 -> 850151534 | C5: ='Pedagogi_VB_ar modeli'!F4 -> 889623870 | E5: ='Pedagogi_VB_ar modeli'!G4 -> 885641296 | G5: =E5 -> 885641296 | I5: =E5 -> 885641296
C6: jan.-aug. | D6: sept. - dec. | E6: jan.-aug | F6: sept. - dec. | G6: jan.-aug. | H6: sept.-dec. | I6: jan.-aug. | J6: sept.-dec.
A7: Algas likme pieaugums | C7: =+D8/B8-100% -> 0.0575 | E7: 0.0575 | G7: 0.0575 | I7: 0.0575
A8: Algas likme 40h | B8: 1566 | C8: 1656 | D8: 1656 | E8: 1751 | F8: 1751 | G8: 1852 | H8: 1852 | I8: 1958 | J8: 1958
A10: Bez augstākās izglītības | M10: Augstākā izglītības
B11: 2026 | C11: 2027 | E11: 2028 | G11: 2029 | I11: 2030 | K11: 2031 un turpmāk | N11: 2026 | O11: 2027 | Q11: 2028 | S11: 2029 | U11: 2030 | W11: 2031 un turpmāk
A12: Algas likme 40h | B12: 1566 | C12: 1656 | D12: 1656 | E12: 1751 | F12: 1751 | G12: 1852 | H12: 1852 | I12: 1958 | J12: 1958 | K12: 1958 | M12: Algas likme 40h | N12: 1566 | O12: 1656 | P12: 1656 | Q12: 1751 | R12: 1751 | S12: 1852 | T12: 1852 | U12: 1958 | V12: 1958 | W12: 1958
A13: papildus nepiešamais finansējums ietekme no 01.01.2027. | B13: 0 | C13: =C5*C7 -> 51153373 | E13: =C13 -> 51153373 | G13: =+E13 -> 51153373 | I13: =+G13 -> 51153373 | K13: =+I13 -> 51153373 | M13: papildus nepiešamais finansējums ietekme no 01.01.2027. | N13: 0 | O13: 4842730 | Q13: =O13 -> 4842730 | S13: =+Q13 -> 4842730 | U13: =+S13 -> 4842730 | W13: =+U13 -> 4842730
A14: papildus nepiešamais finansējums ietekme no 01.01.2028. | E14: =(E5+E13)*E7 -> 53865693 | G14: =E14 -> 53865693 | I14: =+G14 -> 53865693 | K14: =+I14 -> 53865693 | M14: papildus nepiešamais finansējums ietekme no 01.01.2028. | Q14: 5119576 | S14: =Q14 -> 5119576 | U14: =+S14 -> 5119576 | W14: =+U14 -> 5119576
A15: papildus nepiešamais finansējums ietekme no 01.01.2029. | G15: =(G5+G13+G14)*G7 -> 56962971 | I15: =G15 -> 56962971 | K15: =+I15 -> 56962971 | M15: papildus nepiešamais finansējums ietekme no 01.01.2029. | S15: 5405314 | U15: =S15 -> 5405314 | W15: =+U15 -> 5405314
A16: papildus nepiešamais finansējums ietekme no 01.01.2030. | I16: =(I5+I13+I14+I15)*I7 -> 60238342 | K16: =I16 -> 60238342 | M16: papildus nepiešamais finansējums ietekme no 01.01.2030. | U16: 5707919 | W16: =U16 -> 5707919
A17: Kopā papildu finansējums | C17: =C13+D13 -> 51153373 | E17: =SUM(E13:F16) -> 105019066 | G17: =SUM(G13:H16) -> 161982037 | I17: =SUM(I13:J16) -> 222220379 | K17: =SUM(K13:K16) -> 222220379 | M17: Kopā papildu finansējums | O17: =O13+P13 -> 4842730 | Q17: =SUM(Q13:R16) -> 9962306 | S17: =SUM(S13:T16) -> 15367620 | U17: =SUM(U13:V16) -> 21075539 | W17: =SUM(W13:W16) -> 21075539
A20: KOPĀ
B21: 2026 | C21: 2027 | E21: 2028 | G21: 2029 | I21: 2030
A22: Algas likme 40h | B22: 1566 | C22: 1663 | D22: 1663 | E22: 1751 | F22: 1751 | G22: 1852 | H22: 1852 | I22: 1958
A23: papildus nepiešamais finansējums ietekme no 01.01.2027. | B23: 0 | C23: =C13+O17 -> 55996103 | E23: =C23 -> 55996103 | G23: =+E23 -> 55996103 | I23: =G23 -> 55996103
A24: papildus nepiešamais finansējums ietekme no 01.01.2028. | E24: =E14+Q14 -> 58985269 | G24: =E24 -> 58985269 | I24: =G24 -> 58985269
A25: papildus nepiešamais finansējums ietekme no 01.01.2029. | G25: =G15+S15 -> 62368285 | I25: =G25 -> 62368285
A26: papildus nepiešamais finansējums ietekme no 01.01.2029. | I26: =I16+U16 -> 65946261
A27: Kopā papildu finansējums | C27: =SUM(C23:D26) -> 55996103 | E27: =SUM(E23:F26) -> 114981372 | G27: =SUM(G23:H26) -> 177349657 | I27: =SUM(I23:I26) -> 243295918

Sheet Pašvaldības budžets
A14: Mēneša tarifikācija | C14: 14986033
A15: Ar VSAOI | C15: =C14*1.2359 -> 18521238
A16: Gadā | C16: =C15*12 -> 222254856
A18: Zemākā algas likme mainās -JANVĀRĪ_5,75%
D19: 0.0575 | F19: 0.0575 | H19: 0.0575 | I19: 0.0575
B20: 2026 | C20: 2027 | E20: 2028 | G20: 2029 | I20: 2030
A21: Algas likme 40h | B21: 1566 | C21: 1663 | E21: 1751 | G21: 1852 | I21: 1958
A22: papildus nepiešamais finansējums ietekme no 01.01.2027. | B22: 0 | C22: =D19*C16 -> 12779654 | E22: =C22 -> 12779654 | G22: =E22 -> 12779654 | I22: =G22 -> 12779654
A23: papildus nepiešamais finansējums ietekme no 01.01.2028. | E23: =(C16+E22)*F19 -> 13514484 | G23: =E23 -> 13514484 | I23: =G23 -> 13514484
A24: papildus nepiešamais finansējums ietekme no 01.01.2029. | G24: =(C16+G22+G23)*H19 -> 14291567 | I24: =G24 -> 14291567
A25: papildus nepiešamais finansējums ietekme no 01.01.2029. | I25: =(C16+I22+I23+I24)*I19 -> 15113332
A26: Kopā papildu finansējums | C26: =SUM(C22:D24) -> 12779654 | E26: =SUM(E22:F24) -> 26294138 | G26: =SUM(G22:H25) -> 40585705 | I26: =SUM(I22:J25) -> 55699037
