Workbook

Sheet marts ATD
A1: Pārskats par sabiedriskā transporta pakalpojumos radītajiem izdevumiem un zaudējumiem sakarā ar noteiktajiem ierobežojumiem
A2: Periods | C2: Vienības | D2: Autobusi | E2: Minibusi (ekspresbusi) | F2: Tramvaji (sastāvi) | G2: Trolejbusi
A3: 1.SADAĻA | B3: KOPSUMMA ((N - P) x Izm) | D3: =(D10-D9)*D13 -> -550222.54 | E3: -119.47536 | F3: =(F10-F9)*F13 -> -393557.82 | G3: =(G10-G9)*G13 -> -288882.71
A4: 09.03.2021.- 31.03.2021. | B4: Iesaistīto transportlīdzekļu vienības | C4: skaits | D4: 405 | E4: 131 | F4: 148 | G4: 278
B5: (S) Plānotais reisu skaits | D5: 78732.5 | E5: 19703 | F5: 19900 | G5: 62652.5
B6: (R) Faktiskais reisu skaits (S + RP-RA) | D6: =D5+D7-D8 -> 68778 | E6: 19697 | F6: =F5+F7-F8 -> 17152 | G6: =G5+G7-G8 -> 54239.5
B7: to starpā papildu reisi (RP) | D7: 151.5 | F7: 0 | G7: 33
B8: to starpā atceltie reisi (RA) | D8: 10106 | E8: 6 | F8: 2748 | G8: 8446
B9: (P) Plānotais nobraukums | C9: km | D9: 1410000 | E9: 303080.73 | F9: 272000 | G9: 680000
B10: (N) Faktiskais nobraukums (P + NP-NA) | D10: =D9+D11-D12 -> 1240654.1 | E10: 302965.47 | F10: =F9+F11-F12 -> 231992.09 | G10: =G9+G11-G12 -> 615968.96
B11: to starpā papildu reisos veiktais nobraukums (NP) | D11: 2515.216 | F11: 0 | G11: 285.004
B12: to starpā atcelto reisu nobraukums (NA) | D12: 171861.07 | F12: 40007.911 | G12: 64316.041
A13: 01.03.2021.-31.03.2021. | B13: (Izm) 1 km pašizmaksa | C13: EUR/km | D13: 3.2491055 | E13: 1.0365727 | F13: 9.837 | G13: 4.5116044
A14: 2.SADAĻA | B14: KOPSUMMA (1 vienības cenas reizinājums ar preču/pakalpojumu skaitu; summa ( K x Z)) | D14: =SUM(D16*D24,D17*D25,D18*D26,D19*D27,D20*D28,D21*D29,D22*D30) -> 4252.16 | E14: =SUM(E16*E24,E17*E25,E18*E26,E19*E27,E20*E28,E21*E29,E22*E30) -> 0 | F14: =SUM(F16*F24,F17*F25,F18*F26,F19*F27,F20*F28,F21*F29,F22*F30) -> 1776.4686 | G14: =SUM(G16*G24,G17*G25,G18*G26,G19*G27,G20*G28,G21*G29,G22*G30) -> 2402.4647
A15: 09.03.2021.- 31.03.2021. | B15: (Z) Pakalpojumi, pasākumi un materiāli Covid-19 pandēmijas ierobežošanai | C15: skaits (jānorāda atbilstoša mērvienība gab., litri, reižu skaits, darba stundas u.c.)
B16: Dezinfekcijas līdzekļi | D16: 2058 | F16: 727.2 | G16: 797.2
B17: Sejas maskas | D17: 923 | F17: 724 | G17: 1315.22
B18: Sociālā distancēšanās sabiedriskā transportā | D18: 90 | F18: 29 | G18: 79.3
B19: Transportlīdzekļu dezinfekcija | D19: 65 | F19: 24 | G19: 52
B20: Transportlīdzekļu papildu mazgāšana
B21: Mitrās salvetes | D21: 660 | F21: 88 | G21: 393
B22: Mitrās salvetes | D22: 17 | F22: 7 | G22: 8
B23: (K) Faktiskās izmaksas Covid-19 pandēmijas ierobežošanai, t.sk. | C23: EUR/vien bez PVN
B24: Dezinfekcijas līdzekļi | D24: 1.36 | F24: 1.378 | G24: 1.369
B25: Sejas maskas | D25: 0.65 | F25: 0.566 | G25: 0.437
B26: Sociālā distancēšanās sabiedriskā transportā | D26: 0.9 | F26: 0.923 | G26: 1.156
B27: Transportlīdzekļu dezinfekcija | D27: 4.43 | F27: 11.279 | G27: 6.873
B28: Transportlīdzekļu papildu mazgāšana, to starpā darba spēka izmaksas
B29: Mitrās salvetes | D29: 0.72 | F29: 0.72 | G29: 0.72
B30: Mitrās salvetes | D30: 0.54 | F30: 0.54 | G30: 0.54
A31: 3.SADAĻA | B31: KOPSUMMA ((C/D-A/N) x N) | D31: =((D34/D35)-(D32/D33))*D33 -> 419840.42 | E31: 67793.248 | F31: =((F34/F35)-(F32/F33))*F33 -> 271646.82 | G31: =((G34/G35)-(G32/G33))*G33 -> 315266.97
A32: 09.03.2021.-31.03.2021. | B32: (A) No pasažieriem, t.sk., personām, kurām noteikti pašvaldības noteiktie braukšanas maksas atvieglojumi, saņemtie ieņēmumi par sniegto sabiedriskā transporta pakalpojumu | C32: EUR bez PVN | D32: 643888.74 | E32: 104079.86 | F32: 261635.88 | G32: 443388.66
B33: (N) Faktiskais nobraukums | C33: km | D33: 1240654.1 | E33: 303080.73 | F33: 231992.09 | G33: 615968.96
A34: 09.03.2019.-31.03.2019. | B34: (C) No pasažieriem, t.sk., personām, kurām noteikti pašvaldības noteiktie braukšanas maksas atvieglojumi, saņemtie ieņēmumi par sniegto sabiedriskā transporta pakalpojumu | C34: EUR bez PVN | D34: 1242095.4 | E34: 458471.41 | F34: 651108.62 | G34: 754307.53
B35: (D) Faktiskais nobraukums | C35: km | D35: 1448687.2 | E35: 808467.66 | F35: 283249.48 | G35: 612438.65
B38: Pašvaldības atbildīgās personas vārds, uzvārds, kontaktinformācija un paraksts (ja dokuments nav parakstīts ar elektroniski)
A41: Informāciju aizpilda katra pašvaldība par pārvadājumu veidiem, kādi ir noteikti attiecīgā pilsētā
A42: Tabulā iekļauj norādītajā laika periodā radušās pamatotās izmaksas, kas attiecināmas uz sabiedriskā transporta pakalpojuma izpildē noteiktajiem drošības pasākumiem Covid-19 infekcijas izplatības ierobežošanai.
A43: Pašvaldībai ir pienākums pārliecināties par izmaksu pamatotību, to apjomu vai attiecināto apmēru.
A44: 1.SADAĻĀ tiek aprēķināti faktiskie izdevumi, kas radušies saistībā ar atcelto reisu vai/un papildu reisu nodrošināšanu sakarā ar pakalpojuma apjoma ierobežošanu un 50% pasažieru piepildījuma noteikšanu
A45: 2.SADAĻĀ nosakāmi kopējie izdevumi par Covid-19 infekcijas ierobežošanas pasākumiem, kas izpildāmi atbilstoši MK 09.06.2020. noteikumiem Nr.360; MK 06.11.2020. rīkojumam Nr.655
A46: 3.SADAĻĀ nosakāma kopējā ietekme uz ieņēmumu apgrozījumu, ko radījusi Covid-19 infekcijas apkarošanā radītā iedzīvotāju mobilitātes ierobežošana, pakalpojuma apjoma ierobežošana, kā arī citi ārkārtējās situācijas laikā un pēc tās noteiktie ierobežojumi atsevišķām nozarēm
A48: Paskaidrojumi
A49: 1 km pašizmaksa - atbilstoši MK 28.07.2015. noteikumu Nr.435 3.pielikumā norādītās izmaksas, izņemot šajā tabulā 2.sadaļas izmaksas par Covid-19 pandēmijas ierobežošanas pasākumiem, dalītas ar faktisko nobraukumu
A50: Dezinfekcijas līdzekļi - roku higiēnai šķidrās ziepes un roku susināšanas līdzekļi vai spirtu saturoši roku dezinfekcijas līdzekļi (kas satur vismaz 70 % etanola) - MK noteikumu Nr.360 7.1.punkts
A51: Sejas maskas - sabiedriskajā transportlīdzeklī, ar kuru veic pasažieru komercpārvadājumus, transportlīdzekļa vadītāji, kuri nav atdalīti ar fizisku barjeru no pasažieriem, kā arī pasažieri, lieto mutes un deguna aizsegus - MK noteikumu Nr.360 6.3.1punkts
A52: Sociālā distancēšanās sabiedriskā transportā - sabiedriskā transporta pārvadātājam organizēt iekāpšanu un izkāpšanu tā, lai pasažieru skaits transportīdzeklī nepārsniedz 50 % no tā ietilpības. Ja transportlīdzeklī tā specifikas dēļ nav iespējams kontrolēt pasažieru iekāpšanu un izkāpšanu, transportlīdzeklī tiek marķētas sēdvietas, nodrošinot distancēšanās prasību ievērošanu - MK rīkojuma Nr.655 5.42.punkts. Ar minētajām izmaksām saprot sēdvietu marķēšanu, dažādu tam nepieciešamo materiālu izmaksas, piktogrammu vai informācijas izvietošanu.
A53: Transportlīdzekļu dezinfekcija - regulāra saimnieciskā vai publiskā pakalpojuma nodrošināšanai izmantotā transportlīdzekļa salona un kabīnes virsmu dezinfekcija - MK noteikumu Nr.360 7.5.punkts
... A56: No pasažieriem, t.sk., personām, kurām noteikti pašvaldības noteiktie braukšanas maksas atvieglojumi, saņemtie ieņēmumi - norāda ieņēmumi no pārdotajām biļetēm un abonementa biļetēm, kurus pārvadātājs saņem no pasažiera. Norāda arī ieņēmumu daļu, ko maksā pasažieris, ja tam pašvaldība ir noteikusi braukšanas maksas atvieglojumus.

Sheet aprīlis_protokol
A1: Pārskats par sabiedriskā transporta pakalpojumos radītajiem izdevumiem un zaudējumiem sakarā ar noteiktajiem ierobežojumiem
A2: Periods | C2: Vienības | D2: Autobusi | E2: Minibusi (ekspresbusi) | F2: Tramvaji (sastāvi) | G2: Trolejbusi
A3: 1.SADAĻA | B3: KOPSUMMA ((N - P) x Izm) | D3: =(D10-D9)*D13 -> -725413.93 | E3: -50703 | F3: =(F10-F9)*F13 -> -579665.25 | G3: =(G10-G9)*G13 -> -321467.79
A4: 01.04.2021.- 30.04.2021. | B4: Iesaistīto transportlīdzekļu vienības | C4: skaits | D4: 405 | E4: 131 | F4: 148 | G4: 278
B5: (S) Plānotais reisu skaits | D5: 101890 | E5: 32792 | F5: 25300 | G5: 76710
B6: (R) Faktiskais reisu skaits (S + RP-RA) | D6: =D5+D7-D8 -> 87245 | E6: 23175 | F6: =F5+F7-F8 -> 21644.5 | G6: =G5+G7-G8 -> 68864.5
B7: to starpā papildu reisi (RP) | D7: 191 | F7: 0 | G7: 41
B8: to starpā atceltie reisi (RA) | D8: 14836 | F8: 3655.5 | G8: 7886.5
B9: (P) Plānotais nobraukums | C9: km | D9: 1784000 | E9: 407672.68 | F9: 346000 | G9: 855000
B10: (N) Faktiskais nobraukums (P + NP-NA) | D10: =D9+D11-D12 -> 1574342.8 | E10: 362024.55 | F10: =F9+F11-F12 -> 291775 | G10: =G9+G11-G12 -> 786456.76
B11: to starpā papildu reisos veiktais nobraukums (NP) | D11: 2923.794 | F11: 0 | G11: 356.761
B12: to starpā atcelto reisu nobraukums (NA) | D12: 212581 | E12: 45564 | F12: 54225 | G12: 68900
A13: 01.04.2021.-30.04.2021. | B13: (Izm) 1 km pašizmaksa | C13: EUR/km | D13: 3.46 | E13: 1.1107355 | F13: 10.69 | G13: 4.69
A14: 2.SADAĻA | B14: KOPSUMMA (1 vienības cenas reizinājums ar preču/pakalpojumu skaitu; summa ( K x Z)) | D14: =SUM(D16*D23,D17*D24,D18*D25,D19*D26,D20*D27,D21*D28) -> 7199.7943 | E14: 0 | F14: =SUM(F16*F23,F17*F24,F18*F25,F19*F26,F20*F27,F21*F28) -> 1581.5491 | G14: =SUM(G16*G23,G17*G24,G18*G25,G19*G26,G20*G27,G21*G28) -> 1881.6675
A15: 01.04.2021.- 30.04.2021. | B15: (Z) Pakalpojumi, pasākumi un materiāli Covid-19 pandēmijas ierobežošanai | C15: skaits (jānorāda atbilstoša mērvienība gab., litri, reižu skaits, darba stundas u.c.)
B16: Dezinfekcijas līdzekļi | D16: 2397.9746 | F16: 657.824 | G16: 711.7014
B17: Sejas maskas | D17: 2880.1188 | F17: 1021.4309 | G17: 704.53622
B18: Sociālā distancēšanās sabiedriskā transportā | D18: 19.0354 | F18: 7.451 | G18: 25.5136
B19: Transportlīdzekļu dezinfekcija | D19: 20.7655 | F19: 7.3825 | G19: 14.852
B20: Transportlīdzekļu papildu mazgāšana
B21: Citi izdevumi (norādīt kādi) | D21: 764 | F21: 81.82 | G21: 338.18
B22: (K) Faktiskās izmaksas Covid-19 pandēmijas ierobežošanai, t.sk. | C22: EUR/vien bez PVN
B23: Dezinfekcijas līdzekļi | D23: 1.3662668 | F23: 1.3776863 | G23: 1.3622453
B24: Sejas maskas | D24: 1.0152441 | F24: 0.45211708 | G24: 0.46381003
B25: Sociālā distancēšanās sabiedriskā transportā | D25: 2.56 | F25: 4.2671534 | G25: 2.4831782
B26: Transportlīdzekļu dezinfekcija, to starpā darba spēka izmaksas | D26: 19.295812 | F26: 16.664087 | G26: 18.730824
B27: Transportlīdzekļu papildu mazgāšana, to starpā darba spēka izmaksas
B28: Citi izdevumi (norādīt kādi) | D28: 0.72 | F28: 0.71682229 | G28: 0.72103495
A29: 3.SADAĻA | B29: KOPSUMMA ((C/D-A/N) x N) | D29: =((D32/D33)-(D30/D31))*D31 -> 527914.36 | E29: 80101.888 | F29: =((F32/F33)-(F30/F31))*F31 -> 329714.87 | G29: =((G32/G33)-(G30/G31))*G31 -> 410667.06
A30: 01.04.2021.-30.04.2021. | B30: (A) No pasažieriem, t.sk., personām, kurām noteikti pašvaldības noteiktie braukšanas maksas atvieglojumi, saņemtie ieņēmumi par sniegto sabiedriskā transporta pakalpojumu | C30: EUR bez PVN | D30: 861760.1 | E30: 131945.25 | F30: 369010.83 | G30: 581387.78
B31: (N) Faktiskais nobraukums | C31: km | D31: 1574342.8 | E31: 362024.55 | F31: 291775 | G31: 786456.76
A32: 01.04.2019.-30.04.2019. | B32: (C) No pasažieriem, t.sk., personām, kurām noteikti pašvaldības noteiktie braukšanas maksas atvieglojumi, saņemtie ieņēmumi par sniegto sabiedriskā transporta pakalpojumu | C32: EUR bez PVN | D32: 1699995 | E32: 598668.58 | F32: 904252.64 | G32: 1012763
B33: (D) Faktiskais nobraukums | C33: km | D33: 1925900.5 | E33: 1022096.9 | F33: 377599.27 | G33: 802873.23
B36: Pašvaldības atbildīgās personas vārds, uzvārds, kontaktinformācija un paraksts (ja dokuments nav parakstīts ar elektroniski)
A39: Informāciju aizpilda katra pašvaldība par pārvadājumu veidiem, kādi ir noteikti attiecīgā pilsētā
A40: Tabulā iekļauj norādītajā laika periodā radušās pamatotās izmaksas, kas attiecināmas uz sabiedriskā transporta pakalpojuma izpildē noteiktajiem drošības pasākumiem Covid-19 infekcijas izplatības ierobežošanai.
A41: Pašvaldībai ir pienākums pārliecināties par izmaksu pamatotību, to apjomu vai attiecināto apmēru.
A42: 1.SADAĻĀ tiek aprēķināti faktiskie izdevumi, kas radušies saistībā ar atcelto reisu vai/un papildu reisu nodrošināšanu sakarā ar pakalpojuma apjoma ierobežošanu un 50% pasažieru piepildījuma noteikšanu
A43: 2.SADAĻĀ nosakāmi kopējie izdevumi par Covid-19 infekcijas ierobežošanas pasākumiem, kas izpildāmi atbilstoši MK 09.06.2020. noteikumiem Nr.360; MK 06.11.2020. rīkojumam Nr.655
A44: 3.SADAĻĀ nosakāma kopējā ietekme uz ieņēmumu apgrozījumu, ko radījusi Covid-19 infekcijas apkarošanā radītā iedzīvotāju mobilitātes ierobežošana, pakalpojuma apjoma ierobežošana, kā arī citi ārkārtējās situācijas laikā un pēc tās noteiktie ierobežojumi atsevišķām nozarēm
A46: Paskaidrojumi
A47: 1 km pašizmaksa - atbilstoši MK 28.07.2015. noteikumu Nr.435 3.pielikumā norādītās izmaksas, izņemot šajā tabulā 2.sadaļas izmaksas par Covid-19 pandēmijas ierobežošanas pasākumiem, dalītas ar faktisko nobraukumu
A48: Dezinfekcijas līdzekļi - roku higiēnai šķidrās ziepes un roku susināšanas līdzekļi vai spirtu saturoši roku dezinfekcijas līdzekļi (kas satur vismaz 70 % etanola) - MK noteikumu Nr.360 7.1.punkts
A49: Sejas maskas - sabiedriskajā transportlīdzeklī, ar kuru veic pasažieru komercpārvadājumus, transportlīdzekļa vadītāji, kuri nav atdalīti ar fizisku barjeru no pasažieriem, kā arī pasažieri, lieto mutes un deguna aizsegus - MK noteikumu Nr.360 6.3.1punkts
A50: Sociālā distancēšanās sabiedriskā transportā - sabiedriskā transporta pārvadātājam organizēt iekāpšanu un izkāpšanu tā, lai pasažieru skaits transportīdzeklī nepārsniedz 50 % no tā ietilpības. Ja transportlīdzeklī tā specifikas dēļ nav iespējams kontrolēt pasažieru iekāpšanu un izkāpšanu, transportlīdzeklī tiek marķētas sēdvietas, nodrošinot distancēšanās prasību ievērošanu - MK rīkojuma Nr.655 5.42.punkts. Ar minētajām izmaksām saprot sēdvietu marķēšanu, dažādu tam nepieciešamo materiālu izmaksas, piktogrammu vai informācijas izvietošanu.
A51: Transportlīdzekļu dezinfekcija - regulāra saimnieciskā vai publiskā pakalpojuma nodrošināšanai izmantotā transportlīdzekļa salona un kabīnes virsmu dezinfekcija - MK noteikumu Nr.360 7.5.punkts
... A54: No pasažieriem, t.sk., personām, kurām noteikti pašvaldības noteiktie braukšanas maksas atvieglojumi, saņemtie ieņēmumi - norāda ieņēmumi no pārdotajām biļetēm un abonementa biļetēm, kurus pārvadātājs saņem no pasažiera. Norāda arī ieņēmumu daļu, ko maksā pasažieris, ja tam pašvaldība ir noteikusi braukšanas maksas atvieglojumus.

Sheet maijs_korigets
A1: Pārskats par sabiedriskā transporta pakalpojumos radītajiem izdevumiem un zaudējumiem sakarā ar noteiktajiem ierobežojumiem
A2: Periods | C2: Vienības | D2: Autobusi | E2: Minibusi (ekspresbusi) | F2: Tramvaji | G2: Trolejbusi
A3: 1.SADAĻA | B3: KOPSUMMA ((N - P) x Izm) | D3: =(D10-D9)*D13 -> -541858.3 | E3: -51483.329 | F3: =(F10-F9)*F13 -> -569340.05 | G3: =(G10-G9)*G13 -> -295475.92
A4: 01.05.2021.- 31.05.2021. | B4: Iesaistīto transportlīdzekļu vienības | C4: skaits | D4: 405 | E4: 131 | F4: 163 | G4: 278
B5: (S) Plānotais reisu skaits | D5: 104315 | E5: 34884 | F5: 25942 | G5: 78455
B6: (R) Faktiskais reisu skaits (S + RP-RA) | D6: =D5+D7-D8 -> 90474 | E6: 23176 | F6: =F5+F7-F8 -> 22171 | G6: =G5+G7-G8 -> 70497
B7: to starpā papildu reisi (RP) | D7: 245 | F7: 14 | G7: 40
B8: to starpā atceltie reisi (RA) | D8: 14086 | F8: 3785 | G8: 7998
B9: (P) Plānotais nobraukums | C9: km | D9: 1827000 | E9: 407672.68 | F9: 355000 | G9: 874000
B10: (N) Faktiskais nobraukums (P + NP-NA) | D10: =D9+D11-D12 -> 1652207 | E10: 362025.1 | F10: =F9+F11-F12 -> 298907.38 | G10: =G9+G11-G12 -> 805444.1
B11: to starpā papildu reisos veiktais nobraukums (NP) | D11: 3864 | F11: 209.384 | G11: 346.101
B12: to starpā atcelto reisu nobraukums (NA) | D12: 178657 | E12: 45564 | F12: 56302 | G12: 68902
A13: 01.05.2021.-31.05.2021. | B13: (Izm) 1 km pašizmaksa | C13: EUR/km | D13: =[1]RS_maijs!F15 -> 3.1 | E13: 1.1278436 | F13: =[1]RS_maijs!G15 -> 10.15 | G13: =[1]RS_maijs!H15 -> 4.31
A14: 2.SADAĻA | B14: KOPSUMMA (1 vienības cenas reizinājums ar preču/pakalpojumu skaitu; summa ( K x Z)) | D14: =D22 -> 3032 | E14: 0 | F14: =F22 -> 1179 | G14: =G22 -> 1743
A15: 01.05.2021.- 31.05.2021. | B15: (Z) Pakalpojumi, pasākumi un materiāli Covid-19 pandēmijas ierobežošanai | C15: skaits (jānorāda atbilstoša mērvienība gab., litri, reižu skaits, darba stundas u.c.)
B16: Dezinfekcijas līdzekļi | D16: =[1]RS_maijs!F21 -> 1843 | F16: =[1]RS_maijs!G21 -> 663 | G16: =[1]RS_maijs!H21 -> 576
B17: Sejas maskas | D17: =[1]RS_maijs!F22 -> 363 | F17: =[1]RS_maijs!G22 -> 497 | G17: =[1]RS_maijs!H22 -> 418
B18: Sociālā distancēšanās sabiedriskā transportā | D18: =[1]RS_maijs!F23 -> 33 | F18: =[1]RS_maijs!G23 -> 5 | G18: =[1]RS_maijs!H23 -> 69
B19: Transportlīdzekļu dezinfekcija | D19: =[1]RS_maijs!F24 -> 0 | F19: =[1]RS_maijs!G24 -> 0 | G19: =[1]RS_maijs!H24 -> 0
B20: Transportlīdzekļu papildu mazgāšana | D20: =[1]RS_maijs!F25 -> 22 | F20: =[1]RS_maijs!G25 -> 5 | G20: =[1]RS_maijs!H25 -> 28
B21: Citi izdevumi (norādīt kādi) | D21: =[1]RS_maijs!F26 -> 0 | F21: =[1]RS_maijs!G26 -> 6 | G21: =[1]RS_maijs!H26 -> 378
B22: (K) Faktiskās izmaksas Covid-19 pandēmijas ierobežošanai, t.sk. | C22: EUR/vien bez PVN | D22: =[1]RS_maijs!F27 -> 3032 | F22: =[1]RS_maijs!G27 -> 1179 | G22: =[1]RS_maijs!H27 -> 1743
B23: Dezinfekcijas līdzekļi | D23: =[1]RS_maijs!F28 -> 2563 | F23: =[1]RS_maijs!G28 -> 921 | G23: =[1]RS_maijs!H28 -> 792
B24: Sejas maskas | D24: =[1]RS_maijs!F29 -> 271 | F24: =[1]RS_maijs!G29 -> 161 | G24: =[1]RS_maijs!H29 -> 357
B25: Sociālā distancēšanās sabiedriskā transportā | D25: =[1]RS_maijs!F30 -> 67 | F25: =[1]RS_maijs!G30 -> 26 | G25: =[1]RS_maijs!H30 -> 110
B26: Transportlīdzekļu dezinfekcija, to starpā darba spēka izmaksas | D26: =[1]RS_maijs!F31 -> 0 | F26: =[1]RS_maijs!G31 -> 0 | G26: =[1]RS_maijs!H31 -> 0
B27: Transportlīdzekļu papildu mazgāšana, to starpā darba spēka izmaksas | D27: =[1]RS_maijs!F32 -> 131 | F27: =[1]RS_maijs!G32 -> 66 | G27: =[1]RS_maijs!H32 -> 185
B28: Citi izdevumi (norādīt kādi) | D28: =[1]RS_maijs!F33 -> 0 | F28: =[1]RS_maijs!G33 -> 5 | G28: =[1]RS_maijs!H33 -> 299
A29: 3.SADAĻA | B29: KOPSUMMA ((C/D-A/N) x N) | D29: =((D32/D33)-(D30/D31))*D31 -> 465498.19 | E29: 71433.28 | F29: =((F32/F33)-(F30/F31))*F31 -> 332060.71 | G29: =((G32/G33)-(G30/G31))*G31 -> 317514.29
A30: 01.05.2021.-31.05.2021. | B30: (A) No pasažieriem, t.sk., personām, kurām noteikti pašvaldības noteiktie braukšanas maksas atvieglojumi, saņemtie ieņēmumi par sniegto sabiedriskā transporta pakalpojumu | C30: EUR bez PVN | D30: 935052.46 | E30: 135242.62 | F30: 412234.67 | G30: 630114.1
B31: (N) Faktiskais nobraukums | C31: km | D31: 1652207 | E31: 362025.1 | F31: 298907.38 | G31: 805444.1
A32: 01.05.2019.-31.05.2019. | B32: (C) No pasažieriem, t.sk., personām, kurām noteikti pašvaldības noteiktie braukšanas maksas atvieglojumi, saņemtie ieņēmumi par sniegto sabiedriskā transporta pakalpojumu | C32: EUR bez PVN | D32: 1707661.9 | E32: 595810.82 | F32: 944664.03 | G32: 980997.26
B33: (D) Faktiskais nobraukums | C33: km | D33: 2014501.2 | E33: 1043655.7 | F33: 379374.99 | G33: 833806.23
B36: Pašvaldības atbildīgās personas vārds, uzvārds, kontaktinformācija un paraksts (ja dokuments nav parakstīts ar elektroniski)
A39: Informāciju aizpilda katra pašvaldība par pārvadājumu veidiem, kādi ir noteikti attiecīgā pilsētā
A40: Tabulā iekļauj norādītajā laika periodā radušās pamatotās izmaksas, kas attiecināmas uz sabiedriskā transporta pakalpojuma izpildē noteiktajiem drošības pasākumiem Covid-19 infekcijas izplatības ierobežošanai.
A41: Pašvaldībai ir pienākums pārliecināties par izmaksu pamatotību, to apjomu vai attiecināto apmēru.
A42: 1.SADAĻĀ tiek aprēķināti faktiskie izdevumi, kas radušies saistībā ar atcelto reisu vai/un papildu reisu nodrošināšanu sakarā ar pakalpojuma apjoma ierobežošanu un 50% pasažieru piepildījuma noteikšanu
A43: 2.SADAĻĀ nosakāmi kopējie izdevumi par Covid-19 infekcijas ierobežošanas pasākumiem, kas izpildāmi atbilstoši MK 09.06.2020. noteikumiem Nr.360; MK 06.11.2020. rīkojumam Nr.655
A44: 3.SADAĻĀ nosakāma kopējā ietekme uz ieņēmumu apgrozījumu, ko radījusi Covid-19 infekcijas apkarošanā radītā iedzīvotāju mobilitātes ierobežošana, pakalpojuma apjoma ierobežošana, kā arī citi ārkārtējās situācijas laikā un pēc tās noteiktie ierobežojumi atsevišķām nozarēm
A46: Paskaidrojumi
A47: 1 km pašizmaksa - atbilstoši MK 28.07.2015. noteikumu Nr.435 3.pielikumā norādītās izmaksas, izņemot šajā tabulā 2.sadaļas izmaksas par Covid-19 pandēmijas ierobežošanas pasākumiem, dalītas ar faktisko nobraukumu
A48: Dezinfekcijas līdzekļi - roku higiēnai šķidrās ziepes un roku susināšanas līdzekļi vai spirtu saturoši roku dezinfekcijas līdzekļi (kas satur vismaz 70 % etanola) - MK noteikumu Nr.360 7.1.punkts
A49: Sejas maskas - sabiedriskajā transportlīdzeklī, ar kuru veic pasažieru komercpārvadājumus, transportlīdzekļa vadītāji, kuri nav atdalīti ar fizisku barjeru no pasažieriem, kā arī pasažieri, lieto mutes un deguna aizsegus - MK noteikumu Nr.360 6.3.1punkts
A50: Sociālā distancēšanās sabiedriskā transportā - sabiedriskā transporta pārvadātājam organizēt iekāpšanu un izkāpšanu tā, lai pasažieru skaits transportīdzeklī nepārsniedz 50 % no tā ietilpības. Ja transportlīdzeklī tā specifikas dēļ nav iespējams kontrolēt pasažieru iekāpšanu un izkāpšanu, transportlīdzeklī tiek marķētas sēdvietas, nodrošinot distancēšanās prasību ievērošanu - MK rīkojuma Nr.655 5.42.punkts. Ar minētajām izmaksām saprot sēdvietu marķēšanu, dažādu tam nepieciešamo materiālu izmaksas, piktogrammu vai informācijas izvietošanu.
A51: Transportlīdzekļu dezinfekcija - regulāra saimnieciskā vai publiskā pakalpojuma nodrošināšanai izmantotā transportlīdzekļa salona un kabīnes virsmu dezinfekcija - MK noteikumu Nr.360 7.5.punkts
... A54: No pasažieriem, t.sk., personām, kurām noteikti pašvaldības noteiktie braukšanas maksas atvieglojumi, saņemtie ieņēmumi - norāda ieņēmumi no pārdotajām biļetēm un abonementa biļetēm, kurus pārvadātājs saņem no pasažiera. Norāda arī ieņēmumu daļu, ko maksā pasažieris, ja tam pašvaldība ir noteikusi braukšanas maksas atvieglojumus.

Sheet jūnijs
A1: Pārskats par sabiedriskā transporta pakalpojumos radītajiem izdevumiem un zaudējumiem sakarā ar noteiktajiem ierobežojumiem
A2: Periods | C2: Vienības | D2: Autobusi | E2: Minibusi (ekspresbusi) | F2: Tramvaji | G2: Trolejbusi
A3: 1.SADAĻA | B3: KOPSUMMA ((N - P) x Izm) | D3: =(D10-D9)*D13 -> -621210.31 | E3: -51243.772 | F3: =(F10-F9)*F13 -> -591893.6 | G3: =(G10-G9)*G13 -> -323802.75
A4: 01.06.2021.- 30.06.2021. | B4: Iesaistīto transportlīdzekļu vienības | C4: skaits | D4: 402 | E4: 131 | F4: 155 | G4: 278
B5: (S) Plānotais reisu skaits | D5: 102560 | E5: 34280 | F5: 25300 | G5: 76710
B6: (R) Faktiskais reisu skaits (S + RP-RA) | D6: =D5+D7-D8 -> 88846 | E6: 23177 | F6: =F5+F7-F8 -> 21620 | G6: =G5+G7-G8 -> 68965
B7: to starpā papildu reisi (RP) | D7: 138 | F7: 0 | G7: 24
B8: to starpā atceltie reisi (RA) | D8: 13852 | F8: 3680 | G8: 7769
B9: (P) Plānotais nobraukums | C9: km | D9: 1817000 | E9: 407672.68 | F9: 346000 | G9: 855000
B10: (N) Faktiskais nobraukums (P + NP-NA) | D10: =D9+D11-D12 -> 1635359.6 | E10: 362062.27 | F10: =F9+F11-F12 -> 292580 | G10: =G9+G11-G12 -> 785365
B11: to starpā papildu reisos veiktais nobraukums (NP) | D11: 2076.558 | F11: 0 | G11: 208
B12: to starpā atcelto reisu nobraukums (NA) | D12: 183717 | E12: 45610.407 | F12: 53420 | G12: 69843
A13: 01.06.2021.-30.06.2021. | B13: (Izm) 1 km pašizmaksa | C13: EUR/km | D13: =[2]RS_jūnijs!F15 -> 3.42 | E13: 1.1235105 | F13: =[2]RS_jūnijs!G15 -> 11.08 | G13: =[2]RS_jūnijs!H15 -> 4.65
A14: 2.SADAĻA | B14: KOPSUMMA (1 vienības cenas reizinājums ar preču/pakalpojumu skaitu; summa ( K x Z)) | D14: =D22 -> 3406 | E14: 0 | F14: =F22 -> 1577 | G14: =G22 -> 1361
A15: 01.06.2021.- 30.06.2021. | B15: (Z) Pakalpojumi, pasākumi un materiāli Covid-19 pandēmijas ierobežošanai | C15: skaits (jānorāda atbilstoša mērvienība gab., litri, reižu skaits, darba stundas u.c.)
B16: Dezinfekcijas līdzekļi | D16: =[2]RS_jūnijs!F21 -> 2117 | F16: =[2]RS_jūnijs!G21 -> 578 | G16: =[2]RS_jūnijs!H21 -> 536
B17: Sejas maskas | D17: =[2]RS_jūnijs!F22 -> 416 | F17: =[2]RS_jūnijs!G22 -> 614 | G17: =[2]RS_jūnijs!H22 -> 407
B18: Sociālā distancēšanās sabiedriskā transportā | D18: =[2]RS_jūnijs!F23 -> 52 | F18: =[2]RS_jūnijs!G23 -> 7 | G18: =[2]RS_jūnijs!H23 -> 39
B19: Transportlīdzekļu dezinfekcija | D19: =[2]RS_jūnijs!F24 -> 0 | F19: =[2]RS_jūnijs!G24 -> 0 | G19: =[2]RS_jūnijs!H24 -> 0
B20: Transportlīdzekļu papildu mazgāšana | D20: =[2]RS_jūnijs!F25 -> 22 | F20: =[2]RS_jūnijs!G25 -> 14 | G20: =[2]RS_jūnijs!H25 -> 35
B21: Citi izdevumi (norādīt kādi) | D21: =[2]RS_jūnijs!F26 -> 0 | F21: =[2]RS_jūnijs!G26 -> 77 | G21: =[2]RS_jūnijs!H26 -> 18
B22: (K) Faktiskās izmaksas Covid-19 pandēmijas ierobežošanai, t.sk. | C22: EUR/vien bez PVN | D22: =[2]RS_jūnijs!F27 -> 3406 | F22: =[2]RS_jūnijs!G27 -> 1577 | G22: =[2]RS_jūnijs!H27 -> 1361
B23: Dezinfekcijas līdzekļi | D23: =[2]RS_jūnijs!F28 -> 2912 | F23: =[2]RS_jūnijs!G28 -> 802 | G23: =[2]RS_jūnijs!H28 -> 738
B24: Sejas maskas | D24: =[2]RS_jūnijs!F29 -> 197 | F24: =[2]RS_jūnijs!G29 -> 502 | G24: =[2]RS_jūnijs!H29 -> 245
B25: Sociālā distancēšanās sabiedriskā transportā | D25: =[2]RS_jūnijs!F30 -> 86 | F25: =[2]RS_jūnijs!G30 -> 35 | G25: =[2]RS_jūnijs!H30 -> 95
B26: Transportlīdzekļu dezinfekcija, to starpā darba spēka izmaksas | D26: =[2]RS_jūnijs!F31 -> 0 | F26: =[2]RS_jūnijs!G31 -> 0 | G26: =[2]RS_jūnijs!H31 -> 0
B27: Transportlīdzekļu papildu mazgāšana, to starpā darba spēka izmaksas | D27: =[2]RS_jūnijs!F32 -> 211 | F27: =[2]RS_jūnijs!G32 -> 182 | G27: =[2]RS_jūnijs!H32 -> 269
B28: Citi izdevumi (norādīt kādi) | D28: =[2]RS_jūnijs!F33 -> 0 | F28: =[2]RS_jūnijs!G33 -> 56 | G28: =[2]RS_jūnijs!H33 -> 14
A29: 3.SADAĻA | B29: KOPSUMMA ((C/D-A/N) x N) | D29: =((D32/D33)-(D30/D31))*D31 -> 368037.48 | E29: 54339.97 | F29: =((F32/F33)-(F30/F31))*F31 -> 215948.2 | G29: =((G32/G33)-(G30/G31))*G31 -> 272919.67
A30: 01.06.2021.-30.06.2021. | B30: (A) No pasažieriem, t.sk., personām, kurām noteikti pašvaldības noteiktie braukšanas maksas atvieglojumi, saņemtie ieņēmumi par sniegto sabiedriskā transporta pakalpojumu | C30: EUR bez PVN | D30: =[2]RS_jūnijs!F4 -> 984673.99 | E30: 137167.8 | F30: =[2]RS_jūnijs!G4 -> 436655.5 | G30: =[2]RS_jūnijs!H4 -> 657666.22
B31: (N) Faktiskais nobraukums | C31: km | D31: =D10 -> 1635359.6 | E31: 362062.27 | F31: =F10 -> 292580 | G31: =G10 -> 785365
A32: 01.06.2019.-30.06.2019. | B32: (C) No pasažieriem, t.sk., personām, kurām noteikti pašvaldības noteiktie braukšanas maksas atvieglojumi, saņemtie ieņēmumi par sniegto sabiedriskā transporta pakalpojumu | C32: EUR bez PVN | D32: =[2]RS_jūnijs!F6 -> 1591871.1 | E32: 507726.97 | F32: =[2]RS_jūnijs!G6 -> 825796.74 | G32: =[2]RS_jūnijs!H6 -> 909293.77
B33: (D) Faktiskais nobraukums | C33: km | D33: 1924491.5 | E33: 959902.47 | F33: 370227.15 | G33: 767395.58
B36: Pašvaldības atbildīgās personas vārds, uzvārds, kontaktinformācija un paraksts (ja dokuments nav parakstīts ar elektroniski)
A39: Informāciju aizpilda katra pašvaldība par pārvadājumu veidiem, kādi ir noteikti attiecīgā pilsētā
A40: Tabulā iekļauj norādītajā laika periodā radušās pamatotās izmaksas, kas attiecināmas uz sabiedriskā transporta pakalpojuma izpildē noteiktajiem drošības pasākumiem Covid-19 infekcijas izplatības ierobežošanai.
A41: Pašvaldībai ir pienākums pārliecināties par izmaksu pamatotību, to apjomu vai attiecināto apmēru.
A42: 1.SADAĻĀ tiek aprēķināti faktiskie izdevumi, kas radušies saistībā ar atcelto reisu vai/un papildu reisu nodrošināšanu sakarā ar pakalpojuma apjoma ierobežošanu un 50% pasažieru piepildījuma noteikšanu
A43: 2.SADAĻĀ nosakāmi kopējie izdevumi par Covid-19 infekcijas ierobežošanas pasākumiem, kas izpildāmi atbilstoši MK 09.06.2020. noteikumiem Nr.360; MK 06.11.2020. rīkojumam Nr.655
A44: 3.SADAĻĀ nosakāma kopējā ietekme uz ieņēmumu apgrozījumu, ko radījusi Covid-19 infekcijas apkarošanā radītā iedzīvotāju mobilitātes ierobežošana, pakalpojuma apjoma ierobežošana, kā arī citi ārkārtējās situācijas laikā un pēc tās noteiktie ierobežojumi atsevišķām nozarēm
A46: Paskaidrojumi
A47: 1 km pašizmaksa - atbilstoši MK 28.07.2015. noteikumu Nr.435 3.pielikumā norādītās izmaksas, izņemot šajā tabulā 2.sadaļas izmaksas par Covid-19 pandēmijas ierobežošanas pasākumiem, dalītas ar faktisko nobraukumu
A48: Dezinfekcijas līdzekļi - roku higiēnai šķidrās ziepes un roku susināšanas līdzekļi vai spirtu saturoši roku dezinfekcijas līdzekļi (kas satur vismaz 70 % etanola) - MK noteikumu Nr.360 7.1.punkts
A49: Sejas maskas - sabiedriskajā transportlīdzeklī, ar kuru veic pasažieru komercpārvadājumus, transportlīdzekļa vadītāji, kuri nav atdalīti ar fizisku barjeru no pasažieriem, kā arī pasažieri, lieto mutes un deguna aizsegus - MK noteikumu Nr.360 6.3.1punkts
A50: Sociālā distancēšanās sabiedriskā transportā - sabiedriskā transporta pārvadātājam organizēt iekāpšanu un izkāpšanu tā, lai pasažieru skaits transportīdzeklī nepārsniedz 50 % no tā ietilpības. Ja transportlīdzeklī tā specifikas dēļ nav iespējams kontrolēt pasažieru iekāpšanu un izkāpšanu, transportlīdzeklī tiek marķētas sēdvietas, nodrošinot distancēšanās prasību ievērošanu - MK rīkojuma Nr.655 5.42.punkts. Ar minētajām izmaksām saprot sēdvietu marķēšanu, dažādu tam nepieciešamo materiālu izmaksas, piktogrammu vai informācijas izvietošanu.
A51: Transportlīdzekļu dezinfekcija - regulāra saimnieciskā vai publiskā pakalpojuma nodrošināšanai izmantotā transportlīdzekļa salona un kabīnes virsmu dezinfekcija - MK noteikumu Nr.360 7.5.punkts
... A54: No pasažieriem, t.sk., personām, kurām noteikti pašvaldības noteiktie braukšanas maksas atvieglojumi, saņemtie ieņēmumi - norāda ieņēmumi no pārdotajām biļetēm un abonementa biļetēm, kurus pārvadātājs saņem no pasažiera. Norāda arī ieņēmumu daļu, ko maksā pasažieris, ja tam pašvaldība ir noteikusi braukšanas maksas atvieglojumus.

Sheet Pivot_atskaite
A3: Sum of Vērtība | B3: Column Labels
B4: 09.03.2021.- 31.03.2021. | F4: 09.03.2021.- 31.03.2021. Total | G4: Aprīlis | K4: Aprīlis Total | L4: Maijs | P4: Maijs Total | Q4: Jūnijs | U4: Jūnijs Total | V4: Grand Total
A5: Row Labels | B5: Autobuss | C5: Minibuss | D5: Tramvajs | E5: Trolejbuss | G5: Autobuss | H5: Minibuss | I5: Tramvajs | J5: Trolejbuss | L5: Autobuss | M5: Minibuss | N5: Tramvajs | O5: Trolejbuss | Q5: Autobuss | R5: Minibuss | S5: Tramvajs | T5: Trolejbuss
A6: 1. Faktiskie izdevumi, kas radušies saistībā ar reisu atcelšanu vai papild reisu nodrošināšanu - KOPSUMMA ((N - P) x Izm) | B6: -550222.54 | C6: -119.47536 | D6: -393557.82 | E6: -288882.71 | F6: -1232782.5 | G6: -725413.93 | H6: -50703 | I6: -579665.25 | J6: -321467.79 | K6: -1677250 | L6: -541858.3 | M6: -51483.329 | N6: -569340.05 | O6: -295475.92 | P6: -1458157.6 | Q6: -621210.31 | R6: -51243.772 | S6: -591893.6 | T6: -323802.75 | U6: -1588150.4 | V6: -5956340.6
A7: 2. Kopējie izdevumi par Covid-19 infekcijas ierobežošanas pasākumiem - KOPSUMMA (1 vienības cenas reizinājums ar preču/pakalpojumu skaitu; summa ( K x Z)) | B7: 4252.16 | D7: 1776.4686 | E7: 2402.4647 | F7: 8431.0933 | G7: 7199.7943 | I7: 1581.5491 | J7: 1881.6675 | K7: 10663.011 | L7: 3032 | N7: 1179 | O7: 1743 | P7: 5954 | Q7: 3406 | S7: 1577 | T7: 1361 | U7: 6344 | V7: 31392.104
A8: 3. Kopējā ietekme uz ieņēmumu apgrozījumu - KOPSUMMA ((C/D-A/N) x N) | B8: 419840.42 | C8: 67793.248 | D8: 271646.82 | E8: 315266.97 | F8: 1074547.5 | G8: 527914.36 | H8: 80101.888 | I8: 329714.87 | J8: 410667.06 | K8: 1348398.2 | L8: 465498.19 | M8: 71433.28 | N8: 332060.71 | O8: 317514.29 | P8: 1186506.5 | Q8: 368037.48 | R8: 54339.97 | S8: 215948.2 | T8: 272919.67 | U8: 911245.33 | V8: 4520697.4
A9: Grand Total | B9: -126129.96 | C9: 67673.772 | D9: -120134.53 | E9: 28786.732 | F9: -149803.99 | G9: -190299.77 | H9: 29398.888 | I9: -248368.83 | J9: 91080.935 | K9: -318188.78 | L9: -73328.113 | M9: 19949.951 | N9: -236100.34 | O9: 23781.364 | P9: -265697.14 | Q9: -249766.83 | R9: 3096.1985 | S9: -374368.4 | T9: -49522.076 | U9: -670561.11 | V9: -1404251

Sheet PIVOT
B1: Pārskats par sabiedriskā transporta pakalpojumos radītajiem izdevumiem un zaudējumiem sakarā ar noteiktajiem ierobežojumiem
B5: Rādītājs | C5: Vienības | D5: Vērtība | E5: Pārvadājumu veids | F5: Pilsēta | G5: Periods
B6: 1. Faktiskie izdevumi, kas radušies saistībā ar reisu atcelšanu vai papild reisu nodrošināšanu - KOPSUMMA ((N - P) x Izm) | D6: -550222.54 | E6: Autobuss | F6: Rīga | G6: 09.03.2021.- 31.03.2021.
B7: Iesaistīto transportlīdzekļu vienības | C7: skaits | D7: 405 | E7: Autobuss | F7: Rīga | G7: 09.03.2021.- 31.03.2021.
B8: (S) Plānotais reisu skaits | C8: skaits | D8: 78732.5 | E8: Autobuss | F8: Rīga | G8: 09.03.2021.- 31.03.2021.
B9: (R) Faktiskais reisu skaits (S + RP-RA) | C9: skaits | D9: 68778 | E9: Autobuss | F9: Rīga | G9: 09.03.2021.- 31.03.2021.
B10: to starpā papildu reisi (RP) | C10: skaits | D10: 151.5 | E10: Autobuss | F10: Rīga | G10: 09.03.2021.- 31.03.2021.
B11: to starpā atceltie reisi (RA) | C11: skaits | D11: 10106 | E11: Autobuss | F11: Rīga | G11: 09.03.2021.- 31.03.2021.
B12: (P) Plānotais nobraukums | C12: km | D12: 1410000 | E12: Autobuss | F12: Rīga | G12: 09.03.2021.- 31.03.2021.
B13: (N) Faktiskais nobraukums (P + NP-NA) | C13: km | D13: 1240654.1 | E13: Autobuss | F13: Rīga | G13: 09.03.2021.- 31.03.2021.
B14: to starpā papildu reisos veiktais nobraukums (NP) | C14: km | D14: 2515.216 | E14: Autobuss | F14: Rīga | G14: 09.03.2021.- 31.03.2021.
B15: to starpā atcelto reisu nobraukums (NA) | C15: km | D15: 171861.07 | E15: Autobuss | F15: Rīga | G15: 09.03.2021.- 31.03.2021.
B16: (Izm) 1 km pašizmaksa | C16: EUR/km | D16: 3.2491055 | E16: Autobuss | F16: Rīga | G16: 09.03.2021.- 31.03.2021.
B17: 1. Faktiskie izdevumi, kas radušies saistībā ar reisu atcelšanu vai papild reisu nodrošināšanu - KOPSUMMA ((N - P) x Izm) | D17: -119.47536 | E17: Minibuss | F17: Rīga | G17: 09.03.2021.- 31.03.2021.
B18: Iesaistīto transportlīdzekļu vienības | C18: skaits | D18: 131 | E18: Minibuss | F18: Rīga | G18: 09.03.2021.- 31.03.2021.
B19: (S) Plānotais reisu skaits | C19: skaits | D19: 19703 | E19: Minibuss | F19: Rīga | G19: 09.03.2021.- 31.03.2021.
B20: (R) Faktiskais reisu skaits (S + RP-RA) | C20: skaits | D20: 19697 | E20: Minibuss | F20: Rīga | G20: 09.03.2021.- 31.03.2021.
B21: to starpā papildu reisi (RP) | C21: skaits | E21: Minibuss | F21: Rīga | G21: 09.03.2021.- 31.03.2021.
B22: to starpā atceltie reisi (RA) | C22: skaits | D22: 6 | E22: Minibuss | F22: Rīga | G22: 09.03.2021.- 31.03.2021.
B23: (P) Plānotais nobraukums | C23: km | D23: 303080.73 | E23: Minibuss | F23: Rīga | G23: 09.03.2021.- 31.03.2021.
B24: (N) Faktiskais nobraukums (P + NP-NA) | C24: km | D24: 302965.47 | E24: Minibuss | F24: Rīga | G24: 09.03.2021.- 31.03.2021.
B25: to starpā papildu reisos veiktais nobraukums (NP) | C25: km | E25: Minibuss | F25: Rīga | G25: 09.03.2021.- 31.03.2021.
B26: to starpā atcelto reisu nobraukums (NA) | C26: km | E26: Minibuss | F26: Rīga | G26: 09.03.2021.- 31.03.2021.
B27: (Izm) 1 km pašizmaksa | C27: EUR/km | D27: 1.0365727 | E27: Minibuss | F27: Rīga | G27: 09.03.2021.- 31.03.2021.
B28: 1. Faktiskie izdevumi, kas radušies saistībā ar reisu atcelšanu vai papild reisu nodrošināšanu - KOPSUMMA ((N - P) x Izm) | D28: -393557.82 | E28: Tramvajs | F28: Rīga | G28: 09.03.2021.- 31.03.2021.
B29: Iesaistīto transportlīdzekļu vienības | C29: skaits | D29: 148 | E29: Tramvajs | F29: Rīga | G29: 09.03.2021.- 31.03.2021.
B30: (S) Plānotais reisu skaits | C30: skaits | D30: 19900 | E30: Tramvajs | F30: Rīga | G30: 09.03.2021.- 31.03.2021.
B31: (R) Faktiskais reisu skaits (S + RP-RA) | C31: skaits | D31: 17152 | E31: Tramvajs | F31: Rīga | G31: 09.03.2021.- 31.03.2021.
B32: to starpā papildu reisi (RP) | C32: skaits | D32: 0 | E32: Tramvajs | F32: Rīga | G32: 09.03.2021.- 31.03.2021.
B33: to starpā atceltie reisi (RA) | C33: skaits | D33: 2748 | E33: Tramvajs | F33: Rīga | G33: 09.03.2021.- 31.03.2021.
B34: (P) Plānotais nobraukums | C34: km | D34: 272000 | E34: Tramvajs | F34: Rīga | G34: 09.03.2021.- 31.03.2021.
B35: (N) Faktiskais nobraukums (P + NP-NA) | C35: km | D35: 231992.09 | E35: Tramvajs | F35: Rīga | G35: 09.03.2021.- 31.03.2021.
B36: to starpā papildu reisos veiktais nobraukums (NP) | C36: km | D36: 0 | E36: Tramvajs | F36: Rīga | G36: 09.03.2021.- 31.03.2021.
B37: to starpā atcelto reisu nobraukums (NA) | C37: km | D37: 40007.911 | E37: Tramvajs | F37: Rīga | G37: 09.03.2021.- 31.03.2021.
B38: (Izm) 1 km pašizmaksa | C38: EUR/km | D38: 9.837 | E38: Tramvajs | F38: Rīga | G38: 09.03.2021.- 31.03.2021.
B39: 1. Faktiskie izdevumi, kas radušies saistībā ar reisu atcelšanu vai papild reisu nodrošināšanu - KOPSUMMA ((N - P) x Izm) | D39: -288882.71 | E39: Trolejbuss | F39: Rīga | G39: 09.03.2021.- 31.03.2021.
B40: Iesaistīto transportlīdzekļu vienības | C40: skaits | D40: 278 | E40: Trolejbuss | F40: Rīga | G40: 09.03.2021.- 31.03.2021.
B41: (S) Plānotais reisu skaits | C41: skaits | D41: 62652.5 | E41: Trolejbuss | F41: Rīga | G41: 09.03.2021.- 31.03.2021.
B42: (R) Faktiskais reisu skaits (S + RP-RA) | C42: skaits | D42: 54239.5 | E42: Trolejbuss | F42: Rīga | G42: 09.03.2021.- 31.03.2021.
B43: to starpā papildu reisi (RP) | C43: skaits | D43: 33 | E43: Trolejbuss | F43: Rīga | G43: 09.03.2021.- 31.03.2021.
B44: to starpā atceltie reisi (RA) | C44: skaits | D44: 8446 | E44: Trolejbuss | F44: Rīga | G44: 09.03.2021.- 31.03.2021.
B45: (P) Plānotais nobraukums | C45: km | D45: 680000 | E45: Trolejbuss | F45: Rīga | G45: 09.03.2021.- 31.03.2021.
B46: (N) Faktiskais nobraukums (P + NP-NA) | C46: km | D46: 615968.96 | E46: Trolejbuss | F46: Rīga | G46: 09.03.2021.- 31.03.2021.
B47: to starpā papildu reisos veiktais nobraukums (NP) | C47: km | D47: 285.004 | E47: Trolejbuss | F47: Rīga | G47: 09.03.2021.- 31.03.2021.
B48: to starpā atcelto reisu nobraukums (NA) | C48: km | D48: 64316.041 | E48: Trolejbuss | F48: Rīga | G48: 09.03.2021.- 31.03.2021.
B49: (Izm) 1 km pašizmaksa | C49: EUR/km | D49: 4.5116044 | E49: Trolejbuss | F49: Rīga | G49: 09.03.2021.- 31.03.2021.
B50: 2. Kopējie izdevumi par Covid-19 infekcijas ierobežošanas pasākumiem - KOPSUMMA (1 vienības cenas reizinājums ar preču/pakalpojumu skaitu; summa ( K x Z)) | D50: 4252.16 | E50: Autobuss | F50: Rīga | G50: 09.03.2021.- 31.03.2021.
B51: (Z) Pakalpojumi, pasākumi un materiāli Covid-19 pandēmijas ierobežošanai | C51: skaits (jānorāda atbilstoša mērvienība gab., litri, reižu skaits, darba stundas u.c.) | E51: Autobuss | F51: Rīga | G51: 09.03.2021.- 31.03.2021.
B52: Dezinfekcijas līdzekļi | C52: skaits (jānorāda atbilstoša mērvienība gab., litri, reižu skaits, darba stundas u.c.) | D52: 2058 | E52: Autobuss | F52: Rīga | G52: 09.03.2021.- 31.03.2021.
B53: Sejas maskas | C53: skaits (jānorāda atbilstoša mērvienība gab., litri, reižu skaits, darba stundas u.c.) | D53: 923 | E53: Autobuss | F53: Rīga | G53: 09.03.2021.- 31.03.2021.
B54: Sociālā distancēšanās sabiedriskā transportā | C54: skaits (jānorāda atbilstoša mērvienība gab., litri, reižu skaits, darba stundas u.c.) | D54: 90 | E54: Autobuss | F54: Rīga | G54: 09.03.2021.- 31.03.2021.
B55: Transportlīdzekļu dezinfekcija | C55: skaits (jānorāda atbilstoša mērvienība gab., litri, reižu skaits, darba stundas u.c.) | D55: 65 | E55: Autobuss | F55: Rīga | G55: 09.03.2021.- 31.03.2021.
B56: Transportlīdzekļu papildu mazgāšana | C56: skaits (jānorāda atbilstoša mērvienība gab., litri, reižu skaits, darba stundas u.c.) | E56: Autobuss | F56: Rīga | G56: 09.03.2021.- 31.03.2021.
B57: Mitrās salvetes | C57: skaits (jānorāda atbilstoša mērvienība gab., litri, reižu skaits, darba stundas u.c.) | D57: 660 | E57: Autobuss | F57: Rīga | G57: 09.03.2021.- 31.03.2021.
B58: Mitrās salvetes | C58: skaits (jānorāda atbilstoša mērvienība gab., litri, reižu skaits, darba stundas u.c.) | D58: 17 | E58: Autobuss | F58: Rīga | G58: 09.03.2021.- 31.03.2021.
B59: (K) Faktiskās izmaksas Covid-19 pandēmijas ierobežošanai, t.sk. | C59: EUR/vien bez PVN | E59: Autobuss | F59: Rīga | G59: 09.03.2021.- 31.03.2021.
B60: Dezinfekcijas līdzekļi | C60: EUR/vien bez PVN | D60: 1.36 | E60: Autobuss | F60: Rīga | G60: 09.03.2021.- 31.03.2021.
B61: Sejas maskas | C61: EUR/vien bez PVN | D61: 0.65 | E61: Autobuss | F61: Rīga | G61: 09.03.2021.- 31.03.2021.
B62: Sociālā distancēšanās sabiedriskā transportā | C62: EUR/vien bez PVN | D62: 0.9 | E62: Autobuss | F62: Rīga | G62: 09.03.2021.- 31.03.2021.
B63: Transportlīdzekļu dezinfekcija | C63: EUR/vien bez PVN | D63: 4.43 | E63: Autobuss | F63: Rīga | G63: 09.03.2021.- 31.03.2021.
B64: Transportlīdzekļu papildu mazgāšana, to starpā darba spēka izmaksas | C64: EUR/vien bez PVN | E64: Autobuss | F64: Rīga | G64: 09.03.2021.- 31.03.2021.
B65: Mitrās salvetes | C65: EUR/vien bez PVN | D65: 0.72 | E65: Autobuss | F65: Rīga | G65: 09.03.2021.- 31.03.2021.
B66: Mitrās salvetes | C66: EUR/vien bez PVN | D66: 0.54 | E66: Autobuss | F66: Rīga | G66: 09.03.2021.- 31.03.2021.
B67: 2. Kopējie izdevumi par Covid-19 infekcijas ierobežošanas pasākumiem - KOPSUMMA (1 vienības cenas reizinājums ar preču/pakalpojumu skaitu; summa ( K x Z)) | D67: 1776.4686 | E67: Tramvajs | F67: Rīga | G67: 09.03.2021.- 31.03.2021.
B68: (Z) Pakalpojumi, pasākumi un materiāli Covid-19 pandēmijas ierobežošanai | C68: skaits (jānorāda atbilstoša mērvienība gab., litri, reižu skaits, darba stundas u.c.) | E68: Tramvajs | F68: Rīga | G68: 09.03.2021.- 31.03.2021.
B69: Dezinfekcijas līdzekļi | C69: skaits (jānorāda atbilstoša mērvienība gab., litri, reižu skaits, darba stundas u.c.) | D69: 727.2 | E69: Tramvajs | F69: Rīga | G69: 09.03.2021.- 31.03.2021.
B70: Sejas maskas | C70: skaits (jānorāda atbilstoša mērvienība gab., litri, reižu skaits, darba stundas u.c.) | D70: 724 | E70: Tramvajs | F70: Rīga | G70: 09.03.2021.- 31.03.2021.
B71: Sociālā distancēšanās sabiedriskā transportā | C71: skaits (jānorāda atbilstoša mērvienība gab., litri, reižu skaits, darba stundas u.c.) | D71: 29 | E71: Tramvajs | F71: Rīga | G71: 09.03.2021.- 31.03.2021.
B72: Transportlīdzekļu dezinfekcija | C72: skaits (jānorāda atbilstoša mērvienība gab., litri, reižu skaits, darba stundas u.c.) | D72: 24 | E72: Tramvajs | F72: Rīga | G72: 09.03.2021.- 31.03.2021.
B73: Transportlīdzekļu papildu mazgāšana | C73: skaits (jānorāda atbilstoša mērvienība gab., litri, reižu skaits, darba stundas u.c.) | E73: Tramvajs | F73: Rīga | G73: 09.03.2021.- 31.03.2021.
B74: Mitrās salvetes | C74: skaits (jānorāda atbilstoša mērvienība gab., litri, reižu skaits, darba stundas u.c.) | D74: 88 | E74: Tramvajs | F74: Rīga | G74: 09.03.2021.- 31.03.2021.
B75: Mitrās salvetes | C75: skaits (jānorāda atbilstoša mērvienība gab., litri, reižu skaits, darba stundas u.c.) | D75: 7 | E75: Tramvajs | F75: Rīga | G75: 09.03.2021.- 31.03.2021.
B76: (K) Faktiskās izmaksas Covid-19 pandēmijas ierobežošanai, t.sk. | C76: EUR/vien bez PVN | E76: Tramvajs | F76: Rīga | G76: 09.03.2021.- 31.03.2021.
B77: Dezinfekcijas līdzekļi | C77: EUR/vien bez PVN | D77: 1.378 | E77: Tramvajs | F77: Rīga | G77: 09.03.2021.- 31.03.2021.
B78: Sejas maskas | C78: EUR/vien bez PVN | D78: 0.566 | E78: Tramvajs | F78: Rīga | G78: 09.03.2021.- 31.03.2021.
B79: Sociālā distancēšanās sabiedriskā transportā | C79: EUR/vien bez PVN | D79: 0.923 | E79: Tramvajs | F79: Rīga | G79: 09.03.2021.- 31.03.2021.
B80: Transportlīdzekļu dezinfekcija | C80: EUR/vien bez PVN | D80: 11.279 | E80: Tramvajs | F80: Rīga | G80: 09.03.2021.- 31.03.2021.
B81: Transportlīdzekļu papildu mazgāšana, to starpā darba spēka izmaksas | C81: EUR/vien bez PVN | E81: Tramvajs | F81: Rīga | G81: 09.03.2021.- 31.03.2021.
B82: Mitrās salvetes | C82: EUR/vien bez PVN | D82: 0.72 | E82: Tramvajs | F82: Rīga | G82: 09.03.2021.- 31.03.2021.
B83: Mitrās salvetes | C83: EUR/vien bez PVN | D83: 0.54 | E83: Tramvajs | F83: Rīga | G83: 09.03.2021.- 31.03.2021.
B84: 2. Kopējie izdevumi par Covid-19 infekcijas ierobežošanas pasākumiem - KOPSUMMA (1 vienības cenas reizinājums ar preču/pakalpojumu skaitu; summa ( K x Z)) | D84: 2402.4647 | E84: Trolejbuss | F84: Rīga | G84: 09.03.2021.- 31.03.2021.
B85: (Z) Pakalpojumi, pasākumi un materiāli Covid-19 pandēmijas ierobežošanai | C85: skaits (jānorāda atbilstoša mērvienība gab., litri, reižu skaits, darba stundas u.c.) | E85: Trolejbuss | F85: Rīga | G85: 09.03.2021.- 31.03.2021.
B86: Dezinfekcijas līdzekļi | C86: skaits (jānorāda atbilstoša mērvienība gab., litri, reižu skaits, darba stundas u.c.) | D86: 797.2 | E86: Trolejbuss | F86: Rīga | G86: 09.03.2021.- 31.03.2021.
B87: Sejas maskas | C87: skaits (jānorāda atbilstoša mērvienība gab., litri, reižu skaits, darba stundas u.c.) | D87: 1315.22 | E87: Trolejbuss | F87: Rīga | G87: 09.03.2021.- 31.03.2021.
B88: Sociālā distancēšanās sabiedriskā transportā | C88: skaits (jānorāda atbilstoša mērvienība gab., litri, reižu skaits, darba stundas u.c.) | D88: 79.3 | E88: Trolejbuss | F88: Rīga | G88: 09.03.2021.- 31.03.2021.
B89: Transportlīdzekļu dezinfekcija | C89: skaits (jānorāda atbilstoša mērvienība gab., litri, reižu skaits, darba stundas u.c.) | D89: 52 | E89: Trolejbuss | F89: Rīga | G89: 09.03.2021.- 31.03.2021.
B90: Transportlīdzekļu papildu mazgāšana | C90: skaits (jānorāda atbilstoša mērvienība gab., litri, reižu skaits, darba stundas u.c.) | E90: Trolejbuss | F90: Rīga | G90: 09.03.2021.- 31.03.2021.
B91: Mitrās salvetes | C91: skaits (jānorāda atbilstoša mērvienība gab., litri, reižu skaits, darba stundas u.c.) | D91: 393 | E91: Trolejbuss | F91: Rīga | G91: 09.03.2021.- 31.03.2021.
B92: Mitrās salvetes | C92: skaits (jānorāda atbilstoša mērvienība gab., litri, reižu skaits, darba stundas u.c.) | D92: 8 | E92: Trolejbuss | F92: Rīga | G92: 09.03.2021.- 31.03.2021.
B93: (K) Faktiskās izmaksas Covid-19 pandēmijas ierobežošanai, t.sk. | C93: EUR/vien bez PVN | E93: Trolejbuss | F93: Rīga | G93: 09.03.2021.- 31.03.2021.
B94: Dezinfekcijas līdzekļi | C94: EUR/vien bez PVN | D94: 1.369 | E94: Trolejbuss | F94: Rīga | G94: 09.03.2021.- 31.03.2021.
B95: Sejas maskas | C95: EUR/vien bez PVN | D95: 0.437 | E95: Trolejbuss | F95: Rīga | G95: 09.03.2021.- 31.03.2021.
B96: Sociālā distancēšanās sabiedriskā transportā | C96: EUR/vien bez PVN | D96: 1.156 | E96: Trolejbuss | F96: Rīga | G96: 09.03.2021.- 31.03.2021.
B97: Transportlīdzekļu dezinfekcija | C97: EUR/vien bez PVN | D97: 6.873 | E97: Trolejbuss | F97: Rīga | G97: 09.03.2021.- 31.03.2021.
B98: Transportlīdzekļu papildu mazgāšana, to starpā darba spēka izmaksas | C98: EUR/vien bez PVN | E98: Trolejbuss | F98: Rīga | G98: 09.03.2021.- 31.03.2021.
B99: Mitrās salvetes | C99: EUR/vien bez PVN | D99: 0.72 | E99: Trolejbuss | F99: Rīga | G99: 09.03.2021.- 31.03.2021.
B100: Mitrās salvetes | C100: EUR/vien bez PVN | D100: 0.54 | E100: Trolejbuss | F100: Rīga | G100: 09.03.2021.- 31.03.2021.
B101: 3. Kopējā ietekme uz ieņēmumu apgrozījumu - KOPSUMMA ((C/D-A/N) x N) | D101: 419840.42 | E101: Autobuss | F101: Rīga | G101: 09.03.2021.- 31.03.2021.
B102: (A) No pasažieriem, t.sk., personām, kurām noteikti pašvaldības noteiktie braukšanas maksas atvieglojumi, saņemtie ieņēmumi par sniegto sabiedriskā transporta pakalpojumu - 09.03.2021.-31.03.2021. | C102: EUR bez PVN | D102: 643888.74 | E102: Autobuss | F102: Rīga | G102: 09.03.2021.- 31.03.2021.
B103: (N) Faktiskais nobraukums - 09.03.2021.-31.03.2021. | C103: km | D103: 1240654.1 | E103: Autobuss | F103: Rīga | G103: 09.03.2021.- 31.03.2021.
...
