Workbook

Sheet Alūksnes novads
A1: Papildu dokuments MK rīkojuma projektam 25-TA-2148
A2: Alūksnes novada pašvaldības 2025. gada 11. - 14. jūlijā stipru un ilgstošu lietavu laikā radītie postījumi
A3: Nr. p.k. | B3: Objekta nosaukums un adrese | C3: Veicamie pasākumi/darbi | D3: Postījumu novēršanai nepieciešamā finansējuma apmērs, euro | E3: Pašvaldības līdz- finansējums, euro | F3: No valsts budžeta programmas "Līdzekļi neparedzētiem gadījumiem" nepieciešamā finansējuma apmērs, euro | G3: Pašvaldības iesniegtie finansiālā pamatojuma dokumenti | M3: Piezīmes, komentāri
G4: MK noteikumu Nr.421 5.pielikums | H4: apsekošanas akts (zaudējumu novērtējums vai dokumenti, kas apliecina notikušo faktu), vai ir pievienota fotogrāfija/jas | I4: pieprasīto līdzekļu aprēķins/tāme (veicamo darbu/ pakalpojumu apraksts, nepieciešamo materiālu daudzums, cena, atalgojums un paredzamo nodokļu samaksa) | J4: apliecinājums, ka infrastruktūras objekts ir pašvaldības īpašumā vai valdījumā (pamatlīdzekļu uzskaites kartīte vai zemesgrāmatas apliecinājums) | K4: informācija par pašvaldības līdzfinansējuma apmēru objektam radīto zaudējumu novēršanai (domes lēmums) | L4: apliecinājums, ka par objektu pašvaldībai nepienākas vai pienākas apdrošināšanas atlīdzība + skaidrojums, ja nebija apdrošināts
A5: 1 | B5: Autoceļš Strautiņi – Jaunpuntuži – Luki, Alsviķu pagasts, Alūksnes novads, 0,75 km - 0,95 km | C5: Bojāto posmu atjaunošana, ceļa seguma atjaunošana ar minerālmateriālu | D5: =1284.35 -> 1284.35 | E5: =D5*30% -> 385.305 | F5: =D5-E5 -> 899.045 | G5: x | H5: 15.07.2025. akts Nr. ANPAP/25/48, piedalījās sertificēts speciālists (sertif. Nr. 4-03223), pievienotas fotogrāfijas | I5: 28.08.2025. AKTS Nr.5.3.3.-V.3/2025-703, 28.08.2025. rēķins Nr.R25191613 | J5: Pamatlīdzekļu uzskaites kartīte Nr. PAS0547 | K5: Pašvaldība apliecina, ka nodrošinās līdzfinansējumu 30% apmērā no 2025.gada Alūksnes novada pašvaldības pamatbudžeta līdzekļiem. 25.09.2025. tiks sasaukta Alūksnes novada pašvaldības domes sēde, kur tiks pieņemts lēmums par līdzfinansējuma nodrošināšanu 21227,09 euro apmērā 2025.gada 11.-14.jūlija spēcīgo lietusgāžu plūdu izraisīto avārijas seku novēršanai pašvaldības autoceļos. Lēmums pēc domes sēdes tiks nosūtīts papildus. | L5: 5. pielikumā norāda, ka objekti nebija apdrošināti ierobežota finansējuma dēļ.
A6: 2 | B6: Autoceļš Apes ceļš – Celenski – Buliņš – Nēķene, Alsviķu pagasts, Alūksnes novads, 0,89 km, 3,71 km - 3,92 km, 5,82 km | C6: Bojāto izskalojumu likvidēšana, ceļa malas un seguma atjaunošana ar minerālmateriālu | D6: =786.46+1335.9 -> 2122.36 | E6: =D6*30% -> 636.708 | F6: =D6-E6 -> 1485.652 | G6: x | H6: 15.07.2025. akts Nr. ANPAP/25/49, piedalījās sertificēts speciālists (sertif. Nr. 4-03223), pievienotas fotogrāfijas | I6: 28.08.2025. AKTS Nr.5.3.3.-V.3/2025-703, 28.08.2025. rēķins Nr.R25191613, 02.09.2025. AKTS Nr.5.3.3.-V.3/2025-715, 02.09.2025. rēķins Nr.R25191649 | J6: Pamatlīdzekļu uzskaites kartīte Nr. PAS0551
A7: 3 | B7: Autoceļš Līvkalni – Nēķene, Alsviķu pagasts, Alūksnes novads, 2,45 km - 2,60 km | C7: Bojāto posmu atjaunošana, ceļa seguma atjaunošana ar minerālmateriālu | D7: =871.99 -> 871.99 | E7: =D7*30% -> 261.597 | F7: =D7-E7 -> 610.393 | G7: x | H7: 15.07.2025. akts Nr. ANPAP/25/50, piedalījās sertificēts speciālists (sertif. Nr. 4-03223), pievienotas fotogrāfijas | I7: 28.08.2025. AKTS Nr.5.3.3.-V.3/2025-703, 28.08.2025. rēķins Nr.R25191613 | J7: Pamatlīdzekļu uzskaites kartīte Nr. PAS0545
A8: 4 | B8: Autoceļš Cerkazu ceļš - Grantiņi - Aupati, Alsviķu pagasts, Alūksnes novads, 0,01 km, 0,55 km - 0,98 km | C8: Bojāto posmu atjaunošana, ceļa seguma atjaunošana ar minerālmateriālu | D8: =1314.42 -> 1314.42 | E8: =D8*30% -> 394.326 | F8: =D8-E8 -> 920.094 | G8: x | H8: 15.07.2025. akts Nr. ANPAP/25/51, piedalījās sertificēts speciālists (sertif. Nr. 4-03223), pievienotas fotogrāfijas | I8: 28.08.2025. AKTS Nr.5.3.3.-V.3/2025-703, 28.08.2025. rēķins Nr.R25191613 | J8: Pamatlīdzekļu uzskaites kartīte Nr. PAS0570
A9: 5 | B9: Autoceļš Apes ceļš – Karva – Lintene – Apes ceļš, Alsviķu pagasts, Alūksnes novads, 1,08 km | C9: Ceļa un caurtekas atjaunošana | D9: =2411.72 -> 2411.72 | E9: =D9*30% -> 723.516 | F9: =D9-E9 -> 1688.204 | G9: x | H9: 15.07.2025. akts Nr. ANPAP/25/55, piedalījās sertificēts speciālists (sertif. Nr. 4-03223), pievienotas fotogrāfijas | I9: 01.09.2025. tāme (sagatavoja sertificēts speciālists, sertif. Nr. 4-03223) | J9: Pamatlīdzekļu uzskaites kartīte Nr. PAS0550
A10: 6 | B10: Autoceļš Strautiņi – 58.ceļš – Zaļmeži – Stāmeri, Alsviķu pagasts, Alūksnes novads, 0,03 km - 0,08 km | C10: Bojāto posmu atjaunošana, ceļa seguma atjaunošana ar minerālmateriālu | D10: =713.17 -> 713.17 | E10: =D10*30% -> 213.951 | F10: =D10-E10 -> 499.219 | G10: x | H10: 15.07.2025. akts Nr. ANPAP/25/52, piedalījās sertificēts speciālists (sertif. Nr. 4-03223), pievienotas fotogrāfijas | I10: 27.08.2025. akts par izpildīto darbu pieņemšanu Nr.27, 27.08.2025. rēķins Nr.AS 02778 | J10: Pamatlīdzekļu uzskaites kartīte Nr. PAS0556
A11: 7 | B11: Autoceļš Dzintari – Brīdaki – Liepas 2 – Apes ceļš, Alsviķu pagasts, Alūksnes novads, 0,32 km, 3,48 km | C11: Grāvja atjaunošana pie caurtekas izteces un ieteces, nogāzes un ceļa malas izskalojuma likvidēšana ar minerālmateriālu | D11: =775.01+369.82+429.55 -> 1574.38 | E11: =D11*30% -> 472.314 | F11: =D11-E11 -> 1102.066 | G11: x | H11: 15.07.2025. akts Nr. ANPAP/25/54, piedalījās sertificēts speciālists (sertif. Nr. 4-03223), pievienotas fotogrāfijas | I11: 28.08.2025. AKTS Nr.5.3.3.-V.3/2025-703, 28.08.2025. rēķins Nr.R25191613, 02.09.2025. AKTS Nr.5.3.3.-V.3/2025-708, 02.09.2025. rēķins Nr. R25191650, 02.09.2025. AKTS Nr.5.3.3.-V.3/2025-709, 02.09.2025. rēķins Nr.R25191651 | J11: Pamatlīdzekļu uzskaites kartīte Nr. PAS0552
A12: 8 | B12: Autoceļš Zeltiņu ceļš – Lielmucenieki, Alsviķu pagasts, Alūksnes novads, 0,50 km | C12: Bojāto posmu atjaunošana, ceļa seguma atjaunošana ar minerālmateriālu | D12: =1327.31 -> 1327.31 | E12: =D12*30% -> 398.193 | F12: =D12-E12 -> 929.117 | G12: x | H12: 15.07.2025. akts Nr. ANPAP/25/53, piedalījās sertificēts speciālists (sertif. Nr. 4-03223), pievienota fotogrāfija | I12: 28.08.2025. AKTS Nr.5.3.3.-V.3/2025-703, 28.08.2025. rēķins Nr.R25191613 | J12: Pamatlīdzekļu uzskaites kartīte Nr. PAS0567
A13: 9 | B13: Autoceļš Alsviķu centra iekšējie ceļi, Alsviķu pagasts, Alūksnes novads, 0,20 km | C13: Bojāto posmu atjaunošana, ceļa seguma atjaunošana ar minerālmateriālu | D13: =1248.05 -> 1248.05 | E13: =D13*30% -> 374.415 | F13: =D13-E13 -> 873.635 | G13: x | H13: 15.07.2025. akts Nr. ANPAP/25/56, piedalījās sertificēts speciālists (sertif. Nr. 4-03223), pievienotas fotogrāfijas | I13: 01.09.2025. akts par izpildīto darbu pieņemšanu Nr.28, 01.09.2025. rēķins Nr.AS 02786 | J13: Pamatlīdzekļu uzskaites kartīte Nr. PAS0549
A14: 10 | B14: Autoceļš V393, Annas pagasts, Alūksnes novads, 1,60 km - 1,81 km | C14: Nogruvuma likvidēšana, caurtekas gala attīrīšana, bojāto posmu atjaunošana, ceļa seguma atjaunošana ar minerālmateriālu | D14: =786.08+3233.89 -> 4019.97 | E14: =D14*30% -> 1205.991 | F14: =D14-E14 -> 2813.979 | G14: x | H14: 14.07.2025. akts Nr. ANPAP/25/35, piedalījās sertificēts speciālists (sertif. Nr. 4-03223), pievienotas fotogrāfijas | I14: 28.07.2025. AKTS Nr.5.3.3.-V.3/2025-582, 28.07.2025. rēķins Nr. R25191368, 01.09.2025. tāme (sagatavoja sertificēts speciālists, sertif. Nr. 4-03223) | J14: Pamatlīdzekļu uzskaites kartīte Nr. PAL139706
A15: 11 | B15: Autoceļš Anna – Varžupuriņš, Annas pagasts, Alūksnes novads, 4,10 km - 4,14 km, 3,67 km - 3,71 km | C15: Bojāto posmu atjaunošana, ceļa seguma atjaunošana ar minerālmateriālu | D15: =1426.35 -> 1426.35 | E15: =D15*30% -> 427.905 | F15: =D15-E15 -> 998.445 | G15: x | H15: 14.07.2025. akts Nr. ANPAP/25/29, piedalījās sertificēts speciālists (sertif. Nr. 4-03223), pievienotas fotogrāfijas | I15: 30.07.2025. akts par izpildīto darbu pieņemšanu Nr.17, 30.07.2025. rēķins Nr.AS 02756 | J15: Pamatlīdzekļu uzskaites kartīte Nr. PAL128758
A16: 12 | B16: Autoceļš Kalnāji – Kantorkrogs, Annas pagasts, Alūksnes novads, 1,47 km - 1,51 km | C16: Bojāto posmu atjaunošana, ceļa seguma atjaunošana ar minerālmateriālu | D16: =891.47 -> 891.47 | E16: =D16*30% -> 267.441 | F16: =D16-E16 -> 624.029 | G16: x | H16: 14.07.2025. akts Nr. ANPAP/25/33, piedalījās sertificēts speciālists (sertif. Nr. 4-03223), pievienota fotogrāfija | I16: 30.07.2025. akts par izpildīto darbu pieņemšanu Nr.17, 30.07.2025. rēķins Nr.AS 02756 | J16: Pamatlīdzekļu uzskaites kartīte Nr. PAL128760.1
A17: 13 | B17: Autoceļš Grēveles – Lejas, Annas pagasts, Alūksnes novads, 0,70 km - 1,15 km, 0,83 km | C17: Bojāto posmu atjaunošana, ceļa seguma atjaunošana ar minerālmateriālu | D17: =2068.21+18873.1 -> 20941.31 | E17: =D17*30% -> 6282.393 | F17: =D17-E17 -> 14658.917 | G17: x | H17: 14.07.2025. akts Nr. ANPAP/25/32, piedalījās sertificēts speciālists (sertif. Nr. 4-03223), pievienotas fotogrāfijas | I17: 30.07.2025. akts par izpildīto darbu pieņemšanu Nr.17, 30.07.2025. rēķins Nr.AS 02756, 02.09.2025. remontdarbu tāme (sagatvoja sertificēts speciālists, sertif. Nr.4-03224) | J17: Pamatlīdzekļu uzskaites kartīte Nr. PAL128781
A18: 14 | B18: Autoceļš Atte – Lejas, Annas pagasts, Alūksnes novads, 0,00 km - 0,01 km | C18: Bojāto posmu atjaunošana, ceļa seguma atjaunošana ar minerālmateriālu | D18: =713.17 -> 713.17 | E18: =D18*30% -> 213.951 | F18: =D18-E18 -> 499.219 | G18: x | H18: 14.07.2025. akts Nr. ANPAP/25/31, piedalījās sertificēts speciālists (sertif. Nr. 4-03223), pievienota fotogrāfija | I18: 30.07.2025. akts par izpildīto darbu pieņemšanu Nr.17, 30.07.2025. rēķins Nr.AS 02756 | J18: Pamatlīdzekļu uzskaites kartīte Nr. PAL136696
A19: 15 | B19: Autoceļš Jaunsmiķi – Grēveles, Annas pagasts, Alūksnes novads, 0,00 km - 0,01 km, 0,33 km - 0,46 km | C19: Bojāto posmu atjaunošana, ceļa seguma atjaunošana ar minerālmateriālu | D19: =1426.35 -> 1426.35 | E19: =D19*30% -> 427.905 | F19: =D19-E19 -> 998.445 | G19: x | H19: 14.07.2025. akts Nr. ANPAP/25/34, piedalījās sertificēts speciālists (sertif. Nr. 4-03223), pievienotas fotogrāfijas | I19: 30.07.2025. akts par izpildīto darbu pieņemšanu Nr.17, 30.07.2025. rēķins Nr.AS 02756 | J19: Pamatlīdzekļu uzskaites kartīte Nr. PAL128768
A20: 16 | B20: Autoceļš Anna – Nākotnes iela – Teikas, Annas pagasts, Alūksnes novads, 3,26 km | C20: Bojāto posmu atjaunošana, ceļa seguma atjaunošana ar minerālmateriālu | D20: =713.17 -> 713.17 | E20: =D20*30% -> 213.951 | F20: =D20-E20 -> 499.219 | G20: x | H20: 14.07.2025. akts Nr. ANPAP/25/30, piedalījās sertificēts speciālists (sertif. Nr. 4-03223), pievienota fotogrāfija | I20: 30.07.2025. akts par izpildīto darbu pieņemšanu Nr.17, 30.07.2025. rēķins Nr.AS 02756 | J20: Pamatlīdzekļu uzskaites kartīte Nr. PAL128757.1
A21: 17 | B21: Autoceļš V374, Ilzenes pagasts, Alūksnes novads, 1,55 km - 1,76 km | C21: Bojāto posmu atjaunošana, ceļa seguma atjaunošana ar minerālmateriālu | D21: =1426.35 -> 1426.35 | E21: =D21*30% -> 427.905 | F21: =D21-E21 -> 998.445 | G21: x | H21: 14.07.2025. akts Nr. ANPAP/25/28, piedalījās sertificēts speciālists (sertif. Nr. 4-03223), pievienotas fotogrāfijas | I21: 04.08.2025. akts par izpildīto darbu pieņemšanu Nr.18, 04.08.2025. rēķins Nr.AS 02761 | J21: Pamatlīdzekļu uzskaites kartīte Nr. PAL139704
A22: 18 | B22: Autoceļš Liepiņi – Jaunzemi, Ilzenes pagasts, Alūksnes novads, 0,5 km | C22: Bojāto posmu atjaunošana, ceļa seguma atjaunošana ar minerālmateriālu | D22: =713.17 -> 713.17 | E22: =D22*30% -> 213.951 | F22: =D22-E22 -> 499.219 | G22: x | H22: 14.07.2025. akts Nr. ANPAP/25/25, piedalījās sertificēts speciālists (sertif. Nr. 4-03223), pievienota fotogrāfija | I22: 04.08.2025. akts par izpildīto darbu pieņemšanu Nr.18, 04.08.2025. rēķins Nr.AS 02761 | J22: Pamatlīdzekļu uzskaites kartīte Nr. PIL0453.1
A23: 19 | B23: Autoceļš Muiža – Ezerslokas, Ilzenes pagasts, Alūksnes novads, 0,25 km - 0,29 km, 1,12 km - 1,25 km | C23: Bojāto posmu atjaunošana, ceļa seguma atjaunošana ar minerālmateriālu | D23: =2888.35 -> 2888.35 | E23: =D23*30% -> 866.505 | F23: =D23-E23 -> 2021.845 | G23: x | H23: 14.07.2025. akts Nr. ANPAP/25/26, piedalījās sertificēts speciālists (sertif. Nr. 4-03223), pievienotas fotogrāfijas | I23: 04.08.2025. akts par izpildīto darbu pieņemšanu Nr.18, 04.08.2025. rēķins Nr.AS 02761 | J23: Pamatlīdzekļu uzskaites kartīte Nr. PIL0457
A24: 20 | B24: Autoceļš Paiķeni – Čonkas, Ilzenes pagasts, Alūksnes novads, 1,40 km - 1,48 km | C24: Bojāto posmu atjaunošana, ceļa seguma atjaunošana ar minerālmateriālu | D24: =1426.35 -> 1426.35 | E24: =D24*30% -> 427.905 | F24: =D24-E24 -> 998.445 | G24: x | H24: 14.07.2025. akts Nr. ANPAP/25/27, piedalījās sertificēts speciālists (sertif. Nr. 4-03223), pievienotas fotogrāfijas | I24: 04.08.2025. akts par izpildīto darbu pieņemšanu Nr.18, 04.08.2025. rēķins Nr.AS 02761 | J24: Pamatlīdzekļu uzskaites kartīte Nr. PIL0460
A25: 21 | B25: Autoceļš V398, Jaunannas pagasts, Alūksnes novads, 10,40 km - 11,00 km | C25: Bojāto posmu atjaunošana, ceļa seguma atjaunošana ar minerālmateriālu | D25: =429.55 -> 429.55 | E25: =D25*30% -> 128.865 | F25: =D25-E25 -> 300.685 | G25: x | H25: 14.07.2025. akts Nr. ANPAP/25/39, piedalījās sertificēts speciālists (sertif. Nr. 4-03223), pievienotas fotogrāfijas | I25: 28.08.2025. AKTS Nr.5.3.3.-V.3/2025-703, 28.08.2025. rēķins Nr.R25191613 | J25: Pamatlīdzekļu uzskaites kartīte Nr. PAL139749
A26: 22 | B26: Autoceļš V395, Jaunannas pagasts, Alūksnes novads, 2,44 km | C26: Bojāto posmu atjaunošana, ceļa seguma atjaunošana ar minerālmateriālu | D26: =429.55 -> 429.55 | E26: =D26*30% -> 128.865 | F26: =D26-E26 -> 300.685 | G26: x | H26: 14.07.2025. akts Nr. ANPAP/25/38, piedalījās sertificēts speciālists (sertif. Nr. 4-03223), pievienotas fotogrāfijas | I26: 28.08.2025. AKTS Nr.5.3.3.-V.3/2025-703, 28.08.2025. rēķins Nr.R25191613 | J26: Pamatlīdzekļu uzskaites kartīte Nr. PAL139752
A27: 23 | B27: Autoceļš Jaunanna – Guldupji, Jaunannas pagasts, Alūksnes novads, 0,45 km | C27: Bojāto posmu atjaunošana, ceļa seguma atjaunošana un izskalojumu likvidēšana ar minerālmateriālu | D27: =515.46+300.69 -> 816.15 | E27: =D27*30% -> 244.845 | F27: =D27-E27 -> 571.305 | G27: x | H27: 14.07.2025. akts Nr. ANPAP/25/37, piedalījās sertificēts speciālists (sertif. Nr. 4-03223), pievienotas fotogrāfijas | I27: 28.08.2025. AKTS Nr.5.3.3.-V.3/2025-703, 28.08.2025. rēķins Nr.R25191613, 11.08.2025. AKTS Nr.5.3.3.-V.3/2025-658, 11.08.2025. rēķins Nr.R25191546 | J27: Pamatlīdzekļu uzskaites kartīte Nr. PJN0356
A28: 24 | B28: Autoceļš Cempji - Malaci, Kalncempju pagasts, Alūksnes novads, 1,15 km | C28: Bojāto posmu atjaunošana, ceļa seguma atjaunošana ar minerālmateriālu | D28: =1426.35 -> 1426.35 | E28: =D28*30% -> 427.905 | F28: =D28-E28 -> 998.445 | G28: x | H28: 14.07.2025. akts Nr. ANPAP/25/41, piedalījās sertificēts speciālists (sertif. Nr. 4-03223), pievienota fotogrāfija | I28: 21.08.2025. akts par izpildīto darbu pieņemšanu Nr.23, 21.08.2025. rēķins Nr.AS 02774 | J28: Pamatlīdzekļu uzskaites kartīte Nr. PAL127635
A29: 25 | B29: Autoceļš Ate - Augstiekalni - Niedras - 4.ceļš, Kalncempju pagasts, Alūksnes novads, 1,10 km - 1,21 km, 2,49 km - 2,43 km, 2,26 km, 6,17 km | C29: Bojāto posmu atjaunošana, ceļa seguma atjaunošana ar minerālmateriālu | D29: =5705.4 -> 5705.4 | E29: =D29*30% -> 1711.62 | F29: =D29-E29 -> 3993.78 | G29: x | H29: 14.07.2025. akts Nr. ANPAP/25/40, piedalījās sertificēts speciālists (sertif. Nr. 4-03223), pievienotas fotogrāfijas | I29: 21.08.2025. akts par izpildīto darbu pieņemšanu Nr.23, 21.08.2025. rēķins Nr.AS 02774 | J29: Pamatlīdzekļu uzskaites kartīte Nr. PAL127634.1
A30: 26 | B30: Autoceļš Lūkuži – Gotlupi – Nāzupi, Kalncempju pagasts, Alūksnes novads, 0,65 km - 0,72 km, 0,96 km - 1,00 km, 1,40 km, 1,91 km | C30: Bojāto posmu atjaunošana, ceļa seguma atjaunošana ar minerālmateriālu | D30: =3209.28 -> 3209.28 | E30: =D30*30% -> 962.784 | F30: =D30-E30 -> 2246.496 | G30: x | H30: 14.07.2025. akts Nr. ANPAP/25/42, piedalījās sertificēts speciālists (sertif. Nr. 4-03223), pievienotas fotogrāfijas | I30: 21.08.2025. akts par izpildīto darbu pieņemšanu Nr.23, 21.08.2025. rēķins Nr.AS 02774 | J30: Pamatlīdzekļu uzskaites kartīte Nr. PAL127638.1
A31: 27 | B31: Autoceļš Žagatas – Cempji, Kalncempju pagasts, Alūksnes novads, 1,30 km | C31: Radītās deformācijas likvidēšana, veicot ceļa seguma atjaunošanu ar minerālmateriālu | D31: =713.17 -> 713.17 | E31: =D31*30% -> 213.951 | F31: =D31-E31 -> 499.219 | G31: x | H31: 14.07.2025. akts Nr. ANPAP/25/43, piedalījās sertificēts speciālists (sertif. Nr. 4-03223), pievienota fotogrāfija | I31: 21.08.2025. akts par izpildīto darbu pieņemšanu Nr.23, 21.08.2025. rēķins Nr.AS 02774 | J31: Pamatlīdzekļu uzskaites kartīte Nr. PAL127636
A32: 28 | B32: Autoceļš Vēverkalns – Okani, Kalncempju pagasts, Alūksnes novads, 0,23 km, 0,36 km | C32: Bojāto posmu atjaunošana, ceļa seguma atjaunošana ar minerālmateriālu | D32: =713.17 -> 713.17 | E32: =D32*30% -> 213.951 | F32: =D32-E32 -> 499.219 | G32: x | H32: 14.07.2025. akts Nr. ANPAP/25/46, piedalījās sertificēts speciālists (sertif. Nr. 4-03223), pievienotas fotogrāfijas | I32: 21.08.2025. akts par izpildīto darbu pieņemšanu Nr.23, 21.08.2025. rēķins Nr.AS 02774 | J32: Pamatlīdzekļu uzskaites kartīte Nr. PAL127632
A33: 29 | B33: Autoceļš Rožukalns - Ziemeļi, Zeltiņu pagasts, Alūksnes novads, 1,10 km - 1,20 km | C33: Bojāto posmu atjaunošana, ceļa seguma atjaunošana ar minerālmateriālu | D33: =1782.94 -> 1782.94 | E33: =D33*30% -> 534.882 | F33: =D33-E33 -> 1248.058 | G33: x | H33: 14.07.2025. akts Nr. ANPAP/25/44, piedalījās sertificēts speciālists (sertif. Nr. 4-03223), pievienotas fotogrāfijas | I33: 27.08.2025. akts par izpildīto darbu pieņemšanu Nr.22, 27.08.2025. rēķins Nr.AS 02776 | J33: Pamatlīdzekļu uzskaites kartīte Nr. PZE0236.1
A34: 30 | B34: Autoceļš Zeltiņi – Zemītes, Zeltiņu pagasts, Alūksnes novads, 0,00 km (pie Slūžu tilta) | C34: Izskalojuma radīto bojājumu likvidēšana, nogruvuma nostiprināšana un aizbēršana ar minerālgrunti | D34: =4651.12 -> 4651.12 | E34: =D34*30% -> 1395.336 | F34: =D34-E34 -> 3255.784 | G34: x | H34: 14.07.2025. akts Nr. ANPAP/25/45, piedalījās sertificēts speciālists (sertif. Nr. 4-03223), pievienota fotogrāfija | I34: 29.08.2025. remontdarbu tāme (sagatavoja sertificēts speciālists, sertif. Nr.4-03224 | J34: Pamatlīdzekļu uzskaites kartīte Nr. PZE0450
A35: 31 | B35: Autoceļš Ieviņas – Mišas – Dzintari, Veclaicenes pagasts, Alūksnes novads, 3,89 km - 4,59 km | C35: Bojāto posmu atjaunošana, ceļa seguma atjaunošana ar minerālmateriālu | D35: =713.17 -> 713.17 | E35: =D35*30% -> 213.951 | F35: =D35-E35 -> 499.219 | G35: x | H35: 14.07.2025. akts Nr. ANPAP/25/36, piedalījās sertificēts speciālists (sertif. Nr. 4-03223), pievienotas fotogrāfijas | I35: 21.08.2025. akts par izpildīto darbu pieņemšanu Nr.21, 21.08.2025. rēķins Nr.AS 02773 | J35: Pamatlīdzekļu uzskaites kartīte Nr. PAL127262
A36: 32 | B36: Autoceļš Māriņkalns – Karva, Ziemera pagasts, Alūksnes novads, 1,53 km - 1,55 km | C36: Bojāto posmu atjaunošana, ceļa seguma atjaunošana ar minerālmateriālu | D36: =713.17 -> 713.17 | E36: =D36*30% -> 213.951 | F36: =D36-E36 -> 499.219 | G36: x | H36: 14.07.2025. akts Nr. ANPAP/25/47, piedalījās sertificēts speciālists (sertif. Nr. 4-03223), pievienotas fotogrāfijas | I36: 27.08.2025. akts par izpildīto darbu pieņemšanu Nr.25, 27.08.2025. rēķins Nr.AS 02777 | J36: Pamatlīdzekļu uzskaites kartīte Nr. PZI0194.1
C37: KOPĀ: | D37: =SUM(D5:D36) -> 70756.78 | E37: =SUM(E5:E36) -> 21227.034 | F37: =SUM(F5:F36) -> 49529.746
C42: 70757
B43: Pašvaldības līdzfinansējums, euro | C43: 21227
B44: No LNG atbalstāmais finansējums, euro | C44: =C42-C43 -> 49530

Sheet Augšdaugavas novads_1
A2: Augšdaugavas novada pašvaldības 2025. gada jūlijā stipru un ilgstošu lietavu laikā radītie postījumi
A3: Nr. p.k. | B3: Objekta nosaukums un adrese | C3: Veicamie pasākumi/darbi | D3: Postījumu novēršanai nepieciešamā finansējuma apmērs, euro | E3: Pašvaldības līdz- finansējums, euro | F3: No valsts budžeta programmas "Līdzekļi neparedzētiem gadījumiem" nepieciešamā finansējuma apmērs, euro | G3: Pašvaldības iesniegtie finansiālā pamatojuma dokumenti | M3: Piezīmes, komentāri
G4: MK noteikumu Nr.421 5.pielikums | H4: apsekošanas akts (zaudējumu novērtējums vai dokumenti, kas apliecina notikušo faktu), vai ir pievienota fotogrāfija/jas | I4: pieprasīto līdzekļu aprēķins/tāme (veicamo darbu/ pakalpojumu apraksts, nepieciešamo materiālu daudzums, cena, atalgojums un paredzamo nodokļu samaksa) | J4: apliecinājums, ka infrastruktūras objekts ir pašvaldības īpašumā vai valdījumā (pamatlīdzekļu uzskaites kartīte vai zemesgrāmatas apliecinājums) | K4: informācija par pašvaldības līdzfinansējuma apmēru objektam radīto zaudējumu novēršanai (domes lēmums) | L4: apliecinājums, ka par objektu pašvaldībai nepienākas vai pienākas apdrošināšanas atlīdzība + skaidrojums, ja nebija apdrošināts
A5: 1 | B5: Ceļš Vaboles - Margas - Birņi, Bebrenes pagasts, Augšdaugavas novads 0,890 km - 1,010 km | C5: Nesaistīta seguma ceļa klātnes iesēdumu un berdu labošana ar drupinātas grants maisījumu 0/32s | D5: 3368.64 | E5: =D5*30% -> 1010.592 | F5: =D5-E5 -> 2358.048 | G5: x | H5: 29.07.2025. akts Nr. 1, pievienota fotogrāfija, apsekošanā piedalījās transporta tīklu inženieris. 18.08.2025. sēdziens no būvinženiera (sertif. Nr. 3-01405) | I5: Atbilstoši 12.08.2025. sarunu procedūras rezultātiem, iepirkuma identifikācijas Nr. ANPCP 2025/63SP, Darbu apjomu saraksts Nr.1 07.08.2025. finanšu piedāvājums no SIA "MELIORS KRAUJA" | J5: Pamatlīdzekļu uzskaites kartīte Nr. PL0006908, Nr. PL0006928 | K5: Augšdaugavas novada pašvaldības domes 14.08.2025. lēmums Nr. 77 "Par Augšdaugavas novada pašvaldības Bebrenes, Maļinovas, Naujenes, Šēderes un Višķu pagastu ceļiem lietavu laikā radīto postījumu novēršanu" | L5: 5. pielikumā pašvaldība norāda, ka ceļi un ielas nav apdrošināti, jo to apdrošināšana pret dabas stihiju radītiem zaudējumiem nav finansiāli samērīga attiecībā pret pieejamo budžetu un šāda veida infrastruktūrai piedāvātajiem apdrošināšanas nosacījumiem. Turklāt daudziem vietējas nozīmes ceļiem, īpaši grants seguma ceļiem, nav pieejami komerciāli izdevīgi apdrošināšanas piedāvājumi, vai arī tie paredz ļoti augstas pašriska summas un izņēmumus, kas būtiski ierobežo iespēju saņemt atlīdzību.
A6: 2 | B6: Ceļš Margas - Kurmji, Bebrenes pagasts, Augšdaugavas novads, 0,697 km - 0,806 km | C6: Nesaistīta seguma ceļa klātnes iesēdumu un berdu labošana ar drupinātas grants maisījumu 0/32s | D6: 3059.85 | E6: =D6*30% -> 917.955 | F6: =D6-E6 -> 2141.895 | G6: x | H6: 29.07.2025. akts Nr. 2, pievienota fotogrāfija, apsekošanā piedalījās transporta tīklu inženieris. 18.08.2025. sēdziens no būvinženiera (sertif. Nr. 3-01405) | I6: Atbilstoši 12.08.2025. sarunu procedūras rezultātiem, iepirkuma identifikācijas Nr. ANPCP 2025/63SP, Darbu apjomu saraksts Nr.2 07.08.2025. finanšu piedāvājums no SIA "MELIORS KRAUJA" | J6: Pamatlīdzekļu uzskaites kartīte Nr. PL0006983
A7: 3 | B7: Ceļš Mežgaļi - Čamanu kapi, Bebrenes pagasts, Augšdaugavas novads, 0,509 km - 0,709 km | C7: Nesaistīta seguma ceļa klātnes iesēdumu un berdu labošana ar drupinātas grants maisījumu 0/32s | D7: 4491.52 | E7: =D7*30% -> 1347.456 | F7: =D7-E7 -> 3144.064 | G7: x | H7: 29.07.2025. akts Nr. 3, pievienotas fotogrāfijas, apsekošanā piedalījās transporta tīklu inženieris. 18.08.2025. sēdziens no būvinženiera (sertif. Nr. 3-01405) | I7: Atbilstoši 12.08.2025. sarunu procedūras rezultātiem, iepirkuma identifikācijas Nr. ANPCP 2025/63SP, Darbu apjomu saraksts Nr.3 07.08.2025. finanšu piedāvājums no SIA "MELIORS KRAUJA" | J7: Pamatlīdzekļu uzskaites kartīte Nr. PL0006862, Nr. PL0006914
A8: 4 | B8: Ceļš Valsts ceļš - darbnīca, Maļinovas pagasts, Augšdaugavas novads, 0,100 km - 0,130 km | C8: Nesaistīta seguma ceļa klātnes iesēdumu un berdu labošana ar drupinātas grants maisījumu 0/32s | D8: 871.2 | E8: =D8*30% -> 261.36 | F8: =D8-E8 -> 609.84 | G8: x | H8: 29.07.2025. akts Nr. 8, pievienota fotogrāfija, apsekošanā piedalījās transporta tīklu inženieris. 18.08.2025. sēdziens no būvinženiera (sertif. Nr. 3-01405) | I8: Atbilstoši 12.08.2025. sarunu procedūras rezultātiem, iepirkuma identifikācijas Nr. ANPCP 2025/63SP, Darbu apjomu saraksts Nr.4 07.08.2025. finanšu piedāvājums no SIA "MELIORS KRAUJA" | J8: Pamatlīdzekļu uzskaites kartīte Nr. PL0018422
A9: 5 | B9: Ceļš Valsts ceļš - Svari, Maļinovas pagasts, Augšdaugavas novads, 0,350 km - 0,550 km | C9: Nesaistīta seguma ceļa klātnes iesēdumu un berdu labošana ar drupinātas grants maisījumu 0/32s | D9: 4491.52 | E9: =D9*30% -> 1347.456 | F9: =D9-E9 -> 3144.064 | G9: x | H9: 29.07.2025. akts Nr. 9, pievienota fotogrāfija, apsekošanā piedalījās transporta tīklu inženieris. 18.08.2025. sēdziens no būvinženiera (sertif. Nr. 3-01405) | I9: Atbilstoši 12.08.2025. sarunu procedūras rezultātiem, iepirkuma identifikācijas Nr. ANPCP 2025/63SP, Darbu apjomu saraksts Nr.5 07.08.2025. finanšu piedāvājums no SIA "MELIORS KRAUJA" | J9: Pamatlīdzekļu uzskaites kartīte Nr. PL0018421
A10: 6 | B10: Ceļš Valsts ceļš - Kurpeņišķi - Jancišķi, Maļinovas pagasts, Augšdaugavas novads, 0,00 km - 0,05 km | C10: Nesaistīta seguma ceļa klātnes iesēdumu un berdu labošana ar drupinātas grants maisījumu 0/32s | D10: 1452 | E10: =D10*30% -> 435.6 | F10: =D10-E10 -> 1016.4 | G10: x | H10: 29.07.2025. akts Nr. 10, pievienota fotogrāfija, apsekošanā piedalījās transporta tīklu inženieris. 18.08.2025. sēdziens no būvinženiera (sertif. Nr. 3-01405) | I10: Atbilstoši 12.08.2025. sarunu procedūras rezultātiem, iepirkuma identifikācijas Nr. ANPCP 2025/63SP, Darbu apjomu saraksts Nr.6 07.08.2025. finanšu piedāvājums no SIA "MELIORS KRAUJA" | J10: Pamatlīdzekļu uzskaites kartīte Nr. PL0003678
A11: 7 | B11: Ceļš Bukšti - Dārzkopība, Maļinovas pagasts, Augšdaugavas novads, 1,860 km - 2,06 km | C11: Nesaistīta seguma ceļa klātnes iesēdumu un berdu labošana ar drupinātas grants maisījumu 0/32s | D11: 4491.52 | E11: =D11*30% -> 1347.456 | F11: =D11-E11 -> 3144.064 | G11: x | H11: 29.07.2025. akts Nr. 11, pievienota fotogrāfija, apsekošanā piedalījās transporta tīklu inženieris. 18.08.2025. sēdziens no būvinženiera (sertif. Nr. 3-01405) | I11: Atbilstoši 12.08.2025. sarunu procedūras rezultātiem, iepirkuma identifikācijas Nr. ANPCP 2025/63SP, Darbu apjomu saraksts Nr.7 07.08.2025. finanšu piedāvājums no SIA "MELIORS KRAUJA" | J11: Pamatlīdzekļu uzskaites kartīte Nr. PL0018417
A12: 8 | B12: Ceļš Zastenki - Teivāni, Naujenes pagasts, Augšdaugavas novads, 0,400 km - 0,500 km, 1,100 km - 1,300 km, 1,700 km - 1,900 km | C12: Nesaistīta seguma ceļa klātnes iesēdumu un berdu labošana ar drupinātas grants maisījumu 0/32s | D12: 14036 | E12: =D12*30% -> 4210.8 | F12: =D12-E12 -> 9825.2 | G12: x | H12: 29.07.2025. akts Nr. 4, pievienotas fotogrāfijas, apsekošanā piedalījās transporta tīklu inženieris. 18.08.2025. sēdziens no būvinženiera (sertif. Nr. 3-01405) | I12: Atbilstoši 12.08.2025. sarunu procedūras rezultātiem, iepirkuma identifikācijas Nr. ANPCP 2025/63SP, Darbu apjomu saraksts Nr.8 07.08.2025. finanšu piedāvājums no SIA "MELIORS KRAUJA" | J12: Pamatlīdzekļu uzskaites kartīte Nr. PL0024621
A13: 9 | B13: Ceļš Pritikina - Naujene, Naujenes pagasts, Augšdaugavas novads, 0,100 km - 0,150 km | C13: Nesaistīta seguma ceļa klātnes iesēdumu un berdu labošana ar drupinātas grants maisījumu 0/32s | D13: 1200.32 | E13: =D13*30% -> 360.096 | F13: =D13-E13 -> 840.224 | G13: x | H13: 29.07.2025. akts Nr. 5, pievienota fotogrāfija, apsekošanā piedalījās transporta tīklu inženieris. 18.08.2025. sēdziens no būvinženiera (sertif. Nr. 3-01405) | I13: Atbilstoši 12.08.2025. sarunu procedūras rezultātiem, iepirkuma identifikācijas Nr. ANPCP 2025/63SP, Darbu apjomu saraksts Nr.9 07.08.2025. finanšu piedāvājums no SIA "MELIORS KRAUJA" | J13: Pamatlīdzekļu uzskaites kartīte Nr. PL0024635
A14: 10 | B14: Ceļš Lociki - Košatniki - Stropica, Naujenes pagasts, Augšdaugavas novads 1,55 km - 1,610 km | C14: Nesaistīta seguma ceļa klātnes iesēdumu un berdu labošana ar drupinātas grants maisījumu 0/32s | D14: 1800.48 | E14: =D14*30% -> 540.144 | F14: =D14-E14 -> 1260.336 | G14: x | H14: 29.07.2025. akts Nr. 6, pievienota fotogrāfija, apsekošanā piedalījās transporta tīklu inženieris. 18.08.2025. sēdziens no būvinženiera (sertif. Nr. 3-01405) | I14: Atbilstoši 12.08.2025. sarunu procedūras rezultātiem, iepirkuma identifikācijas Nr. ANPCP 2025/63SP, Darbu apjomu saraksts Nr.10 07.08.2025. finanšu piedāvājums no SIA "MELIORS KRAUJA" | J14: Pamatlīdzekļu uzskaites kartīte Nr. PL0024612
A15: 11 | B15: Ziedu iela, Naujenes pagasts, Augšdaugavas novads, 0,090 km - 0,095 km | C15: Asfalta seguma atjaunošana | D15: 2093.3 | E15: =D15*30% -> 627.99 | F15: =D15-E15 -> 1465.31 | G15: x | H15: 29.07.2025. akts Nr. 7, pievienota fotogrāfija, apsekošanā piedalījās transporta tīklu inženieris. 18.08.2025. sēdziens no būvinženiera (sertif. Nr. 3-01405) | I15: Atbilstoši 12.08.2025. sarunu procedūras rezultātiem, iepirkuma identifikācijas Nr. ANPCP 2025/63SP, Darbu apjomu saraksts Nr.11 07.08.2025. finanšu piedāvājums no SIA "MELIORS KRAUJA" | J15: Pamatlīdzekļu uzskaites kartīte Nr. PL0024701
A16: 12 | B16: Ceļš Šēdere - Lauvas - Šteinburga, Šēderes pagasts, Augšdaugavas novads, 0,00 km - 0,200 km | C16: Atjaunot ceļa apmales ar drupinātas grants maisījumu 0/32s | D16: 4336.64 | E16: =D16*30% -> 1300.992 | F16: =D16-E16 -> 3035.648 | G16: x | H16: 29.07.2025. akts Nr. 12, pievienotas fotogrāfijas, apsekošanā piedalījās transporta tīklu inženieris. 18.08.2025. sēdziens no būvinženiera (sertif. Nr. 3-01405) | I16: Atbilstoši 12.08.2025. sarunu procedūras rezultātiem, iepirkuma identifikācijas Nr. ANPCP 2025/63SP, Darbu apjomu saraksts Nr.12 07.08.2025. finanšu piedāvājums no SIA "MELIORS KRAUJA" | J16: Pamatlīdzekļu uzskaites kartīte Nr. PL0007079
A17: 13 | B17: Ceļš Šēdere - Raudas mežs, Šēderes pagasts, Augšdaugavas novads, 0,100 km - 0,200 km | C17: Atjaunot ceļa apmales ar drupinātas grants maisījumu 0/32s | D17: 2168.32 | E17: =D17*30% -> 650.496 | F17: =D17-E17 -> 1517.824 | G17: x | I17: Atbilstoši 12.08.2025. sarunu procedūras rezultātiem, iepirkuma identifikācijas Nr. ANPCP 2025/63SP, Darbu apjomu saraksts Nr.13 07.08.2025. finanšu piedāvājums no SIA "MELIORS KRAUJA" | J17: Pamatlīdzekļu uzskaites kartīte Nr. PL0006919, Nr. PL0006940
A18: 14 | B18: Ceļš Guļāni - Kuzmino, Višķu pagasts, Augšdaugavas novads, 0,900 km - 0,950 km | C18: Nesaistīta seguma ceļa klātnes iesēdumu un berdu labošana ar drupinātas grants maisījumu 0/32s | D18: 2168.32 | E18: =D18*30% -> 650.496 | F18: =D18-E18 -> 1517.824 | G18: x | H18: 29.07.2025. akts Nr. 15, pievienotas fotogrāfijas, apsekošanā piedalījās transporta tīklu inženieris. 18.08.2025. sēdziens no būvinženiera (sertif. Nr. 3-01405) | I18: Atbilstoši 12.08.2025. sarunu procedūras rezultātiem, iepirkuma identifikācijas Nr. ANPCP 2025/63SP, Darbu apjomu saraksts Nr.14 07.08.2025. finanšu piedāvājums no SIA "MELIORS KRAUJA" | J18: Pamatlīdzekļu uzskaites kartīte Nr. PL0031513
A19: 15 | B19: Ceļš Grāviņi - Vecie Tokari, Višķu pagasts, Augšdaugavas novads, 4,100 km - 4,200 km | C19: Nesaistīta seguma ceļa klātnes iesēdumu un berdu labošana ar drupinātas grants maisījumu 0/32s | D19: 3717.12 | E19: =D19*30% -> 1115.136 | F19: =D19-E19 -> 2601.984 | G19: x | H19: 29.07.2025. akts Nr. 16, pievienotas fotogrāfijas, apsekošanā piedalījās transporta tīklu inženieris. 18.08.2025. sēdziens no būvinženiera (sertif. Nr. 3-01405) | I19: Atbilstoši 12.08.2025. sarunu procedūras rezultātiem, iepirkuma identifikācijas Nr. ANPCP 2025/63SP, Darbu apjomu saraksts Nr.15 07.08.2025. finanšu piedāvājums no SIA "MELIORS KRAUJA" | J19: Pamatlīdzekļu uzskaites kartīte Nr. PL0002849/2, Nr. PL0002849/3, Nr. PL0002849/1
A20: 16 | B20: Ceļš Daniševka - Tartaka, Višķu pagasts, Augšdaugavas novads 0,400 km - 0,600 km | C20: Nesaistīta seguma ceļa klātnes iesēdumu un berdu labošana ar drupinātas grants maisījumu 0/32s | D20: 6195.2 | E20: =D20*30% -> 1858.56 | F20: =D20-E20 -> 4336.64 | G20: x | H20: 29.07.2025. akts Nr. 14, pievienota fotogrāfija, apsekošanā piedalījās transporta tīklu inženieris. 18.08.2025. sēdziens no būvinženiera (sertif. Nr. 3-01405) | I20: Atbilstoši 12.08.2025. sarunu procedūras rezultātiem, iepirkuma identifikācijas Nr. ANPCP 2025/63SP, Darbu apjomu saraksts Nr.16 07.08.2025. finanšu piedāvājums no SIA "MELIORS KRAUJA" | J20: Pamatlīdzekļu uzskaites kartīte Nr. PL0031570
C21: KOPĀ: | D21: =SUM(D5:D20) -> 59941.95 | E21: =SUM(E5:E20) -> 17982.585 | F21: =SUM(F5:F20) -> 41959.365
B26: Atbalstāms zaudējumu apmērs, euro | C26: 59942
B27: Pašvaldības līdzfinansējums, euro | C27: 17983
B28: No LNG atbalstāmais finansējums, euro | C28: =C26-C27 -> 41959

Sheet Augšdaugavas novads_2
A2: Augšdaugavas novada pašvaldības 2025. gadā 31. jūlijā un 1. augustā stipru un ilgstošu lietavu laikā radītie postījumi
A3: Nr. p.k. | B3: Objekta nosaukums un adrese | C3: Veicamie pasākumi/darbi | D3: Postījumu novēršanai nepieciešamā finansējuma apmērs, euro | E3: Pašvaldības līdz- finansējums, euro | F3: No valsts budžeta programmas "Līdzekļi neparedzētiem gadījumiem" nepieciešamā finansējuma apmērs, euro | G3: Pašvaldības iesniegtie finansiālā pamatojuma dokumenti | M3: Piezīmes, komentāri
G4: MK noteikumu Nr.421 5.pielikums | H4: apsekošanas akts (zaudējumu novērtējums vai dokumenti, kas apliecina notikušo faktu), vai ir pievienota fotogrāfija/jas | I4: pieprasīto līdzekļu aprēķins/tāme (veicamo darbu/ pakalpojumu apraksts, nepieciešamo materiālu daudzums, cena, atalgojums un paredzamo nodokļu samaksa) | J4: apliecinājums, ka infrastruktūras objekts ir pašvaldības īpašumā vai valdījumā (pamatlīdzekļu uzskaites kartīte vai zemesgrāmatas apliecinājums) | K4: informācija par pašvaldības līdzfinansējuma apmēru objektam radīto zaudējumu novēršanai (domes lēmums) | L4: apliecinājums, ka par objektu pašvaldībai nepienākas vai pienākas apdrošināšanas atlīdzība + skaidrojums, ja nebija apdrošināts
A5: 1 | B5: Ceļš Braunas - Grendzes, Bebrenes pagasts, Augšdaugavas novads, 0,000 km - 0,050 km | C5: Nesaistīta seguma ceļa klātnes iesēdumu un bedru labošana ar drupinātas grants maisījumu 0/32s, caurtekas bojājuma novēršana | D5: 6618.65 | E5: =D5*30% -> 1985.595 | F5: =D5-E5 -> 4633.055 | G5: x | H5: 01.08.2025. akts Nr.1, pievienotas fotogrāfijas, apsekošanā piedalījās transporta tīklu inženieris. Būvinženiera (sertifik. Nr. 3-01405) aplievinājums. | I5: Atbilstoši sarunu procedūras rezultātiem, iepirkuma identifikācijas Nr. ANPCP 2025/66SP, 18.08.2025. finanšu piedāvājums no SIA "BauForm" Darbu apjomu saraksts Nr.1, sagatavoja sertificēts speciālists (sertif. Nr.4-03849) | J5: Pamatlīdzekļu uzskaites kartīte Nr. PL0006949 | K5: Augšdaugavas novada pašvaldības domes 28.08.2025. lēmums Nr. 88 "Par Augšdaugavas novada pašvaldības Bebrenes un Pilskalnes pagastu ceļu atjaunošanu lietavu radīto postījumu novēršanai" | L5: 5. pielikumā norāda, ka pašvaldības ceļi un ielas nav apdrošināti, jo to apdrošināšana pret dabas stihiju radītiem zaudējumiem nav finansiāli samērīga attiecībā pret pieejamo budžetu un šāda veida infrastruktūrai piedāvātajiem apdrošināšanas nosacījumiem. Turklāt daudziem vietējas nozīmes ceļiem, īpaši grants seguma ceļiem, nav pieejami komerciāli izdevīgi apdrošināšanas piedāvājumi, vai arī tie paredz ļoti augstas pašriska summas un izņēmumus, kas būtiski ierobežo iespēju saņemt atlīdzību.
A6: 2 | B6: Ceļš Miltu cehs - Ķetrāni, Bebrenes pagasts, Augšdaugavas novads, 0,600 km - 0,700 km, 2,500 km - 2,550 km, 2,620 km - 2,720 km | C6: Nesaistīta seguma ceļa klātnes iesēdumu un bedru labošana ar drupinātas grants maisījumu 0/32s, caurteku bojājumu novēršana | D6: 8748.3 | E6: =D6*30% -> 2624.49 | F6: =D6-E6 -> 6123.81 | G6: x | H6: 01.08.2025. akts Nr.2, pievienotas fotogrāfijas, apsekošanā piedalījās transporta tīklu inženieris. Būvinženiera (sertifik. Nr. 3-01405) aplievinājums. | I6: Atbilstoši sarunu procedūras rezultātiem, iepirkuma identifikācijas Nr. ANPCP 2025/66SP, 18.08.2025. finanšu piedāvājums no SIA "BauForm" Darbu apjomu saraksts Nr.2, sagatavoja sertificēts speciālists (sertif. Nr.4-03849) | J6: Pamatlīdzekļu uzskaites kartīte Nr. PL0006958, Nr. PL0007005
A7: 3 | B7: Ceļš Iesalnieki - Putni - Kamenes, Bebrenes pagasts, Augšdaugavas novads, 0,020 km - 0,170 km, 1,040 km - 1,140 km, 1,220 km - 1,320 km | C7: Nesaistīta seguma ceļa klātnes iesēdumu un bedru labošana ar drupinātas grants maisījumu 0/32s | D7: 8275.63 | E7: =D7*30% -> 2482.689 | F7: =D7-E7 -> 5792.941 | G7: x | H7: 01.08.2025. akts Nr.3, pievienotas fotogrāfijas, apsekošanā piedalījās transporta tīklu inženieris. Būvinženiera (sertifik. Nr. 3-01405) aplievinājums. | I7: Atbilstoši sarunu procedūras rezultātiem, iepirkuma identifikācijas Nr. ANPCP 2025/66SP, 18.08.2025. finanšu piedāvājums no SIA "BauForm" Darbu apjomu saraksts Nr.3, sagatavoja sertificēts speciālists (sertif. Nr.4-03849) | J7: Pamatlīdzekļu uzskaites kartīte Nr. PL0007003
A8: 4 | B8: Ceļš Zeltiņi - Užuļi, Bebrenes pagasts, Augšdaugavas novads, 0,000 km - 0,300 km, 1,640 km - 1,680 km | C8: Nesaistīta seguma ceļa klātnes iesēdumu un bedru labošana ar drupinātas grants maisījumu 0/32s | D8: 7776.23 | E8: =D8*30% -> 2332.869 | F8: =D8-E8 -> 5443.361 | G8: x | H8: 01.08.2025. akts Nr.4, pievienotas fotogrāfijas, apsekošanā piedalījās transporta tīklu inženieris. Būvinženiera (sertifik. Nr. 3-01405) aplievinājums. | I8: Atbilstoši sarunu procedūras rezultātiem, iepirkuma identifikācijas Nr. ANPCP 2025/66SP, 18.08.2025. finanšu piedāvājums no SIA "BauForm" Darbu apjomu saraksts Nr.4, sagatavoja sertificēts speciālists (sertif. Nr.4-03849) | J8: Pamatlīdzekļu uzskaites kartīte Nr. PL0007006, Nr. PL0007008
A9: 5 | B9: Ceļš Ķimenes - Grāvīši - Pļavas, Bebrenes pagasts, Augšdaugavas novads 0,960 km - 1,010 km, 1,800 km - 1,850 km | C9: Caurteku bojājumu novēršana, pie caurtekām uzbērt nesaistīta seguma ceļa klātnes iesēdumu un bedru labošana ar drupinātas grants maisījumu 0/32s | D9: 12381.2 | E9: =D9*30% -> 3714.36 | F9: =D9-E9 -> 8666.84 | G9: x | H9: 01.08.2025. akts Nr.5, pievienotas fotogrāfijas, apsekošanā piedalījās transporta tīklu inženieris. Būvinženiera (sertifik. Nr. 3-01405) aplievinājums. | I9: Atbilstoši sarunu procedūras rezultātiem, iepirkuma identifikācijas Nr. ANPCP 2025/66SP, 18.08.2025. finanšu piedāvājums no SIA "BauForm" Darbu apjomu saraksts Nr.5, sagatavoja sertificēts speciālists (sertif. Nr.4-03849) | J9: Pamatlīdzekļu uzskaites kartīte Nr. PL0006865
A10: 6 | B10: Ceļš Attīrīšanas stacija - Centra ferma, Bebrenes pagasts, Augšdaugavas novads 0,090 km - 0,120 km, 0,750 km - 0,850 km, 0,970 km - 1,020 km, 1,380 km - 1,430 km | C10: Nesaistīta seguma ceļa klātnes iesēdumu un bedru labošana ar drupinātas grants maisījumu 0/32s, caurteku bojājumu novēršana | D10: 19380.57 | E10: =D10*30% -> 5814.171 | F10: =D10-E10 -> 13566.399 | G10: x | H10: 01.08.2025. akts Nr.6, pievienotas fotogrāfijas, apsekošanā piedalījās transporta tīklu inženieris. Būvinženiera (sertifik. Nr. 3-01405) aplievinājums. | I10: Atbilstoši sarunu procedūras rezultātiem, iepirkuma identifikācijas Nr. ANPCP 2025/66SP, 18.08.2025. finanšu piedāvājums no SIA "BauForm" Darbu apjomu saraksts Nr.6, sagatavoja sertificēts speciālists (sertif. Nr.4-03849) | J10: Pamatlīdzekļu uzskaites kartīte Nr. PL0006977
A11: 7 | B11: Ceļš Birzes - Rudzīši - Rupšenieki, Bebrenes pagasts, Augšdaugavas novads, 0,420 km - 0,540 km, 2,550 km - 2,800 km | C11: Nesaistīta seguma ceļa klātnes iesēdumu un bedru labošana ar drupinātas grants maisījumu 0/32s, caurteku bojājumu novēršana | D11: 10774.76 | E11: =D11*30% -> 3232.428 | F11: =D11-E11 -> 7542.332 | G11: x | H11: 01.08.2025. akts Nr.7, pievienotas fotogrāfijas, apsekošanā piedalījās transporta tīklu inženieris. Būvinženiera (sertifik. Nr. 3-01405) aplievinājums. | I11: Atbilstoši sarunu procedūras rezultātiem, iepirkuma identifikācijas Nr. ANPCP 2025/66SP, 18.08.2025. finanšu piedāvājums no SIA "BauForm" Darbu apjomu saraksts Nr.7, sagatavoja sertificēts speciālists (sertif. Nr.4-03849) | J11: Pamatlīdzekļu uzskaites kartīte Nr. PL0007050
A12: 8 | B12: Ceļš Margas - Kurmji, Bebrenes pagasts, Augšdaugavas novads, 0,000 km - 0,100 km, 0,530 km - 0,690 km | C12: Nesaistīta seguma ceļa klātnes iesēdumu un bedru labošana ar drupinātas grants maisījumu 0/32s | D12: 5921.35 | E12: =D12*30% -> 1776.405 | F12: =D12-E12 -> 4144.945 | G12: x | H12: 01.08.2025. akts Nr.8, pievienotas fotogrāfijas, apsekošanā piedalījās transporta tīklu inženieris. Būvinženiera (sertifik. Nr. 3-01405) aplievinājums. | I12: Atbilstoši sarunu procedūras rezultātiem, iepirkuma identifikācijas Nr. ANPCP 2025/66SP, 18.08.2025. finanšu piedāvājums no SIA "BauForm" Darbu apjomu saraksts Nr.8, sagatavoja sertificēts speciālists (sertif. Nr.4-03849) | J12: Pamatlīdzekļu uzskaites kartīte Nr. PL0006983
A13: 9 | B13: Ceļš Bebrene - Ilzmuiža, Bebrenes pagasts, Augšdaugavas novads, 1,800 km - 1,900 km, 2,250 km - 2,580 km | C13: Nesaistīta seguma ceļa klātnes iesēdumu un bedru labošana ar drupinātas grants maisījumu 0/32s | D13: 9816.61 | E13: =D13*30% -> 2944.983 | F13: =D13-E13 -> 6871.627 | G13: x | H13: 01.08.2025. akts Nr.9, pievienotas fotogrāfijas, apsekošanā piedalījās transporta tīklu inženieris. Būvinženiera (sertifik. Nr. 3-01405) aplievinājums. | I13: Atbilstoši sarunu procedūras rezultātiem, iepirkuma identifikācijas Nr. ANPCP 2025/66SP, 18.08.2025. finanšu piedāvājums no SIA "BauForm" Darbu apjomu saraksts Nr.9, sagatavoja sertificēts speciālists (sertif. Nr.4-03849) | J13: Pamatlīdzekļu uzskaites kartīte Nr. PL0006918, Nr. PL0007001
A14: 10 | B14: Cīrulīšu iela, Bebrenes pagasts, Augšdaugavas novads, 0,000 km - 0,100 km | C14: Nesaistīta seguma ceļa klātnes iesēdumu un bedru labošana ar drupinātas grants maisījumu 0/32s | D14: 2282.93 | E14: =D14*30% -> 684.879 | F14: =D14-E14 -> 1598.051 | G14: x | H14: 01.08.2025. akts Nr.10, pievienota fotogrāfija, apsekošanā piedalījās transporta tīklu inženieris. Būvinženiera (sertifik. Nr. 3-01405) aplievinājums. | I14: Atbilstoši sarunu procedūras rezultātiem, iepirkuma identifikācijas Nr. ANPCP 2025/66SP, 18.08.2025. finanšu piedāvājums no SIA "BauForm" Darbu apjomu saraksts Nr.10, sagatavoja sertificēts speciālists (sertif. Nr.4-03849) | J14: Pamatlīdzekļu uzskaites kartīte Nr. PL0034565
A15: 11 | B15: Pavasara iela, Bebrenes pagasts, Augšdaugavas novads, 0,043 km - 0,093 km | C15: Nesaistīta seguma ceļa klātnes iesēdumu un bedru labošana ar drupinātas grants maisījumu 0/32s | D15: 1141.47 | E15: =D15*30% -> 342.441 | F15: =D15-E15 -> 799.029 | G15: x | H15: 01.08.2025. akts Nr.11, pievienota fotogrāfija, apsekošanā piedalījās transporta tīklu inženieris. Būvinženiera (sertifik. Nr. 3-01405) aplievinājums. | I15: Atbilstoši sarunu procedūras rezultātiem, iepirkuma identifikācijas Nr. ANPCP 2025/66SP, 18.08.2025. finanšu piedāvājums no SIA "BauForm" Darbu apjomu saraksts Nr.11, sagatavoja sertificēts speciālists (sertif. Nr.4-03849) | J15: Pamatlīdzekļu uzskaites kartīte Nr. PL0034570
A16: 12 | B16: Ceļš Vaboles - Margas - Birņi, Bebrenes pagasts, Augšdaugavas novads, 1,550 km - 1,800 km | C16: Nesaistīta seguma ceļa klātnes iesēdumu un bedru labošana ar drupinātas grants maisījumu 0/32s | D16: 5707.33 | E16: =D16*30% -> 1712.199 | F16: =D16-E16 -> 3995.131 | G16: x | H16: 01.08.2025. akts Nr.12, pievienota fotogrāfija, apsekošanā piedalījās transporta tīklu inženieris. Būvinženiera (sertifik. Nr. 3-01405) aplievinājums. | I16: Atbilstoši sarunu procedūras rezultātiem, iepirkuma identifikācijas Nr. ANPCP 2025/66SP, 18.08.2025. finanšu piedāvājums no SIA "BauForm" Darbu apjomu saraksts Nr.12, sagatavoja sertificēts speciālists (sertif. Nr.4-03849) | J16: Pamatlīdzekļu uzskaites kartīte Nr. PL0006908, Nr. PL0006928
A17: 13 | B17: Ceļš Dzintari - Talcinieki - Krastiņi, Pilskalnes pagasts, Augšdaugavas novads, 0,320 km - 0,360 km un caurteka 0,350 km | C17: Nesaistīta seguma ceļa klātnes iesēdumu un bedru labošana ar drupinātas grants maisījumu 0/32s | D17: 1712.2 | E17: =D17*30% -> 513.66 | F17: =D17-E17 -> 1198.54 | G17: x | H17: 01.08.2025. akts Nr.13, pievienotas fotogrāfijas, apsekošanā piedalījās transporta tīklu inženieris. Būvinženiera (sertifik. Nr. 3-01405) aplievinājums. | I17: Atbilstoši sarunu procedūras rezultātiem, iepirkuma identifikācijas Nr. ANPCP 2025/66SP, 18.08.2025. finanšu piedāvājums no SIA "BauForm" Darbu apjomu saraksts Nr.13, sagatavoja sertificēts speciālists (sertif. Nr.4-03849) | J17: Pamatlīdzekļu uzskaites kartīte Nr. PL0006867
A18: 14 | B18: Ceļš Tutāni - Padomnieki, Pilskalnes pagasts, Augšdaugavas novads, 1,400 km - 1,700 km | C18: Nesaistīta seguma ceļa klātnes iesēdumu un bedru labošana ar drupinātas grants maisījumu 0/32s | D18: 12841.49 | E18: =D18*30% -> 3852.447 | F18: =D18-E18 -> 8989.043 | G18: x | H18: 01.08.2025. akts Nr.14, pievienotas fotogrāfijas, apsekošanā piedalījās transporta tīklu inženieris. Būvinženiera (sertifik. Nr. 3-01405) aplievinājums. | I18: Atbilstoši sarunu procedūras rezultātiem, iepirkuma identifikācijas Nr. ANPCP 2025/66SP, 18.08.2025. finanšu piedāvājums no SIA "BauForm" Darbu apjomu saraksts Nr.14, sagatavoja sertificēts speciālists (sertif. Nr.4-03849) | J18: Pamatlīdzekļu uzskaites kartīte Nr. PL0006861
C19: KOPĀ: | D19: =SUM(D5:D18) -> 113378.72 | E19: =SUM(E5:E18) -> 34013.616 | F19: =SUM(F5:F18) -> 79365.104
B24: Atbalstāms zaudējumu apmērs, euro | C24: 113379
B25: Pašvaldības līdzfinansējums, euro | C25: 34014
B26: No LNG atbalstāmais finansējums, euro | C26: =C24-C25 -> 79365

Sheet Balvu novads
A2: Balvu novada pašvaldības 2025. gada jūlijā ilgstošu lietavu un 11. jūlijā spēcīgu vēja brāzmu laikā radītie postījumi
A3: https://www.balvi.lv/lv/jaunums/specigas-lietavas-un-vejs-skar-ari-balvu-novadu?utm_source=https%3A%2F%2Fwww.google.com%2F
A4: Nr. p.k. | B4: Objekta nosaukums un adrese | C4: Veicamie pasākumi/darbi | D4: Postījumu novēršanai nepieciešamā finansējuma apmērs, euro | E4: Pašvaldības līdz- finansējums, euro | F4: No valsts budžeta programmas "Līdzekļi neparedzētiem gadījumiem" nepieciešamā finansējuma apmērs, euro | G4: Pašvaldības iesniegtie finansiālā pamatojuma dokumenti | M4: Piezīmes, komentāri
G5: MK noteikumu Nr.421 5.pielikums | H5: apsekošanas akts (zaudējumu novērtējums vai dokumenti, kas apliecina notikušo faktu), vai ir pievienota fotogrāfija/jas | I5: pieprasīto līdzekļu aprēķins/tāme (veicamo darbu/ pakalpojumu apraksts, nepieciešamo materiālu daudzums, cena, atalgojums un paredzamo nodokļu samaksa) | J5: apliecinājums, ka infrastruktūras objekts ir pašvaldības īpašumā vai valdījumā (pamatlīdzekļu uzskaites kartīte vai zemesgrāmatas apliecinājums) | K5: informācija par pašvaldības līdzfinansējuma apmēru objektam radīto zaudējumu novēršanai (domes lēmums) | L5: apliecinājums, ka par objektu pašvaldībai nepienākas vai pienākas apdrošināšanas atlīdzība + skaidrojums, ja nebija apdrošināts
A6: 1 | B6: Ceļš Naudaskalns – Ozolsala, Balvu pagasts, Balvu novads, 3,2 km | C6: Grāvju tīrīšana un caurtekas gala attīrīšana, Izskalojuma aizbēršana un noplanēšana atjaunojot nepieciešamo nogāzes slīpumu, caurtekas ieteces gala nogāžu nostiprināšana ar laukakmeņiem, ceļa seguma atjaunošana izskalojuma vietā ar drupinātas grants materiālu fr.0/32 H-vid 20cm biezumā, iestrādāto materiālu blīvējot ar ceļa veltni. | D6: 2155.99 | E6: =D6*30% -> 646.797 | F6: =D6-E6 -> 1509.193 | G6: x | H6: 31.07.2025. apsekošanas akts, apsekošanā piedalījās būvvaldes vadītāja vietnieks, pievienotas fotogrāfijas, Iesniegts 03.09.2025. apliecinājums no sertificēta speciālista, sertif. Nr.4-04280 | I6: 31.07.2025. SIA "LIEPAS Z" tāme. Iesniegts 03.09.2025. apliecinājums no sertificēta speciālista, sertif. Nr.4-04280 | J6: Pamatlīdzekļu uzskaites kartīte Nr. B-2453, Nr. B-2452 | K6: Balvu novada pašvaldības Balvu novada domes 28.08.2025. lēmums Nr.372 "Par pašvaldības līdzfinansējuma nodrošināšanu ilgstošu un spēcīgu lietavu laikā radīto postījumu novēršanai". 08.09.2025. Balvu novada pašvaldības paskaidrojums Nr.BNP/2025/5.6/3042/N | L6: 5. pielikumā norāda, ka objekti nebija apdrošināti
A7: 2 | B7: Ceļš Naudaskalns – Silamala, Balvu pagasts, Balvu novads, 1,08 km | C7: Esošās dzelzbetona caurtekas demontāža Plastmasas caurtekas ar D=0,8m iebūve, esošo grāvju tīrīšana pie cartekas izteces un ieteces galiem izlīdzinot grunti, ceļa seguma atjaunošana caurtekas izbūves vietā ar drupinātas grants materiālu fr.0/32 H-vid 20cm biezumā, iestrādāto materiālu blīvējot. | D7: 6140.88 | E7: =D7*30% -> 1842.264 | F7: =D7-E7 -> 4298.616 | G7: x | H7: 31.07.2025. apsekošanas akts, apsekošanā piedalījās būvvaldes vadītāja vietnieks, pievienotas fotogrāfijas, Iesniegts 03.09.2025. apliecinājums no sertificēta speciālista, sertif. Nr.4-04280 | I7: 31.07.2025. SIA "LIEPAS Z" tāme. Iesniegts 03.09.2025. apliecinājums no sertificēta speciālista, sertif. Nr.4-04280 | J7: Pamatlīdzekļu uzskaites kartīte Nr. B-4907
A8: 3 | B8: Ceļš Silakrogs – Lazdukalns, Bērzkalnes pagasts, Balvu novads, 1,150 km - 1,190 km | C8: Izskalojuma pielīdzināšana un blīvēšana, ceļa seguma atjaunošana izskalojuma vietā ar drupinātas grants materiālu fr.0/32 H-vid 20cm biezumā | D8: 1926.05 | E8: =D8*30% -> 577.815 | F8: =D8-E8 -> 1348.235 | G8: x | H8: 31.07.2025. apsekošanas akts, apsekošanā piedalījās būvvaldes vadītāja vietnieks, pievienota fotogrāfija, Iesniegts 03.09.2025. apliecinājums no sertificēta speciālista, sertif. Nr.4-04280 | I8: 31.07.2025. SIA "LIEPAS Z" tāme. Iesniegts 03.09.2025. apliecinājums no sertificēta speciālista, sertif. Nr.4-04280 | J8: Pamatlīdzekļu uzskaites kartīte Nr. B-7897
A9: 4 | B9: Ceļš Sita – Briedīši, Kubulu pagasts, Balvu novads, 1,540km | C9: Esōšās dzelzbetona caurtekas demontāža, plastmasas caurtekas ar D=1,0m iebūve, esošo grāvju tīrīšana pie cartekas izteces un ieteces galiem izlīdzinot grunti, ceļa seguma atjaunošana caurtekas izbūves vietā ar drupinātas grants materiālu fr.0/32 H-vid 20cm biezumā, caurtekas ieteces/izteces galu nogāžu nostiprināšana ar laukakmeņiem uz velta ģeotekstila materiāla | D9: 13211.85 | E9: =D9*30% -> 3963.555 | F9: =D9-E9 -> 9248.295 | G9: x | H9: 31.07.2025. apsekošanas akts, apsekošanā piedalījās būvvaldes vadītāja vietnieks, pievienota fotogrāfija, Iesniegts 03.09.2025. apliecinājums no sertificēta speciālista, sertif. Nr.4-04280 | I9: 31.07.2025. SIA "LIEPAS Z" tāme. Iesniegts 03.09.2025. apliecinājums no sertificēta speciālista, sertif. Nr.4-04280 | J9: Pamatlīdzekļu uzskaites kartīte Nr. B-5247
A10: 5 | B10: Ceļš Stacija – Celmene, Kubulu pagasts, Balvu novads, 1,240 km | C10: Esōšās dzelzbetona caurtekas demontāža, plastmasas caurtekas ar D=0,8m iebūve, esošo grāvju tīrīšana pie cartekas izteces un ieteces galiem izlīdzinot grunti, ceļa seguma atjaunošana caurtekas izbūves vietā ar drupinātas grants materiālu fr.0/32 H-vid 20cm biezumā | D10: 5788.77 | E10: =D10*30% -> 1736.631 | F10: =D10-E10 -> 4052.139 | G10: x | H10: 31.07.2025. apsekošanas akts, apsekošanā piedalījās būvvaldes vadītāja vietnieks, pievienota fotogrāfija, Iesniegts 03.09.2025. apliecinājums no sertificēta speciālista, sertif. Nr.4-04280 | I10: 31.07.2025. SIA "LIEPAS Z" tāme. Iesniegts 03.09.2025. apliecinājums no sertificēta speciālista, sertif. Nr.4-04280 | J10: Pamatlīdzekļu uzskaites kartīte Nr. B-5250
A11: 6 | B11: Ceļš Steķentava – Pērkoni (pie atbalsta mājas "Brīvupes"), Kubulu pagasts, Balvu novads, 1,610 km | C11: Esōšās dzelzbetona caurtekas demontāža, plastmasas caurtekas ar D=0,8m iebūve, esošo grāvju tīrīšana pie cartekas izteces un ieteces galiem izlīdzinot grunti, ceļa seguma atjaunošana caurtekas izbūves vietā ar drupinātas grants materiālu fr.0/32 H-vid 20cm biezumā, caurtekas ieteces/izteces galu nogāžu nostiprināšana ar laukakmeņiem | D11: 5127.44 | E11: =D11*30% -> 1538.232 | F11: =D11-E11 -> 3589.208 | G11: x | H11: 31.07.2025. apsekošanas akts, apsekošanā piedalījās būvvaldes vadītāja vietnieks, pievienota fotogrāfija, Iesniegts 03.09.2025. apliecinājums no sertificēta speciālista, sertif. Nr.4-04280 | I11: 31.07.2025. SIA "LIEPAS Z" tāme. Iesniegts 03.09.2025. apliecinājums no sertificēta speciālista, sertif. Nr.4-04280 | J11: Pamatlīdzekļu uzskaites kartīte Nr. B-5251
A12: 7 | B12: Ceļš Steķentava – Pērkoni (pagriezienā uz Tutinavas kapiem), Kubulu pagasts, Balvu novads | C12: Esōšās dzelzbetona caurtekas demontāža, plastmasas caurtekas ar D=1,0m iebūve, esošo grāvju tīrīšana pie cartekas izteces un ieteces galiem, ceļa seguma atjaunošana caurtekas izbūves vietā ar drupinātas grants materiālu fr.0/32 H-vid 20cm biezumā, caurtekas ieteces/izteces galu nogāžu nostiprināšana ar laukakmeņiem | D12: 9347.48 | E12: =D12*30% -> 2804.244 | F12: =D12-E12 -> 6543.236 | G12: x | H12: 31.07.2025. apsekošanas akts, apsekošanā piedalījās būvvaldes vadītāja vietnieks, pievienotas fotogrāfijas, Iesniegts 03.09.2025. apliecinājums no sertificēta speciālista, sertif. Nr.4-04280 | I12: 31.07.2025. SIA "LIEPAS Z" tāme. Iesniegts 03.09.2025. apliecinājums no sertificēta speciālista, sertif. Nr.4-04280 | J12: Pamatlīdzekļu uzskaites kartīte Nr. B-5251
A13: 8 | B13: Ceļš Stirnusala – Sita (Dzirlas upes caurteka), Kubulu pagasts, Balvu novads | C13: Caurtekas remonts/atjaunošana | D13: 1797.02 | E13: =D13*30% -> 539.106 | F13: =D13-E13 -> 1257.914 | G13: x | H13: 31.07.2025. apsekošanas akts, apsekošanā piedalījās būvvaldes vadītāja vietnieks, pievienota fotogrāfija, Iesniegts 03.09.2025. apliecinājums no sertificēta speciālista, sertif. Nr.4-04280 | I13: 31.07.2025. lokālā tāme Iesniegts 03.09.2025. apliecinājums no sertificēta speciālista, sertif. Nr.4-04280 | J13: Pamatlīdzekļu uzskaites kartīte Nr. B-5249
A14: 9 | B14: Ceļš Gabačova – Lazdulejas pagasta robeža, Šķilbēnu pagasts, Balvu novads, 1,190 km | C14: Grāvju tīrīšana un caurtekas gala attīrīšana, izskalojuma aizbēršana un noplanēšana, caurtekas ieteces gala nogāžu nostiprināšana ar laukakmeņiem, ceļa seguma atjaunošana izskalojuma vietā ar drupinātas grants materiālu | D14: 3369.36 | E14: =D14*30% -> 1010.808 | F14: =D14-E14 -> 2358.552 | G14: x | H14: 31.07.2025. apsekošanas akts, apsekošanā piedalījās būvvaldes vadītāja vietnieks, pievienotas fotogrāfijas, Iesniegts 03.09.2025. apliecinājums no sertificēta speciālista, sertif. Nr.4-04280 | I14: 31.07.2025. SIA "LIEPAS Z" tāme. Iesniegts 03.09.2025. apliecinājums no sertificēta speciālista, sertif. Nr.4-04280 | J14: Pamatlīdzekļu uzskaites kartīte Nr. V-Š227
A15: 10 | B15: Vides objekts "Ūdens", Garnizona iela 20, Viļaka, Balvu novads | C15: 11.07.2025. vētra Vides objekta atjaunošana | D15: 10000 | E15: =D15*30% -> 3000 | F15: =D15-E15 -> 7000 | G15: x | H15: 31.07.2025. apsekošanas akts, apsekošanā piedalījās būvvaldes vadītāja vietnieks, pievienotas fotogrāfijas, Iesniegts 03.09.2025. apliecinājums no sertificēta speciālista, sertif. Nr.4-04280 | I15: 31.07.2025. SIA "DJA" sagatavotas atjaunošanas izmaksas Iesniegts 03.09.2025. apliecinājums no sertificēta speciālista, sertif. Nr.4-04280 | J15: Pamatlīdzekļu uzskaites kartīte Nr. V-N886
A16: 11 | B16: Pontona tilts "Viļakas ezera taka", Liepnas iela 44A un Liepnas iela 48A, Viļaka, Balvu novads | C16: Pontona tilta atjaunošana | D16: 1178.54 | E16: =D16*30% -> 353.562 | F16: =D16-E16 -> 824.978 | G16: x | H16: 31.07.2025. apsekošanas akts, apsekošanā piedalījās būvvaldes vadītāja vietnieks, pievienotas fotogrāfijas, Iesniegts 03.09.2025. apliecinājums no sertificēta speciālista, sertif. Nr.4-04280 | I16: SIA "Pontoni.LV" 31.07.2025. cenu piedāvājums Nr.0731 | J16: Pamatlīdzekļu uzskaites kartīte Nr. V-N1196
A17: 12 | B17: Viļakas vidusskola, Pils iela 11, Viļaka, Balvu novads | C17: Ēkas jumta, fasādes un iekštelpu atjaunošana/remonts | D17: 41446.74 | E17: =D17*30% -> 12434.022 | F17: =D17-E17 -> 29012.718 | G17: x | H17: 07.08.2025. apsekošanas akts, apsekošanā piedalījās būvvaldes vadītāja vietnieks, pievienotas fotogrāfijas, Iesniegts 03.09.2025. apliecinājums no sertificēta speciālista, sertif. Nr.4-04280 | I17: 08.08.2025. tāme lietusūdens bojājumu novēršana telpās un avārijas stāvokļa novēršana ēkas jumtā (seguma atjaunošana), sagatavoja sertificēts speciālists, sertif. Nr. 4-04280 | J17: Pamatlīdzekļu uzskaites kartīte Nr. V-1
A18: 13 | B18: Ceļš Lejastači – Fabriki, Šķilbēnu pagasts, Balvu novads, 0,760 km | C18: Grāvju tīrīšana un caurtekas gala attīrīšana lieko materiālu, izskalojuma aizbēršana un noplanēšana, caurtekas ieteces gala nogāžu nostiprināšana ar laukakmeņiem, ceļa seguma atjaunošana izskalojuma vietā ar drupinātas grants materiālu | D18: 2979.93 | E18: =D18*30% -> 893.979 | F18: =D18-E18 -> 2085.951 | G18: x | H18: 31.07.2025. apsekošanas akts, apsekošanā piedalījās būvvaldes vadītāja vietnieks, pievienotas fotogrāfijas, Iesniegts 03.09.2025. apliecinājums no sertificēta speciālista, sertif. Nr.4-04280 | I18: 31.07.2025. SIA "LIEPAS Z" tāme. Iesniegts 03.09.2025. apliecinājums no sertificēta speciālista, sertif. Nr.4-04280 | J18: Pamatlīdzekļu uzskaites kartīte Nr. V-Š217
A19: 14 | B19: Andrakalna kapi, Kubulu pagasts, Balvu novads | C19: 15.07.2025. vētra Nozāģēt un izvest izgāztos un nolauztos kokus no kapu teritorijas. Atjaunot sētu ap kapu teritoriju. | D19: 800 | E19: =D19*30% -> 240 | F19: =D19-E19 -> 560 | G19: x | H19: 31.07.2025. apsekošanas akts, apsekošanā piedalījās būvvaldes vadītāja vietnieks, pievienotas fotogrāfijas, Iesniegts 03.09.2025. apliecinājums no sertificēta speciālista, sertif. Nr.4-04280 | I19: 31.07.2025. Tāme-darāmo darbu saraksts. Žoga atjaunošanai materiālu iegādes izmaksas. Iesniegts 03.09.2025. apliecinājums no sertificēta speciālista, sertif. Nr.4-04280 | J19: Pamatlīdzekļu uzskaites kartīte Nr. B-5313 | M19: Koku sazāģēšana un izvešana nav atbalstāma no LNG
C20: KOPĀ: | D20: =SUM(D6:D19) -> 105270.05 | E20: =SUM(E6:E19) -> 31581.015 | F20: =SUM(F6:F19) -> 73689.035
B23: Zaudējumi kopā, euro | C23: 105270
B24: Pašvaldības līdzfinansējums, euro | C24: 31581
B25: No LNG atbalstāmais finansējums, euro | C25: =C23-C24 -> 73689

Sheet Kopā
A2: Pašvaldība | B2: Izdevumi kopā, euro | C2: Pašvaldības līdzfinansējums, euro | D2: No LNG nepieciešams, euro
A3: Alūksnes novada pašvaldība | B3: ='Alūksnes novads'!C42 -> 70757 | C3: ='Alūksnes novads'!C43 -> 21227 | D3: =B3-C3 -> 49530
A4: Augšdaugavas novada pašvaldība | B4: ='Augšdaugavas novads_1'!C26+'Augšdaugavas novads_2'!C24 -> 173321 | C4: ='Augšdaugavas novads_1'!C27+'Augšdaugavas novads_2'!C25 -> 51997 | D4: =B4-C4 -> 121324
A5: Balvu novada pašvaldība | B5: ='Balvu novads'!C23 -> 105270 | C5: ='Balvu novads'!C24 -> 31581 | D5: =B5-C5 -> 73689
A6: Kopā: | B6: =SUM(B3:B5) -> 349348 | C6: =SUM(C3:C5) -> 104805 | D6: =SUM(D3:D5) -> 244543
