Workbook

Sheet Augšdaugavas novads
A2: Augšdaugavas novada pašvaldības 2025. gada 10. - 11. jūlijā lietavu laikā radītie postījumi
A3: Nr. p.k. | B3: Objekta nosaukums un adrese | C3: Veicamie pasākumi/darbi | D3: Postījumu novēršanai nepieciešamā finansējuma apmērs, euro | E3: Pašvaldības līdz- finansējums, euro | F3: No valsts budžeta programmas "Līdzekļi neparedzētiem gadījumiem" nepieciešamā finansējuma apmērs, euro | G3: Pašvaldības iesniegtie finansiālā pamatojuma dokumenti | M3: Piezīmes, komentāri
G4: MK noteikumu Nr.421 5.pielikums | H4: apsekošanas akts (zaudējumu novērtējums vai dokumenti, kas apliecina notikušo faktu), vai ir pievienota fotogrāfija/jas | I4: pieprasīto līdzekļu aprēķins/tāme (veicamo darbu/ pakalpojumu apraksts, nepieciešamo materiālu daudzums, cena, atalgojums un paredzamo nodokļu samaksa) | J4: apliecinājums, ka infrastruktūras objekts ir pašvaldības īpašumā vai valdījumā (pamatlīdzekļu uzskaites kartīte vai zemesgrāmatas apliecinājums) | K4: informācija par pašvaldības līdzfinansējuma apmēru objektam radīto zaudējumu novēršanai (domes lēmums) | L4: apliecinājums, ka par objektu pašvaldībai nepienākas vai pienākas apdrošināšanas atlīdzība + skaidrojums, ja nebija apdrošināts
A5: 1 | B5: Ceļš Ambeļi - Graiži, Ambeļu pagasts, Augšdaugavas novads, posmā 1,700 km - 3,880 km | C5: Nesaistīta seguma ceļa klātnes izskalojumu un bedru labošana ar drupinātas grants maisījumu 0/32s | D5: 16391.87 | E5: =D5*30% -> 4917.561 | F5: =D5-E5 -> 11474.309 | G5: x | H5: 14.07.2025. akts Nr.1, piedalījās attiecīgās jomas speciālists, pievienotas fotogrāfijas | I5: Atbilstoši 29.07.2025. sarunu procedūras rezultātiem, iepirkuma identifikācijas Nr. ANPCP 2025/59SP, Darbu apjomu saraksts Nr.1 | J5: Pamatlīdzekļu uzskaites kartīte Nr. PL0001836/1, Nr. PL0001836/2, Nr. PL0001836/3, Nr. PL0001836/4, Nr. PL0001836/5 | K5: Augšdaugavas novada domes 29.07.2025. lēmums Nr. 28 "Par 2025.gada 10.-11.jūlija lietavu laikā radīto postījumu novēršanu" | L5: Pašvaldība 5. pielikumā norāda, ka pašvaldības ceļi un ielas nav apdrošināti, jo to apdrošināšana pret dabas stihiju radītiem zaudējumiem nav finansiāli samērīga attiecībā pret pieejamo budžetu un šāda veida infrastruktūrai piedāvātajiem apdrošināšanas nosacījumiem. Turklāt daudziem vietējas nozīmes ceļiem, īpaši grants seguma ceļiem, nav pieejami komerciāli izdevīgi apdrošināšanas piedāvājumi, vai arī tie paredz ļoti augstas pašriska summas un izņēmumus, kas būtiski ierobežo iespēju saņemt atlīdzību. | M5: NAV ATBALSTĀMS
A6: 2 | B6: Ceļš Ambeļi - Jaunaiskrūgs, Ambeļu pagasts, Augšdaugavas novads, posmos 0,860 km - 0,940 km, 1,290 km - 1,390 km, 3,030 km - 3,110 km, 3,370 km - 3,450 km | C6: Nesaistīta seguma ceļa klātnes izskalojumu un bedru labošana ar drupinātas grants maisījumu 0/32s | D6: 11616.85 | E6: =D6*30% -> 3485.055 | F6: =D6-E6 -> 8131.795 | G6: x | H6: 14.07.2025. akts Nr.2, piedalījās attiecīgās jomas speciālists, pievienotas fotogrāfijas | I6: Atbilstoši 29.07.2025. sarunu procedūras rezultātiem, iepirkuma identifikācijas Nr. ANPCP 2025/59SP, Darbu apjomu saraksts Nr.2 | J6: Pamatlīdzekļu uzskaites kartīte Nr. PL0011357 | K6: Augšdaugavas novada domes 29.07.2025. lēmums Nr. 28 "Par 2025.gada 10.-11.jūlija lietavu laikā radīto postījumu novēršanu"
A7: 3 | B7: Ceļš Ambeļi - Ragačovka, Ambeļu pagasts, Augšdaugavas novads, posmos 0,250 km - 0,500 km, 0,600 km - 0,700 km, 0,780 km - 0,800 km, 0,960 km - 1,060 km | C7: Nesaistīta seguma ceļa klātnes izskalojumu un bedru labošana ar drupinātas grants maisījumu 0/32s | D7: 10547.81 | E7: =D7*30% -> 3164.343 | F7: =D7-E7 -> 7383.467 | G7: x | H7: 14.07.2025. akts Nr.3, piedalījās attiecīgās jomas speciālists, pievienotas fotogrāfijas | I7: Atbilstoši 29.07.2025. sarunu procedūras rezultātiem, iepirkuma identifikācijas Nr. ANPCP 2025/59SP, Darbu apjomu saraksts Nr.3 | J7: Pamatlīdzekļu uzskaites kartīte Nr. PL0011356 | K7: Augšdaugavas novada domes 29.07.2025. lēmums Nr. 28 "Par 2025.gada 10.-11.jūlija lietavu laikā radīto postījumu novēršanu" | M7: NAV ATBALSTĀMS
A8: 4 | B8: Ceļš Augškalne - Škute - Aglonas pagasts, Ambeļu pagasts, Augšdaugavas novads, posmā 1,000 km - 1,800 km | C8: Nesaistīta seguma ceļa klātnes izskalojumu un bedru labošana ar drupinātas grants maisījumu 0/32s | D8: 13683.65 | E8: =D8*30% -> 4105.095 | F8: =D8-E8 -> 9578.555 | G8: x | H8: 14.07.2025. akts Nr.4, piedalījās attiecīgās jomas speciālists, pievienotas fotogrāfijas | I8: Atbilstoši 29.07.2025. sarunu procedūras rezultātiem, iepirkuma identifikācijas Nr. ANPCP 2025/59SP, Darbu apjomu saraksts Nr.4 | J8: Pamatlīdzekļu uzskaites kartīte Nr. PL0011364, Nr. PL0011384 | K8: Augšdaugavas novada domes 29.07.2025. lēmums Nr. 28 "Par 2025.gada 10.-11.jūlija lietavu laikā radīto postījumu novēršanu" | M8: NAV ATBALSTĀMS
A9: 5 | B9: Ceļš Mīžusāta - Lauku Ļāperi, Ambeļu pagasts, Augšdaugavas novads, posmos 0,660 km - 0,760 km, 0,900 km - 1,050 km | C9: Nesaistīta seguma ceļa klātnes izskalojumu un bedru labošana ar drupinātas grants maisījumu 0/32s | D9: 5701.52 | E9: =D9*30% -> 1710.456 | F9: =D9-E9 -> 3991.064 | G9: x | H9: 14.07.2025. akts Nr.5, piedalījās attiecīgās jomas speciālists, pievienotas fotogrāfijas | I9: Atbilstoši 29.07.2025. sarunu procedūras rezultātiem, iepirkuma identifikācijas Nr. ANPCP 2025/59SP, Darbu apjomu saraksts Nr.5 | J9: Pamatlīdzekļu uzskaites kartīte Nr. PL0011359 | K9: Augšdaugavas novada domes 29.07.2025. lēmums Nr. 28 "Par 2025.gada 10.-11.jūlija lietavu laikā radīto postījumu novēršanu"
A10: 6 | B10: Ceļš Daniševka - Gaju c. - Kebži, Višķu pagasts, Augšdaugavas novads, posmos 0,050 km - 0,150 km, 0,400 km - 0,600 km, 1,050 km - 1,150 km, 1,430 km - 1,530 km, 1,700 km - 1,800 km | C10: Bojājumu novēršana, nesaistīta seguma ceļa klātnes iesēdumu un bedru labošana ar drupinātas grants maisījumu 0/32s | D10: 17104.56 | E10: =D10*30% -> 5131.368 | F10: =D10-E10 -> 11973.192 | G10: x | H10: 14.07.2025. akts Nr._1, piedalījās attiecīgās jomas speciālists, pievienotas fotogrāfijas | I10: Atbilstoši 29.07.2025. sarunu procedūras rezultātiem, iepirkuma identifikācijas Nr. ANPCP 2025/59SP, Darbu apjomu saraksts Nr.6 | J10: Pamatlīdzekļu uzskaites kartīte Nr. PL0031659 | K10: Augšdaugavas novada domes 29.07.2025. lēmums Nr. 28 "Par 2025.gada 10.-11.jūlija lietavu laikā radīto postījumu novēršanu"
A11: 7 | B11: Ceļš Peipiņi - Lociki - Deiki - Brenči, Všķu pagasts, Augšdaugavas novads, posmos 0,500 km - 0,700 km, 0,800 km - 0,830 km, 1,150 km - 1,250 km, 1,350 km - 1,550 km | C11: Bojājumu novēršana, nesaistīta seguma ceļa klātnes iesēdumu un bedru labošana ar drupinātas grants maisījumu 0/32s | D11: 15109.03 | E11: =D11*30% -> 4532.709 | F11: =D11-E11 -> 10576.321 | G11: x | H11: 14.07.2025. akts Nr.2, piedalījās attiecīgās jomas speciālists, pievienotas fotogrāfijas | I11: Atbilstoši 29.07.2025. sarunu procedūras rezultātiem, iepirkuma identifikācijas Nr. ANPCP 2025/59SP, Darbu apjomu saraksts Nr.7 | J11: Pamatlīdzekļu uzskaites kartīte Nr. PL0031542 | K11: Augšdaugavas novada domes 29.07.2025. lēmums Nr. 28 "Par 2025.gada 10.-11.jūlija lietavu laikā radīto postījumu novēršanu"
A12: 8 | B12: Ceļš Antāni - Vīgantu ciems, Višķu pagasts, Augšdaugavas novads, posmos 0,050 km - 0,150 km, 0,400 km - 0,600 km, 1,050 km - 1,150 km, 1,430 km - 1,530 km, 1,700 km - 1,800 km | C12: Bojājumu novēršana, nesaistīta seguma ceļa klātnes iesēdumu un bedru labošana ar drupinātas grants maisījumu 0/32s | D12: 17104.56 | E12: =D12*30% -> 5131.368 | F12: =D12-E12 -> 11973.192 | G12: x | H12: 14.07.2025. akts Nr._3, piedalījās attiecīgās jomas speciālists, pievienotas fotogrāfijas | I12: Atbilstoši 29.07.2025. sarunu procedūras rezultātiem, iepirkuma identifikācijas Nr. ANPCP 2025/59SP, Darbu apjomu saraksts Nr.8 | J12: Pamatlīdzekļu uzskaites kartīte Nr. PL0031559, Nr. PL0031560 | K12: Augšdaugavas novada domes 29.07.2025. lēmums Nr. 28 "Par 2025.gada 10.-11.jūlija lietavu laikā radīto postījumu novēršanu"
A13: 9 | B13: Ceļš Grāviņi - Vecie Tokari, Višķu pagasts, Augšdaugavas novads, posmā 0,300 km - 0,350 km | C13: Bojājumu novēršana, nesaistīta seguma ceļa klātnes iesēdumu un bedru labošana ar drupinātas grants maisījumu 0/32s | D13: 1710.46 | E13: =D13*30% -> 513.138 | F13: =D13-E13 -> 1197.322 | G13: x | H13: 14.07.2025. akts Nr._4, piedalījās attiecīgās jomas speciālists, pievienotas fotogrāfijas | I13: Atbilstoši 29.07.2025. sarunu procedūras rezultātiem, iepirkuma identifikācijas Nr. ANPCP 2025/59SP, Darbu apjomu saraksts Nr.10 | J13: Pamatlīdzekļu uzskaites kartīte Nr. PL0002849/3, Nr. PL0002849/1, Nr. PL0002849/2 | K13: Augšdaugavas novada domes 29.07.2025. lēmums Nr. 28 "Par 2025.gada 10.-11.jūlija lietavu laikā radīto postījumu novēršanu" | M13: NAV ATBALSTĀMS
A14: 10 | B14: Ceļš Smaņi - Plotupi, Višķu pagasts, Augšdaugavas novads, posmā 0,250 km - 0,350 km | C14: Bojājumu novēršana, nesaistīta seguma ceļa klātnes iesēdumu un bedru labošana ar drupinātas grants maisījumu 0/32s, caurtekas posma un uzgaļu bojājumu novēršana | D14: 5371.19 | E14: =D14*30% -> 1611.357 | F14: =D14-E14 -> 3759.833 | G14: x | H14: 14.07.2025. akts Nr._5, piedalījās attiecīgās jomas speciālists, pievienotas fotogrāfijas | I14: Atbilstoši 29.07.2025. sarunu procedūras rezultātiem, iepirkuma identifikācijas Nr. ANPCP 2025/59SP, Darbu apjomu saraksts Nr.11 | J14: Pamatlīdzekļu uzskaites kartīte Nr. PL0031611 | K14: Augšdaugavas novada domes 29.07.2025. lēmums Nr. 28 "Par 2025.gada 10.-11.jūlija lietavu laikā radīto postījumu novēršanu"
A15: 11 | B15: Ceļš Smaņi-Ģuļāni, Višķu pagasts, Augšdaugavas novads, posmā 0,580 km - 0,600 km | C15: Bojājumu novēršana, nesaistīta seguma ceļa klātnes iesēdumu un bedru labošana ar drupinātas grants maisījumu 0/32s, caurtekas posma un uzgaļu bojājumu novēršana | D15: 3661.46 | E15: =D15*30% -> 1098.438 | F15: =D15-E15 -> 2563.022 | G15: x | H15: 14.07.2025. akts Nr.6, piedalījās attiecīgās jomas speciālists, pievienota fotogrāfija | I15: Atbilstoši 29.07.2025. sarunu procedūras rezultātiem, iepirkuma identifikācijas Nr. ANPCP 2025/59SP, Darbu apjomu saraksts Nr.12 | J15: Pamatlīdzekļu uzskaites kartīte Nr. PL0031594 | K15: Augšdaugavas novada domes 29.07.2025. lēmums Nr. 28 "Par 2025.gada 10.-11.jūlija lietavu laikā radīto postījumu novēršanu"
A16: 12 | B16: Ceļš Kalna Višķi - Tabūni - Ļadi - Makarova, Višķu pagasts, Augšdaugavas novads, posmos 0,970 km - 1,070 km, 1,200 km - 1,320 km, 1,900 km - 2,000 km | C16: Bojājumu novēršana, nesaistīta seguma ceļa klātnes iesēdumu un bedru labošana ar drupinātas grants maisījumu 0/32s | D16: 9122.43 | E16: =D16*30% -> 2736.729 | F16: =D16-E16 -> 6385.701 | G16: x | H16: 14.07.2025. akts Nr.7, piedalījās attiecīgās jomas speciālists, pievienotas fotogrāfijas | I16: Atbilstoši 29.07.2025. sarunu procedūras rezultātiem, iepirkuma identifikācijas Nr. ANPCP 2025/59SP, Darbu apjomu saraksts Nr.9 | J16: Pamatlīdzekļu uzskaites kartīte Nr. PL0031685, Nr. PL0031686 | K16: Augšdaugavas novada domes 29.07.2025. lēmums Nr. 28 "Par 2025.gada 10.-11.jūlija lietavu laikā radīto postījumu novēršanu"
A17: 13 | B17: Ceļš Grāviņi - Nārbuti, Višķu pagasts, Augšdaugavas novads, posmā 0,700 km - 0,720 km | C17: Bojājumu novēršana, nesaistīta seguma ceļa klātnes iesēdumu un bedru labošana ar drupinātas grants maisījumu 0/32s, caurtekas posma un uzgaļu bojājumu novēršana | D17: 3792.14 | E17: =D17*30% -> 1137.642 | F17: =D17-E17 -> 2654.498 | G17: x | H17: 14.07.2025. akts Nr.8, piedalījās attiecīgās jomas speciālists, pievienotas fotogrāfijas | I17: Atbilstoši 29.07.2025. sarunu procedūras rezultātiem, iepirkuma identifikācijas Nr. ANPCP 2025/59SP, Darbu apjomu saraksts Nr.16 | J17: Pamatlīdzekļu uzskaites kartīte Nr. PL0031526 | K17: Augšdaugavas novada domes 29.07.2025. lēmums Nr. 28 "Par 2025.gada 10.-11.jūlija lietavu laikā radīto postījumu novēršanu"
A18: 14 | B18: Ceļš VVLT - KalnaVišķi, Višķu pagasts, Augšdaugavas novads, posmā 1,150 km - 1,300 km | C18: Bojājumu novēršana, nesaistīta seguma ceļa klātnes iesēdumu un bedru labošana ar drupinātas grants maisījumu 0/32s | D18: 3420.91 | E18: =D18*30% -> 1026.273 | F18: =D18-E18 -> 2394.637 | G18: x | H18: 14.07.2025. akts Nr.9, piedalījās attiecīgās jomas speciālists, pievienotas fotogrāfijas | I18: Atbilstoši 29.07.2025. sarunu procedūras rezultātiem, iepirkuma identifikācijas Nr. ANPCP 2025/59SP, Darbu apjomu saraksts Nr.14 | J18: Pamatlīdzekļu uzskaites kartīte Nr. PL0031509 | K18: Augšdaugavas novada domes 29.07.2025. lēmums Nr. 28 "Par 2025.gada 10.-11.jūlija lietavu laikā radīto postījumu novēršanu"
A19: 15 | B19: Ceļš Mozuļi - Kalna Višķi, Višķu pagasts, Augšdaugavas novads, posmā 0,000 km - 0,200 km | C19: Bojājumu novēršana, nesaistīta seguma ceļa klātnes iesēdumu un bedru labošana ar drupinātas grants maisījumu 0/32s | D19: 3420.91 | E19: =D19*30% -> 1026.273 | F19: =D19-E19 -> 2394.637 | G19: x | H19: 14.07.2025. akts Nr.11, piedalījās attiecīgās jomas speciālists, pievienota fotogrāfija | I19: Atbilstoši 29.07.2025. sarunu procedūras rezultātiem, iepirkuma identifikācijas Nr. ANPCP 2025/59SP, Darbu apjomu saraksts Nr.15 | J19: Pamatlīdzekļu uzskaites kartīte Nr. PL0031622 | K19: Augšdaugavas novada domes 29.07.2025. lēmums Nr. 28 "Par 2025.gada 10.-11.jūlija lietavu laikā radīto postījumu novēršanu"
A20: 16 | B20: Ceļš Maskovskaja - Tabūni, Višķu pagasts, Augšdaugavas novads, posmos 0,100 km - 0,200 km, 0,200 km - 0,300 km | C20: Bojājumu novēršana, nesaistīta seguma ceļa klātnes iesēdumu un bedru labošana ar drupinātas grants maisījumu 0/32s | D20: 4561.22 | E20: =D20*30% -> 1368.366 | F20: =D20-E20 -> 3192.854 | G20: x | H20: 14.07.2025. akts Nr.12, piedalījās attiecīgās jomas speciālists, pievienota fotogrāfija | I20: Atbilstoši 29.07.2025. sarunu procedūras rezultātiem, iepirkuma identifikācijas Nr. ANPCP 2025/59SP, Darbu apjomu saraksts Nr.13 | J20: Pamatlīdzekļu uzskaites kartīte Nr. PL0031621 | K20: Augšdaugavas novada domes 29.07.2025. lēmums Nr. 28 "Par 2025.gada 10.-11.jūlija lietavu laikā radīto postījumu novēršanu"
A21: 17 | B21: Ceļš Rovnica - Žartmuiža, Dubnas pagasts, Augšdaugavas novads, posmā 0,420 km - 0,550 km | C21: Caurtekas attīrīšana no grants un augsnes sanesumiem, novadgrāvja attīrīšana no sanesumiem un nesaistītu seguma ceļa klātnes izskalojuma labošana ar drupinātas grants maisījumu 0/32s | D21: 4418.68 | E21: =D21*30% -> 1325.604 | F21: =D21-E21 -> 3093.076 | G21: x | H21: 14.07.2025. akts Nr.2, piedalījās attiecīgās jomas speciālists, pievienotas fotogrāfijas | I21: Atbilstoši 29.07.2025. sarunu procedūras rezultātiem, iepirkuma identifikācijas Nr. ANPCP 2025/59SP, Darbu apjomu saraksts Nr.17 | J21: Pamatlīdzekļu uzskaites kartīte Nr. PL0005897 | K21: Augšdaugavas novada domes 29.07.2025. lēmums Nr. 28 "Par 2025.gada 10.-11.jūlija lietavu laikā radīto postījumu novēršanu"
A22: 18 | B22: Ceļš Dubna - Bicāni - Zeiļi - Medupes upe, Dubnas pagasts, Augšdaugavas novads, posmā 1,700 km - 1,800 km | C22: Caurtekas attīrīšana no grants un augsnes sanesumiem, novadgrāvja attīrīšana no sanesumiem un nesaistītu seguma ceļa klātnes izskalojuma labošana ar drupinātas grants maisījumu 0/32s | D22: 4276.14 | E22: =D22*30% -> 1282.842 | F22: =D22-E22 -> 2993.298 | G22: x | H22: 14.07.2025. akts Nr.3, piedalījās attiecīgās jomas speciālists, pievienotas fotogrāfijas | I22: Atbilstoši 29.07.2025. sarunu procedūras rezultātiem, iepirkuma identifikācijas Nr. ANPCP 2025/59SP, Darbu apjomu saraksts Nr.18 | J22: Pamatlīdzekļu uzskaites kartīte Nr. PL0002867/2, Nr. PL0002867/1 | K22: Augšdaugavas novada domes 29.07.2025. lēmums Nr. 28 "Par 2025.gada 10.-11.jūlija lietavu laikā radīto postījumu novēršanu"
A23: 19 | B23: Ceļš Svenči - Jauzemnieki - Aščuki - Kutki - Vilki, Dubnas pagasts, Augšdaugavas novads, posmā 0,740 km - 0,840 km | C23: Caurtekas attīrīšana no saplūdušās grants, caurtekas atjaunošana, iesēduma aizbēršana un nesaistīta seguma ceļa klātnes labošana ar drupinātas grants maisījumu 0/32s | D23: 10932.11 | E23: =D23*30% -> 3279.633 | F23: =D23-E23 -> 7652.477 | G23: x | H23: 14.07.2025. akts Nr.5, piedalījās attiecīgās jomas speciālists, pievienotas fotogrāfijas | I23: Atbilstoši 29.07.2025. sarunu procedūras rezultātiem, iepirkuma identifikācijas Nr. ANPCP 2025/59SP, Darbu apjomu saraksts Nr.19 | J23: Pamatlīdzekļu uzskaites kartīte Nr. PL0006525, Nr. PL0034243, Nr. PL0005894 | K23: Augšdaugavas novada domes 29.07.2025. lēmums Nr. 28 "Par 2025.gada 10.-11.jūlija lietavu laikā radīto postījumu novēršanu"
A24: 20 | B24: Ceļš Dubna - Petrānu kapi - Valsts mežs, Dubnas pagasts, Augšdaugavas novads, posmos 0,000 km - 0,120 km, 0,520 km - 0,680 km, 0,850 km - 1,020 km, 1,440 km - 1,540 km | C24: Nesaistīta seguma ceļa klātnes izskalojuma labošana ar drupinātas grants maisījumu 0/32s | D24: 15679.18 | E24: =D24*30% -> 4703.754 | F24: =D24-E24 -> 10975.426 | G24: x | H24: 14.07.2025. akts Nr.6, piedalījās attiecīgās jomas speciālists, pievienotas fotogrāfijas | I24: Atbilstoši 29.07.2025. sarunu procedūras rezultātiem, iepirkuma identifikācijas Nr. ANPCP 2025/59SP, Darbu apjomu saraksts Nr.20 | J24: Pamatlīdzekļu uzskaites kartīte Nr. PL0005896 | K24: Augšdaugavas novada domes 29.07.2025. lēmums Nr. 28 "Par 2025.gada 10.-11.jūlija lietavu laikā radīto postījumu novēršanu"
A25: 21 | B25: Ceļš Jaunie Tokari - Borovaja - Valsts mežs, Dubnas pagasts, Augšdaugavas novads, posmā 0,320 km - 0,450 km | C25: Novadgrāvju attīrīšana no sanesumiem un nesaistīta seguma ielas klātnes izskalojuma labošana ar drupinātas grants maisījumu 0/32s | D25: 3705.99 | E25: =D25*30% -> 1111.797 | F25: =D25-E25 -> 2594.193 | G25: x | H25: 14.07.2025. akts Nr.8, piedalījās attiecīgās jomas speciālists, pievienotas fotogrāfijas | I25: Atbilstoši 29.07.2025. sarunu procedūras rezultātiem, iepirkuma identifikācijas Nr. ANPCP 2025/59SP, Darbu apjomu saraksts Nr.22 | J25: Pamatlīdzekļu uzskaites kartīte Nr. PL0005908 | K25: Augšdaugavas novada domes 29.07.2025. lēmums Nr. 28 "Par 2025.gada 10.-11.jūlija lietavu laikā radīto postījumu novēršanu" | M25: NAV ATBALSTĀMS
A26: 22 | B26: Ceļš Bicāni - Narbuti, Dubnas pagasts, Augšdaugavas novads, posmā 0,890 km - 1,06 km | C26: Nesaistīta seguma ielas klātnes izskalojuma labošana ar drupinātas grants maisījumu 0/32s | D26: 3848.53 | E26: =D26*30% -> 1154.559 | F26: =D26-E26 -> 2693.971 | G26: x | H26: 14.07.2025. akts Nr.9, piedalījās attiecīgās jomas speciālists, pievienotas fotogrāfijas | I26: Atbilstoši 29.07.2025. sarunu procedūras rezultātiem, iepirkuma identifikācijas Nr. ANPCP 2025/59SP, Darbu apjomu saraksts Nr.21 | J26: Pamatlīdzekļu uzskaites kartīte Nr. PL0005911 | K26: Augšdaugavas novada domes 29.07.2025. lēmums Nr. 28 "Par 2025.gada 10.-11.jūlija lietavu laikā radīto postījumu novēršanu" | M26: NAV ATBALSTĀMS
A27: 23 | B27: Ceļš Pantelisķi - Krāslavas novada robeža, Biķernieku pagasts, Augšdaugavas novads, posmā 0,590 km - 0,610 km | C27: Caurtekas nomaiņa un nesaistītā seguma ceļa klātnes iesēdumu un bedru labošana ar drupinātas grants maisījumu 0/32s | D27: 2591.34 | E27: =D27*30% -> 777.402 | F27: =D27-E27 -> 1813.938 | G27: x | H27: 14.07.2025. akts Nr.2, piedalījās attiecīgās jomas speciālists, pievienotas fotogrāfijas | I27: Atbilstoši 29.07.2025. sarunu procedūras rezultātiem, iepirkuma identifikācijas Nr. ANPCP 2025/59SP, Darbu apjomu saraksts Nr.23 | J27: Pamatlīdzekļu uzskaites kartīte Nr. PL0011941 | K27: Augšdaugavas novada domes 29.07.2025. lēmums Nr. 28 "Par 2025.gada 10.-11.jūlija lietavu laikā radīto postījumu novēršanu"
A28: 24 | B28: Ceļš L.Krivini - Vaganiski - Biķernieki, Biķernieku pagasts, Augšdaugavas novads, posmos 0,050 km - 0,140 km, 2,510 km - 2,600 km | C28: Nesaistītā seguma ceļa klātnes iesēdumu un bedru labošana ar drupinātas grants maisījumu 0/32s | D28: 3039.52 | E28: =D28*30% -> 911.856 | F28: =D28-E28 -> 2127.664 | G28: x | H28: 14.07.2025. akts Nr.1, piedalījās attiecīgās jomas speciālists, pievienotas fotogrāfijas | I28: Atbilstoši 29.07.2025. sarunu procedūras rezultātiem, iepirkuma identifikācijas Nr. ANPCP 2025/59SP, Darbu apjomu saraksts Nr.24 | J28: Pamatlīdzekļu uzskaites kartīte Nr. PL0011928 | K28: Augšdaugavas novada domes 29.07.2025. lēmums Nr. 28 "Par 2025.gada 10.-11.jūlija lietavu laikā radīto postījumu novēršanu"
A29: 25 | B29: Ceļš Maskaļāni – Vasargelišķi, Naujenes pagasts, Agšdaugavas novads, posmā 0,110 km - 0,240 km | C29: Nesaistītā seguma ceļa klātnes iesēdumu un bedru labošana ar drupinātas grants maisījumu 0/32s, caurtekas tīrīšana | D29: 4627.67 | E29: =D29*30% -> 1388.301 | F29: =D29-E29 -> 3239.369 | G29: x | H29: 14.07.2025. akts Nr.1, piedalījās attiecīgās jomas speciālists, pievienota fotogrāfija | I29: Atbilstoši 29.07.2025. sarunu procedūras rezultātiem, iepirkuma identifikācijas Nr. ANPCP 2025/59SP, Darbu apjomu saraksts Nr.25 | J29: Pamatlīdzekļu uzskaites kartīte Nr. PL0024669 | K29: Augšdaugavas novada domes 29.07.2025. lēmums Nr. 28 "Par 2025.gada 10.-11.jūlija lietavu laikā radīto postījumu novēršanu"
A30: 26 | B30: Ceļš Lociki - Košatniki - Stropica, Naujenes pagasts, Augšdaugavas novads, posmos 0,120 km - 0,200 km, 1,230 km - 1,280 km | C30: Nesaistītā seguma ceļa klātnes iesēdumu un bedru labošana ar drupinātas grants maisījumu 0/32s | D30: 2960.68 | E30: =D30*30% -> 888.204 | F30: =D30-E30 -> 2072.476 | G30: x | H30: 14.07.2025. akts Nr.3, piedalījās attiecīgās jomas speciālists, pievienotas fotogrāfijas | I30: Atbilstoši 29.07.2025. sarunu procedūras rezultātiem, iepirkuma identifikācijas Nr. ANPCP 2025/59SP, Darbu apjomu saraksts Nr.26 | J30: Pamatlīdzekļu uzskaites kartīte Nr. PL0024612 | K30: Augšdaugavas novada domes 29.07.2025. lēmums Nr. 28 "Par 2025.gada 10.-11.jūlija lietavu laikā radīto postījumu novēršanu"
A31: 27 | B31: Ceļš Sargelišķi - Slutišķi - Markova, Naujenes pagasts, Augšdaugavas novads, posmos 0,650 km - 0,920 km, 1,100 km - 1,200 km, 2,270 km - 2,520 km | C31: Nesaistītā seguma ceļa klātnes iesēdumu un bedru labošana ar drupinātas grants maisījumu 0/32s | D31: 14161.31 | E31: =D31*30% -> 4248.393 | F31: =D31-E31 -> 9912.917 | G31: x | H31: 14.07.2025. akts Nr.5, piedalījās attiecīgās jomas speciālists, pievienotas fotogrāfijas | I31: Atbilstoši 29.07.2025. sarunu procedūras rezultātiem, iepirkuma identifikācijas Nr. ANPCP 2025/59SP, Darbu apjomu saraksts Nr.27 | J31: Pamatlīdzekļu uzskaites kartīte Nr. PL0024667, Nr. PL0024681 | K31: Augšdaugavas novada domes 29.07.2025. lēmums Nr. 28 "Par 2025.gada 10.-11.jūlija lietavu laikā radīto postījumu novēršanu"
A32: 28 | B32: Ceļš Vasargeliški - Skatu tornis, Naujenes pagasts, Augšdaugavas novads, posmā 0,360 km - 0,530 km | C32: Nesaistītā seguma ceļa klātnes iesēdumu un bedru labošana ar drupinātas grants maisījumu 0/32s | D32: 3888.12 | E32: =D32*30% -> 1166.436 | F32: =D32-E32 -> 2721.684 | G32: x | H32: 14.07.2025. akts Nr.6, piedalījās attiecīgās jomas speciālists, pievienotas fotogrāfijas | I32: Atbilstoši 29.07.2025. sarunu procedūras rezultātiem, iepirkuma identifikācijas Nr. ANPCP 2025/59SP, Darbu apjomu saraksts Nr.28 | J32: Pamatlīdzekļu uzskaites kartīte Nr. PL0024676 | K32: Augšdaugavas novada domes 29.07.2025. lēmums Nr. 28 "Par 2025.gada 10.-11.jūlija lietavu laikā radīto postījumu novēršanu"
A33: 29 | B33: Ceļš Vasargeliški - Rudāni, Naujenes pagasts, Augšdaugavas novads, posmā 0,070 km - 0,150 km | C33: Nesaistītā seguma ceļa klātnes iesēdumu un bedru labošana ar drupinātas grants maisījumu 0/32s | D33: 1819.21 | E33: =D33*30% -> 545.763 | F33: =D33-E33 -> 1273.447 | G33: x | H33: 14.07.2025. akts Nr.7, piedalījās attiecīgās jomas speciālists, pievienota fotogrāfija | I33: Atbilstoši 29.07.2025. sarunu procedūras rezultātiem, iepirkuma identifikācijas Nr. ANPCP 2025/59SP, Darbu apjomu saraksts Nr.29 | J33: Pamatlīdzekļu uzskaites kartīte Nr. PL0024672 | K33: Augšdaugavas novada domes 29.07.2025. lēmums Nr. 28 "Par 2025.gada 10.-11.jūlija lietavu laikā radīto postījumu novēršanu"
A34: 30 | B34: Ceļš Butiški - Židina, Naujenes pagasts, Augšdaugavas novads, posmā 6,250 km - 6,260 km | C34: Nesaistītā seguma ceļa klātnes bedres aizpildīšana ar drupinātas grants maisījumu 0/32s un ceļa nogāzes nostiprināšana | D34: 2285.45 | E34: =D34*30% -> 685.635 | F34: =D34-E34 -> 1599.815 | G34: x | H34: 14.07.2025. akts Nr.8, piedalījās attiecīgās jomas speciālists, pievienota fotogrāfija | I34: Atbilstoši 29.07.2025. sarunu procedūras rezultātiem, iepirkuma identifikācijas Nr. ANPCP 2025/59SP, Darbu apjomu saraksts Nr.30 | J34: Pamatlīdzekļu uzskaites kartīte Nr. PL0002899-1 | K34: Augšdaugavas novada domes 29.07.2025. lēmums Nr. 28 "Par 2025.gada 10.-11.jūlija lietavu laikā radīto postījumu novēršanu"
A35: 31 | B35: Ceļš Vecpils - Pilskalns, Naujenes pagasts, Augšdaugavas novads, posmā 1,060 km - 1,160 km | C35: Nesaistītā seguma ceļa klātnes iesēdumu un bedru labošana ar drupinātas grants maisījumu 0/32s | D35: 2853.66 | E35: =D35*30% -> 856.098 | F35: =D35-E35 -> 1997.562 | G35: x | H35: 14.07.2025. akts Nr.2, piedalījās attiecīgās jomas speciālists, pievienota fotogrāfija | I35: Atbilstoši 29.07.2025. sarunu procedūras rezultātiem, iepirkuma identifikācijas Nr. ANPCP 2025/59SP, Darbu apjomu saraksts Nr.31 | J35: Pamatlīdzekļu uzskaites kartīte Nr. PL0024655 | K35: Augšdaugavas novada domes 29.07.2025. lēmums Nr. 28 "Par 2025.gada 10.-11.jūlija lietavu laikā radīto postījumu novēršanu" | M35: NAV ATBALSTĀMS
A36: 32 | B36: Ceļš Grancova - Petrovska, Kalupes pagasts, Augšdaugavas novads, posmos 0,010 km - 0,060 km, 0,480 km - 0,530 km | C36: Ceļa klātnes remonts, caurtekas atjaunošana | D36: 6047.68 | E36: =D36*30% -> 1814.304 | F36: =D36-E36 -> 4233.376 | G36: x | H36: 14.07.2025. akts Nr.2, piedalījās attiecīgās jomas speciālists, pievienotas fotogrāfijas | I36: Atbilstoši 29.07.2025. sarunu procedūras rezultātiem, iepirkuma identifikācijas Nr. ANPCP 2025/59SP, Darbu apjomu saraksts Nr.32 | J36: Pamatlīdzekļu uzskaites kartīte Nr. PL0016910, Nr. PL0016911 | K36: Augšdaugavas novada domes 29.07.2025. lēmums Nr. 28 "Par 2025.gada 10.-11.jūlija lietavu laikā radīto postījumu novēršanu"
A37: 33 | B37: Ceļš Ūda - Slieži, Kalupes pagasts, Augšdaugavas novads, posmā 0,050 km - 1,500 km | C37: Ceļa nobrauktuvju un klātnes izskalojumu novēršana | D37: 5699.1 | E37: =D37*30% -> 1709.73 | F37: =D37-E37 -> 3989.37 | G37: x | H37: 14.07.2025. akts Nr.1, piedalījās attiecīgās jomas speciālists, pievienotas fotogrāfijas | I37: Atbilstoši 29.07.2025. sarunu procedūras rezultātiem, iepirkuma identifikācijas Nr. ANPCP 2025/59SP, Darbu apjomu saraksts Nr.33 | J37: Pamatlīdzekļu uzskaites kartīte Nr. PL0016925, Nr. PL0016924 | K37: Augšdaugavas novada domes 29.07.2025. lēmums Nr. 28 "Par 2025.gada 10.-11.jūlija lietavu laikā radīto postījumu novēršanu"
A38: 34 | B38: Ceļš Muncišķi - Kudeiki, Līksnas pagasts, Augšdaugavas novads, posmā 1,100 km - 1,340 km | C38: Nesaistīta seguma ceļa klātnes labošana ar drupinātas grants maisījumu 0/32s | D38: 6848.79 | E38: =D38*30% -> 2054.637 | F38: =D38-E38 -> 4794.153 | G38: x | H38: 14.07.2025. akts Nr.2, piedalījās attiecīgās jomas speciālists, pievienota fotogrāfija | I38: Atbilstoši 29.07.2025. sarunu procedūras rezultātiem, iepirkuma identifikācijas Nr. ANPCP 2025/59SP, Darbu apjomu saraksts Nr.34 | J38: Pamatlīdzekļu uzskaites kartīte Nr. PL0027554 | K38: Augšdaugavas novada domes 29.07.2025. lēmums Nr. 28 "Par 2025.gada 10.-11.jūlija lietavu laikā radīto postījumu novēršanu" | M38: NAV ATBALSTĀMS
A39: 35 | B39: Ceļš Sterikāni - Borski, Līksnas pagasts, Augšdaugavas novads, posmos 0,910 km - 1,030 km, 1,870 km - 2,020 km | C39: Nesaistīta seguma ceļa klātnes labošana ar drupinātas grants maisījumu 0/32s | D39: 6135.38 | E39: =D39*30% -> 1840.614 | F39: =D39-E39 -> 4294.766 | G39: x | H39: 14.07.2025. akts Nr.3, piedalījās attiecīgās jomas speciālists, pievienotas fotogrāfijas | I39: Atbilstoši 29.07.2025. sarunu procedūras rezultātiem, iepirkuma identifikācijas Nr. ANPCP 2025/59SP, Darbu apjomu saraksts Nr.35 | J39: Pamatlīdzekļu uzskaites kartīte Nr. PL0028251 | K39: Augšdaugavas novada domes 29.07.2025. lēmums Nr. 28 "Par 2025.gada 10.-11.jūlija lietavu laikā radīto postījumu novēršanu" | M39: NAV ATBALSTĀMS
A40: 36 | B40: Ceļš c. Ļūbaste - Ļūbaste, Līksnas pagasts, Augšdaugavas novads, posmos 1,550 km - 1,650 km, 2,100 km - 2,200 km | C40: Nesaistīta seguma ceļa klātnes labošana ar drupinātas grants maisījumu 0/32s | D40: 6848.79 | E40: =D40*30% -> 2054.637 | F40: =D40-E40 -> 4794.153 | G40: x | H40: 14.07.2025. akts Nr.4, piedalījās attiecīgās jomas speciālists, pievienotas fotogrāfijas | I40: Atbilstoši 29.07.2025. sarunu procedūras rezultātiem, iepirkuma identifikācijas Nr. ANPCP 2025/59SP, Darbu apjomu saraksts Nr.36 | J40: Pamatlīdzekļu uzskaites kartīte Nr. PL0027573 | K40: Augšdaugavas novada domes 29.07.2025. lēmums Nr. 28 "Par 2025.gada 10.-11.jūlija lietavu laikā radīto postījumu novēršanu" | M40: NAV ATBALSTĀMS
A41: 37 | B41: Ceļš Vecpikuļi - Dukāti - Boroviki, Salienas pagasts, Augšdaugavas novads, posmos 0,00 km - 0,050 km, 0,900 km - 0,950 km, 1,060 km - 1,160 km | C41: Nesaistīta seguma ceļa klātnes iesēdumu un bedru labošana ar drupinātas grants maisījumu 0/32s, caurtekas nomaiņa/atjaunošana | D41: 10247.78 | E41: =D41*30% -> 3074.334 | F41: =D41-E41 -> 7173.446 | G41: x | H41: 14.07.2025. akts Nr.1, piedalījās attiecīgās jomas speciālists, pievienotas fotogrāfijas | I41: Atbilstoši 29.07.2025. sarunu procedūras rezultātiem, iepirkuma identifikācijas Nr. ANPCP 2025/59SP, Darbu apjomu saraksts Nr.37 | J41: Pamatlīdzekļu uzskaites kartīte Nr. PL0021339 | K41: Augšdaugavas novada domes 29.07.2025. lēmums Nr. 28 "Par 2025.gada 10.-11.jūlija lietavu laikā radīto postījumu novēršanu"
...

Sheet Ludzas novads
A2: Ludzas novada pašvaldības 2025. gada jūlijā lietavu laikā radītie postījumi
A3: Nr. p.k. | B3: Objekta nosaukums un adrese | C3: Veicamie pasākumi/darbi | D3: Postījumu novēršanai nepieciešamā finansējuma apmērs, euro | E3: Pašvaldības līdz- finansējums, euro | F3: No valsts budžeta programmas "Līdzekļi neparedzētiem gadījumiem" nepieciešamā finansējuma apmērs, euro | G3: Pašvaldības iesniegtie finansiālā pamatojuma dokumenti | M3: Piezīmes, komentāri
G4: MK noteikumu Nr.421 5.pielikums | H4: apsekošanas akts (zaudējumu novērtējums vai dokumenti, kas apliecina notikušo faktu), vai ir pievienota fotogrāfija/jas | I4: pieprasīto līdzekļu aprēķins/tāme (veicamo darbu/ pakalpojumu apraksts, nepieciešamo materiālu daudzums, cena, atalgojums un paredzamo nodokļu samaksa) | J4: apliecinājums, ka infrastruktūras objekts ir pašvaldības īpašumā vai valdījumā (pamatlīdzekļu uzskaites kartīte vai zemesgrāmatas apliecinājums) | K4: informācija par pašvaldības līdzfinansējuma apmēru objektam radīto zaudējumu novēršanai (domes lēmums) | L4: apliecinājums, ka par objektu pašvaldībai nepienākas vai pienākas apdrošināšanas atlīdzība + skaidrojums, ja nebija apdrošināts
A5: 1 | B5: Ceļš Lineja - Kalešniki - Vjarumi - Dubrovka, Līdmnieku pagasts, Ludzas novads | C5: Ceļa virskārtas atjaunošana | D5: 29911.5 | E5: =D5*30% -> 8973.45 | F5: =D5-E5 -> 20938.05 | G5: x | H5: 25.07.2025. apsekošanas akts, piedalījās attiecīgās jomas speciālists, atsevišķi iesniegtas fotogrāfijas | I5: 26.07.2025. Lokālā tāme Nr. 072025/1, sagatavoja sertificēts speciālists sertifikāta Nr. 4 – 01879 | J5: Pamatlīdzekļu uzskaites kartīte Nr. CC326 | K5: 30.07.2025. Ludzas novada pašvaldības priekšsēdētāja parakstīts apliecinājums, ka nodrošinās līdzfinansējumu 30% apmērā. | L5: 30.07.2025. Ludzas novada pašvaldības priekšsēdētāja parakstīts apliecinājums, ka pašvaldībai nepienākas apdrošināšanas atlīdzība, jo minētie autoceļi nebija apdrošināti. | M5: NAV ATBALSTĀMS
A6: 2 | B6: Ceļš Gaveiki - Rūdova - Sleinova, Ņukšu pagasts, Ludzas novads | C6: Ceļa virskārtas atjaunošana | D6: 15187.79 | E6: =D6*30% -> 4556.337 | F6: =D6-E6 -> 10631.453 | G6: x | H6: 25.07.2025. apsekošanas akts, piedalījās attiecīgās jomas speciālists, atsevišķi iesniegtas fotogrāfijas | I6: 26.07.2025. Lokālā tāme Nr. 072025/2, sagatavoja sertificēts speciālists sertifikāta Nr. 4 – 01879 | J6: Pamatlīdzekļu uzskaites kartīte Nr. NU081 | K6: 30.07.2025. Ludzas novada pašvaldības priekšsēdētāja parakstīts apliecinājums, ka nodrošinās līdzfinansējumu 30% apmērā. | L6: 30.07.2025. Ludzas novada pašvaldības priekšsēdētāja parakstīts apliecinājums, ka pašvaldībai nepienākas apdrošināšanas atlīdzība, jo minētie autoceļi nebija apdrošināti.
A7: 3 | B7: Ceļš Pilda - Tjapši - Gajeva, Pildas pagasts, Ludzas novads 0,640 km | C7: Bojātas caurtekas demontāža un jaunas izbūve | D7: 12975.37 | E7: =D7*30% -> 3892.611 | F7: =D7-E7 -> 9082.759 | G7: x | H7: 25.07.2025. apsekošanas akts, piedalījās attiecīgās jomas speciālists, atsevišķi iesniegtas fotogrāfijas | I7: 26.07.2025. Lokālā tāme Nr. 072025/3, sagatavoja sertificēts speciālists sertifikāta Nr. 4 – 01879 | J7: Pamatlīdzekļu uzskaites kartīte Nr. 000603, Nr. Pi038, Nr. Pi073 | K7: 30.07.2025. Ludzas novada pašvaldības priekšsēdētāja parakstīts apliecinājums, ka nodrošinās līdzfinansējumu 30% apmērā. | L7: 30.07.2025. Ludzas novada pašvaldības priekšsēdētāja parakstīts apliecinājums, ka pašvaldībai nepienākas apdrošināšanas atlīdzība, jo minētie autoceļi nebija apdrošināti.
A8: 4 | B8: Ceļš Ūdri - Masļenki, Pušmucovas pagasts, Ludzas novads | C8: Ceļa virskārtas atjaunošana | D8: 13258.36 | E8: =D8*30% -> 3977.508 | F8: =D8-E8 -> 9280.852 | G8: x | H8: 25.07.2025. apsekošanas akts, piedalījās attiecīgās jomas speciālists, atsevišķi iesniegtas fotogrāfijas | I8: 26.07.2025. Lokālā tāme Nr. 072025/4, sagatavoja sertificēts speciālists sertifikāta Nr. 4 – 01879 | J8: Pamatlīdzekļu uzskaites kartīte Nr. CC367 | K8: 30.07.2025. Ludzas novada pašvaldības priekšsēdētāja parakstīts apliecinājums, ka nodrošinās līdzfinansējumu 30% apmērā. | L8: 30.07.2025. Ludzas novada pašvaldības priekšsēdētāja parakstīts apliecinājums, ka pašvaldībai nepienākas apdrošināšanas atlīdzība, jo minētie autoceļi nebija apdrošināti. | M8: NAV ATBALSTĀMS
C9: KOPĀ: | D9: =SUM(D5:D8) -> 71333.02 | E9: =SUM(E5:E8) -> 21399.906 | F9: =SUM(F5:F8) -> 49933.114
B12: Atbalstāms zaudējumu apmērs, euro | C12: =D9-D8-D5 -> 28163.16
B13: Pašvaldības līdzfinansējums, euro | C13: =C12*30% -> 8448.948
B14: No LNG atbalstāmais finansējums, euro | C14: =C12-C13 -> 19714.212

Sheet Preiļu novads
A2: Preiļu novada pašvaldības 2025. gada 10. - 11. jūlijā lietavu laikā radītie postījumi
A3: Nr. p.k. | B3: Objekta nosaukums un adrese | C3: Veicamie pasākumi/darbi | D3: Postījumu novēršanai nepieciešamā finansējuma apmērs, euro | E3: Pašvaldības līdz- finansējums, euro | F3: No valsts budžeta programmas "Līdzekļi neparedzētiem gadījumiem" nepieciešamā finansējuma apmērs, euro | G3: Pašvaldības iesniegtie finansiālā pamatojuma dokumenti
G4: MK noteikumu Nr.421 5.pielikums | H4: apsekošanas akts (zaudējumu novērtējums vai dokumenti, kas apliecina notikušo faktu), vai ir pievienota fotogrāfija/jas | I4: pieprasīto līdzekļu aprēķins/tāme (veicamo darbu/ pakalpojumu apraksts, nepieciešamo materiālu daudzums, cena, atalgojums un paredzamo nodokļu samaksa) | J4: apliecinājums, ka infrastruktūras objekts ir pašvaldības īpašumā vai valdījumā (pamatlīdzekļu uzskaites kartīte vai zemesgrāmatas apliecinājums) | K4: informācija par pašvaldības līdzfinansējuma apmēru objektam radīto zaudējumu novēršanai (domes lēmums) | L4: apliecinājums, ka par objektu pašvaldībai nepienākas vai pienākas apdrošināšanas atlīdzība + skaidrojums, ja nebija apdrošināts
A5: 1 | B5: VA-2 Gaters-Kaļvi, Vārkavas pagasts, Preiļu novads | C5: Malu nostiprināšana uzpildīšana- izmantojot minerālmateriālu. Piebēršana, izskalojumu uzpildīšana izmantojot šķembu. Grāvja tīrīšana, profilu atjaunošana, nomaļu mehanizēta profilešana. | D5: 3954.97 | E5: =D5*30% -> 1186.491 | F5: =D5-E5 -> 2768.479 | G5: x | H5: 16.07.2025. apsekošanas akts, apsekošanā piedalījās attiecīgās jomas speciālisti (viens apsekošanas akts par visiem objektiem), veikta fotofiksācija | I5: 16.07.2025. Lokālā tāme/darbu apjomu saraksts, sagatavoja sertificēts speciālists, sertifikāta Nr. 4-04522 | J5: Pamatlīdzekļu uzskaites kartīte Nr. V-689 | K5: Preiļu novada pašvaldības 21.07.2025. sēdes protokols Nr. 15 (4.§) "Par pieteikuma sagatavošanu finansējuma saņemšanai no valsts budžeta programmas “Līdzekļi neparedzētiem gadījumiem”" | L5: 5. pielikumā norāda, ka pašvaldība ceļus neapdrošina
A6: 2 | B6: VA-19 Ceļš uz kompleksu, Vārkavas pagasts, Preiļu novads | C6: Caurtekas tīrīšana. Piebēršana apmale - izmantojot minerālmateriālu. Piebēršana, izskalojumu uzpildīšana izmantojot šķembu. Profilu atjaunošana, nomaļu mehanizēta profilēšana. | D6: 1938.9 | E6: =D6*30% -> 581.67 | F6: =D6-E6 -> 1357.23 | G6: x | H6: 16.07.2025. apsekošanas akts, apsekošanā piedalījās attiecīgās jomas speciālisti (viens apsekošanas akts par visiem objektiem), veikta fotofiksācija | I6: 16.07.2025. Lokālā tāme/darbu apjomu saraksts, sagatavoja sertificēts speciālists, sertifikāta Nr. 4-04523 | J6: Pamatlīdzekļu uzskaites kartīte Nr. V-707 | K6: Preiļu novada pašvaldības 21.07.2025. sēdes protokols Nr. 15 (4.§) "Par pieteikuma sagatavošanu finansējuma saņemšanai no valsts budžeta programmas “Līdzekļi neparedzētiem gadījumiem”" | L6: 5. pielikumā norāda, ka pašvaldība ceļus neapdrošina
A7: 3 | B7: VA-21 Spūles-Lidlauks-Ašenieki, Vārkavas pagasts, Preiļu novads | C7: Sakārtot noteku galus un atbalsta sienas. Piebēršana, izskalojumu uzpildīšana izmantojot šķembu. Profilu atjaunošana, nomaļu mehanizēta profilēšana. | D7: 3402.73 | E7: =D7*30% -> 1020.819 | F7: =D7-E7 -> 2381.911 | G7: x | H7: 16.07.2025. apsekošanas akts, apsekošanā piedalījās attiecīgās jomas speciālisti (viens apsekošanas akts par visiem objektiem), veikta fotofiksācija | I7: 16.07.2025. Lokālā tāme/darbu apjomu saraksts, sagatavoja sertificēts speciālists, sertifikāta Nr. 4-04524 | J7: Pamatlīdzekļu uzskaites kartīte Nr. V-701, Nr. V-702, Nr. V-1622 | K7: Preiļu novada pašvaldības 21.07.2025. sēdes protokols Nr. 15 (4.§) "Par pieteikuma sagatavošanu finansējuma saņemšanai no valsts budžeta programmas “Līdzekļi neparedzētiem gadījumiem”" | L7: 5. pielikumā norāda, ka pašvaldība ceļus neapdrošina
A8: 4 | B8: VA-26 Stivrenieki-Spūļu ezers, Vārkavas pagasts, Preiļu novads | C8: Caurtekas tīrīšana. Piebēršana, izskalojumu uzpildīšana izmantojot šķembu. Profilu atjaunošana, nomaļu mehanizēta profilēšana. | D8: 1810.53 | E8: =D8*30% -> 543.159 | F8: =D8-E8 -> 1267.371 | G8: x | H8: 16.07.2025. apsekošanas akts, apsekošanā piedalījās attiecīgās jomas speciālisti (viens apsekošanas akts par visiem objektiem), veikta fotofiksācija | I8: 16.07.2025. Lokālā tāme/darbu apjomu saraksts, sagatavoja sertificēts speciālists, sertifikāta Nr. 4-04525 | J8: Pamatlīdzekļu uzskaites kartīte Nr. V-1621 | K8: Preiļu novada pašvaldības 21.07.2025. sēdes protokols Nr. 15 (4.§) "Par pieteikuma sagatavošanu finansējuma saņemšanai no valsts budžeta programmas “Līdzekļi neparedzētiem gadījumiem”" | L8: 5. pielikumā norāda, ka pašvaldība ceļus neapdrošina
A9: 5 | B9: VA-18 Zibergova-Pūtkas-Klapari, Vārkavas pagasts, Preiļu novads | C9: Caurteka jauna diam 1m uz L=12m pielnā ielikšana. Nomales uzpildīšāna nostiprināšana - izmantojot minerālmateriālu. Profilu atjaunošana, nomaļu mehanizēta profilēšana. | D9: 11235.1 | E9: =D9*30% -> 3370.53 | F9: =D9-E9 -> 7864.57 | G9: x | H9: 16.07.2025. apsekošanas akts, apsekošanā piedalījās attiecīgās jomas speciālisti (viens apsekošanas akts par visiem objektiem), veikta fotofiksācija | I9: 16.07.2025. Lokālā tāme/darbu apjomu saraksts, sagatavoja sertificēts speciālists, sertifikāta Nr. 4-04526 | J9: Pamatlīdzekļu uzskaites kartīte Nr. V-1623 | K9: Preiļu novada pašvaldības 21.07.2025. sēdes protokols Nr. 15 (4.§) "Par pieteikuma sagatavošanu finansējuma saņemšanai no valsts budžeta programmas “Līdzekļi neparedzētiem gadījumiem”" | L9: 5. pielikumā norāda, ka pašvaldība ceļus neapdrošina
A10: 6 | B10: VA-34 Skolas ielas nobrauktuve, Vārkavas pagasts, Preiļu novads | C10: Nomales piebēršana - izmantojot minerālmateriālu. Krastu stiprināšna, piebēršana, izmantjot šķembu. Profilu atjaunošana, nomaļu mehanizēta profilēšana. | D10: 3723.78 | E10: =D10*30% -> 1117.134 | F10: =D10-E10 -> 2606.646 | G10: x | H10: 16.07.2025. apsekošanas akts, apsekošanā piedalījās attiecīgās jomas speciālisti (viens apsekošanas akts par visiem objektiem), veikta fotofiksācija | I10: 16.07.2025. Lokālā tāme/darbu apjomu saraksts, sagatavoja sertificēts speciālists, sertifikāta Nr. 4-04527 | J10: Pamatlīdzekļu uzskaites kartīte Nr. V-700 | K10: Preiļu novada pašvaldības 21.07.2025. sēdes protokols Nr. 15 (4.§) "Par pieteikuma sagatavošanu finansējuma saņemšanai no valsts budžeta programmas “Līdzekļi neparedzētiem gadījumiem”" | L10: 5. pielikumā norāda, ka pašvaldība ceļus neapdrošina
A11: 7 | B11: VA-14 Piliškas- Vēverauka, Vārkavas pagasts, preiļu novads | C11: Nomales piebēršana - izmantojot minerālmateriālu. Profilu atjaunošana, nomaļu mehanizēta profilēšana. | D11: 963.02 | E11: =D11*30% -> 288.906 | F11: =D11-E11 -> 674.114 | G11: x | H11: 16.07.2025. apsekošanas akts, apsekošanā piedalījās attiecīgās jomas speciālisti (viens apsekošanas akts par visiem objektiem), veikta fotofiksācija | I11: 16.07.2025. Lokālā tāme/darbu apjomu saraksts, sagatavoja sertificēts speciālists, sertifikāta Nr. 4-04528 | J11: Pamatlīdzekļu uzskaites kartīte Nr. V-691.1 | K11: Preiļu novada pašvaldības 21.07.2025. sēdes protokols Nr. 15 (4.§) "Par pieteikuma sagatavošanu finansējuma saņemšanai no valsts budžeta programmas “Līdzekļi neparedzētiem gadījumiem”" | L11: 5. pielikumā norāda, ka pašvaldība ceļus neapdrošina
A12: 8 | B12: PE-10 Gubanišķi- Lielie Livmaņi (7 vietās), Vārkavas pagasts, preiļu novads | C12: Jauna ceurtkea diam 12 metru. Ceļa posma ataunošana pilnā apjomā. Apmaļu piebēršana 7 vietas. Apauguma noņemšana. Sāngrāvju tīrīšana no saskalojuime pie tīruma.. Profilu atjaunošana, nomaļu mehanizēta profilēšana. | D12: 19388.87 | E12: =D12*30% -> 5816.661 | F12: =D12-E12 -> 13572.209 | G12: x | H12: 16.07.2025. apsekošanas akts, apsekošanā piedalījās attiecīgās jomas speciālisti (viens apsekošanas akts par visiem objektiem), veikta fotofiksācija | I12: 16.07.2025. Lokālā tāme/darbu apjomu saraksts, sagatavoja sertificēts speciālists, sertifikāta Nr. 4-04529 | J12: Pamatlīdzekļu uzskaites kartīte Nr. 1930, Nr. 9404 | K12: Preiļu novada pašvaldības 21.07.2025. sēdes protokols Nr. 15 (4.§) "Par pieteikuma sagatavošanu finansējuma saņemšanai no valsts budžeta programmas “Līdzekļi neparedzētiem gadījumiem”" | L12: 5. pielikumā norāda, ka pašvaldība ceļus neapdrošina
A13: 9 | B13: PE-3 Arendole-Pelēči, Vārkavas pagasts, Preiļu novads | C13: Apauguma noņemšana pie caurtekas. Caurrekas galu piepildišana - izmantojot minerālmateriālu. Profilu atjaunošana, nomaļu mehanizēta profilēšana. | D13: 1091.46 | E13: =D13*30% -> 327.438 | F13: =D13-E13 -> 764.022 | G13: x | H13: 16.07.2025. apsekošanas akts, apsekošanā piedalījās attiecīgās jomas speciālisti (viens apsekošanas akts par visiem objektiem), veikta fotofiksācija | I13: 16.07.2025. Lokālā tāme/darbu apjomu saraksts, sagatavoja sertificēts speciālists, sertifikāta Nr. 4-04530 | J13: Pamatlīdzekļu uzskaites kartīte Nr. 1926, Nr. 6380, Nr. 9397, Nr. 9398 | K13: Preiļu novada pašvaldības 21.07.2025. sēdes protokols Nr. 15 (4.§) "Par pieteikuma sagatavošanu finansējuma saņemšanai no valsts budžeta programmas “Līdzekļi neparedzētiem gadījumiem”" | L13: 5. pielikumā norāda, ka pašvaldība ceļus neapdrošina
A14: 10 | B14: RO-14 Lazdāni-Andiņi-Rudinova, Rožkalnu pagasts, Preiļu novads | C14: Izskalotā posma piebēršana - izmantojot minerālmateriālu. Profilu atjaunošana, nomaļu mehanizēta profilēšana. | D14: 1476.63 | E14: =D14*30% -> 442.989 | F14: =D14-E14 -> 1033.641 | G14: x | H14: 16.07.2025. apsekošanas akts, apsekošanā piedalījās attiecīgās jomas speciālisti (viens apsekošanas akts par visiem objektiem), veikta fotofiksācija | I14: 16.07.2025. Lokālā tāme/darbu apjomu saraksts, sagatavoja sertificēts speciālists, sertifikāta Nr. 4-04531 | J14: Pamatlīdzekļu uzskaites kartīte Nr. V-375, Nr. V-376 | K14: Preiļu novada pašvaldības 21.07.2025. sēdes protokols Nr. 15 (4.§) "Par pieteikuma sagatavošanu finansējuma saņemšanai no valsts budžeta programmas “Līdzekļi neparedzētiem gadījumiem”" | L14: 5. pielikumā norāda, ka pašvaldība ceļus neapdrošina
A15: 11 | B15: RO-5 Kalēji-Arendole, Rožkalnu pagasts, Preiļu novads | C15: Izskalotā posma piebēršana - izmantojot minerālmateriālu. Profilu atjaunošana, nomaļu mehanizēta profilēšana. | D15: 2247.04 | E15: =D15*30% -> 674.112 | F15: =D15-E15 -> 1572.928 | G15: x | H15: 16.07.2025. apsekošanas akts, apsekošanā piedalījās attiecīgās jomas speciālisti (viens apsekošanas akts par visiem objektiem), veikta fotofiksācija | I15: 16.07.2025. Lokālā tāme/darbu apjomu saraksts, sagatavoja sertificēts speciālists, sertifikāta Nr. 4-04532 | J15: Pamatlīdzekļu uzskaites kartīte Nr. V-378, Nr. V-379, Nr. V-380 | K15: Preiļu novada pašvaldības 21.07.2025. sēdes protokols Nr. 15 (4.§) "Par pieteikuma sagatavošanu finansējuma saņemšanai no valsts budžeta programmas “Līdzekļi neparedzētiem gadījumiem”" | L15: 5. pielikumā norāda, ka pašvaldība ceļus neapdrošina
A16: 12 | B16: RO- 2 Brieži-Jadvigova-Strodi, Rožkalnu pagasts, Preiļu novads | C16: Izskalotā posma piebēršana - izmantojot minerālmateriālu. Profilu atjaunošana, nomaļu mehanizēta profilēšana. | D16: 963.02 | E16: =D16*30% -> 288.906 | F16: =D16-E16 -> 674.114 | G16: x | H16: 16.07.2025. apsekošanas akts, apsekošanā piedalījās attiecīgās jomas speciālisti (viens apsekošanas akts par visiem objektiem), veikta fotofiksācija | I16: 16.07.2025. Lokālā tāme/darbu apjomu saraksts, sagatavoja sertificēts speciālists, sertifikāta Nr. 4-04533 | J16: Pamatlīdzekļu uzskaites kartīte Nr. V-369, Nr. V-368, Nr. V-1613 | K16: Preiļu novada pašvaldības 21.07.2025. sēdes protokols Nr. 15 (4.§) "Par pieteikuma sagatavošanu finansējuma saņemšanai no valsts budžeta programmas “Līdzekļi neparedzētiem gadījumiem”" | L16: 5. pielikumā norāda, ka pašvaldība ceļus neapdrošina
... A20: 16 | B20: RU-7 Gaiļmuiža - Pizāni - Ivanāni, Rušonas pagasts, Preiļu novads | C20: Izskalotā posma piebēršana - izmantojot minerālmateriālu. Profilu atjaunošana, nomaļu mehanizēta profilēšana. | D20: 930.92 | E20: =D20*30% -> 279.276 | F20: =D20-E20 -> 651.644 | G20: x | H20: 16.07.2025. apsekošanas akts, apsekošanā piedalījās attiecīgās jomas speciālisti (viens apsekošanas akts par visiem objektiem), veikta fotofiksācija | I20: 16.07.2025. Lokālā tāme/darbu apjomu saraksts, sagatavoja sertificēts speciālists, sertifikāta Nr. 4-04537 | J20: Pamatlīdzekļu uzskaites kartīte Nr. R-2639 | K20: Preiļu novada pašvaldības 21.07.2025. sēdes protokols Nr. 15 (4.§) "Par pieteikuma sagatavošanu finansējuma saņemšanai no valsts budžeta programmas “Līdzekļi neparedzētiem gadījumiem”" | L20: 5. pielikumā norāda, ka pašvaldība ceļus neapdrošina
C21: KOPĀ: | D21: =SUM(D5:D20) -> 75725.63 | E21: =SUM(E5:E20) -> 22717.689 | F21: =SUM(F5:F20) -> 53007.941

Sheet Kopā
A2: Pašvaldība | B2: Izdevumi kopā, euro | C2: Pašvaldības līdzfinansējums, euro | D2: No LNG nepieciešams, euro
A3: Augšdaugavas novada pašvaldība | B3: ='Augšdaugavas novads'!C82 -> 359120.94 | C3: ='Augšdaugavas novads'!C83 -> 107736.28 | D3: =B3-C3 -> 251384.66
A4: Ludzas novada pašvaldība | B4: ='Ludzas novads'!C12 -> 28163.16 | C4: ='Ludzas novads'!C13 -> 8448.948 | D4: =B4-C4 -> 19714.212
A5: Preiļu novada pašvaldība | B5: ='Preiļu novads'!D21 -> 75725.63 | C5: ='Preiļu novads'!E21 -> 22717.689 | D5: =B5-C5 -> 53007.941
A6: Kopā: | B6: =SUM(B3:B5) -> 463009.73 | C6: =SUM(C3:C5) -> 138902.92 | D6: =SUM(D3:D5) -> 324106.81
