Workbook
Name _1_2_d_NMP_lim: #REF!
Name _1_2_d_NMP_lim: #REF!
Name _1_2_d_NMP_lim: #REF!
Name _1_2_d_NMP_lim: #REF!
Name aa: #REF!
Name aa: #REF!
Name aa: #REF!
Name b: #REF!
Name b: #REF!
Name b: #REF!
Name b: #REF!
Name bt: #REF!
Name bt: #REF!
Name bt: #REF!
Name BX: #REF!
Name BX: #REF!
Name BX: #REF!
Name CalendarYear: #REF!
Name CalendarYear: #REF!
Name CalendarYear: #REF!
Name ccc: #REF!
Name ccc: #REF!
Name d: #REF!
Name D_Evija3: #REF!
Name DaysAndWeeks: {0,1,2,3,4,5,6} + {0;1;2;3;4;5}*7
Name DaysAndWeeks: {0,1,2,3,4,5,6} + {0;1;2;3;4;5}*7
Name DaysAndWeeks: {0,1,2,3,4,5,6} + {0;1;2;3;4;5}*7
Name DaysAndWeeks: {0,1,2,3,4,5,6} + {0;1;2;3;4;5}*7
Name de: #REF!
Name de: #REF!
Name dff: #NAME?
Name dgdfs: #REF!
Name DRGNAMES: #REF!
Name DRGNAMES: #REF!
Name DRGNAMES: #REF!
Name DRGNAMES: #REF!
Name e: #REF!
Name e: #REF!
Name e: #REF!
Name e: #REF!
Name ee: #REF!
Name ee: #REF!
Name ee: #REF!
Name Excel_BuiltIn__FilterDatabase_2: #REF!
Name Excel_BuiltIn__FilterDatabase_2: #REF!
Name Excel_BuiltIn__FilterDatabase_3: #REF!
Name Excel_BuiltIn__FilterDatabase_3: #REF!
Name Excel_BuiltIn_Print_Titles_2: #REF!
Name Excel_BuiltIn_Print_Titles_2: #REF!
Name Excel_BuiltIn_Print_Titles_3: #REF!
Name Excel_BuiltIn_Print_Titles_3: #REF!
Name gad_skaits: #REF!
Name gad_skaits_1: #REF!
Name gala: {0,1,2,3,4,5,6} + {0;1;2;3;4;5}*7
Name gala: {0,1,2,3,4,5,6} + {0;1;2;3;4;5}*7
Name gala: {0,1,2,3,4,5,6} + {0;1;2;3;4;5}*7
Name gala: {0,1,2,3,4,5,6} + {0;1;2;3;4;5}*7
Name Gala_kopsavilkums: #REF!
Name Gala_kopsavilkums: #REF!
Name gggg: #REF!

Sheet Kopsavilkums
M1: 1.pielikums Psihiskās veselības aprūpes organizēšanas uzlabošanas plānam 2023.-2025.gadam
A3: N.p.k. | B3: Pasākums | C3: Uzsākšanas termiņš | D3: Finansējuma avots | E3: Apakšprogramma | F3: Vidēja termiņa budžeta ietvara likumā plānotais finansējums | I3: Papildus nepieciešamais finansējums | M3: Prioritārā pasākuma gads, numurs un nosaukums, komentāri
F4: 2022 | G4: 2023 | H4: 2024 | I4: 2023 | J4: 2024 | K4: 2025 | L4: turpmākiem gadiem
B5: KOPĀ, t.sk. | F5: =F6+F8 -> 3033907 | G5: =G6+G8 -> 16130103 | H5: =H6+H8 -> 2113907 | I5: =I6+I8 -> 5234144.2 | J5: =J6+J8 -> 12320225 | K5: =K6+K8 -> 14567596 | L5: =L6+L8 -> 20075214
B6: tai skaitā, valsts pamatbudžeta finansējums | F6: =F7 -> 2113907 | G6: =G7 -> 2113907 | H6: =H7 -> 2113907 | I6: =I7 -> 5234144.2 | J6: =J7 -> 11298948 | K6: =K7 -> 12650530 | L6: =L7 -> 13804694
B7: Veselības ministrija | F7: =F25+F49+F54+F61+F12 -> 2113907 | G7: =G25+G49+G54+G61+G12 -> 2113907 | H7: =H25+H49+H54+H61+H12 -> 2113907 | I7: =I25+I49+I54+I61+I12 -> 5234144.2 | J7: =J25+J49+J54+J61+J12+J67 -> 11298948 | K7: =K25+K49+K54+K61+K12+K67 -> 12650530 | L7: =L25+L49+L54+L61+L12 -> 13804694
B8: tai skaitā, Eiropas Savienības struktūrfondu finansējums | F8: =F9 -> 920000 | G8: =G9 -> 14016196 | H8: =H9 -> 0 | I8: =I9 -> 0 | J8: =J9 -> 1021277.1 | K8: =K9 -> 1917065.7 | L8: =L9 -> 6270520.2
B9: Veselības ministrija | F9: =F26 -> 920000 | G9: =G26 -> 14016196 | H9: =H26 -> 0 | I9: =I26 -> 0 | J9: =J26 -> 1021277.1 | K9: =K26 -> 1917065.7 | L9: =L26 -> 6270520.2
A10: 1. Rīcības virziens | C10: Profilakse, agrīna diagnostika un ambulatorā ārstēšana – bērniem un pusaudžiem
B11: KOPĀ, t.sk. | F11: =F12 -> 1625404 | G11: =G12 -> 1625404 | H11: =H12 -> 1625404 | I11: =I12 -> 1358706 | J11: =J12 -> 1388510 | K11: =K12 -> 1418551 | L11: =L12 -> 1418551
B12: tai skaitā, valsts pamatbudžeta finansējums | F12: =SUM(F14:F19) -> 1625404 | G12: =SUM(G14:G19) -> 1625404 | H12: =SUM(H14:H19) -> 1625404 | I12: =SUM(I14:I19) -> 1358706 | J12: =SUM(J14:J19) -> 1388510 | K12: =SUM(K14:K19) -> 1418551 | L12: =SUM(L14:L19) -> 1418551
B13: Veselības ministrija | F13: =SUM(F14:F19) -> 1625404 | G13: =SUM(G14:G19) -> 1625404 | H13: =SUM(H14:H19) -> 1625404 | I13: =SUM(I14:I19) -> 1358706 | J13: =SUM(J14:J19) -> 1388510 | K13: =SUM(K14:K19) -> 1418551 | L13: =SUM(L14:L19) -> 1418551
A14: 1.1. | B14: Uzlabot pieejamību autiskā spektra traucējumu diagnostikai – ADOS testa veikšana | C14: 2023.gads pirmais pusgads | D14: valsts budžets | E14: 33.16.00. | F14: 168082 | G14: 168082 | H14: 168082 | I14: 0 | J14: 0 | K14: 0 | L14: 0 | M14: PP2022-2024 P11 Autiska spektra traucējumu diagnostika
A15: 1.2. | B15: Ieviest agrīnās intervences programmu bērniem ar autiskā spektra un citiem attīstības traucējumiem | C15: 2023.gads pirmais pusgads | D15: valsts budžets | E15: 33.16.00. | F15: 618074 | G15: 618074 | H15: 618074 | I15: 0 | J15: 0 | K15: 0 | L15: 0 | M15: PP2022-2024 P11 Speciālistu kabineti agrīnās intervences bērniem ar AST
A16: 1.3. | B16: Pilnveidot pacientiem ar ilgstošiem psihiskās veselības traucējumiem pāreju no bērnu profila ārstniecības iestādes uz pieaugušo ārstniecības iestādi | C16: 2024.gada otrais pusgads | D16: valsts budžets | E16: 33.16.00. | F16: 0 | G16: 0 | H16: 0 | I16: 0 | J16: ='1.3.'!D6 -> 29804 | K16: ='1.3.'!E6 -> 59845 | L16: ='1.3.'!F6 -> 59845 | M16: PP2023-2025 P07 Psihiskās veselības aprūpes organizēšanas uzlabošanas plāna (projekta) 2023.-2025.gadam realizācija
A17: 1.4. | B17: Uzlabot sabiedrībā balstītu pakalpojumu programmas “Garastāvokļa traucējumu programma” pieejamību reģionos | C17: 2023.gads pirmais pusgads | D17: valsts budžets | E17: 33.16.00. | F17: 839248 | G17: 839248 | H17: 839248 | I17: 1182219 | J17: 1182219 | K17: 1182219 | L17: =K17 -> 1182219 | M17: PP2023-2025 P07 Psihiskās veselības aprūpes organizēšanas uzlabošanas plāna (projekta) 2023.-2025.gadam realizācija
A18: 1.5. | B18: Veicināt pacientu un vecāku pozitīvu pieredzi komunikācijā un saskarsmē ārstniecības procesa laikā, samazināt māsu un ārstu patērēto laiku pirms manipulācijām procesa izskaidrošanai un bērna nomierināšanai, kā arī mazināt vispārējās anestēzijas pielietošanu manipulāciju laikā gadījumos, kad anestēzija nepieciešama tikai bērna emocionālās reakcijas dēļ (kabinets pacientu baiļu mazināšanai). | C18: 2023.gads pirmais pusgads | D18: valsts budžets | E18: 33.16.00. | F18: 0 | G18: 0 | H18: 0 | I18: ='1.5.'!C10 -> 55954 | J18: =I18 -> 55954 | K18: =J18 -> 55954 | L18: =K18 -> 55954 | M18: PP2023-2025 P07 Psihiskās veselības aprūpes organizēšanas uzlabošanas plāna (projekta) 2023.-2025.gadam realizācija
A19: 1.6. | B19: Pusaudžu klīnisko un veselības psihologu atbalsta konsultatīvais tālrunis | C19: 2023.gada pirmais pusgads | D19: valsts budžets | E19: 33.16.00. | F19: 0 | G19: 0 | H19: 0 | I19: ='1.6.'!B15 -> 120533 | J19: =I19 -> 120533 | K19: =J19 -> 120533 | L19: =K19 -> 120533 | M19: PP2023-2025 P07 Psihiskās veselības aprūpes organizēšanas uzlabošanas plāna (projekta) 2023.-2025.gadam realizācija
B20: Pārresoru koordinācijas centrs
A21: 1.7. | B21: Nodrošināt speciālistu apmācību par Denveras agrīnās intervences modeli | C21: 2024.gada pirmais pusgads | D21: ES fondu SAM 4.3.6. (ESF) | M21: Pasākumi un papildus nepieciešama finansējuma pieprasījums ir iekļauti Izglītības attīstības pamatnostādņu 2021.-2027. gadam „Nākotnes prasmes nākotnes sabiedrībai” Rīcības plāna 2021.-2023. gadam projekta (21-TA-1018) pasākumā 3.1.1.1. "Mazināt bērnu attīstības, uzvedības un citu traucējumu veidošanās riskus un izveidot apsteidzošu un proaktīvu individuālo vajadzību identificēšanas sistēmu".
A22: 1.8. | B22: Bērnu agrīnās attīstības skrīninga ieviešana | C22: 2025.gada otrais pusgads
A23: 2. Rīcības virziens | C23: Profilakse, agrīna diagnostika un ambulatorā ārstēšana
B24: KOPĀ Veselības ministrija | F24: =F25+F26 -> 1408503 | G24: =G25+G26 -> 14504699 | H24: =H25+H26 -> 488503 | I24: =I25+I26 -> 193782 | J24: =J25+J26 -> 4061189.4 | K24: =K25+K26 -> 5187642.4 | L24: =L25+L26 -> 9855342.8
B25: tai skaitā, valsts pamatbudžeta finansējums | F25: =F28+F29+F30+F31+F32+F33+F37+F41+F42+F43+F34+F44 -> 488503 | G25: =G28+G29+G30+G31+G32+G33+G37+G41+G42+G43+G34+G44 -> 488503 | H25: =H28+H29+H30+H31+H32+H33+H37+H41+H42+H43+H34+H44 -> 488503 | I25: =I28+I29+I30+I31+I32+I33+I37+I41+I42+I43+I34+I44 -> 193782 | J25: =J28+J29+J30+J31+J32+J33+J37+J41+J42+J43+J34+J44 -> 3039912.4 | K25: =K28+K29+K30+K31+K32+K33+K37+K41+K42+K43+K34+K44 -> 3270576.8 | L25: =L28+L29+L30+L31+L32+L33+L37+L41+L42+L43+L34+L44 -> 3584822.6
B26: tai skaitā, Eiropas Savienības struktūrfondu finansējums | F26: =F36+F38 -> 920000 | G26: =G36+G38 -> 14016196 | H26: =H36+H38 -> 0 | I26: =I36+I38 -> 0 | J26: =J36+J38 -> 1021277.1 | K26: =K36+K38 -> 1917065.7 | L26: =L36+L38 -> 6270520.2
A27: 2.1. | B27: Veicināt ģimenes ārstu un psihiatru sadarbību hronisko pacientu uzraudzības jomā | C27: 2023.gada pirmais pusgads | D27: valsts budžets | F27: =F28+F29 -> 488503 | G27: =G28+G29 -> 488503 | H27: =H28+H29 -> 488503 | I27: =I28+I29 -> 0 | J27: =J28+J29 -> 0 | K27: =K28+K29 -> 0 | L27: =L28+L29 -> 0
D28: valsts budžets | E28: 33.14.00. | F28: 390142 | G28: 390142 | H28: 390142 | I28: 0 | J28: 0 | K28: 0 | L28: 0 | M28: PP 2022-2024 P04 Piemaksājamā manipulācija par darbu ar psihiskiem uzvedības traucējumiem (60485 - Ģimenes ārsta darbs ar pacientu ar psihiskiem un uzvedības traucējumiem)
D29: valsts budžets | E29: 33.16.00. | F29: 98361 | G29: 98361 | H29: 98361 | I29: 0 | J29: 0 | K29: 0 | L29: 0 | M29: PP 2022-2024 P04 Nodrošināt psihiatru atbalstu ģimenes ārstiem par viņu uzraudzībā esošu pacientu psihiskās veselības aprūpi. 60037: Ārsta-speciālista sniegta attālināta konsultācija ģimenes ārstam vai citas specialitātes ārstam-speciālistam (manipulāciju norāda ārsts-speciālists)
A30: 2.2. | B30: Izstrādāt vienotas prasības multiprofesionālās komandas darba īstenošanai psihiatriskā profila slimnīcu ambulatorajās nodaļās | C30: 2024.gada pirmais pusgads | D30: valsts budžets | E30: 33.16.00. | F30: 0 | G30: 0 | H30: 0 | I30: 0 | J30: ='2.2.'!A8 -> 2536865 | K30: ='2.2.'!B8 -> 2536865 | L30: =K30 -> 2536865 | M30: PP2023-2025 P07 Psihiskās veselības aprūpes organizēšanas uzlabošanas plāna (projekta) 2023.-2025.gadam realizācija
A31: 2.3. | B31: Izstrādāt un ieviest ārstniecības iestādēs vienota pašnāvības riska novērtēšanas skala | C31: 2024.gada pirmais pusgads | D31: valsts budžets | E31: 33.16.00. | F31: 0 | G31: 0 | H31: 0 | I31: 0 | J31: ='2.3.'!F10 -> 1265.3265 | K31: =J31 -> 1265.3265 | L31: =K31 -> 1265.3265 | M31: PP2023-2025 P07 Psihiskās veselības aprūpes organizēšanas uzlabošanas plāna (projekta) 2023.-2025.gadam realizācija
A32: 2.4. | B32: Izveidot atbalsta grupas pacientiem ar psihiskās veselības traucējumiem un pacientu piederīgajiem | C32: 2024.gada pirmais pusgads | D32: valsts budžets | E32: 33.16.00. | F32: 0 | G32: 0 | H32: 0 | I32: 0 | J32: ='2.4.'!D9 -> 32529.85 | K32: ='2.4.'!E9 -> 65059.7 | L32: =K32 -> 65059.7 | M32: PP2023-2025 P07 Psihiskās veselības aprūpes organizēšanas uzlabošanas plāna (projekta) 2023.-2025.gadam realizācija
A33: 2.5. | B33: Izvērtēt iespēju iekļaut no valsts budžeta apmaksājamo pakalpojumu grozā zobārstniecības (t.sk., minimāli nepieciešamā protezēšana), optometrista pakalpojumus un nepieciešamo palīglīdzekļu personām, kurām ir nepieciešama ilgstoša ārstēšana psihiatriskā profila slimnīcās | C33: 2024.gada pirmais gads | D33: valsts budžets | E33: 33.16.00. | F33: 0 | G33: 0 | H33: 0 | I33: 0 | J33: ='2.5.'!G12 -> 46645.182 | K33: ='2.5.'!I12 -> 47109.768 | L33: =K33 -> 47109.768 | M33: PP2023-2025 P07 Psihiskās veselības aprūpes organizēšanas uzlabošanas plāna (projekta) 2023.-2025.gadam realizācija
C34: 2024.gada pirmais gads | D34: valsts budžets | E34: 33.18.00 | F34: 0 | G34: 0 | H34: 0 | I34: 0 | J34: ='2.5.'!D7 -> 10000 | K34: ='2.5.'!E7 -> 10000 | L34: ='2.5.'!F7 -> 10000 | M34: PP2023-2025 P07 Psihiskās veselības aprūpes organizēšanas uzlabošanas plāna (projekta) 2023.-2025.gadam realizācija
A35: 2.6. | B35: Izveidot mobilās psihiatriskās komandas psihiatrisko pacientu aprūpei mājās | C35: 2024.gada pirmais pusgads | F35: 0 | G35: 0 | H35: 0 | I35: 0 | J35: =J36+J37 -> 125488.46 | K35: =K36+K37 -> 125488.46 | L35: =L36+L37 -> 116576.34
D36: ANM | E36: 74.00.00 | F36: 0 | G36: 0 | H36: 0 | I36: 0 | J36: ='2.6.'!D7 -> 125488.46 | K36: ='2.6.'!E7 -> 125488.46 | L36: 0
D37: valsts budžets | E37: 33.16.00. | F37: 0 | G37: 0 | H37: 0 | I37: 0 | J37: 0 | K37: 0 | L37: ='2.6.'!F8 -> 116576.34 | M37: PP2023-2025 P07 Psihiskās veselības aprūpes organizēšanas uzlabošanas plāna (projekta) 2023.-2025.gadam realizācija
A38: 2.7. | B38: Nodrošināt veselības aprūpes pakalpojumu sniedzēja infrastruktūras attīstību, uzlabojot veselības aprūpes pakalpojumu pieejamību un kvalitāti psihiatrijā | C38: 2021.gads | D38: ES fondu finansējums | E38: 80.00.00* | F38: =F39+F40 -> 920000 | G38: =G39+G40 -> 14016196 | H38: =H39+H40 -> 0 | I38: =I39+I40 -> 0 | J38: =J39+J40 -> 895788.6 | K38: =K39+K40 -> 1791577.2 | L38: =L39+L40 -> 6270520.2
C39: 2021.gads | D39: ES fondu 2014. – 2020.g. plān. perioda darbības programmas "Izaugsme un nodarbinātība" 9.3.2.SAM | E39: 80.00.00 | F39: 920000 | G39: 14016196 | H39: 0 | I39: 0 | J39: 0 | K39: 0 | L39: 0
C40: 2024.gads | D40: ES kohēzijas politikas programmas 2021.–2027.gadam 4.1.1.1.pasākums | E40: 80.00.00* | F40: 0 | G40: 0 | H40: 0 | I40: 0 | J40: =8957886*10% -> 895788.6 | K40: =8957886*20% -> 1791577.2 | L40: =8957886-J40-K40 -> 6270520.2
A41: 2.8. | B41: Izstrādāt un ieviest agrīnas intervences programmu pēc akūtiem psihotiskiem traucējumiem (pirmā epizode) | C41: 2023.gads pirmais pusgads | D41: valsts budžets | E41: 33.16.00. | F41: 0 | G41: 0 | H41: 0 | I41: ='2.8.'!B10 -> 15249 | J41: ='2.8.'!C10 -> 24398.4 | K41: ='2.8.'!D10 -> 24398 | L41: =K41 -> 24398 | M41: PP2023-2025 P07 Psihiskās veselības aprūpes organizēšanas uzlabošanas plāna (projekta) 2023.-2025.gadam realizācija
...

Sheet 1.3.
O1: 2.pielikums Psihiskās veselības aprūpes organizēšanas uzlabošanas plānam 2023.-2025.gadam
A3: 1.3. rīcības virziens "Pilnveidot pacientiem ar ilgstošiem psihiskās veselības traucējumiem pāreju no bērnu profila ārstniecības iestādes uz pieaugušo ārstniecības iestādi
A5: Veselības ministrijas valsts budžeta apakšprogramma | C5: 2023.gadā papildus nepieciešamais finansējums, euro | D5: 2024.gadā papildus nepieciešamais finansējums, euro* | E5: 2025.gadā papildus nepieciešamais finansējums, euro | F5: Turpmāk ik gadu, euro
A6: 33.16.00 Pārējo ambulatoro veselības aprūpes pakalpojumu nodrošināšana | C6: 0 | D6: =ROUNDUP(H17/2+H12/2,0) -> 29804 | E6: =ROUNDUP(J12+H17,0) -> 59845 | F6: =E6 -> 59845
A7: *pasākums tiek nodrošināts no 2024.gada 2. pusgada
C9: Gadā | G9: 2024. gads | I9: 2025. gads | M9: Gadā | N9: 2024. gads | O9: 2025.gads
A10: Nr. | B10: Plānotais pasākums | C10: Prognozējamais pacientu skaits | D10: Vidējais starpinstitūciju konsīliju skaits | E10: Viena konsīlija (4 speciālisti) tarifs, euro | F10: Prognozētais nepieciešamais finansējums, euro gadā | G10: Prognozējamais pacientu skaits | H10: Prognozētais nepieciešamais finansējums, euro gadā | I10: Prognozējamais pacientu skaits | J10: Prognozētais nepieciešamais finansējums, euro gadā | L10: Prognozējamais pacientu skaits (ar 11.5% pieaugumu ik gadu) | M10: 13 | N10: =(M10*0.115)+M10 -> 14.495 | O10: =(M10*0.115)+N10 -> 15.99
A11: 1 | B11: Pacientu ar īpašām veselības aprūpes vajadzībām ārstniecības, dinamiskās novērošanas nodošana pieaugušo speciālistiem, pacientam sasniedzot 18 gadu vecumu | C11: =13 -> 13 | D11: 3 | E11: 79.04 | F11: =C11*D11*E11 -> 3082.56 | G11: 15 | H11: =G11*D11*E11 -> 3556.8 | I11: 16 | J11: =I11*D11*E11 -> 3793.92 | M11: 13 | N11: 15 | O11: 16
A12: Kopā: | F12: =SUM(F11:F11) -> 3082.56 | H12: =SUM(H11:H11) -> 3556.8 | J12: =SUM(J11:J11) -> 3793.92
A13: Katru gadu vidēji 13 bērni vecumā 15-17 gadi nonāk psihiskās attīstības traucējumu pacientu reģistrā. Pēc SPKC psihiskās veselības 2016.gada ziņojuma.
A14: Reģistra uzskaitē uzņemto pacientu skaitam 2016.gadā vērojams pieaugums. Absolūtos skaitļos 2016. gadā Reģistra uzskaitē tika uzņemti 5 810 pacienti, kas ir par 599 pacientiem jeb 11,5% vairāk nekā 2015.gadā (2015.gadā 5 211).
A16: Nr. p.k. | B16: pozīcija | C16: skaits** | D16: slodze | E16: vienas vienības atalgojums (ar darba devēja VSAOI 23,59%), euro | F16: darba samaksas apjoms gadam, euro | G16: kabineta nodrošinājuma izmaksas gadā, euro** | H16: KOPĀ, euro
A17: 1.1. | B17: Koordinators | C17: 3 | D17: 1 | E17: 1462.07 | F17: =E17*12*C17 -> 52634.52 | G17: 3416 | H17: =F17+G17 -> 56050.52
A18: ** 2 koordinatori BKUS, 1 RPNC

Sheet 1.4.
U1: 3.pielikums Psihiskās veselības aprūpes organizēšanas uzlabošanas plānam 2023.-2025.gadam
A3: 1.4. rīcības virziens "Uzlabot sabiedrībā balstītu pakalpojumu programmas “Garastāvokļa traucējumu programma” pieejamību reģionos"
A5: Pasākums "Uzlabot bērnu un pusaudžu psihiskās veselības pakalpojumu pieejamību, attīstot pakalpojumu reģionos"
A6: Budžeta programmas (apakšprogrammas) kods un nosaukums:
A7: 33.16.00. "Pārējo ambulatoro veselības aprūpes pakalpojumu nodrošināšana"
A9: NVD aprēķinātais finansējums 2023.gadam, ņemot vērā 2022.gadā nepieciešamo kabinetu skaitu un slodžu skaitu | G9: Vidējā darba samaksa mēnesī, euro (MK noteikumu Nr.555 153.punkts)
G10: 1963 | I10: 405 | J10: 1183 | K10: 243 | M10: 0.2359
A11: Pakalpojumu lokalizācija | B11: Speciālista nosaukums | C11: Kabineta plānotais darbības periods mēnešos | D11: Kabinetu skaits | E11: Ārsta slodze plāns (mēnesī) | F11: Māsas slodze plāns (mēnesī) | G11: Ārsta darba samaksa, euro (kopā gadā) | H11: Ārsta piemaksa (psihiatrija), euro (kopā gadā) | I11: Funkcionālā speciālista piemaksa (psihiatrija) 2023, EUR | J11: Māsas darba samaksa, euro (kopā gadā) | K11: Māsas darba piemaksa (psihiatrija) 2023, EUR | L11: Darba samaksa kopā, euro | M11: VSAOI, euro | N11: Kabineta fiksētais maksājums, euro 1 slodzei gadā | O11: Kabineta fiksētais maksājums, euro 1 slodzei mēnesī | P11: Māsai Kabineta fiksētais maksājums, EUR 1 slodzei gadā | Q11: Māsai Kabineta fiksētais maksājums, EUR 1 slodzei mēnesī | R11: Kabineta nodrošinājuma maksājums gadā, euro* | S11: Finansējums slodzēm 2023. gadam, euro | T11: Finansējums manipulāciju apmaksai 2023.gadā, euro | U11: Finansējums 2023.gadam KOPĀ, euro
A12: Rīga | B12: koordinators | C12: 12 | D12: 1 | F12: 2.5 | G12: =ROUND(C12*E12*$G$10,2) -> 0 | J12: =ROUND(C12*F12*$J$10,2) -> 35490 | L12: =G12+H12+I12+J12+K12 -> 35490 | M12: =ROUND(L12*$M$10,2) -> 8372.09 | N12: 3673 | O12: 306.08 | R12: =ROUND(C12*D12*O12,2) -> 3672.96 | S12: =L12+M12 -> 43862.09 | U12: =S12+R12+S13 -> 185821.14
A13: Rīga | B13: klientu vadītājs | C13: 12 | E13: 4.75 | G13: =ROUND(C13*E13*$G$10,2) -> 111891 | J13: =ROUND(C13*F13*$J$10,2) -> 0 | L13: =G13+H13+I13+J13+K13 -> 111891 | M13: =ROUND(L13*$M$10,2) -> 26395.09 | S13: =L13+M13 -> 138286.09
A14: Rīga | B14: psihologs, psihoterapeits | C14: 12 | D14: 5 | E14: 16 | G14: =ROUND(C14*E14*$G$10,2) -> 376896 | H14: =ROUND(C14*E14*540,2) -> 103680 | J14: =ROUND(C14*F14*$J$10,2) -> 0 | L14: =G14+H14+I14+J14+K14 -> 480576 | M14: =ROUND(L14*$M$10,2) -> 113367.88 | N14: 3673 | O14: 306.08 | R14: =ROUND(C14*D14*O14,2) -> 18364.8 | S14: =L14+M14 -> 593943.88 | U14: =S14+R14 -> 612308.68
A15: Rīga | B15: narkologs** | C15: 12 | D15: 1 | E15: 0.25 | G15: =ROUND(C15*E15*$G$10,2) -> 5889 | J15: =ROUND(C15*F15*$J$10,2) -> 0 | L15: =ROUNDDOWN(G15+H15+I15+J15+K15,0) -> 5889 | M15: =ROUND(L15*$M$10,2) -> 1389.22 | N15: 3673 | O15: 306.08 | R15: =ROUND(C15*E15*O15,2) -> 918.24 | S15: =L15+M15 -> 7278.22 | U15: =S15+R15 -> 8196.46
A16: Rīga | B16: psihiatrs** | C16: 12 | D16: 1 | E16: 0.75 | G16: =ROUND(C16*E16*$G$10,2) -> 17667 | H16: =ROUND(C16*E16*540,2) -> 4860 | J16: =ROUND(C16*F16*$J$10,2) -> 0 | L16: =ROUNDDOWN(G16+H16+I16+J16+K16,0) -> 22527 | M16: =ROUND(L16*$M$10,2) -> 5314.12 | N16: 3673 | O16: 306.08 | R16: =ROUND(C16*E16*O16,2) -> 2754.72 | S16: =L16+M16 -> 27841.12 | U16: =S16+R16 -> 30595.84
A17: Rīga | B17: Mākslas terapeits (funkcionālais speciālists) | C17: 12 | D17: 2 | E17: 3 | G17: =ROUND(C17*E17*$G$10,2) -> 70668 | J17: =ROUND(C17*F17*$J$10,2) -> 0 | L17: =G17+H17+I17+J17+K17 -> 70668 | M17: =ROUND(L17*$M$10,2) -> 16670.58 | N17: 3673 | O17: 306.08 | R17: =ROUND(C17*D17*O17,2) -> 7345.92 | S17: =L17+M17 -> 87338.58 | U17: =S17+R17 -> 94684.5
A18: Rīga | B18: Manipulāciju apmaksa | T18: 8640 | U18: =T18 -> 8640
A19: Liepāja | B19: koordinators | C19: 12 | D19: 1 | F19: 1 | G19: =ROUND(C19*E19*$G$10,2) -> 0 | J19: =ROUND(C19*F19*$J$10,2) -> 14196 | L19: =ROUNDDOWN(G19+H19+I19+J19+K19,0) -> 14196 | M19: =ROUND(L19*$M$10,2) -> 3348.84 | N19: 3673 | O19: 306.08 | R19: =ROUND(C19*D19*O19,2) -> 3672.96 | S19: =L19+M19 -> 17544.84 | U19: =S19+R19+S20+S21 -> 87452.15
A20: Liepāja | B20: klientu vadītājs | C20: 12 | E20: 1 | G20: =ROUND(C20*E20*$G$10,2) -> 23556 | J20: =ROUND(C20*F20*$J$10,2) -> 0 | L20: =ROUNDDOWN(G20+H20+I20+J20+K20,0) -> 23556 | M20: =ROUND(L20*$M$10,2) -> 5556.86 | S20: =L20+M20 -> 29112.86
A21: Liepāja | B21: psihologs, psihoterapeits | C21: 12 | E21: 1 | G21: =ROUND(C21*E21*$G$10,2) -> 23556 | H21: =ROUND(C21*E21*540,2) -> 6480 | J21: =ROUND(C21*F21*$J$10,2) -> 0 | L21: =ROUNDDOWN(G21+H21+I21+J21+K21,0) -> 30036 | M21: =ROUND(L21*$M$10,2) -> 7085.49 | S21: =L21+M21 -> 37121.49
A22: Liepāja | B22: Manipulāciju apmaksa | T22: 3678 | U22: =T22 -> 3678
A23: Daugavpils | B23: koordinators | C23: 12 | D23: 1 | F23: 1 | G23: =ROUND(C23*E23*$G$10,2) -> 0 | J23: =ROUND(C23*F23*$J$10,2) -> 14196 | L23: =ROUNDDOWN(G23+H23+I23+J23+K23,0) -> 14196 | M23: =ROUND(L23*$M$10,2) -> 3348.84 | N23: 3673 | O23: 306.08 | R23: =ROUND(C23*D23*O23,2) -> 3672.96 | S23: =L23+M23 -> 17544.84 | U23: =S23+R23+S24+S25 -> 131851.86
A24: Daugavpils | B24: klientu vadītājs | C24: 12 | E24: 1.25 | G24: =ROUND(C24*E24*$G$10,2) -> 29445 | J24: =ROUND(C24*F24*$J$10,2) -> 0 | L24: =ROUNDDOWN(G24+H24+I24+J24+K24,0) -> 29445 | M24: =ROUND(L24*$M$10,2) -> 6946.08 | S24: =L24+M24 -> 36391.08
A25: Daugavpils | B25: psihologs, psihoterapeits | C25: 12 | E25: 2 | G25: =ROUND(C25*E25*$G$10,2) -> 47112 | H25: =ROUND(C25*E25*540,2) -> 12960 | J25: =ROUND(C25*F25*$J$10,2) -> 0 | L25: =ROUNDDOWN(G25+H25+I25+J25+K25,0) -> 60072 | M25: =ROUND(L25*$M$10,2) -> 14170.98 | S25: =L25+M25 -> 74242.98
A26: Daugavpils | B26: Manipulāciju apmaksa | T26: 2733 | U26: =T26 -> 2733
A27: Rēzekne | B27: koordinators | C27: 12 | D27: 1 | F27: 1 | G27: =ROUND(C27*E27*$G$10,2) -> 0 | J27: =ROUND(C27*F27*$J$10,2) -> 14196 | L27: =ROUNDDOWN(G27+H27+I27+J27+K27,0) -> 14196 | M27: =ROUND(L27*$M$10,2) -> 3348.84 | N27: 3673 | O27: 306.08 | R27: =ROUND(C27*D27*O27,2) -> 3672.96 | S27: =L27+M27 -> 17544.84 | U27: =S27+R27+S28+S29 -> 148410.45
A28: Rēzekne | B28: klientu vadītājs | C28: 12 | E28: 1.5 | G28: =ROUND(C28*E28*$G$10,2) -> 35334 | J28: =ROUND(C28*F28*$J$10,2) -> 0 | L28: =ROUNDDOWN(G28+H28+I28+J28+K28,0) -> 35334 | M28: =ROUND(L28*$M$10,2) -> 8335.29 | S28: =L28+M28 -> 43669.29
A29: Rēzekne | B29: psihologs, psihoterapeits | C29: 12 | E29: 2.25 | G29: =ROUND(C29*E29*$G$10,2) -> 53001 | H29: =ROUND(C29*E29*540,2) -> 14580 | J29: =ROUND(C29*F29*$J$10,2) -> 0 | L29: =G29+H29+I29+J29+K29 -> 67581 | M29: =ROUND(L29*$M$10,2) -> 15942.36 | S29: =L29+M29 -> 83523.36
A30: Jelgava | B30: koordinators | C30: 12 | D30: 1 | F30: 1 | G30: =ROUND(C30*E30*$G$10,2) -> 0 | J30: =ROUND(C30*F30*$J$10,2) -> 14196 | L30: =ROUNDDOWN(G30+H30+I30+J30+K30,0) -> 14196 | M30: =ROUND(L30*$M$10,2) -> 3348.84 | N30: 3673 | O30: 306.08 | R30: =ROUND(C30*D30*O30,2) -> 3672.96 | S30: =L30+M30 -> 17544.84 | U30: =S30+R30+S31+S32 -> 127847.55
A31: Jelgava | B31: klientu vadītājs | C31: 12 | E31: 1.75 | G31: =ROUND(C31*E31*$G$10,2) -> 41223 | J31: =ROUND(C31*F31*$J$10,2) -> 0 | L31: =ROUNDDOWN(G31+H31+I31+J31+K31,0) -> 41223 | M31: =ROUND(L31*$M$10,2) -> 9724.51 | S31: =L31+M31 -> 50947.51
A32: Jelgava | B32: psihologs, psihoterapeits | C32: 12 | E32: 1.5 | G32: =ROUND(C32*E32*$G$10,2) -> 35334 | H32: =ROUND(C32*E32*540,2) -> 9720 | J32: =ROUND(C32*F32*$J$10,2) -> 0 | L32: =G32+H32+I32+J32+K32 -> 45054 | M32: =ROUND(L32*$M$10,2) -> 10628.24 | S32: =L32+M32 -> 55682.24
A33: Valmiera | B33: koordinators | C33: 12 | D33: 1 | F33: 1 | G33: =ROUND(C33*E33*$G$10,2) -> 0 | J33: =ROUND(C33*F33*$J$10,2) -> 14196 | L33: =ROUNDDOWN(G33+H33+I33+J33+K33,0) -> 14196 | M33: =ROUND(L33*$M$10,2) -> 3348.84 | N33: 3673 | O33: 306.08 | R33: =ROUND(C33*D33*O33,2) -> 3672.96 | S33: =L33+M33 -> 17544.84 | U33: =S33+R33+S34+S35 -> 106012.9
A34: Valmiera | B34: klientu vadītājs | C34: 12 | E34: 1 | G34: =ROUND(C34*E34*$G$10,2) -> 23556 | J34: =ROUND(C34*F34*$J$10,2) -> 0 | L34: =ROUNDDOWN(G34+H34+I34+J34+K34,0) -> 23556 | M34: =ROUND(L34*$M$10,2) -> 5556.86 | S34: =L34+M34 -> 29112.86
A35: Valmiera | B35: psihologs, psihoterapeits | C35: 12 | E35: 1.5 | G35: =ROUND(C35*E35*$G$10,2) -> 35334 | H35: =ROUND(C35*E35*540,2) -> 9720 | J35: =ROUND(C35*F35*$J$10,2) -> 0 | L35: =ROUNDDOWN(G35+H35+I35+J35+K35,0) -> 45054 | M35: =ROUND(L35*$M$10,2) -> 10628.24 | S35: =L35+M35 -> 55682.24
A36: Ventspils | B36: klientu vadītājs | C36: 12 | D36: 1 | E36: 1 | G36: =ROUND(C36*E36*$G$10,2) -> 23556 | J36: =ROUND(C36*F36*$J$10,2) -> 0 | L36: =ROUNDDOWN(G36+H36+I36+J36+K36,0) -> 23556 | M36: =ROUND(L36*$M$10,2) -> 5556.86 | N36: 3673 | O36: 306.08 | R36: =ROUND(C36*D36*O36,2) -> 3672.96 | S36: =L36+M36 -> 29112.86 | U36: =S36+R36+S37+S38 -> 107028.8
A37: Ventspils | B37: psihologs, psihoterapeits | C37: 12 | E37: 1.75 | G37: =ROUND(C37*E37*$G$10,2) -> 41223 | H37: =ROUND(C37*E37*540,2) -> 11340 | J37: =ROUND(C37*F37*$J$10,2) -> 0 | L37: =ROUNDDOWN(G37+H37+I37+J37+K37,0) -> 52563 | M37: =ROUND(L37*$M$10,2) -> 12399.61 | S37: =L37+M37 -> 64962.61
A38: Ventspils | B38: psihiatrs | C38: 12 | E38: 0.25 | G38: =ROUND(C38*E38*$G$10,2) -> 5889 | H38: =ROUND(C38*E38*540,2) -> 1620 | J38: =ROUND(C38*F38*$J$10,2) -> 0 | L38: =ROUNDDOWN(G38+H38+I38+J38+K38,0) -> 7509 | M38: =ROUND(L38*$M$10,2) -> 1771.37 | S38: =L38+M38 -> 9280.37
A39: Vidzeme | B39: Pacienta plūsmas koordinators | C39: 12 | D39: 3 | F39: 1 | G39: =ROUND(C39*E39*$G$10,2) -> 0 | J39: =ROUND(C39*F39*$J$10,2) -> 14196 | L39: =ROUNDDOWN(G39+H39+I39+J39+K39,0) -> 14196 | M39: =ROUND(L39*$M$10,2) -> 3348.84 | N39: 3673 | O39: 306.08 | R39: =ROUND(C39*D39*O39,2) -> 11018.88 | S39: =L39+M39 -> 17544.84 | U39: =S39+R39+S40+S41+S42 -> 198153.92
A40: Vidzeme | B40: klientu vadītājs | C40: 12 | E40: 1 | G40: =ROUND(C40*E40*$G$10,2) -> 23556 | J40: =ROUND(C40*F40*$J$10,2) -> 0 | L40: =ROUNDDOWN(G40+H40+I40+J40+K40,0) -> 23556 | M40: =ROUND(L40*$M$10,2) -> 5556.86 | S40: =L40+M40 -> 29112.86
A41: Vidzeme | B41: Psihologs, psihoterapeits | C41: 12 | E41: 3 | G41: =ROUND(C41*E41*$G$10,2) -> 70668 | H41: =ROUND(C41*E41*540,2) -> 19440 | J41: =ROUND(C41*F41*$J$10,2) -> 0 | L41: =G41+H41+I41+J41+K41 -> 90108 | M41: =ROUND(L41*$M$10,2) -> 21256.48 | S41: =L41+M41 -> 111364.48
A42: Vidzeme | B42: Mākslas terapeits (funkcionālais speciālists) | C42: 12 | E42: 1 | G42: =ROUND(C42*E42*$G$10,2) -> 23556 | J42: =ROUND(C42*F42*$J$10,2) -> 0 | L42: =G42+H42+I42+J42+K42 -> 23556 | M42: =ROUND(L42*$M$10,2) -> 5556.86 | S42: =L42+M42 -> 29112.86
A43: Zemgale | B43: Pacienta plūsmas koordinators | C43: 12 | D43: 3 | F43: 1 | G43: =ROUND(C43*E43*$G$10,2) -> 0 | J43: =ROUND(C43*F43*$J$10,2) -> 14196 | L43: =ROUNDDOWN(G43+H43+I43+J43+K43,0) -> 14196 | M43: =ROUND(L43*$M$10,2) -> 3348.84 | N43: 3673 | O43: 306.08 | R43: =ROUND(C43*D43*O43,2) -> 11018.88 | S43: =L43+M43 -> 17544.84 | U43: =S43+R43+S44+S45+S46 -> 198153.92
...

Sheet 1.5.
K1: 4.pielikums Psihiskās veselības aprūpes organizēšanas uzlabošanas plānam 2023.-2025.gadam
A3: 1.5. rīcības virziens "Veicināt pacientu un vecāku pozitīvu pieredzi komunikācijā un saskarsmē ārstniecības procesa laikā, samazināt māsu un ārstu patērēto laiku pirms manipulācijām procesa izskaidrošanai un bērna nomierināšanai, kā arī mazināt vispārējās anestēzijas pielietošanu manipulāciju laikā gadījumos, kad anestēzija nepieciešama tikai bērna emocionālās reakcijas dēļ (kabinets pacientu baiļu mazināšanai)"
A5: Budžeta programmas (apakšprogrammas) kods un nosaukums:
A6: 33.16.00. "Pārējo ambulatoro veselības aprūpes pakalpojumu nodrošināšana"
A8: Fiksētā maksājuma nodrošināšanai nepieciešamo līdzekļu gada apjoms par speciālistu un ārstniecības iestāžu struktūrvienību darbību ambulatorajā veselības aprūpē:
A9: Nr.p.k. | B9: Specialitāte vai struktūrvienība | C9: Euro par vienu slodzi
A10: JAUNS | B10: Kabinets pacientu baiļu mazināšanai valsts sabiedrībā ar ierobežotu atbildību "Bērnu klīniskā universitātes slimnīca" | C10: =ROUND(L21+D33,0) -> 55954
F11: 2022.gads, euro
B12: Ārsts un funkcionālie speciālisti | F12: 1963
B14: Piemaksas pēc MK noteikumu Nr.555 10. pielikuma (euro) | D14: Maksu par sarežģītību (darbu ar pacientiem ar garīgiem un psihiskiem traucējumiem) – psihiatra kabinetam, psihologa/psihoterapeita kabinetam, funkcionālo speciālistu kabinetam | G14: 405
D15: Psihiatra kabinetam un psihologa/psihoterapeita kabinetam papildu maksu par pieejamības nodrošināšanu un darbu paaugstinātas intensitātes apstākļos | G15: 540
B17: Finansējuma aprēķins 2022.g.
C18: Kabinetu skaits | D18: Ārsts | F18: Ārstniecības un pacientu aprūpes persona | H18: Darba samaksa gadā, euro | I18: Piemaksas par pieejamības nodrošināšanu un darbu paaugstinātas intensitātes apstākļos gadā, euro | J18: Darba samaksa ar piemaksām gadā, euro | K18: Valsts sociālās apdrošināšanas obligātās iemaksas, euro | L18: Darba samaksa kopā gadā, euro
D19: Personu skaits | E19: Slodzes apjoms | F19: Personu skaits | G19: Slodzes apjoms
B20: Mākslas/ Spēļu terapeits | C20: 0 | D20: 2 | E20: 1 | F20: 0 | G20: 0 | H20: =$F$12*E20*12 -> 23556 | I20: =(G14+G15)*12*E20 -> 11340 | J20: =H20+I20 -> 34896 | K20: =ROUND(J20*0.2359,2) -> 8231.97 | L20: =J20+K20 -> 43127.97
B21: Kopā: | C21: =SUM(C20:C20) -> 0 | D21: =SUM(D20:D20) -> 2 | E21: 1 | F21: =SUM(F20:F20) -> 0 | G21: 0 | H21: =SUM(H20:H20) -> 23556 | I21: =SUM(I20:I20) -> 11340 | J21: =SUM(J20:J20) -> 34896 | K21: =SUM(K20:K20) -> 8231.97 | L21: =SUM(L20:L20) -> 43127.97
B23: Kabineta izmaksas
C24: mēnesī | D24: 1.gadā
B25: Telpu izmaksas (komunālie maksājumi, infrastruktūras uzturēšana, NĪN, telpu nolietojums) | C25: 102.46864 | D25: =C25*12 -> 1229.6237
B26: Riska nodeva par personālu | C26: 0.72 | D26: =C26*12 -> 8.64
B27: Ārstniecības līdzekļi | C27: 229.16667 | D27: =C27*12 -> 2750
B28: Dažādi krājumi, t.sk. materiāli radošiem darbiem | C28: 119.10167 | D28: =C28*12 -> 1429.22
B29: Noliktava (saimniecības preces) | C29: 47.625317 | D29: =C29*12 -> 571.5038
B30: Pakalpojumi (atkritumu izvešana, sakaru nodrošināšana u.c.) | C30: 20.834098 | D30: 250.00917
B31: Pamatlīdzekļu nolietojums, mazvērtīgais inventārs | C31: 96.771667 | D31: =C31*12 -> 1161.26
B32: Pieskaitāmās izmaksas (IT, apgādes, saimnieciskie un funkcionālā atbalsta dienesti, uzkopšana, remonti, apsardze un administrācija) | C32: 452.17136 | D32: 5426.0563
C33: =SUM(C25:C32) -> 1068.8594 | D33: =SUM(D25:D32) -> 12826.313

Sheet 1.6.
D1: 5.pielikums Psihiskās veselības aprūpes organizēšanas uzlabošanas plānam 2023.-2025.gadam
A2: 1.6. rīcības virziens "Pusaudžu klīnisko un veselības psihologu atbalsta konsultatīvais tālrunis"
A4: Budžeta programmas (apakšprogrammas) kods un nosaukums:
A5: 33.16.00. "Pārējo ambulatoro veselības aprūpes pakalpojumu nodrošināšana"
A7: Prognozētas 180 psihologa konsultācijas mēnesī
B8: Vidēji mēnesī
A9: Fiksētais ikmēneša maksājums, euro | B9: 741.14
A10: Psihologa konsultācijas, skaits | B10: 180
A11: Apmaksas summa, euro | B11: =B10*42 -> 7560
A12: Samaksa kopā bez PVN, euro | B12: =B11+B9 -> 8301.14
A13: PVN 21%, euro | B13: =B12*0.21 -> 1743.2394
A14: Samaksa kopā (ar PVN), euro | B14: =B12+B13 -> 10044.379
A15: Kopā papildus nepieciešamais 2023.gadam un turpmāk ik gadu: | B15: =ROUND(B14*12,0) -> 120533

Sheet 2.2.
L1: 6.pielikums Psihiskās veselības aprūpes organizēšanas uzlabošanas plānam 2023.-2025.gadam
A3: 2.2 rīcības virziens "Izstrādāt vienotas prasības multiprofesionālās komandas darba īstenošanai psihiatriskā profila slimnīcu ambulatorajās nodaļās"
A5: Budžeta programmas (apakšprogrammas) kods un nosaukums:
A6: 33.16.00. "Pārējo ambulatoro veselības aprūpes pakalpojumu nodrošināšana"
A7: 2024.gadā papildus nepieciešamais finansējums, euro | B7: turpmāk ik gadu (ja pasākuma izpilde nav terminēta), euro
A8: =L17 -> 2536865 | B8: =A8 -> 2536865
A10: Multidisciplinārā komanda
C11: 1963 | D11: 945 | E11: 405 | F11: 1183 | G11: 243 | I11: 0.2359
A12: Specialitāte | B12: Nepieciešamā papildu slodze | C12: Ārsta darba samaksa gadā, euro | D12: Ārsta piemaksa (psihiatrija) gadā, euro | E12: Funkcionālā speciālista piemaksa (psihiatrija) gadā, euro | F12: Māsas darba samaksa gadā, euro | G12: Māsas darba piemaksa (psihiatrija) gadā, euro | H12: Darba samaksa kopā gadā, euro | I12: VSAOI gadā, euro | J12: Kabineta fiksētais maksājums, euro MK 1 slodzei gadā | K12: Kabineta nodrošinājuma maksājums gadā, euro | L12: Nepieciešamais papildu finansējums gadam, euro
A13: Psihiatrs | B13: 1 | C13: =B13*$C$11*12 -> 23556 | D13: =B13*$D$11*12 -> 11340 | H13: =SUM(C13:G13) -> 34896 | I13: =H13*$I$11 -> 8231.9664 | J13: 4372 | K13: =ROUND(B13*J13,0) -> 4372 | L13: =ROUND(H13+I13+K13,0) -> 47500
A14: Psihologs | B14: 25 | C14: =B14*$C$11*12 -> 588900 | D14: =B14*$D$11*12 -> 283500 | H14: =SUM(C14:G14) -> 872400 | I14: =H14*$I$11 -> 205799.16 | J14: 3416 | K14: =ROUND(B14*J14,0) -> 85400 | L14: =ROUND(H14+I14+K14,0) -> 1163599
A15: Funkcionālais speciālists | B15: 28 | C15: =B15*$C$11*12 -> 659568 | E15: =B15*E11*12 -> 136080 | H15: =SUM(C15:G15) -> 795648 | I15: =H15*$I$11 -> 187693.36 | J15: 3416 | K15: =ROUND(B15*J15,0) -> 95648 | L15: =ROUND(H15+I15+K15,0) -> 1078989
A16: Garīgas aprūpes māsa | B16: 10 | F16: =B16*F11*12 -> 141960 | G16: =B16*G11*12 -> 29160 | H16: =SUM(C16:G16) -> 171120 | I16: =H16*$I$11 -> 40367.208 | J16: 3529 | K16: =ROUND(B16*J16,0) -> 35290 | L16: =ROUND(H16+I16+K16,0) -> 246777
K17: Kopā | L17: =SUM(L13:L16) -> 2536865

Sheet 2.3.
H1: 7.pielikums Psihiskās veselības aprūpes organizēšanas uzlabošanas plānam 2023.-2025.gadam
A3: 2.3. rīcības virziens "Izstrādāt un ieviest ārstniecības iestādēs vienota pašnāvības riska novērtēšanas skalu"
A5: Budžeta programmas (apakšprogrammas) kods un nosaukums:
A6: 33.16.00. "Pārējo ambulatoro veselības aprūpes pakalpojumu nodrošināšana"
C8: Gadā | G8: 2024. gads | H8: 2025. gads
A9: Nr. | B9: Plānotais pasākums | C9: Prognozējamais pacientu skaits | D9: Nepieciešamais novērtējuma reižu skaits | E9: Jauns tarifs, euro* | F9: Prognozētais nepieciešamais finansējums, euro gadā | G9: Prognozētais nepieciešamais finansējums, euro gadā | H9: Prognozētais nepieciešamais finansējums, euro gadā
A10: 1 | B10: Pacientu novērtēšana pēc pašnāvības riska novērtēšanas skalas | C10: 386.95 | D10: 1 | E10: 3.27 | F10: =C10*D10*E10 -> 1265.3265 | G10: =F10 -> 1265.3265 | H10: =G10 -> 1265.3265
A11: Kopā: | F11: =ROUND(SUM(F10:F10),0) -> 1265 | G11: =ROUND(SUM(G10:G10),0) -> 1265 | H11: =ROUND(SUM(H10:H10),0) -> 1265
B12: *Ārsta 10 minūšu intervija

Sheet 2.4.
H1: 8.pielikums Psihiskās veselības aprūpes organizēšanas uzlabošanas plānam 2023.-2025.gadam
A3: 2.4. rīcības virziens "Izveidot atbalsta grupas pacientiem ar psihiskās veselības traucējumiem un pacientu piederīgajiem"
A5: Budžeta programmas (apakšprogrammas) kods un nosaukums:
A6: 33.16.00. "Pārējo ambulatoro veselības aprūpes pakalpojumu nodrošināšana"
A8: Veselības ministrijas valsts budžeta apakšprogramma | D8: 2024.gadā papildus nepieciešamais finansējums, euro ** | E8: 2025.gadā papildus nepieciešamais finansējums, euro** | F8: Turpmāk ik gadu, euro
A9: 33.16.00 Pārējo ambulatoro veselības aprūpes pakalpojumu nodrošināšana | D9: =H15*2 -> 32529.85 | E9: =D9*2 -> 65059.7 | F9: =E9 -> 65059.7
A12: Nr. p.k. | B12: pozīcija | C12: skaits | D12: slodze | E12: vienas vienības atalgojums (ar darba devēja VSAOI 23,59%), euro | F12: darba samaksas apjoms gadam, euro | G12: kabineta nodrošinājuma izmaksas gadā, euro* | H12: KOPĀ gadā, euro
A13: 1 ārstniecības iestāde
A14: 1.1 | B14: Psihologs | C14: 1 | D14: 0.500017 | E14: =1963*1.2359 -> 2426.0717 | F14: =C14*D14*E14*12 -> 14556.925 | G14: =1708*C14 -> 1708 | H14: =F14+G14 -> 16264.925
A15: Kopā (euro): | F15: =F14 -> 14556.925 | G15: =G14 -> 1708 | H15: =H14 -> 16264.925
A16: * Summa 1 708 euro atbilst psihologa kabineta nodrošinājumam par 0,5 slodzēm.
A17: **2024.gadā plānots finansējums atbalsta grupām 2 ārstniecības iestādēs
A18: 2025.gadā plānots finansējums atbalsta grupām 4 ārstniecības iestādēs

Sheet 2.5.
J1: 9.pielikums Psihiskās veselības aprūpes organizēšanas uzlabošanas plānam 2023.-2025.gadam
A3: 2.5. rīcības virziens "Izvērtēt iespēju iekļaut no valsts budžeta apmaksājamo pakalpojumu grozā zobārstniecības (t.sk., minimāli nepieciešamā protezēšana), optometrista pakalpojumus un nepieciešamo palīglīdzekļu personām, kurām ir nepieciešama ilgstoša ārstēšana psihiatriskā profila slimnīcās"
A5: Veselības ministrijas valsts budžeta apakšprogramma | C5: 2023.gadā papildus nepieciešamais finansējums, euro | D5: 2024.gadā papildus nepieciešamais finansējums, euro | E5: 2025.gadā papildus nepieciešamais finansējums, euro | F5: Turpmāk ik gadu, euro
A6: 33.16.00 Pārējo ambulatoro veselības aprūpes pakalpojumu nodrošināšana | C6: ='2.5.'!C341 -> 0 | D6: =G12 -> 46645.182 | E6: =ROUND(I12,0) -> 47110 | F6: =ROUND(E6,0) -> 47110
A7: 33.18.00 Plānveida stacionāro veselības aprūpes pakalpojumu nodrošināšana | C7: 0 | D7: =G36 -> 10000 | E7: =I36 -> 10000 | F7: =E7 -> 10000
E8: 47112 | F8: 47112
C9: Pirmajā gadā | F9: 2024. gads | H9: 2025. gads
A10: Nr. | B10: Plānotais pasākums | C10: Prognozējamais pacientu skaits | D10: Vidējais ārstniecības reižu skaits | E10: Prognozētais nepieciešamais finansējums, euro gadā | F10: Vidējais pieaugums, % | G10: Prognozētais nepieciešamais finansējums, euro gadā | H10: Vidējais pieaugums, % | I10: Prognozētais nepieciešamais finansējums, euro gadā
A11: 1 | B11: Zobārstniecības pakalpojumi personām, kurām nepieciešama ilgstoša ārstēšana psihiatriskā profila slimnīcā | C11: =F19+F20+F21+F22+F23+F24 -> 344.0015 | D11: =AVERAGE(G19:G24) -> 2 | E11: =H26*D11*C11 -> 46183.348 | F11: 0.01 | G11: =E11+E11*F11 -> 46645.182 | H11: 0.00996 | I11: =G11+G11*H11 -> 47109.768
A12: Kopā: | E12: =SUM(E11:E11) -> 46183.348 | G12: =SUM(G11:G11) -> 46645.182 | I12: =SUM(I11:I11) -> 47109.768
A15: Ārstniecības iestāžu aptaujas apkopojums par zobārstniecības pakalpojumu sniegšanu un vidējām izmaksām psihiatriskā profila ārstniecības iestādēs
A17: Nrpk. | B17: Ārstniecības iestāde | C17: Vai nodrošina zobārstniecības pakalpojumus slimnīcas pacientiem nodrošina | D17: Zobārstniecības pakalpojumus slimnīcas pacientiem nodrošina | F17: Nodrošināto zobārstniecības pakalpojumu skaits (pacienti) | G17: Zobārstniecības pakalpojuma skaits vienam pacientam gadā | H17: Vienas vizītes vidējā cena, euro
D18: Iestādē | E18: Citā iestādē | H18: 2020.gadā | I18: 2021.gadā | J18: 2022.gadā
A19: 1 | B19: Daugavpils psihoneiroloģiskā slimnīca | C19: Nodrošina | E19: Citā iestādē | F19: 130.0015 | G19: 1 | J19: 40 | K19: *Izmaksās nav ierēķināti pacienti, kuriem pakalpojums sniegts narkozē Stomatoloģijas institūtā, jo tie ir ar I invaliditāts grupu, tātad jau saņem pakalpojumu par valsts līdzekļiem
A20: 2 | B20: Slimnīca Ģintermuiža | C20: Nodrošina | E20: Citā iestādē | F20: 21 | G20: 2 | H20: 56 | I20: 72
A21: 3 | B21: Rīgas psihiatrijas un narkoloģijas centrs | C21: Nodrošina | D21: Iestādē | E21: Akūtos gadījumos citā iestādē | F21: 140 | G21: 3 | J21: 132.52
A22: 4 | B22: Bērnu PNS Ainaži | C22: Nodrošina | E22: Citā iestādē | F22: 8 | G22: 2
A23: 5 | B23: Piejūras slimnīca | C23: Nodrošina | E23: Citā iestādē | F23: 15 | G23: 2 | J23: 61 | K23: (45.00 EUR ārstēšana + 16.00 EUR transports, degviela, amortizācija u.c.)
A24: 6 | B24: Strenču PNS | C24: Nodrošina | E24: Citā iestādē | F24: 30 | G24: 2 | J24: 60
F25: Vidējās izmaksas gadā, euro | H25: =AVERAGE(H19:H24) -> 56 | I25: =AVERAGE(I19:I24) -> 72 | J25: =AVERAGE(J19:J24) -> 73.38 | K25: =J25/I25 -> 1.0191667 | L25: %
F26: Kopējās vidējās izmaksas, euro | H26: =AVERAGE(H25:J25) -> 67.126667
A31: Optometrista pakalpojumi un nepieciešamie optiskie palīglīdzekļi personām, kurām ir nepieciešama ilgstoša ārstēšana psihoneiroloģiskajās slimnīcās
C33: 2023.gads | F33: 2024. gads | H33: 2025. gads
A34: Nr. | B34: Plānotais pasākums | C34: Vidējais izmaksas uz 1 pacientu* | D34: Prognozējamais pacientu skaits | E34: Prognozētais nepieciešamais finansējums, euro gadā | F34: Prognozējamais pacientu skaits | G34: Prognozētais nepieciešamais finansējums, euro gadā | H34: Prognozējamais pacientu skaits | I34: Prognozētais nepieciešamais finansējums, euro gadā | J34: Piespiedu ārstēšanā esošajiem pacientiem, kuriem nav noformēta invaliditāte un attiecīgi neiekļaujas valsts sociālajā aprūpē
A35: 1 | B35: Optometrista pakalpojumi un nepieciešamie optiskie palīglīdzekļi personām, kurām ir nepieciešama ilgstoša ārstēšana psihoneiroloģiskajās slimnīcās | C35: 100 | D35: 0 | E35: =C35*D35 -> 0 | F35: 100 | G35: =F35*C35 -> 10000 | H35: 100 | I35: =H35*C35 -> 10000
A36: Kopā: | E36: 0 | G36: 10000 | I36: 10000
B38: *Pēc RPNC iesniegtajiem datiem, vidējās izmaksas uz 1 pacientu par brillēm un optometrista pakalpojumiem gadā

Sheet 2.6.
L1: 10.pielikums Psihiskās veselības aprūpes organizēšanas uzlabošanas plānam 2023.-2025.gadam
A3: 2.6. rīcības virziens "Izveidot mobilās psihiatriskās komandas psihiatrisko pacientu aprūpei mājās"
D5: 2024.gadā papildus nepieciešamais finansējums, euro | E5: 2025.gadā papildus nepieciešamais finansējums, euro | F5: 2026.gadā un turpmāk ik gadu
F6: papildus nepieciešamais finansējums, euro | G6: tiks segts NVD finansējuma ietvaros
B7: 2024.-2025.gadiem atbalstam iespējams pieteikties Atveseļošanas un noturības mehānisma plāna 4.3.1.r. reformas “Veselības aprūpes ilgtspēja, pārvaldības stiprināšana, efektīva veselības aprūpes resursu izlietošana, kopējā valsts budžeta veselības aprūpes nozarē palielinājums” atklāta konkursa ietvaros. Pieteikšanās atbalstam negarantē finansējumu pasākuma īstenošanai, jo konkrētā pilotprojekta (kas vērsts uz jaunu vai uzlabotu veselības aprūpes pakalpojumu izstrādi) izvērtēšana tiks veikta starpdisciplinārā vērtēšanas komisijā, kas balstoties uz noteiktiem vērtēšanas kritērijiem pieņems lēmumus par pilotprojektu virzīšanu ieviešanai valsts apmaksātajā veselības aprūpē. | D7: =G16+G17+L26+L36 -> 125488.46 | E7: =G16+G17+L26+L36 -> 125488.46 | F7: 0 | G7: 0
B8: 33.16.00 Pārējo ambulatoro veselības aprūpes pakalpojumu nodrošināšana | D8: 0 | E8: 0 | F8: 116576.34 | G8: 8912.459
B11: 1. Pilotprojekta ietvaros izveidota mobilā psihiatriskā komanda pacientu aprūpei mājās;
B13: Manipulācijas apmaksas nosacījumu paplašīnāšana attiecinot uz psihiatriskās palīdzības kabinetiem | F13: 15.12
B14: Citās sadaļās neiekļautās manipulācijas | C14: 60542 | E14: Transporta izmaksas paliatīvās un psihiskās veselības aprūpes darbinieku izbraukumiem uz pacientu dzīvesvietu Rīgā un 60km rādiusā | G14: Manipulāciju apmaksā VSIA "Bērnu klīniskā universitātes slimnīca" Paliatīvās aprūpes kabineta uzskaitē esošajiem pacientiem līdz 18. gadiem un RPNC pacientiem, kam nozīmēta piespiedu ārstēšana, izbraukumu vizītēm mājās
B15: Pakalpojums | C15: Tarifs, euro | D15: Plānotais pacientu skaits | E15: Plānotais izbraukumu skaits pie viena pacienta | F15: Kopā izbraukumi | G15: Transporta un šofera izmaksas gadā, euro
B16: Transporta izmaksas paliatīvās un psihiskās veselības aprūpes darbinieku izbraukumiem uz pacientu dzīvesvietu Rīgā un 60km rādiusā | C16: 15.12 | D16: 90 | E16: 2 | F16: =E16*D16 -> 180 | G16: =F16*C16 -> 2721.6
B17: Piemaksa par izbraukumu pie psihiatriskajiem pacientiem, kas saņem piespiedu ārstēšanu | C17: 27.02 | D17: 90 | E17: 2 | F17: =E17*D17 -> 180 | G17: =F17*C17 -> 4863.6
B20: Papildus slodze kabineta uzturēšanai
C21: Kabinetu skaits | D21: Ārsts | F21: Ārstniecības un pacientu aprūpes persona | H21: Darba samaksa, euro | I21: Piemaksa par pieejamības nodrošināšanu un darbu paaugstinātas intensitātes apstākļos, euro* | J21: Valsts sociālās apdrošināšanas obligātās iemaksas, euro | K21: Darbības nodrošināšanai nepieciešamie līdzekļi, euro* | L21: Finansējuma apjoms, euro
D22: Personu skaits | E22: Slodzes apjoms | F22: Personu skaits | G22: Slodzes apjoms
B23: Psihiatra | C23: 1 | D23: 1 | E23: 1 | H23: =(E23*1963)*12 -> 23556 | I23: =945*12 -> 11340 | J23: =(H23)*0.2359 -> 5556.8604 | K23: 4372 | L23: =H23+I23+J23+K23 -> 44824.86
B24: Māsas kabinets | C24: 1 | F24: 1 | G24: 0.5 | H24: =(G24*1183)*12 -> 7098 | I24: =945/2*12 -> 5670 | J24: =(H24)*0.2359 -> 1674.4182 | K24: 1765 | L24: =H24+I24+J24+K24 -> 16207.418
B25: Psihologa kabinets | C25: 1 | D25: 1 | E25: 1 | H25: =(E25*1963)*12 -> 23556 | I25: =945*12 -> 11340 | J25: =(H25)*0.2359 -> 5556.8604 | K25: 3416 | L25: =H25+I25+J25+K25 -> 43868.86
B26: Kopā | C26: 3 | D26: 2 | E26: 2 | F26: 1 | G26: 0.5 | H26: =SUM(H23:H25) -> 54210 | I26: 21106 | J26: =SUM(J23:J25) -> 12788.139 | K26: =K23+K24+K25 -> 9553 | L26: =SUM(L23:L25) -> 104901.14
B27: *atbilstoši MK noteikumu Nr.555 10.pielikumam
B29: Pacientu nosūtīšana uz valsts apmaksātām analīzēm, nosakot apreibinošo vielu klātbūtni, un apstiprinošās analīzes ārsta nozīmētiem medikamentiem
B30: Manipulācijas kods | C30: Manipulācijas nosaukums | D30: D | E30: S | F30: M | G30: U | H30: A | I30: N | J30: Tarifs, EUR | K30: Kopā veiktais izmeklējumu skaits | L30: Nepieciešamais papildus finansējums, EUR
B31: JAUNS | C31: Izmeklēšana ar mikromatricu tehnoloģiju uz 10 vielu grupām. Objekts - urīns | D31: 15.97 | E31: 3.77 | F31: 19.56 | G31: 4.74 | H31: 0.38 | I31: 1.12 | J31: 45.54 | K31: =(180+90)/5 -> 54 | L31: =K31*J31 -> 2459.16
B32: JAUNS | C32: Izmeklēšana ar mikromatricu tehnoloģiju uz 10 vielu grupām. Objekts – siekalas | D32: 15.97 | E32: 3.77 | F32: 26.66 | G32: 4.74 | H32: 0.38 | I32: 1.1 | J32: 52.62 | K32: 54 | L32: =K32*J32 -> 2841.48
B33: JAUNS | C33: Izmeklēšana ar mikromatricu tehnoloģiju uz 11 vielu grupām | D33: 15.97 | E33: 3.77 | F33: 19.06 | G33: 4.74 | H33: 0.38 | I33: 1.28 | J33: 45.2 | K33: 54 | L33: =K33*J33 -> 2440.8
B34: JAUNS | C34: Izmeklēšana ar mikromatricu tehnoloģiju uz 13 vielu grupām | D34: 15.97 | E34: 3.77 | F34: 21.04 | G34: 4.74 | H34: 0.38 | I34: 1.12 | J34: 47.02 | K34: 54 | L34: =K34*J34 -> 2539.08
B35: JAUNS | C35: Izmeklēšana ar mikromatricu tehnoloģiju uz 14 vielu grupām. | D35: 15.97 | E35: 3.77 | F35: 24.26 | G35: 4.74 | H35: 0.38 | I35: 1.28 | J35: 50.4 | K35: 54 | L35: =K35*J35 -> 2721.6
J36: Nepieciešamais finansējums, EUR | L36: =SUM(L31:L35) -> 13002.12

Sheet 2.7.
J1: 11.pielikums Psihiskās veselības aprūpes organizēšanas uzlabošanas plānam 2023.-2025.gadam
B3: 2.7. rīcības virziens "Nodrošināt veselības aprūpes pakalpojumu sniedzēja infrastruktūras attīstību, uzlabojot veselības aprūpes pakalpojumu pieejamību un kvalitāti psihiatrijā "
B5: Finansējuma avots | C5: Uzsākšanas termiņš | D5: Apakšprogramma | E5: 2022.gads | F5: 2023.gads | G5: 2024.gads | H5: 2025.gads | I5: turpmākie gadi līdz pasākuma beigām (kopā) | J5: kopā
B6: Eiropas Savienības fondu 2014. – 2020.gada plānošanas perioda darbības programmas "Izaugsme un nodarbinātība" 9.3.2. specifiskā atbalsta mērķis "Uzlabot kvalitatīvu veselības aprūpes pakalpojumu pieejamību, jo īpaši sociālās, teritoriālās atstumtības un nabadzības riskam pakļautajiem iedzīvotājiem, attīstot veselības aprūpes infrastruktūru" | C6: 2021.gads | D6: 80.00.00 | E6: 920000 | F6: 14016196 | G6: 0 | H6: 0 | I6: 0 | J6: =SUM(E6:I6) -> 14936196
B7: Eiropas Savienības kohēzijas politikas programmas 2021.–2027.gadam 4.1.1.1.pasākums "Ārstniecības iestāžu infrastruktūras attīstība" | C7: 2024.gads | D7: 80.00.00* | E7: 0 | F7: 0 | G7: 895788.6 | H7: 1791577.2 | I7: 6270520.2 | J7: =SUM(E7:I7) -> 8957886
B8: KOPĀ: | E8: =SUM(E6+E7) -> 920000 | F8: =SUM(F6+F7) -> 14016196 | G8: =SUM(G6+G7) -> 895788.6 | H8: =SUM(H6+H7) -> 1791577.2 | I8: =SUM(I6+I7) -> 6270520.2 | J8: =SUM(J6+J7) -> 23894082
B9: * jaunajam plānošanas periodam var tik izveidota jaunā apakšprogamma

Sheet 2.8.
L1: 12.pielikums Psihiskās veselības aprūpes organizēšanas uzlabošanas plānam 2023.-2025.gadam
A3: 2.8. rīcības virziens "Izstrādāt un ieviest agrīnas intervences programmu pēc akūtiem psihotiskiem traucējumiem (pirmā epizode)"
A5: Budžeta programmas (apakšprogrammas) kods un nosaukums:
A6: 33.16.00. "Pārējo ambulatoro veselības aprūpes pakalpojumu nodrošināšana"
A8: 1 programmas izmaksas | B8: Plānotais pacientu skaits, 2023. gadā | C8: Plānotais pacientu skaits, 2024. gadā | D8: Turpmāk ik gadu
A9: =M15+M16+M17+M18+M19+M20 -> 304.98 | B9: 50 | C9: 80 | D9: =C9 -> 80
A10: Kopā, euro | B10: =ROUND(B9*A9,0) -> 15249 | C10: =C9*A9 -> 24398.4 | D10: =ROUND(C10,0) -> 24398
B12: Manipulācijas kods | C12: Manipulācijas nosaukums*
D14: D | E14: S | F14: M | G14: U | H14: A | I14: N | J14: P | K14: Tarifs | L14: N | M14: Tarifs
B15: 1_līmenis | C15: Agrīnas intervences programma - 1. līmenis. Iekļauj psihoizglītošanas sesijas ģimenei | D15: 15.75 | E15: 3.72 | F15: 0 | G15: 4.68 | H15: 0.37 | I15: 0.6 | K15: 19.57 | L15: 0.47 | M15: =L15+H15+G15+F15+E15+D15 -> 24.99
B16: 2_līmenis | C16: Agrīnas intervences programma - 2. līmenis. Iekļauts psihologa darbs, nodarbinātības speciālista un sociālā darbinieka darbs | D16: 45.43 | E16: 10.72 | F16: 0 | G16: 13.49 | H16: 1.08 | I16: 1.73 | K16: 48.67 | L16: 1.17 | M16: =L16+H16+G16+F16+E16+D16 -> 71.89
B17: 3_līmenis | C17: Agrīnas intervences programma - 3. līmenis. Iekļauts psihologa darbs, psihoizglītošanas sesija ģimenei, nodarbinātības speciālista konsultācija | D17: 48.9 | E17: 11.54 | F17: 0 | G17: 14.52 | H17: 1.16 | I17: 1.86 | K17: 56.46 | L17: 1.35 | M17: =L17+H17+G17+F17+E17+D17 -> 77.47
B18: 4_līmenis | C18: Agrīnas intervences programma - 4. līmenis. Iekļauts psihologa darbs, psihoizglītošanas sesija ģimenei, nodarbinātības speciālista konsultācija, sociālā darbinieka darbs | D18: 53.78 | E18: 12.69 | F18: 0 | G18: 15.98 | H18: 1.28 | I18: 2.05 | K18: 68.22 | L18: 1.63 | M18: =L18+H18+G18+F18+E18+D18 -> 85.36
B19: 5_līmenis | C19: Agrīnas intervences programma - tikai psihiatra darbs | D19: 0 | E19: 0 | F19: 0 | G19: 0 | H19: 0 | I19: 0 | K19: 0 | L19: 0 | M19: =L19+H19+G19+F19+E19+D19 -> 0
B20: 6_līmenis | C20: Agrīnas intervences programma - 6. līmenis. Iekļauts psihologa darbs, psihoizglītošanas sesija ģimenei | D20: 28.63 | E20: 6.75 | F20: 0 | G20: 8.51 | H20: 0.68 | I20: 1.09 | K20: 29.36 | L20: 0.7 | M20: =L20+H20+G20+F20+E20+D20 -> 45.27
C21: Individuālā ārstēšanas plāna sastādīšana – 30 minūtes | D21: kabineta ietvaros - statistikas manipulācija
C22: Izraksta sagatavošana (u27) pabeidzot intervences programmu, tālāku rekomendāciju sniegšana- 30 minūtes | D22: kabineta ietvaros - statistikas manipulācija
C23: Komandas sapulce – 60 minūtes katru nedēļu | D23: kabineta ietvaros - statistikas manipulācija
C24: Pacienta tālāka ārstēšanas nodrošināšana ambulatori, konsultācija ambulatorajam ārstam: 30 minūtes | D24: kabineta ietvaros - statistikas manipulācija
C25: Rezultātu novērtēšanu pēc intervences programmas pabeigšanas (mērķis sasniegts/daļēji sasniegts/nav sasniegts) | D25: 3 statistikas manipulācijas
B26: *Jaunas manipulācijas
B30: Papildināt ar laikiem//// Tabula Nr.2
B31: Intervence/ | C31: Psihiatrs | D31: Psihoizglītošanas sesijas ar ģimeni | E31: Psihologs | F31: Nodarbinātības speciālists | G31: Sociālais darbinieks vai Ergoterapeits
B32: Mēneši
B33: 1 | C33: 1x/7 dienās | D33: Pirmā sesija
C34: 1x/14 dienās
B35: 2 | C35: 1x/14 dienās | E35: 2x/28 dienās | F35: Pirmā konsultācija | G35: Pirmā konsultācija
C36: 1x/21 dienās
B37: 3 | C37: 1x/21 dienās | D37: Otrā sesija | E37: 2x/28 dienās | F37: Otrā
C38: 1x/21 dienās | F38: konsultācija
B39: 4 | C39: 1x/28 dienās | D39: Trešā sesija | E39: 2x/28 dienās | F39: Tikšanās NVA | G39: Otrā
C40: 1x/28 dienās | G40: konsultācija
B41: 5 | C41: 1x/28 dienās
B42: 6 | C42: 1x/28 dienās | D42: Papildus sesija | E42: Papildus sesija
B45: Papildināt ar laikiem//// Tabula Nr.2
B46: Intervence/ | C46: Psihiatrs | D46: Psihoizglītošanas sesijas ar ģimeni | E46: Psihologs | F46: Nodarbinātības speciālists | G46: Sociālais darbinieks vai Ergoterapeits
B47: Mēneši
B48: 1 | C48: 45’ | D48: 60’
C49: Vizīte-1 | D49: Psihoizglītošana-1
C50: 30’ | D50: (Psihiatrs vai psihologs)
...

Sheet 2.10.
H1: 13.pielikums Psihiskās veselības aprūpes organizēšanas uzlabošanas plānam 2023.-2025.gadam
A2: 2.10. rīcības virziens "Attīstīt telemedicīnas tehnoloģiju izmantošanu, nodrošinot psihiskās veselības aprūpes pakalpojumus"
A4: Veselības ministrijas valsts budžeta apakšprogramma | C4: 2023.gadā papildus nepieciešamais finansējums, euro | D4: 2024.gadā papildus nepieciešamais finansējums, euro | E4: 2025.gadā papildus nepieciešamais finansējums, euro | F4: Turpmāk ik gadu, euro
A5: 33.16.00 Pārējo ambulatoro veselības aprūpes pakalpojumu nodrošināšana | C5: =ROUND((E10+E11+J18+E28)/2,0) -> 178533 | D5: =G10+G11+J18+E28 -> 378329.6 | E5: =D5 -> 378329.6 | F5: =D5 -> 378329.6
A8: Attālinātās konsultācijas | D8: 2023.gads | F8: 2024.gads | H8: 2025.gads
A9: Veids | B9: Skaits gadā* | C9: Pakalpojuma cena, euro | D9: Prognozētais pieaugums (10% gadā) | E9: Prognozētais nepieciešamais finansējums, euro gadā | F9: Prognozētais pieaugums (10% gadā) | G9: Prognozētais nepieciešamais finansējums, euro gadā | H9: Prognozētais pieaugums (10% gadā) | I9: Prognozētais nepieciešamais finansējums, euro gadā
A10: ārsts-ārsts (manipulācija 60037) | B10: 14486 | C10: 11.76 | D10: =1448.6+B10 -> 15934.6 | E10: =C10*D10 -> 187390.9 | F10: =1593.415+D10 -> 17528.015 | G10: =C10*F10 -> 206129.46 | H10: =1752.806+F10 -> 19280.821 | I10: =C10*H10 -> 226742.45
A11: ārsts-pacients (manipulācija 60447) | B11: 1715 | C11: 13.38 | D11: =171.5+B11 -> 1886.5 | E11: =C11*D11 -> 25241.37 | F11: =188.65+D11 -> 2075.15 | G11: =C11*F11 -> 27765.507 | H11: =207.515+F11 -> 2282.665 | I11: =C11*H11 -> 30542.058
A12: *Pēc RPNC statistikas datiem 2021.gadā
A15: 3 papildus slodzes kabinetiem Rīgā un reģionos
D16: 1963 | E16: 945 | G16: 0.2359
A17: Specialitāte | C17: Nepieciešamā papildu slodze | D17: Ārsta darba samaksa gadā, euro | E17: Ārsta piemaksa (psihiatrija) gadā, euro | F17: Darba samaksa kopā gadā, euro | G17: VSAOI gadā, euro | H17: Kabineta fiksētais maksājums, euro MK 1 slodzei gadā | I17: Kabineta nodrošinājuma maksājums gadā, euro | J17: Nepieciešamais papildu finansējums gadam, euro
A18: Psihiatrs | C18: 3 | D18: =C18*$D$16*12 -> 70668 | E18: =C18*$E$16*12 -> 34020 | F18: =SUM(D18:E18) -> 104688 | G18: =ROUND(F18*G16,0) -> 24696 | H18: 4372 | I18: =ROUND(H18*C18,0) -> 13116 | J18: =F18+G18+I18 -> 142500
A20: Konsīliji starp slimnīcām
A21: Nrpk. | B21: Ārstniecības iestāde | C21: Konsīliju skaits gadā** | D21: Pakalpojuma cena, eiro*** | E21: Prognozētais nepieciešamais finansējums, euro gadā
A22: 1 | B22: Daugavpils psihoneiroloģiskā slimnīca | C22: 4 | D22: 80.61 | E22: =C22*D22 -> 322.44
A23: 2 | B23: Slimnīca Ģintermuiža | C23: 4 | D23: 80.61 | E23: =D23*C23 -> 322.44
A24: 3 | B24: Rīgas psihiatrijas un narkoloģijas centrs | C24: 4 | D24: 80.61 | E24: =D24*C24 -> 322.44
A25: 4 | B25: Bērnu PNS Ainaži | C25: 4 | D25: 80.61 | E25: =D25*C25 -> 322.44
A26: 5 | B26: Piejūras slimnīca | C26: 4 | D26: 80.61 | E26: =D26*C26 -> 322.44
A27: 6 | B27: Strenču PNS | C27: 4 | D27: 80.61 | E27: =D27*C27 -> 322.44
D28: Kopā vienā gadā | E28: =SUM(E22:E27) -> 1934.64
A29: **Pēc RNPC ieteikuma paredzēt 1 konsīliju ceturksnī katrai slimnīcai
A30: ***3 speciālistu konsīlija izmaksas pielīdzinātas esošai manipulācijai 01099 Ārstu konsīlijs (3 speciālisti) pacientam, kuram ir nepieciešams izvērtēt Covid-19 vakcināciju, bet ar psihiatra atalgojuma piemaksu. Vienam pacientam vienu reizi norāda konsīlija vadītājs.

Sheet 2.9.
D1: 14.pielikums Psihiskās veselības aprūpes organizēšanas uzlabošanas plānam 2023.-2025.gadam
A3: 2.9. rīcības virziens "Veicināt psihiatru un neirologu sadarbību neirodeģeneratīvo slimību un demenču pacientu ārstniecības jomā"
A5: Budžeta programmas (apakšprogrammas) kods un nosaukums: | D5: Papildus nepieciešamais finansējums 2024.gadam un turpmāk ik gadu, euro
A6: 33.16.00. "Pārējo ambulatoro veselības aprūpes pakalpojumu nodrošināšana" | D6: =ROUND(C10,0) -> 9878
A8: Finansējuma aprēķins ģimenes ārsta konsultācijai ar psihiatru (samaksa psihiatram)
A9: Pacientu skaits mēnesī | B9: 60037: Ārsta-speciālista sniegta attālināta konsultācija ģimenes ārstam vai citas specialitātes ārstam-speciālistam (manipulāciju norāda ārsts-speciālists)** | C9: Papildus nepieciešamais finansējums 2024.gadam un turpmāk ik gadu, euro
A10: 70* | B10: 11.76 | C10: =ROUND(70*B10*12,0) -> 9878
A12: *datu atlasījums - unikālo pacientu (diagnozes F00-F03) skaits pie neirologa (spec. kodi P20, PP21, P62) 2021.gadā
A13: ** Manipulāciju tarifs no 2022. gada

Sheet 2.11.
F1: 15.pielikums Psihiskās veselības aprūpes organizēšanas uzlabošanas plānam 2023.-2025.gadam
B3: 2.11. rīcības virziens "Izstrādāt un ieviest ēšanas traucējumu specializētu ārstēšanas programmu - ambulatori"
C5: Nepieciešamais finansējums 2025. gadā, euro | D5: Nepieciešamais finansējums 2026. gadā, euro | E5: Turpmāk ik gadu, euro
B6: 33.15.00 Laboratorisko izmeklējumu nodrošināšana ambulatorajā aprūpē | C6: =D58/2 -> 75962.946 | D6: =C6*2 -> 151925.89 | E6: =D58 -> 151925.89
B7: 33.16.00 Pārējo ambulatoro veselības aprūpes pakalpojumu nodrošināšana | C7: =D22/2+D59/2 -> 121707.43 | D7: =121707*2 -> 243414 | E7: =D7 -> 243414
B8: Kopā: | C8: =C6+C7 -> 197670.38 | D8: =D6+D7 -> 395339.89 | E8: =E6+E7 -> 395339.89
B11: Manipulācijas nosaukums | C11: D - atalgojums par papildus māsas darbu | D11: S | E11: Medicīniskais uzturs | F11: U | G11: A | H11: N | I11: Tarifs, euro
B12: Piemaksa par speciālo pārtiku un ēšanas uzraudzību pacientiem ar ēšanas traucējumiem (F50) par 1 porciju / 200 ml. | C12: 11.09 | D12: 2.62 | E12: 2.55 | F12: 3.28 | G12: 0.26 | H12: 0.49 | I12: =C12+D12+E12+F12+G12+H12 -> 20.29
C15: 2021.g. iedzīvotāju skaits | D15: Ēšanas traucējumi (2%) | E15: Smagi ēšanas traucējumi (17%)
C16: 1893223 | D16: =C16*0.02 -> 37864.46 | E16: =D16*0.1700009 -> 6436.9923
B17: Kopumā populācijā ir 2–3% anoreksijas slimnieku. Lielākajā riska vecuma grupā starp 12–18 gadiem anoreksija var skart līdz pat 10%. Rīgas centra skolās tās ir aptuveni viena vai 2 meitenes no 15 klases meitenēm.
B18: Anoreksijas diagnoze ir ļoti nopietna un ar ļoti sliktu prognozi. Mirstības līmenis atkarībā no anoreksijas pakāpes ir no 4% līdz 30%. (SPKC)
C21: Porciju daudzums | D21: Izmaksas gadā, euro
B22: Ambulatori iet 2x nedēļa dienas stacionārā (pacientu skaits(10%)*6 reizes mēnesī * 3 mēnešu kurss) | C22: =E16*0.1*6*3 -> 11586.586 | D22: =I12*C22 -> 235091.83
B27: Laboratoriskie izmeklējumi pacientiem, kam nepieciešams speciālais uzturs: | E27: Summa izmeklējumiem gadā, euro:
B28: Izmeklējuma nosaukums | C28: Manipulācijas tarifs | D28: Tarifs, euro
B29: Pilna asins aina | C29: 40042 (Pilna asins aina (hemoglobīns, eritrocīti, leikocīti, trombocīti, hematokrīts, leikocītu formula (vismaz neitrofīli, eozinofīli, bazofīli, limfocīti, monocīti)). Papildus nenorādīt manipulācijas 40010, 40014) | D29: 4.38 | E29: 17.52 | F29: 4x gadā
B30: Bilirubīns | C30: 41052 (Bilirubīns, frakcijas) | D30: 1.59 | E30: 6.36 | F30: 4x gadā
B31: Alanīnaminotrasneferāze (ALAT) | C31: 41022 (ALAT – alanīnaminotransferāze) | D31: 1.3 | E31: 5.2 | F31: 4x gadā
B32: Sārmaina fosfatāze (SF) | C32: 41020 (Sārmainā fosfotāze (SF) ) | D32: 1.3 | E32: 5.2 | F32: 4x gadā
B33: Urīnviela (UREA) | C33: 41004 (Urīnviela) | D33: 1.97 | E33: 7.88 | F33: 4x gadā
B34: Kreatinīns | C34: 41006 (Kreatinīns) | D34: 1.42 | E34: 5.68 | F34: 4x gadā
B35: Kopējais olbaltums | C35: 41001 (Kopējais olbaltums) | D35: 1.58 | E35: 6.32 | F35: 4x gadā
B36: Albumīns | C36: 41002 (Albumīns) | D36: 1.58 | E36: 6.32 | F36: 4x gadā
B37: C reaktīvais olbaltums (CRO) | C37: 41127 (CRO (kvantitatīvi)) | D37: 2.66 | E37: 10.64 | F37: 4x gadā
B38: Glikoze | C38: 41095 (Glikoze asinīs) | D38: 1.62 | E38: 6.48 | F38: 4x gadā
B39: Nātrijs | C39: 41067 (Nātrijs) | D39: 1.3 | E39: 5.2 | F39: 4x gadā
B40: Kālijs | C40: 41065 (Kālijs) | D40: 1.3 | E40: 5.2 | F40: 4x gadā
