Workbook

Sheet 2022.g.2.pusg.
A1: 2.pielikums
A2: Otrā līmeņa profesionālās augstākās izglītības studiju programmas "Skolotājs" tāme ar aktivitāšu sarakstu pa posmiem un tam nepieciešamo finansējumu 01.07.2022.-31.12.2022.
A4: Nr.p.k. | B4: Izmaksu pozīcijas nosaukums | C4: 2022 | J4: Projekta netiešās izmaksas
C5: Jūl. | D5: Aug. | E5: Sept. | F5: Okt. | G5: Nov. | H5: Dec. | I5: Kopā
A6: 1 | B6: Prakšu vadītāju atalgojuma izmaksas | C6: 0 | D6: 0 | E6: 3772.3 | F6: 3772.3 | G6: 3772.3 | H6: 3772.3 | I6: =SUM(C6:H6) -> 15089.2 | J6: =I6*0.15 -> 2263.38
A7: 2 | B7: Programmas īstenošanas personāla atalgojuma izmaksas | C7: 30010.12 | D7: 29973.05 | E7: 30637.96 | F7: 30390.78 | G7: 30637.96 | H7: 30143.6 | I7: =SUM(C7:H7) -> 181793.47 | J7: =I7*0.15 -> 27269.02
A8: 3 | B8: Darba braucieni kuratoriem un prakšu vadītājiem | C8: 0 | D8: 0 | E8: 540 | F8: 540 | G8: 540 | H8: 540 | I8: =SUM(C8:H8) -> 2160
A9: 4 | B9: Mērķstipendiju izmaksas studiju gadā | C9: =(280*85) -> 23800 | D9: =(280*85) -> 23800 | E9: =(280*85) -> 23800 | F9: =(280*85) -> 23800 | G9: =(280*85) -> 23800 | H9: =(280*85) -> 23800 | I9: =SUM(C9:H9) -> 142800
A10: 5 | B10: Mērķstipendiju izmaksas indukcijas gadā | C10: =120*70 -> 8400 | D10: =120*70 -> 8400 | E10: =120*70 -> 8400 | F10: =120*70 -> 8400 | G10: =120*70 -> 8400 | H10: =120*70 -> 8400 | I10: =SUM(C10:H10) -> 50400
A11: 6 | B11: Vasaras mācības | C11: 30000 | D11: 30000 | E11: 0 | F11: 0 | G11: 0 | H11: 0 | I11: =SUM(C11:H11) -> 60000
A12: 7 | B12: Komunikācijas radošās stratēģijas izstrāde un mediju kampaņa | C12: 0 | D12: 0 | E12: 0 | F12: 2000 | G12: 3000 | H12: 5000 | I12: =SUM(C12:H12) -> 10000
B13: KOPĀ | C13: =SUM(C6:C12) -> 92210.12 | D13: =SUM(D6:D12) -> 92173.05 | E13: =SUM(E6:E12) -> 67150.26 | F13: =SUM(F6:F12) -> 68903.08 | G13: =SUM(G6:G12) -> 70150.26 | H13: =SUM(H6:H12) -> 71655.9 | I13: =SUM(C13:H13) -> 462242.67 | J13: =I13+J6+J7 -> 491775.07
A15: Nr.p.k. | B15: Izmaksu pozīcijas nosaukums | C15: Aktivitātes, pieņēmumi un aprēķini
A16: 1 | B16: Prakšu vadītāju atalgojuma izmaksas | C16: 1. Mācību stundu vērošanas: 3 reizes x (8 stundas x 13,20 EUR) x 85 studējošie = 26 928 EUR; 2. Atgriezeniskās saites par mācību stundu plāniem: 4 stundas x 85 studējošie x 13,20 EUR = 4 488 EUR; 3. Prakses vadītāju vadītās metodikas grupas: 12 grupas x 4 reizes x 4 stundas x 13,20 EUR= 2 534,40 EUR. 2022./2023. akadēmiskajā gadā kopā būtu nepieciešams finansējums 33 950,40 EUR apmērā. Prakšu vadītāju darbs plānots 9 mēn.gadā (septembris- maijs). Attiecīgi vid.izmaksas 1mēn. būtu ~3 772,30 EUR mēnesī, bet uz 1 studentu 2022./2023. akadēmiskajā gadā būtu 399,42 EUR.
A17: 2 | B17: Programmas īstenošanas personāla atalgojuma izmaksas | C17: Programmas īstenošanas personāla atbildību jomas programmas posmos: 1.Vienota komunikācija un interesentu apzināšana - Komunikācijas stratēģiskā vadīšana, sadarbība ar partneriem, komunikācijas nodrošināšana sociālajos tīklos, mājas lapā - satura veidošana, izplatīšana, publicitātes pasākumu organizēšana; 2.Interesentu atlase un virzīšana līdz dalībai/ skolu piesaiste un atlase - Vispārējā interesentu izvērtēšana atbilstībai un mērķtiecīga virzīšana būt par dalībnieku (Dalībnieku virzīšana, Anketu aizpildīšana, komptenču izvērtēšana, lomu spēle u.c.), skolu atlase, piesaiste, vakanču analīze, dalībnieku salāgošana ar skolām un dalībnieku atlases procesa koordinēšana, metodoloģiskā vadība, datu bāzes uzturēšana; 3. Studiju (kvalifikācijas) gads - pilnveides grupu vadīšana, atgriezeniskā saite, risku monitorings, vasaras mācību satura plānošana, pilnveides grupu vadīšana, atgriezeniskā saite, risku monitorings,risku mazināšanas atbalsta sniegšana, stundu vērošana 4. Indukcijas gads - pilnveides grupu vadīšana - lekcijas, darbnīcas; prakse - stundu vērošana, atgriezeniskās saites sniegšana, risku monitorings un to novēršana 5.Programmas vadība - programmas saturiskā un procesuālā vadīšana, sadarbība ar partneriem nodrošināšana, stratēģisko iespēju identificēšana un risinājumu prototipēšana, administratīvo procesu vadīšana, iepirkumu, līgumu, rīkojumu, u.c. dokumentācijas nodrošināšana. Detalizēts personāla izmaksu aprēķins ir pieejams 3.pielikumā.
A18: 3 | B18: Darba braucieni kuratoriem un prakšu vadītājiem | C18: Tiek pieņemts, ka darba braucieni būs nepieciešami mācību stundu vērošanai un atgriezeniskās saites saņemšanai ind. 60 studentiem, kuru izglītības iestādes atradīsies ārpus Rīgas, Liepājas un Daugavpils pilsētām. Vidēji 100 km (uz vienu vērošanas reizi jeb 8 stundām mēnesī, rēķinot 10 litrus degvielas patēriņu uz 100 km par cenu indikatīvi 1,80 EUR/litrā 60 studentiem ārpus Rīgas, Liepājas un Daugavpils pilsētām (10 litri x 1,80) x 60 studējošie = 1080 EUR. Pieņemot, ka puse stundu vērošana varētu notikt attālinātā/tiešsaistes formā, 2022./2023. akadēmiskajā gadā būtu nepieciešams finansējums 540,00 EUR mēnesī. Darba braucieni plānoti 9 mēn.gadā (septembris- maijs).
A19: 4 | B19: Mērķstipendiju izmaksas studiju gadā | C19: Mērķstipendijas studiju gada laikā plānotas 280 EUR mēnesī 85 studentiem.
A20: 5 | B20: Mērķstipendiju izmaksas indukcijas gadā | C20: Mērķstipendijas indukcijas gada laikā plānotas 120 EUR mēnesī 70 studentiem, kas 2021./2022.ak.gadā studē otrā līmeņa profesionālās augstākās izglītības studiju programmā "Skolotājs".
A21: 6 | B21: Vasaras mācības | C21: Vasaras ievadmācības (jūlijs, augusts) 3 nedēļu garumā, no kurām 1. nedēļa attālinātā nodarbību formātā, 2. nedēļa - klātienē, 3. nedēļa - nodarbības ar bērniem klātienē. Telpu īres, nakšņošanas un ēdināšanas izmaksas 100 studējošiem (85 studiju gada dalībniekiem un vidēji dienā 15 indukcijas gada dalībniekiem) un vid.20 akadēmiskā un atbalsta personālam 50,00 EUR dienā uz 1 dalībnieku. 2. nedēļa (jūlijs): 50,00 EUR dienā*120 dalībnieki*5d=30 000 EUR; 3. nedēļa (augusts) 50,00 EUR dienā*120 dalībnieki*5d=30 000 EUR.
A22: 7 | B22: Komunikācijas radošās stratēģijas izstrāde un mediju kampaņa | C22: Materiālu izstrāde, mājas lapas atjaunošana, uzturēšana, mediju kampaņa, reklāma un publicitāte: Interesentu uzrunāšanas reklāmas kampaņas vizuālās identitātes izstrāde, atvasinot materiālus no projektā līdz šim izstrādātajiem materiāliem (2500,00 EUR); Informatīvu materiālu (bukleta, infografikas) dizaina izstrāde un druka (1500,00 EUR); Līdz šim izstrādāto grafikas, animācijas, video u.c. formātu reklāmas materiālu pielāgošana atbilstoši projekta interesentu uzrunāšanas reklāmas kampaņas vizuālajai identitātei (3000,00 EUR); Digitālā reklāma interesentu piesaistei (3000,00 EUR).

Sheet 2023.g.1.pusg.
A2: Otrā līmeņa profesionālās augstākās izglītības studiju programmas "Skolotājs" tāme ar aktivitāšu sarakstu pa posmiem un tam nepieciešamo finansējumu 01.01.2023.-30.06.2023.
A4: Kods | B4: Izmaksu pozīcijas nosaukums | C4: 2023 | J4: Projekta netiešās izmaksas
C5: Jan. | D5: Feb. | E5: Mar. | F5: Apr. | G5: Mai. | H5: Jūn. | I5: Kopā
A6: 1 | B6: Prakšu vadītāju atalgojuma izmaksas | C6: 3772.3 | D6: 3772.3 | E6: 3772.3 | F6: 3772.3 | G6: 3772.3 | H6: 0 | I6: =SUM(C6:H6) -> 18861.5 | J6: =I6*0.15 -> 2829.225
A7: 2 | B7: Programmas īstenošanas personāla atalgojuma izmaksas | C7: 30637.96 | D7: 30637.96 | E7: 32306.43 | F7: 32306.43 | G7: 31812.07 | H7: 30699.76 | I7: =SUM(C7:H7) -> 188400.61 | J7: =I7*0.15 -> 28260.092
A8: 3 | B8: Darba braucieni kuratoriem un prakšu vadītājiem | C8: 540 | D8: 540 | E8: 540 | F8: 540 | G8: 540 | H8: 0 | I8: =SUM(C8:H8) -> 2700
A9: 4 | B9: Mērķstipendiju izmaksas studiju gadā | C9: =(280*85) -> 23800 | D9: =(280*85) -> 23800 | E9: =(280*85) -> 23800 | F9: =(280*85) -> 23800 | G9: =(280*85) -> 23800 | H9: =(280*85) -> 23800 | I9: =SUM(C9:H9) -> 142800
A10: 5 | B10: Mērķstipendiju izmaksas indukcijas gadā | C10: =120*70 -> 8400 | D10: =120*70 -> 8400 | E10: =120*70 -> 8400 | F10: =120*70 -> 8400 | G10: =120*70 -> 8400 | H10: 0 | I10: =SUM(C10:H10) -> 42000
A11: 6 | B11: Vasaras mācības | C11: 0 | D11: 0 | E11: 0 | F11: 0 | G11: 0 | H11: 0 | I11: =SUM(C11:H11) -> 0
A12: 7 | B12: Komunikācijas radošās stratēģijas izstrāde un mediju kampaņa | C12: 4000 | D12: 4000 | E12: 5000 | F12: 4000 | G12: 4000 | H12: 0 | I12: =SUM(C12:H12) -> 21000
B13: KOPĀ | C13: =SUM(C6:C12) -> 71150.26 | D13: =SUM(D6:D12) -> 71150.26 | E13: =SUM(E6:E12) -> 73818.73 | F13: =SUM(F6:F12) -> 72818.73 | G13: =SUM(G6:G12) -> 72324.37 | H13: =SUM(H6:H12) -> 54499.76 | I13: =SUM(C13:H13) -> 415762.11 | J13: =I13+J6+J7 -> 446851.43
A15: Nr.p.k. | B15: Izmaksu pozīcijas nosaukums | C15: Aktivitātes, pieņēmumi un aprēķini
A16: 1 | B16: Prakšu vadītāju atalgojuma izmaksas | C16: 1. Mācību stundu vērošanas: 3 reizes x (8 stundas x 13,20 EUR) x 85 studējošie = 26 928 EUR; 2. Atgriezeniskās saites par mācību stundu plāniem: 4 stundas x 85 studējošie x 13,20 EUR = 4 488 EUR; 3. Prakses vadītāju vadītās metodikas grupas: 12 grupas x 4 reizes x 4 stundas x 13,20 EUR= 2 534,40 EUR. 2022./2023. akadēmiskajā gadā kopā būtu nepieciešams finansējums 33 950,40 EUR apmērā. Prakšu vadītāju darbs plānots 9 mēn.gadā (septembris- maijs). Attiecīgi vid.izmaksas 1mēn. būtu ~3 772,30 EUR mēnesī, bet uz 1 studentu 2022./2023. akadēmiskajā gadā būtu 399,42 EUR.
A17: 2 | B17: Programmas īstenošanas personāla atalgojuma izmaksas | C17: Programmas īstenošanas personāla atbildību jomas programmas posmos: 1.Vienota komunikācija un interesentu apzināšana - Komunikācijas stratēģiskā vadīšana, sadarbība ar partneriem, komunikācijas nodrošināšana sociālajos tīklos, mājas lapā - satura veidošana, izplatīšana, publicitātes pasākumu organizēšana; 2.Interesentu atlase un virzīšana līdz dalībai/ skolu piesaiste un atlase - Vispārējā interesentu izvērtēšana atbilstībai un mērķtiecīga virzīšana būt par dalībnieku (Dalībnieku virzīšana, Anketu aizpildīšana, komptenču izvērtēšana, lomu spēle u.c.), skolu atlase, piesaiste, vakanču analīze, dalībnieku salāgošana ar skolām un dalībnieku atlases procesa koordinēšana, metodoloģiskā vadība, datu bāzes uzturēšana; 3. Studiju (kvalifikācijas) gads - pilnveides grupu vadīšana, atgriezeniskā saite, risku monitorings, vasaras mācību satura plānošana, pilnveides grupu vadīšana, atgriezeniskā saite, risku monitorings,risku mazināšanas atbalsta sniegšana, stundu vērošana 4. Indukcijas gads - pilnveides grupu vadīšana - lekcijas, darbnīcas; prakse - stundu vērošana, atgriezeniskās saites sniegšana, risku monitorings un to novēršana 5.Programmas vadība - programmas saturiskā un procesuālā vadīšana, sadarbība ar partneriem nodrošināšana, stratēģisko iespēju identificēšana un risinājumu prototipēšana, administratīvo procesu vadīšana, iepirkumu, līgumu, rīkojumu, u.c. dokumentācijas nodrošināšana Detalizēts personāla izmaksu aprēķins ir pieejams 3.pielikumā.
A18: 3 | B18: Darba braucieni kuratoriem un prakšu vadītājiem | C18: Tiek pieņemts, ka darba braucieni būs nepieciešami mācību stundu vērošanai un atgriezeniskās saites saņemšanai ind. 60 studentiem, kuru izglītības iestādes atradīsies ārpus Rīgas, Liepājas un Daugavpils pilsētām. Vidēji 100 km (uz vienu vērošanas reizi jeb 8 stundām mēnesī, rēķinot 10 litrus degvielas patēriņu uz 100 km par cenu indikatīvi 1,80 EUR/litrā 60 studentiem ārpus Rīgas, Liepājas un Daugavpils pilsētām (10 litri x 1,80) x 60 studējošie = 1080 EUR. Pieņemot, ka puse stundu vērošana varētu notikt attālinātā/tiešsaistes formā, 2022./2023. akadēmiskajā gadā būtu nepieciešams finansējums 540,00 EUR mēnesī. Darba braucieni plānoti 9 mēn.gadā (septembris- maijs).
A19: 4 | B19: Mērķstipendiju izmaksas studiju gadā | C19: Mērķstipendijas studiju gada laikā plānotas 280 EUR mēnesī 85 studentiem.
A20: 5 | B20: Mērķstipendiju izmaksas indukcijas gadā | C20: Mērķstipendijas indukcijas gada laikā plānotas 120 EUR mēnesī 70 studentiem, kas 2021./2022.ak.gadā studē otrā līmeņa profesionālās augstākās izglītības studiju programmā "Skolotājs".
A21: 6 | B21: Vasaras mācības | C21: 2023.g. 1.pusgadā nenotiek.
A22: 7 | B22: Komunikācijas radošās stratēģijas izstrāde un mediju kampaņa | C22: Materiālu izstrāde, mājas lapas atjaunošana, uzturēšana, mediju kampaņa, reklāma un publicitāte: Interesentu uzrunāšanas reklāmas kampaņai izstrādāto reklāmas materiālu izvietošana projekta mērķiem un sasniedzamajiem rezultātiem atbilstošos komunikācijas kanālos, iekļaujot ATL u.c. savstarpēji papildinošus risinājumus (15000,00 EUR); Interesentu uzrunāšanas reklāmas kampaņai atbilstoši operatīvā digitālā mārketinga pakalpojumi, iekļaujot sociālo mediju mārketinga, Google Adwords u.c. savstarpēji papildinošus risinājumus (2000,00 EUR); Sabiedrisko attiecību pakalpojumi projekta vēstījumus atbalstošu viedokļrakstu izstrādei un virzīšanai masu medijos; tiešsaistes pasākumu (tematisku diskusiju un pieredzes stāstu pasākumi) organizēšana (4000,00 EUR).

Sheet 2023.g.2.pusg.
A2: Otrā līmeņa profesionālās augstākās izglītības studiju programmas "Skolotājs" tāme ar aktivitāšu sarakstu pa posmiem un tam nepieciešamo finansējumu 01.07.2023.-31.12.2023.
A4: Nr.p.k. | B4: Izmaksu pozīcijas nosaukums | C4: 2023
C5: Jūl. | D5: Aug. | E5: Sept. | F5: Okt. | G5: Nov. | H5: Dec. | I5: Kopā
A6: 1 | B6: Prakšu vadītāju darba algu izmaksas | C6: 0 | D6: 0 | E6: 4388 | F6: 4388 | G6: 4388 | H6: 4388 | I6: =SUM(C6:H6) -> 17552
A7: 2 | B7: Programmas īstenošanas personāla atalgojuma izmaksas | C7: 30813.459 | D7: 30776.382 | E7: 30637.961 | F7: 30390.781 | G7: 30637.961 | H7: 30143.601 | I7: =SUM(C7:H7) -> 183400.14
A8: 3 | B8: Darba braucieni kuratoriem un prakšu vadītājiem | C8: 0 | D8: 0 | E8: 540 | F8: 540 | G8: 540 | H8: 540 | I8: =SUM(C8:H8) -> 2160
A9: 4 | B9: Mērķstipendiju izmaksas studiju gadā | C9: =(280*100) -> 28000 | D9: =(280*100) -> 28000 | E9: =(280*100) -> 28000 | F9: =(280*100) -> 28000 | G9: =(280*100) -> 28000 | H9: =(280*100) -> 28000 | I9: =SUM(C9:H9) -> 168000
A10: 5 | B10: Mērķstipendiju izmaksas indukcijas gadā | C10: =120*85 -> 10200 | D10: =120*85 -> 10200 | E10: =120*85 -> 10200 | F10: =120*85 -> 10200 | G10: =120*85 -> 10200 | H10: =120*85 -> 10200 | I10: =SUM(C10:H10) -> 61200
A11: 6 | B11: Vasaras mācības | C11: 30000 | D11: 30000 | E11: 0 | F11: 0 | G11: 0 | H11: 0 | I11: =SUM(C11:H11) -> 60000
A12: 7 | B12: Komunikācijas radošās stratēģijas izstrāde un mediju kampaņa | C12: 0 | D12: 0 | E12: 0 | F12: 2000 | G12: 3000 | H12: 2000 | I12: =SUM(C12:H12) -> 7000
B13: KOPĀ | C13: =SUM(C6:C12) -> 99013.459 | D13: =SUM(D6:D12) -> 98976.382 | E13: =SUM(E6:E12) -> 73765.961 | F13: =SUM(F6:F12) -> 75518.781 | G13: =SUM(G6:G12) -> 76765.961 | H13: =SUM(H6:H12) -> 75271.601 | I13: =SUM(C13:H13) -> 499312.14
A15: Nr.p.k. | B15: Izmaksu pozīcijas nosaukums | C15: Aktivitātes, pieņēmumi un aprēķini
A16: 1 | B16: Prakšu vadītāju atalgojuma izmaksas | C16: 1. Mācību stundu vērošanas: 3 reizes x (8 stundas x 13,20 EUR) x 100 studējošie = 31 680,00 EUR; 2. Atgriezeniskās saites par mācību stundu plāniem: 4 stundas x 100 studējošie x 13,20 EUR = 52 80,00 EUR; 3. Prakses vadītāju vadītās metodikas grupas: 12 grupas x 4 reizes x 4 stundas x 13,20 EUR= 2 534,40 EUR. 2023./2024. akadēmiskajā gadā kopā būtu nepieciešams finansējums 39 494,40 EUR apmērā. Prakšu vadītāju darbs plānots 9 mēn.gadā (septembris- maijs). Attiecīgi vid.izmaksas 1mēn. būtu 4388 EUR mēnesī.
A17: 2 | B17: Programmas īstenošanas personāla atalgojuma izmaksas | C17: Programmas īstenošanas personāla atbildību jomas programmas posmos: 1.Vienota komunikācija un interesentu apzināšana - Komunikācijas stratēģiskā vadīšana, sadarbība ar partneriem, komunikācijas nodrošināšana sociālajos tīklos, mājas lapā - satura veidošana, izplatīšana, publicitātes pasākumu organizēšana; 2.Interesentu atlase un virzīšana līdz dalībai/ skolu piesaiste un atlase - Vispārējā interesentu izvērtēšana atbilstībai un mērķtiecīga virzīšana būt par dalībnieku (Dalībnieku virzīšana, Anketu aizpildīšana, komptenču izvērtēšana, lomu spēle u.c.), skolu atlase, piesaiste, vakanču analīze, dalībnieku salāgošana ar skolām un dalībnieku atlases procesa koordinēšana, metodoloģiskā vadība, datu bāzes uzturēšana; 3. Studiju (kvalifikācijas) gads - pilnveides grupu vadīšana, atgriezeniskā saite, risku monitorings, vasaras mācību satura plānošana, pilnveides grupu vadīšana, atgriezeniskā saite, risku monitorings,risku mazināšanas atbalsta sniegšana, stundu vērošana 4. Indukcijas gads - pilnveides grupu vadīšana - lekcijas, darbnīcas; prakse - stundu vērošana, atgriezeniskās saites sniegšana, risku monitorings un to novēršana 5.Programmas vadība - programmas saturiskā un procesuālā vadīšana, sadarbība ar partneriem nodrošināšana, stratēģisko iespēju identificēšana un risinājumu prototipēšana, administratīvo procesu vadīšana, iepirkumu, līgumu, rīkojumu, u.c. dokumentācijas nodrošināšana Detalizēts personāla izmaksu aprēķins ir pieejams 3.pielikumā.
A18: 3 | B18: Darba braucieni kuratoriem un prakšu vadītājiem | C18: Tiek pieņemts, ka darba braucieni būs nepieciešami mācību stundu vērošanai un atgriezeniskās saites saņemšanai ind. 60 studentiem, kuru izglītības iestādes atradīsies ārpus Rīgas, Liepājas un Daugavpils pilsētām. Vidēji 100 km (uz vienu vērošanas reizi jeb 8 stundām mēnesī, rēķinot 10 litrus degvielas patēriņu uz 100 km par cenu indikatīvi 1,80 EUR/litrā 60 studentiem ārpus Rīgas, Liepājas un Daugavpils pilsētām (10 litri x 1,80) x 60 studējošie = 1080 EUR. Pieņemot, ka puse stundu vērošana varētu notikt attālinātā/tiešsaistes formā, 2023./2024. akadēmiskajā gadā būtu nepieciešams finansējums 540,00 EUR mēnesī. Darba braucieni plānoti 9 mēn.gadā (septembris- maijs).
A19: 4 | B19: Mērķstipendiju izmaksas studiju gadā | C19: Mērķstipendijas studiju gada laikā plānotas 280 EUR mēnesī 100 studentiem.
A20: 5 | B20: Mērķstipendiju izmaksas indukcijas gadā | C20: Mērķstipendijas indukcijas gada laikā plānotas 120 EUR mēnesī 85 studentiem, kas 2022./2023.ak.gadā absolvēs otrā līmeņa profesionālās augstākās izglītības studiju programmu "Skolotājs".
A21: 6 | B21: Vasaras mācības | C21: Vasaras ievadmācības (jūlijs, augusts) 3 nedēļu garumā, no kurām 1. nedēļa attālinātā nodarbību formātā, 2. nedēļa - klātienē, 3. nedēļa - nodarbības ar bērniem klātienē. Telpu īres, nakšņošanas un ēdināšanas izmaksas 100 studējošiem un vid.20 akadēmiskā un atbalsta personālam 50,00 EUR dienā uz 1 dalībnieku. 2. nedēļa (jūlijs): 50,00 EUR dienā*120 dalībnieki*5d=30 000 EUR; 3. nedēļa (augusts) 50,00 EUR dienā*120 dalībnieki*5d=30 000 EUR.
A22: 7 | B22: Komunikācijas radošās stratēģijas izstrāde un mediju kampaņa | C22: Materiālu izstrāde, mājas lapas atjaunošana, uzturēšana, mediju kampaņa, reklāma un publicitāte: Interesentu uzrunāšanas reklāmas kampaņas vizuālās identitātes izstrāde, atvasinot materiālus no projektā līdz šim izstrādātajiem materiāliem (2500,00 EUR); Informatīvu materiālu (bukleta, infografikas) dizaina izstrāde un druka (1500,00 EUR); Līdz šim izstrādāto grafikas, animācijas, video u.c. formātu reklāmas materiālu pielāgošana atbilstoši projekta interesentu uzrunāšanas reklāmas kampaņas vizuālajai identitātei (3000,00 EUR).

Sheet 2024.g.1.pusg.
A2: Otrā līmeņa profesionālās augstākās izglītības studiju programmas "Skolotājs" tāme ar aktivitāšu sarakstu pa posmiem un tam nepieciešamo finansējumu 01.01.2024.-30.06.2024.
A4: Nr.p.k. | B4: Izmaksu pozīcijas nosaukums | C4: 2024
C5: Jan. | D5: Feb. | E5: Mar. | F5: Apr. | G5: Mai. | H5: Jūn. | I5: Kopā
A6: 1 | B6: Prakšu vadītāju atalgojuma izmaksas | C6: 4388 | D6: 4388 | E6: 4388 | F6: 4388 | G6: 4388 | H6: 0 | I6: =SUM(C6:H6) -> 21940
A7: 2 | B7: Programmas īstenošanas personāla atalgojuma izmaksas | C7: 30637.961 | D7: 30637.961 | E7: 29834.626 | F7: 29834.626 | G7: 29340.266 | H7: 28227.956 | I7: =SUM(C7:H7) -> 178513.4
A8: 3 | B8: Darba braucieni kuratoriem un prakšu vadītājiem | C8: 540 | D8: 540 | E8: 540 | F8: 540 | G8: 540 | H8: 0 | I8: =SUM(C8:H8) -> 2700
A9: 4 | B9: Mērķstipendiju izmaksas studiju gadā | C9: =(280*100) -> 28000 | D9: =(280*100) -> 28000 | E9: =(280*100) -> 28000 | F9: =(280*100) -> 28000 | G9: =(280*100) -> 28000 | H9: =(280*100) -> 28000 | I9: =SUM(C9:H9) -> 168000
A10: 5 | B10: Mērķstipendiju izmaksas indukcijas gadā | C10: =120*85 -> 10200 | D10: =120*85 -> 10200 | E10: =120*85 -> 10200 | F10: =120*85 -> 10200 | G10: =120*85 -> 10200 | H10: 0 | I10: =SUM(C10:H10) -> 51000
A11: 6 | B11: Vasaras mācības | C11: 0 | D11: 0 | E11: 0 | F11: 0 | G11: 0 | H11: 0 | I11: =SUM(C11:H11) -> 0
A12: 7 | B12: Komunikācijas radošās stratēģijas izstrāde un mediju kampaņa | C12: 4000 | D12: 4000 | E12: 5000 | F12: 4000 | G12: 4000 | H12: 0 | I12: =SUM(C12:H12) -> 21000
B13: KOPĀ | C13: =SUM(C6:C12) -> 77765.961 | D13: =SUM(D6:D12) -> 77765.961 | E13: =SUM(E6:E12) -> 77962.626 | F13: =SUM(F6:F12) -> 76962.626 | G13: =SUM(G6:G12) -> 76468.266 | H13: =SUM(H6:H12) -> 56227.956 | I13: =SUM(C13:H13) -> 443153.4
A15: Nr.p.k. | B15: Izmaksu pozīcijas nosaukums | C15: Aktivitātes, pieņēmumi un aprēķini
A16: 1 | B16: Prakšu vadītāju atalgojuma izmaksas | C16: 1. Mācību stundu vērošanas: 3 reizes x (8 stundas x 13,20 EUR) x 100 studējošie = 31 680,00 EUR; 2. Atgriezeniskās saites par mācību stundu plāniem: 4 stundas x 100 studējošie x 13,20 EUR = 52 80,00 EUR; 3. Prakses vadītāju vadītās metodikas grupas: 12 grupas x 4 reizes x 4 stundas x 13,20 EUR= 2 534,40 EUR. 2023./2024. akadēmiskajā gadā kopā būtu nepieciešams finansējums 39 494,40 EUR apmērā. Prakšu vadītāju darbs plānots 9 mēn.gadā (septembris- maijs). Attiecīgi vid.izmaksas 1mēn. būtu 4388 EUR mēnesī.
A17: 2 | B17: Programmas īstenošanas personāla atalgojuma izmaksas | C17: Programmas īstenošanas personāla atbildību jomas programmas posmos: 1.Vienota komunikācija un interesentu apzināšana - Komunikācijas stratēģiskā vadīšana, sadarbība ar partneriem, komunikācijas nodrošināšana sociālajos tīklos, mājas lapā - satura veidošana, izplatīšana, publicitātes pasākumu organizēšana; 2.Interesentu atlase un virzīšana līdz dalībai/ skolu piesaiste un atlase - Vispārējā interesentu izvērtēšana atbilstībai un mērķtiecīga virzīšana būt par dalībnieku (Dalībnieku virzīšana, Anketu aizpildīšana, komptenču izvērtēšana, lomu spēle u.c.), skolu atlase, piesaiste, vakanču analīze, dalībnieku salāgošana ar skolām un dalībnieku atlases procesa koordinēšana, metodoloģiskā vadība, datu bāzes uzturēšana; 3. Studiju (kvalifikācijas) gads - pilnveides grupu vadīšana, atgriezeniskā saite, risku monitorings, vasaras mācību satura plānošana, pilnveides grupu vadīšana, atgriezeniskā saite, risku monitorings,risku mazināšanas atbalsta sniegšana, stundu vērošana 4. Indukcijas gads - pilnveides grupu vadīšana - lekcijas, darbnīcas; prakse - stundu vērošana, atgriezeniskās saites sniegšana, risku monitorings un to novēršana 5.Programmas vadība - programmas saturiskā un procesuālā vadīšana, sadarbība ar partneriem nodrošināšana, stratēģisko iespēju identificēšana un risinājumu prototipēšana, administratīvo procesu vadīšana, iepirkumu, līgumu, rīkojumu, u.c. dokumentācijas nodrošināšana Detalizēts personāla izmaksu aprēķins ir pieejams 3.pielikumā.
A18: 3 | B18: Darba braucieni kuratoriem un prakšu vadītājiem | C18: Tiek pieņemts, ka darba braucieni būs nepieciešami mācību stundu vērošanai un atgriezeniskās saites saņemšanai ind. 60 studentiem, kuru izglītības iestādes atradīsies ārpus Rīgas, Liepājas un Daugavpils pilsētām. Vidēji 100 km (uz vienu vērošanas reizi jeb 8 stundām mēnesī, rēķinot 10 litrus degvielas patēriņu uz 100 km par cenu indikatīvi 1,80 EUR/litrā 60 studentiem ārpus Rīgas, Liepājas un Daugavpils pilsētām (10 litri x 1,80) x 60 studējošie = 1080 EUR. Pieņemot, ka puse stundu vērošana varētu notikt attālinātā/tiešsaistes formā, 2023./2024. akadēmiskajā gadā būtu nepieciešams finansējums 540,00 EUR mēnesī. Darba braucieni plānoti 9 mēn.gadā (septembris- maijs).
A19: 4 | B19: Mērķstipendiju izmaksas studiju gadā | C19: Mērķstipendijas studiju gada laikā plānotas 280 EUR mēnesī 100 studentiem.
A20: 5 | B20: Mērķstipendiju izmaksas indukcijas gadā | C20: Mērķstipendijas indukcijas gada laikā plānotas 120 EUR mēnesī 85 studentiem, kas 2022./2023.ak.gadā absolvēs otrā līmeņa profesionālās augstākās izglītības studiju programmu "Skolotājs".
A21: 6 | B21: Vasaras mācības | C21: 2024.g. 1.pusgadā nenotiek.
A22: 7 | B22: Komunikācijas radošās stratēģijas izstrāde un mediju kampaņa | C22: Materiālu izstrāde, mājas lapas atjaunošana, uzturēšana, mediju kampaņa, reklāma un publicitāte: Interesentu uzrunāšanas reklāmas kampaņai izstrādāto reklāmas materiālu izvietošana projekta mērķiem un sasniedzamajiem rezultātiem atbilstošos komunikācijas kanālos, iekļaujot ATL u.c. savstarpēji papildinošus risinājumus (15000,00 EUR); Interesentu uzrunāšanas reklāmas kampaņai atbilstoši operatīvā digitālā mārketinga pakalpojumi, iekļaujot sociālo mediju mārketinga, Google Adwords u.c. savstarpēji papildinošus risinājumus (2000,00 EUR); Sabiedrisko attiecību pakalpojumi projekta vēstījumus atbalstošu viedokļrakstu izstrādei un virzīšanai masu medijos; tiešsaistes pasākumu (tematisku diskusiju un pieredzes stāstu pasākumi) organizēšana (4000,00 EUR).

Sheet 2024.g.2.pusg.
A2: Otrā līmeņa profesionālās augstākās izglītības studiju programmas "Skolotājs" tāme ar aktivitāšu sarakstu pa posmiem un tam nepieciešamo finansējumu 01.07.2024.-31.12.2024.
A4: Nr.p.k. | B4: Izmaksu pozīcijas nosaukums | C4: 2023
C5: Jūl. | D5: Aug. | E5: Sept. | F5: Okt. | G5: Nov. | H5: Dec. | I5: Kopā
A6: 1 | B6: Prakšu vadītāju darba algu izmaksas | C6: 0 | D6: 0 | E6: 4388 | F6: 4388 | G6: 4388 | H6: 4388 | I6: =SUM(C6:H6) -> 17552
A7: 2 | B7: Programmas īstenošanas personāla atalgojuma izmaksas | C7: 30813.459 | D7: 30776.382 | E7: 30637.961 | F7: 30390.781 | G7: 30637.961 | H7: 30143.601 | I7: =SUM(C7:H7) -> 183400.14
A8: 3 | B8: Darba braucieni kuratoriem un prakšu vadītājiem | C8: 0 | D8: 0 | E8: 540 | F8: 540 | G8: 540 | H8: 540 | I8: =SUM(C8:H8) -> 2160
A9: 4 | B9: Mērķstipendiju izmaksas studiju gadā | C9: =(280*100) -> 28000 | D9: =(280*100) -> 28000 | E9: =(280*100) -> 28000 | F9: =(280*100) -> 28000 | G9: =(280*100) -> 28000 | H9: =(280*100) -> 28000 | I9: =SUM(C9:H9) -> 168000
A10: 5 | B10: Mērķstipendiju izmaksas indukcijas gadā | C10: =120*100 -> 12000 | D10: =120*100 -> 12000 | E10: =120*100 -> 12000 | F10: =120*100 -> 12000 | G10: =120*100 -> 12000 | H10: =120*100 -> 12000 | I10: =SUM(C10:H10) -> 72000
A11: 6 | B11: Vasaras mācības | C11: 30000 | D11: 30000 | E11: 0 | F11: 0 | G11: 0 | H11: 0 | I11: =SUM(C11:H11) -> 60000
A12: 7 | B12: Komunikācijas radošās stratēģijas izstrāde un mediju kampaņa | C12: 0 | D12: 0 | E12: 0 | F12: 2000 | G12: 3000 | H12: 2000 | I12: =SUM(C12:H12) -> 7000
B13: KOPĀ | C13: =SUM(C6:C12) -> 100813.46 | D13: =SUM(D6:D12) -> 100776.38 | E13: =SUM(E6:E12) -> 75565.961 | F13: =SUM(F6:F12) -> 77318.781 | G13: =SUM(G6:G12) -> 78565.961 | H13: =SUM(H6:H12) -> 77071.601 | I13: =SUM(C13:H13) -> 510112.14
A15: Nr.p.k. | B15: Izmaksu pozīcijas nosaukums | C15: Aktivitātes, pieņēmumi un aprēķini
A16: 1 | B16: Prakšu vadītāju atalgojuma izmaksas | C16: 1. Mācību stundu vērošanas: 3 reizes x (8 stundas x 13,20 EUR) x 100 studējošie = 31 680,00 EUR; 2. Atgriezeniskās saites par mācību stundu plāniem: 4 stundas x 100 studējošie x 13,20 EUR = 52 80,00 EUR; 3. Prakses vadītāju vadītās metodikas grupas: 12 grupas x 4 reizes x 4 stundas x 13,20 EUR= 2 534,40 EUR. 2024./2025. akadēmiskajā gadā kopā būtu nepieciešams finansējums 39 494,40 EUR apmērā. Prakšu vadītāju darbs plānots 9 mēn.gadā (septembris- maijs). Attiecīgi vid.izmaksas 1mēn. būtu 4388 EUR mēnesī.
A17: 2 | B17: Programmas īstenošanas personāla atalgojuma izmaksas | C17: Programmas īstenošanas personāla atbildību jomas programmas posmos: 1.Vienota komunikācija un interesentu apzināšana - Komunikācijas stratēģiskā vadīšana, sadarbība ar partneriem, komunikācijas nodrošināšana sociālajos tīklos, mājas lapā - satura veidošana, izplatīšana, publicitātes pasākumu organizēšana; 2.Interesentu atlase un virzīšana līdz dalībai/ skolu piesaiste un atlase - Vispārējā interesentu izvērtēšana atbilstībai un mērķtiecīga virzīšana būt par dalībnieku (Dalībnieku virzīšana, Anketu aizpildīšana, komptenču izvērtēšana, lomu spēle u.c.), skolu atlase, piesaiste, vakanču analīze, dalībnieku salāgošana ar skolām un dalībnieku atlases procesa koordinēšana, metodoloģiskā vadība, datu bāzes uzturēšana; 3. Studiju (kvalifikācijas) gads - pilnveides grupu vadīšana, atgriezeniskā saite, risku monitorings, vasaras mācību satura plānošana, pilnveides grupu vadīšana, atgriezeniskā saite, risku monitorings,risku mazināšanas atbalsta sniegšana, stundu vērošana 4. Indukcijas gads - pilnveides grupu vadīšana - lekcijas, darbnīcas; prakse - stundu vērošana, atgriezeniskās saites sniegšana, risku monitorings un to novēršana 5.Programmas vadība - programmas saturiskā un procesuālā vadīšana, sadarbība ar partneriem nodrošināšana, stratēģisko iespēju identificēšana un risinājumu prototipēšana, administratīvo procesu vadīšana, iepirkumu, līgumu, rīkojumu, u.c. dokumentācijas nodrošināšana Detalizēts personāla izmaksu aprēķins ir pieejams 3.pielikumā.
A18: 3 | B18: Darba braucieni kuratoriem un prakšu vadītājiem | C18: Tiek pieņemts, ka darba braucieni būs nepieciešami mācību stundu vērošanai un atgriezeniskās saites saņemšanai ind. 60 studentiem, kuru izglītības iestādes atradīsies ārpus Rīgas, Liepājas un Daugavpils pilsētām. Vidēji 100 km (uz vienu vērošanas reizi jeb 8 stundām mēnesī, rēķinot 10 litrus degvielas patēriņu uz 100 km par cenu indikatīvi 1,80 EUR/litrā 60 studentiem ārpus Rīgas, Liepājas un Daugavpils pilsētām (10 litri x 1,80) x 60 studējošie = 1080 EUR. Pieņemot, ka puse stundu vērošana varētu notikt attālinātā/tiešsaistes formā, 2024./2025. akadēmiskajā gadā būtu nepieciešams finansējums 540,00 EUR mēnesī. Darba braucieni plānoti 9 mēn.gadā (septembris- maijs).
A19: 4 | B19: Mērķstipendiju izmaksas studiju gadā | C19: Mērķstipendijas studiju gada laikā plānotas 280 EUR mēnesī 100 studentiem.
A20: 5 | B20: Mērķstipendiju izmaksas indukcijas gadā | C20: Mērķstipendijas indukcijas gada laikā plānotas 120 EUR mēnesī 100 studentiem, kas 2023./2024.ak.gadā absolvēs otrā līmeņa profesionālās augstākās izglītības studiju programmu "Skolotājs".
A21: 6 | B21: Vasaras mācības | C21: Vasaras ievadmācības (jūlijs, augusts) 3 nedēļu garumā, no kurām 1. nedēļa attālinātā nodarbību formātā, 2. nedēļa - klātienē, 3. nedēļa - nodarbības ar bērniem klātienē. Telpu īres, nakšņošanas un ēdināšanas izmaksas 100 studējošiem un vid.20 akadēmiskā un atbalsta personālam 50,00 EUR dienā uz 1 dalībnieku. 2. nedēļa (jūlijs): 50,00 EUR dienā*120 dalībnieki*5d=30 000 EUR; 3. nedēļa (augusts) 50,00 EUR dienā*120 dalībnieki*5d=30 000 EUR.
A22: 7 | B22: Komunikācijas radošās stratēģijas izstrāde un mediju kampaņa | C22: Materiālu izstrāde, mājas lapas atjaunošana, uzturēšana, mediju kampaņa, reklāma un publicitāte: Interesentu uzrunāšanas reklāmas kampaņas vizuālās identitātes izstrāde, atvasinot materiālus no projektā līdz šim izstrādātajiem materiāliem (2500,00 EUR); Informatīvu materiālu (bukleta, infografikas) dizaina izstrāde un druka (1500,00 EUR); Līdz šim izstrādāto grafikas, animācijas, video u.c. formātu reklāmas materiālu pielāgošana atbilstoši projekta interesentu uzrunāšanas reklāmas kampaņas vizuālajai identitātei (3000,00 EUR).

Sheet Finansējums
A1: 1.tabula
A2: Nepieciešamā papildu finansējuma sadalījums pa kalendārajiem gadiem un finansējuma avotiem
A4: Gads/pusgads | C4: Nepieciešamais papildu finansējums, EUR | D4: Finansējuma avots
A5: 2022.gads | B5: 2022.g. jūlijs- decembris | C5: ='2022.g.2.pusg.'!J13 -> 491775.07 | D5: ESF: 8.2.1.SAM 1.un 2.kārtas pieejamais neizlietotais finansējums 13 958 EUR, 8.2.1.SAM 1.kārtas LU, DU, LiepU projektu ietaupījumi 231 921 EUR, 8.2.2.SAM pieejamais neizlietotais finansējums 245 896,07 EUR
A6: 2023.gads | B6: 2023.g. janvāris- jūnijs | C6: ='2023.g.1.pusg.'!J13 -> 446851.43 | D6: ESF: 8.2.2.SAM pieejamais neizlietotais finansējums 446 851,43 EUR
B7: 2023.g. jūlijs- decembris | C7: ='2023.g.2.pusg.'!I13 -> 499312.14 | D7: Valsts budžeta finansējums- budžeta apakšprogramma 03.01.00 "Augstskolas", finansējums 499 312,14 EUR (avots- iekšējā pārdale)
B8: Kopā 2023.g. | C8: =ROUNDUP(SUM(C6:C7),0) -> 946164 | D8: ESF / VB
A9: 2024.gads un turpmākie gadi | B9: 2024.g. janvāris- jūnijs | C9: ='2024.g.1.pusg.'!I13 -> 443153.4 | D9: Valsts budžeta finansējums - budžeta apakšprogramma 03.01.00 "Augstskolas", ir pieejams finansējums 764 880 EUR (avots- iekšējā pārdale), papildus nepieciešams valsts budžeta finansējums 188 386 EUR no 2024.gada un turpmāk ik gadu
B10: 2024.g. jūlijs- decembris | C10: ='2024.g.2.pusg.'!I13 -> 510112.14
B11: Kopā 2024.g. | C11: =ROUNDUP(SUM(C9:C10),0) -> 953266 | D11: VB
A13: 2.tabula
A14: Nepieciešamā papildu finansējuma sadalījums pa finansējuma avotiem 2022./2023. akadēmiskajā gadā
A16: Akadēmiskais gads | C16: Nepieciešamais papildu finansējums, EUR | D16: Finansējuma avots
A17: 2022./2023.ak.g. | C17: =ROUNDUP(C5+C6,0) -> 938627 | D17: ESF 8.2.1.SAM pieejamais neizlietotais finansējums 1.kārtā | E17: ESF 8.2.1.SAM pieejamais neizlietotais finansējums 2.kārtā | F17: ESF 8.2.1.SAM 1.kārtas LU, DU, LiepU projektu ietaupījumi | G17: ESF 8.2.2.SAM pieejamais neizlietotais finansējums
D18: 4806 | E18: 9152 | F18: 231921 | G18: =C17-D18-E18-F18 -> 692748
