Workbook

Sheet 09.03-31.03
A1: Pārskats par sabiedriskā transporta pakalpojumos radītajiem izdevumiem un zaudējumiem sakarā ar noteiktajiem ierobežojumiem
A2: Periods | C2: Vienības | D2: Autobusi
A3: 1.SADAĻA | B3: KOPSUMMA ((N - P) x Izm) | D3: =(D10-D9)*D13 -> 0
A4: 09.03.2021.- 31.03.2021. | B4: Iesaistīto transportlīdzekļu vienības | C4: skaits | D4: 35
B5: (S) Plānotais reisu skaits | D5: 10765
B6: (R) Faktiskais reisu skaits (S + RP-RA) | D6: =D5+D7-D8 -> 10765
B7: to starpā papildu reisi (RP) | D7: 0
B8: to starpā atceltie reisi (RA) | D8: 0
B9: (P) Plānotais nobraukums | C9: km | D9: 110636.58
B10: (N) Faktiskais nobraukums (P + NP-NA) | D10: =D9+D12-D11 -> 110636.58
B11: to starpā papildu reisos veiktais nobraukums (NP) | D11: 0
B12: to starpā atcelto reisu nobraukums (NA) | D12: 0
A13: 01.03.2021.-31.03.2021. | B13: (Izm) 1 km pašizmaksa | C13: EUR/km | D13: 2.27 | E13: =atskaites_jedox!AC8 -> 2.2827
A14: 2.SADAĻA | B14: KOPSUMMA (1 vienības cenas reizinājums ar preču/pakalpojumu skaitu; summa ( K x Z)) | D14: =SUM(D16*D23,D17*D24,D18*D25,D19*D26,D20*D27,D21*D28) -> 1493
A15: 09.03.2021.- 31.03.2021. | B15: (Z) Pakalpojumi, pasākumi un materiāli Covid-19 pandēmijas ierobežošanai | C15: skaits (jānorāda atbilstoša mērvienība gab., litri, reižu skaits, darba stundas u.c.)
B16: Dezinfekcijas līdzekļi | D16: 81.4
B17: Sejas maskas | D17: 0
B18: Sociālā distancēšanās sabiedriskā transportā | D18: 0
B19: Transportlīdzekļu dezinfekcija | D19: 543
B20: Transportlīdzekļu papildu mazgāšana | D20: 0
B21: Citi izdevumi (norādīt kādi) | D21: 0
B22: (K) Faktiskās izmaksas Covid-19 pandēmijas ierobežošanai, t.sk. | C22: EUR/vien bez PVN
B23: Dezinfekcijas līdzekļi | D23: 5
B24: Sejas maskas | D24: 0
B25: Sociālā distancēšanās sabiedriskā transportā | D25: 0
B26: Transportlīdzekļu dezinfekcija, to starpā darba spēka izmaksas | D26: 2
B27: Transportlīdzekļu papildu mazgāšana, to starpā darba spēka izmaksas | D27: 0
B28: Citi izdevumi (norādīt kādi) | D28: 0
A29: 3.SADAĻA | B29: KOPSUMMA ((C/D-A/N) x N) | D29: =((D32/D33)-(D30/D31))*D31 -> 36813.681
A30: 09.03.2021.-31.03.2021. | B30: (A) No pasažieriem, t.sk., personām, kurām noteikti pašvaldības noteiktie braukšanas maksas atvieglojumi, saņemtie ieņēmumi par sniegto sabiedriskā transporta pakalpojumu | C30: EUR bez PVN | D30: 64326 | E30: =atskaites_jedox!AA8 -> 85138.42
B31: (N) Faktiskais nobraukums | C31: km | D31: 110636.58 | E31: =atskaites_jedox!AB8 -> 149227.54
A32: 09.03.2019.-31.03.2019. | B32: (C) No pasažieriem, t.sk., personām, kurām noteikti pašvaldības noteiktie braukšanas maksas atvieglojumi, saņemtie ieņēmumi par sniegto sabiedriskā transporta pakalpojumu | C32: EUR bez PVN | D32: 113354 | E32: =atskaites_jedox!C8 -> 165363.36
B33: (D) Faktiskais nobraukums | C33: km | D33: 123997.81 | E33: =atskaites_jedox!D8 -> 168272.73

Sheet aprīlis
A1: Pārskats par sabiedriskā transporta pakalpojumos radītajiem izdevumiem un zaudējumiem sakarā ar noteiktajiem ierobežojumiem
A2: Periods | C2: Vienības | D2: Autobusi
A3: 1.SADAĻA | B3: KOPSUMMA ((N - P) x Izm) | D3: =(D10-D9)*D13 -> -8249.2898 | E3: =((E10-D9)*D13) -> -8249.2898
A4: 01.04.2021.- 30.04.2021. | B4: Iesaistīto transportlīdzekļu vienības | C4: skaits | D4: 35
B5: (S) Plānotais reisu skaits | D5: 15918
B6: (R) Faktiskais reisu skaits (S + RP-RA) | D6: 15540 | E6: =D5-D8 -> 15540
B7: to starpā papildu reisi (RP) | D7: 0 | E7: =E6=D6 -> TRUE
B8: to starpā atceltie reisi (RA) | D8: 378
B9: (P) Plānotais nobraukums | C9: km | D9: 164219.98
B10: (N) Faktiskais nobraukums (P + NP-NA) | D10: =D9+D11-D12 -> 160104.8 | E10: =D9-E12 -> 160104.8
B11: to starpā papildu reisos veiktais nobraukums (NP)
B12: to starpā atcelto reisu nobraukums (NA) | D12: 4115.18 | E12: =4115.18 -> 4115.18
A13: 01.04.2021.-30.04.2021. | B13: (Izm) 1 km pašizmaksa | C13: EUR/km | D13: 2.0046 | F13: =atskaites_jedox!AF8 -> 2.0046
A14: 2.SADAĻA | B14: KOPSUMMA (1 vienības cenas reizinājums ar preču/pakalpojumu skaitu; summa ( K x Z)) | D14: =SUM(D16*D23,D17*D24,D18*D25,D19*D26,D20*D27,D21*D28) -> 2574
A15: 01.04.2021.- 30.04.2021. | B15: (Z) Pakalpojumi, pasākumi un materiāli Covid-19 pandēmijas ierobežošanai | C15: skaits (jānorāda atbilstoša mērvienība gab., litri, reižu skaits, darba stundas u.c.)
B16: Dezinfekcijas līdzekļi | D16: 140.4
B17: Sejas maskas
B18: Sociālā distancēšanās sabiedriskā transportā
B19: Transportlīdzekļu dezinfekcija | D19: 936
B20: Transportlīdzekļu papildu mazgāšana
B21: Citi izdevumi (norādīt kādi)
B22: (K) Faktiskās izmaksas Covid-19 pandēmijas ierobežošanai, t.sk. | C22: EUR/vien bez PVN
B23: Dezinfekcijas līdzekļi | D23: 5
B24: Sejas maskas
B25: Sociālā distancēšanās sabiedriskā transportā
B26: Transportlīdzekļu dezinfekcija, to starpā darba spēka izmaksas | D26: 2
B27: Transportlīdzekļu papildu mazgāšana, to starpā darba spēka izmaksas
B28: Citi izdevumi (norādīt kādi)
A29: 3.SADAĻA | B29: KOPSUMMA ((C/D-A/N) x N) | D29: =((D32/D33)-(D30/D31))*D31 -> 74237.224
A30: 01.04.2021.-30.04.2021. | B30: (A) No pasažieriem, t.sk., personām, kurām noteikti pašvaldības noteiktie braukšanas maksas atvieglojumi, saņemtie ieņēmumi par sniegto sabiedriskā transporta pakalpojumu | C30: EUR bez PVN | D30: 88981 | F30: =atskaites_jedox!AD8 -> 88980.61
B31: (N) Faktiskais nobraukums | C31: km | D31: 160105 | F31: =atskaites_jedox!AE8 -> 160104.8
A32: 01.04.2019.-30.04.2019. | B32: (C) No pasažieriem, t.sk., personām, kurām noteikti pašvaldības noteiktie braukšanas maksas atvieglojumi, saņemtie ieņēmumi par sniegto sabiedriskā transporta pakalpojumu | C32: EUR bez PVN | D32: 165356 | F32: =atskaites_jedox!F8 -> 165356.45
B33: (D) Faktiskais nobraukums | C33: km | D33: 162202 | F33: =atskaites_jedox!G8 -> 162202.15

Sheet maijs
A1: Pārskats par sabiedriskā transporta pakalpojumos radītajiem izdevumiem un zaudējumiem sakarā ar noteiktajiem ierobežojumiem
A2: Periods | C2: Vienības | D2: Autobusi
A3: 1.SADAĻA | B3: KOPSUMMA ((N - P) x Izm) | D3: =(D10-D9)*D13 -> 0
A4: 01.05.2021.- 31.05.2021. | B4: Iesaistīto transportlīdzekļu vienības | C4: skaits | D4: 35
B5: (S) Plānotais reisu skaits | D5: 16353
B6: (R) Faktiskais reisu skaits (S + RP-RA) | D6: 16353
B7: to starpā papildu reisi (RP)
B8: to starpā atceltie reisi (RA)
B9: (P) Plānotais nobraukums | C9: km | D9: 168637.2
B10: (N) Faktiskais nobraukums (P + NP-NA) | D10: 168637.2
B11: to starpā papildu reisos veiktais nobraukums (NP)
B12: to starpā atcelto reisu nobraukums (NA)
A13: 01.05.2021.-31.05.2021. | B13: (Izm) 1 km pašizmaksa | C13: EUR/km | D13: 2.4417 | E13: =atskaites_jedox!AI8 -> 2.4417
A14: 2.SADAĻA | B14: KOPSUMMA (1 vienības cenas reizinājums ar preču/pakalpojumu skaitu; summa ( K x Z)) | D14: =SUM(D16*D23,D17*D24,D18*D25,D19*D26,D20*D27,D21*D28) -> 2730.75
A15: 01.05.2021.- 31.05.2021. | B15: (Z) Pakalpojumi, pasākumi un materiāli Covid-19 pandēmijas ierobežošanai | C15: skaits (jānorāda atbilstoša mērvienība gab., litri, reižu skaits, darba stundas u.c.)
B16: Dezinfekcijas līdzekļi | D16: 148.95
B17: Sejas maskas
B18: Sociālā distancēšanās sabiedriskā transportā
B19: Transportlīdzekļu dezinfekcija | D19: 993
B20: Transportlīdzekļu papildu mazgāšana
B21: Citi izdevumi (norādīt kādi)
B22: (K) Faktiskās izmaksas Covid-19 pandēmijas ierobežošanai, t.sk. | C22: EUR/vien bez PVN
B23: Dezinfekcijas līdzekļi | D23: 5
B24: Sejas maskas
B25: Sociālā distancēšanās sabiedriskā transportā
B26: Transportlīdzekļu dezinfekcija, to starpā darba spēka izmaksas | D26: 2
B27: Transportlīdzekļu papildu mazgāšana, to starpā darba spēka izmaksas
B28: Citi izdevumi (norādīt kādi)
A29: 3.SADAĻA | B29: KOPSUMMA ((C/D-A/N) x N) | D29: =((D32/D33)-(D30/D31))*D31 -> 61569.412
A30: 01.05.2021.-31.05.2021. | B30: (A) No pasažieriem, t.sk., personām, kurām noteikti pašvaldības noteiktie braukšanas maksas atvieglojumi, saņemtie ieņēmumi par sniegto sabiedriskā transporta pakalpojumu | C30: EUR bez PVN | D30: 99294 | E30: =atskaites_jedox!AG8 -> 99293.63
B31: (N) Faktiskais nobraukums | C31: km | D31: 168637.2 | E31: =atskaites_jedox!AH8 -> 168637.2
A32: 01.05.2019.-31.05.2019. | B32: (C) No pasažieriem, t.sk., personām, kurām noteikti pašvaldības noteiktie braukšanas maksas atvieglojumi, saņemtie ieņēmumi par sniegto sabiedriskā transporta pakalpojumu | C32: EUR bez PVN | D32: 160247 | E32: =atskaites_jedox!I8 -> 160246.99
B33: (D) Faktiskais nobraukums | C33: km | D33: 167991 | E33: =atskaites_jedox!J8 -> 167991
A37: Informāciju aizpilda katra pašvaldība par pārvadājumu veidiem, kādi ir noteikti attiecīgā pilsētā
A38: Tabulā iekļauj norādītajā laika periodā radušās pamatotās izmaksas, kas attiecināmas uz sabiedriskā transporta pakalpojuma izpildē noteiktajiem drošības pasākumiem Covid-19 infekcijas izplatības ierobežošanai.
A39: Pašvaldībai ir pienākums pārliecināties par izmaksu pamatotību, to apjomu vai attiecināto apmēru.
A40: 1.SADAĻĀ tiek aprēķināti faktiskie izdevumi, kas radušies saistībā ar atcelto reisu vai/un papildu reisu nodrošināšanu sakarā ar pakalpojuma apjoma ierobežošanu un 50% pasažieru piepildījuma noteikšanu
A41: 2.SADAĻĀ nosakāmi kopējie izdevumi par Covid-19 infekcijas ierobežošanas pasākumiem, kas izpildāmi atbilstoši MK 09.06.2020. noteikumiem Nr.360; MK 06.11.2020. rīkojumam Nr.655
A42: 3.SADAĻĀ nosakāma kopējā ietekme uz ieņēmumu apgrozījumu, ko radījusi Covid-19 infekcijas apkarošanā radītā iedzīvotāju mobilitātes ierobežošana, pakalpojuma apjoma ierobežošana, kā arī citi ārkārtējās situācijas laikā un pēc tās noteiktie ierobežojumi atsevišķām nozarēm
A44: Paskaidrojumi
...

Sheet junijs
A1: Pārskats par sabiedriskā transporta pakalpojumos radītajiem izdevumiem un zaudējumiem sakarā ar noteiktajiem ierobežojumiem
A2: Periods | C2: Vienības | D2: Autobusi
A3: 1.SADAĻA | B3: KOPSUMMA ((N - P) x Izm) | D3: =(D10-D9)*D13 -> 0
A4: 01.06.2021.- 30.06.2021. | B4: Iesaistīto transportlīdzekļu vienības | C4: skaits | D4: 35
B5: (S) Plānotais reisu skaits | D5: 15853
B6: (R) Faktiskais reisu skaits (S + RP-RA) | D6: 15853
B7: to starpā papildu reisi (RP)
B8: to starpā atceltie reisi (RA)
B9: (P) Plānotais nobraukums | C9: km | D9: 163503.36
B10: (N) Faktiskais nobraukums (P + NP-NA) | D10: 163503.36 | E10: =atskaites_jedox!AK8 -> 163503.36
B11: to starpā papildu reisos veiktais nobraukums (NP)
B12: to starpā atcelto reisu nobraukums (NA)
A13: 01.06.2021.-30.06.2021. | B13: (Izm) 1 km pašizmaksa | C13: EUR/km | D13: 2.2264 | E13: =atskaites_jedox!AL8 -> 2.2264
A14: 2.SADAĻA | B14: KOPSUMMA (1 vienības cenas reizinājums ar preču/pakalpojumu skaitu; summa ( K x Z)) | D14: =SUM(D16*D23,D17*D24,D18*D25,D19*D26,D20*D27,D21*D28) -> 2623.5
A15: 01.06.2021.- 30.06.2021. | B15: (Z) Pakalpojumi, pasākumi un materiāli Covid-19 pandēmijas ierobežošanai | C15: skaits (jānorāda atbilstoša mērvienība gab., litri, reižu skaits, darba stundas u.c.)
B16: Dezinfekcijas līdzekļi | D16: 143.1
B17: Sejas maskas
B18: Sociālā distancēšanās sabiedriskā transportā
B19: Transportlīdzekļu dezinfekcija | D19: 954
B20: Transportlīdzekļu papildu mazgāšana
B21: Citi izdevumi (norādīt kādi)
B22: (K) Faktiskās izmaksas Covid-19 pandēmijas ierobežošanai, t.sk. | C22: EUR/vien bez PVN
B23: Dezinfekcijas līdzekļi | D23: 5
B24: Sejas maskas
B25: Sociālā distancēšanās sabiedriskā transportā
B26: Transportlīdzekļu dezinfekcija, to starpā darba spēka izmaksas | D26: 2
B27: Transportlīdzekļu papildu mazgāšana, to starpā darba spēka izmaksas
B28: Citi izdevumi (norādīt kādi)
A29: 3.SADAĻA | B29: KOPSUMMA ((C/D-A/N) x N) | D29: =((D32/D33)-(D30/D31))*D31 -> 42779.92
A30: 01.06.2021.-30.06.2021. | B30: (A) No pasažieriem, t.sk., personām, kurām noteikti pašvaldības noteiktie braukšanas maksas atvieglojumi, saņemtie ieņēmumi par sniegto sabiedriskā transporta pakalpojumu | C30: EUR bez PVN | D30: 91767 | E30: =atskaites_jedox!AJ8 -> 91767.47
B31: (N) Faktiskais nobraukums | C31: km | D31: 163503.36 | E31: =atskaites_jedox!AK8 -> 163503.36 | F31: =D31=D10 -> TRUE
A32: 01.06.2019.-30.06.2019. | B32: (C) No pasažieriem, t.sk., personām, kurām noteikti pašvaldības noteiktie braukšanas maksas atvieglojumi, saņemtie ieņēmumi par sniegto sabiedriskā transporta pakalpojumu | C32: EUR bez PVN | D32: 131901 | E32: =atskaites_jedox!L8 -> 131900.82
B33: (D) Faktiskais nobraukums | C33: km | D33: 160288 | E33: =atskaites_jedox!M8 -> 160287.84

Sheet PIVOT_apkopojums
A3: Sum of Vērtība | B3: Column Labels
A4: Row Labels | B4: 09.03.2021.- 31.03.2021. | C4: Aprīlis | D4: Maijs | E4: Jūnijs | F4: Grand Total
A5: 1. Faktiskie izdevumi, kas radušies saistībā ar reisu atcelšanu vai papild reisu nodrošināšanu - KOPSUMMA ((N - P) x Izm) | B5: 0 | C5: -8249.2898 | D5: 0 | E5: 0 | F5: -8249.2898
A6: 2. Kopējie izdevumi par Covid-19 infekcijas ierobežošanas pasākumiem - KOPSUMMA (1 vienības cenas reizinājums ar preču/pakalpojumu skaitu; summa ( K x Z)) | B6: 1493 | C6: 2574 | D6: 2730.75 | E6: 2623.5 | F6: 9421.25
A7: 3. Kopējā ietekme uz ieņēmumu apgrozījumu - KOPSUMMA ((C/D-A/N) x N) | B7: 36813.681 | C7: 74237.224 | D7: 61569.412 | E7: 42779.92 | F7: 215400.24
A8: Grand Total | B8: 38306.681 | C8: 68561.934 | D8: 64300.162 | E8: 45403.42 | F8: 216572.2

Sheet PIVOT
B1: Pārskats par sabiedriskā transporta pakalpojumos radītajiem izdevumiem un zaudējumiem sakarā ar noteiktajiem ierobežojumiem
B5: Rādītājs | C5: Vienības | D5: Vērtība | E5: Pārvadājumu veids | F5: Pilsēta | G5: Periods
B6: 1. Faktiskie izdevumi, kas radušies saistībā ar reisu atcelšanu vai papild reisu nodrošināšanu - KOPSUMMA ((N - P) x Izm) | D6: 0 | E6: Autobuss | F6: Jelgava | G6: 09.03.2021.- 31.03.2021.
B7: Iesaistīto transportlīdzekļu vienības | C7: skaits | D7: 35 | E7: Autobuss | F7: Jelgava | G7: 09.03.2021.- 31.03.2021.
B8: (S) Plānotais reisu skaits | C8: skaits | D8: 10765 | E8: Autobuss | F8: Jelgava | G8: 09.03.2021.- 31.03.2021.
B9: (R) Faktiskais reisu skaits (S + RP-RA) | C9: skaits | D9: 10765 | E9: Autobuss | F9: Jelgava | G9: 09.03.2021.- 31.03.2021.
B10: to starpā papildu reisi (RP) | C10: skaits | D10: 0 | E10: Autobuss | F10: Jelgava | G10: 09.03.2021.- 31.03.2021.
B11: to starpā atceltie reisi (RA) | C11: skaits | D11: 0 | E11: Autobuss | F11: Jelgava | G11: 09.03.2021.- 31.03.2021.
B12: (P) Plānotais nobraukums | C12: km | D12: 110636.58 | E12: Autobuss | F12: Jelgava | G12: 09.03.2021.- 31.03.2021.
B13: (N) Faktiskais nobraukums (P + NP-NA) | C13: km | D13: 110636.58 | E13: Autobuss | F13: Jelgava | G13: 09.03.2021.- 31.03.2021.
B14: to starpā papildu reisos veiktais nobraukums (NP) | C14: km | D14: 0 | E14: Autobuss | F14: Jelgava | G14: 09.03.2021.- 31.03.2021.
B15: to starpā atcelto reisu nobraukums (NA) | C15: km | D15: 0 | E15: Autobuss | F15: Jelgava | G15: 09.03.2021.- 31.03.2021.
B16: (Izm) 1 km pašizmaksa | C16: EUR/km | D16: 2.27 | E16: Autobuss | F16: Jelgava | G16: 09.03.2021.- 31.03.2021.
B17: 2. Kopējie izdevumi par Covid-19 infekcijas ierobežošanas pasākumiem - KOPSUMMA (1 vienības cenas reizinājums ar preču/pakalpojumu skaitu; summa ( K x Z)) | D17: 1493 | E17: Autobuss | F17: Jelgava | G17: 09.03.2021.- 31.03.2021.
B18: (Z) Pakalpojumi, pasākumi un materiāli Covid-19 pandēmijas ierobežošanai | C18: skaits (jānorāda atbilstoša mērvienība gab., litri, reižu skaits, darba stundas u.c.) | E18: Autobuss | F18: Jelgava | G18: 09.03.2021.- 31.03.2021.
B19: Dezinfekcijas līdzekļi | C19: skaits (jānorāda atbilstoša mērvienība gab., litri, reižu skaits, darba stundas u.c.) | D19: 81.4 | E19: Autobuss | F19: Jelgava | G19: 09.03.2021.- 31.03.2021.
B20: Sejas maskas | C20: skaits (jānorāda atbilstoša mērvienība gab., litri, reižu skaits, darba stundas u.c.) | D20: 0 | E20: Autobuss | F20: Jelgava | G20: 09.03.2021.- 31.03.2021.
B21: Sociālā distancēšanās sabiedriskā transportā | C21: skaits (jānorāda atbilstoša mērvienība gab., litri, reižu skaits, darba stundas u.c.) | D21: 0 | E21: Autobuss | F21: Jelgava | G21: 09.03.2021.- 31.03.2021.
B22: Transportlīdzekļu dezinfekcija | C22: skaits (jānorāda atbilstoša mērvienība gab., litri, reižu skaits, darba stundas u.c.) | D22: 543 | E22: Autobuss | F22: Jelgava | G22: 09.03.2021.- 31.03.2021.
B23: Transportlīdzekļu papildu mazgāšana | C23: skaits (jānorāda atbilstoša mērvienība gab., litri, reižu skaits, darba stundas u.c.) | D23: 0 | E23: Autobuss | F23: Jelgava | G23: 09.03.2021.- 31.03.2021.
B24: Citi izdevumi (norādīt kādi) | C24: skaits (jānorāda atbilstoša mērvienība gab., litri, reižu skaits, darba stundas u.c.) | D24: 0 | E24: Autobuss | F24: Jelgava | G24: 09.03.2021.- 31.03.2021.
B25: (K) Faktiskās izmaksas Covid-19 pandēmijas ierobežošanai, t.sk. | C25: EUR/vien bez PVN | E25: Autobuss | F25: Jelgava | G25: 09.03.2021.- 31.03.2021.
B26: Dezinfekcijas līdzekļi | C26: EUR/vien bez PVN | D26: 5 | E26: Autobuss | F26: Jelgava | G26: 09.03.2021.- 31.03.2021.
B27: Sejas maskas | C27: EUR/vien bez PVN | D27: 0 | E27: Autobuss | F27: Jelgava | G27: 09.03.2021.- 31.03.2021.
B28: Sociālā distancēšanās sabiedriskā transportā | C28: EUR/vien bez PVN | D28: 0 | E28: Autobuss | F28: Jelgava | G28: 09.03.2021.- 31.03.2021.
B29: Transportlīdzekļu dezinfekcija, to starpā darba spēka izmaksas | C29: EUR/vien bez PVN | D29: 2 | E29: Autobuss | F29: Jelgava | G29: 09.03.2021.- 31.03.2021.
B30: Transportlīdzekļu papildu mazgāšana, to starpā darba spēka izmaksas | C30: EUR/vien bez PVN | D30: 0 | E30: Autobuss | F30: Jelgava | G30: 09.03.2021.- 31.03.2021.
B31: Citi izdevumi (norādīt kādi) | C31: EUR/vien bez PVN | D31: 0 | E31: Autobuss | F31: Jelgava | G31: 09.03.2021.- 31.03.2021.
B32: 3. Kopējā ietekme uz ieņēmumu apgrozījumu - KOPSUMMA ((C/D-A/N) x N) | D32: 36813.681 | E32: Autobuss | F32: Jelgava | G32: 09.03.2021.- 31.03.2021.
B33: (A) No pasažieriem, t.sk., personām, kurām noteikti pašvaldības noteiktie braukšanas maksas atvieglojumi, saņemtie ieņēmumi par sniegto sabiedriskā transporta pakalpojumu - 09.03.2021.-31.03.2021. | C33: EUR bez PVN | D33: 64326 | E33: Autobuss | F33: Jelgava | G33: 09.03.2021.- 31.03.2021.
B34: (N) Faktiskais nobraukums - 09.03.2021.-31.03.2021. | C34: km | D34: 110636.58 | E34: Autobuss | F34: Jelgava | G34: 09.03.2021.- 31.03.2021.
B35: (C) No pasažieriem, t.sk., personām, kurām noteikti pašvaldības noteiktie braukšanas maksas atvieglojumi, saņemtie ieņēmumi par sniegto sabiedriskā transporta pakalpojumu - 09.03.2019.-31.03.2019. | C35: EUR bez PVN | D35: 113354 | E35: Autobuss | F35: Jelgava | G35: 09.03.2021.- 31.03.2021.
B36: (D) Faktiskais nobraukums - 09.03.2019.-31.03.2019. | C36: km | D36: 123997.81 | E36: Autobuss | F36: Jelgava | G36: 09.03.2021.- 31.03.2021.
B37: 1. Faktiskie izdevumi, kas radušies saistībā ar reisu atcelšanu vai papild reisu nodrošināšanu - KOPSUMMA ((N - P) x Izm) | D37: -8249.2898 | E37: Autobuss | F37: Jelgava | G37: Aprīlis
B38: Iesaistīto transportlīdzekļu vienības | C38: skaits | D38: 35 | E38: Autobuss | F38: Jelgava | G38: Aprīlis
B39: (S) Plānotais reisu skaits | C39: skaits | D39: 15918 | E39: Autobuss | F39: Jelgava | G39: Aprīlis
B40: (R) Faktiskais reisu skaits (S + RP-RA) | C40: skaits | D40: 15540 | E40: Autobuss | F40: Jelgava | G40: Aprīlis
B41: to starpā papildu reisi (RP) | C41: skaits | D41: 0 | E41: Autobuss | F41: Jelgava | G41: Aprīlis
B42: to starpā atceltie reisi (RA) | C42: skaits | D42: 378 | E42: Autobuss | F42: Jelgava | G42: Aprīlis
B43: (P) Plānotais nobraukums | C43: km | D43: 164219.98 | E43: Autobuss | F43: Jelgava | G43: Aprīlis
...

Sheet atskaites_jedox
B2: servers_ATD/STIFSS | D2: =_xll.PALO.VIEW.DIMNAME($B$2,$B$3,0,0) -> ContractNo | E2: =_xll.PALO.VIEW.DIMNAME($B$2,$B$3,0,1) -> Region | F2: =_xll.PALO.VIEW.DIMNAME($B$2,$B$3,0,2) -> Traffic | G2: =_xll.PALO.VIEW.DIMNAME($B$2,$B$3,0,3) -> Period_type | H2: =_xll.PALO.VIEW.DIMNAME($B$2,$B$3,0,4) -> Report_type | I2: =_xll.PALO.VIEW.DIMNAME($B$2,$B$3,0,5) -> Transport | J2: =_xll.PALO.VIEW.DIMNAME($B$2,$B$3,0,6) -> Vertibas
B3: =_xll.PALO.CUBE($B$2,"PnL_") -> abaa92040b3d88651b3c955cc21263abd68d20fb | D3: =_xll.PALO.ENAME($B$2,$B$3,0,0,0) -> Visi_ligumi | E3: =_xll.PALO.ENAME($B$2,$B$3,0,1,0) -> Visi regioni | F3: =_xll.PALO.ENAME($B$2,$B$3,0,2,0) -> Visi marsruti | G3: =_xll.PALO.ENAME($B$2,$B$3,0,3,0) -> MONTH | H3: =_xll.PALO.ENAME($B$2,$B$3,0,4,0) -> FACTUAL | I3: =_xll.PALO.ENAME($B$2,$B$3,0,5,0) -> Visi_veidi | J3: =_xll.PALO.ENAME($B$2,$B$3,0,6,0) -> EUR [+]
B4: [Edit View]
B5: [Swap]
C6: =_xll.PALO.ENAME($B$2,$B$3,2,0,0) -> 2019-03 | D6: =_xll.PALO.ENAME($B$2,$B$3,2,0,1) -> 2019-03 | E6: =_xll.PALO.ENAME($B$2,$B$3,2,0,2) -> 2019-03 | F6: =_xll.PALO.ENAME($B$2,$B$3,2,0,3) -> 2019-04 | G6: =_xll.PALO.ENAME($B$2,$B$3,2,0,4) -> 2019-04 | H6: =_xll.PALO.ENAME($B$2,$B$3,2,0,5) -> 2019-04 | I6: =_xll.PALO.ENAME($B$2,$B$3,2,0,6) -> 2019-05 | J6: =_xll.PALO.ENAME($B$2,$B$3,2,0,7) -> 2019-05 | K6: =_xll.PALO.ENAME($B$2,$B$3,2,0,8) -> 2019-05 | L6: =_xll.PALO.ENAME($B$2,$B$3,2,0,9) -> 2019-06 | M6: =_xll.PALO.ENAME($B$2,$B$3,2,0,10) -> 2019-06 | N6: =_xll.PALO.ENAME($B$2,$B$3,2,0,11) -> 2019-06 | O6: =_xll.PALO.ENAME($B$2,$B$3,2,0,12) -> 2020-03 | P6: =_xll.PALO.ENAME($B$2,$B$3,2,0,13) -> 2020-03 | Q6: =_xll.PALO.ENAME($B$2,$B$3,2,0,14) -> 2020-03 | R6: =_xll.PALO.ENAME($B$2,$B$3,2,0,15) -> 2020-04 | S6: =_xll.PALO.ENAME($B$2,$B$3,2,0,16) -> 2020-04 | T6: =_xll.PALO.ENAME($B$2,$B$3,2,0,17) -> 2020-04 | U6: =_xll.PALO.ENAME($B$2,$B$3,2,0,18) -> 2020-05 | V6: =_xll.PALO.ENAME($B$2,$B$3,2,0,19) -> 2020-05 | W6: =_xll.PALO.ENAME($B$2,$B$3,2,0,20) -> 2020-05 | X6: =_xll.PALO.ENAME($B$2,$B$3,2,0,21) -> 2020-06 | Y6: =_xll.PALO.ENAME($B$2,$B$3,2,0,22) -> 2020-06 | Z6: =_xll.PALO.ENAME($B$2,$B$3,2,0,23) -> 2020-06 | AA6: =_xll.PALO.ENAME($B$2,$B$3,2,0,24) -> 2021-03 | AB6: =_xll.PALO.ENAME($B$2,$B$3,2,0,25) -> 2021-03 | AC6: =_xll.PALO.ENAME($B$2,$B$3,2,0,26) -> 2021-03 | AD6: =_xll.PALO.ENAME($B$2,$B$3,2,0,27) -> 2021-04 | AE6: =_xll.PALO.ENAME($B$2,$B$3,2,0,28) -> 2021-04 | AF6: =_xll.PALO.ENAME($B$2,$B$3,2,0,29) -> 2021-04 | AG6: =_xll.PALO.ENAME($B$2,$B$3,2,0,30) -> 2021-05 | AH6: =_xll.PALO.ENAME($B$2,$B$3,2,0,31) -> 2021-05 | AI6: =_xll.PALO.ENAME($B$2,$B$3,2,0,32) -> 2021-05 | AJ6: =_xll.PALO.ENAME($B$2,$B$3,2,0,33) -> 2021-06 | AK6: =_xll.PALO.ENAME($B$2,$B$3,2,0,34) -> 2021-06 | AL6: =_xll.PALO.ENAME($B$2,$B$3,2,0,35) -> 2021-06
C7: =_xll.PALO.ENAME($B$2,$B$3,2,1,0) -> Ieņēmumi | D7: =_xll.PALO.ENAME($B$2,$B$3,2,1,1) -> Nobraukums maršrutu tīklā | E7: =_xll.PALO.ENAME($B$2,$B$3,2,1,2) -> Viena kilometra pašizmaksa (EUR) | F7: =_xll.PALO.ENAME($B$2,$B$3,2,1,3) -> Ieņēmumi | G7: =_xll.PALO.ENAME($B$2,$B$3,2,1,4) -> Nobraukums maršrutu tīklā | H7: =_xll.PALO.ENAME($B$2,$B$3,2,1,5) -> Viena kilometra pašizmaksa (EUR) | I7: =_xll.PALO.ENAME($B$2,$B$3,2,1,6) -> Ieņēmumi | J7: =_xll.PALO.ENAME($B$2,$B$3,2,1,7) -> Nobraukums maršrutu tīklā | K7: =_xll.PALO.ENAME($B$2,$B$3,2,1,8) -> Viena kilometra pašizmaksa (EUR) | L7: =_xll.PALO.ENAME($B$2,$B$3,2,1,9) -> Ieņēmumi | M7: =_xll.PALO.ENAME($B$2,$B$3,2,1,10) -> Nobraukums maršrutu tīklā | N7: =_xll.PALO.ENAME($B$2,$B$3,2,1,11) -> Viena kilometra pašizmaksa (EUR) | O7: =_xll.PALO.ENAME($B$2,$B$3,2,1,12) -> Ieņēmumi | P7: =_xll.PALO.ENAME($B$2,$B$3,2,1,13) -> Nobraukums maršrutu tīklā | Q7: =_xll.PALO.ENAME($B$2,$B$3,2,1,14) -> Viena kilometra pašizmaksa (EUR) | R7: =_xll.PALO.ENAME($B$2,$B$3,2,1,15) -> Ieņēmumi | S7: =_xll.PALO.ENAME($B$2,$B$3,2,1,16) -> Nobraukums maršrutu tīklā | T7: =_xll.PALO.ENAME($B$2,$B$3,2,1,17) -> Viena kilometra pašizmaksa (EUR) | U7: =_xll.PALO.ENAME($B$2,$B$3,2,1,18) -> Ieņēmumi | V7: =_xll.PALO.ENAME($B$2,$B$3,2,1,19) -> Nobraukums maršrutu tīklā | W7: =_xll.PALO.ENAME($B$2,$B$3,2,1,20) -> Viena kilometra pašizmaksa (EUR) | X7: =_xll.PALO.ENAME($B$2,$B$3,2,1,21) -> Ieņēmumi | Y7: =_xll.PALO.ENAME($B$2,$B$3,2,1,22) -> Nobraukums maršrutu tīklā | Z7: =_xll.PALO.ENAME($B$2,$B$3,2,1,23) -> Viena kilometra pašizmaksa (EUR) | AA7: =_xll.PALO.ENAME($B$2,$B$3,2,1,24) -> Ieņēmumi | AB7: =_xll.PALO.ENAME($B$2,$B$3,2,1,25) -> Nobraukums maršrutu tīklā | AC7: =_xll.PALO.ENAME($B$2,$B$3,2,1,26) -> Viena kilometra pašizmaksa (EUR) | AD7: =_xll.PALO.ENAME($B$2,$B$3,2,1,27) -> Ieņēmumi | AE7: =_xll.PALO.ENAME($B$2,$B$3,2,1,28) -> Nobraukums maršrutu tīklā | AF7: =_xll.PALO.ENAME($B$2,$B$3,2,1,29) -> Viena kilometra pašizmaksa (EUR) | AG7: =_xll.PALO.ENAME($B$2,$B$3,2,1,30) -> Ieņēmumi | AH7: =_xll.PALO.ENAME($B$2,$B$3,2,1,31) -> Nobraukums maršrutu tīklā | AI7: =_xll.PALO.ENAME($B$2,$B$3,2,1,32) -> Viena kilometra pašizmaksa (EUR) | AJ7: =_xll.PALO.ENAME($B$2,$B$3,2,1,33) -> Ieņēmumi | AK7: =_xll.PALO.ENAME($B$2,$B$3,2,1,34) -> Nobraukums maršrutu tīklā | AL7: =_xll.PALO.ENAME($B$2,$B$3,2,1,35) -> Viena kilometra pašizmaksa (EUR)
B8: =_xll.PALO.ENAME($B$2,$B$3,1,0,0) -> Jelgavas pilsētas dome | C8: =_xll.PALO.DATA($B$2,$B$3,_xll.PALO.EL("Time",C$6),_xll.PALO.EL("Partner",$B8),_xll.PALO.EL($D$2,$D$3),_xll.PALO.EL($E$2,$E$3),_xll.PALO.EL($F$2,$F$3),_xll.PALO.EL($G$2,$G$3),_xll.PALO.EL($H$2,$H$3),_xll.PALO.EL($I$2,$I$3),_xll.PALO.EL($J$2,$J$3),_xll.PALO.EL("Position",C$7)) -> 165363.36 | D8: =_xll.PALO.DATA($B$2,$B$3,_xll.PALO.EL("Time",D$6),_xll.PALO.EL("Partner",$B8),_xll.PALO.EL($D$2,$D$3),_xll.PALO.EL($E$2,$E$3),_xll.PALO.EL($F$2,$F$3),_xll.PALO.EL($G$2,$G$3),_xll.PALO.EL($H$2,$H$3),_xll.PALO.EL($I$2,$I$3),_xll.PALO.EL($J$2,$J$3),_xll.PALO.EL("Position",D$7)) -> 168272.73 | E8: =_xll.PALO.DATA($B$2,$B$3,_xll.PALO.EL("Time",E$6),_xll.PALO.EL("Partner",$B8),_xll.PALO.EL($D$2,$D$3),_xll.PALO.EL($E$2,$E$3),_xll.PALO.EL($F$2,$F$3),_xll.PALO.EL($G$2,$G$3),_xll.PALO.EL($H$2,$H$3),_xll.PALO.EL($I$2,$I$3),_xll.PALO.EL($J$2,$J$3),_xll.PALO.EL("Position",E$7)) -> 2.02 | F8: =_xll.PALO.DATA($B$2,$B$3,_xll.PALO.EL("Time",F$6),_xll.PALO.EL("Partner",$B8),_xll.PALO.EL($D$2,$D$3),_xll.PALO.EL($E$2,$E$3),_xll.PALO.EL($F$2,$F$3),_xll.PALO.EL($G$2,$G$3),_xll.PALO.EL($H$2,$H$3),_xll.PALO.EL($I$2,$I$3),_xll.PALO.EL($J$2,$J$3),_xll.PALO.EL("Position",F$7)) -> 165356.45 | G8: =_xll.PALO.DATA($B$2,$B$3,_xll.PALO.EL("Time",G$6),_xll.PALO.EL("Partner",$B8),_xll.PALO.EL($D$2,$D$3),_xll.PALO.EL($E$2,$E$3),_xll.PALO.EL($F$2,$F$3),_xll.PALO.EL($G$2,$G$3),_xll.PALO.EL($H$2,$H$3),_xll.PALO.EL($I$2,$I$3),_xll.PALO.EL($J$2,$J$3),_xll.PALO.EL("Position",G$7)) -> 162202.15 | H8: =_xll.PALO.DATA($B$2,$B$3,_xll.PALO.EL("Time",H$6),_xll.PALO.EL("Partner",$B8),_xll.PALO.EL($D$2,$D$3),_xll.PALO.EL($E$2,$E$3),_xll.PALO.EL($F$2,$F$3),_xll.PALO.EL($G$2,$G$3),_xll.PALO.EL($H$2,$H$3),_xll.PALO.EL($I$2,$I$3),_xll.PALO.EL($J$2,$J$3),_xll.PALO.EL("Position",H$7)) -> 2.1752 | I8: =_xll.PALO.DATA($B$2,$B$3,_xll.PALO.EL("Time",I$6),_xll.PALO.EL("Partner",$B8),_xll.PALO.EL($D$2,$D$3),_xll.PALO.EL($E$2,$E$3),_xll.PALO.EL($F$2,$F$3),_xll.PALO.EL($G$2,$G$3),_xll.PALO.EL($H$2,$H$3),_xll.PALO.EL($I$2,$I$3),_xll.PALO.EL($J$2,$J$3),_xll.PALO.EL("Position",I$7)) -> 160246.99 | J8: =_xll.PALO.DATA($B$2,$B$3,_xll.PALO.EL("Time",J$6),_xll.PALO.EL("Partner",$B8),_xll.PALO.EL($D$2,$D$3),_xll.PALO.EL($E$2,$E$3),_xll.PALO.EL($F$2,$F$3),_xll.PALO.EL($G$2,$G$3),_xll.PALO.EL($H$2,$H$3),_xll.PALO.EL($I$2,$I$3),_xll.PALO.EL($J$2,$J$3),_xll.PALO.EL("Position",J$7)) -> 167991 | ... AL8: =_xll.PALO.DATA($B$2,$B$3,_xll.PALO.EL("Time",AL$6),_xll.PALO.EL("Partner",$B8),_xll.PALO.EL($D$2,$D$3),_xll.PALO.EL($E$2,$E$3),_xll.PALO.EL($F$2,$F$3),_xll.PALO.EL($G$2,$G$3),_xll.PALO.EL($H$2,$H$3),_xll.PALO.EL($I$2,$I$3),_xll.PALO.EL($J$2,$J$3),_xll.PALO.EL("Position",AL$7)) -> 2.2264
