Workbook

Sheet marts
A1: Pārskats par sabiedriskā transporta pakalpojumos radītajiem izdevumiem un zaudējumiem sakarā ar noteiktajiem ierobežojumiem
A2: Periods | C2: Vienības | D2: Autobusi | E2: Minibusi (ekspresbusi) | F2: Tramvaji | G2: Trolejbusi
A3: 1.SADAĻA | B3: KOPSUMMA ((N - P) x Izm) | D3: =(D10-D9)*D13 -> 0 | E3: =(E10-E9)*E13 -> 0 | F3: =(F10-F9)*F13 -> 0 | G3: =(G10-G9)*G13 -> 0
A4: 09.03.2021.- 31.03.2021. | B4: Iesaistīto transportlīdzekļu vienības | C4: skaits | D4: 30
B5: (S) Plānotais reisu skaits | D5: 8831
B6: (R) Faktiskais reisu skaits (S + RP-RA) | D6: =D5+D7-D8 -> 8831 | E6: =E5+E7-E8 -> 0 | F6: =F5+F7-F8 -> 0 | G6: =G5+G7-G8 -> 0
B7: to starpā papildu reisi (RP)
B8: to starpā atceltie reisi (RA)
B9: (P) Plānotais nobraukums | C9: km | D9: 93944.77
B10: (N) Faktiskais nobraukums (P + NP-NA) | D10: =D9+D11-D12 -> 93944.77 | E10: =E9+E11-E12 -> 0 | F10: =F9+F11-F12 -> 0 | G10: =G9+G11-G12 -> 0 | H10: =atskaites_jedox!AB8 -> #NAME?
B11: to starpā papildu reisos veiktais nobraukums (NP)
B12: to starpā atcelto reisu nobraukums (NA)
A13: 01.03.2021.-31.03.2021. | B13: (Izm) 1 km pašizmaksa | C13: EUR/km | D13: 1.11213 | H13: =atskaites_jedox!AC8 -> #NAME?
A14: 2.SADAĻA | B14: KOPSUMMA (1 vienības cenas reizinājums ar preču/pakalpojumu skaitu; summa ( K x Z)) | D14: =SUM(D16*D25,D17*D26,D18*D27,D19*D28,D20*D29,D21*D30,D22*D31,D23*D32) -> 332.86 | E14: =SUM(E16*E25,E17*E26,E18*E27,E19*E28,E20*E29,E21*E30) -> 0 | F14: =SUM(F16*F25,F17*F26,F18*F27,F19*F28,F20*F29,F21*F30) -> 0 | G14: =SUM(G16*G25,G17*G26,G18*G27,G19*G28,G20*G29,G21*G30) -> 0
A15: 09.03.2021.- 31.03.2021. | B15: (Z) Pakalpojumi, pasākumi un materiāli Covid-19 pandēmijas ierobežošanai | C15: skaits (jānorāda atbilstoša mērvienība gab., litri, reižu skaits, darba stundas u.c.)
B16: Dezinfekcijas līdzekļi | C16: litri | D16: 0.71
B17: Sejas maskas | C17: gabali | D17: 696
B18: Sociālā distancēšanās sabiedriskā transportā
B19: Transportlīdzekļu dezinfekcija
B20: Transportlīdzekļu papildu mazgāšana | C20: stundas | D20: 615.36
B21: Citi izdevumi (norādīt kādi)
B22: Roku dezinfekcijas dozatoru noma | C22: gabali/ mēnesī | D22: 3
B23: Papīra dvieļi ruļļos | C23: gabali | D23: 1
B24: (K) Faktiskās izmaksas Covid-19 pandēmijas ierobežošanai, t.sk. | C24: EUR/vien bez PVN
B25: Dezinfekcijas līdzekļi | D25: 12.521127
B26: Sejas maskas | D26: 0.10738506
B27: Sociālā distancēšanās sabiedriskā transportā
B28: Transportlīdzekļu dezinfekcija, to starpā darba spēka izmaksas
B29: Transportlīdzekļu papildu mazgāšana, to starpā darba spēka izmaksas | D29: 0.37077483
B30: Citi izdevumi (norādīt kādi)
B31: Roku dezinfekcijas dozatoru noma | D31: 2.8266667
B32: Papīra dvieļi ruļļos | D32: 12.59
A33: 3.SADAĻA | B33: KOPSUMMA ((C/D-A/N) x N) | D33: =((D36/D37)-(D34/D35))*D35 -> 29326.374 | E33: =((E36/E37)-(E35/#REF!))*#REF! -> #DIV/0! | F33: =((F36/F37)-(F34/F35))*F35 -> #DIV/0! | G33: =((G36/G37)-(G34/G35))*G35 -> #DIV/0!
A34: 09.03.2021.-31.03.2021. | B34: (A) No pasažieriem, t.sk., personām, kurām noteikti pašvaldības noteiktie braukšanas maksas atvieglojumi, saņemtie ieņēmumi par sniegto sabiedriskā transporta pakalpojumu | C34: EUR bez PVN | D34: 37266.44 | H34: =atskaites_jedox!AA8 -> #NAME?
B35: (N) Faktiskais nobraukums | C35: km | D35: =D10 -> 93944.77 | H35: =atskaites_jedox!AB8 -> #NAME?
A36: 09.03.2019.-31.03.2019. | B36: (C) No pasažieriem, t.sk., personām, kurām noteikti pašvaldības noteiktie braukšanas maksas atvieglojumi, saņemtie ieņēmumi par sniegto sabiedriskā transporta pakalpojumu | C36: EUR bez PVN | D36: 77661.73 | H36: =atskaites_jedox!C8 -> #NAME?
B37: (D) Faktiskais nobraukums | C37: km | D37: 109560.07 | H37: =atskaites_jedox!D8 -> #NAME?
B40: Pašvaldības atbildīgās personas vārds, uzvārds, kontaktinformācija un paraksts (ja dokuments nav parakstīts ar elektroniski)
A43: Informāciju aizpilda katra pašvaldība par pārvadājumu veidiem, kādi ir noteikti attiecīgā pilsētā
A44: Tabulā iekļauj norādītajā laika periodā radušās pamatotās izmaksas, kas attiecināmas uz sabiedriskā transporta pakalpojuma izpildē noteiktajiem drošības pasākumiem Covid-19 infekcijas izplatības ierobežošanai.
...

Sheet aprīlis
A1: Pārskats par sabiedriskā transporta pakalpojumos radītajiem izdevumiem un zaudējumiem sakarā ar noteiktajiem ierobežojumiem
A2: Periods | C2: Vienības | D2: Autobusi | E2: Minibusi (ekspresbusi) | F2: Tramvaji | G2: Trolejbusi
A3: 1.SADAĻA | B3: KOPSUMMA ((N - P) x Izm) | D3: =(D10-D9)*D13 -> 352.45253 | E3: =(E10-E9)*E13 -> 0 | F3: =(F10-F9)*F13 -> 0 | G3: =(G10-G9)*G13 -> 0
A4: 01.04.2021.- 30.04.2021. | B4: Iesaistīto transportlīdzekļu vienības | C4: skaits | D4: 31
B5: (S) Plānotais reisu skaits | D5: 11329
B6: (R) Faktiskais reisu skaits (S + RP-RA) | D6: =D5+D7-D8 -> 11335 | E6: =E5+E7-E8 -> 0 | F6: =F5+F7-F8 -> 0 | G6: =G5+G7-G8 -> 0
B7: to starpā papildu reisi (RP) | D7: 6
B8: to starpā atceltie reisi (RA)
B9: (P) Plānotais nobraukums | C9: km | D9: 122059.75
B10: (N) Faktiskais nobraukums (P + NP-NA) | D10: =D9+D11-D12 -> 122358.55 | E10: =E9+E11-E12 -> 0 | F10: =F9+F11-F12 -> 0 | G10: =G9+G11-G12 -> 0 | H10: =atskaites_jedox!AE8 -> #NAME?
B11: to starpā papildu reisos veiktais nobraukums (NP) | D11: 298.8
B12: to starpā atcelto reisu nobraukums (NA)
A13: 01.04.2021.-30.04.2021. | B13: (Izm) 1 km pašizmaksa | C13: EUR/km | D13: 1.17956 | H13: =atskaites_jedox!AF8 -> #NAME?
A14: 2.SADAĻA | B14: KOPSUMMA (1 vienības cenas reizinājums ar preču/pakalpojumu skaitu; summa ( K x Z)) | D14: =SUM(D16*D25,D17*D26,D18*D27,D19*D28,D20*D29,D21*D30,D22*D31,D23*D32) -> 437.02 | E14: =SUM(E16*E25,E17*E26,E18*E27,E19*E28,E20*E29,E21*E30) -> 0 | F14: =SUM(F16*F25,F17*F26,F18*F27,F19*F28,F20*F29,F21*F30) -> 0 | G14: =SUM(G16*G25,G17*G26,G18*G27,G19*G28,G20*G29,G21*G30) -> 0
A15: 01.04.2021.- 30.04.2021. | B15: (Z) Pakalpojumi, pasākumi un materiāli Covid-19 pandēmijas ierobežošanai | C15: skaits (jānorāda atbilstoša mērvienība gab., litri, reižu skaits, darba stundas u.c.)
B16: Dezinfekcijas līdzekļi
B17: Sejas maskas | C17: gabali | D17: 738
B18: Sociālā distancēšanās sabiedriskā transportā
B19: Transportlīdzekļu dezinfekcija
B20: Transportlīdzekļu papildu mazgāšana | C20: stundas | D20: 566.47
B21: Citi izdevumi (norādīt kādi)
B22: Roku dezinfekcijas dozatoru noma | C22: gabali/ mēnesī | D22: 3
B23: Papīra dvieļi ruļļos | C23: gabali | D23: 2
B24: (K) Faktiskās izmaksas Covid-19 pandēmijas ierobežošanai, t.sk. | C24: EUR/vien bez PVN
B25: Dezinfekcijas līdzekļi
B26: Sejas maskas | D26: 0.27155827
B27: Sociālā distancēšanās sabiedriskā transportā
B28: Transportlīdzekļu dezinfekcija, to starpā darba spēka izmaksas
B29: Transportlīdzekļu papildu mazgāšana, to starpā darba spēka izmaksas | D29: 0.37076986
B30: Citi izdevumi (norādīt kādi)
B31: Roku dezinfekcijas dozatoru noma | D31: 1.9833333
B32: Papīra dvieļi ruļļos | D32: 10.315
A33: 3.SADAĻA | B33: KOPSUMMA ((C/D-A/N) x N) | D33: =((D36/D37)-(D34/D35))*D35 -> 29054.722 | E33: =((E36/E37)-(E35/#REF!))*#REF! -> #DIV/0! | F33: =((F36/F37)-(F34/F35))*F35 -> #DIV/0! | G33: =((G36/G37)-(G34/G35))*G35 -> #DIV/0!
A34: 01.04.2021.-30.04.2021. | B34: (A) No pasažieriem, t.sk., personām, kurām noteikti pašvaldības noteiktie braukšanas maksas atvieglojumi, saņemtie ieņēmumi par sniegto sabiedriskā transporta pakalpojumu | C34: EUR bez PVN | D34: 56219.57 | H34: =atskaites_jedox!AD8 -> #NAME?
B35: (N) Faktiskais nobraukums | C35: km | D35: 122358.55 | H35: =atskaites_jedox!AE8 -> #NAME? | I35: =D35=D10 -> TRUE
A36: 01.04.2019.-30.04.2019. | B36: (C) No pasažieriem, t.sk., personām, kurām noteikti pašvaldības noteiktie braukšanas maksas atvieglojumi, saņemtie ieņēmumi par sniegto sabiedriskā transporta pakalpojumu | C36: EUR bez PVN | D36: 101715.42 | H36: =atskaites_jedox!F8 -> #NAME?
B37: (D) Faktiskais nobraukums | C37: km | D37: 145949.63 | H37: =atskaites_jedox!G8 -> #NAME?
B40: Pašvaldības atbildīgās personas vārds, uzvārds, kontaktinformācija un paraksts (ja dokuments nav parakstīts ar elektroniski)
A43: Informāciju aizpilda katra pašvaldība par pārvadājumu veidiem, kādi ir noteikti attiecīgā pilsētā
A44: Tabulā iekļauj norādītajā laika periodā radušās pamatotās izmaksas, kas attiecināmas uz sabiedriskā transporta pakalpojuma izpildē noteiktajiem drošības pasākumiem Covid-19 infekcijas izplatības ierobežošanai.
...

Sheet maijs
A1: Pārskats par sabiedriskā transporta pakalpojumos radītajiem izdevumiem un zaudējumiem sakarā ar noteiktajiem ierobežojumiem
A2: Periods | C2: Vienības | D2: Autobusi | E2: Minibusi (ekspresbusi) | F2: Tramvaji | G2: Trolejbusi
A3: 1.SADAĻA | B3: KOPSUMMA ((N - P) x Izm) | D3: =(D10-D9)*D13 -> 1049.8535 | E3: =(E10-E9)*E13 -> 0 | F3: =(F10-F9)*F13 -> 0 | G3: =(G10-G9)*G13 -> 0
A4: 01.05.2021.- 31.05.2021. | B4: Iesaistīto transportlīdzekļu vienības | C4: skaits | D4: 34
B5: (S) Plānotais reisu skaits | D5: 11634
B6: (R) Faktiskais reisu skaits (S + RP-RA) | D6: =D5+D7-D8 -> 11654 | E6: =E5+E7-E8 -> 0 | F6: =F5+F7-F8 -> 0 | G6: =G5+G7-G8 -> 0
B7: to starpā papildu reisi (RP) | D7: 20
B8: to starpā atceltie reisi (RA)
B9: (P) Plānotais nobraukums | C9: km | D9: 125149.6
B10: (N) Faktiskais nobraukums (P + NP-NA) | D10: =D9+D11-D12 -> 126145.6 | E10: =E9+E11-E12 -> 0 | F10: =F9+F11-F12 -> 0 | G10: =G9+G11-G12 -> 0 | H10: =atskaites_jedox!AH8 -> #NAME?
B11: to starpā papildu reisos veiktais nobraukums (NP) | D11: 996
B12: to starpā atcelto reisu nobraukums (NA)
A13: 01.05.2021.- 31.05.2021. | B13: (Izm) 1 km pašizmaksa | C13: EUR/km | D13: 1.0540697 | H13: =atskaites_jedox!AI8 -> #NAME?
A14: 2.SADAĻA | B14: KOPSUMMA (1 vienības cenas reizinājums ar preču/pakalpojumu skaitu; summa ( K x Z)) | D14: =SUM(D16*D25,D17*D26,D18*D27,D19*D28,D20*D29,D21*D30,D22*D31,D23*D32) -> 366.5596 | E14: =SUM(E16*E25,E17*E26,E18*E27,E19*E28,E20*E29,E21*E30,E22*E31,E23*E32) -> 0 | F14: =SUM(F16*F25,F17*F26,F18*F27,F19*F28,F20*F29,F21*F30,F22*F31,F23*F32) -> 0 | G14: =SUM(G16*G25,G17*G26,G18*G27,G19*G28,G20*G29,G21*G30,G22*G31,G23*G32) -> 0
A15: 01.05.2021.- 31.05.2021. | B15: (Z) Pakalpojumi, pasākumi un materiāli Covid-19 pandēmijas ierobežošanai | C15: skaits (jānorāda atbilstoša mērvienība gab., litri, reižu skaits, darba stundas u.c.)
B16: Dezinfekcijas līdzekļi | D16: 22.2
B17: Sejas maskas | C17: gabali | D17: 665
B18: Sociālā distancēšanās sabiedriskā transportā
B19: Transportlīdzekļu dezinfekcija
B20: Transportlīdzekļu papildu mazgāšana | C20: stundas | D20: 531.38
B21: Citi izdevumi (norādīt kādi)
B22: Roku dezinfekcijas dozatoru noma | C22: gabali/ mēnesī | D22: 3
B23: Papīra dvieļi ruļļos | C23: gabali | D23: 2
B24: (K) Faktiskās izmaksas Covid-19 pandēmijas ierobežošanai, t.sk. | C24: EUR/vien bez PVN
B25: Dezinfekcijas līdzekļi | D25: 3.595
B26: Sejas maskas | D26: 0.1
B27: Sociālā distancēšanās sabiedriskā transportā
B28: Transportlīdzekļu dezinfekcija, to starpā darba spēka izmaksas
B29: Transportlīdzekļu papildu mazgāšana, to starpā darba spēka izmaksas | D29: 0.37
B30: Citi izdevumi (norādīt kādi)
B31: Roku dezinfekcijas dozatoru noma | D31: 2.56
B32: Papīra dvieļi ruļļos | D32: 7.98
A33: 3.SADAĻA | B33: KOPSUMMA ((C/D-A/N) x N) | D33: =((D36/D37)-(D34/D35))*D35 -> 30798.143 | E33: =((E36/E37)-(E35/#REF!))*#REF! -> #DIV/0! | F33: =((F36/F37)-(F34/F35))*F35 -> #DIV/0! | G33: =((G36/G37)-(G34/G35))*G35 -> #DIV/0!
A34: 01.05.2021.-31.05.2021. | B34: (A) No pasažieriem, t.sk., personām, kurām noteikti pašvaldības noteiktie braukšanas maksas atvieglojumi, saņemtie ieņēmumi par sniegto sabiedriskā transporta pakalpojumu | C34: EUR bez PVN | D34: 54977.99 | H34: =atskaites_jedox!AG8 -> #NAME?
B35: (N) Faktiskais nobraukums | C35: km | D35: 126145.6 | H35: =atskaites_jedox!AH8 -> #NAME?
A36: 01.05.2019.-31.05.2019. | B36: (C) No pasažieriem, t.sk., personām, kurām noteikti pašvaldības noteiktie braukšanas maksas atvieglojumi, saņemtie ieņēmumi par sniegto sabiedriskā transporta pakalpojumu | C36: EUR bez PVN | D36: 103059.95 | H36: =atskaites_jedox!I8 -> #NAME?
B37: (D) Faktiskais nobraukums | C37: km | D37: 151563.83 | H37: =atskaites_jedox!J8 -> #NAME?
B40: Pašvaldības atbildīgās personas vārds, uzvārds, kontaktinformācija un paraksts (ja dokuments nav parakstīts ar elektroniski)
A43: Informāciju aizpilda katra pašvaldība par pārvadājumu veidiem, kādi ir noteikti attiecīgā pilsētā
A44: Tabulā iekļauj norādītajā laika periodā radušās pamatotās izmaksas, kas attiecināmas uz sabiedriskā transporta pakalpojuma izpildē noteiktajiem drošības pasākumiem Covid-19 infekcijas izplatības ierobežošanai.
...

Sheet jūnijs
A1: Pārskats par sabiedriskā transporta pakalpojumos radītajiem izdevumiem un zaudējumiem sakarā ar noteiktajiem ierobežojumiem
A2: Periods | C2: Vienības | D2: Autobusi | E2: Minibusi (ekspresbusi) | F2: Tramvaji | G2: Trolejbusi
A3: 1.SADAĻA | B3: KOPSUMMA ((N - P) x Izm) | D3: =(D10-D9)*D13 -> 6880.9908 | E3: =(E10-E9)*E13 -> 0 | F3: =(F10-F9)*F13 -> 0 | G3: =(G10-G9)*G13 -> 0
A4: 01.06.2021.- 30.06.2021. | B4: Iesaistīto transportlīdzekļu vienības | C4: skaits | D4: 33
B5: (S) Plānotais reisu skaits | D5: 11722
B6: (R) Faktiskais reisu skaits (S + RP-RA) | D6: =D5+D7-D8 -> 12294 | E6: =E5+E7-E8 -> 0 | F6: =F5+F7-F8 -> 0 | G6: =G5+G7-G8 -> 0
B7: to starpā papildu reisi (RP) | D7: 572
B8: to starpā atceltie reisi (RA)
B9: (P) Plānotais nobraukums | C9: km | D9: 126601.97
B10: (N) Faktiskais nobraukums (P + NP-NA) | D10: =D9+D11-D12 -> 132379.17 | E10: =E9+E11-E12 -> 0 | F10: =F9+F11-F12 -> 0 | G10: =G9+G11-G12 -> 0 | H10: =atskaites_jedox!AK8 -> #NAME?
B11: to starpā papildu reisos veiktais nobraukums (NP) | D11: 5777.2
B12: to starpā atcelto reisu nobraukums (NA)
A13: 01.06.2021.- 30.06.2021. | B13: (Izm) 1 km pašizmaksa | C13: EUR/km | D13: 1.1910598 | H13: =atskaites_jedox!AL8 -> #NAME?
A14: 2.SADAĻA | B14: KOPSUMMA (1 vienības cenas reizinājums ar preču/pakalpojumu skaitu; summa ( K x Z)) | D14: =SUM(D16*D26,D17*D27,D18*D28,D19*D29,D20*D30,D21*D31,D22*D32,D24*D34,D23*D33) -> 506.084 | E14: =SUM(E16*E26,E17*E27,E18*E28,E19*E29,E20*E30,E21*E31,E22*E32,E24*E34) -> 0 | F14: =SUM(F16*F26,F17*F27,F18*F28,F19*F29,F20*F30,F21*F31,F22*F32,F24*F34) -> 0 | G14: =SUM(G16*G26,G17*G27,G18*G28,G19*G29,G20*G30,G21*G31,G22*G32,G24*G34) -> 0
A15: 01.06.2021.- 30.06.2021. | B15: (Z) Pakalpojumi, pasākumi un materiāli Covid-19 pandēmijas ierobežošanai | C15: skaits (jānorāda atbilstoša mērvienība gab., litri, reižu skaits, darba stundas u.c.)
B16: Dezinfekcijas līdzekļi | C16: litri | D16: 11.84
B17: Sejas maskas | C17: gabali | D17: 465
B18: Sociālā distancēšanās sabiedriskā transportā | C18: gabali | D18: 3
B19: Transportlīdzekļu dezinfekcija
B20: Transportlīdzekļu papildu mazgāšana | C20: stundas | D20: 652.8
B21: Citi izdevumi (norādīt kādi)
B22: Roku dezinfekcijas dozatoru noma | C22: gabali/ mēnesī | D22: 3
B23: Lupatiņas autobusa uzkopšanai | C23: gabali | D23: 6
B24: Papīra dvieļi ruļļos | C24: gabali | D24: 1
B25: (K) Faktiskās izmaksas Covid-19 pandēmijas ierobežošanai, t.sk. | C25: EUR/vien bez PVN
B26: Dezinfekcijas līdzekļi | D26: 14.2
B27: Sejas maskas | D27: 0.1
B28: Sociālā distancēšanās sabiedriskā transportā | D28: =5.25/3 -> 1.75
B29: Transportlīdzekļu dezinfekcija, to starpā darba spēka izmaksas
B30: Transportlīdzekļu papildu mazgāšana, to starpā darba spēka izmaksas | D30: 0.37
B31: Citi izdevumi (norādīt kādi)
B32: Roku dezinfekcijas dozatoru noma | D32: =6.5/3 -> 2.1666667
B33: Lupatiņas autobusa uzkopšanai | D33: 4.27
B34: Papīra dvieļi ruļļos | D34: 12.55
A35: 3.SADAĻA | B35: KOPSUMMA ((C/D-A/N) x N) | D35: =((D38/D39)-(D36/D37))*D37 -> 21227.608 | E35: =((E38/E39)-(E37/#REF!))*#REF! -> #DIV/0! | F35: =((F38/F39)-(F36/F37))*F37 -> #DIV/0! | G35: =((G38/G39)-(G36/G37))*G37 -> #DIV/0!
A36: 01.06.2021.-30.06.2021. | B36: (A) No pasažieriem, t.sk., personām, kurām noteikti pašvaldības noteiktie braukšanas maksas atvieglojumi, saņemtie ieņēmumi par sniegto sabiedriskā transporta pakalpojumu | C36: EUR bez PVN | D36: 54919.63 | H36: =atskaites_jedox!AJ8 -> #NAME?
B37: (N) Faktiskais nobraukums | C37: km | D37: 132379.17 | H37: =atskaites_jedox!AK8 -> #NAME? | I37: =H37=D10 -> #NAME?
A38: 01.06.2019.-30.06.2019. | B38: (C) No pasažieriem, t.sk., personām, kurām noteikti pašvaldības noteiktie braukšanas maksas atvieglojumi, saņemtie ieņēmumi par sniegto sabiedriskā transporta pakalpojumu | C38: EUR bez PVN | D38: 87551.54 | H38: =atskaites_jedox!L8 -> #NAME?
B39: (D) Faktiskais nobraukums | C39: km | D39: 152205.13 | H39: =atskaites_jedox!M8 -> #NAME?
B42: Pašvaldības atbildīgās personas vārds, uzvārds, kontaktinformācija un paraksts (ja dokuments nav parakstīts ar elektroniski)
...

Sheet PIVOT_apkopojums
A3: Sum of Vērtība | B3: Column Labels
A4: Row Labels | B4: 09.03.2021.- 31.03.2021. | C4: Aprīlis | D4: Maijs | E4: Jūnijs | F4: Grand Total
A5: 1. Faktiskie izdevumi, kas radušies saistībā ar reisu atcelšanu vai papild reisu nodrošināšanu - KOPSUMMA ((N - P) x Izm) | B5: 0 | C5: 352.45253 | D5: 1049.8535 | E5: 6880.9908 | F5: 8283.2968
A6: 2. Kopējie izdevumi par Covid-19 infekcijas ierobežošanas pasākumiem - KOPSUMMA (1 vienības cenas reizinājums ar preču/pakalpojumu skaitu; summa ( K x Z)) | B6: 332.86 | C6: 437.02 | D6: 366.5596 | E6: 506.084 | F6: 1642.5236
A7: 3. Kopējā ietekme uz ieņēmumu apgrozījumu - KOPSUMMA ((C/D-A/N) x N) | B7: 29326.374 | C7: 29054.722 | D7: 30798.143 | E7: 21227.608 | F7: 110406.85
A8: Grand Total | B8: 29659.234 | C8: 29844.194 | D8: 32214.556 | E8: 28614.682 | F8: 120332.67

Sheet PIVOT
B1: Pārskats par sabiedriskā transporta pakalpojumos radītajiem izdevumiem un zaudējumiem sakarā ar noteiktajiem ierobežojumiem
B5: Rādītājs | C5: Vienības | D5: Vērtība | E5: Pārvadājumu veids | F5: Pilsēta | G5: Periods
B6: 1. Faktiskie izdevumi, kas radušies saistībā ar reisu atcelšanu vai papild reisu nodrošināšanu - KOPSUMMA ((N - P) x Izm) | D6: 0 | E6: Autobuss | F6: Ventspils | G6: 09.03.2021.- 31.03.2021.
B7: Iesaistīto transportlīdzekļu vienības | C7: skaits | D7: 30 | E7: Autobuss | F7: Ventspils | G7: 09.03.2021.- 31.03.2021.
B8: (S) Plānotais reisu skaits | C8: skaits | D8: 8831 | E8: Autobuss | F8: Ventspils | G8: 09.03.2021.- 31.03.2021.
B9: (R) Faktiskais reisu skaits (S + RP-RA) | C9: skaits | D9: 8831 | E9: Autobuss | F9: Ventspils | G9: 09.03.2021.- 31.03.2021.
B10: to starpā papildu reisi (RP) | C10: skaits | E10: Autobuss | F10: Ventspils | G10: 09.03.2021.- 31.03.2021.
B11: to starpā atceltie reisi (RA) | C11: skaits | E11: Autobuss | F11: Ventspils | G11: 09.03.2021.- 31.03.2021.
B12: (P) Plānotais nobraukums | C12: km | D12: 93944.77 | E12: Autobuss | F12: Ventspils | G12: 09.03.2021.- 31.03.2021.
B13: (N) Faktiskais nobraukums (P + NP-NA) | C13: km | D13: 93944.77 | E13: Autobuss | F13: Ventspils | G13: 09.03.2021.- 31.03.2021.
B14: to starpā papildu reisos veiktais nobraukums (NP) | C14: km | E14: Autobuss | F14: Ventspils | G14: 09.03.2021.- 31.03.2021.
B15: to starpā atcelto reisu nobraukums (NA) | C15: km | E15: Autobuss | F15: Ventspils | G15: 09.03.2021.- 31.03.2021.
B16: (Izm) 1 km pašizmaksa | C16: EUR/km | D16: 1.11213 | E16: Autobuss | F16: Ventspils | G16: 09.03.2021.- 31.03.2021.
B17: 2. Kopējie izdevumi par Covid-19 infekcijas ierobežošanas pasākumiem - KOPSUMMA (1 vienības cenas reizinājums ar preču/pakalpojumu skaitu; summa ( K x Z)) | D17: 332.86 | E17: Autobuss | F17: Ventspils | G17: 09.03.2021.- 31.03.2021.
B18: (Z) Pakalpojumi, pasākumi un materiāli Covid-19 pandēmijas ierobežošanai | C18: skaits (jānorāda atbilstoša mērvienība gab., litri, reižu skaits, darba stundas u.c.) | E18: Autobuss | F18: Ventspils | G18: 09.03.2021.- 31.03.2021.
B19: Dezinfekcijas līdzekļi | C19: litri | D19: 0.71 | E19: Autobuss | F19: Ventspils | G19: 09.03.2021.- 31.03.2021.
B20: Sejas maskas | C20: gabali | D20: 696 | E20: Autobuss | F20: Ventspils | G20: 09.03.2021.- 31.03.2021.
B21: Sociālā distancēšanās sabiedriskā transportā | E21: Autobuss | F21: Ventspils | G21: 09.03.2021.- 31.03.2021.
B22: Transportlīdzekļu dezinfekcija | E22: Autobuss | F22: Ventspils | G22: 09.03.2021.- 31.03.2021.
B23: Transportlīdzekļu papildu mazgāšana | C23: stundas | D23: 615.36 | E23: Autobuss | F23: Ventspils | G23: 09.03.2021.- 31.03.2021.
B24: Citi izdevumi (norādīt kādi) | E24: Autobuss | F24: Ventspils | G24: 09.03.2021.- 31.03.2021.
B25: Roku dezinfekcijas dozatoru noma | C25: gabali/ mēnesī | D25: 3 | E25: Autobuss | F25: Ventspils | G25: 09.03.2021.- 31.03.2021.
B26: Papīra dvieļi ruļļos | C26: gabali | D26: 1 | E26: Autobuss | F26: Ventspils | G26: 09.03.2021.- 31.03.2021.
B27: (K) Faktiskās izmaksas Covid-19 pandēmijas ierobežošanai, t.sk. | C27: EUR/vien bez PVN | E27: Autobuss | F27: Ventspils | G27: 09.03.2021.- 31.03.2021.
B28: Dezinfekcijas līdzekļi | C28: EUR/vien bez PVN | D28: 12.521127 | E28: Autobuss | F28: Ventspils | G28: 09.03.2021.- 31.03.2021.
B29: Sejas maskas | C29: EUR/vien bez PVN | D29: 0.10738506 | E29: Autobuss | F29: Ventspils | G29: 09.03.2021.- 31.03.2021.
B30: Sociālā distancēšanās sabiedriskā transportā | C30: EUR/vien bez PVN | E30: Autobuss | F30: Ventspils | G30: 09.03.2021.- 31.03.2021.
B31: Transportlīdzekļu dezinfekcija, to starpā darba spēka izmaksas | C31: EUR/vien bez PVN | E31: Autobuss | F31: Ventspils | G31: 09.03.2021.- 31.03.2021.
B32: Transportlīdzekļu papildu mazgāšana, to starpā darba spēka izmaksas | C32: EUR/vien bez PVN | D32: 0.37077483 | E32: Autobuss | F32: Ventspils | G32: 09.03.2021.- 31.03.2021.
B33: Citi izdevumi (norādīt kādi) | C33: EUR/vien bez PVN | E33: Autobuss | F33: Ventspils | G33: 09.03.2021.- 31.03.2021.
B34: Roku dezinfekcijas dozatoru noma | C34: EUR/vien bez PVN | D34: 2.8266667 | E34: Autobuss | F34: Ventspils | G34: 09.03.2021.- 31.03.2021.
B35: Papīra dvieļi ruļļos | C35: EUR/vien bez PVN | D35: 12.59 | E35: Autobuss | F35: Ventspils | G35: 09.03.2021.- 31.03.2021.
B36: 3. Kopējā ietekme uz ieņēmumu apgrozījumu - KOPSUMMA ((C/D-A/N) x N) | D36: 29326.374 | E36: Autobuss | F36: Ventspils | G36: 09.03.2021.- 31.03.2021.
B37: (A) No pasažieriem, t.sk., personām, kurām noteikti pašvaldības noteiktie braukšanas maksas atvieglojumi, saņemtie ieņēmumi par sniegto sabiedriskā transporta pakalpojumu - 09.03.2021.-31.03.2021. | C37: EUR bez PVN | D37: 37266.44 | E37: Autobuss | F37: Ventspils | G37: 09.03.2021.- 31.03.2021.
B38: (N) Faktiskais nobraukums - 09.03.2021.-31.03.2021. | C38: km | D38: 93944.77 | E38: Autobuss | F38: Ventspils | G38: 09.03.2021.- 31.03.2021.
B39: (C) No pasažieriem, t.sk., personām, kurām noteikti pašvaldības noteiktie braukšanas maksas atvieglojumi, saņemtie ieņēmumi par sniegto sabiedriskā transporta pakalpojumu - 09.03.2019.-31.03.2019. | C39: EUR bez PVN | D39: 77661.73 | E39: Autobuss | F39: Ventspils | G39: 09.03.2021.- 31.03.2021.
B40: (D) Faktiskais nobraukums - 09.03.2019.-31.03.2019. | C40: km | D40: 109560.07 | E40: Autobuss | F40: Ventspils | G40: 09.03.2021.- 31.03.2021.
B41: 1. Faktiskie izdevumi, kas radušies saistībā ar reisu atcelšanu vai papild reisu nodrošināšanu - KOPSUMMA ((N - P) x Izm) | D41: 352.45253 | E41: Autobuss | F41: Ventspils | G41: Aprīlis
B42: Iesaistīto transportlīdzekļu vienības | C42: skaits | D42: 31 | E42: Autobuss | F42: Ventspils | G42: Aprīlis
B43: (S) Plānotais reisu skaits | C43: skaits | D43: 11329 | E43: Autobuss | F43: Ventspils | G43: Aprīlis
...

Sheet atskaites_jedox
B2: servers_ATD/STIFSS | D2: =_xll.PALO.VIEW.DIMNAME($B$2,$B$3,0,0) -> #NAME? | E2: =_xll.PALO.VIEW.DIMNAME($B$2,$B$3,0,1) -> #NAME? | F2: =_xll.PALO.VIEW.DIMNAME($B$2,$B$3,0,2) -> #NAME? | G2: =_xll.PALO.VIEW.DIMNAME($B$2,$B$3,0,3) -> #NAME? | H2: =_xll.PALO.VIEW.DIMNAME($B$2,$B$3,0,4) -> #NAME? | I2: =_xll.PALO.VIEW.DIMNAME($B$2,$B$3,0,5) -> #NAME? | J2: =_xll.PALO.VIEW.DIMNAME($B$2,$B$3,0,6) -> #NAME?
B3: =_xll.PALO.CUBE($B$2,"PnL_") -> #NAME? | D3: =_xll.PALO.ENAME($B$2,$B$3,0,0,0) -> #NAME? | E3: =_xll.PALO.ENAME($B$2,$B$3,0,1,0) -> #NAME? | F3: =_xll.PALO.ENAME($B$2,$B$3,0,2,0) -> #NAME? | G3: =_xll.PALO.ENAME($B$2,$B$3,0,3,0) -> #NAME? | H3: =_xll.PALO.ENAME($B$2,$B$3,0,4,0) -> #NAME? | I3: =_xll.PALO.ENAME($B$2,$B$3,0,5,0) -> #NAME? | J3: =_xll.PALO.ENAME($B$2,$B$3,0,6,0) -> #NAME?
B4: [Edit View]
B5: [Swap]
C6: =_xll.PALO.ENAME($B$2,$B$3,2,0,0) -> #NAME? | D6: =_xll.PALO.ENAME($B$2,$B$3,2,0,1) -> #NAME? | E6: =_xll.PALO.ENAME($B$2,$B$3,2,0,2) -> #NAME? | F6: =_xll.PALO.ENAME($B$2,$B$3,2,0,3) -> #NAME? | G6: =_xll.PALO.ENAME($B$2,$B$3,2,0,4) -> #NAME? | H6: =_xll.PALO.ENAME($B$2,$B$3,2,0,5) -> #NAME? | I6: =_xll.PALO.ENAME($B$2,$B$3,2,0,6) -> #NAME? | J6: =_xll.PALO.ENAME($B$2,$B$3,2,0,7) -> #NAME? | K6: =_xll.PALO.ENAME($B$2,$B$3,2,0,8) -> #NAME? | L6: =_xll.PALO.ENAME($B$2,$B$3,2,0,9) -> #NAME? | M6: =_xll.PALO.ENAME($B$2,$B$3,2,0,10) -> #NAME? | N6: =_xll.PALO.ENAME($B$2,$B$3,2,0,11) -> #NAME? | O6: =_xll.PALO.ENAME($B$2,$B$3,2,0,12) -> #NAME? | P6: =_xll.PALO.ENAME($B$2,$B$3,2,0,13) -> #NAME? | Q6: =_xll.PALO.ENAME($B$2,$B$3,2,0,14) -> #NAME? | R6: =_xll.PALO.ENAME($B$2,$B$3,2,0,15) -> #NAME? | S6: =_xll.PALO.ENAME($B$2,$B$3,2,0,16) -> #NAME? | T6: =_xll.PALO.ENAME($B$2,$B$3,2,0,17) -> #NAME? | U6: =_xll.PALO.ENAME($B$2,$B$3,2,0,18) -> #NAME? | V6: =_xll.PALO.ENAME($B$2,$B$3,2,0,19) -> #NAME? | W6: =_xll.PALO.ENAME($B$2,$B$3,2,0,20) -> #NAME? | X6: =_xll.PALO.ENAME($B$2,$B$3,2,0,21) -> #NAME? | Y6: =_xll.PALO.ENAME($B$2,$B$3,2,0,22) -> #NAME? | Z6: =_xll.PALO.ENAME($B$2,$B$3,2,0,23) -> #NAME? | AA6: =_xll.PALO.ENAME($B$2,$B$3,2,0,24) -> #NAME? | AB6: =_xll.PALO.ENAME($B$2,$B$3,2,0,25) -> #NAME? | AC6: =_xll.PALO.ENAME($B$2,$B$3,2,0,26) -> #NAME? | AD6: =_xll.PALO.ENAME($B$2,$B$3,2,0,27) -> #NAME? | AE6: =_xll.PALO.ENAME($B$2,$B$3,2,0,28) -> #NAME? | AF6: =_xll.PALO.ENAME($B$2,$B$3,2,0,29) -> #NAME? | AG6: =_xll.PALO.ENAME($B$2,$B$3,2,0,30) -> #NAME? | AH6: =_xll.PALO.ENAME($B$2,$B$3,2,0,31) -> #NAME? | AI6: =_xll.PALO.ENAME($B$2,$B$3,2,0,32) -> #NAME? | AJ6: =_xll.PALO.ENAME($B$2,$B$3,2,0,33) -> #NAME? | AK6: =_xll.PALO.ENAME($B$2,$B$3,2,0,34) -> #NAME? | AL6: =_xll.PALO.ENAME($B$2,$B$3,2,0,35) -> #NAME?
C7: =_xll.PALO.ENAME($B$2,$B$3,2,1,0) -> #NAME? | D7: =_xll.PALO.ENAME($B$2,$B$3,2,1,1) -> #NAME? | E7: =_xll.PALO.ENAME($B$2,$B$3,2,1,2) -> #NAME? | F7: =_xll.PALO.ENAME($B$2,$B$3,2,1,3) -> #NAME? | G7: =_xll.PALO.ENAME($B$2,$B$3,2,1,4) -> #NAME? | H7: =_xll.PALO.ENAME($B$2,$B$3,2,1,5) -> #NAME? | I7: =_xll.PALO.ENAME($B$2,$B$3,2,1,6) -> #NAME? | J7: =_xll.PALO.ENAME($B$2,$B$3,2,1,7) -> #NAME? | K7: =_xll.PALO.ENAME($B$2,$B$3,2,1,8) -> #NAME? | L7: =_xll.PALO.ENAME($B$2,$B$3,2,1,9) -> #NAME? | M7: =_xll.PALO.ENAME($B$2,$B$3,2,1,10) -> #NAME? | N7: =_xll.PALO.ENAME($B$2,$B$3,2,1,11) -> #NAME? | O7: =_xll.PALO.ENAME($B$2,$B$3,2,1,12) -> #NAME? | P7: =_xll.PALO.ENAME($B$2,$B$3,2,1,13) -> #NAME? | Q7: =_xll.PALO.ENAME($B$2,$B$3,2,1,14) -> #NAME? | R7: =_xll.PALO.ENAME($B$2,$B$3,2,1,15) -> #NAME? | S7: =_xll.PALO.ENAME($B$2,$B$3,2,1,16) -> #NAME? | T7: =_xll.PALO.ENAME($B$2,$B$3,2,1,17) -> #NAME? | U7: =_xll.PALO.ENAME($B$2,$B$3,2,1,18) -> #NAME? | V7: =_xll.PALO.ENAME($B$2,$B$3,2,1,19) -> #NAME? | W7: =_xll.PALO.ENAME($B$2,$B$3,2,1,20) -> #NAME? | X7: =_xll.PALO.ENAME($B$2,$B$3,2,1,21) -> #NAME? | Y7: =_xll.PALO.ENAME($B$2,$B$3,2,1,22) -> #NAME? | Z7: =_xll.PALO.ENAME($B$2,$B$3,2,1,23) -> #NAME? | AA7: =_xll.PALO.ENAME($B$2,$B$3,2,1,24) -> #NAME? | AB7: =_xll.PALO.ENAME($B$2,$B$3,2,1,25) -> #NAME? | AC7: =_xll.PALO.ENAME($B$2,$B$3,2,1,26) -> #NAME? | AD7: =_xll.PALO.ENAME($B$2,$B$3,2,1,27) -> #NAME? | AE7: =_xll.PALO.ENAME($B$2,$B$3,2,1,28) -> #NAME? | AF7: =_xll.PALO.ENAME($B$2,$B$3,2,1,29) -> #NAME? | AG7: =_xll.PALO.ENAME($B$2,$B$3,2,1,30) -> #NAME? | AH7: =_xll.PALO.ENAME($B$2,$B$3,2,1,31) -> #NAME? | AI7: =_xll.PALO.ENAME($B$2,$B$3,2,1,32) -> #NAME? | AJ7: =_xll.PALO.ENAME($B$2,$B$3,2,1,33) -> #NAME? | AK7: =_xll.PALO.ENAME($B$2,$B$3,2,1,34) -> #NAME? | AL7: =_xll.PALO.ENAME($B$2,$B$3,2,1,35) -> #NAME?
B8: =_xll.PALO.ENAME($B$2,$B$3,1,0,0) -> #NAME? | C8: =_xll.PALO.DATA($B$2,$B$3,_xll.PALO.EL("Time",C$6),_xll.PALO.EL("Partner",$B8),_xll.PALO.EL($D$2,$D$3),_xll.PALO.EL($E$2,$E$3),_xll.PALO.EL($F$2,$F$3),_xll.PALO.EL($G$2,$G$3),_xll.PALO.EL($H$2,$H$3),_xll.PALO.EL($I$2,$I$3),_xll.PALO.EL($J$2,$J$3),_xll.PALO.EL("Position",C$7)) -> #NAME? | D8: =_xll.PALO.DATA($B$2,$B$3,_xll.PALO.EL("Time",D$6),_xll.PALO.EL("Partner",$B8),_xll.PALO.EL($D$2,$D$3),_xll.PALO.EL($E$2,$E$3),_xll.PALO.EL($F$2,$F$3),_xll.PALO.EL($G$2,$G$3),_xll.PALO.EL($H$2,$H$3),_xll.PALO.EL($I$2,$I$3),_xll.PALO.EL($J$2,$J$3),_xll.PALO.EL("Position",D$7)) -> #NAME? | E8: =_xll.PALO.DATA($B$2,$B$3,_xll.PALO.EL("Time",E$6),_xll.PALO.EL("Partner",$B8),_xll.PALO.EL($D$2,$D$3),_xll.PALO.EL($E$2,$E$3),_xll.PALO.EL($F$2,$F$3),_xll.PALO.EL($G$2,$G$3),_xll.PALO.EL($H$2,$H$3),_xll.PALO.EL($I$2,$I$3),_xll.PALO.EL($J$2,$J$3),_xll.PALO.EL("Position",E$7)) -> #NAME? | F8: =_xll.PALO.DATA($B$2,$B$3,_xll.PALO.EL("Time",F$6),_xll.PALO.EL("Partner",$B8),_xll.PALO.EL($D$2,$D$3),_xll.PALO.EL($E$2,$E$3),_xll.PALO.EL($F$2,$F$3),_xll.PALO.EL($G$2,$G$3),_xll.PALO.EL($H$2,$H$3),_xll.PALO.EL($I$2,$I$3),_xll.PALO.EL($J$2,$J$3),_xll.PALO.EL("Position",F$7)) -> #NAME? | G8: =_xll.PALO.DATA($B$2,$B$3,_xll.PALO.EL("Time",G$6),_xll.PALO.EL("Partner",$B8),_xll.PALO.EL($D$2,$D$3),_xll.PALO.EL($E$2,$E$3),_xll.PALO.EL($F$2,$F$3),_xll.PALO.EL($G$2,$G$3),_xll.PALO.EL($H$2,$H$3),_xll.PALO.EL($I$2,$I$3),_xll.PALO.EL($J$2,$J$3),_xll.PALO.EL("Position",G$7)) -> #NAME? | H8: =_xll.PALO.DATA($B$2,$B$3,_xll.PALO.EL("Time",H$6),_xll.PALO.EL("Partner",$B8),_xll.PALO.EL($D$2,$D$3),_xll.PALO.EL($E$2,$E$3),_xll.PALO.EL($F$2,$F$3),_xll.PALO.EL($G$2,$G$3),_xll.PALO.EL($H$2,$H$3),_xll.PALO.EL($I$2,$I$3),_xll.PALO.EL($J$2,$J$3),_xll.PALO.EL("Position",H$7)) -> #NAME? | I8: =_xll.PALO.DATA($B$2,$B$3,_xll.PALO.EL("Time",I$6),_xll.PALO.EL("Partner",$B8),_xll.PALO.EL($D$2,$D$3),_xll.PALO.EL($E$2,$E$3),_xll.PALO.EL($F$2,$F$3),_xll.PALO.EL($G$2,$G$3),_xll.PALO.EL($H$2,$H$3),_xll.PALO.EL($I$2,$I$3),_xll.PALO.EL($J$2,$J$3),_xll.PALO.EL("Position",I$7)) -> #NAME? | J8: =_xll.PALO.DATA($B$2,$B$3,_xll.PALO.EL("Time",J$6),_xll.PALO.EL("Partner",$B8),_xll.PALO.EL($D$2,$D$3),_xll.PALO.EL($E$2,$E$3),_xll.PALO.EL($F$2,$F$3),_xll.PALO.EL($G$2,$G$3),_xll.PALO.EL($H$2,$H$3),_xll.PALO.EL($I$2,$I$3),_xll.PALO.EL($J$2,$J$3),_xll.PALO.EL("Position",J$7)) -> #NAME? | ... AL8: =_xll.PALO.DATA($B$2,$B$3,_xll.PALO.EL("Time",AL$6),_xll.PALO.EL("Partner",$B8),_xll.PALO.EL($D$2,$D$3),_xll.PALO.EL($E$2,$E$3),_xll.PALO.EL($F$2,$F$3),_xll.PALO.EL($G$2,$G$3),_xll.PALO.EL($H$2,$H$3),_xll.PALO.EL($I$2,$I$3),_xll.PALO.EL($J$2,$J$3),_xll.PALO.EL("Position",AL$7)) -> #NAME?
