Workbook

Sheet priekšlikumi_teksta_daļai
B1: Ministriju un citu centrālo valsts iestāžu priekšlikumi
B2: likumprojekta "Par valsts budžetu 2025. gadam un budžeta ietvaru 2025., 2026. un 2027. gadam" izskatīšanai Saeimā otrajā lasījumā
D4: Priekšlikums MK atzinumam
B5: Pieņemts pirmajā lasījumā | C5: Priekšlikumi 2.lasījumam
B7: Par likumprojekta "Par valsts budžetu 2025. gadam un budžeta ietvaru 2025., 2026. un 2027. gadam" teksta daļu:
B9: 15. Izglītības un zinātnes ministrija
A10: 1 | B10: 31. pants. Apstiprināt mērķdotāciju apjomu pašvaldībām 622 451 323 euro apmērā, tajā skaitā: | C10: Izteikt likumprojekta 31.panta pirmās daļas 1., 2. un 3.punktu šādā redakcijā: 31. pants. Apstiprināt mērķdotāciju apjomu pašvaldībām 617 863 741 euro apmērā, tai skaitā: | D10: Atbalstīt
B11: 1) pašvaldību pamata un vispārējās vidējās izglītības iestāžu, pašvaldību speciālās izglītības iestāžu, pašvaldību profesionālās izglītības iestāžu un daļējai interešu izglītības programmu pedagogu darba samaksai un valsts sociālās apdrošināšanas obligātajām iemaksām 475 387 539 euro apmērā saskaņā ar šā likuma 6. un 7. pielikumu; | C11: 1) pašvaldību pamata un vispārējās vidējās izglītības iestāžu, pašvaldību speciālās izglītības iestāžu, pašvaldību profesionālās izglītības iestāžu un daļējai interešu izglītības programmu pedagogu darba samaksai un valsts sociālās apdrošināšanas obligātajām iemaksām 472 197 088 euro apmērā saskaņā ar 6. un 7. pielikumu;
B12: 2) pašvaldību speciālo pirmsskolas izglītības grupu pedagogu darba samaksai un valsts sociālās apdrošināšanas obligātajām iemaksām, speciālajām izglītības iestādēm, kas nodrošina internāta pakalpojumus, 71 771 693 euro apmērā saskaņā ar šā likuma 8. pielikumu; | C12: 2) pašvaldību speciālo pirmsskolas izglītības grupu pedagogu darba samaksai un valsts sociālās apdrošināšanas obligātajām iemaksām, speciālajām izglītības iestādēm, kas nodrošina internāta pakalpojumus, 72 633 320 euro apmērā saskaņā ar 8. pielikumu;
B13: 3) pašvaldību izglītības iestādēs bērnu no piecu gadu vecuma izglītošanā nodarbināto pedagogu darba samaksai un valsts sociālās apdrošināšanas obligātajām iemaksām 74 325 697 euro apmērā saskaņā ar šā likuma 9. pielikumu; | C13: 3) pašvaldību izglītības iestādēs bērnu no piecu gadu vecuma izglītošanā nodarbināto pedagogu darba samaksai un valsts sociālās apdrošināšanas obligātajām iemaksām 70 980 645 euro apmērā saskaņā ar 9. pielikumu;
B14: Priekšlikums paredz precizēt finansējuma apmēru, lai nodrošinātu pedagogu darba samaksu 2025. gadā un turpmāk, ņemot vērā izglītojamo skaita un struktūras uz 2024. gada 1. septembri izmaiņu ietekmi (neieskaitot Ukrainas civiliedzīvotājus) (MK 01.10.2024. prot. Nr. 40, 30. §, 3.punkts), veikta finansējuma pārdale no budžeta resora "62. Mērķdotācijas pašvaldībām" programmām uz Izglītības un zinātnes ministrijas budžeta apakšprogrammām 01.05.00 "Dotācija privātajām mācību iestādēm" un 01.08.00 "Vispārējās izglītības atbalsta pasākumi", kā arī starp budžeta resora "62. Mērķdotācijas pašvaldībām" programmām.
B16: 22. Kultūras ministrija
A17: =A10+1 -> 2 | B17: 31.panta pirmās daļas 4.punkts 4) māksliniecisko kolektīvu vadītāju darba samaksai un valsts sociālās apdrošināšanas obligātajām iemaksām 966 394 euro apmērā saskaņā ar šā likuma 10. pielikumu. | C17: Izteikt likumprojekta 31.panta pirmās daļas 4.punktu šādā redakcijā: 4) māksliniecisko kolektīvu vadītāju darba samaksai un valsts sociālās apdrošināšanas obligātajām iemaksām 2 052 688 euro apmērā saskaņā ar 10. pielikumu. | D17: Atbalstīt
B18: Priekšlikums paredz pārdalīt izdevumus no budžeta resora "74 Gadskārtējā valsts budžeta izpildes procesā pārdalāmais finansējums" programmas 09.00.00 "Valsts nozīmes reformas īstenošanai" uz budžeta resora "62. Mērķdotācijas pašvaldībām" programmu 02.00.00 "Mērķdotācijas pašvaldību tautas mākslas kolektīvu vadītāju darba samaksai un valsts sociālās apdrošināšanas obligātajām iemaksām", lai nodrošinātu Dziesmu un deju svētku māksliniecisko kolektīvu vadītāju darba samaksas un valsts sociālās apdrošināšanas obligāto iemaksu finansēšanas reformas uzsākšanu, saskaņā ar 2024. gada 3. oktobra (prot. Nr. 40 34. §) MK rīkojuma Nr.802 "Par apropriācijas pārdali no budžeta resora "74. Gadskārtējā valsts budžeta izpildes procesā pārdalāmais finansējums" programmas 09.00.00 "Valsts nozīmes reformas īstenošanai"" 5.punktu.
B20: 20. Klimata un enerģētikas ministrija
A21: =A17+1 -> 3 | B21: 24. pants. Noteikt, ka akciju sabiedrība “Latvenergo” ieskaita valsts pamatbudžeta ieņēmumos dividenžu maksājumu 2025. gadā (par 2024. pārskata gadu) 70 procentu apmērā no pārskata gada peļņas, bet ne mazāk kā 147 495 380 euro, 2026. gadā (par 2025. pārskata gadu) 70 procentu apmērā no pārskata gada peļņas, bet ne mazāk kā 131 051 751 euro un 2027. gadā (par 2026. pārskata gadu) 70 procentu apmērā no pārskata gada peļņas, bet ne mazāk kā 131 051 751 euro, uzņēmumu ienākuma nodokli aprēķinot un nomaksājot uzņēmumu ienākuma nodokli regulējošos normatīvajos aktos noteiktajā kārtībā. | C21: Izteikt likumprojekta 24. pantu šādā redakcijā: "Noteikt, ka akciju sabiedrība “Latvenergo” ieskaita valsts pamatbudžeta ieņēmumos dividenžu maksājumu 2025. gadā (par 2024. pārskata gadu) 70 procentu apmērā no pārskata gada peļņas, bet ne mazāk kā 183 908 268 euro, 2026. gadā (par 2025. pārskata gadu) 70 procentu apmērā no pārskata gada peļņas, bet ne mazāk kā 131 051 751 euro un 2027. gadā (par 2026. pārskata gadu) 70 procentu apmērā no pārskata gada peļņas, bet ne mazāk kā 124 490 701 euro, uzņēmumu ienākuma nodokli aprēķinot un nomaksājot uzņēmumu ienākuma nodokli regulējošos normatīvajos aktos noteiktajā kārtībā." | D21: Atbalstīt
B22: Priekšlikums paredz precizēt valsts pamatbudžeta ieņēmumos ieskaitāmos akciju sabiedrības “Latvenergo” dividenžu maksājumus atbilstoši Ministru kabineta 2024. gada 10. oktobra sēdes protokolam Nr.42 6.§ "Informatīvais ziņojums "Pasākumi elektroenerģijas tirgus attīstībai"".
B24: 20. Klimata un enerģētikas ministrija
A25: =A21+1 -> 4 | B25: 26. pants. Noteikt, ka akciju sabiedrība “Augstsprieguma tīkls” ieskaita valsts pamatbudžeta ieņēmumos dividenžu maksājumu 2025. gadā (par 2024. pārskata gadu) 70 procentu apmērā no pārskata gada peļņas, bet ne mazāk kā 10 391 040 euro, 2026. gadā (par 2025. pārskata gadu) 70 procentu apmērā no pārskata gada peļņas, bet ne mazāk kā 5 308 160 euro un 2027. gadā (par 2026. pārskata gadu) 70 procentu apmērā no pārskata gada peļņas, bet ne mazāk kā 5 308 160 euro, uzņēmumu ienākuma nodokli aprēķinot un nomaksājot uzņēmumu ienākuma nodokli regulējošos normatīvajos aktos noteiktajā kārtībā. | C25: Izteikt likumprojekta 26. pantu šādā redakcijā: "Noteikt, ka akciju sabiedrība “Augstsprieguma tīkls” ieskaita valsts pamatbudžeta ieņēmumos dividenžu maksājumu 2025. gadā (par 2024. pārskata gadu) 70 procentu apmērā no pārskata gada peļņas, bet ne mazāk kā 10 391 040 euro, 2026. gadā (par 2025. pārskata gadu) 70 procentu apmērā no pārskata gada peļņas, bet ne mazāk kā 5 308 160 euro un 2027. gadā (par 2026. pārskata gadu) 70 procentu apmērā no pārskata gada peļņas, bet ne mazāk kā 12 068 480 euro, uzņēmumu ienākuma nodokli aprēķinot un nomaksājot uzņēmumu ienākuma nodokli regulējošos normatīvajos aktos noteiktajā kārtībā." | D25: Atbalstīt
B26: Priekšlikums paredz precizēt valsts pamatbudžeta ieņēmumos ieskaitāmos akciju sabiedrības “Augstsprieguma tīkls” dividenžu maksājumus atbilstoši Ministru kabineta 2024. gada 10. oktobra sēdes protokolam Nr.42 6.§ "Informatīvais ziņojums "Pasākumi elektroenerģijas tirgus attīstībai""
B28: 14. Iekšlietu ministrija
A29: =A25+1 -> 5 | B29: 28.pants. Noteikt, ka valsts akciju sabiedrība “Latvijas Valsts radio un televīzijas centrs” ieskaita valsts pamatbudžeta ieņēmumos dividenžu maksājumu 2025. gadā (par 2024. pārskata gadu) 70 procentu apmērā no pārskata gada peļņas, bet ne mazāk kā 5 764 654 euro un 2026. gadā (par 2025. pārskata gadu) 70 procentu apmērā no pārskata gada peļņas, bet ne mazāk kā 4 410 000 euro, uzņēmumu ienākuma nodokli aprēķinot un nomaksājot uzņēmumu ienākuma nodokli regulējošos normatīvajos aktos noteiktajā kārtībā. | C29: Izteikt likumprojekta 28.pantu šādā redakcijā: "Noteikt, ka valsts akciju sabiedrība “Latvijas Valsts radio un televīzijas centrs” ieskaita valsts pamatbudžeta ieņēmumos dividenžu maksājumu 2025. gadā (par 2024. pārskata gadu) 70 procentu apmērā no pārskata gada peļņas, bet ne mazāk kā 7 244 722 euro un 2026. gadā (par 2025. pārskata gadu) 70 procentu apmērā no pārskata gada peļņas, bet ne mazāk kā 6 252 155 euro, uzņēmumu ienākuma nodokli aprēķinot un nomaksājot uzņēmumu ienākuma nodokli regulējošos normatīvajos aktos noteiktajā kārtībā." | D29: Atbalstīt
B30: Priekšlikums paredz palielināt valsts akciju sabiedrības “Latvijas Valsts radio un televīzijas centrs” valsts pamatbudžeta ieņēmumos ieskaitāmos dividenžu maksājumus 2025. gadā par 1 480 068 euro un 2026.gadā par 1 842 155 euro, lai nodrošinātu papildu finansējumu Iekšlietu ministrijai samaksas veikšanai valsts akciju sabiedrībai “Latvijas Valsts radio un televīzijas centrs” par fizisko personu identitātes nodrošināšanu elektroniskā vidē un kvalificēta elektroniskā paraksta platformas un risinājumu uzturēšanu.
B32: 13. Finanšu ministrija
A33: =A29+1 -> 6 | C33: Papildināt 37.panta pirmo daļu ar 14. punktu šādā redakcijā: "14) patvertņu izveidošanai, tajā skaitā pašvaldības administratīvajā teritorijā esošu telpu pielāgošanai patvertņu vajadzībām, ja ir sniegts Iekšlietu ministrijas pozitīvs atzinums par patvertnes funkcionalitāti drošības nodrošināšanai." | D33: Atbalstīt
B34: Ņemot vērā esošo ģeopolitisko situāciju un pastāvošos ārējā apdraudējuma riskus, sabiedrībā ir aktuāls jautājums par patvertņu ierīkošanu. Viena no pašvaldību autonomajām funkcijām ir veikt pasākumus civilās aizsardzības un katastrofu pārvaldīšanā, ugunsdrošības un ugunsdzēsības jomā. Priekšlikums paredz paplašināt pašvaldību aizņemšanās iespējas, paredzot jaunu aizņemšanās mērķi - patvertņu izveidošanai, tajā skaitā pašvaldības administratīvajā teritorijā esošu telpu pielāgošanu patvertņu vajadzībām. Priekšlikums paredz, ka patversmju izveidošana tiek skaņota ar Iekšlietu ministriju.
B36: 12. Ekonomikas ministrija
A37: =A33+1 -> 7 | B37: 58. pants. (1) Jauno ārvalstu filmu uzņemšanai Latvijā, finanšu ministram ir tiesības palielināt 2025. gada apropriāciju Ekonomikas ministrijai izdevumiem un palielināt valsts budžeta likumā Ekonomikas ministrijai noteiktos valsts budžeta ilgtermiņa saistību maksimāli pieļaujamos apjomus 2026. un 2027. gadam līdzfinansējuma nodrošināšanai, ja, pēc ekonomikas ministra ierosinājuma, ir pieņemts attiecīgs Ministru kabineta lēmums un Saeimas Budžeta un finanšu (nodokļu) komisija piecu darba dienu laikā no attiecīgās informācijas saņemšanas dienas ir to izskatījusi un nav iebildusi pret apropriācijas un valsts budžeta ilgtermiņa saistību maksimāli pieļaujamo apjomu palielinājumu. (2) Līdzfinansējuma apjoms nepārsniedz 30 % no jauno ārvalstu filmu projekta kopējām attiecināmajām izmaksām. | C37: Izteikt likumprojekta 58. pantu šādā redakcijā: "(1) Ārvalstu filmu uzņemšanai Latvijā, finanšu ministram ir tiesības palielināt 2025. gada apropriāciju Ekonomikas ministrijai izdevumiem un palielināt valsts budžeta likumā Ekonomikas ministrijai noteiktos valsts budžeta ilgtermiņa saistību maksimāli pieļaujamos apjomus 2026. un 2027. gadam līdzfinansējuma nodrošināšanai, ja, pēc ekonomikas ministra ierosinājuma, ir pieņemts attiecīgs Ministru kabineta lēmums un Saeimas Budžeta un finanšu (nodokļu) komisija piecu darba dienu laikā no attiecīgās informācijas saņemšanas dienas ir to izskatījusi un nav iebildusi pret apropriācijas un valsts budžeta ilgtermiņa saistību maksimāli pieļaujamo apjomu palielinājumu. (2) Līdzfinansējuma apjoms nepārsniedz 30 % no ārvalstu filmu projekta kopējām attiecināmajām izmaksām Latvijā." | D37: Neatbalstīt
B38: Aicinām svītrot vārdu "jauno", jo viens un tas pats projekts var tikt īstenots vairāku gadu garumā. Tas attiecas arī uz gadījumiem, kad tiek veidotas vienas filmas atsevišķas sērijas vai sezonas. Tāpat aicinām redakciju papildināt, nosakot, ka attiecināmās izmaksas ietver tikai tās izmaksas, kas veiktas par Latvijā sniegtām precēm un pakalpojumiem, nodrošinot vietējās uzņēmējdarbības attīstību.
B40: 12. Ekonomikas ministrija
A41: =A37+1 -> 8 | B41: 59. pants. (1) Jauna dižpasākuma organizēšanas Latvijā līdzfinansējumam, finanšu ministram ir tiesības palielināt 2025. gada apropriāciju Ekonomikas ministrijai izdevumiem un palielināt valsts budžeta likumā Ekonomikas ministrijai noteiktos valsts budžeta ilgtermiņa saistību maksimāli pieļaujamos apjomus 2026. un 2027. gadam, ja pēc ekonomikas ministra ierosinājuma, ir pieņemts attiecīgs Ministru kabineta lēmums un Saeimas Budžeta un finanšu (nodokļu) komisija piecu darba dienu laikā no attiecīgās informācijas saņemšanas dienas ir to izskatījusi un nav iebildusi pret apropriācijas un valsts budžeta ilgtermiņa saistību maksimāli pieļaujamo apjomu palielinājumu. (2) Līdzfinansējuma apjoms nepārsniedz 20% no jauno dižpasākumu organizēšanas attiecināmajām izmaksām. (3) Dižpasākums šā panta izpratnē ir starptautiska mēroga pasākums, ko organizē, deleģē vai kura sadarbības partneris ir pasaules vai Eiropas mēroga organizācija un rada būtisku ietekmi uz Latvijas tautsaimniecību, piesaistot vismaz 10 000 ārvalstu apmeklētājus un dalībniekus, kas Latvijas tūristu mītnēs vai īstermiņa īres mītnēs pavada vismaz vienu nakti. | C41: Izteikt likumprojekta 59. pantu šādā redakcijā: "(1) Dižpasākuma organizēšanas Latvijā līdzfinansējumam, finanšu ministram ir tiesības palielināt 2025. gada apropriāciju Ekonomikas ministrijai izdevumiem un palielināt valsts budžeta likumā Ekonomikas ministrijai noteiktos valsts budžeta ilgtermiņa saistību maksimāli pieļaujamos apjomus 2026. un 2027. gadam, ja, pēc ekonomikas ministra ierosinājuma, ir pieņemts attiecīgs Ministru kabineta lēmums un Saeimas Budžeta un finanšu (nodokļu) komisija piecu darba dienu laikā no attiecīgās informācijas saņemšanas dienas ir to izskatījusi un nav iebildusi pret apropriācijas un valsts budžeta ilgtermiņa saistību maksimāli pieļaujamo apjomu palielinājumu. (2) Līdzfinansējuma apjoms nepārsniedz 50% no dižpasākumu organizēšanas un īstenošanas attiecināmajām izmaksām. (3) Dižpasākums šī panta izpratnē ir starptautiska mēroga pasākums, ko organizē, deleģē vai kura sadarbības partneris ir pasaules vai Eiropas mēroga organizācija un rada būtisku ietekmi uz Latvijas tautsaimniecību, piesaistot vismaz 10 000 ārvalstu apmeklētāju un dalībnieku naktis." | D41: Neatbalstīt, atbalstīt alternatīvu 8A Finanšu ministrijas priekšlikumu
B42: [1] Piedāvātajā redakcijā piedāvātā dižpasākumu definīcija neatbilst Ministru kabineta 2024. gada 23. janvāra sēdē (Nr.3 41.§) apstiprinātajā informatīvajā ziņojumā “Par finansējuma nodrošināšanu lieliem un nozīmīgiem pasākumiem” (turpmāk - IZ) noteiktajiem kritērijiem. Šajā Ministru kabineta apstiprinātajā IZ noteiktais kritērijs iekļauj paredzamo ārvalstu viesu, t.i., apmeklētāju un dalībnieku nakšu skaitu: vismaz 10 000 naktis. Šis nosacījums uzsver nakšu skaitu, nevis apmeklētāju skaitu, kas var radīt neskaidrības plānošanā. Ņemot vērā minēto, aicinām precizēt pantu, nosakot, ka dižpasākums piesaista vismaz 10 000 ārvalstu apmeklētāju naktis. [2] Pašreizējais IZ apstiprinātais atbalsta intensitātes modelis (un pastāvīgā regulējuma MK noteikumu projekts) paredz valsts budžeta līdzfinansējumu līdz 90% apmērā no provizoriskiem un faktiskajiem ārvalstu viesu radītā apgrozījuma PVN ieņēmumiem. Norādām, ka, balstoties uz provizoriskiem aprēķiniem, līdz šim diviem apstiprinātajiem dižpasākumiem (WRC 2024 un FIBA 2025) atbalsta intensitāte būtu būtiski augstāka, un piedāvātā 20% intensitāte nenosegtu pat obligātās licences izmaksas. (WRC VB līdzfinansējums - 45% no apgrozījuma, licences maksa - 30% no apgrozījuma; FIBA VB līdzfinansējums - 69% no apgroizījuma, licences maksas 45% no apgrozījuma). Ņemot vērā minēto, aicinām paredzēt, ka līdzfinansējuma apjoms ir vismaz 50% no pasākuma organizēšanas un īstenošanas attiecināmajām izmaksām. [3] Pašreizējie IZ apstiprinātie kritēriji nosaka, ka jauns dižpasākums ir pasākums, kas ir Ministru kabinetā apstiprināts kā atbilstošs dižpasākumu kritērijiem, bet tas neietver ierobežojumus attiecībā uz regularitāti vai atkārtošanos. Tādēļ aicinām svītrot vārdu "jauns", lai netiktu ierobežots atkārtotu pasākumu atbalsts. Šāds ierobežojums izslēdz no iespējamā atbalsta tādus lielos sporta pasākumus, kā Rimi Rīgas maratons vai MXGP Pasaules čempionāts motokrosā, kā arī citus pasākumus, kas tiek organizēti atkārtoti u.c. Pretējā gadījumā ir nepieciešams skaidrs valdības lēmums un precizējums par to, ko nozīmē "jauns". Piemēram, vai vēl viens hokeja čempionāts, vai rallijposms tiktu uzskatīts par jaunu pasākumu? Kā arī noteikt, ka pasākumi, kas neatbilst dižpasākumu kritērijiem, ir par jomu atbildīgo ministriju kompetencē. Šāda skaidrība būtu būtiska, lai nodrošinātu konsekventu un pārskatāmu pasākumu atbalsta piešķiršanas politiku.
B44: 13. Finanšu ministrija
A45: 8 A | B45: 59. pants. (1) Jauna dižpasākuma organizēšanas Latvijā līdzfinansējumam, finanšu ministram ir tiesības palielināt 2025. gada apropriāciju Ekonomikas ministrijai izdevumiem un palielināt valsts budžeta likumā Ekonomikas ministrijai noteiktos valsts budžeta ilgtermiņa saistību maksimāli pieļaujamos apjomus 2026. un 2027. gadam, ja pēc ekonomikas ministra ierosinājuma, ir pieņemts attiecīgs Ministru kabineta lēmums un Saeimas Budžeta un finanšu (nodokļu) komisija piecu darba dienu laikā no attiecīgās informācijas saņemšanas dienas ir to izskatījusi un nav iebildusi pret apropriācijas un valsts budžeta ilgtermiņa saistību maksimāli pieļaujamo apjomu palielinājumu. (2) Līdzfinansējuma apjoms nepārsniedz 20% no jauno dižpasākumu organizēšanas attiecināmajām izmaksām. (3) Dižpasākums šā panta izpratnē ir starptautiska mēroga pasākums, ko organizē, deleģē vai kura sadarbības partneris ir pasaules vai Eiropas mēroga organizācija un rada būtisku ietekmi uz Latvijas tautsaimniecību, piesaistot vismaz 10 000 ārvalstu apmeklētājus un dalībniekus, kas Latvijas tūristu mītnēs vai īstermiņa īres mītnēs pavada vismaz vienu nakti. | C45: Izteikt likumprojekta 59. pantu šādā redakcijā: " (1) Jauna dižpasākuma organizēšanas Latvijā līdzfinansējumam, finanšu ministram ir tiesības palielināt 2025. gada apropriāciju Ekonomikas ministrijai izdevumiem un palielināt valsts budžeta likumā Ekonomikas ministrijai noteiktos valsts budžeta ilgtermiņa saistību maksimāli pieļaujamos apjomus 2026. un 2027. gadam, ja pēc ekonomikas ministra ierosinājuma, ir pieņemts attiecīgs Ministru kabineta lēmums un Saeimas Budžeta un finanšu (nodokļu) komisija piecu darba dienu laikā no attiecīgās informācijas saņemšanas dienas ir to izskatījusi un nav iebildusi pret apropriācijas un valsts budžeta ilgtermiņa saistību maksimāli pieļaujamo apjomu palielinājumu. (2) Līdzfinansējuma apjoms nepārsniedz 30% no jauno dižpasākumu organizēšanas attiecināmajām izmaksām. (3) Dižpasākums šā panta izpratnē ir starptautiska mēroga pasākums, ko organizē, deleģē vai kura sadarbības partneris ir pasaules vai Eiropas mēroga organizācija un rada būtisku ietekmi uz Latvijas tautsaimniecību, piesaistot vismaz 5 000 ārvalstu apmeklētājus un dalībniekus, kas Latvijas tūristu mītnēs vai īstermiņa īres mītnēs pavada vismaz divas naktis." | D45: Atbalstīt
B46: Priekšlikums paredz precizēt jauno dižpasākumu organizēšanas līdzfinansējuma apjomu, nepārsniedzot 30% no attiecināmajām izmaksām, lai salāgotu ar 58.pantā noteikto līdzfinansējuma apjomu jauno ārvalstu filmu uzņemšanai Latvijā, kā arī samazināt ārvalstu apmeklētāju un dalībnieku skaitu uz 5 000, bet palielināt pavadīto naksts skaitu uz divām.
B48: 12. Ekonomikas ministrija
A49: =A41+1 -> 9 | B49: 60. pants. Saskaņā ar šā likuma 58. un 59. panta noteikumiem veiktais kopējais apropriācijas palielinājums 2025. gadā un uzņemto ilgtermiņa saistību apjoms kopā turpmākajiem vidēja termiņa budžeta ietvara gadiem nepārsniedz 15% no attiecīgā gada fiskālā nodrošinājuma rezerves apjoma. Līdz 2026. gada 28. februārim Ekonomikas ministrija iesniedz Ministru kabinetā ziņojumu par 2025. gadā piešķirto līdzfinansējumu. | C49: Izteikt likumprojekta 60. pantu šādā redakcijā: "Saskaņā ar šā likuma 58. pantā un 59. pantā noteikumiem veiktais kopējais apropriācijas palielinājums 2025. gadā un uzņemto ilgtermiņa saistību apjoms kopā turpmākajiem vidēja termiņa budžeta ietvara gadiem nepārsniedz 15% no attiecīgā gada fiskālā nodrošinājuma rezerves apjoma." | D49: Neatbalstīt
B50: Lūdzam dzēst Ekonomikas ministrijas pienākumu ziņot par 2025. gada piešķirto finansējumu, jo apropriācija tiktu veikta tikai "pēc ekonomikas ministra ieteikuma, ja ir pieņemts attiecīgs Ministru kabineta lēmums". Attiecīgi, papildus ziņojums nesniegs pievienoto vērtību, bet radīs administratīvo slogu bez būtiska labuma. Papildus, nepieciešams skaidri definēt, vai neizmantotais finansējums, tostarp 2024. gada pārpalikums, var tikt pārcelts uz nākamo gadu. Šāda iespēja ļautu veidot "uzkrājumu" lielākam un nozīmīgākam dižpasākumam vai filmu projektam nākotnē. Finansējuma pārceļamība varētu palīdzēt nodrošināt elastīgumu un resursu efektīvāku izmantošanu, vienlaikus neapdraudot ārvalstu filmu atbalsta programmas īstenošanai nepieciešamo finansējumu.
B52: 13. Finanšu ministrija
A53: =A49+1 -> 10 | B53: 71. pants. (1) Noteikt, ka budžeta resora “74. Gadskārtējā valsts budžeta izpildes procesā pārdalāmais finansējums” programmā 23.00.00 “Valsts atbalsta programmas un citi valsts nozīmes pasākumi” noteikto apropriāciju 57 012 914 euro apmērā, tajā skaitā 30 000 000 euro apmērā pedagogu atalgojuma pieaugumam, tajā skaitā finansējumam pedagogu darba samaksai atbilstoši aktualizētajam skolēnu skaitam, 26 012 914 euro apmērā valsts publiskās lietošanas dzelzceļa infrastruktūras pārvaldītāja (valsts akciju sabiedrības “Latvijas dzelzceļš”) finanšu līdzsvara par 2024. gadu nodrošināšanai, 1 000 000 euro apmērā Eiropas Rekonstrukcijas un attīstības bankas pilnvarnieku valdes 2026. gada sanāksmes organizēšanai, finanšu ministrs pārdala ministrijai vai citai centrālajai valsts iestādei, ja ir pieņemts attiecīgs Ministru kabineta lēmums un Saeimas Budžeta un finanšu (nodokļu) komisija piecu darba dienu laikā no attiecīgās informācijas saņemšanas dienas ir to izskatījusi un nav iebildusi pret apropriācijas pārdali. (2) Ja valsts publiskās lietošanas dzelzceļa infrastruktūras pārvaldītāja (valsts akciju sabiedrības “Latvijas dzelzceļš”) finanšu līdzsvara par 2024. gadu nodrošināšanai nepieciešams mazāks finansējums, kā šā panta pirmajā daļā šim mērķim ieplānotais finansējums, atlikums nav pārdalāms citiem mērķiem. | C53: Izteikt likumprojekta 71. pantu šādā redakcijā: "(1) Noteikt, ka budžeta resora “74. Gadskārtējā valsts budžeta izpildes procesā pārdalāmais finansējums” programmā 23.00.00 “Valsts atbalsta programmas un citi valsts nozīmes pasākumi” noteikto apropriāciju 57 382 914 euro apmērā, tajā skaitā 30 000 000 euro apmērā pedagogu atalgojuma pieaugumam, tajā skaitā finansējumam pedagogu darba samaksai atbilstoši aktualizētajam skolēnu skaitam, 26 012 914 euro apmērā valsts publiskās lietošanas dzelzceļa infrastruktūras pārvaldītāja (valsts akciju sabiedrības “Latvijas dzelzceļš”) finanšu līdzsvara par 2024. gadu nodrošināšanai, 1 000 000 euro apmērā Eiropas Rekonstrukcijas un attīstības bankas pilnvarnieku valdes 2026. gada sanāksmes organizēšanai, 370 000 euro apmērā Nacionālā mākslīgā intelekta centra izveidei, finanšu ministrs pārdala ministrijai vai citai centrālajai valsts iestādei, ja ir pieņemts attiecīgs Ministru kabineta lēmums un Saeimas Budžeta un finanšu (nodokļu) komisija piecu darba dienu laikā no attiecīgās informācijas saņemšanas dienas ir to izskatījusi un nav iebildusi pret apropriācijas pārdali. (2) Ja valsts publiskās lietošanas dzelzceļa infrastruktūras pārvaldītāja (valsts akciju sabiedrības “Latvijas dzelzceļš”) finanšu līdzsvara par 2024. gadu nodrošināšanai nepieciešams mazāks finansējums, kā šā panta pirmajā daļā šim mērķim ieplānotais finansējums, atlikums nav pārdalāms citiem mērķiem." | D53: Atbalstīt
...

Sheet AiM
C1: Pieņemts pirmajā lasījumā | D1: Priekšlikums par izmaiņām | F1: Pieņemts pirmajā lasījumā | G1: Priekšlikums par izmaiņām | H1: Priekšlikums MK atzinumam
B3: Par likumprojekta "Par valsts budžetu 2025. gadam un budžeta ietvaru 2025., 2026. un 2027. gadam" skaitlisko daļu:
B5: Sadalījumā pa budžeta resoriem
B7: 10. Aizsardzības ministrija
A9: 1 | B9: 10.Aizsardzības ministrija | H9: Atbalstīt
B10: 4.pielikums
B11: 22.12.00 Nacionālo bruņoto spēku uzturēšana
B12: Resursi izdevumu segšanai | C12: 760015497
B13: Ieņēmumi no maksas pakalpojumiem un citi pašu ieņēmumi – kopā | C13: 19690444
B14: Transferti | C14: 734400
B15: Valsts budžeta transferti | C15: 734400
B16: Valsts pamatbudžeta savstarpējie transferti | C16: 734400
B17: Valsts pamatbudžeta iestāžu saņemtie transferti no valsts pamatbudžeta | C17: 734400
B18: Valsts pamatbudžeta iestāžu saņemtie transferti no valsts pamatbudžeta dotācijas no vispārējiem ieņēmumiem | C18: 734400
B19: Dotācija no vispārējiem ieņēmumiem | C19: 739590653
B20: Vispārējā kārtībā sadalāmā dotācija no vispārējiem ieņēmumiem | C20: 739590653
B21: Izdevumi – kopā | C21: 760015497 | D21: -13141315
B22: Uzturēšanas izdevumi | C22: 488547826 | D22: -13141315
B23: Kārtējie izdevumi | C23: 484753300 | D23: -13141315
B24: Atlīdzība | C24: 291
B25: Preces un pakalpojumi | C25: 484753009 | D25: -13141315
B26: Subsīdijas, dotācijas, sociālie maksājumi un kompensācijas | C26: 2402386
B27: Subsīdijas un dotācijas | C27: 2044386
B28: Sociāla rakstura maksājumi un kompensācijas | C28: 358000
B29: Transferti viena budžeta veida ietvaros un uzturēšanas izdevumu transferti starp budžeta veidiem | C29: 1392140
B30: Valsts budžeta transferti un uzturēšanas izdevumu transferti | C30: 1025409
B31: Valsts budžeta uzturēšanas izdevumu transferti no valsts pamatbudžeta uz valsts speciālo budžetu | C31: 341299
B32: Valsts budžeta transferti no valsts pamatbudžeta uz valsts pamatbudžetu | C32: 684110
B33: Valsts budžeta transferti no valsts pamatbudžeta dotācijas no vispārējiem ieņēmumiem uz valsts pamatbudžetu | C33: 684110
B34: Pārējie valsts budžeta uzturēšanas izdevumu transferti citiem budžetiem | C34: 366731
B35: Pārējie valsts budžeta uzturēšanas izdevumu transferti valsts budžeta daļēji finansētām atvasinātām publiskām personām un budžeta nefinansētām iestādēm | C35: 366731
B36: Kapitālie izdevumi | C36: 271467671
B37: Pamatkapitāla veidošana | C37: 271467671
B38: Finansiālā bilance | D38: 13141315
B39: Finansēšana | D39: -13141315
B40: Akcijas un cita līdzdalība pašu kapitālā | D40: -13141315
B41: 3.pielikums
B42: I. Valsts pamatfunkciju īstenošana
B43: 2026.gads
B44: Resursi izdevumu segšanai | C44: 1 558 712 634
...

Sheet ĀM
C1: Pieņemts pirmajā lasījumā | D1: Priekšlikums par izmaiņām | F1: Pieņemts pirmajā lasījumā | G1: Priekšlikums par izmaiņām | H1: Priekšlikums MK atzinumam
B3: 11. Ārlietu ministrija
A5: =AiM!A113+1 -> 4 | B5: 74. Gadskārtējā valsts budžeta izpildes procesā pārdalāmais finansējums | E5: 11. Ārlietu ministrija | H5: Atbalstīt
B6: 4.pielikums | E6: 4.pielikums
B7: 04.00.00 Latvijas prezidentūras Eiropas Savienības Padomē nodrošināšana | E7: 96.01.00 Latvijas prezidentūras Eiropas Savienības Padomē sekretariāta darbības nodrošināšana
B8: Resursi izdevumu segšanai/ Ieņēmumi | C8: 1500000 | D8: -1444195 | E8: Resursi izdevumu segšanai/ Ieņēmumi | G8: 443432
B9: Dotācija no vispārējiem ieņēmumiem | C9: 1500000 | D9: -1444195 | E9: Dotācija no vispārējiem ieņēmumiem | G9: 443432
B10: Vispārējā kārtībā sadalāmā dotācija no vispārējiem ieņēmumiem | C10: 1500000 | D10: -1444195 | E10: Vispārējā kārtībā sadalāmā dotācija no vispārējiem ieņēmumiem | G10: 443432
B11: Izdevumi - kopā | C11: 1500000 | D11: -1444195 | E11: Izdevumi - kopā | G11: 443432
B12: Uzturēšanas izdevumi | C12: 1500000 | D12: -1444195 | E12: Uzturēšanas izdevumi | G12: 406932
B13: Subsīdijas, dotācijas, sociālie maksājumi un kompensācijas | C13: 1500000 | D13: -1444195 | E13: Kārtējie izdevumi | G13: 406932
B14: Subsīdijas un dotācijas | C14: 1500000 | D14: -1444195 | E14: Atlīdzība | G14: 363432
E15: Preces un pakalpojumi | G15: 43500
E16: Kapitālie izdevumi | G16: 36500
E17: Pamatkapitāla veidošana | G17: 36500
E18: 96.03.00 Latvijas prezidentūras Eiropas Savienības Padomē nodrošināšana (ministrijas pasākumi)
E19: Resursi izdevumu segšanai/ Ieņēmumi | G19: 1000763
E20: Dotācija no vispārējiem ieņēmumiem | G20: 1000763
E21: Vispārējā kārtībā sadalāmā dotācija no vispārējiem ieņēmumiem | G21: 1000763
E22: Izdevumi - kopā | G22: 1000763
E23: Uzturēšanas izdevumi | G23: 371595
E24: Kārtējie izdevumi | G24: 371595
E25: Atlīdzība | G25: 139820
E26: Preces un pakalpojumi | G26: 231775
E27: Kapitālie izdevumi | G27: 629168
E28: Pamatkapitāla veidošana | G28: 629168
B29: Finansējuma pārdale no 74.resora programmas 04.00.00 "Latvijas prezidentūras Eiropas Savienības Padomē nodrošināšana" uz Ārlietu ministrijas apakšprogrammu 96.01.00 "Latvijas prezidentūras Eiropas Savienības Padomē sekretariāta darbības nodrošināšana" un apakšprogrammu 96.03.00 "Latvijas prezidentūras Eiropas Savienības Padomē nodrošināšana (ministrijas pasākumi)", lai nodrošinātu finansējumu 2025.gadā Latvijas prezidentūras Eiropas Savienības Padomē 2028. gadā sagatavošanai, atbilstoši Ministru kabineta 2024.gada 29.oktobra protokola Nr. 46 85.§ "Informatīvais ziņojums "Par Latvijas prezidentūras Eiropas Savienības Padomē 2028. gadā sagatavošanai nepieciešamo finansējumu 2025. gadam" 2.punktam.
A31: =A5+1 -> 5 | B31: 74. Gadskārtējā valsts budžeta izpildes procesā pārdalāmais finansējums | E31: 11. Ārlietu ministrija | H31: Atbalstīt
B32: 4.pielikums | E32: 4.pielikums
B33: 02.00.00 Līdzekļi neparedzētiem gadījumiem | E33: 97.00.00 Nozaru vadība un politikas plānošana
B34: Resursi izdevumu segšanai/ Ieņēmumi | C34: 110288148 | D34: -79229 | E34: Resursi izdevumu segšanai/ Ieņēmumi | F34: 81002813 | G34: 79229
B35: Dotācija no vispārējiem ieņēmumiem | C35: 110288148 | D35: -79229 | E35: Ieņēmumi no maksas pakalpojumiem un citi pašu ieņēmumi – kopā | F35: 2957141
B36: Vispārējā kārtībā sadalāmā dotācija no vispārējiem ieņēmumiem | C36: 110288148 | D36: -79229 | E36: Dotācija no vispārējiem ieņēmumiem | F36: 78045672 | G36: 79229
B37: Izdevumi - kopā | C37: 110288148 | D37: -79229 | E37: Vispārējā kārtībā sadalāmā dotācija no vispārējiem ieņēmumiem | F37: 78045672 | G37: 79229
B38: Uzturēšanas izdevumi | C38: 110288148 | D38: -79229 | E38: Izdevumi - kopā | F38: 82102813 | G38: 79229
B39: Subsīdijas, dotācijas, sociālie maksājumi un kompensācijas | C39: 110288148 | D39: -79229 | E39: Uzturēšanas izdevumi | F39: 80255102 | G39: 79229
B40: Subsīdijas un dotācijas | C40: 110288148 | D40: -79229 | E40: Kārtējie izdevumi | F40: 78048645 | G40: 79229
E41: Atlīdzība | F41: 47244955 | G41: 60440
E42: Preces un pakalpojumi | F42: 30803690 | G42: 18789
E43: Subsīdijas, dotācijas, sociālie maksājumi un kompensācijas | F43: 1482791
...

Sheet EM
C1: Pieņemts pirmajā lasījumā | D1: Priekšlikums par izmaiņām | F1: Pieņemts pirmajā lasījumā | G1: Priekšlikums par izmaiņām | H1: Priekšlikums MK atzinumam
B3: 12. Ekonomikas ministrija
A5: =ĀM!A31+1 -> 6 | B5: 12. Ekonomikas ministrija | H5: Atbalstīt
B6: 11.pielikums
B7: 97.00.00 Nozaru vadība un politikas plānošana
B8: 0600000000 - Citas ilgtermiņa saistības
B9: tajā skaitā
B10: Telpu Rīgā, Talejas ielā 1, nomas maksas izdevumu segšanai
B11: 2026.gads
B12: Resursi izdevumu segšanai | D12: =D13 -> 487652
B13: Dotācija no vispārējiem ieņēmumiem | D13: =D14 -> 487652
B14: Vispārējā kārtībā sadalāmā dotācija no vispārējiem ieņēmumiem | D14: 487652
B15: Izdevumi – kopā | D15: =D16 -> 487652
B16: Uzturēšanas izdevumi | D16: =D17 -> 487652
B17: Kārtējie izdevumi | D17: =D18 -> 487652
B18: Preces un pakalpojumi | D18: 487652
B19: 2027.gads
B20: Resursi izdevumu segšanai | D20: =D21 -> 487652
B21: Dotācija no vispārējiem ieņēmumiem | D21: =D22 -> 487652
B22: Vispārējā kārtībā sadalāmā dotācija no vispārējiem ieņēmumiem | D22: 487652
B23: Izdevumi – kopā | D23: =D24 -> 487652
B24: Uzturēšanas izdevumi | D24: =D25 -> 487652
B25: Kārtējie izdevumi | D25: =D26 -> 487652
B26: Preces un pakalpojumi | D26: 487652
B27: 2028.gads
B28: Resursi izdevumu segšanai | D28: =D29 -> 487652
B29: Dotācija no vispārējiem ieņēmumiem | D29: =D30 -> 487652
B30: Vispārējā kārtībā sadalāmā dotācija no vispārējiem ieņēmumiem | D30: 487652
B31: Izdevumi – kopā | D31: =D32 -> 487652
B32: Uzturēšanas izdevumi | D32: =D33 -> 487652
B33: Kārtējie izdevumi | D33: =D34 -> 487652
B34: Preces un pakalpojumi | D34: 487652
B35: Tālākā laika posmā līdz projekta īstenošanai
B36: Resursi izdevumu segšanai | D36: =D37 -> 7802432
B37: Dotācija no vispārējiem ieņēmumiem | D37: =D38 -> 7802432
B38: Vispārējā kārtībā sadalāmā dotācija no vispārējiem ieņēmumiem | D38: 7802432
B39: Izdevumi – kopā | D39: =D40 -> 7802432
B40: Uzturēšanas izdevumi | D40: =D41 -> 7802432
B41: Kārtējie izdevumi | D41: =D42 -> 7802432
B42: Preces un pakalpojumi | D42: 7802432
...

Sheet FM
C1: Pieņemts pirmajā lasījumā | D1: Priekšlikums par izmaiņām | F1: Pieņemts pirmajā lasījumā | G1: Priekšlikums par izmaiņām | H1: Priekšlikums MK atzinumam
B3: 13. Finanšu ministrija
A5: =EM!A123+1 -> 12 | B5: 13. Finanšu ministrija | E5: 14. Iekšlietu ministrija | H5: Atbalstīt
B6: 3. pielikums | E6: 3. pielikums
B7: I. Valsts pamatfunkciju īstenošana | E7: I. Valsts pamatfunkciju īstenošana
B8: 2026.gadā | E8: 2026.gadā
B9: Resursi izdevumu segšanai | C9: 1379554695 | D9: -1277957 | E9: Resursi izdevumu segšanai | F9: 609936464 | G9: 1277957
B10: Dotācija no vispārējiem ieņēmumiem | C10: 1378466376 | D10: -1277957 | E10: Dotācija no vispārējiem ieņēmumiem | F10: 605020177 | G10: =G9 -> 1277957
B11: Vispārējā kārtībā sadalāmā dotācija no vispārējiem ieņēmumiem | C11: =C10 -> 1378466376 | D11: -1277957 | E11: Vispārējā kārtībā sadalāmā dotācija no vispārējiem ieņēmumiem | F11: 605020177 | G11: =G10 -> 1277957
B12: Izdevumi – kopā | C12: 1271412629 | D12: -1277957 | E12: Izdevumi – kopā | F12: 609936464 | G12: =G9 -> 1277957
B13: Kapitālie izdevumi | C13: 31797313 | D13: -1277957 | E13: Kapitālie izdevumi | F13: 12125561 | G13: =G12 -> 1277957
B14: Pamatkapitāla veidošana | C14: =C13 -> 31797313 | D14: -1277957 | E14: Pamatkapitāla veidošana | F14: 12125561 | G14: =G13 -> 1277957
B15: 13. Finanšu ministrija
B16: 11. pielikums
B17: 41.13.00 Finansējums VAS "Valsts nekustamie īpašumi" īstenojamiem projektiem un pasākumiem
B18: 0600000000 Citas ilgtermiņa saistības
B19: Dotācija VAS "Valsts nekustamie īpašumi" jaunas infrastruktūras izveidei kontroles dienestu funkciju īstenošanai Uriekstes ielā 42, Rīgā (Kundziņsala) | C19: CIS/FM/027
B20: 2026.gadā
B21: Resursi izdevumu segšanai | C21: 6038428 | D21: -1277957
B22: Dotācija no vispārējiem ieņēmumiem | C22: =C21 -> 6038428 | D22: =D21 -> -1277957
B23: Vispārējā kārtībā sadalāmā dotācija no vispārējiem ieņēmumiem | C23: =C22 -> 6038428 | D23: =D22 -> -1277957
B24: Izdevumi – kopā | C24: 6038428 | D24: =D21 -> -1277957
B25: Kapitālie izdevumi | C25: =C24 -> 6038428 | D25: =D24 -> -1277957
B26: Pamatkapitāla veidošana | C26: =C25 -> 6038428 | D26: =D25 -> -1277957
B27: Finansējuma pārdale no Finanšu ministrijas budžeta uz Iekšlietu ministijas budžetu, lai nodrošinātu radiācijas vārtu piegādes un uzstādīšanas izmaksu segšanu, saskaņā ar MK 2024.gada 15.oktobra protokola Nr. 44 13.§ "Informatīvais ziņojums "Par Eiropas Savienības Atveseļošanas un noturības mehānisma plāna 6. komponentes "Likuma vara" 6.1. reformu un investīciju virziena "Ēnu ekonomikas mazināšana godīgas uzņēmējdarbības veicināšanai" 6.1.2.r. reformas "Muitas kontroles punktos skenēto attēlu attālināta un centralizēta analīze" 6.1.2.4.i. investīcijas "Infrastruktūras izveide kontroles dienestu funkciju īstenošanai Kundziņsalā" īstenošanas progresu un turpmāko rīcību"" 3.punktu.
A29: =A5+1 -> 13 | B29: 74. Gadskārtējā valsts budžeta izpildes procesā pārdalāmais finansējums | E29: 13. Finanšu ministrija | H29: Atbalstīt
B30: 4. pielikums | E30: 4. pielikums
B31: 10.00.00 Noziedzīgi iegūtu līdzekļu legalizācijas un terorisma finansēšanas novēršana | E31: 33.00.00 Valsts ieņēmumu un muitas politikas nodrošināšana
B32: Resursi izdevumu segšanai | C32: 1137204 | D32: -249380 | E32: Resursi izdevumu segšanai | F32: 179922189 | G32: 249380
B33: Dotācija no vispārējiem ieņēmumiem | C33: =C32 -> 1137204 | D33: =D32 -> -249380 | E33: Dotācija no vispārējiem ieņēmumiem | F33: 179501161 | G33: 249380
B34: Vispārējā kārtībā sadalāmā dotācija no vispārējiem ieņēmumiem | C34: =C33 -> 1137204 | D34: =D33 -> -249380 | E34: Vispārējā kārtībā sadalāmā dotācija no vispārējiem ieņēmumiem | F34: 179501161 | G34: 249380
B35: Izdevumi – kopā | C35: =C34 -> 1137204 | D35: =D34 -> -249380 | E35: Izdevumi – kopā | F35: 179922189 | G35: 249380
B36: Uzturēšanas izdevumi | C36: =C35 -> 1137204 | D36: =D35 -> -249380 | E36: Uzturēšanas izdevumi | F36: 163587730 | G36: 59954
B37: Subsīdijas, dotācijas, sociālie maksājumi un kompensācijas | C37: =C36 -> 1137204 | D37: =D36 -> -249380 | E37: Kārtējie izdevumi | F37: 143040801 | G37: 59954
B38: Subsīdijas un dotācijas | C38: =C37 -> 1137204 | D38: =D37 -> -249380 | E38: Preces un pakalpojumi | F38: 38580851 | G38: 59954
E39: Kapitālie izdevumi | F39: 16334459 | G39: 189426
E40: Pamatkapitāla veidošana | F40: 16334459 | G40: 189426
B41: 74. Gadskārtējā valsts budžeta izpildes procesā pārdalāmais finansējums | E41: 13. Finanšu ministrija
B42: 3. pielikums | E42: 3. pielikums
B43: I. Valsts pamatfunkciju īstenošana | E43: I. Valsts pamatfunkciju īstenošana
...

Sheet IeM
C1: Pieņemts pirmajā lasījumā | D1: Priekšlikums par izmaiņām | F1: Pieņemts pirmajā lasījumā | G1: Priekšlikums par izmaiņām | H1: Priekšlikums MK atzinumam
B3: 14. Iekšlietu ministrija
A5: =FM!A66+1 -> 15 | B5: 14. Iekšlietu ministrija | E5: 14. Iekšlietu ministrija | H5: Atbalstīt
B6: 4.pielikums | E6: 4.pielikums
B7: 02.03.00 "Vienotās sakaru un informācijas sistēmas uzturēšana un vadība" | E7: 06.01.00 "Valsts policija"
B8: Resursi izdevumu segšanai | C8: 18722008 | D8: =D9+D10 -> -8060 | E8: Resursi izdevumu segšanai | F8: 243399644 | G8: =G10 -> 8060
B9: Ieņēmumi no maksas pakalpojumiem un citi pašu ieņēmumi – kopā | C9: 728818 | E9: Ieņēmumi no maksas pakalpojumiem un citi pašu ieņēmumi – kopā | F9: 1260130
B10: Dotācija no vispārējiem ieņēmumiem | C10: 17993190 | D10: =D11 -> -8060 | E10: Dotācija no vispārējiem ieņēmumiem | F10: 242139514 | G10: =G11 -> 8060
B11: Vispārējā kārtībā sadalāmā dotācija no vispārējiem ieņēmumiem | C11: 17993190 | D11: -8060 | E11: Vispārējā kārtībā sadalāmā dotācija no vispārējiem ieņēmumiem | F11: 242139514 | G11: 8060
B12: Izdevumi – kopā | C12: 18722008 | D12: =D13 -> -8060 | E12: Izdevumi – kopā | F12: 243399644 | G12: =G13+G25 -> 8060
B13: Uzturēšanas izdevumi | C13: 17005510 | D13: =D14 -> -8060 | E13: Uzturēšanas izdevumi | F13: 239243416 | G13: =G14 -> 8060
B14: Kārtējie izdevumi | C14: 17005510 | D14: =D15+D16 -> -8060 | E14: Kārtējie izdevumi | F14: 236051428 | G14: =G15+G16 -> 8060
B15: Atlīdzība | C15: 8897263 | E15: Atlīdzība | F15: 203415299
B16: Preces un pakalpojumi | C16: 8108247 | D16: -8060 | E16: Preces un pakalpojumi | F16: 32636129 | G16: 8060
B17: Kapitālie izdevumi | C17: 1716498 | E17: Subsīdijas, dotācijas, sociālie maksājumi un kompensācijas | F17: 3087816
B18: Pamatkapitāla veidošana | C18: 1716498 | E18: Subsīdijas un dotācijas | F18: 3045816
E19: Sociāla rakstura maksājumi un kompensācijas | F19: 42000
E20: Kārtējie maksājumi Eiropas Savienības budžetā un starptautiskā sadarbība | F20: 96396
E21: Starptautiskā sadarbība | F21: 96396
E22: Transferti viena budžeta veida ietvaros un uzturēšanas izdevumu transferti starp budžeta veidiem | F22: 7776
E23: Valsts budžeta transferti un uzturēšanas izdevumu transferti | F23: 7776
E24: Valsts budžeta uzturēšanas izdevumu transferti no valsts pamatbudžeta uz valsts speciālo budžetu | F24: 7776
E25: Kapitālie izdevumi | F25: 4156228
E26: Pamatkapitāla veidošana | F26: 4156228
B27: Veikta finansējuma pārdale no budžeta apakšprogrammas 02.03.00 "Vienotās sakaru un informācijas sistēmas uzturēšana un vadība" uz budžeta apakšprogrammu 06.01.00 "Valsts policija" 2025.gadā un turpmāk ik gadu 8060 euro, lai saskaņā ar starp Iekšlietu ministrijas Informācijas centru un Valsts policiju 2024. gada 16. oktobrī noslēgto Vienošanos Nr.2218 nodrošinātu optimālu autotransporta izmantošanu. Izmaiņas netiek atspoguļotas likumprojekta "Par valsts budžetu 2025. gadam un budžeta ietvaru 2025., 2026. un 2027. gadam" 3.pielikumā "Valsts pamatbudžeta un valsts speciālā budžeta kopsavilkums", jo 2026. gadā un turpmāk ik gadu izdevumu pārdale tiek veikta starp budžeta apakšprogrammām, nemainot izdevumus atbilstoši ekonomiskās klasifikācijas kodiem.
A29: =A5+1 -> 16 | B29: 74. Gadskārtējā valsts budžeta izpildes procesā pārdalāmais finansējums | E29: 14. Iekšlietu ministrija | H29: Atbalstīt
B30: 4.pielikums | E30: 4.pielikums
B31: 01.00.00 "Apropriācijas rezerve" | E31: 02.03.00 "Vienotās sakaru un informācijas sistēmas uzturēšana un vadība"
B32: Resursi izdevumu segšanai | C32: 5393389 | D32: =D33 -> -656192 | E32: Resursi izdevumu segšanai | F32: 18722008 | G32: =G33+G34 -> 656192
B33: Dotācija no vispārējiem ieņēmumiem | C33: 5393389 | D33: =D34 -> -656192 | E33: Ieņēmumi no maksas pakalpojumiem un citi pašu ieņēmumi – kopā | F33: 728818
B34: Vispārējā kārtībā sadalāmā dotācija no vispārējiem ieņēmumiem | C34: 5393389 | D34: -656192 | E34: Dotācija no vispārējiem ieņēmumiem | F34: 17993190 | G34: =G35 -> 656192
B35: Izdevumi – kopā | C35: 5393389 | D35: =D36 -> -656192 | E35: Vispārējā kārtībā sadalāmā dotācija no vispārējiem ieņēmumiem | F35: 17993190 | G35: 656192
B36: Uzturēšanas izdevumi | C36: 5393389 | D36: =D37 -> -656192 | E36: Izdevumi – kopā | F36: 18722008 | G36: =G37+G41 -> 656192
B37: Subsīdijas, dotācijas, sociālie maksājumi un kompensācijas | C37: 5393389 | D37: =D38 -> -656192 | E37: Uzturēšanas izdevumi | F37: 17005510 | G37: =G38 -> 656192
B38: Subsīdijas un dotācijas | C38: 5393389 | D38: -656192 | E38: Kārtējie izdevumi | F38: 17005510 | G38: =G39+G40 -> 656192
E39: Atlīdzība | F39: 8897263 | G39: 131465
E40: Preces un pakalpojumi | F40: 8108247 | G40: 524727
E41: Kapitālie izdevumi | F41: 1716498
E42: Pamatkapitāla veidošana | F42: 1716498
B43: 74. Gadskārtējā valsts budžeta izpildes procesā pārdalāmais finansējums | E43: 14. Iekšlietu ministrija
...

Sheet IZM
C1: Pieņemts pirmajā lasījumā | D1: Priekšlikums par izmaiņām | F1: Pieņemts pirmajā lasījumā | G1: Priekšlikums par izmaiņām | H1: Priekšlikums MK atzinumam
B3: 15. Izglītības un zinātnes ministrija
A5: =IeM!A1443+1 -> 41 | B5: 62. Mērķdotācijas pašvaldībām | E5: 15. Izglītības un zinātnes ministrija | H5: Atbalstīt
B6: 4.pielikums | E6: 4.pielikums
B7: 01.00.00 Mērķdotācijas izglītības pasākumiem | E7: 01.05.00 Dotācija privātajām mācību iestādēm
B8: Resursi izdevumu segšanai | C8: =+C9 -> 71771693 | D8: =+D9 -> -5325 | E8: Resursi izdevumu segšanai | F8: =+F9 -> 22738374 | G8: =+G9 -> 5325
B9: Dotācija no vispārējiem ieņēmumiem | C9: =+C10 -> 71771693 | D9: =+D10 -> -5325 | E9: Dotācija no vispārējiem ieņēmumiem | F9: =+F10 -> 22738374 | G9: =+G10 -> 5325
B10: Vispārējā kārtībā sadalāmā dotācija no vispārējiem ieņēmumiem | C10: =+C11 -> 71771693 | D10: =+D11 -> -5325 | E10: Vispārējā kārtībā sadalāmā dotācija no vispārējiem ieņēmumiem | F10: 22738374 | G10: =+G11 -> 5325
B11: Izdevumi – kopā | C11: =+C12 -> 71771693 | D11: =+D12 -> -5325 | E11: Izdevumi – kopā | F11: 22738374 | G11: =+G12 -> 5325
B12: Uzturēšanas izdevumi | C12: =+C13 -> 71771693 | D12: =+D13 -> -5325 | E12: Uzturēšanas izdevumi | F12: 22738374 | G12: =G13 -> 5325
B13: Transferti viena budžeta veida ietvaros un uzturēšanas izdevumu transferti starp budžeta veidiem | C13: =+C14 -> 71771693 | D13: =+D14 -> -5325 | E13: Subsīdijas, dotācijas, sociālie maksājumi un kompensācijas | F13: =+F14 -> 22525372 | G13: =+G14 -> 5325
B14: Pārējie valsts budžeta uzturēšanas izdevumu transferti citiem budžetiem | C14: =+C15 -> 71771693 | D14: =+D15 -> -5325 | E14: Subsīdijas un dotācijas | F14: 22525372 | G14: 5325
B15: Pārējie valsts budžeta uzturēšanas izdevumu transferti pašvaldībām | C15: 71771693 | D15: -5325
B16: 62. Mērķdotācijas pašvaldībām | E16: 15. Izglītības un zinātnes ministrija
B17: 3.pielikums | E17: 3.pielikums
B18: I. Valsts pamatfunkciju īstenošana | E18: I. Valsts pamatfunkciju īstenošana
B19: 2026. gads | E19: 2026. gads
B20: Resursi izdevumu segšanai | C20: 622979045 | D20: -3107 | E20: Resursi izdevumu segšanai | F20: 464035163 | G20: 3107
B21: Dotācija no vispārējiem ieņēmumiem | C21: 622979045 | D21: =+D22 -> -3107 | E21: Dotācija no vispārējiem ieņēmumiem | F21: 456746470 | G21: =+G22 -> 3107
B22: Vispārējā kārtībā sadalāmā dotācija no vispārējiem ieņēmumiem | C22: 622979045 | D22: -3107 | E22: Vispārējā kārtībā sadalāmā dotācija no vispārējiem ieņēmumiem | F22: 456746470 | G22: 3107
B23: Izdevumi – kopā | C23: 622979045 | D23: -3107 | E23: Izdevumi – kopā | F23: 463418433 | G23: 3107
B24: Uzturēšanas izdevumi | C24: 622979045 | D24: =+D25 -> -3107 | E24: Uzturēšanas izdevumi | F24: 455118186 | G24: =G25 -> 3107
B25: Transferti viena budžeta veida ietvaros un uzturēšanas izdevumu transferti starp budžeta veidiem | C25: 622979045 | D25: =+D26 -> -3107 | E25: Subsīdijas, dotācijas, sociālie maksājumi un kompensācijas | F25: 67332473 | G25: =+G26 -> 3107
B26: Pārējie valsts budžeta uzturēšanas izdevumu transferti citiem budžetiem | C26: 622979045 | D26: =+D27 -> -3107 | E26: Subsīdijas un dotācijas | F26: 57565411 | G26: 3107
B27: Pārējie valsts budžeta uzturēšanas izdevumu transferti pašvaldībām | C27: 622979045 | D27: -3107
B28: Lai nodrošinātu pedagogu darba samaksu 2025. gadā un turpmāk, ņemot vērā izglītojamo skaita un struktūras uz 2024. gada 1. septembri izmaiņu ietekmi (neieskaitot Ukrainas civiliedzīvotājus) (MK 01.10.2024. prot. Nr. 40, 30. §, 3.1.1. apakšpunkts), veikta finansējuma pārdale no 62. resora programmas 01.00.00. "Mērķdotācijas izglītības pasākumiem" prioritārā pasākuma "Lai īstenotu secīgu pāreju uz mācībām valsts valodā" uz 15. resora apakšprogrammu 01.05.00. "Dotācija privātajām mācību iestādēm": 2025. gadā 5 325 euro apmērā, 2026. gadā 3 107 euro apmērā.
A30: =A5+1 -> 42 | B30: 62. Mērķdotācijas pašvaldībām | E30: 15. Izglītības un zinātnes ministrija | H30: Atbalstīt
B31: 4.pielikums | E31: 4.pielikums
B32: 05.00.00 Mērķdotācijas pašvaldībām - pašvaldību izglītības iestāžu pedagogu darba samaksai un valsts sociālās apdrošināšanas obligātajām iemaksām | E32: 01.05.00 Dotācija privātajām mācību iestādēm
B33: Resursi izdevumu segšanai | C33: =+C34 -> 475387539 | D33: =+D34 -> -3190451 | E33: Resursi izdevumu segšanai | F33: =+F34 -> 22738374 | G33: =+G34 -> 3190451
B34: Dotācija no vispārējiem ieņēmumiem | C34: =+C35 -> 475387539 | D34: =+D35 -> -3190451 | E34: Dotācija no vispārējiem ieņēmumiem | F34: =+F35 -> 22738374 | G34: =+G35 -> 3190451
B35: Vispārējā kārtībā sadalāmā dotācija no vispārējiem ieņēmumiem | C35: =+C36 -> 475387539 | D35: =+D36 -> -3190451 | E35: Vispārējā kārtībā sadalāmā dotācija no vispārējiem ieņēmumiem | F35: 22738374 | G35: =+G36 -> 3190451
B36: Izdevumi – kopā | C36: =+C37 -> 475387539 | D36: =+D37 -> -3190451 | E36: Izdevumi – kopā | F36: 22738374 | G36: =+G37 -> 3190451
B37: Uzturēšanas izdevumi | C37: =+C38 -> 475387539 | D37: =+D38 -> -3190451 | E37: Uzturēšanas izdevumi | F37: 22738374 | G37: =G38 -> 3190451
B38: Transferti viena budžeta veida ietvaros un uzturēšanas izdevumu transferti starp budžeta veidiem | C38: =+C39 -> 475387539 | D38: =+D39 -> -3190451 | E38: Subsīdijas, dotācijas, sociālie maksājumi un kompensācijas | F38: =+F39 -> 22525372 | G38: =+G39 -> 3190451
B39: Pārējie valsts budžeta uzturēšanas izdevumu transferti citiem budžetiem | C39: =+C40 -> 475387539 | D39: =+D40 -> -3190451 | E39: Subsīdijas un dotācijas | F39: 22525372 | G39: 3190451
B40: Pārējie valsts budžeta uzturēšanas izdevumu transferti pašvaldībām | C40: 475387539 | D40: -3190451
B41: 62. Mērķdotācijas pašvaldībām | E41: 15. Izglītības un zinātnes ministrija
B42: 3.pielikums | E42: 3.pielikums
B43: I. Valsts pamatfunkciju īstenošana | E43: I. Valsts pamatfunkciju īstenošana
...

Sheet SM
C1: Pieņemts pirmajā lasījumā | D1: Priekšlikums par izmaiņām | F1: Pieņemts pirmajā lasījumā | G1: Priekšlikums par izmaiņām | H1: Priekšlikums MK atzinumam
B3: 17. Satiksmes ministrija
A5: =IZM!A216+1 -> 49 | B5: 17. Satiksmes ministrija | E5: 17. Satiksmes ministrija | H5: Atbalstīt
B6: 4.pielikums | E6: 4.pielikums
B7: 2025. gads | E7: 2025. gads
B8: 23.06.00 Valsts autoceļu uzturēšana un atjaunošana | E8: 23.04.00 Mērķdotācijas pašvaldību autoceļiem (ielām)
B9: Resursi izdevumu segšanai | C9: =SUM(C10,C11) -> 231736009 | D9: -1608803 | E9: Resursi izdevumu segšanai | F9: =SUM(F11) -> 58535424 | G9: 1608803
B10: Ieņēmumi no maksas pakalpojumiem un citi pašu ieņēmumi | C10: 142287 | E10: Dotācija no vispārējiem ieņēmumiem | F10: =SUM(F11) -> 58535424 | G10: 1608803
B11: Dotācija no vispārējiem ieņēmumiem | C11: =SUM(C12) -> 231593722 | D11: -1608803 | E11: Vispārējā kārtībā sadalāmā dotācija no vispārējiem ieņēmumiem | F11: 58535424 | G11: 1608803
B12: Vispārējā kārtībā sadalāmā dotācija no vispārējiem ieņēmumiem | C12: 231593722 | D12: -1608803 | E12: Izdevumi – kopā | F12: =SUM(F13,F17) -> 58535424 | G12: 1608803
B13: Izdevumi – kopā | C13: =SUM(C14,C17) -> 231736009 | D13: -1608803 | E13: Uzturēšanas izdevumi | F13: =SUM(F14) -> 42763976 | G13: 1202590
B14: Uzturēšanas izdevumi | C14: =SUM(C15) -> 70185324 | D14: -101152 | E14: Transferti viena budžeta veida ietvaros un uzturēšanas izdevumu transferti starp budžeta veidiem | F14: =SUM(F15) -> 42763976 | G14: 1202590
B15: Kārtējie izdevumi | C15: =SUM(C16) -> 70185324 | D15: -101152 | E15: Pārējie valsts budžeta uzturēšanas izdevumu transferti citiem budžetiem | F15: =SUM(F16) -> 42763976 | G15: 1202590
B16: Preces un pakalpojumi | C16: 70185324 | D16: -101152 | E16: Pārējie valsts budžeta uzturēšanas izdevumu transferti pašvaldībām | F16: 42763976 | G16: 1202590
B17: Kapitālie izdevumi | C17: =SUM(C18,C19) -> 161550685 | D17: -1507651 | E17: Kapitālie izdevumi | F17: =SUM(F18) -> 15771448 | G17: 406213
B18: Pamatkapitāla veidošana | C18: 152400685 | E18: Kapitālo izdevumu transferti | F18: =SUM(F19) -> 15771448 | G18: 406213
B19: Kapitālo izdevumu transferti | C19: =SUM(C20) -> 9150000 | D19: -1507651 | E19: Pārējie valsts budžeta kapitālo izdevumu transferti citiem budžetiem | F19: =SUM(F20) -> 15771448 | G19: 406213
B20: Pārējie valsts budžeta kapitālo izdevumu transferti citiem budžetiem | C20: =SUM(C21) -> 9150000 | D20: -1507651 | E20: Pārējie valsts budžeta kapitālo izdevumu transferti pašvaldībām | F20: 15771448 | G20: 406213
B21: Pārējie valsts budžeta kapitālo izdevumu transferti pašvaldībām | C21: 9150000 | D21: -1507651
B22: 17 Satiksmes ministrija
B23: 3.pielikums
B24: I. Valsts pamatfunkciju īstenošana
B25: 2026. gads
B26: Resursi izdevumu segšanai | C26: =SUM(C27,C28,C33) -> 489721886
B27: Ieņēmumi no maksas pakalpojumiem un citi pašu ieņēmumi | C27: 1052287
B28: Trnasferti | C28: =SUM(C29) -> 1464222
B29: Valsts budžeta transferti | C29: =SUM(C30) -> 1464222
B30: Valsts pamatbudžeta savstarpējie transferti | C30: =SUM(C31) -> 1464222
B31: Valsts pamatbudžeta iestāžu saņemtie transferti no valsts pamatbudžeta | C31: =SUM(C32) -> 1464222
B32: Valsts pamatbudžeta iestāžu saņemtie transferti no valsts pamatbudžeta dotācijas no vispārējiem ieņēmumiem | C32: 1464222
B33: Dotācija no vispārējiem ieņēmumiem | C33: =SUM(C34) -> 487205377
B34: Vispārējā kārtībā sadalāmā dotācija no vispārējiem ieņēmumiem | C34: 487205377
B35: Izdevumi - kopā | C35: =SUM(C36,C50) -> 490212028 | D35: 0
B36: Uzturēšanas izdevumi | C36: =SUM(C37,C40,C42,C44) -> 310013042 | D36: 1101438
B37: Kārtējie izdevumi | C37: =SUM(C38,C39) -> 83589894 | D37: -101152
B38: Atlīdzība | C38: 6889633
B39: Preces un pakalpojumi | C39: 76700261 | D39: -101152
B40: Subsīdijas, dotācijas un sociālie pabalsti | C40: =SUM(C41) -> 168345924
B41: Subsīdijas un dotācijas | C41: 168345924
B42: Kārtējie maksājumi Eiropas Savienības budžetā un starptautiskā sadarbība | C42: =SUM(C43) -> 345878
...

Sheet LM_PB
C1: Pieņemts pirmajā lasījumā | D1: Priekšlikums par izmaiņām | F1: Pieņemts pirmajā lasījumā | G1: Priekšlikums par izmaiņām | H1: Priekšlikums MK atzinumam
B3: 18. Labklājības ministrija
A5: =SM!A177+1 -> 52 | B5: 18. Labklājības ministrija | E5: 18. Labklājības ministrija | H5: Atbalstīt
B6: 4.pielikums | E6: 4.pielikums
B7: 05.01.00 Sociālās rehabilitācijas valsts programmas | C7: ` | E7: 20.01.00 Valsts sociālie pabalsti | F7: `
B8: Resursi izdevumu segšanai | C8: =C9 -> 141211525 | D8: =D9 -> -3428100 | E8: Resursi izdevumu segšanai | F8: =F9 -> 438880335 | G8: =G9 -> 3428100
B9: Dotācija no vispārējiem ieņēmumiem | C9: =C10 -> 141211525 | D9: =D10 -> -3428100 | E9: Dotācija no vispārējiem ieņēmumiem | F9: =F10 -> 438880335 | G9: =G10 -> 3428100
B10: Vispārējā kārtībā sadalāmā dotācija no vispārējiem ieņēmumiem | C10: =C11 -> 141211525 | D10: =D11 -> -3428100 | E10: Vispārējā kārtībā sadalāmā dotācija no vispārējiem ieņēmumiem | F10: =F11 -> 438880335 | G10: =G11 -> 3428100
B11: Izdevumi - kopā | C11: =C12 -> 141211525 | D11: =D12 -> -3428100 | E11: Izdevumi - kopā | F11: =F12+F18 -> 438880335 | G11: =G12 -> 3428100
B12: Uzturēšanas izdevumi | C12: =C13+C15+C17 -> 141211525 | D12: =D13+D15+D17 -> -3428100 | E12: Uzturēšanas izdevumi | F12: =F13+F15 -> 438698063 | G12: =G13+G15+G17 -> 3428100
B13: Kārtējie izdevumi | C13: =C14 -> 64233 | E13: Subsīdijas, dotācijas, sociālie maksājumi un kompensācijas | F13: =F14 -> 436986759 | G13: =G14 -> 3428100
B14: Preces un pakalpojumi | C14: 64233 | E14: Sociāla rakstura maksājumi un kompensācijas | F14: 436986759 | G14: 3428100
B15: Subsīdijas, dotācijas, sociālie maksājumi un kompensācijas | C15: =C16 -> 37884447 | E15: Transferti viena budžeta veida ietvaros un uzturēšanas izdevumu transferti starp budžeta veidiem | F15: =F16 -> 1711304
B16: Subsīdijas un dotācijas | C16: 37884447 | E16: Valsts budžeta transferti un uzturēšanas izdevumu transferti | F16: =F17 -> 1711304
B17: Transferti viena budžeta veida ietvaros un uzturēšanas izdevumu transferti starp budžeta veidiem | C17: =C18 -> 103262845 | D17: =D18 -> -3428100 | E17: Valsts budžeta uzturēšanas izdevumu transferti no valsts pamatbudžeta uz valsts speciālo budžetu | F17: 1711304
B18: Pārējie valsts budžeta uzturēšanas izdevumu transferti citiem budžetiem | C18: =C19 -> 103262845 | D18: =D19 -> -3428100 | E18: Kapitālie izdevumi | F18: =F19 -> 182272
B19: Pārējie valsts budžeta uzturēšanas izdevumu transferti pašvaldībām | C19: 103262845 | D19: =-3428100 -> -3428100 | E19: Kapitālo izdevumu transferti | F19: =F20 -> 182272
E20: Valsts budžeta kapitālo izdevumu transferti | F20: =F21 -> 182272
E21: Valsts budžeta kapitālo izdevumu transferti no valsts pamatbudžeta uz valsts speciālo budžetu | F21: 182272
B22: 18. Labklājības ministrija
B23: 3.pielikums
B24: I. Valsts pamatfunkciju īstenošana
B25: 2026.gads
B26: Resursi izdevumu segšanai | C26: =C27+C28+C34 -> 1226916355
B27: Ieņēmumi no maksas pakalpojumiem un citi pašu ieņēmumi – kopā | C27: 11054284
B28: Transferti | C28: =C29 -> 242828
B29: Valsts budžeta transferti | C29: =C30+C33 -> 242828
B30: Valsts pamatbudžeta savstarpējie transferti | C30: =C31 -> 227828
B31: Valsts pamatbudžeta iestāžu saņemtie transferti no valsts pamatbudžeta | C31: =C32 -> 227828
B32: Valsts pamatbudžeta iestāžu saņemtie transferti no valsts pamatbudžeta dotācijas no vispārējiem ieņēmumiem | C32: 227828
B33: Valsts pamatbudžetā saņemtie transferti no valsts speciālā budžeta | C33: 15000
B34: Dotācija no vispārējiem ieņēmumiem | C34: =C35 -> 1215619243
B35: Vispārējā kārtībā sadalāmā dotācija no vispārējiem ieņēmumiem | C35: 1215619243
B36: Izdevumi – kopā | C36: =C37+C51 -> 1226916355
B37: Uzturēšanas izdevumi | C37: =C38+C41+C44+C46 -> 1225335473
B38: Kārtējie izdevumi | C38: =C39+C40 -> 107021321
B39: Atlīdzība | C39: 84642573
B40: Preces un pakalpojumi | C40: 22378748
B41: Subsīdijas, dotācijas, sociālie maksājumi un kompensācijas | C41: =C42+C43 -> 614261286 | D41: =D43 -> 3701700
B42: Subsīdijas un dotācijas | C42: 42707459
...

Sheet LM_SB
C1: Pieņemts pirmajā lasījumā | D1: Priekšlikums par izmaiņām | F1: Pieņemts pirmajā lasījumā | G1: Priekšlikums par izmaiņām | H1: Priekšlikums MK atzinumam
B3: 18. Labklājības ministrija
A5: =LM_PB!A283+1 -> 57 | B5: 18. Labklājības ministrija (speciālais budžets) | E5: 18. Labklājības ministrija (speciālais budžets) | H5: Atbalstīt
B6: 5.pielikums | E6: 5.pielikums
B7: 04.01.00 Valsts pensiju speciālais budžets | E7: 04.05.00 Valsts sociālās apdrošināšanas aģentūras speciālais budžets
B8: Ieņēmumi – kopā | C8: =C9+C16+C17 -> 3915370751 | E8: Ieņēmumi – kopā | F8: =F9+F10+F11 -> 28795670 | G8: =G11 -> 64823
B9: Nodokļu ieņēmumi | C9: =C10 -> 3210585470 | E9: Nenodokļu ieņēmumi | F9: 1247391
B10: Sociālās apdrošināšanas iemaksas – kopā | C10: =C11 -> 3210585470 | E10: Ieņēmumi no maksas pakalpojumiem un citi pašu ieņēmumi - kopā | F10: 56125
B11: Sociālās apdrošināšanas iemaksas | C11: =C12+C14 -> 3210585470 | E11: Transferti | F11: =F12 -> 27492154 | G11: =G12 -> 64823
B12: Brīvprātīgās sociālās apdrošināšanas iemaksas | C12: =C13 -> 220500 | E12: Valsts budžeta transferti | F12: =F13+F14 -> 27492154 | G12: =G14 -> 64823
B13: Brīvprātīgās sociālās apdrošināšanas iemaksas valsts pensiju apdrošināšanai | C13: 220500 | E13: Valsts speciālajā budžetā saņemtie transferti no valsts pamatbudžeta | F13: 2143667
B14: Ieņēmumi valsts speciālajā budžetā no valsts sociālās apdrošināšanas obligāto iemaksu sadales | C14: =C15 -> 3210364970 | E14: Valsts speciālā budžeta savstarpējie transferti | F14: =F15 -> 25348487 | G14: =G15 -> 64823
B15: Valsts sociālās apdrošināšanas obligātās iemaksas valsts pensiju apdrošināšanai | C15: 3210364970 | E15: Valsts sociālās apdrošināšanas speciālā budžeta transferti | F15: =F16+F17+F18+F19 -> 25348487 | G15: =G16 -> 64823
B16: Nenodokļu ieņēmumi | C16: 165503917 | E16: No valsts pensiju speciālā budžeta ieskaitītie līdzekļi Valsts sociālās apdrošināšanas aģentūrai | F16: 18451164 | G16: 64823
B17: Transferti | C17: =C18 -> 539281364 | E17: No nodarbinātības speciālā budžeta ieskaitītie līdzekļi Valsts sociālās apdrošināšanas aģentūrai | F17: 1128007
B18: Valsts budžeta transferti | C18: =C19+C20 -> 539281364 | E18: No darba negadījumu speciālā budžeta ieskaitītie līdzekļi Valsts sociālās apdrošināšanas aģentūrai | F18: 547527
B19: Valsts speciālajā budžetā saņemtie transferti no valsts pamatbudžeta | C19: 274853544 | E19: No invaliditātes, maternitātes un slimības speciālā budžeta ieskaitītie līdzekļi Valsts sociālās apdrošināšanas aģentūrai | F19: 5221789
B20: Valsts speciālā budžeta savstarpējie transferti | C20: =C21 -> 264427820 | E20: Izdevumi – kopā | F20: =F21+F27 -> 28795670 | G20: =G27 -> 64823
B21: Valsts sociālās apdrošināšanas speciālā budžeta transferti | C21: =C22+C23+C24 -> 264427820 | E21: Uzturēšanas izdevumi | F21: =F22+F25 -> 27714658
B22: No nodarbinātības speciālā budžeta valsts pensiju apdrošināšanai | C22: 39366221 | E22: Kārtējie izdevumi | F22: =F23+F24 -> 27692558
B23: No darba negadījumu speciālā budžeta valsts pensiju apdrošināšanai | C23: 9441228 | E23: Atlīdzība | F23: 19957323
B24: No invaliditātes, maternitātes un slimības speciālā budžeta valsts pensiju apdrošināšanai | C24: 215620371 | E24: Preces un pakalpojumi | F24: 7735235
B25: Izdevumi – kopā | C25: =C26 -> 3474636611 | D25: =D26 -> 64823 | E25: Kārtējie maksājumi Eiropas Savienības budžetā un starptautiskā sadarbība | F25: =F26 -> 22100
