Workbook

Sheet priekšlikumi_teksta_daļai
B1: Ministriju un citu centrālo valsts iestāžu priekšlikumi
B2: likumprojekta "Par valsts budžetu 2025. gadam un budžeta ietvaru 2025., 2026. un 2027. gadam" izskatīšanai Saeimā otrajā lasījumā
D4: Priekšlikums MK atzinumam
B5: Pieņemts pirmajā lasījumā | C5: Priekšlikumi 2.lasījumam
B7: Par likumprojekta "Par valsts budžetu 2025. gadam un budžeta ietvaru 2025., 2026. un 2027. gadam" teksta daļu:
B9: 15. Izglītības un zinātnes ministrija
A10: 1 | B10: 31. pants. Apstiprināt mērķdotāciju apjomu pašvaldībām 622 451 323 euro apmērā, tajā skaitā: | C10: Izteikt likumprojekta 31.panta pirmās daļas 1., 2. un 3.punktu šādā redakcijā: 31. pants. Apstiprināt mērķdotāciju apjomu pašvaldībām 617 863 741 euro apmērā, tai skaitā: | D10: Atbalstīt
B11: 1) pašvaldību pamata un vispārējās vidējās izglītības iestāžu, pašvaldību speciālās izglītības iestāžu, pašvaldību profesionālās izglītības iestāžu un daļējai interešu izglītības programmu pedagogu darba samaksai un valsts sociālās apdrošināšanas obligātajām iemaksām 475 387 539 euro apmērā saskaņā ar šā likuma 6. un 7. pielikumu; | C11: 1) pašvaldību pamata un vispārējās vidējās izglītības iestāžu, pašvaldību speciālās izglītības iestāžu, pašvaldību profesionālās izglītības iestāžu un daļējai interešu izglītības programmu pedagogu darba samaksai un valsts sociālās apdrošināšanas obligātajām iemaksām 472 197 088 euro apmērā saskaņā ar 6. un 7. pielikumu;
B12: 2) pašvaldību speciālo pirmsskolas izglītības grupu pedagogu darba samaksai un valsts sociālās apdrošināšanas obligātajām iemaksām, speciālajām izglītības iestādēm, kas nodrošina internāta pakalpojumus, 71 771 693 euro apmērā saskaņā ar šā likuma 8. pielikumu; | C12: 2) pašvaldību speciālo pirmsskolas izglītības grupu pedagogu darba samaksai un valsts sociālās apdrošināšanas obligātajām iemaksām, speciālajām izglītības iestādēm, kas nodrošina internāta pakalpojumus, 72 633 320 euro apmērā saskaņā ar 8. pielikumu;
B13: 3) pašvaldību izglītības iestādēs bērnu no piecu gadu vecuma izglītošanā nodarbināto pedagogu darba samaksai un valsts sociālās apdrošināšanas obligātajām iemaksām 74 325 697 euro apmērā saskaņā ar šā likuma 9. pielikumu; | C13: 3) pašvaldību izglītības iestādēs bērnu no piecu gadu vecuma izglītošanā nodarbināto pedagogu darba samaksai un valsts sociālās apdrošināšanas obligātajām iemaksām 70 980 645 euro apmērā saskaņā ar 9. pielikumu;
B14: Priekšlikums paredz precizēt finansējuma apmēru, lai nodrošinātu pedagogu darba samaksu 2025. gadā un turpmāk, ņemot vērā izglītojamo skaita un struktūras uz 2024. gada 1. septembri izmaiņu ietekmi (neieskaitot Ukrainas civiliedzīvotājus) (MK 01.10.2024. prot. Nr. 40, 30. §, 3.punkts), veikta finansējuma pārdale no budžeta resora "62. Mērķdotācijas pašvaldībām" programmām uz Izglītības un zinātnes ministrijas budžeta apakšprogrammām 01.05.00 "Dotācija privātajām mācību iestādēm" un 01.08.00 "Vispārējās izglītības atbalsta pasākumi", kā arī starp budžeta resora "62. Mērķdotācijas pašvaldībām" programmām.
B16: 22. Kultūras ministrija
A17: =A10+1 -> 2 | B17: 31.panta pirmās daļas 4.punkts 4) māksliniecisko kolektīvu vadītāju darba samaksai un valsts sociālās apdrošināšanas obligātajām iemaksām 966 394 euro apmērā saskaņā ar šā likuma 10. pielikumu. | C17: Izteikt likumprojekta 31.panta pirmās daļas 4.punktu šādā redakcijā: 4) māksliniecisko kolektīvu vadītāju darba samaksai un valsts sociālās apdrošināšanas obligātajām iemaksām 2 052 688 euro apmērā saskaņā ar 10. pielikumu. | D17: Atbalstīt
B18: Priekšlikums paredz pārdalīt izdevumus no budžeta resora "74 Gadskārtējā valsts budžeta izpildes procesā pārdalāmais finansējums" programmas 09.00.00 "Valsts nozīmes reformas īstenošanai" uz budžeta resora "62. Mērķdotācijas pašvaldībām" programmu 02.00.00 "Mērķdotācijas pašvaldību tautas mākslas kolektīvu vadītāju darba samaksai un valsts sociālās apdrošināšanas obligātajām iemaksām", lai nodrošinātu Dziesmu un deju svētku māksliniecisko kolektīvu vadītāju darba samaksas un valsts sociālās apdrošināšanas obligāto iemaksu finansēšanas reformas uzsākšanu, saskaņā ar 2024. gada 3. oktobra (prot. Nr. 40 34. §) MK rīkojuma Nr.802 "Par apropriācijas pārdali no budžeta resora "74. Gadskārtējā valsts budžeta izpildes procesā pārdalāmais finansējums" programmas 09.00.00 "Valsts nozīmes reformas īstenošanai"" 5.punktu.
B20: 20. Klimata un enerģētikas ministrija
A21: =A17+1 -> 3 | B21: 24. pants. Noteikt, ka akciju sabiedrība “Latvenergo” ieskaita valsts pamatbudžeta ieņēmumos dividenžu maksājumu 2025. gadā (par 2024. pārskata gadu) 70 procentu apmērā no pārskata gada peļņas, bet ne mazāk kā 147 495 380 euro, 2026. gadā (par 2025. pārskata gadu) 70 procentu apmērā no pārskata gada peļņas, bet ne mazāk kā 131 051 751 euro un 2027. gadā (par 2026. pārskata gadu) 70 procentu apmērā no pārskata gada peļņas, bet ne mazāk kā 131 051 751 euro, uzņēmumu ienākuma nodokli aprēķinot un nomaksājot uzņēmumu ienākuma nodokli regulējošos normatīvajos aktos noteiktajā kārtībā. | C21: Izteikt likumprojekta 24. pantu šādā redakcijā: "Noteikt, ka akciju sabiedrība “Latvenergo” ieskaita valsts pamatbudžeta ieņēmumos dividenžu maksājumu 2025. gadā (par 2024. pārskata gadu) 70 procentu apmērā no pārskata gada peļņas, bet ne mazāk kā 183 908 268 euro, 2026. gadā (par 2025. pārskata gadu) 70 procentu apmērā no pārskata gada peļņas, bet ne mazāk kā 131 051 751 euro un 2027. gadā (par 2026. pārskata gadu) 70 procentu apmērā no pārskata gada peļņas, bet ne mazāk kā 124 490 701 euro, uzņēmumu ienākuma nodokli aprēķinot un nomaksājot uzņēmumu ienākuma nodokli regulējošos normatīvajos aktos noteiktajā kārtībā." | D21: Atbalstīt
B22: Priekšlikums paredz precizēt valsts pamatbudžeta ieņēmumos ieskaitāmos akciju sabiedrības “Latvenergo” dividenžu maksājumus atbilstoši Ministru kabineta 2024. gada 10. oktobra sēdes protokolam Nr.42 6.§ "Informatīvais ziņojums "Pasākumi elektroenerģijas tirgus attīstībai"".
B24: 20. Klimata un enerģētikas ministrija
A25: =A21+1 -> 4 | B25: 26. pants. Noteikt, ka akciju sabiedrība “Augstsprieguma tīkls” ieskaita valsts pamatbudžeta ieņēmumos dividenžu maksājumu 2025. gadā (par 2024. pārskata gadu) 70 procentu apmērā no pārskata gada peļņas, bet ne mazāk kā 10 391 040 euro, 2026. gadā (par 2025. pārskata gadu) 70 procentu apmērā no pārskata gada peļņas, bet ne mazāk kā 5 308 160 euro un 2027. gadā (par 2026. pārskata gadu) 70 procentu apmērā no pārskata gada peļņas, bet ne mazāk kā 5 308 160 euro, uzņēmumu ienākuma nodokli aprēķinot un nomaksājot uzņēmumu ienākuma nodokli regulējošos normatīvajos aktos noteiktajā kārtībā. | C25: Izteikt likumprojekta 26. pantu šādā redakcijā: "Noteikt, ka akciju sabiedrība “Augstsprieguma tīkls” ieskaita valsts pamatbudžeta ieņēmumos dividenžu maksājumu 2025. gadā (par 2024. pārskata gadu) 70 procentu apmērā no pārskata gada peļņas, bet ne mazāk kā 10 391 040 euro, 2026. gadā (par 2025. pārskata gadu) 70 procentu apmērā no pārskata gada peļņas, bet ne mazāk kā 5 308 160 euro un 2027. gadā (par 2026. pārskata gadu) 70 procentu apmērā no pārskata gada peļņas, bet ne mazāk kā 12 068 480 euro, uzņēmumu ienākuma nodokli aprēķinot un nomaksājot uzņēmumu ienākuma nodokli regulējošos normatīvajos aktos noteiktajā kārtībā." | D25: Atbalstīt
B26: Priekšlikums paredz precizēt valsts pamatbudžeta ieņēmumos ieskaitāmos akciju sabiedrības “Augstsprieguma tīkls” dividenžu maksājumus atbilstoši Ministru kabineta 2024. gada 10. oktobra sēdes protokolam Nr.42 6.§ "Informatīvais ziņojums "Pasākumi elektroenerģijas tirgus attīstībai""
B28: 14. Iekšlietu ministrija
A29: =A25+1 -> 5 | B29: 28.pants. Noteikt, ka valsts akciju sabiedrība “Latvijas Valsts radio un televīzijas centrs” ieskaita valsts pamatbudžeta ieņēmumos dividenžu maksājumu 2025. gadā (par 2024. pārskata gadu) 70 procentu apmērā no pārskata gada peļņas, bet ne mazāk kā 5 764 654 euro un 2026. gadā (par 2025. pārskata gadu) 70 procentu apmērā no pārskata gada peļņas, bet ne mazāk kā 4 410 000 euro, uzņēmumu ienākuma nodokli aprēķinot un nomaksājot uzņēmumu ienākuma nodokli regulējošos normatīvajos aktos noteiktajā kārtībā. | C29: Izteikt likumprojekta 28.pantu šādā redakcijā: "Noteikt, ka valsts akciju sabiedrība “Latvijas Valsts radio un televīzijas centrs” ieskaita valsts pamatbudžeta ieņēmumos dividenžu maksājumu 2025. gadā (par 2024. pārskata gadu) 70 procentu apmērā no pārskata gada peļņas, bet ne mazāk kā 7 244 722 euro un 2026. gadā (par 2025. pārskata gadu) 70 procentu apmērā no pārskata gada peļņas, bet ne mazāk kā 6 252 155 euro, uzņēmumu ienākuma nodokli aprēķinot un nomaksājot uzņēmumu ienākuma nodokli regulējošos normatīvajos aktos noteiktajā kārtībā." | D29: Atbalstīt
B30: Priekšlikums paredz palielināt valsts akciju sabiedrības “Latvijas Valsts radio un televīzijas centrs” valsts pamatbudžeta ieņēmumos ieskaitāmos dividenžu maksājumus 2025. gadā par 1 480 068 euro un 2026.gadā par 1 842 155 euro, lai nodrošinātu papildu finansējumu Iekšlietu ministrijai samaksas veikšanai valsts akciju sabiedrībai “Latvijas Valsts radio un televīzijas centrs” par fizisko personu identitātes nodrošināšanu elektroniskā vidē un kvalificēta elektroniskā paraksta platformas un risinājumu uzturēšanu.
B32: 13. Finanšu ministrija
A33: =A29+1 -> 6 | C33: Papildināt 37.panta pirmo daļu ar 14. punktu šādā redakcijā: "14) patvertņu izveidošanai, tajā skaitā pašvaldības administratīvajā teritorijā esošu telpu pielāgošanai patvertņu vajadzībām, ja ir sniegts Iekšlietu ministrijas pozitīvs atzinums par patvertnes funkcionalitāti drošības nodrošināšanai." | D33: Atbalstīt
B34: Ņemot vērā esošo ģeopolitisko situāciju un pastāvošos ārējā apdraudējuma riskus, sabiedrībā ir aktuāls jautājums par patvertņu ierīkošanu. Viena no pašvaldību autonomajām funkcijām ir veikt pasākumus civilās aizsardzības un katastrofu pārvaldīšanā, ugunsdrošības un ugunsdzēsības jomā. Priekšlikums paredz paplašināt pašvaldību aizņemšanās iespējas, paredzot jaunu aizņemšanās mērķi - patvertņu izveidošanai, tajā skaitā pašvaldības administratīvajā teritorijā esošu telpu pielāgošanu patvertņu vajadzībām. Priekšlikums paredz, ka patversmju izveidošana tiek skaņota ar Iekšlietu ministriju.
B36: 12. Ekonomikas ministrija
A37: =A33+1 -> 7 | B37: 58. pants. (1) Jauno ārvalstu filmu uzņemšanai Latvijā, finanšu ministram ir tiesības palielināt 2025. gada apropriāciju Ekonomikas ministrijai izdevumiem un palielināt valsts budžeta likumā Ekonomikas ministrijai noteiktos valsts budžeta ilgtermiņa saistību maksimāli pieļaujamos apjomus 2026. un 2027. gadam līdzfinansējuma nodrošināšanai, ja, pēc ekonomikas ministra ierosinājuma, ir pieņemts attiecīgs Ministru kabineta lēmums un Saeimas Budžeta un finanšu (nodokļu) komisija piecu darba dienu laikā no attiecīgās informācijas saņemšanas dienas ir to izskatījusi un nav iebildusi pret apropriācijas un valsts budžeta ilgtermiņa saistību maksimāli pieļaujamo apjomu palielinājumu. (2) Līdzfinansējuma apjoms nepārsniedz 30 % no jauno ārvalstu filmu projekta kopējām attiecināmajām izmaksām. | C37: Izteikt likumprojekta 58. pantu šādā redakcijā: "(1) Ārvalstu filmu uzņemšanai Latvijā, finanšu ministram ir tiesības palielināt 2025. gada apropriāciju Ekonomikas ministrijai izdevumiem un palielināt valsts budžeta likumā Ekonomikas ministrijai noteiktos valsts budžeta ilgtermiņa saistību maksimāli pieļaujamos apjomus 2026. un 2027. gadam līdzfinansējuma nodrošināšanai, ja, pēc ekonomikas ministra ierosinājuma, ir pieņemts attiecīgs Ministru kabineta lēmums un Saeimas Budžeta un finanšu (nodokļu) komisija piecu darba dienu laikā no attiecīgās informācijas saņemšanas dienas ir to izskatījusi un nav iebildusi pret apropriācijas un valsts budžeta ilgtermiņa saistību maksimāli pieļaujamo apjomu palielinājumu. (2) Līdzfinansējuma apjoms nepārsniedz 30 % no ārvalstu filmu projekta kopējām attiecināmajām izmaksām Latvijā." | D37: Neatbalstīt
B38: Aicinām svītrot vārdu "jauno", jo viens un tas pats projekts var tikt īstenots vairāku gadu garumā. Tas attiecas arī uz gadījumiem, kad tiek veidotas vienas filmas atsevišķas sērijas vai sezonas. Tāpat aicinām redakciju papildināt, nosakot, ka attiecināmās izmaksas ietver tikai tās izmaksas, kas veiktas par Latvijā sniegtām precēm un pakalpojumiem, nodrošinot vietējās uzņēmējdarbības attīstību.
B40: 12. Ekonomikas ministrija
A41: =A37+1 -> 8 | B41: 59. pants. (1) Jauna dižpasākuma organizēšanas Latvijā līdzfinansējumam, finanšu ministram ir tiesības palielināt 2025. gada apropriāciju Ekonomikas ministrijai izdevumiem un palielināt valsts budžeta likumā Ekonomikas ministrijai noteiktos valsts budžeta ilgtermiņa saistību maksimāli pieļaujamos apjomus 2026. un 2027. gadam, ja pēc ekonomikas ministra ierosinājuma, ir pieņemts attiecīgs Ministru kabineta lēmums un Saeimas Budžeta un finanšu (nodokļu) komisija piecu darba dienu laikā no attiecīgās informācijas saņemšanas dienas ir to izskatījusi un nav iebildusi pret apropriācijas un valsts budžeta ilgtermiņa saistību maksimāli pieļaujamo apjomu palielinājumu. (2) Līdzfinansējuma apjoms nepārsniedz 20% no jauno dižpasākumu organizēšanas attiecināmajām izmaksām. (3) Dižpasākums šā panta izpratnē ir starptautiska mēroga pasākums, ko organizē, deleģē vai kura sadarbības partneris ir pasaules vai Eiropas mēroga organizācija un rada būtisku ietekmi uz Latvijas tautsaimniecību, piesaistot vismaz 10 000 ārvalstu apmeklētājus un dalībniekus, kas Latvijas tūristu mītnēs vai īstermiņa īres mītnēs pavada vismaz vienu nakti. | C41: Izteikt likumprojekta 59. pantu šādā redakcijā: "(1) Dižpasākuma organizēšanas Latvijā līdzfinansējumam, finanšu ministram ir tiesības palielināt 2025. gada apropriāciju Ekonomikas ministrijai izdevumiem un palielināt valsts budžeta likumā Ekonomikas ministrijai noteiktos valsts budžeta ilgtermiņa saistību maksimāli pieļaujamos apjomus 2026. un 2027. gadam, ja, pēc ekonomikas ministra ierosinājuma, ir pieņemts attiecīgs Ministru kabineta lēmums un Saeimas Budžeta un finanšu (nodokļu) komisija piecu darba dienu laikā no attiecīgās informācijas saņemšanas dienas ir to izskatījusi un nav iebildusi pret apropriācijas un valsts budžeta ilgtermiņa saistību maksimāli pieļaujamo apjomu palielinājumu. (2) Līdzfinansējuma apjoms nepārsniedz 50% no dižpasākumu organizēšanas un īstenošanas attiecināmajām izmaksām. (3) Dižpasākums šī panta izpratnē ir starptautiska mēroga pasākums, ko organizē, deleģē vai kura sadarbības partneris ir pasaules vai Eiropas mēroga organizācija un rada būtisku ietekmi uz Latvijas tautsaimniecību, piesaistot vismaz 10 000 ārvalstu apmeklētāju un dalībnieku naktis." | D41: Neatbalstīt, atbalstīt alternatīvu 8A Finanšu ministrijas priekšlikumu
B42: [1] Piedāvātajā redakcijā piedāvātā dižpasākumu definīcija neatbilst Ministru kabineta 2024. gada 23. janvāra sēdē (Nr.3 41.§) apstiprinātajā informatīvajā ziņojumā “Par finansējuma nodrošināšanu lieliem un nozīmīgiem pasākumiem” (turpmāk - IZ) noteiktajiem kritērijiem. Šajā Ministru kabineta apstiprinātajā IZ noteiktais kritērijs iekļauj paredzamo ārvalstu viesu, t.i., apmeklētāju un dalībnieku nakšu skaitu: vismaz 10 000 naktis. Šis nosacījums uzsver nakšu skaitu, nevis apmeklētāju skaitu, kas var radīt neskaidrības plānošanā. Ņemot vērā minēto, aicinām precizēt pantu, nosakot, ka dižpasākums piesaista vismaz 10 000 ārvalstu apmeklētāju naktis. [2] Pašreizējais IZ apstiprinātais atbalsta intensitātes modelis (un pastāvīgā regulējuma MK noteikumu projekts) paredz valsts budžeta līdzfinansējumu līdz 90% apmērā no provizoriskiem un faktiskajiem ārvalstu viesu radītā apgrozījuma PVN ieņēmumiem. Norādām, ka, balstoties uz provizoriskiem aprēķiniem, līdz šim diviem apstiprinātajiem dižpasākumiem (WRC 2024 un FIBA 2025) atbalsta intensitāte būtu būtiski augstāka, un piedāvātā 20% intensitāte nenosegtu pat obligātās licences izmaksas. (WRC VB līdzfinansējums - 45% no apgrozījuma, licences maksa - 30% no apgrozījuma; FIBA VB līdzfinansējums - 69% no apgroizījuma, licences maksas 45% no apgrozījuma). Ņemot vērā minēto, aicinām paredzēt, ka līdzfinansējuma apjoms ir vismaz 50% no pasākuma organizēšanas un īstenošanas attiecināmajām izmaksām. [3] Pašreizējie IZ apstiprinātie kritēriji nosaka, ka jauns dižpasākums ir pasākums, kas ir Ministru kabinetā apstiprināts kā atbilstošs dižpasākumu kritērijiem, bet tas neietver ierobežojumus attiecībā uz regularitāti vai atkārtošanos. Tādēļ aicinām svītrot vārdu "jauns", lai netiktu ierobežots atkārtotu pasākumu atbalsts. Šāds ierobežojums izslēdz no iespējamā atbalsta tādus lielos sporta pasākumus, kā Rimi Rīgas maratons vai MXGP Pasaules čempionāts motokrosā, kā arī citus pasākumus, kas tiek organizēti atkārtoti u.c. Pretējā gadījumā ir nepieciešams skaidrs valdības lēmums un precizējums par to, ko nozīmē "jauns". Piemēram, vai vēl viens hokeja čempionāts, vai rallijposms tiktu uzskatīts par jaunu pasākumu? Kā arī noteikt, ka pasākumi, kas neatbilst dižpasākumu kritērijiem, ir par jomu atbildīgo ministriju kompetencē. Šāda skaidrība būtu būtiska, lai nodrošinātu konsekventu un pārskatāmu pasākumu atbalsta piešķiršanas politiku.
B44: 13. Finanšu ministrija
A45: 8 A | B45: 59. pants. (1) Jauna dižpasākuma organizēšanas Latvijā līdzfinansējumam, finanšu ministram ir tiesības palielināt 2025. gada apropriāciju Ekonomikas ministrijai izdevumiem un palielināt valsts budžeta likumā Ekonomikas ministrijai noteiktos valsts budžeta ilgtermiņa saistību maksimāli pieļaujamos apjomus 2026. un 2027. gadam, ja pēc ekonomikas ministra ierosinājuma, ir pieņemts attiecīgs Ministru kabineta lēmums un Saeimas Budžeta un finanšu (nodokļu) komisija piecu darba dienu laikā no attiecīgās informācijas saņemšanas dienas ir to izskatījusi un nav iebildusi pret apropriācijas un valsts budžeta ilgtermiņa saistību maksimāli pieļaujamo apjomu palielinājumu. (2) Līdzfinansējuma apjoms nepārsniedz 20% no jauno dižpasākumu organizēšanas attiecināmajām izmaksām. (3) Dižpasākums šā panta izpratnē ir starptautiska mēroga pasākums, ko organizē, deleģē vai kura sadarbības partneris ir pasaules vai Eiropas mēroga organizācija un rada būtisku ietekmi uz Latvijas tautsaimniecību, piesaistot vismaz 10 000 ārvalstu apmeklētājus un dalībniekus, kas Latvijas tūristu mītnēs vai īstermiņa īres mītnēs pavada vismaz vienu nakti. | C45: Izteikt likumprojekta 59. pantu šādā redakcijā: " (1) Jauna dižpasākuma organizēšanas Latvijā līdzfinansējumam, finanšu ministram ir tiesības palielināt 2025. gada apropriāciju Ekonomikas ministrijai izdevumiem un palielināt valsts budžeta likumā Ekonomikas ministrijai noteiktos valsts budžeta ilgtermiņa saistību maksimāli pieļaujamos apjomus 2026. un 2027. gadam, ja pēc ekonomikas ministra ierosinājuma, ir pieņemts attiecīgs Ministru kabineta lēmums un Saeimas Budžeta un finanšu (nodokļu) komisija piecu darba dienu laikā no attiecīgās informācijas saņemšanas dienas ir to izskatījusi un nav iebildusi pret apropriācijas un valsts budžeta ilgtermiņa saistību maksimāli pieļaujamo apjomu palielinājumu. (2) Līdzfinansējuma apjoms nepārsniedz 30% no jauno dižpasākumu organizēšanas attiecināmajām izmaksām. (3) Dižpasākums šā panta izpratnē ir starptautiska mēroga pasākums, ko organizē, deleģē vai kura sadarbības partneris ir pasaules vai Eiropas mēroga organizācija un rada būtisku ietekmi uz Latvijas tautsaimniecību, piesaistot vismaz 5 000 ārvalstu apmeklētājus un dalībniekus, kas Latvijas tūristu mītnēs vai īstermiņa īres mītnēs pavada vismaz divas naktis." | D45: Atbalstīt
B46: Priekšlikums paredz precizēt jauno dižpasākumu organizēšanas līdzfinansējuma apjomu, nepārsniedzot 30% no attiecināmajām izmaksām, lai salāgotu ar 58.pantā noteikto līdzfinansējuma apjomu jauno ārvalstu filmu uzņemšanai Latvijā, kā arī samazināt ārvalstu apmeklētāju un dalībnieku skaitu uz 5 000, bet palielināt pavadīto naksts skaitu uz divām.
B48: 12. Ekonomikas ministrija
A49: =A41+1 -> 9 | B49: 60. pants. Saskaņā ar šā likuma 58. un 59. panta noteikumiem veiktais kopējais apropriācijas palielinājums 2025. gadā un uzņemto ilgtermiņa saistību apjoms kopā turpmākajiem vidēja termiņa budžeta ietvara gadiem nepārsniedz 15% no attiecīgā gada fiskālā nodrošinājuma rezerves apjoma. Līdz 2026. gada 28. februārim Ekonomikas ministrija iesniedz Ministru kabinetā ziņojumu par 2025. gadā piešķirto līdzfinansējumu. | C49: Izteikt likumprojekta 60. pantu šādā redakcijā: "Saskaņā ar šā likuma 58. pantā un 59. pantā noteikumiem veiktais kopējais apropriācijas palielinājums 2025. gadā un uzņemto ilgtermiņa saistību apjoms kopā turpmākajiem vidēja termiņa budžeta ietvara gadiem nepārsniedz 15% no attiecīgā gada fiskālā nodrošinājuma rezerves apjoma." | D49: Neatbalstīt
B50: Lūdzam dzēst Ekonomikas ministrijas pienākumu ziņot par 2025. gada piešķirto finansējumu, jo apropriācija tiktu veikta tikai "pēc ekonomikas ministra ieteikuma, ja ir pieņemts attiecīgs Ministru kabineta lēmums". Attiecīgi, papildus ziņojums nesniegs pievienoto vērtību, bet radīs administratīvo slogu bez būtiska labuma. Papildus, nepieciešams skaidri definēt, vai neizmantotais finansējums, tostarp 2024. gada pārpalikums, var tikt pārcelts uz nākamo gadu. Šāda iespēja ļautu veidot "uzkrājumu" lielākam un nozīmīgākam dižpasākumam vai filmu projektam nākotnē. Finansējuma pārceļamība varētu palīdzēt nodrošināt elastīgumu un resursu efektīvāku izmantošanu, vienlaikus neapdraudot ārvalstu filmu atbalsta programmas īstenošanai nepieciešamo finansējumu.
B52: 13. Finanšu ministrija
A53: =A49+1 -> 10 | B53: 71. pants. (1) Noteikt, ka budžeta resora “74. Gadskārtējā valsts budžeta izpildes procesā pārdalāmais finansējums” programmā 23.00.00 “Valsts atbalsta programmas un citi valsts nozīmes pasākumi” noteikto apropriāciju 57 012 914 euro apmērā, tajā skaitā 30 000 000 euro apmērā pedagogu atalgojuma pieaugumam, tajā skaitā finansējumam pedagogu darba samaksai atbilstoši aktualizētajam skolēnu skaitam, 26 012 914 euro apmērā valsts publiskās lietošanas dzelzceļa infrastruktūras pārvaldītāja (valsts akciju sabiedrības “Latvijas dzelzceļš”) finanšu līdzsvara par 2024. gadu nodrošināšanai, 1 000 000 euro apmērā Eiropas Rekonstrukcijas un attīstības bankas pilnvarnieku valdes 2026. gada sanāksmes organizēšanai, finanšu ministrs pārdala ministrijai vai citai centrālajai valsts iestādei, ja ir pieņemts attiecīgs Ministru kabineta lēmums un Saeimas Budžeta un finanšu (nodokļu) komisija piecu darba dienu laikā no attiecīgās informācijas saņemšanas dienas ir to izskatījusi un nav iebildusi pret apropriācijas pārdali. (2) Ja valsts publiskās lietošanas dzelzceļa infrastruktūras pārvaldītāja (valsts akciju sabiedrības “Latvijas dzelzceļš”) finanšu līdzsvara par 2024. gadu nodrošināšanai nepieciešams mazāks finansējums, kā šā panta pirmajā daļā šim mērķim ieplānotais finansējums, atlikums nav pārdalāms citiem mērķiem. | C53: Izteikt likumprojekta 71. pantu šādā redakcijā: "(1) Noteikt, ka budžeta resora “74. Gadskārtējā valsts budžeta izpildes procesā pārdalāmais finansējums” programmā 23.00.00 “Valsts atbalsta programmas un citi valsts nozīmes pasākumi” noteikto apropriāciju 57 382 914 euro apmērā, tajā skaitā 30 000 000 euro apmērā pedagogu atalgojuma pieaugumam, tajā skaitā finansējumam pedagogu darba samaksai atbilstoši aktualizētajam skolēnu skaitam, 26 012 914 euro apmērā valsts publiskās lietošanas dzelzceļa infrastruktūras pārvaldītāja (valsts akciju sabiedrības “Latvijas dzelzceļš”) finanšu līdzsvara par 2024. gadu nodrošināšanai, 1 000 000 euro apmērā Eiropas Rekonstrukcijas un attīstības bankas pilnvarnieku valdes 2026. gada sanāksmes organizēšanai, 370 000 euro apmērā Nacionālā mākslīgā intelekta centra izveidei, finanšu ministrs pārdala ministrijai vai citai centrālajai valsts iestādei, ja ir pieņemts attiecīgs Ministru kabineta lēmums un Saeimas Budžeta un finanšu (nodokļu) komisija piecu darba dienu laikā no attiecīgās informācijas saņemšanas dienas ir to izskatījusi un nav iebildusi pret apropriācijas pārdali. (2) Ja valsts publiskās lietošanas dzelzceļa infrastruktūras pārvaldītāja (valsts akciju sabiedrības “Latvijas dzelzceļš”) finanšu līdzsvara par 2024. gadu nodrošināšanai nepieciešams mazāks finansējums, kā šā panta pirmajā daļā šim mērķim ieplānotais finansējums, atlikums nav pārdalāms citiem mērķiem." | D53: Atbalstīt
B54: Priekšlikums paredz budžeta resora "74.Gadskārtējā valsts budžeta izpildes procesā pārdalāmais finansējums" programmā 23.00.00 "Valsts atbalsta programmas un citi valsts nozīmes pasākumi" paredzēt finansējumu 370 000 euro apmērā Nacionālā mākslīgā intelekta centra izveidei, pārdalot finansējumu no Ekonomikas ministrijas budžeta programmas 35.00.00 "Valsts atbalsta programmas" un 97.00.00 "Nozaru vadība un politikas plānošana".
B56: 13. Finanšu ministrija
A57: =A53+1 -> 11 | B57: 80. pants. (1) Publiskas personas kapitālsabiedrības un tās atkarīgās kapitālsabiedrības, publiski privātas kapitālsabiedrības un publiskas personas kontrolētas kapitālsabiedrības dalībnieku (akcionāru) sapulce vai padome (ja tāda ir izveidota), izņemot gadījumus, kad ir pieņemts atsevišķs Ministru kabineta lēmums, nodrošina, ka 2025. gadā: | C57: Izteikt likumprojekta 80.panta pirmās daļas ievaddaļu šādā redakcijā (nemainot 80.panta pirmās daļas apakšpunktu redakciju): "(1) Publiskas personas kapitālsabiedrības un tās atkarīgās kapitālsabiedrības, publiski privātas kapitālsabiedrības un publiskas personas kontrolētas kapitālsabiedrības dalībnieku (akcionāru) sapulce vai padome (ja tāda ir izveidota), izņemot gadījumus, kad ir pieņemts publiskās personas augstākās lēmējinstitūcijas (Ministru kabineta par valsts kapitālsabiedrībām, pašvaldības domes par pašvaldības kapitālsabiedrībām) atsevišķs lēmums, nodrošina, ka 2025. gadā:" | D57: Atbalstīt
B58: Priekšlikums paredz iespēju par izņēmumu gadījumiem lemt Publiskas personas kapitāla daļu un kapitālsabiedrību pārvaldības likumā noteiktajai publiskas personas augstākā lēmējinstitūcijai, kas attiecībā uz valsts kapitāla daļu un kapitālsabiedrību pārvaldību ir Ministru kabinets, bet attiecībā uz pašvaldības kapitāla daļu un kapitālsabiedrību pārvaldību — pašvaldības dome.
B60: 29. Veselības ministrija
A61: =A57+1 -> 12 | B61: --- | C61: Papildināt likumprojekta I nodaļu ar jaunu pantu: "xx. pants. Atļaut finanšu ministram palielināt apropriāciju Veselības ministrijai, paredzot dotāciju no vispārējiem ieņēmumiem valsts līdzdalībai vispārējās valdības sektorā iekļautās kapitālsabiedrībās, kuras sniedz valsts apmaksātus veselības aprūpes pakalpojumus diennakts stacionārā, lai minētajās kapitālsabiedrībās veiktu pamatkapitāla palielināšanu ar finanšu ieguldījumu, nodrošinot stacionāro veselības aprūpes pakalpojumu pilnveidi un slimnīcu tīkla attīstību. Šajā pantā paredzēto apropriācijas palielinājumu finansēšanas klasifikācijas kategoriju kodiem var veikt, ja apropriācijas palielināšanai nav negatīvas ietekmes uz vispārējās valdības budžeta bilanci nominālajā izteiksmē atbilstoši Eiropas nacionālo un reģionālo kontu sistēmas Eiropas Savienībā metodoloģijai, tas uzlabo veselības aprūpei piešķirtā publiskā finansējuma izlietojuma efektivitāti, ir pieņemts attiecīgs Ministru kabineta lēmums un Saeimas Budžeta un finanšu (nodokļu) komisija piecu darba dienu laikā no attiecīgās informācijas saņemšanas dienas ir to izskatījusi un nav iebildusi pret šo apropriācijas palielinājumu. Veselības ministrijai atbilstoši normatīvajiem aktiem veikt darbības līdzdalības iegūšanai un finanšu ieguldījumu veikšanai pamatkapitālā." | D61: Atbalstīt
B62: Pants nepieciešams, lai nepieciešamības gadījumā nodrošinātu valsts līdzdalību reģionālajās slimnīcās un turpmāku ārstniecības iestāžu pārvaldības efektivitātes veicināšanas procesu.
B64: 13. Finanšu ministrija
A65: =A61+1 -> 13 | C65: Kopsavilkuma skaitļus likumprojekta tekstā un pielikumos precizēt pēc balsojumiem par konkrētām pielikumu pozīcijām. | D65: Atbalstīt

Sheet AiM
C1: Pieņemts pirmajā lasījumā | D1: Priekšlikums par izmaiņām | F1: Pieņemts pirmajā lasījumā | G1: Priekšlikums par izmaiņām | H1: Priekšlikums MK atzinumam
B3: Par likumprojekta "Par valsts budžetu 2025. gadam un budžeta ietvaru 2025., 2026. un 2027. gadam" skaitlisko daļu:
B5: Sadalījumā pa budžeta resoriem
B7: 10. Aizsardzības ministrija
A9: 1 | B9: 10.Aizsardzības ministrija | H9: Atbalstīt
B10: 4.pielikums
B11: 22.12.00 Nacionālo bruņoto spēku uzturēšana
B12: Resursi izdevumu segšanai | C12: 760015497
B13: Ieņēmumi no maksas pakalpojumiem un citi pašu ieņēmumi – kopā | C13: 19690444
B14: Transferti | C14: 734400
B15: Valsts budžeta transferti | C15: 734400
B16: Valsts pamatbudžeta savstarpējie transferti | C16: 734400
B17: Valsts pamatbudžeta iestāžu saņemtie transferti no valsts pamatbudžeta | C17: 734400
B18: Valsts pamatbudžeta iestāžu saņemtie transferti no valsts pamatbudžeta dotācijas no vispārējiem ieņēmumiem | C18: 734400
B19: Dotācija no vispārējiem ieņēmumiem | C19: 739590653
B20: Vispārējā kārtībā sadalāmā dotācija no vispārējiem ieņēmumiem | C20: 739590653
B21: Izdevumi – kopā | C21: 760015497 | D21: -13141315
B22: Uzturēšanas izdevumi | C22: 488547826 | D22: -13141315
B23: Kārtējie izdevumi | C23: 484753300 | D23: -13141315
B24: Atlīdzība | C24: 291
B25: Preces un pakalpojumi | C25: 484753009 | D25: -13141315
B26: Subsīdijas, dotācijas, sociālie maksājumi un kompensācijas | C26: 2402386
B27: Subsīdijas un dotācijas | C27: 2044386
B28: Sociāla rakstura maksājumi un kompensācijas | C28: 358000
B29: Transferti viena budžeta veida ietvaros un uzturēšanas izdevumu transferti starp budžeta veidiem | C29: 1392140
B30: Valsts budžeta transferti un uzturēšanas izdevumu transferti | C30: 1025409
B31: Valsts budžeta uzturēšanas izdevumu transferti no valsts pamatbudžeta uz valsts speciālo budžetu | C31: 341299
B32: Valsts budžeta transferti no valsts pamatbudžeta uz valsts pamatbudžetu | C32: 684110
B33: Valsts budžeta transferti no valsts pamatbudžeta dotācijas no vispārējiem ieņēmumiem uz valsts pamatbudžetu | C33: 684110
B34: Pārējie valsts budžeta uzturēšanas izdevumu transferti citiem budžetiem | C34: 366731
B35: Pārējie valsts budžeta uzturēšanas izdevumu transferti valsts budžeta daļēji finansētām atvasinātām publiskām personām un budžeta nefinansētām iestādēm | C35: 366731
B36: Kapitālie izdevumi | C36: 271467671
B37: Pamatkapitāla veidošana | C37: 271467671
B38: Finansiālā bilance | D38: 13141315
B39: Finansēšana | D39: -13141315
B40: Akcijas un cita līdzdalība pašu kapitālā | D40: -13141315
B41: 3.pielikums
B42: I. Valsts pamatfunkciju īstenošana
B43: 2026.gads
B44: Resursi izdevumu segšanai | C44: 1 558 712 634
B45: Ieņēmumi no maksas pakalpojumiem un citi pašu ieņēmumi – kopā | C45: 20 343 981
B46: Transferti | C46: 734 400
B47: Valsts budžeta transferti | C47: 734 400
B48: Valsts pamatbudžeta savstarpējie transferti | C48: 734 400
B49: Valsts pamatbudžeta iestāžu saņemtie transferti no valsts pamatbudžeta | C49: 734 400
B50: Valsts pamatbudžeta iestāžu saņemtie transferti no valsts pamatbudžeta dotācijas no vispārējiem ieņēmumiem | C50: 734 400
B51: Dotācija no vispārējiem ieņēmumiem | C51: 1 537 634 253
B52: Vispārējā kārtībā sadalāmā dotācija no vispārējiem ieņēmumiem | C52: 1 537 634 253
B53: Izdevumi – kopā | C53: 1 558 712 634 | D53: -13141315
B54: Uzturēšanas izdevumi | C54: 1 061 055 638 | D54: -13141315
B55: Kārtējie izdevumi | C55: 1 013 048 419 | D55: -13141315
B56: Atlīdzība | C56: 418 380 134
B57: Preces un pakalpojumi | C57: 594 668 285 | D57: -13141315
B58: Subsīdijas, dotācijas, sociālie maksājumi un kompensācijas | C58: 23 149 227
B59: Subsīdijas un dotācijas | C59: 3 215 526
B60: Sociāla rakstura maksājumi un kompensācijas | C60: 19 933 701
B61: Kārtējie maksājumi Eiropas Savienības budžetā un starptautiskā sadarbība | C61: 16 863 398
B62: Starptautiskā sadarbība | C62: 16 863 398
B63: Transferti viena budžeta veida ietvaros un uzturēšanas izdevumu transferti starp budžeta veidiem | C63: 7 994 594
B64: Valsts budžeta transferti un uzturēšanas izdevumu transferti | C64: 1 325 779
B65: Valsts budžeta uzturēšanas izdevumu transferti no valsts pamatbudžeta uz valsts speciālo budžetu | C65: 523 603
B66: Valsts budžeta transferti no valsts pamatbudžeta uz valsts pamatbudžetu | C66: 802 176
B67: Valsts budžeta transferti no valsts pamatbudžeta dotācijas no vispārējiem ieņēmumiem uz valsts pamatbudžetu | C67: 802 176
B68: Pārējie valsts budžeta uzturēšanas izdevumu transferti citiem budžetiem | C68: 6 668 815
B69: Pārējie valsts budžeta uzturēšanas izdevumu transferti pašvaldībām | C69: 4 058
... B74: Pārējie valsts budžeta kapitālo izdevumu transferti citiem budžetiem | C74: 132 000
B75: Pārējie valsts budžeta kapitālo izdevumu transferti pašvaldībām
B76: Pārējie valsts budžeta transferti kapitālajiem izdevumiem valsts budžeta daļēji finansētām atvasinātām publiskām personām un budžeta nefinansētām iestādēm | C76: 132 000
B77: Finansiālā bilance | D77: 13141315
B78: Finansēšana | D78: -13141315
B79: Akcijas un cita līdzdalība pašu kapitālā | D79: -13141315
B80: Iekšējā finansējuma pārdale programmas 22.12.00 "Nacionālo bruņoto spēku uzturēšana" ietvaros, lai nodrošinātu nepieciešamo finansējumu SIA "Valsts aizsardzības korporācija" pamatkapitāla palielināšanai 2025. gadā 13 141 315 euro apmērā un 2026. gadā 13 141 315 euro apmērā (saskaņā ar 24-TA-2301).
A82: =A9+1 -> 2 | B82: 10.Aizsardzības ministrija | E82: 10.Aizsardzības ministrija | H82: Atbalstīt
B83: 4.pielikums | E83: 4.pielikums
B84: 22.12.00 Nacionālo bruņoto spēku uzturēšana | E84: 06.00.00 Valsts drošības aizsardzība
B85: Resursi izdevumu segšanai | C85: 760015497 | D85: =+D92 -> -1180510 | E85: Resursi izdevumu segšanai | F85: 33410146 | G85: =+G86+G87 -> 1180510
B86: Ieņēmumi no maksas pakalpojumiem un citi pašu ieņēmumi – kopā | C86: 19690444 | E86: Ieņēmumi no maksas pakalpojumiem un citi pašu ieņēmumi – kopā | F86: 25000
B87: Transferti | C87: 734400 | E87: Dotācija no vispārējiem ieņēmumiem | F87: 33385146 | G87: =+G88 -> 1180510
B88: Valsts budžeta transferti | C88: 734400 | E88: Vispārējā kārtībā sadalāmā dotācija no vispārējiem ieņēmumiem | F88: 33385146 | G88: 1180510
B89: Valsts pamatbudžeta savstarpējie transferti | C89: 734400 | E89: Izdevumi – kopā | F89: 33410146 | G89: =+G90 -> 1180510
B90: Valsts pamatbudžeta iestāžu saņemtie transferti no valsts pamatbudžeta | C90: 734400 | E90: Uzturēšanas izdevumi | F90: 33410146 | G90: =+G91 -> 1180510
B91: Valsts pamatbudžeta iestāžu saņemtie transferti no valsts pamatbudžeta dotācijas no vispārējiem ieņēmumiem | C91: 734400 | E91: Kārtējie izdevumi | F91: 33410146 | G91: =+G92 -> 1180510
B92: Dotācija no vispārējiem ieņēmumiem | C92: 739590653 | D92: =+D93 -> -1180510 | E92: Preces un pakalpojumi | F92: 33410146 | G92: 1180510
B93: Vispārējā kārtībā sadalāmā dotācija no vispārējiem ieņēmumiem | C93: 739590653 | D93: -1180510
B94: Izdevumi – kopā | C94: 760015497 | D94: =+D95 -> -1180510
B95: Uzturēšanas izdevumi | C95: 488547826 | D95: =+D96 -> -1180510
B96: Kārtējie izdevumi | C96: 484753300 | D96: -1180510
B97: Atlīdzība | C97: 291
B98: Preces un pakalpojumi | C98: 484753009 | D98: -1180510
B99: Subsīdijas, dotācijas, sociālie maksājumi un kompensācijas | C99: 2402386
B100: Subsīdijas un dotācijas | C100: 2044386
B101: Sociāla rakstura maksājumi un kompensācijas | C101: 358000
B102: Transferti viena budžeta veida ietvaros un uzturēšanas izdevumu transferti starp budžeta veidiem | C102: 1392140
B103: Valsts budžeta transferti un uzturēšanas izdevumu transferti | C103: 1025409
B104: Valsts budžeta uzturēšanas izdevumu transferti no valsts pamatbudžeta uz valsts speciālo budžetu | C104: 341299
B105: Valsts budžeta transferti no valsts pamatbudžeta uz valsts pamatbudžetu | C105: 684110
B106: Valsts budžeta transferti no valsts pamatbudžeta dotācijas no vispārējiem ieņēmumiem uz valsts pamatbudžetu | C106: 684110
B107: Pārējie valsts budžeta uzturēšanas izdevumu transferti citiem budžetiem | C107: 366731
B108: Pārējie valsts budžeta uzturēšanas izdevumu transferti valsts budžeta daļēji finansētām atvasinātām publiskām personām un budžeta nefinansētām iestādēm | C108: 366731
B109: Kapitālie izdevumi | C109: 271467671
...

Sheet ĀM
C1: Pieņemts pirmajā lasījumā | D1: Priekšlikums par izmaiņām | F1: Pieņemts pirmajā lasījumā | G1: Priekšlikums par izmaiņām | H1: Priekšlikums MK atzinumam
B3: 11. Ārlietu ministrija
A5: =AiM!A113+1 -> 4 | B5: 74. Gadskārtējā valsts budžeta izpildes procesā pārdalāmais finansējums | E5: 11. Ārlietu ministrija | H5: Atbalstīt
B6: 4.pielikums | E6: 4.pielikums
B7: 04.00.00 Latvijas prezidentūras Eiropas Savienības Padomē nodrošināšana | E7: 96.01.00 Latvijas prezidentūras Eiropas Savienības Padomē sekretariāta darbības nodrošināšana
B8: Resursi izdevumu segšanai/ Ieņēmumi | C8: 1500000 | D8: -1444195 | E8: Resursi izdevumu segšanai/ Ieņēmumi | G8: 443432
B9: Dotācija no vispārējiem ieņēmumiem | C9: 1500000 | D9: -1444195 | E9: Dotācija no vispārējiem ieņēmumiem | G9: 443432
B10: Vispārējā kārtībā sadalāmā dotācija no vispārējiem ieņēmumiem | C10: 1500000 | D10: -1444195 | E10: Vispārējā kārtībā sadalāmā dotācija no vispārējiem ieņēmumiem | G10: 443432
B11: Izdevumi - kopā | C11: 1500000 | D11: -1444195 | E11: Izdevumi - kopā | G11: 443432
B12: Uzturēšanas izdevumi | C12: 1500000 | D12: -1444195 | E12: Uzturēšanas izdevumi | G12: 406932
B13: Subsīdijas, dotācijas, sociālie maksājumi un kompensācijas | C13: 1500000 | D13: -1444195 | E13: Kārtējie izdevumi | G13: 406932
B14: Subsīdijas un dotācijas | C14: 1500000 | D14: -1444195 | E14: Atlīdzība | G14: 363432
E15: Preces un pakalpojumi | G15: 43500
E16: Kapitālie izdevumi | G16: 36500
E17: Pamatkapitāla veidošana | G17: 36500
E18: 96.03.00 Latvijas prezidentūras Eiropas Savienības Padomē nodrošināšana (ministrijas pasākumi)
E19: Resursi izdevumu segšanai/ Ieņēmumi | G19: 1000763
E20: Dotācija no vispārējiem ieņēmumiem | G20: 1000763
E21: Vispārējā kārtībā sadalāmā dotācija no vispārējiem ieņēmumiem | G21: 1000763
E22: Izdevumi - kopā | G22: 1000763
E23: Uzturēšanas izdevumi | G23: 371595
E24: Kārtējie izdevumi | G24: 371595
E25: Atlīdzība | G25: 139820
E26: Preces un pakalpojumi | G26: 231775
E27: Kapitālie izdevumi | G27: 629168
E28: Pamatkapitāla veidošana | G28: 629168
B29: Finansējuma pārdale no 74.resora programmas 04.00.00 "Latvijas prezidentūras Eiropas Savienības Padomē nodrošināšana" uz Ārlietu ministrijas apakšprogrammu 96.01.00 "Latvijas prezidentūras Eiropas Savienības Padomē sekretariāta darbības nodrošināšana" un apakšprogrammu 96.03.00 "Latvijas prezidentūras Eiropas Savienības Padomē nodrošināšana (ministrijas pasākumi)", lai nodrošinātu finansējumu 2025.gadā Latvijas prezidentūras Eiropas Savienības Padomē 2028. gadā sagatavošanai, atbilstoši Ministru kabineta 2024.gada 29.oktobra protokola Nr. 46 85.§ "Informatīvais ziņojums "Par Latvijas prezidentūras Eiropas Savienības Padomē 2028. gadā sagatavošanai nepieciešamo finansējumu 2025. gadam" 2.punktam.
A31: =A5+1 -> 5 | B31: 74. Gadskārtējā valsts budžeta izpildes procesā pārdalāmais finansējums | E31: 11. Ārlietu ministrija | H31: Atbalstīt
B32: 4.pielikums | E32: 4.pielikums
B33: 02.00.00 Līdzekļi neparedzētiem gadījumiem | E33: 97.00.00 Nozaru vadība un politikas plānošana
B34: Resursi izdevumu segšanai/ Ieņēmumi | C34: 110288148 | D34: -79229 | E34: Resursi izdevumu segšanai/ Ieņēmumi | F34: 81002813 | G34: 79229
B35: Dotācija no vispārējiem ieņēmumiem | C35: 110288148 | D35: -79229 | E35: Ieņēmumi no maksas pakalpojumiem un citi pašu ieņēmumi – kopā | F35: 2957141
B36: Vispārējā kārtībā sadalāmā dotācija no vispārējiem ieņēmumiem | C36: 110288148 | D36: -79229 | E36: Dotācija no vispārējiem ieņēmumiem | F36: 78045672 | G36: 79229
B37: Izdevumi - kopā | C37: 110288148 | D37: -79229 | E37: Vispārējā kārtībā sadalāmā dotācija no vispārējiem ieņēmumiem | F37: 78045672 | G37: 79229
B38: Uzturēšanas izdevumi | C38: 110288148 | D38: -79229 | E38: Izdevumi - kopā | F38: 82102813 | G38: 79229
B39: Subsīdijas, dotācijas, sociālie maksājumi un kompensācijas | C39: 110288148 | D39: -79229 | E39: Uzturēšanas izdevumi | F39: 80255102 | G39: 79229
B40: Subsīdijas un dotācijas | C40: 110288148 | D40: -79229 | E40: Kārtējie izdevumi | F40: 78048645 | G40: 79229
E41: Atlīdzība | F41: 47244955 | G41: 60440
E42: Preces un pakalpojumi | F42: 30803690 | G42: 18789
E43: Subsīdijas, dotācijas, sociālie maksājumi un kompensācijas | F43: 1482791
E44: Subsīdijas un dotācijas | F44: 1477791
E45: Sociāla rakstura maksājumi un kompensācijas | F45: 5000
E46: Transferti viena budžeta veida ietvaros un uzturēšanas izdevumu transferti starp budžeta veidiem | F46: 723666
E47: Valsts budžeta transferti un uzturēšanas izdevumu transferti | F47: 266976
E48: Valsts budžeta uzturēšanas izdevumu transferti no valsts pamatbudžeta uz valsts speciālo budžetu | F48: 266976
E49: Pārējie valsts budžeta uzturēšanas izdevumu transferti citiem budžetiem | F49: 456690
E50: Pārējie valsts budžeta uzturēšanas izdevumu transferti valsts budžeta daļēji finansētām atvasinātām publiskām personām un budžeta nefinansētām iestādēm | F50: 456690
E51: Kapitālie izdevumi | F51: 1847711
E52: Pamatkapitāla veidošana | F52: 1847711
E53: Finansiālā bilance | F53: -1100000
E54: Finansēšana | F54: 1100000
... E56: Maksas pakalpojumu un citu pašu ieņēmumu naudas līdzekļu atlikumu izmaiņas palielinājums (-) vai samazinājums (+) | F56: 1100000
B57: 2026.gads | E57: 2026.gads
B58: 3.pielikums | E58: 3.pielikums
B59: I. Valsts pamatfunkciju īstenošana | E59: I. Valsts pamatfunkciju īstenošana
B60: Resursi izdevumu segšanai/ Ieņēmumi | C60: 395268323 | D60: -3207 | E60: Resursi izdevumu segšanai/ Ieņēmumi | F60: 99878459 | G60: 3207
B61: Dotācija no vispārējiem ieņēmumiem | C61: 395268323 | D61: -3207 | E61: Ieņēmumi no maksas pakalpojumiem un citi pašu ieņēmumi – kopā | F61: 2957141
B62: Vispārējā kārtībā sadalāmā dotācija no vispārējiem ieņēmumiem | C62: 395268323 | D62: -3207 | E62: Dotācija no vispārējiem ieņēmumiem | F62: 96921318 | G62: 3207
B63: Izdevumi - kopā | C63: 395268323 | D63: -3207 | E63: Vispārējā kārtībā sadalāmā dotācija no vispārējiem ieņēmumiem | F63: 96921318 | G63: 3207
B64: Uzturēšanas izdevumi | C64: 395268323 | D64: -3207 | E64: Izdevumi - kopā | F64: 100978459 | G64: 3207
B65: Subsīdijas, dotācijas, sociālie maksājumi un kompensācijas | C65: 395268323 | D65: -3207 | E65: Uzturēšanas izdevumi | F65: 99142898 | G65: 3207
B66: Subsīdijas un dotācijas | C66: 395268323 | D66: -3207 | E66: Kārtējie izdevumi | F66: 79272041 | G66: 3207
E67: Atlīdzība | F67: 48469993 | G67: 2257
E68: Preces un pakalpojumi | F68: 30802048 | G68: 950
E69: Subsīdijas, dotācijas, sociālie maksājumi un kompensācijas | F69: 1493935
E70: Subsīdijas un dotācijas | F70: 1477791
E71: Sociāla rakstura maksājumi un kompensācijas | F71: 16144
E72: Kārtējie maksājumi Eiropas Savienības budžetā un starptautiskā sadarbība | F72: 17653256
E73: Starptautiskā sadarbība | F73: 17653256
E74: Transferti viena budžeta veida ietvaros un uzturēšanas izdevumu transferti starp budžeta veidiem | F74: 723666
E75: Valsts budžeta transferti un uzturēšanas izdevumu transferti | F75: 266976
E76: Valsts budžeta uzturēšanas izdevumu transferti no valsts pamatbudžeta uz valsts speciālo budžetu | F76: 266976
E77: Pārējie valsts budžeta uzturēšanas izdevumu transferti citiem budžetiem | F77: 456690
E78: Pārējie valsts budžeta uzturēšanas izdevumu transferti valsts budžeta daļēji finansētām atvasinātām publiskām personām un budžeta nefinansētām iestādēm | F78: 456690
E79: Kapitālie izdevumi | F79: 1835561
E80: Pamatkapitāla veidošana | F80: 1835561
... E84: Maksas pakalpojumu un citu pašu ieņēmumu naudas līdzekļu atlikumu izmaiņas palielinājums (-) vai samazinājums (+) | F84: 1100000
B85: Finansējuma pārdale no 74.resora programmas 02.00.00 "Līdzekļi neparedzētiem gadījumiem" uz Ārlietu ministrijas programmu 97.00.00 "Nozaru vadība un politikas plānošana", lai segtu izdevumus civilā eksperta dalības nodrošināšanai Eiropas Savienības Padomdevēja misijā civilā drošības sektora reformām Ukrainā, saskaņā ar Ministru kabineta 2025.gada 5.novembra rīkojuma Nr.930 “Par civilā eksperta dalību Eiropas Savienības Padomdevēja misijā civilā drošības sektora reformām Ukrainā” 6.punktu.

Sheet EM
C1: Pieņemts pirmajā lasījumā | D1: Priekšlikums par izmaiņām | F1: Pieņemts pirmajā lasījumā | G1: Priekšlikums par izmaiņām | H1: Priekšlikums MK atzinumam
B3: 12. Ekonomikas ministrija
A5: =ĀM!A31+1 -> 6 | B5: 12. Ekonomikas ministrija | H5: Atbalstīt
B6: 11.pielikums
B7: 97.00.00 Nozaru vadība un politikas plānošana
B8: 0600000000 - Citas ilgtermiņa saistības
B9: tajā skaitā
B10: Telpu Rīgā, Talejas ielā 1, nomas maksas izdevumu segšanai
B11: 2026.gads
B12: Resursi izdevumu segšanai | D12: =D13 -> 487652
B13: Dotācija no vispārējiem ieņēmumiem | D13: =D14 -> 487652
B14: Vispārējā kārtībā sadalāmā dotācija no vispārējiem ieņēmumiem | D14: 487652
B15: Izdevumi – kopā | D15: =D16 -> 487652
B16: Uzturēšanas izdevumi | D16: =D17 -> 487652
B17: Kārtējie izdevumi | D17: =D18 -> 487652
B18: Preces un pakalpojumi | D18: 487652
B19: 2027.gads
B20: Resursi izdevumu segšanai | D20: =D21 -> 487652
B21: Dotācija no vispārējiem ieņēmumiem | D21: =D22 -> 487652
B22: Vispārējā kārtībā sadalāmā dotācija no vispārējiem ieņēmumiem | D22: 487652
B23: Izdevumi – kopā | D23: =D24 -> 487652
B24: Uzturēšanas izdevumi | D24: =D25 -> 487652
B25: Kārtējie izdevumi | D25: =D26 -> 487652
B26: Preces un pakalpojumi | D26: 487652
B27: 2028.gads
B28: Resursi izdevumu segšanai | D28: =D29 -> 487652
B29: Dotācija no vispārējiem ieņēmumiem | D29: =D30 -> 487652
B30: Vispārējā kārtībā sadalāmā dotācija no vispārējiem ieņēmumiem | D30: 487652
B31: Izdevumi – kopā | D31: =D32 -> 487652
B32: Uzturēšanas izdevumi | D32: =D33 -> 487652
B33: Kārtējie izdevumi | D33: =D34 -> 487652
B34: Preces un pakalpojumi | D34: 487652
B35: Tālākā laika posmā līdz projekta īstenošanai
B36: Resursi izdevumu segšanai | D36: =D37 -> 7802432
B37: Dotācija no vispārējiem ieņēmumiem | D37: =D38 -> 7802432
B38: Vispārējā kārtībā sadalāmā dotācija no vispārējiem ieņēmumiem | D38: 7802432
B39: Izdevumi – kopā | D39: =D40 -> 7802432
B40: Uzturēšanas izdevumi | D40: =D41 -> 7802432
B41: Kārtējie izdevumi | D41: =D42 -> 7802432
B42: Preces un pakalpojumi | D42: 7802432
B43: Finansējums ilgtermiņa saistību pasākumam "Telpu Rīgā, Talejas ielā 1, nomas maksas izdevumu segšanai" atbilstoši MK 01.11.2024. rīkojumam Nr. 909 “Par finansējuma piešķiršanu valsts pārvaldes iestāžu un Latvijas Republikas Prokuratūras vajadzībām biroju ēkas Talejas ielā 1, Rīgā, telpu nomas maksas ilgtermiņa saistībām, kā arī pielāgošanas, aprīkošanas un pārcelšanās izdevumu segšanai”, vienlaikus 218 140 euro ik gadu nodrošinot no pamatbudžeta programmas 24.00.00 “Statistiskās informācijas nodrošināšana”.
A45: =A5+1 -> 7 | B45: 12. Ekonomikas ministrija | E45: 15. Izglītības un zinātnes ministrija | H45: Atbalstīt
B46: 4.pielikums | E46: 4.pielikums
B47: 35.00.00 Valsts atbalsta programmas | E47: 05.01.00 Zinātniskās darbības nodrošināšana
B48: Resursi izdevumu segšanai | C48: =C49 -> 48987930 | D48: =D49 -> -400000 | E48: Resursi izdevumu segšanai | F48: 38961101 | G48: =G49 -> 400000
B49: Dotācija no vispārējiem ieņēmumiem | C49: =C50 -> 48987930 | D49: =D50 -> -400000 | E49: Dotācija no vispārējiem ieņēmumiem | F49: =F50 -> 38602651 | G49: =G50 -> 400000
B50: Vispārējā kārtībā sadalāmā dotācija no vispārējiem ieņēmumiem | C50: 48987930 | D50: -400000 | E50: Vispārējā kārtībā sadalāmā dotācija no vispārējiem ieņēmumiem | F50: 38602651 | G50: 400000
B51: Izdevumi – kopā | C51: =C52 -> 48987930 | D51: =D52 -> -400000 | E51: Izdevumi – kopā | F51: 38961101 | G51: =G52 -> 400000
B52: Uzturēšanas izdevumi | C52: =C53+C56 -> 48987930 | D52: =D53+D56 -> -400000 | E52: Uzturēšanas izdevumi | F52: 38961101 | G52: =G53+G56 -> 400000
B53: Kārtējie izdevumi | C53: =C54+C55 -> 8000000 | D53: =D54+D55 -> 0 | E53: Transferti viena budžeta veida ietvaros un uzturēšanas izdevumu transferti starp budžeta veidiem | F53: 33127003 | G53: =G55 -> 400000
B54: Atlīdzība | C54: 250000 | E54: Pārējie valsts budžeta uzturēšanas izdevumu transferti citiem budžetiem | F54: =F55 -> 33027003 | G54: 400000
B55: Preces un pakalpojumi | C55: 7750000 | E55: Pārējie valsts budžeta uzturēšanas izdevumu transferti valsts budžeta daļēji finansētām atvasinātām publiskām personām un budžeta nefinansētām iestādēm | F55: 33027003 | G55: 400000
B56: Subsīdijas, dotācijas, sociālie maksājumi un kompensācijas | C56: =C57 -> 40987930 | D56: =D57 -> -400000
B57: Subsīdijas un dotācijas | C57: 40987930 | D57: -400000
B58: Finansējuma pārdale no Ekonomikas ministrijas budžeta uz Izglītības un zinātnes ministrijas budžetu, lai nodrošinātu Ventspils Augstskolas Inženierzinātņu Institūta “Ventspils Starptautiskais Radioastronomijas Centrs” kosmosa nozares pētniecības infrastruktūras uzturēšanu. Ekonomikas ministrijas budžetā samazināts finansējums pasākumam "Zemas īres maksas mājokļu būvniecībai reģionos", ņemot vērā ierosinātos grozījumus Atveseļošanas Fonda investīciju pārdalei starp aktivitātēm, kuri paredz papildus finansējuma piešķīrumu 3.1.1.4.i investīcijā cenas ziņā pieejamu īres māju būvniecībai 27,7 milj. euro.
A60: =A45+1 -> 8 | B60: 12. Ekonomikas ministrija | E60: 15. Izglītības un zinātnes ministrija | H60: Atbalstīt
B61: 4.pielikums | E61: 4.pielikums
B62: 35.00.00 Valsts atbalsta programmas | E62: 02.01.00 Profesionālās izglītības programmu īstenošana
B63: Resursi izdevumu segšanai | C63: =C64 -> 48987930 | D63: =D64 -> -80000 | E63: Resursi izdevumu segšanai | F63: 105946028 | G63: =G64 -> 80000
B64: Dotācija no vispārējiem ieņēmumiem | C64: =C65 -> 48987930 | D64: =D65 -> -80000 | E64: Dotācija no vispārējiem ieņēmumiem | F64: 100923580 | G64: =G65 -> 80000
B65: Vispārējā kārtībā sadalāmā dotācija no vispārējiem ieņēmumiem | C65: 48987930 | D65: -80000 | E65: Vispārējā kārtībā sadalāmā dotācija no vispārējiem ieņēmumiem | F65: 100923580 | G65: =G66 -> 80000
B66: Izdevumi – kopā | C66: =C67 -> 48987930 | D66: =D67 -> -80000 | E66: Izdevumi – kopā | F66: 106213835 | G66: =G67+G70 -> 80000
B67: Uzturēšanas izdevumi | C67: =C68+C71 -> 48987930 | D67: =D68+D71 -> -80000 | E67: Uzturēšanas izdevumi | F67: 104439742 | G67: =G68 -> 62000
B68: Kārtējie izdevumi | C68: =C69+C70 -> 8000000 | D68: =D69+D70 -> 0 | E68: Kārtējie izdevumi | F68: 83356423 | G68: =G69 -> 62000
B69: Atlīdzība | C69: 250000 | E69: Preces un pakalpojumi | F69: 16064961 | G69: =62000 -> 62000
B70: Preces un pakalpojumi | C70: 7750000 | E70: Kapitālie izdevumi | F70: 1774093 | G70: =G71 -> 18000
B71: Subsīdijas, dotācijas, sociālie maksājumi un kompensācijas | C71: =C72 -> 40987930 | D71: =D72 -> -80000 | E71: Pamatkapitāla veidošana | F71: 1774093 | G71: 18000
B72: Subsīdijas un dotācijas | C72: 40987930 | D72: -80000
B73: Finansējuma pārdale no Ekonomikas ministrijas budžeta uz Izglītības un zinātnes ministrijas budžetu infrastruktūras izveidei, ko izmanto jaunsargi un aizsardzības mācības audzēkņi. Ekonomikas ministrijas budžetā samazināts finansējums pasākumam "Zemas īres maksas mājokļu būvniecībai reģionos", ņemot vērā ierosinātos grozījumus Atveseļošanas Fonda investīciju pārdalei starp aktivitātēm, kuri paredz papildus finansējuma piešķīrumu 3.1.1.4.i investīcijā cenas ziņā pieejamu īres māju būvniecībai 27,7 milj. euro.
A75: =A60+1 -> 9 | B75: 12. Ekonomikas ministrija | H75: Atbalstīt
B76: 4.pielikums
B77: 35.00.00 Valsts atbalsta programmas
B78: Resursi izdevumu segšanai | C78: =C79 -> 48987930 | D78: =D79 -> 0
B79: Dotācija no vispārējiem ieņēmumiem | C79: =C80 -> 48987930 | D79: =D80 -> 0
B80: Vispārējā kārtībā sadalāmā dotācija no vispārējiem ieņēmumiem | C80: 48987930
B81: Izdevumi – kopā | C81: =C82 -> 48987930 | D81: =D82 -> 0
B82: Uzturēšanas izdevumi | C82: =C83+C86+C88 -> 48987930 | D82: =D83+D86+D88 -> 0
B83: Kārtējie izdevumi | C83: =C84+C85 -> 8000000 | D83: =D84+D85 -> 0
B84: Atlīdzība | C84: 250000
B85: Preces un pakalpojumi | C85: 7750000
B86: Subsīdijas, dotācijas, sociālie maksājumi un kompensācijas | C86: =C87 -> 40987930 | D86: =D87 -> -3000000
B87: Subsīdijas un dotācijas | C87: 40987930 | D87: -3000000
B88: Transferti viena budžeta veida ietvaros un uzturēšanas izdevumu transferti starp budžeta veidiem | D88: =D89 -> 3000000
B89: Pārējie valsts budžeta uzturēšanas izdevumu transferti citiem budžetiem | D89: =D90 -> 3000000
B90: Pārējie valsts budžeta uzturēšanas izdevumu transferti pašvaldībām | D90: 3000000
B91: Samazināts finansējums pasākumam "Zemas īres maksas mājokļu būvniecībai reģionos", ņemot vērā ierosinātos grozījumus Atveseļošanas Fonda investīciju pārdalei starp aktivitātēm, kuri paredz papildus finansējuma piešķīrumu 3.1.1.4.i investīcijā cenas ziņā pieejamu īres māju būvniecībai 27,7 milj. euro, attiecīgo finansējumu novirzot pašvaldību ekonomiskās attīstības atbalstam.
A93: =A75+1 -> 10 | B93: 12. Ekonomikas ministrija | H93: Neatbalstīt,
B94: 4.pielikums | H94: atbalstīt
B95: 35.00.00 Valsts atbalsta programmas | H95: alternatīvu
B96: Resursi izdevumu segšanai | C96: =C97 -> 48987930 | D96: =D97 -> 0 | H96: =A108 -> 10
B97: Dotācija no vispārējiem ieņēmumiem | C97: =C98 -> 48987930 | D97: =D98 -> 0 | H97: =A109 -> A
B98: Vispārējā kārtībā sadalāmā dotācija no vispārējiem ieņēmumiem | C98: 48987930 | H98: Finanšu
B99: Izdevumi – kopā | C99: =C100 -> 48987930 | D99: =D100 -> 0 | H99: ministrijas
B100: Uzturēšanas izdevumi | C100: =C101+C104 -> 48987930 | D100: =D101+D104 -> 0 | H100: priekšlikumu
B101: Kārtējie izdevumi | C101: =C102+C103 -> 8000000 | D101: =D102+D103 -> -107930
B102: Atlīdzība | C102: 250000
B103: Preces un pakalpojumi | C103: 7750000 | D103: -107930
B104: Subsīdijas, dotācijas, sociālie maksājumi un kompensācijas | C104: =C105 -> 40987930 | D104: =D105 -> 107930
B105: Subsīdijas un dotācijas | C105: 40987930 | D105: 107930
B106: Samazināts finansējums pasākumam "Zemas īres maksas mājokļu būvniecībai reģionos", ņemot vērā ierosinātos grozījumus Atveseļošanas Fonda investīciju pārdalei starp aktivitātēm, kuri paredz papildus finansējuma piešķīrumu 3.1.1.4.i investīcijā cenas ziņā pieejamu īres māju būvniecībai 27,7 milj. euro, attiecīgo finansējumu novirzot Nacionālā mākslīgā intelekta centra izveidei.
...

Sheet FM
C1: Pieņemts pirmajā lasījumā | D1: Priekšlikums par izmaiņām | F1: Pieņemts pirmajā lasījumā | G1: Priekšlikums par izmaiņām | H1: Priekšlikums MK atzinumam
B3: 13. Finanšu ministrija
A5: =EM!A123+1 -> 12 | B5: 13. Finanšu ministrija | E5: 14. Iekšlietu ministrija | H5: Atbalstīt
B6: 3. pielikums | E6: 3. pielikums
B7: I. Valsts pamatfunkciju īstenošana | E7: I. Valsts pamatfunkciju īstenošana
B8: 2026.gadā | E8: 2026.gadā
B9: Resursi izdevumu segšanai | C9: 1379554695 | D9: -1277957 | E9: Resursi izdevumu segšanai | F9: 609936464 | G9: 1277957
B10: Dotācija no vispārējiem ieņēmumiem | C10: 1378466376 | D10: -1277957 | E10: Dotācija no vispārējiem ieņēmumiem | F10: 605020177 | G10: =G9 -> 1277957
B11: Vispārējā kārtībā sadalāmā dotācija no vispārējiem ieņēmumiem | C11: =C10 -> 1378466376 | D11: -1277957 | E11: Vispārējā kārtībā sadalāmā dotācija no vispārējiem ieņēmumiem | F11: 605020177 | G11: =G10 -> 1277957
B12: Izdevumi – kopā | C12: 1271412629 | D12: -1277957 | E12: Izdevumi – kopā | F12: 609936464 | G12: =G9 -> 1277957
B13: Kapitālie izdevumi | C13: 31797313 | D13: -1277957 | E13: Kapitālie izdevumi | F13: 12125561 | G13: =G12 -> 1277957
B14: Pamatkapitāla veidošana | C14: =C13 -> 31797313 | D14: -1277957 | E14: Pamatkapitāla veidošana | F14: 12125561 | G14: =G13 -> 1277957
B15: 13. Finanšu ministrija
B16: 11. pielikums
B17: 41.13.00 Finansējums VAS "Valsts nekustamie īpašumi" īstenojamiem projektiem un pasākumiem
B18: 0600000000 Citas ilgtermiņa saistības
B19: Dotācija VAS "Valsts nekustamie īpašumi" jaunas infrastruktūras izveidei kontroles dienestu funkciju īstenošanai Uriekstes ielā 42, Rīgā (Kundziņsala) | C19: CIS/FM/027
B20: 2026.gadā
B21: Resursi izdevumu segšanai | C21: 6038428 | D21: -1277957
B22: Dotācija no vispārējiem ieņēmumiem | C22: =C21 -> 6038428 | D22: =D21 -> -1277957
B23: Vispārējā kārtībā sadalāmā dotācija no vispārējiem ieņēmumiem | C23: =C22 -> 6038428 | D23: =D22 -> -1277957
B24: Izdevumi – kopā | C24: 6038428 | D24: =D21 -> -1277957
B25: Kapitālie izdevumi | C25: =C24 -> 6038428 | D25: =D24 -> -1277957
B26: Pamatkapitāla veidošana | C26: =C25 -> 6038428 | D26: =D25 -> -1277957
B27: Finansējuma pārdale no Finanšu ministrijas budžeta uz Iekšlietu ministijas budžetu, lai nodrošinātu radiācijas vārtu piegādes un uzstādīšanas izmaksu segšanu, saskaņā ar MK 2024.gada 15.oktobra protokola Nr. 44 13.§ "Informatīvais ziņojums "Par Eiropas Savienības Atveseļošanas un noturības mehānisma plāna 6. komponentes "Likuma vara" 6.1. reformu un investīciju virziena "Ēnu ekonomikas mazināšana godīgas uzņēmējdarbības veicināšanai" 6.1.2.r. reformas "Muitas kontroles punktos skenēto attēlu attālināta un centralizēta analīze" 6.1.2.4.i. investīcijas "Infrastruktūras izveide kontroles dienestu funkciju īstenošanai Kundziņsalā" īstenošanas progresu un turpmāko rīcību"" 3.punktu.
A29: =A5+1 -> 13 | B29: 74. Gadskārtējā valsts budžeta izpildes procesā pārdalāmais finansējums | E29: 13. Finanšu ministrija | H29: Atbalstīt
B30: 4. pielikums | E30: 4. pielikums
B31: 10.00.00 Noziedzīgi iegūtu līdzekļu legalizācijas un terorisma finansēšanas novēršana | E31: 33.00.00 Valsts ieņēmumu un muitas politikas nodrošināšana
B32: Resursi izdevumu segšanai | C32: 1137204 | D32: -249380 | E32: Resursi izdevumu segšanai | F32: 179922189 | G32: 249380
B33: Dotācija no vispārējiem ieņēmumiem | C33: =C32 -> 1137204 | D33: =D32 -> -249380 | E33: Dotācija no vispārējiem ieņēmumiem | F33: 179501161 | G33: 249380
B34: Vispārējā kārtībā sadalāmā dotācija no vispārējiem ieņēmumiem | C34: =C33 -> 1137204 | D34: =D33 -> -249380 | E34: Vispārējā kārtībā sadalāmā dotācija no vispārējiem ieņēmumiem | F34: 179501161 | G34: 249380
B35: Izdevumi – kopā | C35: =C34 -> 1137204 | D35: =D34 -> -249380 | E35: Izdevumi – kopā | F35: 179922189 | G35: 249380
B36: Uzturēšanas izdevumi | C36: =C35 -> 1137204 | D36: =D35 -> -249380 | E36: Uzturēšanas izdevumi | F36: 163587730 | G36: 59954
B37: Subsīdijas, dotācijas, sociālie maksājumi un kompensācijas | C37: =C36 -> 1137204 | D37: =D36 -> -249380 | E37: Kārtējie izdevumi | F37: 143040801 | G37: 59954
B38: Subsīdijas un dotācijas | C38: =C37 -> 1137204 | D38: =D37 -> -249380 | E38: Preces un pakalpojumi | F38: 38580851 | G38: 59954
E39: Kapitālie izdevumi | F39: 16334459 | G39: 189426
E40: Pamatkapitāla veidošana | F40: 16334459 | G40: 189426
B41: 74. Gadskārtējā valsts budžeta izpildes procesā pārdalāmais finansējums | E41: 13. Finanšu ministrija
B42: 3. pielikums | E42: 3. pielikums
B43: I. Valsts pamatfunkciju īstenošana | E43: I. Valsts pamatfunkciju īstenošana
B44: 2026.gadā | E44: =B44 -> 2026.gadā
B45: Resursi izdevumu segšanai | C45: 395268323 | D45: -200314 | E45: Resursi izdevumu segšanai | F45: 1379554695 | G45: 200314
B46: Dotācija no vispārējiem ieņēmumiem | C46: =C45 -> 395268323 | D46: =D45 -> -200314 | E46: Dotācija no vispārējiem ieņēmumiem | F46: 1378466376 | G46: 200314
B47: Vispārējā kārtībā sadalāmā dotācija no vispārējiem ieņēmumiem | C47: =C46 -> 395268323 | D47: =D46 -> -200314 | E47: Vispārējā kārtībā sadalāmā dotācija no vispārējiem ieņēmumiem | F47: 1378466376 | G47: 200314
B48: Izdevumi – kopā | C48: =C47 -> 395268323 | D48: =D47 -> -200314 | E48: Izdevumi – kopā | F48: 1271412629 | G48: 200315
B49: Uzturēšanas izdevumi | C49: =C48 -> 395268323 | D49: =D48 -> -200314 | E49: Uzturēšanas izdevumi | F49: 1239615316 | G49: 61164
B50: Subsīdijas, dotācijas, sociālie maksājumi un kompensācijas | C50: =C49 -> 395268323 | D50: =D49 -> -200314 | E50: Kārtējie izdevumi | F50: 188152911 | G50: 61164
B51: Subsīdijas un dotācijas | C51: =C50 -> 395268323 | D51: =D50 -> -200314 | E51: Preces un pakalpojumi | F51: 51285139 | G51: 61164
E52: Kapitālie izdevumi | F52: 31797313 | G52: 139150
E53: Pamatkapitāla veidošana | F53: =F52 -> 31797313 | G53: 139150
B54: 2027.gadā | E54: =B54 -> 2027.gadā
B55: Resursi izdevumu segšanai | C55: 402328927 | D55: -164014 | E55: Resursi izdevumu segšanai | F55: 1351399660 | G55: 164014
B56: Dotācija no vispārējiem ieņēmumiem | C56: =C55 -> 402328927 | D56: =D55 -> -164014 | E56: Dotācija no vispārējiem ieņēmumiem | F56: 1350813517 | G56: 164014
B57: Vispārējā kārtībā sadalāmā dotācija no vispārējiem ieņēmumiem | C57: =C56 -> 402328927 | D57: =D56 -> -164014 | E57: Vispārējā kārtībā sadalāmā dotācija no vispārējiem ieņēmumiem | F57: =F56 -> 1350813517 | G57: 164014
B58: Izdevumi – kopā | C58: =C57 -> 402328927 | D58: =D57 -> -164014 | E58: Izdevumi – kopā | F58: 1351269660 | G58: 164014
B59: Uzturēšanas izdevumi | C59: =C58 -> 402328927 | D59: =D58 -> -164014 | E59: Uzturēšanas izdevumi | F59: 1338817342 | G59: 24864
B60: Subsīdijas, dotācijas, sociālie maksājumi un kompensācijas | C60: =C59 -> 402328927 | D60: =D59 -> -164014 | E60: Kārtējie izdevumi | F60: 196070300 | G60: 24864
B61: Subsīdijas un dotācijas | C61: =C60 -> 402328927 | D61: =D60 -> -164014 | E61: Preces un pakalpojumi | F61: 59378933 | G61: 24864
E62: Kapitālie izdevumi | F62: 12452318 | G62: 139150
E63: Pamatkapitāla veidošana | F63: 12452318 | G63: 139150
B64: Finansējuma pārdale uz Finanšu ministrijas budžetu, lai nodrošinātu Valsts ieņēmumu dienesta informācijas sistēmu pielāgošanu, uzturēšanu un specialās tehnikas iegādi, saskaņā ar MK 2024.gada 1.oktobra protokola Nr. 40 13. § "Par apropriācijas pārdali no budžeta resora "74. Gadskārtējā valsts budžeta izpildes procesā pārdalāmais finansējums" programmas 10.00.00 "Noziedzīgi iegūtu līdzekļu legalizācijas un terorisma finansēšanas novēršana"" 3.punktu
A66: =A29+1 -> 14 | B66: 13. Finanšu ministrija | E66: 32. Prokuratūra | H66: Atbalstīt
B67: 4. pielikums | E67: 4. pielikums
B68: 33.00.00 Valsts ieņēmumu un muitas politikas nodrošināšana | E68: 01.00.00 Prokuratūras iestāžu uzturēšana
B69: Resursi izdevumu segšanai | C69: 179922189 | D69: =D70 -> -1834631 | E69: Resursi izdevumu segšanai | F69: 53199188 | G69: =G70 -> 45430
B70: Dotācija no vispārējiem ieņēmumiem | C70: 179501161 | D70: =D71 -> -1834631 | E70: Dotācija no vispārējiem ieņēmumiem | F70: 53179128 | G70: =G71 -> 45430
B71: Vispārējā kārtībā sadalāmā dotācija no vispārējiem ieņēmumiem | C71: =C70 -> 179501161 | D71: -1834631 | E71: Vispārējā kārtībā sadalāmā dotācija no vispārējiem ieņēmumiem | F71: 53179128 | G71: 45430
B72: Izdevumi – kopā | C72: 179922189 | D72: =D69 -> -1834631 | E72: Izdevumi – kopā | F72: 53199188 | G72: =G73 -> 45430
B73: Uzturēšanas izdevumi | C73: 163587730 | D73: =D72 -> -1834631 | E73: Uzturēšanas izdevumi | F73: 51099246 | G73: =G74 -> 45430
B74: Kārtējie izdevumi | C74: 143040801 | D74: =D73 -> -1834631 | E74: Kārtējie izdevumi | F74: 51096654 | G74: =G75 -> 45430
B75: Preces un pakalpojumi | C75: 38580851 | D75: =D74 -> -1834631 | E75: Preces un pakalpojumi | F75: 7978624 | G75: =G71 -> 45430
E76: 12. Ekonomikas ministrija
E77: 4. pielikums
E78: 97.00.00 Nozaru vadība un politikas plānošana
E79: Resursi izdevumu segšanai | F79: 10876307 | G79: =G80 -> 1212030
E80: Dotācija no vispārējiem ieņēmumiem | F80: 10796307 | G80: =G81 -> 1212030
E81: Vispārējā kārtībā sadalāmā dotācija no vispārējiem ieņēmumiem | F81: 10796307 | G81: 1212030
E82: Izdevumi – kopā | F82: 10974307 | G82: =G83 -> 1212030
E83: Uzturēšanas izdevumi | F83: 10300250 | G83: =G84 -> 1212030
E84: Kārtējie izdevumi | F84: 10113938 | G84: =G85 -> 1212030
E85: Preces un pakalpojumi | F85: 2474169 | G85: =G81 -> 1212030
E86: 29. Veselības ministrija
E87: 4. pielikums
E88: 46.01.00 Uzraudzība un kontrole
E89: Resursi izdevumu segšanai | F89: 6299348 | G89: =G90 -> 304189
E90: Dotācija no vispārējiem ieņēmumiem | F90: 5833668 | G90: =G91 -> 304189
E91: Vispārējā kārtībā sadalāmā dotācija no vispārējiem ieņēmumiem | F91: 5833668 | G91: 304189
E92: Izdevumi – kopā | F92: 6369332 | G92: =G93 -> 304189
E93: Uzturēšanas izdevumi | F93: 6315276 | G93: =G94 -> 304189
E94: Kārtējie izdevumi | F94: 6315276 | G94: =G95 -> 304189
E95: Preces un pakalpojumi | F95: 839790 | G95: =G91 -> 304189
E96: 14. Iekšlietu ministrija
E97: 4. pielikums
E98: 40.02.00 Nekustamais īpašums un centralizētais iepirkums
E99: Resursi izdevumu segšanai | F99: 83338511 | G99: =G100 -> 272333
E100: Dotācija no vispārējiem ieņēmumiem | F100: 81662748 | G100: =G101 -> 272333
E101: Vispārējā kārtībā sadalāmā dotācija no vispārējiem ieņēmumiem | F101: 81662748 | G101: 272333
E102: Izdevumi – kopā | F102: 83338511 | G102: =G103 -> 272333
E103: Uzturēšanas izdevumi | F103: 53233293 | G103: =G104 -> 272333
E104: Kārtējie izdevumi | F104: 28742079 | G104: =G105 -> 272333
...

Sheet IeM
C1: Pieņemts pirmajā lasījumā | D1: Priekšlikums par izmaiņām | F1: Pieņemts pirmajā lasījumā | G1: Priekšlikums par izmaiņām | H1: Priekšlikums MK atzinumam
B3: 14. Iekšlietu ministrija
A5: =FM!A66+1 -> 15 | B5: 14. Iekšlietu ministrija | E5: 14. Iekšlietu ministrija | H5: Atbalstīt
B6: 4.pielikums | E6: 4.pielikums
B7: 02.03.00 "Vienotās sakaru un informācijas sistēmas uzturēšana un vadība" | E7: 06.01.00 "Valsts policija"
B8: Resursi izdevumu segšanai | C8: 18722008 | D8: =D9+D10 -> -8060 | E8: Resursi izdevumu segšanai | F8: 243399644 | G8: =G10 -> 8060
B9: Ieņēmumi no maksas pakalpojumiem un citi pašu ieņēmumi – kopā | C9: 728818 | E9: Ieņēmumi no maksas pakalpojumiem un citi pašu ieņēmumi – kopā | F9: 1260130
B10: Dotācija no vispārējiem ieņēmumiem | C10: 17993190 | D10: =D11 -> -8060 | E10: Dotācija no vispārējiem ieņēmumiem | F10: 242139514 | G10: =G11 -> 8060
B11: Vispārējā kārtībā sadalāmā dotācija no vispārējiem ieņēmumiem | C11: 17993190 | D11: -8060 | E11: Vispārējā kārtībā sadalāmā dotācija no vispārējiem ieņēmumiem | F11: 242139514 | G11: 8060
B12: Izdevumi – kopā | C12: 18722008 | D12: =D13 -> -8060 | E12: Izdevumi – kopā | F12: 243399644 | G12: =G13+G25 -> 8060
B13: Uzturēšanas izdevumi | C13: 17005510 | D13: =D14 -> -8060 | E13: Uzturēšanas izdevumi | F13: 239243416 | G13: =G14 -> 8060
B14: Kārtējie izdevumi | C14: 17005510 | D14: =D15+D16 -> -8060 | E14: Kārtējie izdevumi | F14: 236051428 | G14: =G15+G16 -> 8060
B15: Atlīdzība | C15: 8897263 | E15: Atlīdzība | F15: 203415299
B16: Preces un pakalpojumi | C16: 8108247 | D16: -8060 | E16: Preces un pakalpojumi | F16: 32636129 | G16: 8060
B17: Kapitālie izdevumi | C17: 1716498 | E17: Subsīdijas, dotācijas, sociālie maksājumi un kompensācijas | F17: 3087816
B18: Pamatkapitāla veidošana | C18: 1716498 | E18: Subsīdijas un dotācijas | F18: 3045816
E19: Sociāla rakstura maksājumi un kompensācijas | F19: 42000
E20: Kārtējie maksājumi Eiropas Savienības budžetā un starptautiskā sadarbība | F20: 96396
E21: Starptautiskā sadarbība | F21: 96396
E22: Transferti viena budžeta veida ietvaros un uzturēšanas izdevumu transferti starp budžeta veidiem | F22: 7776
E23: Valsts budžeta transferti un uzturēšanas izdevumu transferti | F23: 7776
E24: Valsts budžeta uzturēšanas izdevumu transferti no valsts pamatbudžeta uz valsts speciālo budžetu | F24: 7776
E25: Kapitālie izdevumi | F25: 4156228
E26: Pamatkapitāla veidošana | F26: 4156228
B27: Veikta finansējuma pārdale no budžeta apakšprogrammas 02.03.00 "Vienotās sakaru un informācijas sistēmas uzturēšana un vadība" uz budžeta apakšprogrammu 06.01.00 "Valsts policija" 2025.gadā un turpmāk ik gadu 8060 euro, lai saskaņā ar starp Iekšlietu ministrijas Informācijas centru un Valsts policiju 2024. gada 16. oktobrī noslēgto Vienošanos Nr.2218 nodrošinātu optimālu autotransporta izmantošanu. Izmaiņas netiek atspoguļotas likumprojekta "Par valsts budžetu 2025. gadam un budžeta ietvaru 2025., 2026. un 2027. gadam" 3.pielikumā "Valsts pamatbudžeta un valsts speciālā budžeta kopsavilkums", jo 2026. gadā un turpmāk ik gadu izdevumu pārdale tiek veikta starp budžeta apakšprogrammām, nemainot izdevumus atbilstoši ekonomiskās klasifikācijas kodiem.
A29: =A5+1 -> 16 | B29: 74. Gadskārtējā valsts budžeta izpildes procesā pārdalāmais finansējums | E29: 14. Iekšlietu ministrija | H29: Atbalstīt
B30: 4.pielikums | E30: 4.pielikums
B31: 01.00.00 "Apropriācijas rezerve" | E31: 02.03.00 "Vienotās sakaru un informācijas sistēmas uzturēšana un vadība"
B32: Resursi izdevumu segšanai | C32: 5393389 | D32: =D33 -> -656192 | E32: Resursi izdevumu segšanai | F32: 18722008 | G32: =G33+G34 -> 656192
B33: Dotācija no vispārējiem ieņēmumiem | C33: 5393389 | D33: =D34 -> -656192 | E33: Ieņēmumi no maksas pakalpojumiem un citi pašu ieņēmumi – kopā | F33: 728818
B34: Vispārējā kārtībā sadalāmā dotācija no vispārējiem ieņēmumiem | C34: 5393389 | D34: -656192 | E34: Dotācija no vispārējiem ieņēmumiem | F34: 17993190 | G34: =G35 -> 656192
B35: Izdevumi – kopā | C35: 5393389 | D35: =D36 -> -656192 | E35: Vispārējā kārtībā sadalāmā dotācija no vispārējiem ieņēmumiem | F35: 17993190 | G35: 656192
B36: Uzturēšanas izdevumi | C36: 5393389 | D36: =D37 -> -656192 | E36: Izdevumi – kopā | F36: 18722008 | G36: =G37+G41 -> 656192
B37: Subsīdijas, dotācijas, sociālie maksājumi un kompensācijas | C37: 5393389 | D37: =D38 -> -656192 | E37: Uzturēšanas izdevumi | F37: 17005510 | G37: =G38 -> 656192
B38: Subsīdijas un dotācijas | C38: 5393389 | D38: -656192 | E38: Kārtējie izdevumi | F38: 17005510 | G38: =G39+G40 -> 656192
E39: Atlīdzība | F39: 8897263 | G39: 131465
E40: Preces un pakalpojumi | F40: 8108247 | G40: 524727
E41: Kapitālie izdevumi | F41: 1716498
E42: Pamatkapitāla veidošana | F42: 1716498
B43: 74. Gadskārtējā valsts budžeta izpildes procesā pārdalāmais finansējums | E43: 14. Iekšlietu ministrija
B44: 3.pielikums | E44: 3.pielikums
B45: I. Valsts pamatfunkciju īstenošana | E45: I. Valsts pamatfunkciju īstenošana
B46: 2026.gads | E46: 2026.gads
B47: Resursi izdevumu segšanai | C47: 395268323 | D47: -656192 | E47: Resursi izdevumu segšanai | F47: 609936464 | G47: =G48+G49 -> 656192
B48: Dotācija no vispārējiem ieņēmumiem | C48: 395268323 | D48: -656192 | E48: Ieņēmumi no maksas pakalpojumiem un citi pašu ieņēmumi – kopā | F48: 4916287
B49: Vispārējā kārtībā sadalāmā dotācija no vispārējiem ieņēmumiem | C49: 395268323 | D49: -656192 | E49: Dotācija no vispārējiem ieņēmumiem | F49: 605020177 | G49: =G50 -> 656192
B50: Izdevumi – kopā | C50: 395268323 | D50: -656192 | E50: Vispārējā kārtībā sadalāmā dotācija no vispārējiem ieņēmumiem | F50: 605020177 | G50: 656192
B51: Uzturēšanas izdevumi | C51: 395268323 | D51: -656192 | E51: Izdevumi – kopā | F51: 609936464 | G51: =G52+G68 -> 656192
B52: Subsīdijas, dotācijas, sociālie maksājumi un kompensācijas | C52: 395268323 | D52: -656192 | E52: Uzturēšanas izdevumi | F52: 597810903 | G52: =G53+G56+G59+G61 -> 656192
B53: Subsīdijas un dotācijas | C53: 395268323 | D53: -656192 | E53: Kārtējie izdevumi | F53: 567144845 | G53: =G54+G55 -> 656192
E54: Atlīdzība | F54: 424999361 | G54: 131465
E55: Preces un pakalpojumi | F55: 142145484 | G55: 524727
E56: Subsīdijas, dotācijas, sociālie maksājumi un kompensācijas | F56: 25015619 | G56: =G57+G58 -> 0
E57: Subsīdijas un dotācijas | F57: 24754907
E58: Sociāla rakstura maksājumi un kompensācijas | F58: 260712
E59: Kārtējie maksājumi Eiropas Savienības budžetā un starptautiskā sadarbība | F59: 171693 | G59: =G60 -> 0
E60: Starptautiskā sadarbība | F60: 171693
E61: Transferti viena budžeta veida ietvaros un uzturēšanas izdevumu transferti starp budžeta veidiem | F61: 5478746 | G61: =G62+G66 -> 0
E62: Valsts budžeta transferti un uzturēšanas izdevumu transferti | F62: 1750116 | G62: =G63+G64 -> 0
E63: Valsts budžeta uzturēšanas izdevumu transferti no valsts pamatbudžeta uz valsts speciālo budžetu | F63: 7776
E64: Valsts budžeta transferti no valsts pamatbudžeta uz valsts pamatbudžetu | F64: 1742340 | G64: =G65 -> 0
E65: Valsts budžeta transferti no valsts pamatbudžeta dotācijas no vispārējiem ieņēmumiem uz valsts pamatbudžetu | F65: 1742340
E66: Pārējie valsts budžeta uzturēšanas izdevumu transferti citiem budžetiem | F66: 3728630 | G66: =G67 -> 0
E67: Pārējie valsts budžeta uzturēšanas izdevumu transferti valsts budžeta daļēji finansētām atvasinātām publiskām personām un budžeta nefinansētām iestādēm | F67: 3728630
E68: Kapitālie izdevumi | F68: 12125561 | G68: =G69 -> 0
E69: Pamatkapitāla veidošana | F69: 12125561
B70: 2027.gads | E70: 2027.gads
B71: Resursi izdevumu segšanai | C71: 402328927 | D71: -656192 | E71: Resursi izdevumu segšanai | F71: 583325288 | G71: =G72+G73 -> 656192
B72: Dotācija no vispārējiem ieņēmumiem | C72: 402328927 | D72: -656192 | E72: Ieņēmumi no maksas pakalpojumiem un citi pašu ieņēmumi – kopā | F72: 4916287
B73: Vispārējā kārtībā sadalāmā dotācija no vispārējiem ieņēmumiem | C73: 402328927 | D73: -656192 | E73: Dotācija no vispārējiem ieņēmumiem | F73: 578409001 | G73: =G74 -> 656192
B74: Izdevumi – kopā | C74: 402328927 | D74: -656192 | E74: Vispārējā kārtībā sadalāmā dotācija no vispārējiem ieņēmumiem | F74: 578409001 | G74: 656192
B75: Uzturēšanas izdevumi | C75: 402328927 | D75: -656192 | E75: Izdevumi – kopā | F75: 583325288 | G75: =G76+G92 -> 656192
B76: Subsīdijas, dotācijas, sociālie maksājumi un kompensācijas | C76: 402328927 | D76: -656192 | E76: Uzturēšanas izdevumi | F76: 573322666 | G76: =G77+G80+G83+G85 -> 656192
B77: Subsīdijas un dotācijas | C77: 402328927 | D77: -656192 | E77: Kārtējie izdevumi | F77: 566686189 | G77: =G78+G79 -> 656192
E78: Atlīdzība | F78: 423924776 | G78: 131465
E79: Preces un pakalpojumi | F79: 142761413 | G79: 524727
E80: Subsīdijas, dotācijas, sociālie maksājumi un kompensācijas | F80: 1986038 | G80: =G81+G82 -> 0
E81: Subsīdijas un dotācijas | F81: 1725326
E82: Sociāla rakstura maksājumi un kompensācijas | F82: 260712
E83: Kārtējie maksājumi Eiropas Savienības budžetā un starptautiskā sadarbība | F83: 171693 | G83: =G84 -> 0
E84: Starptautiskā sadarbība | F84: 171693
E85: Transferti viena budžeta veida ietvaros un uzturēšanas izdevumu transferti starp budžeta veidiem | F85: 4478746 | G85: =G86+G90 -> 0
E86: Valsts budžeta transferti un uzturēšanas izdevumu transferti | F86: 750116 | G86: =G87+G88 -> 0
E87: Valsts budžeta uzturēšanas izdevumu transferti no valsts pamatbudžeta uz valsts speciālo budžetu | F87: 7776
E88: Valsts budžeta transferti no valsts pamatbudžeta uz valsts pamatbudžetu | F88: 742340 | G88: =G89 -> 0
E89: Valsts budžeta transferti no valsts pamatbudžeta dotācijas no vispārējiem ieņēmumiem uz valsts pamatbudžetu | F89: 742340
E90: Pārējie valsts budžeta uzturēšanas izdevumu transferti citiem budžetiem | F90: 3728630 | G90: =G91 -> 0
E91: Pārējie valsts budžeta uzturēšanas izdevumu transferti valsts budžeta daļēji finansētām atvasinātām publiskām personām un budžeta nefinansētām iestādēm | F91: 3728630
E92: Kapitālie izdevumi | F92: 10002622 | G92: =G93 -> 0
E93: Pamatkapitāla veidošana | F93: 10002622
B94: Veikta finansējuma pārdale no 74. resora "Gadskārtējā valsts budžeta izpildes procesā pārdalāmais finansējums" budžeta programmas 01.00.00 "Apropriācijas rezerve" uz budžeta apakšprogrammu 02.03.00 "Vienotās sakaru un informācijas sistēmas uzturēšana un vadība" 2025. gadā un turpmāk ik gadu 656 192 euro, lai nodrošinātu Eiropas Reģionālās attīstības fonda projekta “Vienota kontaktu centra platforma operatīvo dienestu darba atbalstam un publisko pakalpojumu piegādei” (gala maksājums veikts 2023. gada 28. decembrī) ietvaros izveidotās Vienota kontaktu centra platformas un Eiropas Reģionālās attīstības fonda projekta “Jaunās paaudzes Integrētā iekšlietu informācijas sistēma (IIIS2)” (gala maksājums veikts 2023. gada 28. decembrī) ietvaros izveidotās Integrētās iekšlietu informācijas sistēmas (IIIS 2) uzturēšanu. Pēc projektu ieviešanas un gala atzinuma saņemšanas par projekta mērķu sasniegšanu, uzturēšanas izdevumu aprēķins tika saskaņots ar Viedās administrācijas un reģionālās attīstības ministriju (2024.gada 2.maija vēstule Nr.11-1/2734 un 2024.gada 20.maija vēstule Nr.11-1/318)
A96: =A29+1 -> 17 | B96: 74. Gadskārtējā valsts budžeta izpildes procesā pārdalāmais finansējums | E96: 14. Iekšlietu ministrija | H96: Atbalstīt
B97: 4.pielikums | E97: 4.pielikums
B98: 18.00.00 "Finansējums valsts drošības stiprināšanas pasākumiem" | E98: 02.03.00 "Vienotās sakaru un informācijas sistēmas uzturēšana un vadība"
B99: Resursi izdevumu segšanai | C99: 389536526 | D99: =D100 -> -1585464 | E99: Resursi izdevumu segšanai | F99: 18722008 | G99: =G100+G101 -> 102792
B100: Dotācija no vispārējiem ieņēmumiem | C100: 389536526 | D100: =D101 -> -1585464 | E100: Ieņēmumi no maksas pakalpojumiem un citi pašu ieņēmumi – kopā | F100: 728818
B101: Vispārējā kārtībā sadalāmā dotācija no vispārējiem ieņēmumiem | C101: 389536526 | D101: -1585464 | E101: Dotācija no vispārējiem ieņēmumiem | F101: 17993190 | G101: =G102 -> 102792
B102: Izdevumi – kopā | C102: 389536526 | D102: =D103 -> -1585464 | E102: Vispārējā kārtībā sadalāmā dotācija no vispārējiem ieņēmumiem | F102: 17993190 | G102: 102792
B103: Uzturēšanas izdevumi | C103: 389536526 | D103: =D104 -> -1585464 | E103: Izdevumi – kopā | F103: 18722008 | G103: =G104+G108 -> 102792
B104: Subsīdijas, dotācijas, sociālie maksājumi un kompensācijas | C104: 389536526 | D104: =D105 -> -1585464 | E104: Uzturēšanas izdevumi | F104: 17005510 | G104: =G105 -> 65194
...

Sheet IZM
C1: Pieņemts pirmajā lasījumā | D1: Priekšlikums par izmaiņām | F1: Pieņemts pirmajā lasījumā | G1: Priekšlikums par izmaiņām | H1: Priekšlikums MK atzinumam
B3: 15. Izglītības un zinātnes ministrija
A5: =IeM!A1443+1 -> 41 | B5: 62. Mērķdotācijas pašvaldībām | E5: 15. Izglītības un zinātnes ministrija | H5: Atbalstīt
B6: 4.pielikums | E6: 4.pielikums
B7: 01.00.00 Mērķdotācijas izglītības pasākumiem | E7: 01.05.00 Dotācija privātajām mācību iestādēm
B8: Resursi izdevumu segšanai | C8: =+C9 -> 71771693 | D8: =+D9 -> -5325 | E8: Resursi izdevumu segšanai | F8: =+F9 -> 22738374 | G8: =+G9 -> 5325
B9: Dotācija no vispārējiem ieņēmumiem | C9: =+C10 -> 71771693 | D9: =+D10 -> -5325 | E9: Dotācija no vispārējiem ieņēmumiem | F9: =+F10 -> 22738374 | G9: =+G10 -> 5325
B10: Vispārējā kārtībā sadalāmā dotācija no vispārējiem ieņēmumiem | C10: =+C11 -> 71771693 | D10: =+D11 -> -5325 | E10: Vispārējā kārtībā sadalāmā dotācija no vispārējiem ieņēmumiem | F10: 22738374 | G10: =+G11 -> 5325
B11: Izdevumi – kopā | C11: =+C12 -> 71771693 | D11: =+D12 -> -5325 | E11: Izdevumi – kopā | F11: 22738374 | G11: =+G12 -> 5325
B12: Uzturēšanas izdevumi | C12: =+C13 -> 71771693 | D12: =+D13 -> -5325 | E12: Uzturēšanas izdevumi | F12: 22738374 | G12: =G13 -> 5325
B13: Transferti viena budžeta veida ietvaros un uzturēšanas izdevumu transferti starp budžeta veidiem | C13: =+C14 -> 71771693 | D13: =+D14 -> -5325 | E13: Subsīdijas, dotācijas, sociālie maksājumi un kompensācijas | F13: =+F14 -> 22525372 | G13: =+G14 -> 5325
B14: Pārējie valsts budžeta uzturēšanas izdevumu transferti citiem budžetiem | C14: =+C15 -> 71771693 | D14: =+D15 -> -5325 | E14: Subsīdijas un dotācijas | F14: 22525372 | G14: 5325
B15: Pārējie valsts budžeta uzturēšanas izdevumu transferti pašvaldībām | C15: 71771693 | D15: -5325
B16: 62. Mērķdotācijas pašvaldībām | E16: 15. Izglītības un zinātnes ministrija
B17: 3.pielikums | E17: 3.pielikums
B18: I. Valsts pamatfunkciju īstenošana | E18: I. Valsts pamatfunkciju īstenošana
B19: 2026. gads | E19: 2026. gads
B20: Resursi izdevumu segšanai | C20: 622979045 | D20: -3107 | E20: Resursi izdevumu segšanai | F20: 464035163 | G20: 3107
B21: Dotācija no vispārējiem ieņēmumiem | C21: 622979045 | D21: =+D22 -> -3107 | E21: Dotācija no vispārējiem ieņēmumiem | F21: 456746470 | G21: =+G22 -> 3107
B22: Vispārējā kārtībā sadalāmā dotācija no vispārējiem ieņēmumiem | C22: 622979045 | D22: -3107 | E22: Vispārējā kārtībā sadalāmā dotācija no vispārējiem ieņēmumiem | F22: 456746470 | G22: 3107
B23: Izdevumi – kopā | C23: 622979045 | D23: -3107 | E23: Izdevumi – kopā | F23: 463418433 | G23: 3107
B24: Uzturēšanas izdevumi | C24: 622979045 | D24: =+D25 -> -3107 | E24: Uzturēšanas izdevumi | F24: 455118186 | G24: =G25 -> 3107
B25: Transferti viena budžeta veida ietvaros un uzturēšanas izdevumu transferti starp budžeta veidiem | C25: 622979045 | D25: =+D26 -> -3107 | E25: Subsīdijas, dotācijas, sociālie maksājumi un kompensācijas | F25: 67332473 | G25: =+G26 -> 3107
B26: Pārējie valsts budžeta uzturēšanas izdevumu transferti citiem budžetiem | C26: 622979045 | D26: =+D27 -> -3107 | E26: Subsīdijas un dotācijas | F26: 57565411 | G26: 3107
B27: Pārējie valsts budžeta uzturēšanas izdevumu transferti pašvaldībām | C27: 622979045 | D27: -3107
B28: Lai nodrošinātu pedagogu darba samaksu 2025. gadā un turpmāk, ņemot vērā izglītojamo skaita un struktūras uz 2024. gada 1. septembri izmaiņu ietekmi (neieskaitot Ukrainas civiliedzīvotājus) (MK 01.10.2024. prot. Nr. 40, 30. §, 3.1.1. apakšpunkts), veikta finansējuma pārdale no 62. resora programmas 01.00.00. "Mērķdotācijas izglītības pasākumiem" prioritārā pasākuma "Lai īstenotu secīgu pāreju uz mācībām valsts valodā" uz 15. resora apakšprogrammu 01.05.00. "Dotācija privātajām mācību iestādēm": 2025. gadā 5 325 euro apmērā, 2026. gadā 3 107 euro apmērā.
A30: =A5+1 -> 42 | B30: 62. Mērķdotācijas pašvaldībām | E30: 15. Izglītības un zinātnes ministrija | H30: Atbalstīt
B31: 4.pielikums | E31: 4.pielikums
B32: 05.00.00 Mērķdotācijas pašvaldībām - pašvaldību izglītības iestāžu pedagogu darba samaksai un valsts sociālās apdrošināšanas obligātajām iemaksām | E32: 01.05.00 Dotācija privātajām mācību iestādēm
B33: Resursi izdevumu segšanai | C33: =+C34 -> 475387539 | D33: =+D34 -> -3190451 | E33: Resursi izdevumu segšanai | F33: =+F34 -> 22738374 | G33: =+G34 -> 3190451
B34: Dotācija no vispārējiem ieņēmumiem | C34: =+C35 -> 475387539 | D34: =+D35 -> -3190451 | E34: Dotācija no vispārējiem ieņēmumiem | F34: =+F35 -> 22738374 | G34: =+G35 -> 3190451
B35: Vispārējā kārtībā sadalāmā dotācija no vispārējiem ieņēmumiem | C35: =+C36 -> 475387539 | D35: =+D36 -> -3190451 | E35: Vispārējā kārtībā sadalāmā dotācija no vispārējiem ieņēmumiem | F35: 22738374 | G35: =+G36 -> 3190451
B36: Izdevumi – kopā | C36: =+C37 -> 475387539 | D36: =+D37 -> -3190451 | E36: Izdevumi – kopā | F36: 22738374 | G36: =+G37 -> 3190451
B37: Uzturēšanas izdevumi | C37: =+C38 -> 475387539 | D37: =+D38 -> -3190451 | E37: Uzturēšanas izdevumi | F37: 22738374 | G37: =G38 -> 3190451
B38: Transferti viena budžeta veida ietvaros un uzturēšanas izdevumu transferti starp budžeta veidiem | C38: =+C39 -> 475387539 | D38: =+D39 -> -3190451 | E38: Subsīdijas, dotācijas, sociālie maksājumi un kompensācijas | F38: =+F39 -> 22525372 | G38: =+G39 -> 3190451
B39: Pārējie valsts budžeta uzturēšanas izdevumu transferti citiem budžetiem | C39: =+C40 -> 475387539 | D39: =+D40 -> -3190451 | E39: Subsīdijas un dotācijas | F39: 22525372 | G39: 3190451
B40: Pārējie valsts budžeta uzturēšanas izdevumu transferti pašvaldībām | C40: 475387539 | D40: -3190451
B41: 62. Mērķdotācijas pašvaldībām | E41: 15. Izglītības un zinātnes ministrija
B42: 3.pielikums | E42: 3.pielikums
B43: I. Valsts pamatfunkciju īstenošana | E43: I. Valsts pamatfunkciju īstenošana
B44: 2026. gads | E44: 2026. gads
B45: Resursi izdevumu segšanai | C45: =C46 -> 622979045 | D45: =D46 -> -2972244 | E45: Resursi izdevumu segšanai | F45: 464035163 | G45: =G46 -> 2972244
B46: Dotācija no vispārējiem ieņēmumiem | C46: =+C47 -> 622979045 | D46: =+D47 -> -2972244 | E46: Dotācija no vispārējiem ieņēmumiem | F46: 456746470 | G46: =+G47 -> 2972244
B47: Vispārējā kārtībā sadalāmā dotācija no vispārējiem ieņēmumiem | C47: 622979045 | D47: =D48 -> -2972244 | E47: Vispārējā kārtībā sadalāmā dotācija no vispārējiem ieņēmumiem | F47: 456746470 | G47: =G48 -> 2972244
B48: Izdevumi – kopā | C48: =C49 -> 622979045 | D48: =D49 -> -2972244 | E48: Izdevumi – kopā | F48: 463418433 | G48: =G49 -> 2972244
B49: Uzturēšanas izdevumi | C49: =+C50 -> 622979045 | D49: =+D50 -> -2972244 | E49: Uzturēšanas izdevumi | F49: 455118186 | G49: =G50 -> 2972244
B50: Transferti viena budžeta veida ietvaros un uzturēšanas izdevumu transferti starp budžeta veidiem | C50: =+C51 -> 622979045 | D50: =+D51 -> -2972244 | E50: Subsīdijas, dotācijas, sociālie maksājumi un kompensācijas | F50: 67332473 | G50: =+G51 -> 2972244
B51: Pārējie valsts budžeta uzturēšanas izdevumu transferti citiem budžetiem | C51: =+C52 -> 622979045 | D51: =+D52 -> -2972244 | E51: Subsīdijas un dotācijas | F51: 57565411 | G51: 2972244
B52: Pārējie valsts budžeta uzturēšanas izdevumu transferti pašvaldībām | C52: 622979045 | D52: -2972244
B53: 2027. gads | E53: 2027. gads
B54: Resursi izdevumu segšanai | C54: =C55 -> 622100060 | D54: =D55 -> -2975351 | E54: Resursi izdevumu segšanai | F54: 459430820 | G54: =G55 -> 2975351
B55: Dotācija no vispārējiem ieņēmumiem | C55: =+C56 -> 622100060 | D55: =+D56 -> -2975351 | E55: Dotācija no vispārējiem ieņēmumiem | F55: =F56 -> 452142127 | G55: =+G56 -> 2975351
B56: Vispārējā kārtībā sadalāmā dotācija no vispārējiem ieņēmumiem | C56: 622100060 | D56: =D57 -> -2975351 | E56: Vispārējā kārtībā sadalāmā dotācija no vispārējiem ieņēmumiem | F56: 452142127 | G56: =G57 -> 2975351
B57: Izdevumi – kopā | C57: =C58 -> 622100060 | D57: =D58 -> -2975351 | E57: Izdevumi – kopā | F57: 458814090 | G57: =G58 -> 2975351
B58: Uzturēšanas izdevumi | C58: =+C59 -> 622100060 | D58: =+D59 -> -2975351 | E58: Uzturēšanas izdevumi | F58: 452208902 | G58: =G59 -> 2975351
B59: Transferti viena budžeta veida ietvaros un uzturēšanas izdevumu transferti starp budžeta veidiem | C59: =+C60 -> 622100060 | D59: =+D60 -> -2975351 | E59: Subsīdijas, dotācijas, sociālie maksājumi un kompensācijas | F59: 67268496 | G59: =+G60 -> 2975351
B60: Pārējie valsts budžeta uzturēšanas izdevumu transferti citiem budžetiem | C60: =+C61 -> 622100060 | D60: =+D61 -> -2975351 | E60: Subsīdijas un dotācijas | F60: 57501434 | G60: 2975351
B61: Pārējie valsts budžeta uzturēšanas izdevumu transferti pašvaldībām | C61: 622100060 | D61: -2975351
B62: Lai nodrošinātu pedagogu darba samaksu 2025. gadā un turpmāk, ņemot vērā izglītojamo skaita un struktūras uz 2024. gada 1. septembri izmaiņu ietekmi (neieskaitot Ukrainas civiliedzīvotājus) (MK 01.10.2024. prot. Nr. 40, 30. §, 3.1.2. apakšpunkts), veikta finansējuma pārdale no 62. resora programmas 05.00.00. "Mērķdotācijas pašvaldībām - pašvaldību izglītības iestāžu pedagogu darba samaksai un valsts sociālās apdrošināšanas obligātajām iemaksām" uz 15. resora apakšprogrammu 01.05.00. "Dotācija privātajām mācību iestādēm": 2025. gadā 3 190 451 euro apmērā no 62. resora programmas 05.00.00. "Mērķdotācijas pašvaldībām - pašvaldību izglītības iestāžu pedagogu darba samaksai un valsts sociālās apdrošināšanas obligātajām iemaksām" (tai skaitā prioritārā pasākuma "Lai īstenotu secīgu pāreju uz mācībām valsts valodā'' 2025. gadā 1 805 064 euro un prioritārā pasākuma "STEM piedāvājuma nostiprināšana Valsts nozīmes interešu izglītības centros'' 2025. gadā 262 783 euro). 2026. gadā 2 972 244 euro apmērā no 62. resora programmas 05.00.00. "Mērķdotācijas pašvaldībām - pašvaldību izglītības iestāžu pedagogu darba samaksai un valsts sociālās apdrošināšanas obligātajām iemaksām" (tai skaitā prioritārā pasākuma "Lai īstenotu secīgu pāreju uz mācībām valsts valodā'' 2026. gadā 2 807 496 euro). 2027. gadā un turpmāk 2 975 351 euro apmērā no 62. resora programmas 05.00.00. "Mērķdotācijas pašvaldībām - pašvaldību izglītības iestāžu pedagogu darba samaksai un valsts sociālās apdrošināšanas obligātajām iemaksām" (tai skaitā prioritārā pasākuma "Lai īstenotu secīgu pāreju uz mācībām valsts valodā'' 2027. gadā 2 810 603 euro).
A64: =A30+1 -> 43 | B64: 62. Mērķdotācijas pašvaldībām | E64: 15. Izglītības un zinātnes ministrija | H64: Atbalstīt
B65: 4.pielikums | E65: 4.pielikums
B66: 10.00.00 Mērķdotācijas pašvaldībām - pašvaldību izglītības iestādēs bērnu no piecu gadu vecuma izglītošanā nodarbināto pedagogu darba samaksai un valsts sociālās apdrošināšanas obligātajām iemaksām | E66: 01.05.00 Dotācija privātajām mācību iestādēm
B67: Resursi izdevumu segšanai | C67: =+C68 -> 74325697 | D67: =+D68 -> -2434717 | E67: Resursi izdevumu segšanai | F67: =+F68 -> 22738374 | G67: =+G68 -> 2434717
B68: Dotācija no vispārējiem ieņēmumiem | C68: =+C69 -> 74325697 | D68: =+D69 -> -2434717 | E68: Dotācija no vispārējiem ieņēmumiem | F68: =+F69 -> 22738374 | G68: =+G69 -> 2434717
B69: Vispārējā kārtībā sadalāmā dotācija no vispārējiem ieņēmumiem | C69: =+C70 -> 74325697 | D69: =+D70 -> -2434717 | E69: Vispārējā kārtībā sadalāmā dotācija no vispārējiem ieņēmumiem | F69: 22738374 | G69: =+G70 -> 2434717
B70: Izdevumi – kopā | C70: =+C71 -> 74325697 | D70: =+D71 -> -2434717 | E70: Izdevumi – kopā | F70: 22738374 | G70: =+G71 -> 2434717
B71: Uzturēšanas izdevumi | C71: =+C72 -> 74325697 | D71: =+D72 -> -2434717 | E71: Uzturēšanas izdevumi | F71: 22738374 | G71: =G72 -> 2434717
B72: Transferti viena budžeta veida ietvaros un uzturēšanas izdevumu transferti starp budžeta veidiem | C72: =+C73 -> 74325697 | D72: =+D73 -> -2434717 | E72: Subsīdijas, dotācijas, sociālie maksājumi un kompensācijas | F72: =+F73 -> 22525372 | G72: =+G73 -> 2434717
B73: Pārējie valsts budžeta uzturēšanas izdevumu transferti citiem budžetiem | C73: =+C74 -> 74325697 | D73: =+D74 -> -2434717 | E73: Subsīdijas un dotācijas | F73: 22525372 | G73: 2434717
B74: Pārējie valsts budžeta uzturēšanas izdevumu transferti pašvaldībām | C74: 74325697 | D74: -2434717
B75: 62. Mērķdotācijas pašvaldībām | E75: 15. Izglītības un zinātnes ministrija
B76: 3.pielikums | E76: 3.pielikums
B77: I. Valsts pamatfunkciju īstenošana | E77: I. Valsts pamatfunkciju īstenošana
B78: 2026. gads | E78: 2026. gads
B79: Resursi izdevumu segšanai | C79: 622979045 | D79: =D80 -> -2659910 | E79: Resursi izdevumu segšanai | F79: 464035163 | G79: =G80 -> 2659910
B80: Dotācija no vispārējiem ieņēmumiem | C80: 622979045 | D80: =+D81 -> -2659910 | E80: Dotācija no vispārējiem ieņēmumiem | F80: 456746470 | G80: =+G81 -> 2659910
B81: Vispārējā kārtībā sadalāmā dotācija no vispārējiem ieņēmumiem | C81: 622979045 | D81: =D82 -> -2659910 | E81: Vispārējā kārtībā sadalāmā dotācija no vispārējiem ieņēmumiem | F81: 456746470 | G81: =G82 -> 2659910
B82: Izdevumi – kopā | C82: 622979045 | D82: =D83 -> -2659910 | E82: Izdevumi – kopā | F82: 463418433 | G82: =G83 -> 2659910
B83: Uzturēšanas izdevumi | C83: 622979045 | D83: =+D84 -> -2659910 | E83: Uzturēšanas izdevumi | F83: 455118186 | G83: =G84 -> 2659910
B84: Transferti viena budžeta veida ietvaros un uzturēšanas izdevumu transferti starp budžeta veidiem | C84: 622979045 | D84: =+D85 -> -2659910 | E84: Subsīdijas, dotācijas, sociālie maksājumi un kompensācijas | F84: 67332473 | G84: =+G85 -> 2659910
B85: Pārējie valsts budžeta uzturēšanas izdevumu transferti citiem budžetiem | C85: 622979045 | D85: =+D86 -> -2659910 | E85: Subsīdijas un dotācijas | F85: 57565411 | G85: 2659910
B86: Pārējie valsts budžeta uzturēšanas izdevumu transferti pašvaldībām | C86: 622979045 | D86: -2659910
B87: 2027. gads | E87: 2027. gads
B88: Resursi izdevumu segšanai | C88: 622100060 | D88: =D89 -> -2659910 | E88: Resursi izdevumu segšanai | F88: 459430820 | G88: =G89 -> 2659910
B89: Dotācija no vispārējiem ieņēmumiem | C89: 622100060 | D89: =+D90 -> -2659910 | E89: Dotācija no vispārējiem ieņēmumiem | F89: =F90 -> 452142127 | G89: =+G90 -> 2659910
B90: Vispārējā kārtībā sadalāmā dotācija no vispārējiem ieņēmumiem | C90: 622100060 | D90: =D91 -> -2659910 | E90: Vispārējā kārtībā sadalāmā dotācija no vispārējiem ieņēmumiem | F90: 452142127 | G90: =G91 -> 2659910
B91: Izdevumi – kopā | C91: 622100060 | D91: =D92 -> -2659910 | E91: Izdevumi – kopā | F91: 458814090 | G91: =G92 -> 2659910
B92: Uzturēšanas izdevumi | C92: 622100060 | D92: =+D93 -> -2659910 | E92: Uzturēšanas izdevumi | F92: 452208902 | G92: =G93 -> 2659910
B93: Transferti viena budžeta veida ietvaros un uzturēšanas izdevumu transferti starp budžeta veidiem | C93: 622100060 | D93: =+D94 -> -2659910 | E93: Subsīdijas, dotācijas, sociālie maksājumi un kompensācijas | F93: 67268496 | G93: =+G94 -> 2659910
B94: Pārējie valsts budžeta uzturēšanas izdevumu transferti citiem budžetiem | C94: 622100060 | D94: =+D95 -> -2659910 | E94: Subsīdijas un dotācijas | F94: 57501434 | G94: =2659910 -> 2659910
B95: Pārējie valsts budžeta uzturēšanas izdevumu transferti pašvaldībām | C95: 622100060 | D95: =-2659910 -> -2659910
B96: Lai nodrošinātu pedagogu darba samaksu 2025. gadā un turpmāk, ņemot vērā izglītojamo skaita un struktūras uz 2024. gada 1. septembri izmaiņu ietekmi (neieskaitot Ukrainas civiliedzīvotājus) (MK 01.10.2024. prot. Nr. 40, 30. §, 3.1.3. apakšpunkts), veikta finansējuma pārdale no 62. resora programmas 10.00.00 "Mērķdotācijas pašvaldībām – pašvaldību izglītības iestādēs bērnu no piecu gadu vecuma izglītošanā nodarbināto pedagogu darba samaksai un valsts sociālās apdrošināšanas obligātajām iemaksām" uz 15. resora apakšprogrammu 01.05.00. "Dotācija privātajām mācību iestādēm": 2025. gadā 2 434 717 euro apmērā, 2026. gadā 2 659 910 euro apmērā, 2027. gadā un turpmāk 2 659 910 euro apmērā.
A98: =A64+1 -> 44 | B98: 62. Mērķdotācijas pašvaldībām | E98: 15. Izglītības un zinātnes ministrija | H98: Atbalstīt
B99: 4.pielikums | E99: 4.pielikums
B100: 10.00.00 Mērķdotācijas pašvaldībām - pašvaldību izglītības iestādēs bērnu no piecu gadu vecuma izglītošanā nodarbināto pedagogu darba samaksai un valsts sociālās apdrošināšanas obligātajām iemaksām | E100: 01.08.00 Vispārējās izglītības atbalsta pasākumi
B101: Resursi izdevumu segšanai | C101: =+C102 -> 74325697 | D101: =+D102 -> -43383 | E101: Resursi izdevumu segšanai | F101: =+F102 -> 600546 | G101: =+G102 -> 43383
B102: Dotācija no vispārējiem ieņēmumiem | C102: =+C103 -> 74325697 | D102: =+D103 -> -43383 | E102: Dotācija no vispārējiem ieņēmumiem | F102: =+F103 -> 600546 | G102: =+G103 -> 43383
B103: Vispārējā kārtībā sadalāmā dotācija no vispārējiem ieņēmumiem | C103: =+C104 -> 74325697 | D103: =+D104 -> -43383 | E103: Vispārējā kārtībā sadalāmā dotācija no vispārējiem ieņēmumiem | F103: 600546 | G103: =+G104 -> 43383
B104: Izdevumi – kopā | C104: =+C105 -> 74325697 | D104: =+D105 -> -43383 | E104: Izdevumi – kopā | F104: 600546 | G104: =+G105 -> 43383
B105: Uzturēšanas izdevumi | C105: =+C106 -> 74325697 | D105: =+D106 -> -43383 | E105: Uzturēšanas izdevumi | F105: 600546 | G105: =+G106 -> 43383
...

Sheet SM
C1: Pieņemts pirmajā lasījumā | D1: Priekšlikums par izmaiņām | F1: Pieņemts pirmajā lasījumā | G1: Priekšlikums par izmaiņām | H1: Priekšlikums MK atzinumam
B3: 17. Satiksmes ministrija
A5: =IZM!A216+1 -> 49 | B5: 17. Satiksmes ministrija | E5: 17. Satiksmes ministrija | H5: Atbalstīt
B6: 4.pielikums | E6: 4.pielikums
B7: 2025. gads | E7: 2025. gads
B8: 23.06.00 Valsts autoceļu uzturēšana un atjaunošana | E8: 23.04.00 Mērķdotācijas pašvaldību autoceļiem (ielām)
B9: Resursi izdevumu segšanai | C9: =SUM(C10,C11) -> 231736009 | D9: -1608803 | E9: Resursi izdevumu segšanai | F9: =SUM(F11) -> 58535424 | G9: 1608803
B10: Ieņēmumi no maksas pakalpojumiem un citi pašu ieņēmumi | C10: 142287 | E10: Dotācija no vispārējiem ieņēmumiem | F10: =SUM(F11) -> 58535424 | G10: 1608803
B11: Dotācija no vispārējiem ieņēmumiem | C11: =SUM(C12) -> 231593722 | D11: -1608803 | E11: Vispārējā kārtībā sadalāmā dotācija no vispārējiem ieņēmumiem | F11: 58535424 | G11: 1608803
B12: Vispārējā kārtībā sadalāmā dotācija no vispārējiem ieņēmumiem | C12: 231593722 | D12: -1608803 | E12: Izdevumi – kopā | F12: =SUM(F13,F17) -> 58535424 | G12: 1608803
B13: Izdevumi – kopā | C13: =SUM(C14,C17) -> 231736009 | D13: -1608803 | E13: Uzturēšanas izdevumi | F13: =SUM(F14) -> 42763976 | G13: 1202590
B14: Uzturēšanas izdevumi | C14: =SUM(C15) -> 70185324 | D14: -101152 | E14: Transferti viena budžeta veida ietvaros un uzturēšanas izdevumu transferti starp budžeta veidiem | F14: =SUM(F15) -> 42763976 | G14: 1202590
B15: Kārtējie izdevumi | C15: =SUM(C16) -> 70185324 | D15: -101152 | E15: Pārējie valsts budžeta uzturēšanas izdevumu transferti citiem budžetiem | F15: =SUM(F16) -> 42763976 | G15: 1202590
B16: Preces un pakalpojumi | C16: 70185324 | D16: -101152 | E16: Pārējie valsts budžeta uzturēšanas izdevumu transferti pašvaldībām | F16: 42763976 | G16: 1202590
B17: Kapitālie izdevumi | C17: =SUM(C18,C19) -> 161550685 | D17: -1507651 | E17: Kapitālie izdevumi | F17: =SUM(F18) -> 15771448 | G17: 406213
B18: Pamatkapitāla veidošana | C18: 152400685 | E18: Kapitālo izdevumu transferti | F18: =SUM(F19) -> 15771448 | G18: 406213
B19: Kapitālo izdevumu transferti | C19: =SUM(C20) -> 9150000 | D19: -1507651 | E19: Pārējie valsts budžeta kapitālo izdevumu transferti citiem budžetiem | F19: =SUM(F20) -> 15771448 | G19: 406213
B20: Pārējie valsts budžeta kapitālo izdevumu transferti citiem budžetiem | C20: =SUM(C21) -> 9150000 | D20: -1507651 | E20: Pārējie valsts budžeta kapitālo izdevumu transferti pašvaldībām | F20: 15771448 | G20: 406213
B21: Pārējie valsts budžeta kapitālo izdevumu transferti pašvaldībām | C21: 9150000 | D21: -1507651
B22: 17 Satiksmes ministrija
B23: 3.pielikums
B24: I. Valsts pamatfunkciju īstenošana
B25: 2026. gads
B26: Resursi izdevumu segšanai | C26: =SUM(C27,C28,C33) -> 489721886
B27: Ieņēmumi no maksas pakalpojumiem un citi pašu ieņēmumi | C27: 1052287
B28: Trnasferti | C28: =SUM(C29) -> 1464222
B29: Valsts budžeta transferti | C29: =SUM(C30) -> 1464222
B30: Valsts pamatbudžeta savstarpējie transferti | C30: =SUM(C31) -> 1464222
B31: Valsts pamatbudžeta iestāžu saņemtie transferti no valsts pamatbudžeta | C31: =SUM(C32) -> 1464222
B32: Valsts pamatbudžeta iestāžu saņemtie transferti no valsts pamatbudžeta dotācijas no vispārējiem ieņēmumiem | C32: 1464222
B33: Dotācija no vispārējiem ieņēmumiem | C33: =SUM(C34) -> 487205377
B34: Vispārējā kārtībā sadalāmā dotācija no vispārējiem ieņēmumiem | C34: 487205377
B35: Izdevumi - kopā | C35: =SUM(C36,C50) -> 490212028 | D35: 0
B36: Uzturēšanas izdevumi | C36: =SUM(C37,C40,C42,C44) -> 310013042 | D36: 1101438
B37: Kārtējie izdevumi | C37: =SUM(C38,C39) -> 83589894 | D37: -101152
B38: Atlīdzība | C38: 6889633
B39: Preces un pakalpojumi | C39: 76700261 | D39: -101152
B40: Subsīdijas, dotācijas un sociālie pabalsti | C40: =SUM(C41) -> 168345924
B41: Subsīdijas un dotācijas | C41: 168345924
B42: Kārtējie maksājumi Eiropas Savienības budžetā un starptautiskā sadarbība | C42: =SUM(C43) -> 345878
B43: Starptautiskā sadarbība | C43: 345878
B44: Transferti viena budžeta veida ietvaros un uzturēšanas izdevumu transferti starp budžeta veidiem | C44: =SUM(C45,C47) -> 57731346 | D44: 1202590
B45: Valsts budžeta transferti un uzturēšanas izdevumu transferti | C45: =SUM(C46) -> 2592
B46: Valsts budžeta uzturēšanas izdevumu transferti no valsts pamatbudžeta uz valsts speciālo budžetu | C46: 2592
B47: Pārējie valsts budžeta uzturēšanas izdevumu transferti citiem budžetiem | C47: =SUM(C48:C49) -> 57728754 | D47: 1202590
B48: Pārējie valsts budžeta uzturēšanas izdevumu transferti pašvaldībām | C48: 57464154 | D48: 1202590
B49: Pārējie valsts budžeta uzturēšanas izdevumu transferti valsts budžeta daļēji finansētām atvasinātajām publiskajām personām un budžeta nefinansētajām iestādēm | C49: 264600
B50: Kapitālie izdevumi | C50: =SUM(C51,C52) -> 180198986 | D50: -1101438
B51: Pamatkapitāla veidošana | C51: 155277538
B52: Kapitālo izdevumu transferti | C52: =SUM(C53) -> 24921448 | D52: -1101438
B53: Pārējie valsts budžeta kapitālo izdevumu transferti citiem budžetiem | C53: =SUM(C54) -> 24921448 | D53: -1101438
B54: Pārējie valsts budžeta kapitālo izdevumu transferti pašvaldībām | C54: 24921448 | D54: -1101438
B55: Finansiālā bilance | C55: =SUM(C26-C35) -> -490142
B56: Finansēšana | C56: =SUM(C57) -> 490142
B57: Naudas līdzekļi | C57: =SUM(C58) -> 490142
B58: Maksas pakalpojumu un citu pašu ieņēmumu naudas līdzekļu atlikumu izmaiņas palielinājums (-) vai samazinājums (+) | C58: 490142
B59: 2027. gads
B60: Resursi izdevumu segšanai | C60: =SUM(C61,C62,C67) -> 488243264
B61: Ieņēmumi no maksas pakalpojumiem un citi pašu ieņēmumi | C61: 1052287
B62: Trnasferti | C62: =SUM(C63) -> 0
B63: Valsts budžeta transferti | C63: =SUM(C64) -> 0
B64: Valsts pamatbudžeta savstarpējie transferti | C64: =SUM(C65) -> 0
B65: Valsts pamatbudžeta iestāžu saņemtie transferti no valsts pamatbudžeta | C65: =SUM(C66) -> 0
B66: Valsts pamatbudžeta iestāžu saņemtie transferti no valsts pamatbudžeta dotācijas no vispārējiem ieņēmumiem
B67: Dotācija no vispārējiem ieņēmumiem | C67: =SUM(C68) -> 487190977
B68: Vispārējā kārtībā sadalāmā dotācija no vispārējiem ieņēmumiem | C68: 487190977
B69: Izdevumi - kopā | C69: =SUM(C70,C84) -> 488243264 | D69: 0
B70: Uzturēšanas izdevumi | C70: =SUM(C71,C74,C76,C78) -> 308058678 | D70: 1101438
B71: Kārtējie izdevumi | C71: =SUM(C72,C73) -> 83118176 | D71: -101152
B72: Atlīdzība | C72: 6889633
B73: Preces un pakalpojumi | C73: 76228543 | D73: -101152
B74: Subsīdijas, dotācijas un sociālie pabalsti | C74: =SUM(C75) -> 166863278
B75: Subsīdijas un dotācijas | C75: 166863278
B76: Kārtējie maksājumi Eiropas Savienības budžetā un starptautiskā sadarbība | C76: =SUM(C77) -> 345878
B77: Starptautiskā sadarbība | C77: 345878
B78: Transferti viena budžeta veida ietvaros un uzturēšanas izdevumu transferti starp budžeta veidiem | C78: =SUM(C79,C81) -> 57731346 | D78: 1202590
B79: Valsts budžeta transferti un uzturēšanas izdevumu transferti | C79: =SUM(C80) -> 2592
B80: Valsts budžeta uzturēšanas izdevumu transferti no valsts pamatbudžeta uz valsts speciālo budžetu | C80: 2592
B81: Pārējie valsts budžeta uzturēšanas izdevumu transferti citiem budžetiem | C81: =SUM(C82:C83) -> 57728754 | D81: 1202590
B82: Pārējie valsts budžeta uzturēšanas izdevumu transferti pašvaldībām | C82: 57464154 | D82: 1202590
B83: Pārējie valsts budžeta uzturēšanas izdevumu transferti valsts budžeta daļēji finansētām atvasinātajām publiskajām personām un budžeta nefinansētajām iestādēm | C83: 264600
B84: Kapitālie izdevumi | C84: =SUM(C85,C86) -> 180184586 | D84: -1101438
B85: Pamatkapitāla veidošana | C85: 155263138
B86: Kapitālo izdevumu transferti | C86: =SUM(C87) -> 24921448 | D86: -1101438
B87: Pārējie valsts budžeta kapitālo izdevumu transferti citiem budžetiem | C87: =SUM(C88) -> 24921448 | D87: -1101438
B88: Pārējie valsts budžeta kapitālo izdevumu transferti pašvaldībām | C88: 24921448 | D88: -1101438
B89: Saskaņā ar Ministru kabineta 2024. gada 8. oktobra protokolu Nr.41 39 § “Par Ministru kabineta un Latvijas Pašvaldību savienības vienošanās un domstarpību protokolu par 2025. gada budžetu un budžeta ietvaru 2025.-2027. gadam” (24-TA-2456) paredzēts, ka valsts budžeta finansējums mērķdotācijai pašvaldību autoceļiem (ielām) 2025. gadā ir 60 043 075 euro, 2026. gadā - 60 043 075 euro un 2027. gadā - 60 043 075 euro apmērā, attiecīgi nepieciešama līdzekļu pārdale 2025. gadā un turpmākajos gados no budžeta apakšprogrammas 23.06.00 "Valsts autoceļu uzturēšana un atjaunošana" 1 507 651 euro apmērā ik gadu uz apakšprogrammu 23.04.00 "Mērķdotācijas pašvaldību autoceļiem (ielām)" 1 507 651 euro apmērā ik gadu. Saskaņā ar Ministru kabineta 2008. gada 11. marta noteikumu Nr. 173 “Valsts pamatbudžeta valsts autoceļu fonda programmai piešķirto līdzekļu izlietošanas kārtība” 9.1 un 9.2 punktā noteikto jānodrošina papildu mērķdotācija maksājumu veikšanai pašvaldībām par 64,841 km valsts vietējo autoceļu pārņemšanu īpašumā, attiecīgi nepieciešama līdzekļu pārdale 2025. gadā un turpmākajos gados no apakšprogrammas 23.06.00 "Valsts autoceļu uzturēšana un atjaunošana" 101 152 euro apmērā ik gadu uz apakšprogrammu 23.04.00 "Mērķdotācijas pašvaldību autoceļiem (ielām)" 101 152 euro apmērā ik gadu.
A91: =A5+1 -> 50 | B91: 17. Satiksmes ministrija | H91: Atbalstīt
B92: 4.pielikums
B93: 2025. gads
B94: 23.06.00 Valsts autoceļu uzturēšana un atjaunošana
B95: Resursi izdevumu segšanai | C95: =SUM(C96,C97) -> 231736009
B96: Ieņēmumi no maksas pakalpojumiem un citi pašu ieņēmumi | C96: 142287
B97: Dotācija no vispārējiem ieņēmumiem | C97: =SUM(C98) -> 231593722
B98: Vispārējā kārtībā sadalāmā dotācija no vispārējiem ieņēmumiem | C98: 231593722
B99: Izdevumi – kopā | C99: =SUM(C100,C103) -> 231736009 | D99: 0
B100: Uzturēšanas izdevumi | C100: =SUM(C101) -> 70185324 | D100: 639828
B101: Kārtējie izdevumi | C101: =SUM(C102) -> 70185324 | D101: 639828
B102: Preces un pakalpojumi | C102: 70185324 | D102: 639828
B103: Kapitālie izdevumi | C103: =SUM(C104,C105) -> 161550685 | D103: -639828
...

Sheet LM_PB
C1: Pieņemts pirmajā lasījumā | D1: Priekšlikums par izmaiņām | F1: Pieņemts pirmajā lasījumā | G1: Priekšlikums par izmaiņām | H1: Priekšlikums MK atzinumam
B3: 18. Labklājības ministrija
A5: =SM!A177+1 -> 52 | B5: 18. Labklājības ministrija | E5: 18. Labklājības ministrija | H5: Atbalstīt
B6: 4.pielikums | E6: 4.pielikums
B7: 05.01.00 Sociālās rehabilitācijas valsts programmas | C7: ` | E7: 20.01.00 Valsts sociālie pabalsti | F7: `
B8: Resursi izdevumu segšanai | C8: =C9 -> 141211525 | D8: =D9 -> -3428100 | E8: Resursi izdevumu segšanai | F8: =F9 -> 438880335 | G8: =G9 -> 3428100
B9: Dotācija no vispārējiem ieņēmumiem | C9: =C10 -> 141211525 | D9: =D10 -> -3428100 | E9: Dotācija no vispārējiem ieņēmumiem | F9: =F10 -> 438880335 | G9: =G10 -> 3428100
B10: Vispārējā kārtībā sadalāmā dotācija no vispārējiem ieņēmumiem | C10: =C11 -> 141211525 | D10: =D11 -> -3428100 | E10: Vispārējā kārtībā sadalāmā dotācija no vispārējiem ieņēmumiem | F10: =F11 -> 438880335 | G10: =G11 -> 3428100
B11: Izdevumi - kopā | C11: =C12 -> 141211525 | D11: =D12 -> -3428100 | E11: Izdevumi - kopā | F11: =F12+F18 -> 438880335 | G11: =G12 -> 3428100
B12: Uzturēšanas izdevumi | C12: =C13+C15+C17 -> 141211525 | D12: =D13+D15+D17 -> -3428100 | E12: Uzturēšanas izdevumi | F12: =F13+F15 -> 438698063 | G12: =G13+G15+G17 -> 3428100
B13: Kārtējie izdevumi | C13: =C14 -> 64233 | E13: Subsīdijas, dotācijas, sociālie maksājumi un kompensācijas | F13: =F14 -> 436986759 | G13: =G14 -> 3428100
B14: Preces un pakalpojumi | C14: 64233 | E14: Sociāla rakstura maksājumi un kompensācijas | F14: 436986759 | G14: 3428100
B15: Subsīdijas, dotācijas, sociālie maksājumi un kompensācijas | C15: =C16 -> 37884447 | E15: Transferti viena budžeta veida ietvaros un uzturēšanas izdevumu transferti starp budžeta veidiem | F15: =F16 -> 1711304
B16: Subsīdijas un dotācijas | C16: 37884447 | E16: Valsts budžeta transferti un uzturēšanas izdevumu transferti | F16: =F17 -> 1711304
B17: Transferti viena budžeta veida ietvaros un uzturēšanas izdevumu transferti starp budžeta veidiem | C17: =C18 -> 103262845 | D17: =D18 -> -3428100 | E17: Valsts budžeta uzturēšanas izdevumu transferti no valsts pamatbudžeta uz valsts speciālo budžetu | F17: 1711304
B18: Pārējie valsts budžeta uzturēšanas izdevumu transferti citiem budžetiem | C18: =C19 -> 103262845 | D18: =D19 -> -3428100 | E18: Kapitālie izdevumi | F18: =F19 -> 182272
B19: Pārējie valsts budžeta uzturēšanas izdevumu transferti pašvaldībām | C19: 103262845 | D19: =-3428100 -> -3428100 | E19: Kapitālo izdevumu transferti | F19: =F20 -> 182272
E20: Valsts budžeta kapitālo izdevumu transferti | F20: =F21 -> 182272
E21: Valsts budžeta kapitālo izdevumu transferti no valsts pamatbudžeta uz valsts speciālo budžetu | F21: 182272
B22: 18. Labklājības ministrija
B23: 3.pielikums
B24: I. Valsts pamatfunkciju īstenošana
B25: 2026.gads
B26: Resursi izdevumu segšanai | C26: =C27+C28+C34 -> 1226916355
B27: Ieņēmumi no maksas pakalpojumiem un citi pašu ieņēmumi – kopā | C27: 11054284
B28: Transferti | C28: =C29 -> 242828
B29: Valsts budžeta transferti | C29: =C30+C33 -> 242828
B30: Valsts pamatbudžeta savstarpējie transferti | C30: =C31 -> 227828
B31: Valsts pamatbudžeta iestāžu saņemtie transferti no valsts pamatbudžeta | C31: =C32 -> 227828
B32: Valsts pamatbudžeta iestāžu saņemtie transferti no valsts pamatbudžeta dotācijas no vispārējiem ieņēmumiem | C32: 227828
B33: Valsts pamatbudžetā saņemtie transferti no valsts speciālā budžeta | C33: 15000
B34: Dotācija no vispārējiem ieņēmumiem | C34: =C35 -> 1215619243
B35: Vispārējā kārtībā sadalāmā dotācija no vispārējiem ieņēmumiem | C35: 1215619243
B36: Izdevumi – kopā | C36: =C37+C51 -> 1226916355
B37: Uzturēšanas izdevumi | C37: =C38+C41+C44+C46 -> 1225335473
B38: Kārtējie izdevumi | C38: =C39+C40 -> 107021321
B39: Atlīdzība | C39: 84642573
B40: Preces un pakalpojumi | C40: 22378748
B41: Subsīdijas, dotācijas, sociālie maksājumi un kompensācijas | C41: =C42+C43 -> 614261286 | D41: =D43 -> 3701700
B42: Subsīdijas un dotācijas | C42: 42707459
B43: Sociāla rakstura maksājumi un kompensācijas | C43: 571553827 | D43: 3701700
B44: Kārtējie maksājumi Eiropas Savienības budžetā un starptautiskā sadarbība | C44: =C45 -> 228210
B45: Starptautiskā sadarbība | C45: 228210
B46: Transferti viena budžeta veida ietvaros un uzturēšanas izdevumu transferti starp budžeta veidiem | C46: =C47+C49 -> 503824656 | D46: =D47+D49 -> -3701700
B47: Valsts budžeta transferti un uzturēšanas izdevumu transferti | C47: =C48 -> 383642236
B48: Valsts budžeta uzturēšanas izdevumu transferti no valsts pamatbudžeta uz valsts speciālo budžetu | C48: 383642236
B49: Pārējie valsts budžeta uzturēšanas izdevumu transferti citiem budžetiem | C49: =C50 -> 120182420 | D49: =D50 -> -3701700
B50: Pārējie valsts budžeta uzturēšanas izdevumu transferti pašvaldībām | C50: 120182420 | D50: =-3701700 -> -3701700
B51: Kapitālie izdevumi | C51: =C52+C53 -> 1580882
B52: Pamatkapitāla veidošana | C52: 1402405
B53: Kapitālo izdevumu transferti | C53: =C55 -> 178477
B54: Valsts budžeta kapitālo izdevumu transferti | C54: =C55 -> 178477
B55: Valsts budžeta kapitālo izdevumu transferti no valsts pamatbudžeta uz valsts speciālo budžetu | C55: 178477
B56: 2027.gads
B57: Resursi izdevumu segšanai | C57: =C58+C59+C65 -> 1319161386
B58: Ieņēmumi no maksas pakalpojumiem un citi pašu ieņēmumi – kopā | C58: 11054284
B59: Transferti | C59: =C60 -> 242828
B60: Valsts budžeta transferti | C60: =C61+C64 -> 242828
B61: Valsts pamatbudžeta savstarpējie transferti | C61: =C62 -> 227828
B62: Valsts pamatbudžeta iestāžu saņemtie transferti no valsts pamatbudžeta | C62: =C63 -> 227828
B63: Valsts pamatbudžeta iestāžu saņemtie transferti no valsts pamatbudžeta dotācijas no vispārējiem ieņēmumiem | C63: 227828
B64: Valsts pamatbudžetā saņemtie transferti no valsts speciālā budžeta | C64: 15000
B65: Dotācija no vispārējiem ieņēmumiem | C65: =C66 -> 1307864274
B66: Vispārējā kārtībā sadalāmā dotācija no vispārējiem ieņēmumiem | C66: 1307864274
B67: Izdevumi – kopā | C67: =C68+C82 -> 1319161386
B68: Uzturēšanas izdevumi | C68: =C69+C72+C75+C77 -> 1317556645
B69: Kārtējie izdevumi | C69: =C70+C71 -> 107161106
B70: Atlīdzība | C70: 85428563
B71: Preces un pakalpojumi | C71: 21732543
B72: Subsīdijas, dotācijas, sociālie maksājumi un kompensācijas | C72: =C73+C74 -> 637046762 | D72: =D74 -> 3998700
B73: Subsīdijas un dotācijas | C73: 42627423
B74: Sociāla rakstura maksājumi un kompensācijas | C74: 594419339 | D74: 3998700
B75: Kārtējie maksājumi Eiropas Savienības budžetā un starptautiskā sadarbība | C75: =C76 -> 228210
B76: Starptautiskā sadarbība | C76: 228210
B77: Transferti viena budžeta veida ietvaros un uzturēšanas izdevumu transferti starp budžeta veidiem | C77: =C78+C80 -> 573120567 | D77: =D78+D80 -> -3998700
B78: Valsts budžeta transferti un uzturēšanas izdevumu transferti | C78: =C79 -> 441116427
B79: Valsts budžeta uzturēšanas izdevumu transferti no valsts pamatbudžeta uz valsts speciālo budžetu | C79: 441116427
B80: Pārējie valsts budžeta uzturēšanas izdevumu transferti citiem budžetiem | C80: =C81 -> 132004140 | D80: =D81 -> -3998700
B81: Pārējie valsts budžeta uzturēšanas izdevumu transferti pašvaldībām | C81: 132004140 | D81: =-3998700 -> -3998700
B82: Kapitālie izdevumi | C82: =C83+C84 -> 1604741
B83: Pamatkapitāla veidošana | C83: 1340695
B84: Kapitālo izdevumu transferti | C84: =C86 -> 264046
B85: Valsts budžeta kapitālo izdevumu transferti | C85: =C86 -> 264046
B86: Valsts budžeta kapitālo izdevumu transferti no valsts pamatbudžeta uz valsts speciālo budžetu | C86: 264046
B87: Atbilstoši Ministru kabineta (turpmāk - MK) 08.10.2024. sēdē (prot. Nr.41 39.§) panāktajai vienošanai ar Latvijas Pašvaldību savienību (domstarpību protokols “Par 2025. gada budžetu un budžeta ietvaru 2025. - 2027. gadam”) izskatīts un atbalstīts likumprojekts“Grozījumi Sociālo pakalpojumu un sociālās palīdzības likumā” (MK 08.10.2024. sēdes prot. Nr.41 50.§), kas tai skaitā paredz samazināt mājokļa pabalsta aprēķinā izmantotos koeficientus, kas noteikti Sociālo pakalpojumu un sociālās palīdzības likuma 35.panta piektajā daļā, tā rezultātā Labklājības ministrija (turpmāk - LM) pronozē, ka 2025. - 2027.gada starpnozaru prioritārajam pasākumam “Atbalsts minimālo ienākumu palielināšanai” nepieciešams mazāks finansējums nekā sākotnēji plānots. Pamatojoties uz MK 08.10.2024. sēdes protokola Nr.41 50.§ 2.punktu, atbalstīts LM priekšlikums samazināt MK 19.09.2024. sēdes protokola Nr. 38 2.§ 2.punktā atbalstīto finansējumu starpnozaru prioritārajam pasākumam "Atbalsts minimālo ienākumu palielināšanai" LM pamatbudžeta apakšprogrammā 05.01.00 "Sociālās rehabilitācijas valsts programmas" 2025.gadam 4 016 598 euro apmērā, 2026.gadam 5 077 937 euro apmērā, 2027.gadam 5 147 578 euro apmērā, 2028.gadam un turpmāk ik gadu 6 143 373 euro apmērā. Daļu no samazinātā finansējuma paredzēts novirzīt LM pamatbudžeta apakšprogrammai 20.01.00 "Valsts sociālie pabalsti" 2025. gadam 3 428 100 euro apmērā, 2026. gadam 3 701 700 euro apmērā, 2027. gadam 3 998 700 euro apmērā, 2028.gadam un turpmāk ik gadu 4 319 100 euro apmērā bērna ar invaliditāti kopšanas pabalsta apmēra palielināšanai par 75 euro mēnesī, t.i. no 313,43 euro līdz 388,43 euro (MK 08.10.2024. sēdes prot. Nr.41 50.§ 2.1.apakšpunkts un 3.punkts). LM priekšlikumam nav fiskālas ietekmes uz valsts konsolidētā budžeta izdevumiem.
A89: =A5+1 -> 53 | B89: 18. Labklājības ministrija | E89: 18. Labklājības ministrija | H89: Atbalstīt
B90: 4.pielikums | E90: 4.pielikums
B91: 05.01.00 Sociālās rehabilitācijas valsts programmas | C91: ` | E91: 97.02.00 Nozares centralizēto funkciju izpilde | F91: `
B92: Resursi izdevumu segšanai | C92: =C93 -> 141211525 | D92: =D93 -> -15473 | E92: Resursi izdevumu segšanai | F92: =F93 -> 3901554 | G92: =G93 -> 15473
B93: Dotācija no vispārējiem ieņēmumiem | C93: =C94 -> 141211525 | D93: =D94 -> -15473 | E93: Dotācija no vispārējiem ieņēmumiem | F93: =F94 -> 3901554 | G93: =G94 -> 15473
B94: Vispārējā kārtībā sadalāmā dotācija no vispārējiem ieņēmumiem | C94: =C95 -> 141211525 | D94: =D95 -> -15473 | E94: Vispārējā kārtībā sadalāmā dotācija no vispārējiem ieņēmumiem | F94: =F95 -> 3901554 | G94: =G95 -> 15473
B95: Izdevumi - kopā | C95: =C96 -> 141211525 | D95: =D96 -> -15473 | E95: Izdevumi - kopā | F95: =F96+F103 -> 3901554 | G95: =G96+G103 -> 15473
B96: Uzturēšanas izdevumi | C96: =C97+C99+C101 -> 141211525 | D96: =D97+D99+D101 -> -15473 | E96: Uzturēšanas izdevumi | F96: =F97+F100 -> 3210274
B97: Kārtējie izdevumi | C97: =C98 -> 64233 | E97: Kārtējie izdevumi | F97: =F98+F99 -> 3027310
B98: Preces un pakalpojumi | C98: 64233 | E98: Atlīdzība | F98: 1789059
B99: Subsīdijas, dotācijas, sociālie maksājumi un kompensācijas | C99: =C100 -> 37884447 | E99: Preces un pakalpojumi | F99: 1238251
B100: Subsīdijas un dotācijas | C100: 37884447 | E100: Transferti viena budžeta veida ietvaros un uzturēšanas izdevumu transferti starp budžeta veidiem | F100: =F101 -> 182964
B101: Transferti viena budžeta veida ietvaros un uzturēšanas izdevumu transferti starp budžeta veidiem | C101: =C102 -> 103262845 | D101: =D102 -> -15473 | E101: Valsts budžeta transferti un uzturēšanas izdevumu transferti | F101: =F102 -> 182964
B102: Pārējie valsts budžeta uzturēšanas izdevumu transferti citiem budžetiem | C102: =C103 -> 103262845 | D102: =D103 -> -15473 | E102: Valsts budžeta uzturēšanas izdevumu transferti no valsts pamatbudžeta uz valsts speciālo budžetu | F102: 182964
B103: Pārējie valsts budžeta uzturēšanas izdevumu transferti pašvaldībām | C103: 103262845 | D103: =-15473 -> -15473 | E103: Kapitālie izdevumi | F103: =F104+F105 -> 691280 | G103: =G106 -> 15473
...

Sheet LM_SB
C1: Pieņemts pirmajā lasījumā | D1: Priekšlikums par izmaiņām | F1: Pieņemts pirmajā lasījumā | G1: Priekšlikums par izmaiņām | H1: Priekšlikums MK atzinumam
B3: 18. Labklājības ministrija
A5: =LM_PB!A283+1 -> 57 | B5: 18. Labklājības ministrija (speciālais budžets) | E5: 18. Labklājības ministrija (speciālais budžets) | H5: Atbalstīt
B6: 5.pielikums | E6: 5.pielikums
B7: 04.01.00 Valsts pensiju speciālais budžets | E7: 04.05.00 Valsts sociālās apdrošināšanas aģentūras speciālais budžets
B8: Ieņēmumi – kopā | C8: =C9+C16+C17 -> 3915370751 | E8: Ieņēmumi – kopā | F8: =F9+F10+F11 -> 28795670 | G8: =G11 -> 64823
B9: Nodokļu ieņēmumi | C9: =C10 -> 3210585470 | E9: Nenodokļu ieņēmumi | F9: 1247391
B10: Sociālās apdrošināšanas iemaksas – kopā | C10: =C11 -> 3210585470 | E10: Ieņēmumi no maksas pakalpojumiem un citi pašu ieņēmumi - kopā | F10: 56125
B11: Sociālās apdrošināšanas iemaksas | C11: =C12+C14 -> 3210585470 | E11: Transferti | F11: =F12 -> 27492154 | G11: =G12 -> 64823
B12: Brīvprātīgās sociālās apdrošināšanas iemaksas | C12: =C13 -> 220500 | E12: Valsts budžeta transferti | F12: =F13+F14 -> 27492154 | G12: =G14 -> 64823
B13: Brīvprātīgās sociālās apdrošināšanas iemaksas valsts pensiju apdrošināšanai | C13: 220500 | E13: Valsts speciālajā budžetā saņemtie transferti no valsts pamatbudžeta | F13: 2143667
B14: Ieņēmumi valsts speciālajā budžetā no valsts sociālās apdrošināšanas obligāto iemaksu sadales | C14: =C15 -> 3210364970 | E14: Valsts speciālā budžeta savstarpējie transferti | F14: =F15 -> 25348487 | G14: =G15 -> 64823
B15: Valsts sociālās apdrošināšanas obligātās iemaksas valsts pensiju apdrošināšanai | C15: 3210364970 | E15: Valsts sociālās apdrošināšanas speciālā budžeta transferti | F15: =F16+F17+F18+F19 -> 25348487 | G15: =G16 -> 64823
B16: Nenodokļu ieņēmumi | C16: 165503917 | E16: No valsts pensiju speciālā budžeta ieskaitītie līdzekļi Valsts sociālās apdrošināšanas aģentūrai | F16: 18451164 | G16: 64823
B17: Transferti | C17: =C18 -> 539281364 | E17: No nodarbinātības speciālā budžeta ieskaitītie līdzekļi Valsts sociālās apdrošināšanas aģentūrai | F17: 1128007
B18: Valsts budžeta transferti | C18: =C19+C20 -> 539281364 | E18: No darba negadījumu speciālā budžeta ieskaitītie līdzekļi Valsts sociālās apdrošināšanas aģentūrai | F18: 547527
B19: Valsts speciālajā budžetā saņemtie transferti no valsts pamatbudžeta | C19: 274853544 | E19: No invaliditātes, maternitātes un slimības speciālā budžeta ieskaitītie līdzekļi Valsts sociālās apdrošināšanas aģentūrai | F19: 5221789
B20: Valsts speciālā budžeta savstarpējie transferti | C20: =C21 -> 264427820 | E20: Izdevumi – kopā | F20: =F21+F27 -> 28795670 | G20: =G27 -> 64823
B21: Valsts sociālās apdrošināšanas speciālā budžeta transferti | C21: =C22+C23+C24 -> 264427820 | E21: Uzturēšanas izdevumi | F21: =F22+F25 -> 27714658
B22: No nodarbinātības speciālā budžeta valsts pensiju apdrošināšanai | C22: 39366221 | E22: Kārtējie izdevumi | F22: =F23+F24 -> 27692558
B23: No darba negadījumu speciālā budžeta valsts pensiju apdrošināšanai | C23: 9441228 | E23: Atlīdzība | F23: 19957323
B24: No invaliditātes, maternitātes un slimības speciālā budžeta valsts pensiju apdrošināšanai | C24: 215620371 | E24: Preces un pakalpojumi | F24: 7735235
B25: Izdevumi – kopā | C25: =C26 -> 3474636611 | D25: =D26 -> 64823 | E25: Kārtējie maksājumi Eiropas Savienības budžetā un starptautiskā sadarbība | F25: =F26 -> 22100
B26: Uzturēšanas izdevumi | C26: =C27+C29 -> 3474636611 | D26: =D29 -> 64823 | E26: Starptautiskā sadarbība | F26: 22100
B27: Subsīdijas, dotācijas, sociālie maksājumi un kompensācijas | C27: =+C28 -> 3456185447 | E27: Kapitālie izdevumi | F27: =F28 -> 1081012 | G27: =G28 -> 64823
B28: Sociāla rakstura maksājumi un kompensācijas | C28: 3456185447 | E28: Pamatkapitāla veidošana | F28: 1081012 | G28: 64823
B29: Transferti viena budžeta veida ietvaros un uzturēšanas izdevumu transferti starp budžeta veidiem | C29: =C30 -> 18451164 | D29: =D30 -> 64823
B30: Valsts budžeta transferti un uzturēšanas izdevumu transferti | C30: =C31 -> 18451164 | D30: =D31 -> 64823
B31: Valsts budžeta transferti no valsts speciālā budžeta uz valsts speciālo budžetu | C31: 18451164 | D31: 64823
B32: Finansiālā bilance | C32: =C8-C25 -> 440734140 | D32: =D8-D25 -> -64823
B33: Finansēšana | C33: =C34 -> -440734140 | D33: =D34 -> 64823
B34: Naudas līdzekļi | C34: =C35 -> -440734140 | D34: =D35 -> 64823
B35: Valsts speciālā budžeta naudas līdzekļu atlikumu izmaiņas palielinājums (-) vai samazinājums (+) | C35: -440734140 | D35: 64823
B36: Speciālā budžeta apakšprogrammā 04.05.00 “Valsts sociālās apdrošināšanas aģentūras speciālais budžets” 2025.gadā palielināti izdevumi pamatkapitāla veidošanai 89 056 euro apmērā, lai Valsts sociālās apdrošināšanas aģentūra nodrošinātu IS pielāgošanu saistībā ar izmaiņām normatīvajos aktos, vienlaikus speciālā budžeta apakšprogrammā 04.03.00 “Darba negadījumu speciālais budžets” samazinot izdevumus subsīdijām un dotācijām 89 056 euro apmērā (pārskaitījumi medicīnas iestādēm par personas ārstēšanos, aprūpi, medicīnisko un profesionālo rehabilitāciju sakarā ar nelaimes gadījumu darbā vai arodslimību, par protezēšanu, rehabilitācijas līdzekļu iegādi un to remontu, pavadoņu apmaksu un ārstniecības iestādes apmeklēšanai paredzēto ceļa izdevumu apmaksu), ņemot vērā, ka 2024.gadā pakalpojumu saņēmēju skaits vidēji gadā un vidējais apmaksājamā pakalpojuma apmērs atpaliek no plānotā, kas ietekmē arī 2025.gada budžeta prognozētos rādītājus. Izdevumu palielinājums Valsts sociālās apdrošināšanas aģentūras speciālajā budžetā tiks nodrošināts, palielinot pārējo speciālo budžetu uzturēšanas izdevumu transfertus no valsts speciālā budžeta uz valsts speciālo budžetu atbilstoši to ieņēmumu īpatsvaram gada sociālās apdrošināšanas iemaksu summā. Atbilstoši apakšprogrammas 04.01.00 “Valsts pensiju speciālais budžets” 2025.gada ieņēmumu īpatsvaram valsts sociālās apdrošināšanas speciālajā budžetā (72,79%) palielināti izdevumi valsts budžeta uzturēšanas izdevumu transfertiem no valsts speciālā budžeta uz valsts speciālo budžetu 64 823 euro apmērā, samazinot valsts pensiju speciālā budžeta naudas līdzekļu atlikumu, vienlaikus apakšprogrammā 04.05.00 “Valsts sociālās apdrošināšanas aģentūras speciālais budžets” palielinot ieņēmumus no valsts pensiju speciālā budžeta ieskaitītajiem līdzekļiem Valsts sociālās apdrošināšanas aģentūrai un izdevumus pamatkapitāla veidošanai. LM priekšlikumam nav fiskālas ietekmes uz speciālā budžeta un valsts konsolidētā budžeta izdevumiem.
A38: =A5+1 -> 58 | B38: 18. Labklājības ministrija (speciālais budžets) | E38: 18. Labklājības ministrija (speciālais budžets) | H38: Atbalstīt
B39: 5.pielikums | E39: 5.pielikums
B40: 04.02.00 Nodarbinātības speciālais budžets | E40: 04.05.00 Valsts sociālās apdrošināšanas aģentūras speciālais budžets
B41: Ieņēmumi – kopā | C41: =C42+C49+C50 -> 258303318 | E41: Ieņēmumi – kopā | F41: =F42+F43+F44 -> 28795670 | G41: =G44 -> 3963
B42: Nodokļu ieņēmumi | C42: =C43 -> 243123457 | E42: Nenodokļu ieņēmumi | F42: 1247391
B43: Sociālās apdrošināšanas iemaksas – kopā | C43: =C44 -> 243123457 | E43: Ieņēmumi no maksas pakalpojumiem un citi pašu ieņēmumi - kopā | F43: 56125
B44: Sociālās apdrošināšanas iemaksas | C44: =C45+C47 -> 243123457 | E44: Transferti | F44: =F45 -> 27492154 | G44: =G45 -> 3963
B45: Brīvprātīgās sociālās apdrošināšanas iemaksas | C45: =C46 -> 1000 | E45: Valsts budžeta transferti | F45: =F46+F47 -> 27492154 | G45: =G47 -> 3963
B46: Brīvprātīgās sociālās apdrošināšanas iemaksas sociālajai apdrošināšanai bezdarba gadījumiem | C46: 1000 | E46: Valsts speciālajā budžetā saņemtie transferti no valsts pamatbudžeta | F46: 2143667
B47: Ieņēmumi valsts speciālajā budžetā no valsts sociālās apdrošināšanas obligāto iemaksu sadales | C47: =C48 -> 243122457 | E47: Valsts speciālā budžeta savstarpējie transferti | F47: =F48 -> 25348487 | G47: =G48 -> 3963
B48: Valsts sociālās apdrošināšanas obligātās iemaksas sociālajai apdrošināšanai bezdarba gadījumiem | C48: 243122457 | E48: Valsts sociālās apdrošināšanas speciālā budžeta transferti | F48: =F49+F50+F51+F52 -> 25348487 | G48: =G50 -> 3963
B49: Nenodokļu ieņēmumi | C49: 4322300 | E49: No valsts pensiju speciālā budžeta ieskaitītie līdzekļi Valsts sociālās apdrošināšanas aģentūrai | F49: 18451164
B50: Transferti | C50: =C51 -> 10857561 | E50: No nodarbinātības speciālā budžeta ieskaitītie līdzekļi Valsts sociālās apdrošināšanas aģentūrai | F50: 1128007 | G50: 3963
B51: Valsts budžeta transferti | C51: =C52+C53 -> 10857561 | E51: No darba negadījumu speciālā budžeta ieskaitītie līdzekļi Valsts sociālās apdrošināšanas aģentūrai | F51: 547527
B52: Valsts speciālajā budžetā saņemtie transferti no valsts pamatbudžeta | C52: 1001733 | E52: No invaliditātes, maternitātes un slimības speciālā budžeta ieskaitītie līdzekļi Valsts sociālās apdrošināšanas aģentūrai | F52: 5221789
B53: Valsts speciālā budžeta savstarpējie transferti | C53: =C54 -> 9855828 | E53: Izdevumi – kopā | F53: =F54+F60 -> 28795670 | G53: =G60 -> 3963
B54: Valsts sociālās apdrošināšanas speciālā budžeta transferti | C54: =C55+C56 -> 9855828 | E54: Uzturēšanas izdevumi | F54: =F55+F58 -> 27714658
B55: No darba negadījumu speciālā budžeta sociālajai apdrošināšanai bezdarba gadījumam | C55: 276472 | E55: Kārtējie izdevumi | F55: =F56+F57 -> 27692558
B56: No invaliditātes, maternitātes un slimības speciālā budžeta sociālajai apdrošināšanai bezdarba gadījumam | C56: 9579356 | E56: Atlīdzība | F56: 19957323
B57: Izdevumi – kopā | C57: =C58 -> 244614290 | D57: =D58 -> 3963 | E57: Preces un pakalpojumi | F57: 7735235
B58: Uzturēšanas izdevumi | C58: =C59+C62+C65 -> 244614290 | D58: =D65 -> 3963 | E58: Kārtējie maksājumi Eiropas Savienības budžetā un starptautiskā sadarbība | F58: =F59 -> 22100
B59: Kārtējie izdevumi | C59: =C60+C61 -> 1623450 | E59: Starptautiskā sadarbība | F59: 22100
B60: Atlīdzība | C60: 1487399 | E60: Kapitālie izdevumi | F60: =F61 -> 1081012 | G60: =G61 -> 3963
B61: Preces un pakalpojumi | C61: 136051 | E61: Pamatkapitāla veidošana | F61: 1081012 | G61: 3963
B62: Subsīdijas, dotācijas, sociālie maksājumi un kompensācijas | C62: =C63+C64 -> 200047930
B63: Subsīdijas un dotācijas | C63: 4235848
B64: Sociāla rakstura maksājumi un kompensācijas | C64: 195812082
B65: Transferti viena budžeta veida ietvaros un uzturēšanas izdevumu transferti starp budžeta veidiem | C65: =C66+C68 -> 42942910 | D65: =D66 -> 3963
B66: Valsts budžeta transferti un uzturēšanas izdevumu transferti | C66: =C67 -> 40494228 | D66: =D67 -> 3963
B67: Valsts budžeta transferti no valsts speciālā budžeta uz valsts speciālo budžetu | C67: 40494228 | D67: 3963
B68: Pārējie valsts budžeta uzturēšanas izdevumu transferti citiem budžetiem | C68: =C69 -> 2448682
B69: Pārējie valsts budžeta uzturēšanas izdevumu transferti pašvaldībām | C69: 2448682
B70: Finansiālā bilance | C70: =C41-C57 -> 13689028 | D70: =D41-D57 -> -3963
B71: Finansēšana | C71: =C72 -> -13689028 | D71: =D72 -> 3963
B72: Naudas līdzekļi | C72: =C73 -> -13689028 | D72: =D73 -> 3963
B73: Valsts speciālā budžeta naudas līdzekļu atlikumu izmaiņas palielinājums (-) vai samazinājums (+) | C73: -13689028 | D73: 3963
B74: Speciālā budžeta apakšprogrammā 04.05.00 “Valsts sociālās apdrošināšanas aģentūras speciālais budžets” 2025.gadā palielināti izdevumi pamatkapitāla veidošanai 89 056 euro apmērā, lai Valsts sociālās apdrošināšanas aģentūra nodrošinātu IS pielāgošanu saistībā ar izmaiņām normatīvajos aktos, vienlaikus speciālā budžeta apakšprogrammā 04.03.00 “Darba negadījumu speciālais budžets” samazinot izdevumus subsīdijām un dotācijām 89 056 euro apmērā (pārskaitījumi medicīnas iestādēm par personas ārstēšanos, aprūpi, medicīnisko un profesionālo rehabilitāciju sakarā ar nelaimes gadījumu darbā vai arodslimību, par protezēšanu, rehabilitācijas līdzekļu iegādi un to remontu, pavadoņu apmaksu un ārstniecības iestādes apmeklēšanai paredzēto ceļa izdevumu apmaksu), ņemot vērā, ka 2024.gadā pakalpojumu saņēmēju skaits vidēji gadā un vidējais apmaksājamā pakalpojuma apmērs atpaliek no plānotā, kas ietekmē arī 2025.gada budžeta prognozētos rādītājus. Izdevumu palielinājums Valsts sociālās apdrošināšanas aģentūras speciālajā budžetā tiks nodrošināts, palielinot pārējo speciālo budžetu uzturēšanas izdevumu transfertus no valsts speciālā budžeta uz valsts speciālo budžetu atbilstoši to ieņēmumu īpatsvaram gada sociālās apdrošināšanas iemaksu summā. Atbilstoši apakšprogrammas 04.02.00 “Nodarbinātības speciālais budžets” 2025.gada ieņēmumu īpatsvaram valsts sociālās apdrošināšanas speciālajā budžetā (4,45%) palielināti izdevumi valsts budžeta uzturēšanas izdevumu transfertiem no valsts speciālā budžeta uz valsts speciālo budžetu 3 963 euro apmērā, samazinot nodarbinātības speciālā budžeta naudas līdzekļu atlikumu, vienlaikus apakšprogrammā 04.05.00 “Valsts sociālās apdrošināšanas aģentūras speciālais budžets” palielinot ieņēmumus no nodarbinātības speciālā budžeta ieskaitītajiem līdzekļiem Valsts sociālās apdrošināšanas aģentūrai un izdevumus pamatkapitāla veidošanai. LM priekšlikumam nav fiskālas ietekmes uz speciālā budžeta un valsts konsolidētā budžeta izdevumiem.
A76: =A38+1 -> 59 | B76: 18. Labklājības ministrija (speciālais budžets) | E76: 18. Labklājības ministrija (speciālais budžets) | H76: Atbalstīt
B77: 5.pielikums | E77: 5.pielikums
B78: 04.03.00 Darba negadījumu speciālais budžets | E78: 04.05.00 Valsts sociālās apdrošināšanas aģentūras speciālais budžets
B79: Ieņēmumi – kopā | C79: =C80+C87+C88 -> 119711532 | E79: Ieņēmumi – kopā | F79: =F80+F81+F82 -> 28795670 | G79: =G82 -> 1924
B80: Nodokļu ieņēmumi | C80: =C81 -> 118010501 | E80: Nenodokļu ieņēmumi | F80: 1247391
B81: Sociālās apdrošināšanas iemaksas – kopā | C81: =C82 -> 118010501 | E81: Ieņēmumi no maksas pakalpojumiem un citi pašu ieņēmumi - kopā | F81: 56125
B82: Sociālās apdrošināšanas iemaksas | C82: 118010501 | E82: Transferti | F82: =F83 -> 27492154 | G82: =G83 -> 1924
B83: Brīvprātīgās sociālās apdrošināšanas iemaksas | C83: =C84 -> 500 | E83: Valsts budžeta transferti | F83: =F84+F85 -> 27492154 | G83: =G85 -> 1924
B84: Brīvprātīgās sociālās apdrošināšanas iemaksas sociālajai apdrošināšanai pret nelaimes gadījumiem darbā un arodslimībām | C84: 500 | E84: Valsts speciālajā budžetā saņemtie transferti no valsts pamatbudžeta | F84: 2143667
B85: Ieņēmumi valsts speciālajā budžetā no valsts sociālās apdrošināšanas obligāto iemaksu sadales | C85: =C86 -> 118010001 | E85: Valsts speciālā budžeta savstarpējie transferti | F85: =F86 -> 25348487 | G85: =G86 -> 1924
B86: Valsts sociālās apdrošināšanas obligātās iemaksas sociālajai apdrošināšanai pret nelaimes gadījumiem darbā un arodslimībām | C86: 118010001 | E86: Valsts sociālās apdrošināšanas speciālā budžeta transferti | F86: =F87+F88+F89+F90 -> 25348487 | G86: =G89 -> 1924
B87: Nenodokļu ieņēmumi | C87: 820383 | E87: No valsts pensiju speciālā budžeta ieskaitītie līdzekļi Valsts sociālās apdrošināšanas aģentūrai | F87: 18451164
B88: Transferti | C88: =C89 -> 880648 | E88: No nodarbinātības speciālā budžeta ieskaitītie līdzekļi Valsts sociālās apdrošināšanas aģentūrai | F88: 1128007
B89: Valsts budžeta transferti | C89: =C90 -> 880648 | E89: No darba negadījumu speciālā budžeta ieskaitītie līdzekļi Valsts sociālās apdrošināšanas aģentūrai | F89: 547527 | G89: 1924
B90: Valsts speciālajā budžetā saņemtie transferti no valsts pamatbudžeta | C90: 880648 | E90: No invaliditātes, maternitātes un slimības speciālā budžeta ieskaitītie līdzekļi Valsts sociālās apdrošināšanas aģentūrai | F90: 5221789
B91: Izdevumi – kopā | C91: =C92 -> 120296541 | D91: =D92 -> -87132 | E91: Izdevumi – kopā | F91: =F92+F98 -> 28795670 | G91: =G98 -> 1924
B92: Uzturēšanas izdevumi | C92: =C93+C96 -> 120296541 | D92: =D93+D96 -> -87132 | E92: Uzturēšanas izdevumi | F92: =F93+F96 -> 27714658
B93: Subsīdijas, dotācijas, sociālie maksājumi un kompensācijas | C93: =C94+C95 -> 109884687 | D93: =D94 -> -89056 | E93: Kārtējie izdevumi | F93: =F94+F95 -> 27692558
B94: Subsīdijas un dotācijas | C94: 633953 | D94: -89056 | E94: Atlīdzība | F94: 19957323
B95: Sociāla rakstura maksājumi un kompensācijas | C95: 109250734 | E95: Preces un pakalpojumi | F95: 7735235
B96: Transferti viena budžeta veida ietvaros un uzturēšanas izdevumu transferti starp budžeta veidiem | C96: =C97+C100 -> 10411854 | D96: =D97+D100 -> 1924 | E96: Kārtējie maksājumi Eiropas Savienības budžetā un starptautiskā sadarbība | F96: =F97 -> 22100
B97: Valsts budžeta transferti un uzturēšanas izdevumu transferti | C97: =C98+C99 -> 10280227 | D97: =D98+D99 -> 1924 | E97: Starptautiskā sadarbība | F97: 22100
B98: Valsts budžeta uzturēšanas izdevumu transferti no valsts speciālā budžeta uz valsts pamatbudžetu | C98: 15000 | E98: Kapitālie izdevumi | F98: =F99 -> 1081012 | G98: =G99 -> 1924
B99: Valsts budžeta transferti no valsts speciālā budžeta uz valsts speciālo budžetu | C99: 10265227 | D99: 1924 | E99: Pamatkapitāla veidošana | F99: 1081012 | G99: 1924
B100: Pārējie valsts budžeta uzturēšanas izdevumu transferti citiem budžetiem | C100: =C101 -> 131627
B101: Pārējie valsts budžeta uzturēšanas izdevumu transferti valsts budžeta daļēji finansētām atvasinātām publiskām personām un budžeta nefinansētām iestādēm | C101: 131627
B102: Finansiālā bilance | C102: =C79-C91 -> -585009 | D102: =D79-D91 -> 87132
B103: Finansēšana | C103: =C104 -> 585009 | D103: =D104 -> -87132
B104: Naudas līdzekļi | C104: =C105 -> 585009 | D104: =D105 -> -87132
...

Sheet KEM
C1: Pieņemts pirmajā lasījumā | D1: Priekšlikums par izmaiņām | F1: Pieņemts pirmajā lasījumā | G1: Priekšlikums par izmaiņām | H1: Priekšlikums MK atzinumam
B3: 20. Klimata un enerģētikas ministrija
A5: =LM_SB!A164+1 -> 63 | B5: Valsts budžeta ieņēmumi | E5: 12. Ekonomikas ministrija | H5: Atbalstīt
B6: 2.pielikums | E6: 4.pielikums
B7: Valsts pamatbudžeta ieņēmumi | E7: 29.02.00 Elektroenerģijas lietotāju atbalsts
B8: Ieņēmumi no dividendēm (ieņēmumi no valsts (pašvaldību) kapitāla izmantošanas) | C8: 305367963 | D8: 36412888 | E8: Resursi izdevumu segšanai | F8: =F9 -> 23818604 | G8: =G9 -> 1181396
E9: Dotācija no vispārējiem ieņēmumiem | F9: =F10 -> 23818604 | G9: =G10 -> 1181396
E10: Vispārējā kārtībā sadalāmā dotācija no vispārējiem ieņēmumiem | F10: 23818604 | G10: 1181396
E11: Izdevumi – kopā | F11: =F12+F17 -> 23818604 | G11: =G12+G17 -> 1181396
E12: Uzturēšanas izdevumi | F12: =F13+F15 -> 23734614 | G12: =G13+G15 -> 1265386
E13: Kārtējie izdevumi | F13: =F14 -> 118540 | G13: =G14 -> -118540
E14: Preces un pakalpojumi | F14: 118540 | G14: -118540
E15: Subsīdijas, dotācijas, sociālie maksājumi un kompensācijas | F15: =F16 -> 23616074 | G15: =G16 -> 1383926
E16: Subsīdijas un dotācijas | F16: 23616074 | G16: 1383926
E17: Kapitālie izdevumi | F17: =F18 -> 83990 | G17: =G18 -> -83990
E18: Pamatkapitāla veidošana | F18: 83990 | G18: -83990
E19: 29.06.00 Enerģētikas jautājumu administrēšana | F19: `
E20: Resursi izdevumu segšanai | F20: =F21 -> 1358785 | G20: =G21 -> 502821
E21: Dotācija no vispārējiem ieņēmumiem | F21: =F22 -> 1358785 | G21: =G22 -> 502821
E22: Vispārējā kārtībā sadalāmā dotācija no vispārējiem ieņēmumiem | F22: 1358785 | G22: 502821
E23: Izdevumi – kopā | F23: =F24+F28 -> 1358785 | G23: =G24+G28 -> 502821
E24: Uzturēšanas izdevumi | F24: =F25 -> 1226902 | G24: =G25 -> 328831
E25: Kārtējie izdevumi | F25: =F26+F27 -> 1226902 | G25: =G26+G27 -> 328831
E26: Atlīdzība | F26: 1009677
E27: Preces un pakalpojumi | F27: 217225 | G27: 328831
E28: Kapitālie izdevumi | F28: =F29 -> 131883 | G28: =G29 -> 173990
E29: Pamatkapitāla veidošana | F29: 131883 | G29: 173990
E30: 20. Klimata un enerģētikas ministrija
E31: 4.pielikums
E32: 03.00.00 Elektroenerģijas lietotāju atbalsts | F32: `
E33: Resursi izdevumu segšanai | F33: =F34 -> 30164695 | G33: =G34 -> 55547471
E34: Dotācija no vispārējiem ieņēmumiem | F34: =F35 -> 30164695 | G34: =G35 -> 55547471
E35: Vispārējā kārtībā sadalāmā dotācija no vispārējiem ieņēmumiem | F35: 30164695 | G35: =G36 -> 55547471
E36: Izdevumi – kopā | F36: =F37 -> 30164695 | G36: =G37 -> 55547471
E37: Uzturēšanas izdevumi | F37: =F38+F40 -> 30164695 | G37: =G38 -> 55547471
E38: Subsīdijas, dotācijas, sociālie maksājumi un kompensācijas | F38: =F39 -> 30144695 | G38: =G39 -> 55547471
E39: Subsīdijas un dotācijas | F39: 30144695 | G39: 55547471
E40: Transferti viena budžeta veida ietvaros un uzturēšanas izdevumu transferti starp budžeta veidiem | F40: =F41 -> 20000 | G40: =G41 -> 0
E41: Pārējie valsts budžeta uzturēšanas izdevumu transferti citiem budžetiem | F41: =F42 -> 20000 | G41: =G42 -> 0
E42: Pārējie valsts budžeta uzturēšanas izdevumu transferti pašvaldībām | F42: 20000
E43: 97.00.00 Nozaru vadība un politikas plānošana | F43: `
E44: Resursi izdevumu segšanai | F44: =F45 -> 6076780 | G44: =G45 -> 1350952
E45: Dotācija no vispārējiem ieņēmumiem | F45: =F46 -> 6076780 | G45: =G46 -> 1350952
E46: Vispārējā kārtībā sadalāmā dotācija no vispārējiem ieņēmumiem | F46: 6076780 | G46: =G47 -> 1350952
E47: Izdevumi – kopā | F47: =F48 -> 6076780 | G47: =G48 -> 1350952
B48: 01.pielikums. Valsts konsolidētais budžets | E48: Uzturēšanas izdevumi | F48: =F49 -> 6076780 | G48: =G49 -> 1350952
B49: Valsts budžeta finansiālā bilance | C49: -2012719627 | D49: =D8-G11-G23-G36-G47 -> -22169752 | E49: Kārtējie izdevumi | F49: =F50+F51 -> 6076780 | G49: =G50+G51 -> 1350952
E50: Atlīdzība | F50: 2253580 | G50: 800760
E51: Preces un pakalpojumi | F51: 3823200 | G51: =548635+1557 -> 550192
B52: Valsts budžeta ieņēmumi | E52: 12. Ekonomikas ministrija
B53: 2.pielikums | E53: 3.pielikums
B54: Valsts pamatbudžeta ieņēmumi | E54: I. Valsts pamatfunkciju īstenošana
B55: 2027.gads | E55: 2026.gads
B56: Ieņēmumi no dividendēm (ieņēmumi no valsts (pašvaldību) kapitāla izmantošanas) | C56: 211962071 | D56: 199270 | E56: Resursi izdevumu segšanai | F56: =F57+F58+F63 -> 138931477 | G56: =G63 -> 300291
E57: Ieņēmumi no maksas pakalpojumiem un citi pašu ieņēmumi – kopā | F57: 1834287
E58: Transferti | F58: =F59 -> 118066
E59: Valsts budžeta transferti | F59: =F60 -> 118066
E60: Valsts pamatbudžeta savstarpējie transferti | F60: =F61 -> 118066
E61: Valsts pamatbudžeta iestāžu saņemtie transferti no valsts pamatbudžeta | F61: =F62 -> 118066
E62: Valsts pamatbudžeta iestāžu saņemtie transferti no valsts pamatbudžeta dotācijas no vispārējiem ieņēmumiem | F62: 118066
E63: Dotācija no vispārējiem ieņēmumiem | F63: =F64 -> 136979124 | G63: =G64 -> 300291
E64: Vispārējā kārtībā sadalāmā dotācija no vispārējiem ieņēmumiem | F64: 136979124 | G64: 300291
E65: Izdevumi – kopā | F65: =F66+F81 -> 139123926 | G65: =G66+G81 -> 300291
E66: Uzturēšanas izdevumi | F66: =F67+F70+F72+F74 -> 136011906 | G66: =G67 -> 210291
E67: Kārtējie izdevumi | F67: =F68+F69 -> 63917618 | G67: =G68+G69 -> 210291
E68: Atlīdzība | F68: 40145577
E69: Preces un pakalpojumi | F69: 23772041 | G69: 210291
E70: Subsīdijas, dotācijas, sociālie maksājumi un kompensācijas | F70: =F71 -> 71659483
E71: Subsīdijas un dotācijas | F71: 71659483
E72: Kārtējie maksājumi Eiropas Savienības budžetā un starptautiskā sadarbība | F72: =F73 -> 225683
E73: Starptautiskā sadarbība | F73: 225683
E74: Transferti viena budžeta veida ietvaros un uzturēšanas izdevumu transferti starp budžeta veidiem | F74: =F75+F79 -> 209122
E75: Valsts budžeta transferti un uzturēšanas izdevumu transferti | F75: =F76+F77 -> 186312
E76: Valsts budžeta uzturēšanas izdevumu transferti no valsts pamatbudžeta uz valsts speciālo budžetu | F76: 23328
E77: Valsts budžeta transferti no valsts pamatbudžeta uz valsts pamatbudžetu | F77: =F78 -> 162984
E78: Valsts budžeta transferti no valsts pamatbudžeta dotācijas no vispārējiem ieņēmumiem uz valsts pamatbudžetu | F78: 162984
E79: Pārējie valsts budžeta uzturēšanas izdevumu transferti citiem budžetiem | F79: =F80 -> 22810
E80: Pārējie valsts budžeta uzturēšanas izdevumu transferti valsts budžeta daļēji finansētām atvasinātām publiskām personām un budžeta nefinansētām iestādēm | F80: 22810
E81: Kapitālie izdevumi | F81: =F82 -> 3112020 | G81: =G82 -> 90000
E82: Pamatkapitāla veidošana | F82: 3112020 | G82: 90000
E83: Finansiālā bilance | F83: =F56-F65 -> -192449
E84: Finansēšana | F84: =F85 -> 192449
E85: Naudas līdzekļi | F85: =F86 -> 192449
E86: Maksas pakalpojumu un citu pašu ieņēmumu naudas līdzekļu atlikumu izmaiņas palielinājums (-) vai samazinājums (+) | F86: 192449
E87: 2027.gads
E88: Resursi izdevumu segšanai | F88: =F89+F90+F95 -> 109511338 | G88: =G95 -> -1151682
E89: Ieņēmumi no maksas pakalpojumiem un citi pašu ieņēmumi – kopā | F89: 1834287
E90: Transferti | F90: =F91 -> 0
E91: Valsts budžeta transferti | F91: =F92 -> 0
E92: Valsts pamatbudžeta savstarpējie transferti | F92: =F93 -> 0
E93: Valsts pamatbudžeta iestāžu saņemtie transferti no valsts pamatbudžeta | F93: =F94 -> 0
E94: Valsts pamatbudžeta iestāžu saņemtie transferti no valsts pamatbudžeta dotācijas no vispārējiem ieņēmumiem
E95: Dotācija no vispārējiem ieņēmumiem | F95: =F96 -> 107677051 | G95: =G96 -> -1151682
E96: Vispārējā kārtībā sadalāmā dotācija no vispārējiem ieņēmumiem | F96: 107677051 | G96: -1151682
E97: Izdevumi – kopā | F97: =F98+F113 -> 109618938 | G97: =G98+G113 -> -1151682
E98: Uzturēšanas izdevumi | F98: =F99+F102+F104+F106 -> 106581918 | G98: =G99 -> -1241682
E99: Kārtējie izdevumi | F99: =F100+F101 -> 57831623 | G99: =G100+G101 -> -1241682
E100: Atlīdzība | F100: 39111609
E101: Preces un pakalpojumi | F101: 18720014 | G101: -1241682
E102: Subsīdijas, dotācijas, sociālie maksājumi un kompensācijas | F102: =F103 -> 48478474
...

Sheet VARAM
C1: Pieņemts pirmajā lasījumā | D1: Priekšlikums par izmaiņām | F1: Pieņemts pirmajā lasījumā | G1: Priekšlikums par izmaiņām | H1: Priekšlikums MK atzinumam
B3: 21. Viedās administrācijas un reģionālās attīstības ministrija
A5: =KEM!A178+1 -> 65 | B5: 21. Viedās administrācijas un reģionālās attīstības ministrija | E5: 20. Klimata un enerģētikas ministrija | H5: Atbalstīt
B6: 4.pielikums | E6: 4.pielikums
B7: 21.02.00 Vides aizsardzības projekti | E7: 21.01.00 Vides aizsardzības projekti
B8: Resursi izdevumu segšanai | C8: 4140645 | D8: 0 | E8: Resursi izdevumu segšanai | F8: 0 | G8: 2070323
B9: Dotācija no vispārējiem ieņēmumiem | C9: 4140645 | D9: 0 | E9: Transferti | F9: 0 | G9: 2070323
B10: Vispārējā kārtībā sadalāmā dotācija no vispārējiem ieņēmumiem | C10: 4140645 | D10: 0 | E10: Valsts budžeta transferti | F10: 0 | G10: 2070323
B11: Izdevumi – kopā | C11: 4140645 | D11: 0 | E11: Valsts pamatbudžeta savstarpējie transferti | F11: 0 | G11: 2070323
B12: Uzturēšanas izdevumi | C12: 4140645 | D12: 0 | E12: Valsts pamatbudžeta iestāžu saņemtie transferti no valsts pamatbudžeta | F12: 0 | G12: 2070323
B13: Kārtējie izdevumi | C13: 0 | D13: 350000 | E13: Valsts pamatbudžeta iestāžu saņemtie transferti no valsts pamatbudžeta dotācijas no vispārējiem ieņēmumiem | F13: 0 | G13: 2070323
B14: Preces un pakalpojumi | C14: 0 | D14: 350000 | E14: Izdevumi – kopā | F14: 0 | G14: 2070323
B15: Subsīdijas, dotācijas, sociālie maksājumi un kompensācijas | C15: 3400645 | D15: -2070323 | E15: Uzturēšanas izdevumi | F15: 0 | G15: 2070323
B16: Subsīdijas un dotācijas | C16: 3400645 | D16: -2070323 | E16: Subsīdijas, dotācijas, sociālie maksājumi un kompensācijas | F16: 0 | G16: 2070323
B17: Transferti viena budžeta veida ietvaros un uzturēšanas izdevumu transferti starp budžeta veidiem | C17: 740000 | D17: 1720323 | E17: Subsīdijas un dotācijas | F17: 0 | G17: 2070323
B18: Valsts budžeta transferti un uzturēšanas izdevumu transferti | C18: 0 | D18: 2070323
B19: Valsts budžeta transferti no valsts pamatbudžeta uz valsts pamatbudžetu | C19: 0 | D19: 2070323
B20: Valsts budžeta transferti no valsts pamatbudžeta dotācijas no vispārējiem ieņēmumiem uz valsts pamatbudžetu | C20: 0 | D20: 2070323
B21: Pārējie valsts budžeta uzturēšanas izdevumu transferti citiem budžetiem | C21: 740000 | D21: -350000
B22: Pārējie valsts budžeta uzturēšanas izdevumu transferti pašvaldībām | C22: 390000 | D22: 0
B23: Pārējie valsts budžeta uzturēšanas izdevumu transferti valsts budžeta daļēji finansētām atvasinātām publiskām personām un budžeta nefinansētām iestādēm | C23: 350000 | D23: -350000
B24: Ņemot vērā, ka kopš 2024.gada 1.jūlija VARAM un KEM ir notikusi reorganizācija un dabas aizsardzības un vides aizsardzības joma ir nodalīta (Ministru Kabineta 2024.gada 7.jūnija rīkojuma Nr. 446 "Par Vides aizsardzības un reģionālās attīstības ministrijas un Klimata un enerģētikas ministrijas reorganizāciju" 2. un 4.punkts), un to, ka likumprojekts “Grozījumi Latvijas vides aizsardzības fonda likumā” (24-TA-788) vēl nav izskatīts Ministru kabinetā un Saeimā, kā arī ievērojot Latvijas vides aizsardzības fonda padomes sēdes 2024.gada 14.oktobra sēdē lemto, VARAM priekšlikums paredz 2025. gadam Latvijas vides aizsardzības fonda līdzekļu novrizīšanu KEM transferta veidā (veicot attiecīgu līdzekļu pārdali starp ekonomiskās klasifikācijas kodiem) 2 701 202 euro apmērā, t.sk. no apakšprogrammas 21.02.00 "Vides aizsardzības projekti” 2 070 323 euro apmērā, lai netiktu kavēta vides aizsardzības pasākumu īstenošana un projektu konkursu izsludināšana, kas ir jāveic un jāīsteno neatkarīgi no minētā likumprojekta izskatīšanas rezultāta vai laika rāmja. Transferta saņemšanai 2 070 323 euro apmērā KEM nepieciešams izveidot apakšprogrammu 21.01.00 "Vides aizsardzības projekti". Vienlaikus priekšlikums paredz arī līdzekļu pārdali starp ekonomiskās klasifikācijas kodiem 2025.gadam 350 000 euro apmērā, kas nepieciešama saistībā ar to, ka Latvijas vides aizsardzības fonda ietvaros projektu īstenošana paredzēta arī Nacionālais botāniskajam dārzam, kuram ar 2025.gada 1.janvāri statuss mainās no atvasinātas publiskas personas uz valsts tiešās pārvaldes iestādi (Ministru kabineta 2024.gada 24.oktobra rīkojums Nr.863 "Par valsts zinātniskā institūta – atvasinātas publiskās personas "Nacionālais botāniskais dārzs" – likvidāciju un Latvijas Nacionālā botāniskā dārza izveidošanu").
A26: =A5+1 -> 66 | B26: 21. Viedās administrācijas un reģionālās attīstības ministrija | E26: 20. Klimata un enerģētikas ministrija | H26: Atbalstīt
B27: 4.pielikums | E27: 4.pielikums
B28: 21.13.00 Nozares vides projekti | E28: 21.02.00 Nozares vides projekti
B29: Resursi izdevumu segšanai | C29: 1261759 | D29: 0 | E29: Resursi izdevumu segšanai | F29: 0 | G29: 630879
B30: Dotācija no vispārējiem ieņēmumiem | C30: 1261759 | D30: 0 | E30: Transferti | F30: 0 | G30: 630879
B31: Vispārējā kārtībā sadalāmā dotācija no vispārējiem ieņēmumiem | C31: 1261759 | D31: 0 | E31: Valsts budžeta transferti | F31: 0 | G31: 630879
B32: Izdevumi – kopā | C32: 1261759 | D32: 0 | E32: Valsts pamatbudžeta savstarpējie transferti | F32: 0 | G32: 630879
B33: Uzturēšanas izdevumi | C33: 1216759 | D33: 22500 | E33: Valsts pamatbudžeta iestāžu saņemtie transferti no valsts pamatbudžeta | F33: 0 | G33: 630879
B34: Kārtējie izdevumi | C34: 1216759 | D34: -608379 | E34: Valsts pamatbudžeta iestāžu saņemtie transferti no valsts pamatbudžeta dotācijas no vispārējiem ieņēmumiem | F34: 0 | G34: 630879
B35: Atlīdzība | C35: 154810 | D35: 0 | E35: Izdevumi – kopā | F35: 0 | G35: 630879
B36: Preces un pakalpojumi | C36: 1061949 | D36: -608379 | E36: Uzturēšanas izdevumi | F36: 0 | G36: 608379
B37: Transferti viena budžeta veida ietvaros un uzturēšanas izdevumu transferti starp budžeta veidiem | C37: 0 | D37: 630879 | E37: Kārtējie izdevumi | F37: 0 | G37: 608379
B38: Valsts budžeta transferti un uzturēšanas izdevumu transferti | C38: 0 | D38: 630879 | E38: Preces un pakalpojumi | F38: 0 | G38: 608379
B39: Valsts budžeta uzturēšanas izdevumu transferti no valsts pamatbudžeta uz valsts speciālo budžetu | E39: Kapitālie izdevumi | F39: 0 | G39: 22500
B40: Valsts budžeta transferti no valsts pamatbudžeta uz valsts pamatbudžetu | C40: 0 | D40: 630879 | E40: Pamatkapitāla veidošana | F40: 0 | G40: 22500
B41: Valsts budžeta transferti no valsts pamatbudžeta dotācijas no vispārējiem ieņēmumiem uz valsts pamatbudžetu | C41: 0 | D41: 630879
B42: Kapitālie izdevumi | C42: 45000 | D42: -22500
B43: Pamatkapitāla veidošana | C43: 45000 | D43: -22500
B44: Ņemot vērā, ka kopš 2024.gada 1.jūlija VARAM un KEM ir notikusi reorganizācija un dabas aizsardzības un vides aizsardzības joma ir nodalīta (Ministru Kabineta 2024.gada 7.jūnija rīkojuma Nr. 446 "Par Vides aizsardzības un reģionālās attīstības ministrijas un Klimata un enerģētikas ministrijas reorganizāciju" 2. un 4.punkts), un to, ka likumprojekts “Grozījumi Latvijas vides aizsardzības fonda likumā” (24-TA-788) vēl nav izskatīts Ministru kabinetā un Saeimā, kā arī ievērojot Latvijas vides aizsardzības fonda padomes sēdes 2024.gada 14.oktobra sēdē lemto, VARAM priekšlikums paredz 2025. gadam Latvijas vides aizsardzības fonda līdzekļu novrizīšanu KEM ar transfertu (veicot attiecīgu līdzekļu pārdali starp ekonomiskās klasifikācijas kodiem) 2 701 202 euro apmērā, t.sk. no apakšprogrammas 21.13.00 "Nozares vides projekti" 630 879 euro apmērā, lai netiktu kavēta vides aizsardzības pasākumu īstenošana un projektu konkursu izsludināšana, kas ir jāveic un jāīsteno neatkarīgi no minētā likumprojekta izskatīšanas rezultāta vai laika rāmja. Transferta saņemšanai 630 879 euro apmērā KEM nepieciešams izveidot apakšprogrammu 21.02.00 "Nozares vides projekti".
A46: =A26+1 -> 67 | B46: 21. Viedās administrācijas un reģionālās attīstības ministrija | H46: Atbalstīt
B47: 4.pielikums
B48: 24.05.00 Latvijas Nacionālais botāniskais dārzs
B49: Resursi izdevumu segšanai | C49: 1418900 | D49: 389250
B50: Ieņēmumi no maksas pakalpojumiem un citi pašu ieņēmumi - kopā | C50: 0 | D50: 389250
B51: Dotācija no vispārējiem ieņēmumiem | C51: 1418900 | D51: 0
B52: Vispārējā kārtībā sadalāmā dotācija no vispārējiem ieņēmumiem | C52: 1418900 | D52: 0
B53: Izdevumi – kopā | C53: 1418900 | D53: 389250
B54: Uzturēšanas izdevumi | C54: 1266261 | D54: 311250
B55: Kārtējie izdevumi | C55: 0 | D55: 1577511
B56: Atlīdzība | C56: 0 | D56: 1383537
B57: Preces un pakalpojumi | C57: 0 | D57: 193974
B58: Transferti viena budžeta veida ietvaros un uzturēšanas izdevumu transferti starp budžeta veidiem | C58: 1266261 | D58: -1266261
B59: Pārējie valsts budžeta uzturēšanas izdevumu transferti citiem budžetiem | C59: 1266261 | D59: -1266261
B60: Pārējie valsts budžeta uzturēšanas izdevumu transferti valsts budžeta daļēji finansētām atvasinātām publiskām personām un budžeta nefinansētām iestādēm | C60: 1266261 | D60: -1266261
... B65: Pārējie valsts budžeta transferti kapitālajiem izdevumiem valsts budžeta daļēji finansētām atvasinātām publiskām personām un budžeta nefinansētām iestādēm | C65: 152639 | D65: -152639
B66: 21. Viedās administrācijas un reģionālās attīstības ministrija
B67: 3.pielikums
B68: I. Valsts pamatfunkciju īstenošana
B69: 2026. gads
B70: Resursi izdevumu segšanai | C70: 42431896 | D70: 389250
B71: Ieņēmumi no maksas pakalpojumiem un citi pašu ieņēmumi - kopā | C71: 563211 | D71: 389250
B72: Transferti | C72: 58796 | D72: 0
B73: Valsts budžeta transferti | C73: 58796 | D73: 0
B74: Valsts pamatbudžeta savstarpējie transferti | C74: 58796 | D74: 0
B75: Valsts pamatbudžeta iestāžu saņemtie transferti no valsts pamatbudžeta | C75: 58796 | D75: 0
B76: Valsts pamatbudžeta iestāžu saņemtie transferti no valsts pamatbudžeta dotācijas no vispārējiem ieņēmumiem | C76: 58796 | D76: 0
B77: Dotācija no vispārējiem ieņēmumiem | C77: 41809889 | D77: 0
B78: Vispārējā kārtībā sadalāmā dotācija no vispārējiem ieņēmumiem | C78: 41809889 | D78: 0
B79: Izdevumi – kopā | C79: 42431896 | D79: 389250
B80: Uzturēšanas izdevumi | C80: 38452491 | D80: 311250
B81: Kārtējie izdevumi | C81: 28241977 | D81: 1577511
... B100: Pārējie valsts budžeta transferti kapitālajiem izdevumiem valsts budžeta daļēji finansētām atvasinātām publiskām personām un budžeta nefinansētām iestādēm | C100: 180485 | D100: -152639
B101: 2027. gads
B102: Resursi izdevumu segšanai | C102: 42419395 | D102: 389250
B103: Ieņēmumi no maksas pakalpojumiem un citi pašu ieņēmumi - kopā | C103: 563211 | D103: 389250
B104: Transferti | C104: 27433 | D104: 0
B105: Valsts budžeta transferti | C105: 27433 | D105: 0
B106: Valsts pamatbudžeta savstarpējie transferti | C106: 27433 | D106: 0
B107: Valsts pamatbudžeta iestāžu saņemtie transferti no valsts pamatbudžeta | C107: 27433 | D107: 0
B108: Valsts pamatbudžeta iestāžu saņemtie transferti no valsts pamatbudžeta dotācijas no vispārējiem ieņēmumiem | C108: 27433 | D108: 0
B109: Dotācija no vispārējiem ieņēmumiem | C109: 41828751 | D109: 0
B110: Vispārējā kārtībā sadalāmā dotācija no vispārējiem ieņēmumiem | C110: 41828751 | D110: 0
B111: Izdevumi – kopā | C111: 42419395 | D111: 389250
B112: Uzturēšanas izdevumi | C112: 38452093 | D112: 311250
B113: Kārtējie izdevumi | C113: 28251579 | D113: 1577511
... B132: Pārējie valsts budžeta transferti kapitālajiem izdevumiem valsts budžeta daļēji finansētām atvasinātām publiskām personām un budžeta nefinansētām iestādēm | C132: 180485 | D132: -152639
B133: Izmaiņas nepieciešamas saistībā ar maksas pakalpojumu ieņēmumu un attiecīgo izdevumu ieplānošanu, kā arī līdzekļu pārdali starp ekonomiskās klasifikācijas kodiem saskaņā ar Ministru kabineta 2024.gada 24.oktobra rīkojumu Nr.863 "Par valsts zinātniskā institūta – atvasinātas publiskās personas "Nacionālais botāniskais dārzs" – likvidāciju un Latvijas Nacionālā botāniskā dārza izveidošanu" (ar 2025.gada 1.janvāri statuss mainās no atvasinātas publiskas personas uz valsts tiešās pārvaldes iestādi ) un Ministru kabineta 2024.gada 22.oktobra sēdes protokola Nr.45 29.§ 3.punktā doto uzdevumu, vienlaikus paredzot, ka VARAM budžeta apakšprogrammas 24.05.00 nosaukums ir jāprecizē no "Zinātniskā institūta "Nacionālais botāniskais dārzs" valsts funkciju nodrošinājums" uz "Latvijas Nacionālais botāniskais dārzs". Papildus saistībā ar minēto statusa maiņu amata vietu skaits VARAM resorā palielināsies par 106 amata vietām, proti, uz valsts tiešās pārvaldes iestādi tiek pārņemts šobrīd esošās atvasinātās publiskās personas amata vietu skaits.
A135: =A46+1 -> 68 | B135: 21. Viedās administrācijas un reģionālās attīstības ministrija | E135: 21. Viedās administrācijas un reģionālās attīstības ministrija | H135: Atbalstīt
B136: 4.pielikums | E136: 4.pielikums
B137: 24.08.00 Nacionālo parku darbības nodrošināšana | E137: 32.00.00 Valsts digitālās attīstības politikas īstenošana
B138: Resursi izdevumu segšanai | C138: 7023852 | D138: -42072 | E138: Resursi izdevumu segšanai | F138: 11535372 | G138: 42072
B139: Ieņēmumi no maksas pakalpojumiem un citi pašu ieņēmumi - kopā | C139: 365476 | D139: 0 | E139: Transferti | F139: 58796 | G139: 0
B140: Dotācija no vispārējiem ieņēmumiem | C140: 6658376 | D140: -42072 | E140: Valsts budžeta transferti | F140: 58796 | G140: 0
B141: Vispārējā kārtībā sadalāmā dotācija no vispārējiem ieņēmumiem | C141: 6658376 | D141: -42072 | E141: Valsts pamatbudžeta savstarpējie transferti | F141: 58796 | G141: 0
B142: Izdevumi – kopā | C142: 7023852 | D142: -42072 | E142: Valsts pamatbudžeta iestāžu saņemtie transferti no valsts pamatbudžeta | F142: 58796 | G142: 0
B143: Uzturēšanas izdevumi | C143: 6690470 | D143: -42072 | E143: Valsts pamatbudžeta iestāžu saņemtie transferti no valsts pamatbudžeta dotācijas no vispārējiem ieņēmumiem | F143: 58796 | G143: 0
B144: Kārtējie izdevumi | C144: 5870866 | D144: -42072 | E144: Dotācija no vispārējiem ieņēmumiem | F144: 11476576 | G144: 42072
B145: Atlīdzība | C145: 3399717 | D145: -42072 | E145: Vispārējā kārtībā sadalāmā dotācija no vispārējiem ieņēmumiem | F145: 11476576 | G145: 42072
...

Sheet KM
C1: Pieņemts pirmajā lasījumā | D1: Priekšlikums par izmaiņām | F1: Pieņemts pirmajā lasījumā | G1: Priekšlikums par izmaiņām | H1: Priekšlikums MK atzinumam
B3: 22. Kultūras ministrija
A5: =VARAM!A135+1 -> 69 | B5: 22. Kultūras ministrija | E5: 22. Kultūras ministrija | H5: Atbalstīt
B6: 4.pielikums | E6: 4.pielikums
B7: 22.07.00 Nomas maksas VAS "Valsts nekustamie īpašumi" programmas "Mantojums-2018" ietvaros | E7: 20.00.00 "Kultūrizglītība"
B8: Resursi izdevumu segšanai | C8: 5778046 | D8: -156494 | E8: Resursi izdevumu segšanai | F8: 83805431 | G8: 156494
B9: Dotācija no vispārējiem ieņēmumiem | C9: 5778046 | D9: -156494 | E9: Dotācija no vispārējiem ieņēmumiem | F9: 83024990 | G9: 156494
B10: Vispārējā kārtībā sadalāmā dotācija no vispārējiem ieņēmumiem | C10: 5778046 | D10: -156494 | E10: Vispārējā kārtībā sadalāmā dotācija no vispārējiem ieņēmumiem | F10: 83024990 | G10: 156494
B11: Izdevumi – kopā | C11: 5778046 | D11: -156494 | E11: Izdevumi – kopā | F11: 83805431 | G11: 156494
B12: Uzturēšanas izdevumi | C12: 5778046 | D12: -156494 | E12: Uzturēšanas izdevumi | F12: 83259800 | G12: 156494
B13: Kārtējie izdevumi | C13: 4750417 | D13: -156494 | E13: Kārtējie izdevumi | F13: 33988738 | G13: 156494
B14: Preces un pakalpojumi | C14: 4750417 | D14: -156494 | E14: Preces un pakalpojumi | F14: 3475407 | G14: 156494
B15: 22. Kultūras ministrija
B16: 11.pielikums
B17: 22.07.00 Nomas maksas VAS "Valsts nekustamie īpašumi" programmas "Mantojums-2018" ietvaros
B18: 0600000000 Citas ilgtermiņa saistības
B19: tajā skaitā
B20: Latvijas Nacionālā vēstures muzeja ēkas Rīgā, Brīvības bulvārī 32, nomas maksa VAS "Valsts nekustamie īpašumi" | C20: CIS/KM/012
B21: 2025.gads
B22: Resursi izdevumu segšanai | C22: 156494 | D22: -156494
B23: Dotācija no vispārējiem ieņēmumiem | C23: 156494 | D23: -156494
B24: Vispārējā kārtībā sadalāmā dotācija no vispārējiem ieņēmumiem | C24: 156494 | D24: -156494
B25: Izdevumi – kopā | C25: 156494 | D25: -156494
B26: Uzturēšanas izdevumi | C26: 156494 | D26: -156494
B27: Kārtējie izdevumi | C27: 156494 | D27: -156494
B28: Preces un pakalpojumi | C28: 156494 | D28: -156494
B29: Pārdalīt izdevumus no budžeta apakšprogrammas 22.07.00 “Nomas maksas VAS “Valsts nekustamie īpašumi” programmas “Mantojums-2018” ietvaros” uz budžeta programmu 20.00.00 “Kultūrizglītība” Mākslu izglītības kompetences centra “Nacionālā mākslu vidusskola” pagaidu telpu nomas maksas nodrošināšanai saskaņā ar Ministru kabineta 2024.gada 20.augusta sēdes protokollēmuma (prot. Nr.32 61.§) “Informatīvais ziņojums “Par valsts pamatbudžeta un valsts speciālā budžeta bāzi un izdevumu pārskatīšanas rezultātiem 2025., 2026., 2027. un 2028.gadam”” 77.punktu un Ministru kabineta 2024.gada 1.oktobra sēdes protokollēmuma (prot. Nr. 40 27. §) 6.punktu.
A31: =A5+1 -> 70 | B31: 74. Gadskārtējā valsts budžeta izpildes procesā pārdalāmais finansējums | E31: 22.Kultūras ministrija | H31: Atbalstīt
B32: 09.00.00 "Valsts nozīmes reformas īstenošanai" | E32: 21.00.00 "Kultūras mantojums"
B33: 4.pielikums | E33: 4.pielikums
B34: Resursi izdevumu segšanai | C34: 9746199 | D34: =D35 -> -137622 | E34: Resursi izdevumu segšanai | F34: 66235688 | G34: =G35 -> 137622
B35: Dotācija no vispārējiem ieņēmumiem | C35: 9746199 | D35: =D36 -> -137622 | E35: Dotācija no vispārējiem ieņēmumiem | F35: 58897281 | G35: =G36 -> 137622
B36: Vispārējā kārtībā sadalāmā dotācija no vispārējiem ieņēmumiem | C36: 9746199 | D36: -137622 | E36: Vispārējā kārtībā sadalāmā dotācija no vispārējiem ieņēmumiem | F36: 58897281 | G36: 137622
B37: Izdevumi – kopā | C37: 9746199 | D37: =D38 -> -137622 | E37: Izdevumi – kopā | F37: 66235688 | G37: =G38 -> 137622
B38: Uzturēšanas izdevumi | C38: 9746199 | D38: =D39 -> -137622 | E38: Uzturēšanas izdevumi | F38: 63138413 | G38: =G39+G42+G44 -> 137622
B39: Subsīdijas, dotācijas, sociālie maksājumi un kompensācijas | C39: 9746199 | D39: -137622 | E39: Kārtējie izdevumi | F39: 52703037 | G39: =G40+G41 -> 24825
B40: Subsīdijas un dotācijas | C40: 9746199 | D40: -137622 | E40: Atlīdzība | F40: 37203685 | G40: 13137
E41: Preces un pakalpojumi | F41: 15499352 | G41: 11688
E42: Subsīdijas, dotācijas, sociālie maksājumi un kompensācijas | F42: 4431666 | G42: =G43 -> 73386
E43: Subsīdijas un dotācijas | F43: 4427766 | G43: 73386
E44: Transferti viena budžeta veida ietvaros un uzturēšanas izdevumu transferti starp budžeta veidiem | F44: 5993172 | G44: =G45 -> 39411
E45: Pārējie valsts budžeta uzturēšanas izdevumu transferti citiem budžetiem | F45: 5993172 | G45: =G46 -> 39411
E46: Pārējie valsts budžeta uzturēšanas izdevumu transferti valsts budžeta daļēji finansētām atvasinātām publiskām personām un budžeta nefinansētām iestādēm | F46: 487346 | G46: 39411
B47: 3.pielikums | E47: 3.pielikums
B48: I. Valsts pamatfunkciju īstenošana | E48: I. Valsts pamatfunkciju īstenošana
B49: 2026.gads | E49: 2026.gads
B50: Resursi izdevumu segšanai | C50: 395268323 | D50: =D51 -> -137622 | E50: Resursi izdevumu segšanai | F50: 246331085 | G50: =G51 -> 137622
B51: Dotācija no vispārējiem ieņēmumiem | C51: 395268323 | D51: =D52 -> -137622 | E51: Dotācija no vispārējiem ieņēmumiem | F51: 238041856 | G51: =G52 -> 137622
B52: Vispārējā kārtībā sadalāmā dotācija no vispārējiem ieņēmumiem | C52: 395268323 | D52: -137622 | E52: Vispārējā kārtībā sadalāmā dotācija no vispārējiem ieņēmumiem | F52: 238041856 | G52: 137622
B53: Izdevumi – kopā | C53: 395268323 | D53: =D54 -> -137622 | E53: Izdevumi – kopā | F53: 246331085 | G53: =G54 -> 137622
B54: Uzturēšanas izdevumi | C54: 395268323 | D54: =D55 -> -137622 | E54: Uzturēšanas izdevumi | F54: 242361291 | G54: =G55+G58+G60 -> 137622
B55: Subsīdijas, dotācijas, sociālie maksājumi un kompensācijas | C55: 395268323 | D55: -137622 | E55: Kārtējie izdevumi | F55: 100428107 | G55: =G56+G57 -> 24825
B56: Subsīdijas un dotācijas | C56: 395268323 | D56: -137622 | E56: Atlīdzība | F56: 74224469 | G56: 13137
E57: Preces un pakalpojumi | F57: 26203638 | G57: 11688
E58: Subsīdijas, dotācijas, sociālie maksājumi un kompensācijas | F58: 78085329 | G58: =G59 -> 73386
E59: Subsīdijas un dotācijas | F59: 76936436 | G59: 73386
E60: Transferti viena budžeta veida ietvaros un uzturēšanas izdevumu transferti starp budžeta veidiem | F60: 63626217 | G60: =G61 -> 39411
E61: Pārējie valsts budžeta uzturēšanas izdevumu transferti citiem budžetiem | F61: 58700637 | G61: =G62 -> 39411
E62: Pārējie valsts budžeta uzturēšanas izdevumu transferti valsts budžeta daļēji finansētām atvasinātām publiskām personām un budžeta nefinansētām iestādēm | F62: 13213792 | G62: 39411
B63: 2027.gads | E63: 2027.gads
B64: Resursi izdevumu segšanai | C64: 402328927 | D64: =D65 -> -137622 | E64: Resursi izdevumu segšanai | F64: 248297261 | G64: =G65 -> 137622
B65: Dotācija no vispārējiem ieņēmumiem | C65: 402328927 | D65: =D66 -> -137622 | E65: Dotācija no vispārējiem ieņēmumiem | F65: 240445194 | G65: =G66 -> 137622
B66: Vispārējā kārtībā sadalāmā dotācija no vispārējiem ieņēmumiem | C66: 402328927 | D66: -137622 | E66: Vispārējā kārtībā sadalāmā dotācija no vispārējiem ieņēmumiem | F66: 240445194 | G66: 137622
B67: Izdevumi – kopā | C67: 402328927 | D67: =D68 -> -137622 | E67: Izdevumi – kopā | F67: 248297261 | G67: =G68 -> 137622
B68: Uzturēšanas izdevumi | C68: 402328927 | D68: =D69 -> -137622 | E68: Uzturēšanas izdevumi | F68: 244427451 | G68: =G69+G72+G74 -> 137622
B69: Subsīdijas, dotācijas, sociālie maksājumi un kompensācijas | C69: 402328927 | D69: -137622 | E69: Kārtējie izdevumi | F69: 100724823 | G69: =G70+G71 -> 24825
B70: Subsīdijas un dotācijas | C70: 402328927 | D70: -137622 | E70: Atlīdzība | F70: 74326847 | G70: 13137
E71: Preces un pakalpojumi | F71: 26397976 | G71: 11688
E72: Subsīdijas, dotācijas, sociālie maksājumi un kompensācijas | F72: 83396898 | G72: =G73 -> 73386
E73: Subsīdijas un dotācijas | F73: 82236077 | G73: 73386
E74: Transferti viena budžeta veida ietvaros un uzturēšanas izdevumu transferti starp budžeta veidiem | F74: 60084092 | G74: =G75 -> 39411
E75: Pārējie valsts budžeta uzturēšanas izdevumu transferti citiem budžetiem | F75: 59839833 | G75: =G76 -> 39411
E76: Pārējie valsts budžeta uzturēšanas izdevumu transferti valsts budžeta daļēji finansētām atvasinātām publiskām personām un budžeta nefinansētām iestādēm | F76: 13179672 | G76: 39411
B77: Pārdalīt izdevumus no budžeta resora "74. Gadskārtējā valsts budžeta izpildes procesā pārdalāmais finansējums" programmas 09.00.00 "Valsts nozīmes reformas īstenošanai" uz Kultūras ministrijas programmu 21.00.00 “Kultūras mantojums”, lai nodrošinātu Dziesmu un deju svētku māksliniecisko kolektīvu vadītāju darba samaksas un valsts sociālās apdrošināšanas obligāto iemaksu finansēšanas reformas uzsākšanu, saskaņā ar 2024. gada 3. oktobra (prot. Nr. 40 34. §) Ministru kabineta rīkojuma Nr.802 "Par apropriācijas pārdali no budžeta resora "74. Gadskārtējā valsts budžeta izpildes procesā pārdalāmais finansējums" programmas 09.00.00 "Valsts nozīmes reformas īstenošanai"" 5.punktu.
A79: =A31+1 -> 71 | B79: 74. Gadskārtējā valsts budžeta izpildes procesā pārdalāmais finansējums | E79: 62. Mērķdotācijas pašvaldībām | H79: Atbalstīt
B80: 09.00.00 "Valsts nozīmes reformas īstenošanai" | E80: 02.00.00 "Mērķdotācijas pašvaldību tautas mākslas kolektīvu vadītāju darba samaksai un valsts sociālās apdrošināšanas obligātajām iemaksām"
B81: 4.pielikums | E81: 4.pielikums
B82: Resursi izdevumu segšanai | C82: 9746199 | D82: =D83 -> -1086294 | E82: Resursi izdevumu segšanai | F82: =F83 -> 966394 | G82: =G83 -> 1086294
B83: Dotācija no vispārējiem ieņēmumiem | C83: 9746199 | D83: -1086294 | E83: Dotācija no vispārējiem ieņēmumiem | F83: =F84 -> 966394 | G83: =G84 -> 1086294
B84: Vispārējā kārtībā sadalāmā dotācija no vispārējiem ieņēmumiem | C84: 9746199 | D84: -1086294 | E84: Vispārējā kārtībā sadalāmā dotācija no vispārējiem ieņēmumiem | F84: 966394 | G84: 1086294
B85: Izdevumi – kopā | C85: 9746199 | D85: =D86 -> -1086294 | E85: Izdevumi – kopā | F85: =F86 -> 966394 | G85: =G86 -> 1086294
B86: Uzturēšanas izdevumi | C86: 9746199 | D86: -1086294 | E86: Uzturēšanas izdevumi | F86: 966394 | G86: 1086294
B87: Subsīdijas, dotācijas, sociālie maksājumi un kompensācijas | C87: 9746199 | D87: -1086294 | E87: Transferti viena budžeta veida ietvaros un uzturēšanas izdevumu transferti starp budžeta veidiem | F87: 966394 | G87: 1086294
B88: Subsīdijas un dotācijas | C88: 9746199 | D88: -1086294 | E88: Pārējie valsts budžeta uzturēšanas izdevumu transferti citiem budžetiem | F88: 966394 | G88: 1086294
E89: Pārējie valsts budžeta uzturēšanas izdevumu transferti pašvaldībām | F89: 966394 | G89: 1086294
B90: 3.pielikums | E90: 3.pielikums
B91: I. Valsts pamatfunkciju īstenošana | E91: I. Valsts pamatfunkciju īstenošana
B92: 2026.gads | E92: 2026.gads
B93: Resursi izdevumu segšanai | C93: 395268323 | D93: =D94 -> -1086294 | E93: Resursi izdevumu segšanai | F93: 622979045 | G93: =G94 -> 1086294
B94: Dotācija no vispārējiem ieņēmumiem | C94: 395268323 | D94: -1086294 | E94: Dotācija no vispārējiem ieņēmumiem | F94: 622979045 | G94: =G95 -> 1086294
B95: Vispārējā kārtībā sadalāmā dotācija no vispārējiem ieņēmumiem | C95: 395268323 | D95: -1086294 | E95: Vispārējā kārtībā sadalāmā dotācija no vispārējiem ieņēmumiem | F95: 622979045 | G95: 1086294
B96: Izdevumi – kopā | C96: 395268323 | D96: =D97 -> -1086294 | E96: Izdevumi – kopā | F96: 622979045 | G96: =G97 -> 1086294
B97: Uzturēšanas izdevumi | C97: 395268323 | D97: -1086294 | E97: Uzturēšanas izdevumi | F97: 622979045 | G97: 1086294
B98: Subsīdijas, dotācijas, sociālie maksājumi un kompensācijas | C98: 395268323 | D98: -1086294 | E98: Transferti viena budžeta veida ietvaros un uzturēšanas izdevumu transferti starp budžeta veidiem | F98: 622979045 | G98: 1086294
B99: Subsīdijas un dotācijas | C99: 395268323 | D99: -1086294 | E99: Pārējie valsts budžeta uzturēšanas izdevumu transferti citiem budžetiem | F99: 622979045 | G99: 1086294
E100: Pārējie valsts budžeta uzturēšanas izdevumu transferti pašvaldībām | F100: 622979045 | G100: 1086294
B101: 2027.gads | E101: 2027.gads
B102: Resursi izdevumu segšanai | C102: 402328927 | D102: =D103 -> -1086294 | E102: Resursi izdevumu segšanai | F102: 622100060 | G102: =G103 -> 1086294
B103: Dotācija no vispārējiem ieņēmumiem | C103: 402328927 | D103: -1086294 | E103: Dotācija no vispārējiem ieņēmumiem | F103: 622100060 | G103: =G104 -> 1086294
B104: Vispārējā kārtībā sadalāmā dotācija no vispārējiem ieņēmumiem | C104: 402328927 | D104: -1086294 | E104: Vispārējā kārtībā sadalāmā dotācija no vispārējiem ieņēmumiem | F104: 622100060 | G104: 1086294
...

Sheet VM
C1: Pieņemts pirmajā lasījumā | D1: Priekšlikums par izmaiņām | F1: Pieņemts pirmajā lasījumā | G1: Priekšlikums par izmaiņām | H1: Priekšlikums MK atzinumam
B3: 29. Veselības ministrija
A5: =KM!A154+1 -> 75 | B5: 74. Gadskārtējā valsts budžeta izpildes procesā pārdalāmais finansējums | E5: 29. Veselības ministrija | H5: Atbalstīt
B6: 4.pielikums | E6: 4.pielikums
B7: 20.00.00 Veselības aprūpes pasākumu īstenošana | E7: 33.18.00 Plānveida stacionāro veselības aprūpes pakalpojumu nodrošināšana
B8: Resursi izdevumu segšanai | C8: =C10 -> 6958690 | D8: =D10 -> -40000 | E8: Resursi izdevumu segšanai | F8: =F10+F9 -> 232914777 | G8: =G10 -> 40000
B9: Dotācija no vispārējiem ieņēmumiem | C9: =C10 -> 6958690 | D9: =D10 -> -40000 | E9: Ieņēmumi no maksas pakalpojumiem un citi pašu ieņēmumi – kopā | F9: 230707
B10: Vispārējā kārtībā sadalāmā dotācija no vispārējiem ieņēmumiem | C10: 6958690 | D10: =D11 -> -40000 | E10: Dotācija no vispārējiem ieņēmumiem | F10: =F11 -> 232684070 | G10: =G11 -> 40000
B11: Izdevumi – kopā | C11: =C12 -> 6958690 | D11: =D12 -> -40000 | E11: Vispārējā kārtībā sadalāmā dotācija no vispārējiem ieņēmumiem | F11: 232684070 | G11: =G12 -> 40000
B12: Uzturēšanas izdevumi | C12: =C13 -> 6958690 | D12: =D13 -> -40000 | E12: Izdevumi – kopā | F12: =F13 -> 232914777 | G12: =G13 -> 40000
B13: Subsīdijas, dotācijas, sociālie maksājumi un kompensācijas | C13: =C14 -> 6958690 | D13: =D14 -> -40000 | E13: Uzturēšanas izdevumi | F13: =F14 -> 232914777 | G13: =G14 -> 40000
B14: Subsīdijas un dotācijas | C14: 6958690 | D14: -40000 | E14: Subsīdijas, dotācijas, sociālie maksājumi un kompensācijas | F14: =F15 -> 232914777 | G14: =G15 -> 40000
E15: Subsīdijas un dotācijas | F15: 232914777 | G15: 40000
B16: 74. Gadskārtējā valsts budžeta izpildes procesā pārdalāmais finansējums | E16: 29. Veselības ministrija
B17: 3.pielikums | E17: 3.pielikums
B18: I. Valsts pamatfunkciju īstenošana | E18: I. Valsts pamatfunkciju īstenošana
B19: 2026.gads | E19: 2026.gads
B20: Resursi izdevumu segšanai | C20: =C21 -> 395268323 | D20: =D21 -> -40000 | E20: Resursi izdevumu segšanai | F20: =F21+F22 -> 1910138990 | G20: =G21+G22 -> 40000
B21: Dotācija no vispārējiem ieņēmumiem | C21: =C22 -> 395268323 | D21: =D22 -> -40000 | E21: Ieņēmumi no maksas pakalpojumiem un citi pašu ieņēmumi – kopā | F21: 23921900
B22: Vispārējā kārtībā sadalāmā dotācija no vispārējiem ieņēmumiem | C22: 395268323 | D22: =D23 -> -40000 | E22: Dotācija no vispārējiem ieņēmumiem | F22: =F23 -> 1886217090 | G22: =G23 -> 40000
B23: Izdevumi – kopā | C23: =C24 -> 395268323 | D23: =D24 -> -40000 | E23: Vispārējā kārtībā sadalāmā dotācija no vispārējiem ieņēmumiem | F23: 1886217090 | G23: 40000
B24: Uzturēšanas izdevumi | C24: =C25 -> 395268323 | D24: =D25 -> -40000 | E24: Izdevumi – kopā | F24: =F25+F40 -> 1910588990 | G24: =G25+G40 -> 40000
B25: Subsīdijas, dotācijas, sociālie maksājumi un kompensācijas | C25: =C26 -> 395268323 | D25: =D26 -> -40000 | E25: Uzturēšanas izdevumi | F25: =F26+F29+F32+F34 -> 1907247991 | G25: =G26+G29+G32+G34 -> 40000
B26: Subsīdijas un dotācijas | C26: 395268323 | D26: -40000 | E26: Kārtējie izdevumi | F26: =F27+F28 -> 172329003
E27: Atlīdzība | F27: 141961094
E28: Preces un pakalpojumi | F28: 30367909
E29: Subsīdijas, dotācijas, sociālie maksājumi un kompensācijas | F29: =F30+F31 -> 1661633259 | G29: =G30 -> 40000
E30: Subsīdijas un dotācijas | F30: 1659761873 | G30: 40000
E31: Sociāla rakstura maksājumi un kompensācijas | F31: 1871386
E32: Kārtējie maksājumi Eiropas Savienības budžetā un starptautiskā sadarbība | F32: =F33 -> 415821
E33: Starptautiskā sadarbība | F33: 415821
E34: Transferti viena budžeta veida ietvaros un uzturēšanas izdevumu transferti starp budžeta veidiem | F34: =F35+F37 -> 72869908
E35: Valsts budžeta transferti un uzturēšanas izdevumu transferti | F35: =F36 -> 2408
E36: Valsts budžeta uzturēšanas izdevumu transferti no valsts pamatbudžeta uz valsts speciālo budžetu | F36: 2408
E37: Pārējie valsts budžeta uzturēšanas izdevumu transferti citiem budžetiem | F37: =F38+F39 -> 72867500
E38: Pārējie valsts budžeta uzturēšanas izdevumu transferti pašvaldībām | F38: 2853988
E39: Pārējie valsts budžeta uzturēšanas izdevumu transferti valsts budžeta daļēji finansētām atvasinātām publiskām personām un budžeta nefinansētām iestādēm | F39: 70013512
E40: Kapitālie izdevumi | F40: =F41 -> 3340999
E41: Pamatkapitāla veidošana | F41: 3340999
E42: Finansiālā bilance | F42: =F20-F24 -> -450000
E43: Finansēšana | F43: =F44 -> 450000
E44: Naudas līdzekļi | F44: =F45 -> 450000
E45: Maksas pakalpojumu un citu pašu ieņēmumu naudas līdzekļu atlikumu izmaiņas palielinājums (-) vai samazinājums (+) | F45: 450000
B46: 2027.gads | E46: 2027.gads
B47: Resursi izdevumu segšanai | C47: =C48 -> 402328927 | D47: =D48 -> -40000 | E47: Resursi izdevumu segšanai | F47: =F48+F49 -> 1909828846 | G47: =G48+G49 -> 40000
B48: Dotācija no vispārējiem ieņēmumiem | C48: =C49 -> 402328927 | D48: =D49 -> -40000 | E48: Ieņēmumi no maksas pakalpojumiem un citi pašu ieņēmumi – kopā | F48: 23921900
B49: Vispārējā kārtībā sadalāmā dotācija no vispārējiem ieņēmumiem | C49: 402328927 | D49: =D50 -> -40000 | E49: Dotācija no vispārējiem ieņēmumiem | F49: =F50 -> 1885906946 | G49: =G50 -> 40000
B50: Izdevumi – kopā | C50: =C51 -> 402328927 | D50: =D51 -> -40000 | E50: Vispārējā kārtībā sadalāmā dotācija no vispārējiem ieņēmumiem | F50: 1885906946 | G50: 40000
B51: Uzturēšanas izdevumi | C51: =C52 -> 402328927 | D51: =D52 -> -40000 | E51: Izdevumi – kopā | F51: =F52+F67 -> 1910278846 | G51: =G52+G67 -> 40000
B52: Subsīdijas, dotācijas, sociālie maksājumi un kompensācijas | C52: =C53 -> 402328927 | D52: =D53 -> -40000 | E52: Uzturēšanas izdevumi | F52: =F53+F56+F59+F61 -> 1906937847 | G52: =G53+G56+G59+G61 -> 40000
B53: Subsīdijas un dotācijas | C53: 402328927 | D53: -40000 | E53: Kārtējie izdevumi | F53: =F54+F55 -> 172018859
E54: Atlīdzība | F54: 142029204
E55: Preces un pakalpojumi | F55: 29989655
E56: Subsīdijas, dotācijas, sociālie maksājumi un kompensācijas | F56: =F57+F58 -> 1661633259 | G56: =G57 -> 40000
E57: Subsīdijas un dotācijas | F57: 1659761873 | G57: 40000
E58: Sociāla rakstura maksājumi un kompensācijas | F58: 1871386
E59: Kārtējie maksājumi Eiropas Savienības budžetā un starptautiskā sadarbība | F59: =F60 -> 415821
E60: Starptautiskā sadarbība | F60: 415821
E61: Transferti viena budžeta veida ietvaros un uzturēšanas izdevumu transferti starp budžeta veidiem | F61: =F62+F64 -> 72869908
E62: Valsts budžeta transferti un uzturēšanas izdevumu transferti | F62: =F63 -> 2408
E63: Valsts budžeta uzturēšanas izdevumu transferti no valsts pamatbudžeta uz valsts speciālo budžetu | F63: 2408
E64: Pārējie valsts budžeta uzturēšanas izdevumu transferti citiem budžetiem | F64: =F65+F66 -> 72867500
E65: Pārējie valsts budžeta uzturēšanas izdevumu transferti pašvaldībām | F65: 2853988
E66: Pārējie valsts budžeta uzturēšanas izdevumu transferti valsts budžeta daļēji finansētām atvasinātām publiskām personām un budžeta nefinansētām iestādēm | F66: 70013512
E67: Kapitālie izdevumi | F67: =F68 -> 3340999
E68: Pamatkapitāla veidošana | F68: 3340999
E69: Finansiālā bilance | F69: =F47-F51 -> -450000
E70: Finansēšana | F70: =F71 -> 450000
E71: Naudas līdzekļi | F71: =F72 -> 450000
E72: Maksas pakalpojumu un citu pašu ieņēmumu naudas līdzekļu atlikumu izmaiņas palielinājums (-) vai samazinājums (+) | F72: 450000
B73: Finansējuma pārdale no valsts budžeta resora "74. Gadskārtējā valsts budžeta izpildes procesā pārdalāmais finansējums" programmas 20.00.00 "Veselības aprūpes pasākumu īstenošana" uz Veselības ministrijas budžeta apakšprogrammu 33.18.00 "Plānveida stacionāro veselības aprūpes pakalpojumu nodrošināšana" 2025. gadā un turpmāk ik gadu 40 000 euro, lai turpinātu nodrošināt bērniem hematonkoloģisko preparātu ievadi mājas apstākļos atbilstoši MK 01.10.2024. sēdes protokola Nr.40 43.§ "Rīkojuma projekts "Par apropriācijas pārdali no budžeta resora "74. Gadskārtējā valsts budžeta izpildes procesā pārdalāmais finansējums" programmas 20.00.00 "Veselības aprūpes pasākumu īstenošana" un apropriācijas palielināšanu Veselības ministrijai"" 3.punktam.
A75: =A5+1 -> 76 | B75: 74. Gadskārtējā valsts budžeta izpildes procesā pārdalāmais finansējums | E75: 29. Veselības ministrija | H75: Atbalstīt
B76: 4.pielikums | E76: 4.pielikums
B77: 18.00.00 Finansējums valsts drošības stiprināšanas pasākumiem | E77: 39.04.00 Neatliekamā medicīniskā palīdzība
B78: Resursi izdevumu segšanai | C78: =C80 -> 389536526 | D78: =D80 -> -80975 | E78: Resursi izdevumu segšanai | F78: =F80+F79 -> 121931354 | G78: =G80 -> 80975
B79: Dotācija no vispārējiem ieņēmumiem | C79: =C80 -> 389536526 | D79: =D80 -> -80975 | E79: Ieņēmumi no maksas pakalpojumiem un citi pašu ieņēmumi – kopā | F79: 912416
B80: Vispārējā kārtībā sadalāmā dotācija no vispārējiem ieņēmumiem | C80: 389536526 | D80: =D81 -> -80975 | E80: Dotācija no vispārējiem ieņēmumiem | F80: =F81 -> 121018938 | G80: =G81 -> 80975
B81: Izdevumi – kopā | C81: =C82 -> 389536526 | D81: =D82 -> -80975 | E81: Vispārējā kārtībā sadalāmā dotācija no vispārējiem ieņēmumiem | F81: 121018938 | G81: =G82 -> 80975
B82: Uzturēšanas izdevumi | C82: =C83 -> 389536526 | D82: =D83 -> -80975 | E82: Izdevumi – kopā | F82: =F83+F87 -> 121931354 | G82: =G83+G87 -> 80975
B83: Subsīdijas, dotācijas, sociālie maksājumi un kompensācijas | C83: =C84 -> 389536526 | D83: =D84 -> -80975 | E83: Uzturēšanas izdevumi | F83: =F84 -> 119475856 | G83: =G84 -> 80175
B84: Subsīdijas un dotācijas | C84: 389536526 | D84: -80975 | E84: Kārtējie izdevumi | F84: =F85+F86 -> 119475856 | G84: =G85+G86 -> 80175
E85: Atlīdzība | F85: 107920927
E86: Preces un pakalpojumi | F86: 11554929 | G86: 80175
E87: Kapitālie izdevumi | F87: =F88 -> 2455498 | G87: =G88 -> 800
E88: Pamatkapitāla veidošana | F88: 2455498 | G88: 800
B89: Finansējuma pārdale no valsts budžeta resora "74. Gadskārtējā valsts budžeta izpildes procesā pārdalāmais finansējums" programmas 18.00.00 "Finansējums valsts drošības stiprināšanas pasākumiem" uz Veselības ministrijas budžeta apakšprogrammu 39.04.00 "Neatliekamā medicīniskā palīdzība" 2025. gadā 80 975 euro, lai nodrošinātu katastrofu pārvaldības centru Madonā, Salacgrīvā, Viļānos, Alsungā, Alūksnē, Talsos un Tukumā darbību (funkcionēšanu) pēc to izbūves pabeigšanas atbilstoši MK 29.10.2024. sēdes protokola Nr.46 78.§ "Informatīvais ziņojums "Par katastrofu pārvaldības centru Liepājā, Daugavpilī, Madonā, Līvānos, Salacgrīvā, Viļānos, Alsungā, Alūksnē, Talsos un Tukumā būvniecības progresu un to darbības nodrošināšanai nepieciešamo finansējumu"" 2.2.7.apakšpunktam un 3.punktam.
A91: =A75+1 -> 77 | B91: 74. Gadskārtējā valsts budžeta izpildes procesā pārdalāmais finansējums | E91: 29. Veselības ministrija | H91: Atbalstīt
B92: 4.pielikums | E92: 4.pielikums
B93: 20.00.00 Veselības aprūpes pasākumu īstenošana | E93: 45.01.00 Veselības aprūpes finansējuma administrēšana un ekonomiskā novērtēšana
B94: Resursi izdevumu segšanai | C94: =C96 -> 6958690 | D94: =D96 -> -3882821 | E94: Resursi izdevumu segšanai | F94: =F96+F95 -> 17759565 | G94: =G96 -> 3882821
B95: Dotācija no vispārējiem ieņēmumiem | C95: =C96 -> 6958690 | D95: =D96 -> -3882821 | E95: Ieņēmumi no maksas pakalpojumiem un citi pašu ieņēmumi – kopā | F95: 1486099
B96: Vispārējā kārtībā sadalāmā dotācija no vispārējiem ieņēmumiem | C96: 6958690 | D96: =D97 -> -3882821 | E96: Dotācija no vispārējiem ieņēmumiem | F96: =F97 -> 16273466 | G96: =G97 -> 3882821
B97: Izdevumi – kopā | C97: =C98 -> 6958690 | D97: =D98 -> -3882821 | E97: Vispārējā kārtībā sadalāmā dotācija no vispārējiem ieņēmumiem | F97: 16273466 | G97: =G98 -> 3882821
B98: Uzturēšanas izdevumi | C98: =C99 -> 6958690 | D98: =D99 -> -3882821 | E98: Izdevumi – kopā | F98: =F99+F105 -> 17759565 | G98: =G99 -> 3882821
B99: Subsīdijas, dotācijas, sociālie maksājumi un kompensācijas | C99: =C100 -> 6958690 | D99: =D100 -> -3882821 | E99: Uzturēšanas izdevumi | F99: =F100+F103 -> 16850153 | G99: =G103 -> 3882821
B100: Subsīdijas un dotācijas | C100: 6958690 | D100: =-3882821 -> -3882821 | E100: Kārtējie izdevumi | F100: =F101+F102 -> 16357412
E101: Atlīdzība | F101: 6620738
E102: Preces un pakalpojumi | F102: 9736674
E103: Subsīdijas, dotācijas, sociālie maksājumi un kompensācijas | F103: =F104 -> 492741 | G103: =G104 -> 3882821
E104: Subsīdijas un dotācijas | F104: 492741 | G104: 3882821
...

Sheet Prokuratūra
C1: Pieņemts pirmajā lasījumā | D1: Priekšlikums par izmaiņām | F1: Pieņemts pirmajā lasījumā | G1: Priekšlikums par izmaiņām | H1: Priekšlikums MK atzinumam
B3: 32. Prokuratūra
A5: =VM!A139+1 -> 79 | B5: 32. Prokuratūra | E5: 12. Ekonomikas ministrija | H5: Atbalstīt
B6: 3. pielikums | E6: 3. pielikums
B7: I. Valsts pamatfunkciju īstenošana | E7: I. Valsts pamatfunkciju īstenošana
B8: 2027.gadā | E8: 2027.gadā
B9: Resursi izdevumu segšanai | C9: 52537919 | D9: =D10 -> -13841 | E9: Resursi izdevumu segšanai | F9: 109511338 | G9: =G10 -> 13841
B10: Dotācija no vispārējiem ieņēmumiem | C10: 52537919 | D10: =D11 -> -13841 | E10: Dotācija no vispārējiem ieņēmumiem | F10: 107677051 | G10: =G11 -> 13841
B11: Vispārējā kārtībā sadalāmā dotācija no vispārējiem ieņēmumiem | C11: 52537919 | D11: -13841 | E11: Vispārējā kārtībā sadalāmā dotācija no vispārējiem ieņēmumiem | F11: 107677051 | G11: 13841
B12: Izdevumi – kopā | C12: 52537919 | D12: =D13 -> -13841 | E12: Izdevumi – kopā | F12: 109618938 | G12: =G13 -> 13841
B13: Uzturēšanas izdevumi | C13: 51889977 | D13: =D14 -> -13841 | E13: Uzturēšanas izdevumi | F13: 106581918 | G13: =G14 -> 13841
B14: Kārtējie izdevumi | C14: 51887385 | D14: =D15 -> -13841 | E14: Kārtējie izdevumi | F14: 57831623 | G14: =G15 -> 13841
B15: Preces un pakalpojumi | C15: 7881222 | D15: -13841 | E15: Preces un pakalpojumi | F15: 18720014 | G15: 13841
E16: 12. Ekonomikas ministrija
E17: 11. pielikums
E18: 97.00.00 Nozaru vadība un politikas plānošana
E19: 0600000000 Citas ilgtermiņa saistības
E20: Telpu Rīgā, Talejas ielā 1, nomas maksas izdevumu segšanai
E21: 2027.gadā
E22: Resursi izdevumu segšanai | F22: 0 | G22: 13841
E23: Dotācija no vispārējiem ieņēmumiem | F23: 0 | G23: 13841
E24: Vispārējā kārtībā sadalāmā dotācija no vispārējiem ieņēmumiem | F24: 0 | G24: 13841
E25: Izdevumi – kopā | F25: 0 | G25: 13841
E26: Uzturēšanas izdevumi | F26: 0 | G26: 13841
E27: Kārtējie izdevumi | F27: 0 | G27: 13841
E28: Preces un pakalpojumi | F28: 0
E29: 2028.gadā
E30: Resursi izdevumu segšanai | F30: 0 | G30: 13841
E31: Dotācija no vispārējiem ieņēmumiem | F31: 0 | G31: 13841
E32: Vispārējā kārtībā sadalāmā dotācija no vispārējiem ieņēmumiem | F32: 0 | G32: 13841
E33: Izdevumi – kopā | F33: 0 | G33: 13841
E34: Uzturēšanas izdevumi | F34: 0 | G34: 13841
E35: Kārtējie izdevumi | F35: 0 | G35: 13841
E36: Preces un pakalpojumi | G36: 13841
E37: Tālākā laika posmā līdz projekta īstenošanai
E38: Resursi izdevumu segšanai
E39: Dotācija no vispārējiem ieņēmumiem | F39: 0 | G39: 207615
E40: Vispārējā kārtībā sadalāmā dotācija no vispārējiem ieņēmumiem | F40: 0 | G40: 207615
E41: Izdevumi – kopā | F41: 0 | G41: 207615
E42: Uzturēšanas izdevumi | F42: 0 | G42: 207615
E43: Kārtējie izdevumi | F43: 0 | G43: 207615
E44: Preces un pakalpojumi | F44: 0 | G44: 207615
B45: Finansējuma pārdale no Prokuratūras budžeta uz Ekonomikas ministrijas budžetu saskaņā ar MK 29.10.2024 sēdes protokola Nr. 46 59. § 3.3.apakšpunktu (24-TA-2437) .
A47: =A5+1 -> 80 | B47: 32. Prokuratūra | H47: Atbalstīt
B48: 11.pielikums
B49: 01.00.00 Prokuratūras iestāžu uzturēšana
B50: 0600000000 Citas ilgtermiņa saistības
B51: Telpu Rīgā, Talejas ielā 1, nomas maksas izdevumu segšanai | C51: CIS/PROK/004
B52: 2025.gads
B53: Resursi izdevumu segšanai | C53: =C54 -> 70510 | D53: =D54 -> 19315
B54: Dotācija no vispārējiem ieņēmumiem | C54: =C55 -> 70510 | D54: =D55 -> 19315
B55: Vispārējā kārtībā sadalāmā dotācija no vispārējiem ieņēmumiem | C55: 70510 | D55: 19315
B56: Izdevumi – kopā | C56: =C57 -> 70510 | D56: =D57 -> 19315
B57: Uzturēšanas izdevumi | C57: =C58 -> 70510 | D57: =D58 -> 19315
B58: Kārtējie izdevumi | C58: =C59 -> 70510 | D58: =D59 -> 19315
B59: Preces un pakalpojumi | C59: 70510 | D59: 19315
B60: 2026.gads
B61: Resursi izdevumu segšanai | C61: 70510 | D61: =D62 -> 19315
B62: Dotācija no vispārējiem ieņēmumiem | C62: 70510 | D62: =D63 -> 19315
B63: Vispārējā kārtībā sadalāmā dotācija no vispārējiem ieņēmumiem | C63: 70510 | D63: 19315
B64: Izdevumi – kopā | C64: 70510 | D64: =D65 -> 19315
B65: Uzturēšanas izdevumi | C65: 70510 | D65: =D66 -> 19315
B66: Kārtējie izdevumi | C66: 70510 | D66: =D67 -> 19315
B67: Preces un pakalpojumi | C67: 70510 | D67: 19315
B68: 2027.gads
B69: Resursi izdevumu segšanai | C69: 70510 | D69: =D70 -> 5474
B70: Dotācija no vispārējiem ieņēmumiem | C70: 70510 | D70: =D71 -> 5474
B71: Vispārējā kārtībā sadalāmā dotācija no vispārējiem ieņēmumiem | C71: 70510 | D71: 5474
B72: Izdevumi – kopā | C72: 70510 | D72: =D73 -> 5474
B73: Uzturēšanas izdevumi | C73: 70510 | D73: =D74 -> 5474
B74: Kārtējie izdevumi | C74: 70510 | D74: =D75 -> 5474
B75: Preces un pakalpojumi | C75: 70510 | D75: 5474
B76: 2028.gads
B77: Resursi izdevumu segšanai | C77: 70510 | D77: 5474
B78: Dotācija no vispārējiem ieņēmumiem | C78: 70510 | D78: 5474
B79: Vispārējā kārtībā sadalāmā dotācija no vispārējiem ieņēmumiem | C79: 70510 | D79: 5474
B80: Izdevumi – kopā | C80: 70510 | D80: 5474
B81: Uzturēšanas izdevumi | C81: 70510 | D81: 5474
B82: Kārtējie izdevumi | C82: 70510 | D82: 5474
B83: Preces un pakalpojumi | C83: 70510 | D83: 5474
B84: Tālākā laika posmā līdz projekta īstenošanai
B85: Resursi izdevumu segšanai | C85: 1075083 | D85: 88547
B86: Dotācija no vispārējiem ieņēmumiem | C86: 1075083 | D86: 88547
B87: Vispārējā kārtībā sadalāmā dotācija no vispārējiem ieņēmumiem | C87: 1075083 | D87: 88547
B88: Izdevumi – kopā | C88: 1075083 | D88: 88547
B89: Uzturēšanas izdevumi | C89: 1075083 | D89: 88547
B90: Kārtējie izdevumi | C90: 1075083 | D90: 88547
B91: Preces un pakalpojumi | C91: 1075083 | D91: 88547
B92: Saskaņā ar Ministru kabineta 2024.gada 1.novembra rīkojumu Nr.909 "Par finansējumu biroja ēkas valsts pārvaldes iestāžu un Latvijas Republikas Prokuratūras vajadzībām Talejas ielā 1, Rīgā, telpu nomas maksas ilgtermiņa saistībām, pielāgošanas, aprīkojuma, pārcelšanās izdevumu segšanai " (skatīts MK 29.10.2024) Prokuratūrai tiek paradzēts finansējums ilgtermiņa saistību pasākumam "Telpu Rīgā, Talejas ielā 1, nomas maksas izdevumu segšanai" 2025. gadā 95 004 euro apmērā, 2026. gadā 91 080 euro apmērā, no 2027. gada līdz 2043.gadam katru gadu 75 984 euro apmērā un 2044. gadā 25 328 euro apmērā. Finansējums tiek nodrošināts, veicot iekšējās pārdales Prokuratūras budžeta ietvaros.

Sheet 62.res
C1: Pieņemts pirmajā lasījumā | D1: Priekšlikums par izmaiņām | F1: Pieņemts pirmajā lasījumā | G1: Priekšlikums par izmaiņām | H1: Priekšlikums MK atzinumam
B3: 62. Mērķdotācijas pašvaldībām
A5: =Prokuratūra!A47+1 -> 81 | B5: 62. Mērķdotācijas pašvaldībām | E5: 62. Mērķdotācijas pašvaldībām | H5: Atbalstīt
B6: 4.pielikums | E6: 4.pielikums
B7: 10.00.00. "Mērķdotācijas pašvaldībām – pašvaldību izglītības iestādēs bērnu no piecu gadu vecuma izglītošanā nodarbināto pedagogu darba samaksai un valsts sociālās apdrošināšanas obligātajām iemaksām" | E7: 01.00.00. "Mērķdotācijas izglītības pasākumiem"
B8: Resursi izdevumu segšanai | C8: =C9 -> 74325697 | D8: =+D9 -> -866952 | E8: Resursi izdevumu segšanai | F8: =+F9 -> 71771693 | G8: =+G9 -> 866952
B9: Dotācija no vispārējiem ieņēmumiem | C9: =C10 -> 74325697 | D9: =+D10 -> -866952 | E9: Dotācija no vispārējiem ieņēmumiem | F9: =+F10 -> 71771693 | G9: =+G10 -> 866952
B10: Vispārējā kārtībā sadalāmā dotācija no vispārējiem ieņēmumiem | C10: =C11 -> 74325697 | D10: =+D11 -> -866952 | E10: Vispārējā kārtībā sadalāmā dotācija no vispārējiem ieņēmumiem | F10: =+F11 -> 71771693 | G10: =+G11 -> 866952
B11: Izdevumi – kopā | C11: =C12 -> 74325697 | D11: =+D12 -> -866952 | E11: Izdevumi – kopā | F11: =+F12 -> 71771693 | G11: =+G12 -> 866952
B12: Uzturēšanas izdevumi | C12: =C13 -> 74325697 | D12: =+D13 -> -866952 | E12: Uzturēšanas izdevumi | F12: =+F13 -> 71771693 | G12: =+G13 -> 866952
B13: Transferti viena budžeta veida ietvaros un uzturēšanas izdevumu transferti starp budžeta veidiem | C13: =C14 -> 74325697 | D13: =+D14 -> -866952 | E13: Transferti viena budžeta veida ietvaros un uzturēšanas izdevumu transferti starp budžeta veidiem | F13: =+F14 -> 71771693 | G13: =+G14 -> 866952
B14: Pārējie valsts budžeta uzturēšanas izdevumu transferti citiem budžetiem | C14: =C15 -> 74325697 | D14: =D15 -> -866952 | E14: Pārējie valsts budžeta uzturēšanas izdevumu transferti citiem budžetiem | F14: =+F15 -> 71771693 | G14: =+G15 -> 866952
B15: Pārējie valsts budžeta uzturēšanas izdevumu transferti pašvaldībām | C15: 74325697 | D15: -866952 | E15: Pārējie valsts budžeta uzturēšanas izdevumu transferti pašvaldībām | F15: 71771693 | G15: 866952
B16: Lai nodrošinātu pedagogu darba samaksu 2025. gadā un turpmāk, ņemot vērā izglītojamo skaita un struktūras uz 2024. gada 1. septembri izmaiņu ietekmi (neieskaitot Ukrainas civiliedzīvotājus) (MK 01.10.2024. prot. Nr. 40, 30. §, 3.3. apakšpunkts), veikta finansējuma pārdale no 62. resora programmas 10.00.00 "Mērķdotācijas pašvaldībām – pašvaldību izglītības iestādēs bērnu no piecu gadu vecuma izglītošanā nodarbināto pedagogu darba samaksai un valsts sociālās apdrošināšanas obligātajām iemaksām" uz 62. resora programmu 01.00.00. "Mērķdotācijas izglītības pasākumiem" : 2025. gadā 866 952 euro apmērā; 2026. gadā 619 117 euro apmērā; 2027. gadā un turpmāk 619 117 euro apmērā.

Sheet 6.piel.
B1: Nobalsots 1.lasījumā | D1: Priekšlikumi 2.lasījumam | G1: Priekšlikums MK atzinumam
B4: 15. Izglītības un zinātnes ministrija | D4: Izteikt likumprojekta 6.pielikumu jaunā redakcijā:
B6: 6.pielikums | F6: 6.pielikums
A7: ='62.res'!A5+1 -> 82 | B7: Mērķdotācijas pašvaldībām – pašvaldību pamata un vispārējās vidējās izglītības iestāžu, pašvaldību speciālās izglītības iestāžu un pašvaldību profesionālās izglītības iestāžu pedagogu darba samaksai un valsts sociālās apdrošināšanas obligātajām iemaksām | D7: Mērķdotācijas pašvaldībām – pašvaldību pamata un vispārējās vidējās izglītības iestāžu, pašvaldību speciālās izglītības iestāžu un pašvaldību profesionālās izglītības iestāžu pedagogu darba samaksai un valsts sociālās apdrošināšanas obligātajām iemaksām | G7: Atbalstīt
D9: I. No 2025. gada 1. janvāra līdz 2025. gada 31. augustam
B10: Pašvaldības | C10: Euro | D10: Pašvaldības | E10: Euro | F10: tai skaitā par izglītības programmu īstenošanu valsts valodā mazākumtautību izglītojamiem
B12: KOPĀ | C12: 439454795 | D12: Rīgas valstspilsēta | E12: 81710378 | F12: 744791
D13: Daugavpils valstspilsēta | E13: 11558619 | F13: 182730
D14: Jelgavas valstspilsēta | E14: 10437812 | F14: 37578
D15: Jūrmalas valstspilsēta | E15: 5639983 | F15: 38868
D16: Liepājas valstspilsēta | E16: 9972832 | F16: 53384
D17: Rēzeknes valstspilsēta | E17: 4797557 | F17: 51126
D18: Ventspils valstspilsēta | E18: 5421661 | F18: 24676
D19: Aizkraukles novads | E19: 4799409 | F19: 0
D20: Alūksnes novads | E20: 2262929 | F20: 0
D21: Augšdaugavas novads | E21: 3470346 | F21: 19837
D22: Ādažu novads | E22: 3585833 | F22: 7096
D23: Balvu novads | E23: 3422612 | F23: 0
D24: Bauskas novads | E24: 7311903 | F24: 0
... D54: Ventspils novads | E54: 1618242 | F54: 0
D55: KOPĀ | E55: =SUM(E12:E54) -> 290649008 | F55: =SUM(F12:F54) -> 1267497
D57: II. No 2025. gada 1. septembra līdz 2025. gada 31. decembrim
D58: Pašvaldības | E58: Euro
D59: Nesadalītie līdzekļi | E59: 145324507
D61: PAVISAM KOPĀ | E61: =+E55+E59 -> 435973515
B62: * Mērķdotācijas sadalījumu pašvaldībām Izglītības un zinātnes ministrija iesniegs uz likumprojekta izskatīšanu Saeimā otrajā lasījumā, kad būs apkopota informācija par skolēnu skaitu izglītības iestādēs 2024.gada 1.septembrī.

Sheet 7.piel.
B1: Nobalsots 1.lasījumā | D1: Priekšlikumi 2.lasījumam | G1: Priekšlikums MK atzinumam
B4: 15. Izglītības un zinātnes ministrija | D4: Izteikt likumprojekta 7.pielikumu jaunā redakcijā:
B6: 7.pielikums | F6: 7.pielikums
A7: ='6.piel.'!A7+1 -> 83 | B7: Mērķdotācijas pašvaldībām – interešu izglītības programmu pedagogu daļējai darba samaksai un valsts sociālās apdrošināšanas obligātajām iemaksām iestāžu pedagogu darba samaksai un valsts sociālās apdrošināšanas obligātajām iemaksām | D7: Mērķdotācijas pašvaldībām – interešu izglītības programmu pedagogu daļējai darba samaksai un valsts sociālās apdrošināšanas obligātajām iemaksām iestāžu pedagogu darba samaksai un valsts sociālās apdrošināšanas obligātajām iemaksām | G7: Atbalstīt
D9: I. No 2025. gada 1. janvāra līdz 2025. gada 31. augustam
B10: Pašvaldības | C10: Euro | D10: Pašvaldības | E10: Euro | F10: tai skaitā par izglītības programmu īstenošanu valsts valodā mazākumtautību izglītojamiem
B12: KOPĀ | C12: 35932744 | D12: Rīgas valstspilsēta | E12: 8203796 | F12: 53067
D13: Daugavpils valstspilsēta | E13: 1024043 | F13: 12427
D14: Jelgavas valstspilsēta | E14: 843350 | F14: 2505
D15: Jūrmalas valstspilsēta | E15: 476822 | F15: 2622
D16: Liepājas valstspilsēta | E16: 912685 | F16: 3528
D17: Rēzeknes valstspilsēta | E17: 432824 | F17: 3421
D18: Ventspils valstspilsēta | E18: 418577 | F18: 1631
D19: Aizkraukles novads | E19: 306275 | F19: 0
D20: Alūksnes novads | E20: 130929 | F20: 0
D21: Augšdaugavas novads | E21: 203442 | F21: 1364
D22: Ādažu novads | E22: 342268 | F22: 469
D23: Balvu novads | E23: 179356 | F23: 0
D24: Bauskas novads | E24: 780906 | F24: 85
... D54: Ventspils novads | E54: 84125 | F54: 0
D55: KOPĀ | E55: =SUM(E12:E54) -> 23972924 | F55: =SUM(F12:F54) -> 88452
D57: II. No 2025. gada 1. septembra līdz 2025. gada 31. decembrim
D58: Pašvaldības | E58: Euro
D59: Nesadalītie līdzekļi | E59: 12250649
D61: PAVISAM KOPĀ | E61: =+E55+E59 -> 36223573
B62: * Mērķdotācijas sadalījumu pašvaldībām Izglītības un zinātnes ministrija iesniegs uz likumprojekta izskatīšanu Saeimā otrajā lasījumā, kad būs apkopota informācija par skolēnu skaitu izglītības iestādēs 2024.gada 1.septembrī.

Sheet 8.piel.
B1: Nobalsots 1.lasījumā | E1: Priekšlikumi 2.lasījumam | I1: Priekšlikums MK atzinumam
B4: 15. Izglītības un zinātnes ministrija | E4: Izteikt likumprojekta 8.pielikumu jaunā redakcijā:
B6: 8.pielikums | H6: 8.pielikums
A7: ='7.piel.'!A7+1 -> 84 | B7: Mērķdotācijas pašvaldībām – pašvaldību speciālo pirmsskolas izglītības grupu pedagogu darba samaksai un valsts sociālās apdrošināšanas obligātajām iemaksām, speciālajām izglītības iestādēm, kas nodrošina internāta pakalpojumus | E7: Mērķdotācijas pašvaldībām – pašvaldību speciālo pirmsskolas izglītības grupu pedagogu darba samaksai un valsts sociālās apdrošināšanas obligātajām iemaksām, speciālajām izglītības iestādēm, kas nodrošina internāta pakalpojumus | I7: Atbalstīt
E9: I. No 2025.gada 1.janvāra līdz 2025.gada 31.augustam
B10: Pašvaldības | C10: Pedagogu darba samaksai un valsts sociālās apdrošināšanas obligātajām iemaksām (Euro) | D10: Pavisam kopā (Euro) | E10: Pašvaldības | F10: Pedagogu darba samaksai un valsts sociālās apdrošināšanas obligātajām iemaksām (Euro) | G10: tai skaitā par izglītības programmu īstenošanu valsts valodā mazākumtautību izglītojamiem | H10: Pavisam kopā (Euro)
B12: KOPĀ | C12: 50499181 | D12: 71771693 | E12: Rīgas valstspilsēta | F12: 10257099 | G12: 15967 | H12: 14310141
E13: Daugavpils valstspilsēta | F13: 1844878 | G13: 5322 | H13: 2611264
E14: Jelgavas valstspilsēta | F14: 948989 | G14: 323 | H14: 1354526
E15: Jūrmalas valstspilsēta | F15: 568784 | G15: 806 | H15: 811153
E16: Liepājas valstspilsēta | F16: 1616125 | G16: 0 | H16: 2271570
E17: Rēzeknes valstspilsēta | F17: 771312 | G17: 645 | H17: 1120678
E18: Ventspils valstspilsēta | F18: 13514 | G18: 0 | H18: 13514
E19: Aizkraukles novads | F19: 1075941 | G19: 0 | H19: 1457789
E20: Alūksnes novads | F20: 47578 | G20: 0 | H20: 47578
E21: Augšdaugavas novads | F21: 719413 | G21: 806 | H21: 1056515
E22: Bauskas novads | F22: 950816 | G22: 0 | H22: 1325934
E23: Cēsu novads | F23: 824506 | G23: 161 | H23: 1165868
E24: Dienvidkurzemes novads | F24: 873771 | G24: 0 | H24: 1218051
... E45: Valmieras novads | F45: 2111133 | G45: 323 | H45: 3056723
E46: KOPĀ | F46: =SUM(F12:F45) -> 34147832 | G46: =SUM(G12:G45) -> 24353 | H46: =SUM(H12:H45) -> 48422219
E48: II. No 2025. gada 1. septembra līdz 2025. gada 31. decembrim
E49: Pašvaldības | F49: Pedagogu darba samaksai un valsts sociālās apdrošināšanas obligātajām iemaksām (Euro) | H49: Pavisam kopā (Euro)
E50: Nesadalītie līdzekļi | F50: 17073907 | H50: 24211101
E52: PAVISAM KOPĀ | F52: =+F46+F50 -> 51221739 | H52: =+H46+H50 -> 72633320
B53: * Mērķdotācijas sadalījumu pašvaldībām Izglītības un zinātnes ministrija iesniegs uz likumprojekta izskatīšanu Saeimā otrajā lasījumā, kad būs apkopota informācija par skolēnu skaitu izglītības iestādēs 2024.gada 1.septembrī.

Sheet 9.piel.
B1: Nobalsots 1.lasījumā | D1: Priekšlikumi 2.lasījumam | F1: Priekšlikums MK atzinumam
B4: 15. Izglītības un zinātnes ministrija | D4: Izteikt likumprojekta 9.pielikumu jaunā redakcijā:
B6: 9.pielikums | E6: 9.pielikums
A7: ='8.piel.'!A7+1 -> 85 | B7: Mērķdotācijas pašvaldībām – pašvaldību izglītības iestādēs bērnu no piecu gadu vecuma izglītošanā nodarbināto pedagogu darba samaksai un valsts sociālās apdrošināšanas obligātajām iemaksām | D7: Mērķdotācijas pašvaldībām – pašvaldību izglītības iestādēs bērnu no piecu gadu vecuma izglītošanā nodarbināto pedagogu darba samaksai un valsts sociālās apdrošināšanas obligātajām iemaksām | F7: Atbalstīt
D9: I. No 2025.gada 1.janvāra līdz 2025.gada 31.augustam
B10: Pašvaldības | C10: Euro | D10: Pašvaldības | E10: Euro
B12: KOPĀ | C12: 74325697 | D12: Rīgas valstspilsēta | E12: 10537314
D13: Daugavpils valstspilsēta | E13: 1933130
D14: Jelgavas valstspilsēta | E14: 1365793
D15: Jūrmalas valstspilsēta | E15: 1063533
D16: Liepājas valstspilsēta | E16: 1750442
D17: Rēzeknes valstspilsēta | E17: 704613
D18: Ventspils valstspilsēta | E18: 746602
D19: Aizkraukles novads | E19: 829566
D20: Alūksnes novads | E20: 440717
D21: Augšdaugavas novads | E21: 430076
D22: Ādažu novads | E22: 688884
D23: Balvu novads | E23: 517657
D24: Bauskas novads | E24: 1570083
... D55: KOPĀ | E55: 47320428
D57: II. No 2025.gada 1.septembra līdz 2025.gada 31.decembrim
D58: Pašvaldības | E58: Euro
D59: Nesadalītie līdzekļi | E59: 23660217
D61: PAVISAM KOPĀ | E61: =+E55+E59 -> 70980645
B62: * Mērķdotācijas sadalījumu pašvaldībām Izglītības un zinātnes ministrija iesniegs uz likumprojekta izskatīšanu Saeimā otrajā lasījumā, kad būs apkopota informācija par skolēnu skaitu izglītības iestādēs 2024.gada 1.septembrī.

Sheet 10.piel.
B1: Nobalsots 1.lasījumā | D1: Priekšlikumi 2.lasījumam | F1: Priekšlikums MK atzinumam
B4: 22. Kultūras ministrija | D4: Izteikt likumprojekta 10.pielikumu jaunā redakcijā:
B6: 10.pielikums | E6: 10.pielikums
A7: ='9.piel.'!A7+1 -> 86 | B7: Mērķdotācijas pašvaldību māksliniecisko kolektīvu vadītāju darba samaksai un valsts sociālās apdrošināšanas obligātajām iemaksām | D7: Mērķdotācijas pašvaldību māksliniecisko kolektīvu vadītāju darba samaksai un valsts sociālās apdrošināšanas obligātajām iemaksām | F7: Atbalstīt
B9: Pašvaldības | C9: Euro | D9: Pašvaldības | E9: Euro
B11: Rīgas valstspilstēta | C11: 112437 | D11: Rīgas valstspilsēta | E11: 238824
B12: Daugavpils valstspilsēta | C12: 13299 | D12: Daugavpils valstspilsēta | E12: 28248
B13: Jelgavas valstspilsēta | C13: 14911 | D13: Jelgavas valstspilsēta | E13: 31672
B14: Jūrmalas valstspilsēta | C14: 14911 | D14: Jūrmalas valstspilsēta | E14: 31672
B15: Liepājas valstspilsēta | C15: 12493 | D15: Liepājas valstspilsēta | E15: 26536
B16: Rēzeknes valstspilsēta | C16: 10881 | D16: Rēzeknes valstspilsēta | E16: 23112
B17: Ventspils valstspilsēta | C17: 16120 | D17: Ventspils valstspilsēta | E17: 34240
B18: Aizkraukles novads | C18: 29016 | D18: Aizkraukles novads | E18: 61632
B19: Alūksnes novads | C19: 14911 | D19: Alūksnes novads | E19: 31672
B20: Augšdaugavas novads | C20: 18135 | D20: Augšdaugavas novads | E20: 38520
B21: Ādažu novads | C21: 12493 | D21: Ādažu novads | E21: 26536
B22: Balvu novads | C22: 27404 | D22: Balvu novads | E22: 58208
... B53: Ventspils novads | C53: 7254 | D53: Ventspils novads | E53: 15408
