Workbook

Sheet Daugavpils valstspilsēta
A1: Apkopojuma tabula tiesību akta projektam 25-TA-2473
A2: Daugavpils valstspilsētas pašvaldības 2025. gada jūnijā un jūlijā spēcīgu lietavu laikā radītie postījumi
A3: Nr. p.k. | B3: Objekta nosaukums un adrese | C3: Veicamie pasākumi/darbi | D3: Postījumu novēršanai nepieciešamā finansējuma apmērs, euro | E3: Pašvaldības līdz- finansējums, euro | F3: No valsts budžeta programmas "Līdzekļi neparedzētiem gadījumiem" nepieciešamā finansējuma apmērs, euro | G3: Pašvaldības iesniegtie finansiālā pamatojuma dokumenti | M3: Piezīmes, komentāri
G4: MK noteikumu Nr.421 5.pielikums | H4: apsekošanas akts (zaudējumu novērtējums vai dokumenti, kas apliecina notikušo faktu), vai ir pievienota fotogrāfija/jas | I4: pieprasīto līdzekļu aprēķins/tāme (veicamo darbu/ pakalpojumu apraksts, nepieciešamo materiālu daudzums, cena, atalgojums un paredzamo nodokļu samaksa) | J4: apliecinājums, ka infrastruktūras objekts ir pašvaldības īpašumā vai valdījumā (pamatlīdzekļu uzskaites kartīte vai zemesgrāmatas apliecinājums) | K4: informācija par pašvaldības līdzfinansējuma apmēru objektam radīto zaudējumu novēršanai (domes lēmums) | L4: apliecinājums, ka par objektu pašvaldībai nepienākas vai pienākas apdrošināšanas atlīdzība + skaidrojums, ja nebija apdrošināts
A5: 1 | B5: Ganību iela posmā no Ganību ielas 16B līdz Ganību ielai 12 Daugavpilī | C5: Nesaistītu minerālmateriālu seguma dilumkārtas atjaunošana/remonts, uzvedot sagatavotu minerālmateriālu maisījumu (fr.0/32) | D5: 8935.67 | E5: =D5*30% -> 2680.701 | F5: =D5-E5 -> 6254.969 | G5: x | H5: 22.07.2025. apsekošanas akts, apsekošanā piedalījās attiecīgās jomas speciālists (sertifik. Nr.4-00079), veikta fotofiksācija | I5: 01.08.2025. akts par izpildītajiem darbiem un pielikums Nr.1 -04.08.2025. rēķins Nr.AT 2-500/258/5, 07.08.2025. MU Nr. 0050525 un Nr. 0050527 (par PVN apmaksu) | J5: Pamatlīdzekļu uzskaites kartīte Nr.12130396 | K5: Daugavpils valstspilsētas pašvakdības domes 28.08.2025. lēmums Nr.509 "Par Daugavpils valstspilsētas pašvaldības līdzfinansējuma apmēru 2025. gada jūnija un jūlija mēnesī dabas stihiju radīto seku novēršanai un zaudējumu kompensēšanai" | L5: 5. pielikumā Daugavpils valstspilsētas pašvaldība norāda, ka objekti, kuros bija noticis postījums sakarā ar dabas stihiju (stiprām lietusgāzēm) netika apdrošināts: - jo atbilstoši Apdrošināšanas un pārapdrošināšanas likuma 6.pantam, apdrošināšana ir brīvprātīga, izņemot gadījumus, kad ar likumu ir noteikts citādi. - Pašvaldību likuma 6.pants nosaka, ka Pašvaldība savas administratīvās teritorijas iedzīvotāju interesēs var brīvprātīgi īstenot iniciatīvas ikvienā jautājumā, ja tās nav citu institūciju kompetencē un šādu darbību neierobežo citi likumi. - ka Daugavpils pilsētā, ņemot vērā lielo nekustamo īpašumu skaitu, to apdrošināšana netiek veikta, jo visu nekustamo īpašumu (ielas, mākslīgās būves, koki utt.) apdrošināšana ir nesamērīga, jo tādi ārkārtas gadījumi Latvijas Republikā notiek ļoti reti. | M5: KOMPENSĀCIJA
A6: 2 | B6: Ezeru iela posmā no Telts ielas līdz Artilērijas ielai Daugavpilī | G6: x | J6: Pamatlīdzekļu uzskaites kartīte Nr.12130215 | M6: KOMPENSĀCIJA
A7: 3 | B7: Pļavu iela posmā no Vidzemes ielas līdz Artilērijas ielai Daugavpilī | G7: x | J7: Pamatlīdzekļu uzskaites kartīte Nr.12131380 | M7: KOMPENSĀCIJA
A8: 4 | B8: Daugavpils Ruģeļu pirmsskolas izglītības iestādes teritorija, Gaismas ielā 9, Daugavpilī | C8: Betona bruģakmens seguma demontāža, virsmas attīrīšana, izlīdzināšana, gruntēšana, betona bruģakmens izbūve | D8: 1150.04 | E8: =D8*30% -> 345.012 | F8: =D8-E8 -> 805.028 | G8: x | H8: 04.08.2025. apsekošanas/defektu akts, veikta fotofiksācija, apsekošanas akta atbilstību apliecina sertificēts speciālists, sertifik. Nr.4-03606 | I8: 11.08.2025. sertificēta speciālista, sertifik. Nr.20-5910, sagatavota lokālā tāme Nr.1-2 | J8: Zemesgrāmatu apliecība, kadastra Nr. 0500 021 1105
A9: 5 | B9: Daugavpils pilsētas 24. pirmsskolas izglītības iestādes teritorija, Muzeja ielā9, Daugavpilī | C9: Betona bruģakmens seguma demontāža, virsmas attīrīšana, izlīdzināšana, gruntēšana, betona bruģakmens izbūve | D9: 4200 | E9: =D9*30% -> 1260 | F9: =D9-E9 -> 2940 | G9: x | H9: 04.08.2025. apsekošanas/defektu akts, veikta fotofiksācija, apsekošanas akta atbilstību apliecina sertificēts speciālists, sertifik. Nr.4-03606 | I9: 11.08.2025. sertificēta speciālista, sertifik. Nr.20-5910, sagatavota lokālā tāme Nr.1-1 | J9: Zemesgrāmatu apliecība, kadastra Nr. 0500 001 1202
C10: KOPĀ: | D10: =SUM(D5:D9) -> 14285.71 | E10: =SUM(E5:E9) -> 4285.713 | F10: =SUM(F5:F9) -> 9999.997
B15: Atbalstāms zaudējumu apmērs, euro | C15: 14286
B16: Pašvaldības līdzfinansējums, euro | C16: 4286
B17: No LNG atbalstāmais finansējums, euro | C17: =C15-C16 -> 10000

Sheet Gulbenes novads
A2: Gulbenes novada pašvaldības 2025. gada jūlijā un augustā ilgstošu un spēcīgu lietavu laikā radītie postījumi
A3: Nr. p.k. | B3: Objekta nosaukums un adrese | C3: Veicamie pasākumi/darbi | D3: Postījumu novēršanai nepieciešamā finansējuma apmērs, euro | E3: Pašvaldības līdz- finansējums, euro | F3: No valsts budžeta programmas "Līdzekļi neparedzētiem gadījumiem" nepieciešamā finansējuma apmērs, euro | G3: Pašvaldības iesniegtie finansiālā pamatojuma dokumenti | M3: Piezīmes, komentāri
G4: MK noteikumu Nr.421 5.pielikums | H4: apsekošanas akts (zaudējumu novērtējums vai dokumenti, kas apliecina notikušo faktu), vai ir pievienota fotogrāfija/jas | I4: pieprasīto līdzekļu aprēķins/tāme (veicamo darbu/ pakalpojumu apraksts, nepieciešamo materiālu daudzums, cena, atalgojums un paredzamo nodokļu samaksa) | J4: apliecinājums, ka infrastruktūras objekts ir pašvaldības īpašumā vai valdījumā (pamatlīdzekļu uzskaites kartīte vai zemesgrāmatas apliecinājums) | K4: informācija par pašvaldības līdzfinansējuma apmēru objektam radīto zaudējumu novēršanai (domes lēmums) | L4: apliecinājums, ka par objektu pašvaldībai nepienākas vai pienākas apdrošināšanas atlīdzība + skaidrojums, ja nebija apdrošināts
A5: 1 | B5: Ceļs Kalniena - Lūri, Stāmerienas pagasts, Gulbenes novads, 0,27 km - 0,42 km, 1,035 km - 1,045 km, 1,565 km - 1,645 km | C5: ceļa klātnes labošana un seguma pastiprināšana ar dolomīta šķembu maisījuma iestrādi | D5: 4475.06 | E5: =D5*30% -> 1342.518 | F5: =D5-E5 -> 3132.542 | G5: x | H5: 16.07.2025. ikdienas uzturēšanas darbu defektu akts Nr.2025/8, veikta fotofiksācija, 18.09.2025. apliecinājums no sertificēta speciālista (sertifik. Nr.4-05964) atkārtota apsekošana 11.09.2025. | I5: 24.07.2025. līgums Nr.LSS/4.2/25/39 ar ZS "GRAVAS" 21.07.2025. tāme Nr.2507-1 28.07.2025. pieņemšanas - nodošanas akts 28.07.2025. rēķins Nr. GRA 1292 29.07.2025. MU Nr. 24396 | J5: 17.09.2025. Gulbenes novada pašvaldības apliecinājums nr. GND/4.18/25/2633 par inženierbūvju piederību Pamatlīdzekļu uzskaites kartīte Nr. 003828 | K5: Gulbenes novada pašvaldība 18.09.2025. pavadvēstulē Nr. GND/4.23/25/2683 norāda, ka atjaunošanas darbi ir pabeigti un apmaksāti, līdz ar to no valsts budžeta programmas "Līdzekļi neparedzētiem gadījumiem" Gulbenes novada pašvaldība lūdz kompensēt izdevumus 70 % apmērā, kā to paredz MK noteikumu Nr. 421 47. punkts. | L5: 5. pielikumā norādīts, ka ceļi, ielas netiek apdrošinātas | M5: KOMPENSĀCIJA
A6: 2 | B6: Ceļš Kalniena - Vidiena, Stāmerienas pagasts, Gulbenes novads, 0,18 km - 0,24 km | C6: ceļa klātnes labošana un seguma pastiprināšana ar dolomīta šķembu maisījuma iestrādi | G6: x | H6: 16.07.2025. ikdienas uzturēšanas darbu defektu akts Nr.2025/5, veikta fotofiksācija, 18.09.2025. apliecinājums no sertificēta speciālista (sertifik. Nr.4-05964) atkārtota apsekošana 11.09.2025. | J6: 17.09.2025. Gulbenes novada pašvaldības apliecinājums nr. GND/4.18/25/2633 par inženierbūvju piederību Pamatlīdzekļu uzskaites kartīte Nr. 003821 | M6: KOMPENSĀCIJA
A7: 3 | B7: Ceļš Kalniena - Alejas, Stāmerienas pagasts, Gulbenes novads, 0,00 km - 0,20 km | C7: izskalojumu labošana un seguma pastiprināšana ar dolomīta šķembu maisījuma iestrādi | G7: x | H7: 16.07.2025. ikdienas uzturēšanas darbu defektu akts Nr.2025/7, veikta fotofiksācija, 18.09.2025. apliecinājums no sertificēta speciālista (sertifik. Nr.4-05964) atkārtota apsekošana 11.09.2025. | J7: 17.09.2025. Gulbenes novada pašvaldības apliecinājums nr. GND/4.18/25/2633 par inženierbūvju piederību Pamatlīdzekļu uzskaites kartīte Nr. 003825 | M7: KOMPENSĀCIJA
A8: 4 | B8: Brīvības iela (pretī baznīcai), Gulbene, Gulbenes novads | C8: Ilas nogāzes noslīdējuma remonts | D8: 1909.56 | E8: =D8*30% -> 572.868 | F8: =D8-E8 -> 1336.692 | G8: x | H8: Veikta fotofiksācija, 18.09.2025. apliecinājums no sertificēta speciālista (sertifik. Nr.4-05964), apsekošana 11.09.2025. | I8: 01.08.2025. VAS "Latvijas autoceļu uzturētājs" akts Nr. 5.3.3.-V.3/2025-616 01.08.2025. rēķins Nr.R25191432 12.08.2025. MU Nr. 25803 12.08.2025. MU Nr.25804 (PVN) | J8: 17.09.2025. Gulbenes novada pašvaldības apliecinājums nr. GND/4.18/25/2633 par inženierbūvju piederību Pamatlīdzekļu uzskaites kartīte Nr. 020921 | M8: KOMPENSĀCIJA
A9: 5 | B9: Ceļš Elstu pienotava - Priednieki - Mirgas, Daukstu pagasts, Gulbenes novads, 0,491 km - 0,533 km | C9: Seguma remonts, grants piegāde ar iestrādi | D9: =716.32+1934.06 -> 2650.38 | E9: =D9*30% -> 795.114 | F9: =D9-E9 -> 1855.266 | G9: x | H9: 30.07.2025. ikdienas uzturēšanas darbu defektu akts Nr.2025/2 18.09.2025. apliecinājums no sertificēta speciālista (sertifik. Nr.4-05964) atkārtota apsekošana 11.09.2025. Nav fotofiksācijas | I9: VAS "Latvijas autoceļu uzturētājs" 30.07.2025. darba uzdevums Nr.30.07.25 04.08.2025. akts Nr. 5.3.3.-V.3/2025-627 05.08.2025. rēķins Nr. R25191461 11.08.2025. MU Nr. 25487 11.08.2025. MU Nr.25488 VAS "Latvijas autoceļu uzturētājs"05.08.2025. darba uzdevums Nr. 05.08.25. 21.08.2025. akts Nr. 5.3.3.-V.3/2025-691 31.08.2025. rēķins Nr.R25191630 05.09.2025. MU Nr.28687 05.09.2025. MU Nr.28688 (PVN) | J9: 17.09.2025. Gulbenes novada pašvaldības apliecinājums nr. GND/4.18/25/2633 par inženierbūvju piederību Pamatlīdzekļu uzskaites kartīte Nr. 003578 | M9: KOMPENSĀCIJA
A10: 6 | B10: Ceļš Kapukalns - Melderi - Krapas pietura, Daukstu pagasts, Gulbenes novads, 1,682 km - 1,702 km | C10: Seguma remonts, grants piegāde ar iestrādi | G10: x | H10: 04.08.2025. ikdienas uzturēšanas darbu defektu akts Nr.2025/3, 18.09.2025. apliecinājums no sertificēta speciālista (sertifik. Nr.4-05964) atkārtota apsekošana 11.09.2025. Nav fotofiksācijas | J10: 17.09.2025. Gulbenes novada pašvaldības apliecinājums nr. GND/4.18/25/2633 par inženierbūvju piederību Pamatlīdzekļu uzskaites kartīte Nr. 003583 | M10: KOMPENSĀCIJA
A11: 7 | B11: Ceļš 92.dzelzceļa km - Elstes, Daukstu pagasts, Gulbenes novads, 0,03 km - 0,04 km, 1,835 km - 1,862 km | C11: Seguma remonts, grants piegāde ar iestrādi | G11: x | H11: 04.08.2025. ikdienas uzturēšanas darbu defektu akts Nr.2025/4, 18.09.2025. apliecinājums no sertificēta speciālista (sertifik. Nr.4-05964) atkārtota apsekošana 11.09.2025. Nav fotofiksācijas | J11: 17.09.2025. Gulbenes novada pašvaldības apliecinājums nr. GND/4.18/25/2633 par inženierbūvju piederību Pamatlīdzekļu uzskaites kartīte Nr. 003572 | M11: KOMPENSĀCIJA
A12: 8 | B12: Ceļš V428 Dzeņi - Galgauska, Daukstu pagasts, Gulbenes novads, 1,100 km - 1,129 km, 1,400 km - 1,438 km, 1,600 km - 1,631 km | C12: Seguma remonts, grants piegāde ar iestrādi | D12: 10888.06 | E12: =D12*30% -> 3266.418 | F12: =D12-E12 -> 7621.642 | G12: x | H12: 01.07.2025. ikdienas uzturēšanas darbu defektu akts Nr.2025/1, 18.09.2025. apliecinājums no sertificēta speciālista (sertifik. Nr.4-05964) atkārtota apsekošana 11.09.2025. Nav fotofiksācijas | I12: 23.07.2025. VAS "Latvijas autoceļu uzturētājs" akts Nr. 5.3.3.-V.3/2025-567 24.07.2025. rēķins Nr. R25191359 25.07.2025. MU Nr. 24236 25.07.2025. MU Nr.24237 (PVN) | J12: 17.09.2025. Gulbenes novada pašvaldības apliecinājums nr. GND/4.18/25/2633 par inženierbūvju piederību Pamatlīdzekļu uzskaites kartīte Nr. 020489 | M12: KOMPENSĀCIJA
A13: 9 | B13: Ceļš Mālukalni - Zaķīši - Krapa, Daukstu pagasts, Gulbenes novads, 2,310 km - 2,344 km, 3,592 km - 3,632 km | C13: Seguma remonts, grants piegāde ar iestrādi | G13: x | J13: 17.09.2025. Gulbenes novada pašvaldības apliecinājums nr. GND/4.18/25/2633 par inženierbūvju piederību Pamatlīdzekļu uzskaites kartīte Nr. 003590 | M13: KOMPENSĀCIJA
A14: 10 | B14: Ceļš Krapa - Aizupieši - Gāršas ceļš, Daukstu pagasts, Gulbenes novads, 1,882 km - 1,916 km, 2,462 km - 2,505 km, 2,510 km - 2,554 km, 2,556 km - 2,588 km | C14: Seguma remonts, grants piegāde ar iestrādi | G14: x | J14: 17.09.2025. Gulbenes novada pašvaldības apliecinājums nr. GND/4.18/25/2633 par inženierbūvju piederību Pamatlīdzekļu uzskaites kartīte Nr. 003584 | M14: KOMPENSĀCIJA
A15: 11 | B15: Ceļš Madonas ceļš - Krapa, Daukstu pagasts, Gulbenes novads, 0,009 km - 0,028 km, 0,212 km - 0,230 km, 0,897 km - 0,931 km, 1,211 km - 1,242 km | C15: Seguma remonts, grants piegāde ar iestrādi | G15: x | J15: 17.09.2025. Gulbenes novada pašvaldības apliecinājums nr. GND/4.18/25/2633 par inženierbūvju piederību Pamatlīdzekļu uzskaites kartīte Nr. 003591 | M15: KOMPENSĀCIJA
A16: 12 | B16: Ceļš Elstu pien. - Dzidrumi - Medņi - Odzenieši, Daukstu pagasts, Gulbenes novads, 4,488 km - 4,516 km, 4,786 km - 4,811 km, 4,897 km - 4,932 km, 4,994 km - 5,010 km | C16: Seguma remonts, grants piegāde ar iestrādi | G16: x | J16: 17.09.2025. Gulbenes novada pašvaldības apliecinājums nr. GND/4.18/25/2633 par inženierbūvju piederību Pamatlīdzekļu uzskaites kartīte Nr. 003579, Nr.003577 | M16: KOMPENSĀCIJA
A17: 13 | B17: Ceļš Skudras - Viduči - Mālukalni, Daukstu pagasts, Gulbenes novads, 1,124 km - 1,154 km, 1,798 km - 1,829 km, 2,201 km - 2,234 km, 2,497 km - 2,53 km | C17: Seguma remonts, grants piegāde ar iestrādi | G17: x | J17: 17.09.2025. Gulbenes novada pašvaldības apliecinājums nr. GND/4.18/25/2633 par inženierbūvju piederību Pamatlīdzekļu uzskaites kartīte Nr. 003592 | M17: KOMPENSĀCIJA
A18: 14 | B18: Ceļš Krimu ozols - Kramiņi, Daukstu pagasts, Gulbenes novads, 0,382 km - 0,412 km, 0,490 km - 0,541 km, 0,789 km - 0,865 km, 0,957 km - 0,998 km | C18: Seguma remonts, grants piegāde ar iestrādi | G18: x | J18: 17.09.2025. Gulbenes novada pašvaldības apliecinājums nr. GND/4.18/25/2633 par inženierbūvju piederību Pamatlīdzekļu uzskaites kartīte Nr. 003586 | M18: KOMPENSĀCIJA
A19: 15 | B19: Ceļš V428 Dzeņi - Galgauska, Galgauskas pagasts, Gulbenes novads, 0,3 km - 0,33 km, 3,1 km - 3,11 km, 3,8 km - 3,81 km | C19: Seguma atjaunošana ar granti | D19: 1432.64 | E19: =D19*30% -> 429.792 | F19: =D19-E19 -> 1002.848 | G19: x | H19: 30.07.2025. ikdienas uzturēšanas darbu defektu akts Nr.2025/2, 18.09.2025. apliecinājums no sertificēta speciālista (sertifik. Nr.4-05964) atkārtota apsekošana 12.09.2025. Nav fotofiksācijas | I19: 05.08.2025. VAS "Latvijas autoceļu uzturētājs" akts Nr. 5.3.3.-V.3/2025-636 05.08.2025. rēķins Nr. R25191472 11.08.2025. MU Nr. 25479 11.08.2025. MU Nr.25480 (PVN) | J19: 17.09.2025. Gulbenes novada pašvaldības apliecinājums nr. GND/4.18/25/2633 par inženierbūvju piederību Pamatlīdzekļu uzskaites kartīte Nr. 020490 | M19: KOMPENSĀCIJA
A20: 16 | B20: Ceļš Priednieki - Celmiņi, Galgauskas pagasts, Gulbenes novads, 0,01 km - 0,02 km | C20: Seguma atjaunošana ar drupinātu šķembu | D20: 949.29 | E20: =D20*30% -> 284.787 | F20: =D20-E20 -> 664.503 | G20: x | H20: 04.08.2025. ikdienas uzturēšanas darbu defektu akts Nr.2025/3, 18.09.2025. apliecinājums no sertificēta speciālista (sertifik. Nr.4-05964) atkārtota apsekošana 12.09.2025. Nav fotofiksācijas | I20: 22.08.2025. VAS "Latvijas autoceļu uzturētājs" akts Nr. 5.3.3.-V.3/2025-692 31.08.2025. rēķins Nr.R25191631 05.09.2025. MU Nr.28685 05.09.2025. MU Nr.28686 (PVN) | J20: 17.09.2025. Gulbenes novada pašvaldības apliecinājums nr. GND/4.18/25/2633 par inženierbūvju piederību Pamatlīdzekļu uzskaites kartīte Nr. 003629 | M20: KOMPENSĀCIJA
A21: 17 | B21: Ceļš Gulbītis - Indrāni, Jaungulbenes pagasts, Gulbenes novads, 0,00 km - 0,040 km, 0,192 km - 0,202 km, 0,330 km - 0,345 km, 0,605 km - 0,615 km, 2,085 km - 2,095 km, 2,507 km - 2,517 km, 2,543 km - 2,550 km | C21: Drupinātas grants piegāde ar iestrādi izskaloto bedru un iesēdumu remontam | D21: =5276.81+3557.4 -> 8834.21 | E21: =D21*30% -> 2650.263 | F21: =D21-E21 -> 6183.947 | G21: x | H21: 25.06.2025. ikdienas uzturēšanas darbu defektu akts Nr.11/2025, 18.09.2025. apliecinājums no sertificēta speciālista (sertifik. Nr.4-05964) atkārtota apsekošana 12.09.2025. Nav fotofiksācijas | I21: 07.07.2025. VAS "Latvijas autoceļu uzturētājs" akts Nr. 5.3.3.-V.3/2025-525 07.07.2025 rēķins N. R25191238 09.07.2025. MU Nr. 22214 09.07.2025. MU Nr.22215 (PVN) 23.07.2025. VAS "Latvijas autoceļu uzturētājs" akts Nr.5.3.3.-V.3/2025-544 24.07.2025. rēķins Nr. R25191363 25.07.2025. MU Nr. 24204 25.07.2025. MU Nr.24205 (PVN) | J21: 17.09.2025. Gulbenes novada pašvaldības apliecinājums nr. GND/4.18/25/2633 par inženierbūvju piederību Pamatlīdzekļu uzskaites kartīte Nr. 003641, Nr.022518 | M21: KOMPENSĀCIJA
A22: 18 | B22: Ceļš Ušuru ceļš - Jaungulbene, Jaungulbenes pagasts, Gulbenes novads, 0,723 km - 0,753 km, 0,895 km - 0,905 km, 1,290 km - 1,295 km, 1,560 km - 1,565 km, 2,195 km - 2,200 km, 2,660 km - 2,665 km | C22: Drupinātas grants piegāde ar iestrādi izskaloto bedru un iesēdumu remontam | G22: x | J22: 17.09.2025. Gulbenes novada pašvaldības apliecinājums nr. GND/4.18/25/2633 par inženierbūvju piederību Pamatlīdzekļu uzskaites kartīte Nr. 003653 | M22: KOMPENSĀCIJA
A23: 19 | B23: Ceļš Jaunstāmeri - Doktas, Jaungulbenes pagasts, Gulbenes novads, 1,250 km - 1,255 km, 1,410 km - 1,415 km, 1,530 km - 1,540 km, 1,605 km - 1,610 km, 1,750 km - 1,755 km, 1,830 km - 1,840 km, 2,120 km - 2,135 km, 2,250 km - 2,265 km, 2,363 km - 2,373 km | C23: Drupinātas grants piegāde ar iestrādi izskaloto bedru un iesēdumu remontam | G23: x | J23: 17.09.2025. Gulbenes novada pašvaldības apliecinājums nr. GND/4.18/25/2633 par inženierbūvju piederību Pamatlīdzekļu uzskaites kartīte Nr. 003646 | M23: KOMPENSĀCIJA
A24: 20 | B24: Ceļš Austumi - Sēlieši, Jaungulbenes pagasts, Gulbenes novads, 0,360 km - 0,370 km | C24: Drupinātas grants piegāde ar iestrādi izskaloto bedru un iesēdumu remontam | G24: x | J24: 17.09.2025. Gulbenes novada pašvaldības apliecinājums nr. GND/4.18/25/2633 par inženierbūvju piederību Pamatlīdzekļu uzskaites kartīte Nr. 003639 | M24: KOMPENSĀCIJA
A25: 21 | B25: Ceļš V431 Pievedceļš Sveķu skolai, Jaungulbenes pagasts, Gulbenes novads, 1,085 km - 1,125 km | C25: Drupinātas grants piegāde ar iestrādi izskaloto bedru un iesēdumu remontam | G25: x | J25: 17.09.2025. Gulbenes novada pašvaldības apliecinājums nr. GND/4.18/25/2633 par inženierbūvju piederību Pamatlīdzekļu uzskaites kartīte Nr. 020164 | M25: KOMPENSĀCIJA
A26: 22 | B26: Ezera iela, Jaungulbenes pagasts, Gulbenes novads, 0,00 km - 0,015 km | C26: Drupinātas grants piegāde ar iestrādi izskaloto bedru un iesēdumu remontam | G26: x | J26: 17.09.2025. Gulbenes novada pašvaldības apliecinājums nr. GND/4.18/25/2633 par inženierbūvju piederību Pamatlīdzekļu uzskaites kartīte Nr. 003355 | M26: KOMPENSĀCIJA
A27: 23 | B27: Ceļš Lembi - Jaunagrumi, Jaungulbenes pagasts, Gulbenes novads, 3,345 km - 3,436 km | C27: Drupinātas grants piegāde ar iestrādi izskaloto bedru un iesēdumu remontam | D27: 1126.51 | E27: =D27*30% -> 337.953 | F27: =D27-E27 -> 788.557 | G27: x | H27: 31.07.2025. ikdienas uzturēšanas darbu defektu akts Nr.15/2025, 18.09.2025. apliecinājums no sertificēta speciālista (sertifik. Nr.4-05964) atkārtota apsekošana 12.09.2025. Nav fotofiksācijas | I27: 05.08.2025. VAS "Latvijas autoceļu uzturētājs" akts Nr. 5.3.3.-V.3/2025-629 05.08.2025. rēķins Nr. R25191470 11.08.2025. MU Nr. 25481 11.08.2025. MU Nr.25482 (PVN) | J27: 17.09.2025. Gulbenes novada pašvaldības apliecinājums nr. GND/4.18/25/2633 par inženierbūvju piederību Pamatlīdzekļu uzskaites kartīte Nr. 003649 | M27: KOMPENSĀCIJA
A28: 24 | B28: Ceļš Gulbītis - Kraujas, Jaungulbenes pagasts, Gulbenes novads, 0,050 km - 0,055 km | C28: Drupinātas grants piegāde ar iestrādi izskaloto bedru un iesēdumu remontam | G28: x | J28: 17.09.2025. Gulbenes novada pašvaldības apliecinājums nr. GND/4.18/25/2633 par inženierbūvju piederību Pamatlīdzekļu uzskaites kartīte Nr. 003642 | M28: KOMPENSĀCIJA
A29: 25 | B29: Vārpiņu iela, Jaungulbenes pagasts, Gulbenes novads, 0,360 km - 0,370 km | C29: Drupinātas grants piegāde ar iestrādi izskaloto bedru un iesēdumu remontam | G29: x | J29: 17.09.2025. Gulbenes novada pašvaldības apliecinājums nr. GND/4.18/25/2633 par inženierbūvju piederību Pamatlīdzekļu uzskaites kartīte Nr. 003359 | M29: KOMPENSĀCIJA
A30: 26 | B30: Ceļš Siltais - Liedupes, Līgo pagasts, Gulbenes novads, 0,03 km - 0,040 km, 0,420 km - 0,430 km, 0,590 km - 0,600 km, 0,895 km - 0,900 km, 1,680 km - 1,685 km, 2,220 km - 2,230 km, 2,515 km - 2,520 km, 2,700 km - 2,705 km | C30: Drupinātas grants piegāde ar iestrādi izskaloto bedru un iesēdumu remontam | D30: 4624.62 | E30: =D30*30% -> 1387.386 | F30: =D30-E30 -> 3237.234 | G30: x | H30: 25.06.2025. ikdienas uzturēšanas darbu defektu akts Nr.8/2025, 18.09.2025. apliecinājums no sertificēta speciālista (sertifik. Nr.4-05964) atkārtota apsekošana 12.09.2025. Nav fotofiksācijas | I30: 23.07.2025. VAS "Latvijas autoceļu uzturētājs" akts Nr. 5.3.3.-V.3/2025-575 31.07.2025. rēķins Nr. R25191372 06.08.2025. MU Nr. 24963 06.08.2025. MU Nr.24964 (PVN) | J30: 17.09.2025. Gulbenes novada pašvaldības apliecinājums nr. GND/4.18/25/2633 par inženierbūvju piederību Pamatlīdzekļu uzskaites kartīte Nr. 003783 | M30: KOMPENSĀCIJA
A31: 27 | B31: Ceļš Liedupes - Rožkalni, Līgo pagasts, Gulbenes novads, 0,770 km - 0,780 km, 1,0720 km - 1,0730 km | C31: Drupinātas grants piegāde ar iestrādi izskaloto bedru un iesēdumu remontam | G31: x | J31: 17.09.2025. Gulbenes novada pašvaldības apliecinājums nr. GND/4.18/25/2633 par inženierbūvju piederību Pamatlīdzekļu uzskaites kartīte Nr. 003782 | M31: KOMPENSĀCIJA
A32: 28 | B32: Ceļš Līgo muiža - Dzelzavas robeža, Līgo pagasts, Gulbenes novads, 0,200 km - 0,210 km, 0,430 km - 0,435 km, 0,645 km - 0,650 km, 0,700 km - 0,705 km, 0,875 km - 0,880 km, 1,150 km - 1,155 km, 1,430 km - 1,435 km, 1,550 km - 1,555 km, 1,845 km - 1,850 km | C32: Drupinātas grants piegāde ar iestrādi izskaloto bedru un iesēdumu remontam | G32: x | J32: 17.09.2025. Gulbenes novada pašvaldības apliecinājums nr. GND/4.18/25/2633 par inženierbūvju piederību Pamatlīdzekļu uzskaites kartīte Nr. 003777 | M32: KOMPENSĀCIJA
A33: 29 | B33: Ceļš Varītes - Vecezeriņi, Līgo pagasts, Gulbenes novads, 0,110 km - 0,120 km, 0,195 km - 0,205 km | C33: Drupinātas grants piegāde ar iestrādi izskaloto bedru un iesēdumu remontam | G33: x | J33: 17.09.2025. Gulbenes novada pašvaldības apliecinājums nr. GND/4.18/25/2633 par inženierbūvju piederību Pamatlīdzekļu uzskaites kartīte Nr. 003776 | M33: KOMPENSĀCIJA
A34: 30 | B34: Ceļš Lapši - Ušuri, Līgo pagasts, Gulbenes novads, 1,080 km - 1,085 km | C34: Drupinātas grants piegāde ar iestrādi izskalojuma remontam | D34: 296.45 | E34: =D34*30% -> 88.935 | F34: =D34-E34 -> 207.515 | G34: x | H34: 31.07.2025. ikdienas uzturēšanas darbu defektu akts Nr.11/2025, 18.09.2025. apliecinājums no sertificēta speciālista (sertifik. Nr.4-05964) atkārtota apsekošana 12.09.2025. Nav fotofiksācijas | I34: 04.08.2025. VAS "Latvijas autoceļu uzturētājs" akts Nr. 5.3.3.-V.3/2025-628 05.08.2025. rēķins Nr. R25191459 11.08.2025. MU Nr. 25489 11.08.2025. MU Nr.25490 (PVN) | J34: 17.09.2025. Gulbenes novada pašvaldības apliecinājums nr. GND/4.18/25/2633 par inženierbūvju piederību Pamatlīdzekļu uzskaites kartīte Nr. 003774 | M34: KOMPENSĀCIJA
A35: 31 | B35: Ceļš V438 Ūdrupe - Rankas stacija, Rankas pagasts, Gulbenes novads, 0,200 km - 0,480 km, 1,580 km - 1,640 km, 1,920 km - 1,980 km | C35: Drupinātas grants piegāde ar iestrādi izskaloto bedru un iesēdumu remontam Ekskavatora pakalpojumi sāngrāvju tīrīšanai, ūdens novadīšanai no brauktuves virsmas | D35: 1870.18 | E35: =D35*30% -> 561.054 | F35: =D35-E35 -> 1309.126 | G35: x | H35: 25.07.2025. ikdienas uzturēšanas darbu defektu akts Nr.07/2025, 18.09.2025. apliecinājums no sertificēta speciālista (sertifik. Nr.4-05964) atkārtota apsekošana 12.09.2025. Nav fotofiksācijas | I35: 04.08.2025. VAS "Latvijas autoceļu uzturētājs" akts Nr. 5.3.3.-V.3/2025-632 04.08.2025. rēķins Nr. R25191453 06.08.2025. MU Nr. 25029 06.08.2025. MU Nr.25030 (PVN) | J35: 17.09.2025. Gulbenes novada pašvaldības apliecinājums nr. GND/4.18/25/2633 par inženierbūvju piederību Pamatlīdzekļu uzskaites kartīte Nr. 020801 | M35: KOMPENSĀCIJA
A36: 32 | B36: Ceļš Rankas stacija - Ērkalni, Rankas pagasts, Gulbenes novads, 0,600 km - 0,300 km, 0,480 km - 0,630 km, 0,710 km - 0,740 km, 0,820 km - 0,860 km, 1,100 km - 1,150 km, 1,230 km - 1,310 km, 1,420 km - 1,440 km | C36: Drupinātas grants piegāde ar iestrādi izskaloto bedru un iesēdumu remontam | D36: 3039.04 | E36: =D36*30% -> 911.712 | F36: =D36-E36 -> 2127.328 | G36: x | H36: 25.07.2025. ikdienas uzturēšanas darbu defektu akts Nr.07/2025, 18.09.2025. apliecinājums no sertificēta speciālista (sertifik. Nr.4-05964) atkārtota apsekošana 12.09.2025. Nav fotofiksācijas | I36: 27.08.2025. VAS "Latvijas autoceļu uzturētājs" akts Nr. 5.3.3.-V.3/2025-696 31.08.2025. rēķins Nr.R25191634 05.09.2025. MU Nr.28683 05.09.2025. MU Nr.28684 (PVN) | J36: 17.09.2025. Gulbenes novada pašvaldības apliecinājums nr. GND/4.18/25/2633 par inženierbūvju piederību Pamatlīdzekļu uzskaites kartīte Nr. 003789 | M36: KOMPENSĀCIJA
C37: KOPĀ: | D37: =SUM(D5:D36) -> 42096 | E37: =SUM(E5:E36) -> 12628.8 | F37: =SUM(F5:F36) -> 29467.2
B42: Atbalstāms zaudējumu apmērs, euro | C42: 42096
B43: Pašvaldības līdzfinansējums, euro | C43: 12629
B44: No LNG atbalstāmais finansējums, euro | C44: =C42-C43 -> 29467

Sheet Jēkabpils novads
A2: Jēkabpils novada pašvaldības 2025. gada jūlijā un augustā ilgstošu un spēcīgu lietavu laikā radītie postījumi
A3: Nr. p.k. | B3: Objekta nosaukums un adrese | C3: Veicamie pasākumi/darbi | D3: Postījumu novēršanai nepieciešamā finansējuma apmērs, euro | E3: Pašvaldības līdz- finansējums, euro | F3: No valsts budžeta programmas "Līdzekļi neparedzētiem gadījumiem" nepieciešamā finansējuma apmērs, euro | G3: Pašvaldības iesniegtie finansiālā pamatojuma dokumenti | M3: Piezīmes, komentāri
G4: MK noteikumu Nr.421 5.pielikums | H4: apsekošanas akts (zaudējumu novērtējums vai dokumenti, kas apliecina notikušo faktu), vai ir pievienota fotogrāfija/jas | I4: pieprasīto līdzekļu aprēķins/tāme (veicamo darbu/ pakalpojumu apraksts, nepieciešamo materiālu daudzums, cena, atalgojums un paredzamo nodokļu samaksa) | J4: apliecinājums, ka infrastruktūras objekts ir pašvaldības īpašumā vai valdījumā (pamatlīdzekļu uzskaites kartīte vai zemesgrāmatas apliecinājums) | K4: informācija par pašvaldības līdzfinansējuma apmēru objektam radīto zaudējumu novēršanai (domes lēmums) | L4: apliecinājums, ka par objektu pašvaldībai nepienākas vai pienākas apdrošināšanas atlīdzība + skaidrojums, ja nebija apdrošināts
A5: 1 | B5: Ceļš AS11 Smilgas - Lukstiņi, Asares pagasts, Jēkabpils novads, 3,850 km - 3,950 km, 4,210 km -4,340 km, 5,090 km - 5,170 km | C5: Atjaunot ceļa konstruktīvos slāņus, pārbūvēt un pastiprināt ceļa pamata kārtu izskalojumu vietās un papildināt ar nesaistītu minerālmateriālu, veikt ceļa planēšanu un nomaļu noņemšanu | D5: 1640.76 | E5: =D5*30% -> 492.228 | F5: =D5-E5 -> 1148.532 | G5: x | H5: 06.08.2025. apsekošanas akts, veikta fotofiksācija, piedalījās sertificēts speciālists, sertifik. Nr.4-03246 | I5: 09.09.2025. darbu pieņemšanas - nodošanas akts Nr. PNA 25-045 12.09.2025. rēķins Nr.R-SSK-25-104 30.09.2025. MU Nr.23910 08.10.2025. MU Nr.24660 (par PVN) | J5: Pamatlīdzekļu uzskaites kartīte Nr. AK412 | K5: Jēkabpils novada pašvaldības 25.09.2025. lēmums Nr.624 "Par papildu finansējuma piešķiršanu 2025.gada jūlijā un augustā lietavu izraisīto plūdu seku likvidācijai" | L5: 5.pielikumā norādīts, ka pašvaldība neapdrošina ielas un ceļus | M5: KOMPENSĀCIJA
A6: 2 | B6: Ceļš AS12 Dangas - Viļņi, Asares pagasts, Jēkabpils novads, 2,07 km - 2,310 km, 2,890 km - 2,980 km | C6: Atjaunot ceļa konstruktīvos slāņus, pārbūvēt un pastiprināt ceļa pamata kārtu izskalojumu vietās un papildināt ar nesaistītu minerālmateriālu, veikt ceļa planēšanu un nomaļu noņemšanu | D6: 1093.84 | E6: =D6*30% -> 328.152 | F6: =D6-E6 -> 765.688 | G6: x | H6: 06.08.2025. apsekošanas akts, veikta fotofiksācija, piedalījās sertificēts speciālists, sertifik. Nr.4-03246 | I6: 09.09.2025. darbu pieņemšanas - nodošanas akts Nr. PNA 25-046 12.09.2025. rēķins Nr.R-SSK-25-105 30.09.2025. MU Nr.23910 08.10.2025. MU Nr.24660 (par PVN) | J6: Pamatlīdzekļu uzskaites kartīte Nr. AK413 | M6: KOMPENSĀCIJA
A7: 3 | B7: Ceļš AS16 Aveņi - Skujas, Asares pagasts, Jēkabpils novads, 1,260 km - 1,390 km | C7: Atjaunot ceļa konstruktīvos slāņus, pārbūvēt un pastiprināt ceļa pamata kārtu izskalojumu vietās un papildināt ar nesaistītu minerālmateriālu, veikt ceļa planēšanu un nomaļu noņemšanu | D7: 504.15 | E7: =D7*30% -> 151.245 | F7: =D7-E7 -> 352.905 | G7: x | H7: 06.08.2025. apsekošanas akts, veikta fotofiksācija, piedalījās sertificēts speciālists, sertifik. Nr.4-03246 | I7: 22.08.2025. darbu pieņemšanas - nodošanas akts Nr. PNA 25-040 22.08.2025. rēķins Nr.R-SSK-25-089 30.09.2025. MU Nr.23910 08.10.2025. MU Nr.24660 (par PVN) | J7: Pamatlīdzekļu uzskaites kartīte Nr. AK417 | M7: KOMPENSĀCIJA
A8: 4 | B8: Ceļš AS24 Liepiņas - Lejasbērzi, Asares pagasts, Jēkabpils novads, 0,750 km - 0,840 km | C8: Atjaunot ceļa konstruktīvos slāņus, pārbūvēt un pastiprināt ceļa pamata kārtu izskalojumu vietās un papildināt ar nesaistītu minerālmateriālu, veikt ceļa planēšanu un nomaļu noņemšanu | D8: 498.04 | E8: =D8*30% -> 149.412 | F8: =D8-E8 -> 348.628 | G8: x | H8: 06.08.2025. apsekošanas akts, veikta fotofiksācija, piedalījās sertificēts speciālists, sertifik. Nr.4-03246 | I8: 22.08.2025. darbu pieņemšanas - nodošanas akts Nr. PNA 25-041 22.08.2025. rēķins Nr.R-SSK-090 30.09.2025. MU Nr.23910 08.10.2025. MU Nr.24660 (par PVN) | J8: Pamatlīdzekļu uzskaites kartīte Nr. AK425 | M8: KOMPENSĀCIJA
A9: 5 | B9: Ceļš GA07 Gārsene - Jaunmuiža - Irbes, Gārsenes pagasts, Jēkabpils novads, 1,800 km - 2,000 km | C9: Atjaunot ceļa konstruktīvos slāņus, pārbūvēt un pastiprināt ceļa pamata kārtu izskalojumu vietās un papildināt ar nesaistītu minerālmateriālu, veikt ceļa planēšanu un nomaļu noņemšanu | D9: 565.25 | E9: =D9*30% -> 169.575 | F9: =D9-E9 -> 395.675 | G9: x | H9: 30.07.2025. apsekošanas akts, veikta fotofiksācija, piedalījās sertificēts speciālists, sertifik. Nr.4-03246 | I9: 09.09.2025. darbu pieņemšanas - nodošanas akts Nr. PNA 25-047 12.09.2025. rēķins Nr.R-SSK-25-106 30.09.2025. MU Nr.23910 08.10.2025. MU Nr.24660 (par PVN) | J9: Pamatlīdzekļu uzskaites kartīte Nr. AK126 | M9: KOMPENSĀCIJA
A10: 6 | B10: Ceļš RU06 Pudāni - Jaunkalniņi, Rubenes pagasts, Jēkabpils novads, caurteka pik 08/40, 0,050 km - 0,200 km | C10: Pagarināt caurteku, caurtekas galā atjaunot ceļa konstruktīvos slāņus, veikt caurtekas gala sienas nostiprināšanu, veikt ceļa planēšanu un nomaļu noņemšanu tuvāk caurtekai | D10: 4961 | E10: =D10*30% -> 1488.3 | F10: =D10-E10 -> 3472.7 | G10: x | H10: 06.08.2025. apsekošanas akts, veikta fotofiksācija, piedalījās sertificēts speciālists, sertifik. Nr.4-03246 | I10: 22.09.2025. darbu apjomu saraksts, saskaņoja sertificēts speciālists, sertifik. Nr. 4-03246 | J10: Pamatlīdzekļu uzskaites kartīte Nr. 6-277
A11: 7 | B11: RU44 Sēļu ceļš, Rubenes pagasts, Jēkabpils novads, 0,070 km - 0,122 km, caurteka pik 01/40 | C11: Atjaunot ceļa konstruktīvos slāņus, pārbūvēt un pastiprināt ceļa pamata kārtu izskalojumu vietās un papildināt ar nesaistītu minerālmateriālu, veikt ceļa planēšanu un nomaļu noņemšanu, caurtekas aizbēršanu ar nesaistīto minerālmateriālu un caurtekas gala nostiprināšanu | D11: 1270.21 | E11: =D11*30% -> 381.063 | F11: =D11-E11 -> 889.147 | G11: x | H11: 06.08.2025. apsekošanas akts, veikta fotofiksācija, piedalījās sertificēts speciālists, sertifik. Nr.4-03246 | I11: 03.09.2025. akts Nr. JK 08-07 02.09.2025. rēķins Nr.R25171038 30.09.2025. MU Nr.23919 08.10.2025. MU Nr.24660 (par PVN) | J11: Pamatlīdzekļu uzskaites kartīte Nr. 6-430 | M11: KOMPENSĀCIJA
A12: 8 | B12: Ceļš RU45 Brimaņi - Pagasta robeža, Rubenes pagasts, Jēkabpils novads, 0,370 km - 0,450 km | C12: Atjaunot ceļa konstruktīvos slāņus, pārbūvēt un pastiprināt ceļa pamata kārtu izskalojumu vietās un papildināt ar nesaistītu minerālmateriālu, veikt ceļa planēšanu un nomaļu noņemšanu | D12: 2540.42 | E12: =D12*30% -> 762.126 | F12: =D12-E12 -> 1778.294 | G12: x | H12: 06.08.2025. apsekošanas akts, veikta fotofiksācija, piedalījās sertificēts speciālists, sertifik. Nr.4-03246 | J12: Pamatlīdzekļu uzskaites kartīte Nr. 6-431 | M12: KOMPENSĀCIJA
A13: 9 | B13: Ceļš SA03 Odzāni - Pālāni - Lejas Dindzāni, Saukas pagasts, Jēkabpils novads, 0,430 km - 0,570 km | C13: Atjaunot ceļa konstruktīvos slāņus, pārbūvēt un pastiprināt ceļa pamata kārtu izskalojumu vietās un papildināt ar nesaistītu minerālmateriālu, veikt ceļa planēšanu un nomaļu noņemšanu | D13: 1581.3 | E13: =D13*30% -> 474.39 | F13: =D13-E13 -> 1106.91 | G13: x | H13: 06.08.2025. apsekošanas akts, veikta fotofiksācija, piedalījās sertificēts speciālists, sertifik. Nr.4-03246 | I13: 26.08.2025. rēķins Nr. 93/2025, 28.08.2025. akts Nr. 96 par izpildīto darbu nodošanu - pieņemšanu 30.09.2025. MU Nr.23911 08.10.2025. MU Nr.24660 (par PVN) | J13: Pamatlīdzekļu uzskaites kartīte Nr. /P004010 | M13: KOMPENSĀCIJA
A14: 10 | B14: Ceļš SA01 Baloži - Meža Balceri, Saukas pagasts, Jēkabpils novads, pik 10/50 | C14: Caurtekas galā atjaunot ceļa konstruktīvos slāņus, veikt caurtekas gala sienas nostiprināšanu, veikt ceļa planēšanu un nomaļu noņemšanu tuvāk caurtekai | D14: 446.88 | E14: =D14*30% -> 134.064 | F14: =D14-E14 -> 312.816 | G14: x | H14: 06.08.2025. apsekošanas akts, veikta fotofiksācija, piedalījās sertificēts speciālists, sertifik. Nr.4-03246 | I14: 26.08.2025. rēķins Nr. 94/2025, 28.08.2025. akts Nr. 97 par izpildīto darbu nodošanu - pieņemšanu 30.09.2025. MU Nr.23911 08.10.2025. MU Nr.24660 (par PVN) | J14: Pamatlīdzekļu uzskaites kartīte Nr. /P004006 | M14: KOMPENSĀCIJA
A15: 11 | B15: Ceļš SA34 Pālāni - Dzintras, Saukas pagasts, Jēkabpils novads, 0,180 km - 0,290 km | C15: Atjaunot ceļa konstruktīvos slāņus, pārbūvēt un pastiprināt ceļa pamata kārtu izskalojumu vietās un papildināt ar nesaistītu minerālmateriālu, veikt ceļa planēšanu un nomaļu noņemšanu | D15: 438.44 | E15: =D15*30% -> 131.532 | F15: =D15-E15 -> 306.908 | G15: x | H15: 06.08.2025. apsekošanas akts, veikta fotofiksācija, piedalījās sertificēts speciālists, sertifik. Nr.4-03246 | I15: 26.08.2025. rēķins Nr. 91/2025, 28.08.2025. akts Nr. 94 par izpildīto darbu nodošanu - pieņemšanu 30.09.2025. MU Nr.23911 08.10.2025. MU Nr.24660 (par PVN) | J15: Pamatlīdzekļu uzskaites kartīte Nr. JN-01962 | M15: KOMPENSĀCIJA
A16: 12 | B16: Ceļš SE10 Priekšāni - Stūrītes, Sēlpils pagasts, Jēkabpils novads, 0,000 km - 0,120 km, 0,350 km - 0,430 km | C16: Atjaunot ceļa konstruktīvos slāņus, pārbūvēt un pastiprināt ceļa pamata kārtu izskalojumu vietās un papildināt ar nesaistītu minerālmateriālu, veikt ceļa planēšanu un nomaļu noņemšanu | D16: 3638.35 | E16: =D16*30% -> 1091.505 | F16: =D16-E16 -> 2546.845 | G16: x | H16: 31.07.2025. apsekošanas akts, veikta fotofiksācija, piedalījās sertificēts speciālists, sertifik. Nr.4-03246 | I16: 16.09.2025. akts par izpildīto darbu pieņemšanu 16.09.2025. rēķins Nr.279 30.09.2025. MU Nr.23914 | J16: Pamatlīdzekļu uzskaites kartīte Nr. /Ps859 | M16: KOMPENSĀCIJA
A17: 13 | B17: Ceļš SE11 Beķerāni - Atvari - Meldernieki, Sēlpils pagasts, Jēkabpils novads, 0,490 km - 0,780 km, 1,890 km - 1,990 km, 2,160 km - 2,250 km, 2,550 km - 2,800 km | C17: Atjaunot ceļa konstruktīvos slāņus, pārbūvēt un pastiprināt ceļa pamata kārtu izskalojumu vietās un papildināt ar nesaistītu minerālmateriālu, veikt ceļa planēšanu un nomaļu noņemšanu | D17: 8091.33 | E17: =D17*30% -> 2427.399 | F17: =D17-E17 -> 5663.931 | G17: x | H17: 30.07.2025. apsekošanas akts, veikta fotofiksācija, piedalījās sertificēts speciālists, sertifik. Nr.4-03246 | I17: 16.09.2025. akts par izpildīto darbu pieņemšanu 16.09.2025. rēķins Nr.278 30.09.2025. MU Nr.24204 08.10.2025. MU Nr.24660 (par PVN) | J17: Pamatlīdzekļu uzskaites kartīte Nr. /Ps872 | M17: KOMPENSĀCIJA
A18: 14 | B18: Ceļš VI11 Žagari - Migliņas, Vīpes pagasts, Jēkabpils novads, 0,510 km - 0,570 km, 0,650 km - 0,920 km, 1,14 km - 1,240 km | C18: Atjaunot ceļa konstruktīvos slāņus, pārbūvēt un pastiprināt ceļa pamata kārtu izskalojumu vietās un papildināt ar nesaistītu minerālmateriālu, veikt ceļa planēšanu un nomaļu noņemšanu | D18: 2104.68 | E18: =D18*30% -> 631.404 | F18: =D18-E18 -> 1473.276 | G18: x | H18: 01.08.2025. apsekošanas akts, veikta fotofiksācija, piedalījās sertificēts speciālists, sertifik. Nr.4-03246 | I18: 09.09.2025. akts Nr. JK 08-11 08.09.2025. rēķins Nr.R25171098 30.09.2025. MU Nr.23919 08.10.2025. MU Nr.24660 (par PVN) | J18: Pamatlīdzekļu uzskaites kartīte Nr. 7130 | M18: KOMPENSĀCIJA
C19: KOPĀ: | D19: =SUM(D5:D18) -> 29374.65 | E19: =SUM(E5:E18) -> 8812.395 | F19: =SUM(F5:F18) -> 20562.255
B24: Atbalstāms zaudējumu apmērs, euro | C24: 29375
B25: Pašvaldības līdzfinansējums, euro | C25: 8812
B26: No LNG atbalstāmais finansējums, euro | C26: =C24-C25 -> 20563

Sheet Smiltenes novads
A2: Smiltenes valstspilsētas pašvaldības 2025. gada jūlijā lietavu un lielgraudu krusas laikā radītie postījumi
A3: Nr. p.k. | B3: Objekta nosaukums un adrese | C3: Veicamie pasākumi/darbi | D3: Postījumu novēršanai nepieciešamā finansējuma apmērs, euro | E3: Pašvaldības līdz- finansējums, euro | F3: No valsts budžeta programmas "Līdzekļi neparedzētiem gadījumiem" nepieciešamā finansējuma apmērs, euro | G3: Pašvaldības iesniegtie finansiālā pamatojuma dokumenti | M3: Piezīmes, komentāri
G4: MK noteikumu Nr.421 5.pielikums | H4: apsekošanas akts (zaudējumu novērtējums vai dokumenti, kas apliecina notikušo faktu), vai ir pievienota fotogrāfija/jas | I4: pieprasīto līdzekļu aprēķins/tāme (veicamo darbu/ pakalpojumu apraksts, nepieciešamo materiālu daudzums, cena, atalgojums un paredzamo nodokļu samaksa) | J4: apliecinājums, ka infrastruktūras objekts ir pašvaldības īpašumā vai valdījumā (pamatlīdzekļu uzskaites kartīte vai zemesgrāmatas apliecinājums) | K4: informācija par pašvaldības līdzfinansējuma apmēru objektam radīto zaudējumu novēršanai (domes lēmums) | L4: apliecinājums, ka par objektu pašvaldībai nepienākas vai pienākas apdrošināšanas atlīdzība + skaidrojums, ja nebija apdrošināts
A5: 1 | B5: Ceļš Skripji - Avotiņi, Apes pagasts, Smiltenes novads, 0,43 km-0,6 km | C5: Brauktuves virsmas atjaunošana, iestrādājot grants šķembu maisījumu | D5: =4495.55+1820.81 -> 6316.36 | E5: =D5*30% -> 1894.908 | F5: =D5-E5 -> 4421.452 | G5: x | H5: 11.08.2025. apsekošanas akts, apsekošana veikta 14.07.2025., saskaņo sertificēts speciālists, sertifik. Nr.4-02992, veikta fotofiksācija | I5: 08.08.2025. akts Nr.5.3.3.-V.3/2025-682 18.08.2025. akts Nr.5.3.3.-V.3/2025-690 08.08.2025. rēķins Nr. R25191531 13.08.2025. MU Nr.13906 13.08.2025. MU Nr.13888 (par PVN) 19.08.2025. rēķins Nr. R25191571 21.08.2025. MU Nr.14399 21.08.2025. MU Nr.14400 (par PVN) | J5: Pamatlīdzekļu uzskaites kartīte Nr. 13057 | K5: Ceļu atjaunošanas darbi ir pabeigti un apmaksāti, tādējādi no LNG kompensējami izdevumu 70% apmērā, atbilstoši MKN Nr. 421 noteiktajam | L5: 5. pielikumā pašvaldība nrāda, ka objekti nebija apdrošināti, jo nav vispārpieņemta prakse, kā arī nebūtu efektīva publiskas personas finanšu līdzekļu izmantošana. | M5: KOMPENSĀCIJA
A6: 2 | B6: Ceļš Ape - Kalpaki - Silmaļi - Melnupes, Apes pagasts, Smiltenes novads, 4,71 km-4,83 km; 12,49 km-12,57 km | C6: Brauktuves virsmas atjaunošana, iestrādājot grants šķembu maisījumu | G6: x | H6: 11.08.2025. apsekošanas akts, apsekošana veikta 14.07.2025., saskaņo sertificēts speciālists, sertifik. Nr.4-02992, veikta fotofiksācija | J6: Pamatlīdzekļu uzskaites kartīte Nr. 13050, Nr. 18314
A7: 3 | B7: Ceļš Ape - Skripji - Dārziņi - Peļļi, Apes pagasts, Smiltenes novads, 0,7 km-0,96 km; 3,33 km-3,35 km | C7: Brauktuves virsmas atjaunošana, iestrādājot grants šķembu maisījumu | G7: x | H7: 11.08.2025. apsekošanas akts, apsekošana veikta 14.07.2025., saskaņo sertificēts speciālists, sertifik. Nr.4-02992, veikta fotofiksācija | J7: Pamatlīdzekļu uzskaites kartīte Nr. 13053
A8: 4 | B8: Ceļš Dārziņi - Purakalni - Ķekši, Apes pagasts, Smiltenes novads, 1,69 km-1,79 km; 2,49km-2,59km | C8: Brauktuves virsmas atjaunošana, iestrādājot grants šķembu maisījumu | G8: x | H8: 11.08.2025. apsekošanas akts, apsekošana veikta 14.07.2025., saskaņo sertificēts speciālists, sertifik. Nr.4-02992, veikta fotofiksācija | J8: Pamatlīdzekļu uzskaites kartīte Nr. 13061
A9: 5 | B9: Ceļš Tiltlejas - Estrāde, Gaujiena, Gaujienas pagasts, Smiltenes novads, 0,09 km-0,14 km | C9: Brauktuves virsmas atjaunošana, iestrādājot grants šķembu maisījumu | D9: =5785.8+2212.12+460.85+903.63+474.4 -> 9836.8 | E9: =D9*30% -> 2951.04 | F9: =D9-E9 -> 6885.76 | G9: x | H9: 28.08.2025. apsekošanas akts, apsekošana veikta 14.07.2025., saskaņo sertificēts speciālists, sertifik. Nr.4-02992, veikta fotofiksācija | I9: 05.08.2025. akts Nr.5.3.3.-V.3/2025-652 05.08.2025. akts Nr.5.3.3.-V.3/2025-662 05.08.2025. akts Nr.5.3.3.-V.3/2025-657 28.08.2025. akts Nr.5.3.3.-V.3/2025-698 28.08.2025. akts Nr.5.3.3.-V.3/2025-697 28.08.2025. pavadzīme Nr. 25191611 29.08.2025. MU Nr.14840 29.08.2025. MU Nr.14843 (par PVN) 28.08.2025. pavadzīme Nr. 25191612 03.09.2025. MU Nr.15007 03.09.2025. MU Nr.15008 (par PVN) 05.08.2025. rēķins Nr. R25191469 07.08.2025. MU Nr.13671 05.08.2025. rēķins Nr. R25191471 07.08.2025. MU Nr.13670 05.08.2025. rēķins Nr. R25191473 07.08.2025. MU Nr.13672 08.08.2025. MU Nr.13743 (par PVN) | J9: Pamatlīdzekļu uzskaites kartīte Nr. 13120 | M9: KOMPENSĀCIJA
A10: 6 | B10: Ceļš Indriķi - Ķēniņkalni, Trapenes pagasts, Smiltenes novads, 1,65 km-1,66 km | C10: Brauktuves virsmas atjaunošana, iestrādājot grants šķembu maisījumu, caurtekas sakārtošana, caurtekas ieteces, izteces attīrīšana | G10: x | H10: 28.08.2025. apsekošanas akts, apsekošana veikta 28.07.2025., saskaņo sertificēts speciālists, sertifik. Nr.4-02992, veikta fotofiksācija | J10: Pamatlīdzekļu uzskaites kartīte Nr. 13096
A11: 7 | B11: Ceļš Gobas - Pagastnams, Trapenes pagasts, Smiltenes novads, 0,07 km | C11: Brauktuves virsmas atjaunošana, iestrādājot grants šķembu maisījumu | G11: x | H11: 28.08.2025. apsekošanas akts, apsekošana veikta 14.07.2025., saskaņo sertificēts speciālists, sertifik. Nr.4-02992, veikta fotofiksācija | J11: Pamatlīdzekļu uzskaites kartīte Nr. 17490, Nr. 12999
A12: 8 | B12: Ceļš Rudzīši - Smidzi, Gaujiena, Gaujienas pagasts, Smiltenes novads, 0,4 km - 0,55 km | C12: Brauktuves virsmas atjaunošana, iestrādājot grants šķembu maisījumu | G12: x | H12: 08.09.2025. apsekošanas akts, apsekošana veikta 14.07.2025., saskaņo sertificēts speciālists, sertifik. Nr.4-02992, veikta fotofiksācija | J12: Pamatlīdzekļu uzskaites kartīte Nr. 13118
A13: 9 | B13: Ceļš Mazvīvuļi - Apiņi - Gatarta, Drustu pagasts, Smiltenes novads, 0,31 km - 0,91 km | C13: Brauktuves virsmas atjaunošana, iestrādājot grants šķembu maisījumu | D13: =9661.85+970.42+497 -> 11129.27 | E13: =D13*30% -> 3338.781 | F13: =D13-E13 -> 7790.489 | G13: x | H13: 28.08.2025. apsekošanas akts, apsekošana veikta 12.07.2025., saskaņo sertificēts speciālists, sertifik. Nr.4-02992, veikta fotofiksācija | I13: 05.09.2025. akts Nr.1 05.09.2025. akts Nr.1 05.09.2025. akts Nr.5.3.3.-V.3/2025-772 05.09.2025. pavadzīme Nr. 302 05.09.2025. MU Nr.15325 05.09.2025. pavadzīme Nr. 303 05.09.2025. MU Nr.15324 05.09.2025. pavadzīme Nr. 25191717 05.09.2025. MU Nr.15326 05.09.2025. MU Nr.15327 | J13: Pamatlīdzekļu uzskaites kartīte Nr. 11064 | M13: KOMPENSĀCIJA
A14: 10 | B14: Ceļš Skripsti - Rideļi, Drustu pagasts, Smiltenes novads, 1,85 km - 2,05 km, 1,95 km - 2,00 km | C14: Brauktuves virsmas atjaunošana, iestrādājot grants šķembu maisījumu, ceļa klātnes brauktuves malas sakārtošana un stiprināšana ar šķembu maisījumu | G14: x | H14: 28.08.2025. apsekošanas akts, apsekošana veikta 12.07.2025., saskaņo sertificēts speciālists, sertifik. Nr.4-02992, veikta fotofiksācija | J14: Pamatlīdzekļu uzskaites kartīte Nr. 11066
A15: 11 | B15: Ceļš Skripsti - Smukuļi, Drustu pagasts, Smiltenes novads, 2,65 km - 3,15 km, 3,35 km - 3,75 km, 6,36 km - 6,38 km | C15: Brauktuves virsmas atjaunošana, iestrādājot grants šķembu maisījumu, caurtekas iztekas sakārtošana, nostiprināšana ar grunti un ceļa klātnes atjaunošana ar grants šķembu maisījumu | G15: x | H15: 28.08.2025. apsekošanas akts, apsekošana veikta 12.07.2025., saskaņo sertificēts speciālists, sertifik. Nr.4-02992, veikta fotofiksācija | J15: Pamatlīdzekļu uzskaites kartīte Nr. 11052
A16: 12 | B16: Prieņu ceļš, Brantu pagasts, Smiltenes novads, 0,75 km - 1,15 km | C16: Brauktuves virsmas atjaunošana, iestrādājot grants šķembu maisījumu, ceļa klātnes brauktuves malas sakārtošana un stiprināšana ar šķembu maisījumu | G16: x | H16: 28.08.2025. apsekošanas akts, apsekošana veikta 12.07.2025., saskaņo sertificēts speciālists, sertifik. Nr.4-02992, veikta fotofiksācija | J16: Pamatlīdzekļu uzskaites kartīte Nr. 5086
A17: 13 | B17: Āšķipu ceļš, Brantu pagasts, Smiltenes novads, 4,70 km - 4,80 km | C17: Brauktuves virsmas atjaunošana, iestrādājot grants šķembu maisījumu, caurtekas iztekas sakārtošana, nostiprināšana un ceļa klātnes atjaunošana ar šķembu maisījumu | G17: x | H17: 28.08.2025. apsekošanas akts, apsekošana veikta 12.07.2025., saskaņo sertificēts speciālists, sertifik. Nr.4-02992, veikta fotofiksācija | J17: Pamatlīdzekļu uzskaites kartīte Nr. 5084
A18: 14 | B18: Ceļš Zaļkalni - Straumītes, Raunas pagasts, Smiltenes novads, 0,30 km - 0,40 km, 0,41 km - 0,42 km | C18: Brauktuves virsmas atjaunošana, iestrādājot grants šķembu maisījumu | D18: =2800.18+2172.25+2679.55+365.54+366.05 -> 8383.57 | E18: =D18*30% -> 2515.071 | F18: =D18-E18 -> 5868.499 | G18: x | H18: 08.08.2025. apsekošanas akts, apsekošana veikta 12.07.2025., saskaņo sertificēts speciālists, sertifik. Nr.4-02992, nav fotofiksācijas | I18: 17.07.2025. akts par saņemtiem un izlietotiem krājumiem Smiltenes novada pašvaldības darbības nodrošināšanai 17.07.2025. pavadzīme Nr. VIR 250372 25.07.2025. MU Nr.13089 18.07.2025. akts par saņemtiem un izlietotiem krājumiem Smiltenes novada pašvaldības darbības nodrošināšanai 18.07.2025. pavadzīme Nr. VIR 250373 25.07.2025. MU Nr.13089 31.07.2025. akts par saņemtiem un izlietotiem krājumiem Smiltenes novada pašvaldības darbības nodrošināšanai 31.07.2025. pavadzīme Nr. VIR 250408 06.08.2025. MU Nr.13559 Divi akti par grants ceļu seguma planēšanu un profilēšanu Raunas pagastā (1. un 3. ceļu saraksti, atbilstoši 16. - 18.07.2025. paveiktajam uz cietušajiem ceļiem attiecināmas summas 366,05 euro un 365,54 euro) 22.07.2025. faktūra rēķins Nr. 09 25.07.2025. MU Nr.13088 | J18: Pamatlīdzekļu uzskaites kartīte Nr. 10981 | M18: KOMPENSĀCIJA
A19: 15 | B19: Ceļš Stādiņi - Andrēni, Raunas pagasts, Smiltenes novads, 0,00 km -1,38 km | C19: Nogulsnējušo materiālu no ceļmalām ar greideri uzvilkšana uz braucamās daļas | G19: x | H19: 08.08.2025. apsekošanas akts, apsekošana veikta 12.07.2025., saskaņo sertificēts speciālists, sertifik. Nr.4-02992, nav fotofiksācijas | J19: Pamatlīdzekļu uzskaites kartīte Nr. 10962
A20: 16 | B20: Ceļš Līči - Pansionāts, Raunas pagasts, Smiltenes novads, 2,30 km -2,50 km, 0,00 km - 2,29 km, 2,51 km -2,87 km | C20: Brauktuves virsmas atjaunošana, iestrādājot grants šķembu maisījumu, nogulsnējušo materiālu no ceļmalām ar greideri uzvilkšana uz braucamās daļas | G20: x | H20: 08.08.2025. apsekošanas akts, apsekošana veikta 12.07.2025., saskaņo sertificēts speciālists, sertifik. Nr.4-02992, nav fotofiksācijas | J20: Pamatlīdzekļu uzskaites kartīte Nr. 10955
A21: 17 | B21: Ceļš Kauliņi - Māliņi, Raunas pagasts, Smiltenes novads, 1,12 km - 1,17 km, 1,80 km - 1,90 km | C21: Brauktuves virsmas atjaunošana, iestrādājot grants šķembu maisījumu | G21: x | H21: 08.08.2025. apsekošanas akts, apsekošana veikta 12.07.2025., saskaņo sertificēts speciālists, sertifik. Nr.4-02992, nav fotofiksācijas | J21: Pamatlīdzekļu uzskaites kartīte Nr. 10966
A22: 18 | B22: Jaunatnes iela, Raunas pagasts, Smiltenes novads, 0,705 km - 0,780 km | C22: Brauktuves virsmas atjaunošana, iestrādājot grants šķembu maisījumu | G22: x | H22: 08.08.2025. apsekošanas akts, apsekošana veikta 12.07.2025., saskaņo sertificēts speciālists, sertifik. Nr.4-02992, nav fotofiksācijas | J22: Pamatlīdzekļu uzskaites kartīte Nr. 11012
A23: 19 | B23: Ceļš Cimza - Bormaņi, Raunas pagasts, Smiltenes novads, 0,40 km 0,65 km | C23: Brauktuves virsmas atjaunošana, iestrādājot grants šķembu maisījumu | G23: x | H23: 08.08.2025. apsekošanas akts, apsekošana veikta 12.07.2025., saskaņo sertificēts speciālists, sertifik. Nr.4-02992, nav fotofiksācijas | J23: Pamatlīdzekļu uzskaites kartīte Nr. 10950
A24: 20 | B24: Ceļš Vības - Kauliņi, Raunas pagasts, Smiltenes novads, 2,57 km - 2,70 km | C24: Brauktuves virsmas atjaunošana, iestrādājot grants šķembu maisījumu | G24: x | H24: 08.08.2025. apsekošanas akts, apsekošana veikta 12.07.2025., saskaņo sertificēts speciālists, sertifik. Nr.4-02992, nav fotofiksācijas | J24: Pamatlīdzekļu uzskaites kartīte Nr. 11036
A25: 21 | B25: Ceļš Pansionāts - Drūģi, Raunas pagasts, Smiltenes novads, 0,00 km -1,93 km | C25: Nogulsnējušo materiālu no ceļmalām ar greideri uzvilkšana uz braucamās daļas | G25: x | H25: 08.08.2025. apsekošanas akts, apsekošana veikta 12.07.2025., saskaņo sertificēts speciālists, sertifik. Nr.4-02992, nav fotofiksācijas | J25: Pamatlīdzekļu uzskaites kartīte Nr. 10954
A26: 22 | B26: Ceļš Baiduņi - Rauna, Raunas pagasts, Smiltenes novads, 0,165 km - 0,53 km | C26: Brauktuves virsmas atjaunošana, iestrādājot grants šķembu maisījumu | G26: x | H26: 08.08.2025. apsekošanas akts, apsekošana veikta 12.07.2025., saskaņo sertificēts speciālists, sertifik. Nr.4-02992, nav fotofiksācijas | J26: Pamatlīdzekļu uzskaites kartīte Nr. 11037
A27: 23 | B27: Ceļš Cimza - Dravēļi, Raunas pagasts, Smiltenes novads, 5,10 km - 5,40 km | C27: Brauktuves virsmas atjaunošana, iestrādājot grants šķembu maisījumu | G27: x | H27: 08.08.2025. apsekošanas akts, apsekošana veikta 12.07.2025., saskaņo sertificēts speciālists, sertifik. Nr.4-02992, nav fotofiksācijas | J27: Pamatlīdzekļu uzskaites kartīte Nr. 10963
A28: 24 | B28: Ceļš Kareļi - Mūri, Raunas pagasts, Smiltenes novads, 1,35 km - 1,63 km | C28: Brauktuves virsmas atjaunošana, iestrādājot grants šķembu maisījumu | G28: x | H28: 08.08.2025. apsekošanas akts, apsekošana veikta 12.07.2025., saskaņo sertificēts speciālists, sertifik. Nr.4-02992, nav fotofiksācijas | J28: Pamatlīdzekļu uzskaites kartīte Nr. 10946
A29: 25 | B29: Ceļš Klinči - Immuri, Raunas pagasts, Smiltenes novads, 3,60 km - 3,92 km | C29: Brauktuves virsmas atjaunošana, iestrādājot grants šķembu maisījumu | G29: x | H29: 08.08.2025. apsekošanas akts, apsekošana veikta 12.07.2025., saskaņo sertificēts speciālists, sertifik. Nr.4-02992, nav fotofiksācijas | J29: Pamatlīdzekļu uzskaites kartīte Nr. 10961
A30: 26 | B30: Rudbāržu ceļš, Variņu pagasts, Smiltenes novads, 0,38 km - 0,63 km | C30: Caurtekas nomaiņa, brauktuves remonts - minerālmateriāla pievešana, grāvja atjaunošana | D30: 9732.37 | E30: =D30*30% -> 2919.711 | F30: =D30-E30 -> 6812.659 | G30: x | H30: 10.10.2025. apsekošanas akts, apsekošana veikta 11.07.2025., veikta fotofiksācija, paraksta sertificēts speciālists, sertifik. Nr.4-02992 | I30: 07.08.2025. akts Nr.5.3.3.-V.3/2025-670 07.08.2025. rēķins Nr. R25191479 13.08.2025. MU Nr.14011 13.08.2025. MU Nr.14012 (par PVN) | J30: Pamatlīdzekļu uzskaites kartīte Nr. 18753, Nr. 7030 | M30: KOMPENSĀCIJA
C31: KOPĀ: | D31: =SUM(D5:D30) -> 45398.37 | E31: =SUM(E5:E30) -> 13619.511 | F31: =SUM(F5:F30) -> 31778.859
B36: Atbalstāms zaudējumu apmērs, euro | C36: 45398
B37: Pašvaldības līdzfinansējums, euro | C37: 13619
B38: No LNG atbalstāmais finansējums, euro | C38: =C36-C37 -> 31779

Sheet Kopā
A2: Pašvaldība | B2: Izdevumi kopā, euro | C2: Pašvaldības līdzfinansējums, euro | D2: No LNG nepieciešams, euro
A3: Daugavpils vailstspilsētas pašvaldība | B3: ='Daugavpils valstspilsēta'!C15 -> 14286 | C3: ='Daugavpils valstspilsēta'!C16 -> 4286 | D3: =B3-C3 -> 10000
A4: Gulbenes novada pašvaldība | B4: ='Gulbenes novads'!C42 -> 42096 | C4: ='Gulbenes novads'!C43 -> 12629 | D4: =B4-C4 -> 29467
A5: Jēkabpils novada pašvaldība | B5: ='Jēkabpils novads'!C24 -> 29375 | C5: ='Jēkabpils novads'!C25 -> 8812 | D5: =B5-C5 -> 20563
A6: Smiltenes novada pašvaldība | B6: ='Smiltenes novads'!C36 -> 45398 | C6: ='Smiltenes novads'!C37 -> 13619 | D6: =B6-C6 -> 31779
A7: Kopā: | B7: =SUM(B3:B6) -> 131155 | C7: =SUM(C3:C6) -> 39346 | D7: =SUM(D3:D6) -> 91809
