Workbook

Sheet Ietekme uz valsts budžetu
A2: Ietekme uz valsts un pašvaldību budžetu
A4: Scenārijs | B4: Vidējā termiņa budžeta ietvara likumā plānotais finansējums | E4: Nepieciešamais papildu finansējums
B5: 2024. gada plāns | C5: 2025. gada plāns | D5: 2026. gada plāns | E5: 2027. gads | F5: 2028. gads | G5: 2029. gads | H5: turpmāk ik pēc 7 gadiem
A6: 1. Augstskolu un koledžu finansētas kvalitātes vērtēšanas posms | B6: 633 559 | C6: 633 559 | D6: 633 559 | E6: 0 | F6: 0 | G6: =F6 -> 0 | H6: =E6 -> 0
A7: 2. Daļēji valsts finansēts (50%) kvalitātes vērtēšanas posms reizi septiņos gados | B7: 633 559 € | C7: 633 559 € | D7: 633 559 € | E7: =E8/2 -> 278820 | F7: =F6/2 -> 0 | G7: =G6/2 -> 0 | H7: =H8/2 -> 278820
A8: 3. Valsts finansēts kvalitātes vērtēšanas posms reizi septiņos gados | B8: 633 559 € | C8: 633. 59 € | D8: 633 559 € | E8: =Iestādes!I49 -> 557640 | F8: 0 | G8: 0 | H8: =E8 -> 557640

Sheet Iestādes
H1: Izmaksas
A2: Iestādes nosaukums | B2: Dibinātājs: Valsts(1), ne valsts(0) | C2: Tips | D2: Filiāļu skaits | E2: Tematisko grupu skaits | F2: Dienu skaits (atkarībā no iestādes tipa) | G2: Ekspertu skaits | H2: Izmaksas par ekspertu darbu bez fililālēm | I2: Izmaksas par ekspertu darbu ar fililālēm (+4h katram ekspertam par katru fililāli)
A3: "HOTEL SCHOOL" Viesnīcu biznesa koledža | B3: 0 | C3: Koledža | D3: 0 | E3: 1 | F3: =VLOOKUP(C3,Table14[],2,FALSE) -> 3 | G3: =VLOOKUP(C3,Table1[#All],2,FALSE) -> 5 | H3: =(Table2[[#This Row],[Ekspertu skaits]]*8+16+16+(Table2[[#This Row],[Ekspertu skaits]]-2)*8+Table2[[#This Row],[Ekspertu skaits]]*Table2[[#This Row],[Dienu skaits (atkarībā no iestādes tipa)]]-1)*'Ekspertu likme'!B$1*'AIKA Pieskaitāmās izmaksas'!B$1 -> 9900 | I3: =(Table2[[#This Row],[Ekspertu skaits]]*8+16+16+(Table2[[#This Row],[Ekspertu skaits]]-2)*8+Table2[[#This Row],[Ekspertu skaits]]*Table2[[#This Row],[Dienu skaits (atkarībā no iestādes tipa)]]-1+Table2[[#This Row],[Filiāļu skaits ]]*4)*'Ekspertu likme'!B$1*'AIKA Pieskaitāmās izmaksas'!B$1 -> 9900
A4: Banku augstskola | B4: 1 | C4: Augstskola | D4: 0 | E4: 2 | F4: =VLOOKUP(C4,Table14[],2,FALSE) -> 4 | G4: =VLOOKUP(C4,Table1[#All],2,FALSE) -> 6 | H4: =(Table2[[#This Row],[Ekspertu skaits]]*8+16+16+(Table2[[#This Row],[Ekspertu skaits]]-2)*8+Table2[[#This Row],[Ekspertu skaits]]*Table2[[#This Row],[Dienu skaits (atkarībā no iestādes tipa)]]-1)*'Ekspertu likme'!B$1*'AIKA Pieskaitāmās izmaksas'!B$1 -> 12150 | I4: =(Table2[[#This Row],[Ekspertu skaits]]*8+16+16+(Table2[[#This Row],[Ekspertu skaits]]-2)*8+Table2[[#This Row],[Ekspertu skaits]]*Table2[[#This Row],[Dienu skaits (atkarībā no iestādes tipa)]]-1+Table2[[#This Row],[Filiāļu skaits ]]*4)*'Ekspertu likme'!B$1*'AIKA Pieskaitāmās izmaksas'!B$1 -> 12150
A5: Biznesa augstskola Turība | B5: 0 | C5: Augstskola | D5: 6 | E5: 3 | F5: =VLOOKUP(C5,Table14[],2,FALSE) -> 4 | G5: =VLOOKUP(C5,Table1[#All],2,FALSE) -> 6 | H5: =(Table2[[#This Row],[Ekspertu skaits]]*8+16+16+(Table2[[#This Row],[Ekspertu skaits]]-2)*8+Table2[[#This Row],[Ekspertu skaits]]*Table2[[#This Row],[Dienu skaits (atkarībā no iestādes tipa)]]-1)*'Ekspertu likme'!B$1*'AIKA Pieskaitāmās izmaksas'!B$1 -> 12150 | I5: =(Table2[[#This Row],[Ekspertu skaits]]*8+16+16+(Table2[[#This Row],[Ekspertu skaits]]-2)*8+Table2[[#This Row],[Ekspertu skaits]]*Table2[[#This Row],[Dienu skaits (atkarībā no iestādes tipa)]]-1+Table2[[#This Row],[Filiāļu skaits ]]*4)*'Ekspertu likme'!B$1*'AIKA Pieskaitāmās izmaksas'!B$1 -> 14310
A6: Biznesa, mākslas un tehnoloģiju augstskola "RISEBA" | B6: 0 | C6: Augstskola | D6: 1 | E6: 3 | F6: =VLOOKUP(C6,Table14[],2,FALSE) -> 4 | G6: =VLOOKUP(C6,Table1[#All],2,FALSE) -> 6 | H6: =(Table2[[#This Row],[Ekspertu skaits]]*8+16+16+(Table2[[#This Row],[Ekspertu skaits]]-2)*8+Table2[[#This Row],[Ekspertu skaits]]*Table2[[#This Row],[Dienu skaits (atkarībā no iestādes tipa)]]-1)*'Ekspertu likme'!B$1*'AIKA Pieskaitāmās izmaksas'!B$1 -> 12150 | I6: =(Table2[[#This Row],[Ekspertu skaits]]*8+16+16+(Table2[[#This Row],[Ekspertu skaits]]-2)*8+Table2[[#This Row],[Ekspertu skaits]]*Table2[[#This Row],[Dienu skaits (atkarībā no iestādes tipa)]]-1+Table2[[#This Row],[Filiāļu skaits ]]*4)*'Ekspertu likme'!B$1*'AIKA Pieskaitāmās izmaksas'!B$1 -> 12510
A7: Daugavpils Universitāte | B7: 1 | C7: Lietišķo zinātņu universitāte | D7: 5 | E7: 6 | F7: =VLOOKUP(C7,Table14[],2,FALSE) -> 4 | G7: =VLOOKUP(C7,Table1[#All],2,FALSE) -> 7 | H7: =(Table2[[#This Row],[Ekspertu skaits]]*8+16+16+(Table2[[#This Row],[Ekspertu skaits]]-2)*8+Table2[[#This Row],[Ekspertu skaits]]*Table2[[#This Row],[Dienu skaits (atkarībā no iestādes tipa)]]-1)*'Ekspertu likme'!B$1*'AIKA Pieskaitāmās izmaksas'!B$1 -> 13950 | I7: =(Table2[[#This Row],[Ekspertu skaits]]*8+16+16+(Table2[[#This Row],[Ekspertu skaits]]-2)*8+Table2[[#This Row],[Ekspertu skaits]]*Table2[[#This Row],[Dienu skaits (atkarībā no iestādes tipa)]]-1+Table2[[#This Row],[Filiāļu skaits ]]*4)*'Ekspertu likme'!B$1*'AIKA Pieskaitāmās izmaksas'!B$1 -> 15750
A8: Daugavpils Universitātes aģentūra "Daugavpils Universitātes Daugavpils medicīnas koledža" | B8: 1 | C8: Koledža | D8: 0 | E8: 1 | F8: =VLOOKUP(C8,Table14[],2,FALSE) -> 3 | G8: =VLOOKUP(C8,Table1[#All],2,FALSE) -> 5 | H8: =(Table2[[#This Row],[Ekspertu skaits]]*8+16+16+(Table2[[#This Row],[Ekspertu skaits]]-2)*8+Table2[[#This Row],[Ekspertu skaits]]*Table2[[#This Row],[Dienu skaits (atkarībā no iestādes tipa)]]-1)*'Ekspertu likme'!B$1*'AIKA Pieskaitāmās izmaksas'!B$1 -> 9900 | I8: =(Table2[[#This Row],[Ekspertu skaits]]*8+16+16+(Table2[[#This Row],[Ekspertu skaits]]-2)*8+Table2[[#This Row],[Ekspertu skaits]]*Table2[[#This Row],[Dienu skaits (atkarībā no iestādes tipa)]]-1+Table2[[#This Row],[Filiāļu skaits ]]*4)*'Ekspertu likme'!B$1*'AIKA Pieskaitāmās izmaksas'!B$1 -> 9900
A9: Eiropas Kristīgā akadēmija | B9: 0 | C9: Augstskola | D9: 0 | E9: 2 | F9: =VLOOKUP(C9,Table14[],2,FALSE) -> 4 | G9: =VLOOKUP(C9,Table1[#All],2,FALSE) -> 6 | H9: =(Table2[[#This Row],[Ekspertu skaits]]*8+16+16+(Table2[[#This Row],[Ekspertu skaits]]-2)*8+Table2[[#This Row],[Ekspertu skaits]]*Table2[[#This Row],[Dienu skaits (atkarībā no iestādes tipa)]]-1)*'Ekspertu likme'!B$1*'AIKA Pieskaitāmās izmaksas'!B$1 -> 12150 | I9: =(Table2[[#This Row],[Ekspertu skaits]]*8+16+16+(Table2[[#This Row],[Ekspertu skaits]]-2)*8+Table2[[#This Row],[Ekspertu skaits]]*Table2[[#This Row],[Dienu skaits (atkarībā no iestādes tipa)]]-1+Table2[[#This Row],[Filiāļu skaits ]]*4)*'Ekspertu likme'!B$1*'AIKA Pieskaitāmās izmaksas'!B$1 -> 12150
A10: Ekonomikas un kultūras augstskola | B10: 0 | C10: Augstskola | D10: 1 | E10: 3 | F10: =VLOOKUP(C10,Table14[],2,FALSE) -> 4 | G10: =VLOOKUP(C10,Table1[#All],2,FALSE) -> 6 | H10: =(Table2[[#This Row],[Ekspertu skaits]]*8+16+16+(Table2[[#This Row],[Ekspertu skaits]]-2)*8+Table2[[#This Row],[Ekspertu skaits]]*Table2[[#This Row],[Dienu skaits (atkarībā no iestādes tipa)]]-1)*'Ekspertu likme'!B$1*'AIKA Pieskaitāmās izmaksas'!B$1 -> 12150 | I10: =(Table2[[#This Row],[Ekspertu skaits]]*8+16+16+(Table2[[#This Row],[Ekspertu skaits]]-2)*8+Table2[[#This Row],[Ekspertu skaits]]*Table2[[#This Row],[Dienu skaits (atkarībā no iestādes tipa)]]-1+Table2[[#This Row],[Filiāļu skaits ]]*4)*'Ekspertu likme'!B$1*'AIKA Pieskaitāmās izmaksas'!B$1 -> 12510
A11: Informācijas sistēmu menedžmenta augstskola | B11: 0 | C11: Augstskola | D11: 1 | E11: 3 | F11: =VLOOKUP(C11,Table14[],2,FALSE) -> 4 | G11: =VLOOKUP(C11,Table1[#All],2,FALSE) -> 6 | H11: =(Table2[[#This Row],[Ekspertu skaits]]*8+16+16+(Table2[[#This Row],[Ekspertu skaits]]-2)*8+Table2[[#This Row],[Ekspertu skaits]]*Table2[[#This Row],[Dienu skaits (atkarībā no iestādes tipa)]]-1)*'Ekspertu likme'!B$1*'AIKA Pieskaitāmās izmaksas'!B$1 -> 12150 | I11: =(Table2[[#This Row],[Ekspertu skaits]]*8+16+16+(Table2[[#This Row],[Ekspertu skaits]]-2)*8+Table2[[#This Row],[Ekspertu skaits]]*Table2[[#This Row],[Dienu skaits (atkarībā no iestādes tipa)]]-1+Table2[[#This Row],[Filiāļu skaits ]]*4)*'Ekspertu likme'!B$1*'AIKA Pieskaitāmās izmaksas'!B$1 -> 12510
A12: Jāzepa Vītola Latvijas Mūzikas akadēmija | B12: 1 | C12: Mākslas universitāte | D12: 0 | E12: 2 | F12: =VLOOKUP(C12,Table14[],2,FALSE) -> 4 | G12: =VLOOKUP(C12,Table1[#All],2,FALSE) -> 6 | H12: =(Table2[[#This Row],[Ekspertu skaits]]*8+16+16+(Table2[[#This Row],[Ekspertu skaits]]-2)*8+Table2[[#This Row],[Ekspertu skaits]]*Table2[[#This Row],[Dienu skaits (atkarībā no iestādes tipa)]]-1)*'Ekspertu likme'!B$1*'AIKA Pieskaitāmās izmaksas'!B$1 -> 12150 | I12: =(Table2[[#This Row],[Ekspertu skaits]]*8+16+16+(Table2[[#This Row],[Ekspertu skaits]]-2)*8+Table2[[#This Row],[Ekspertu skaits]]*Table2[[#This Row],[Dienu skaits (atkarībā no iestādes tipa)]]-1+Table2[[#This Row],[Filiāļu skaits ]]*4)*'Ekspertu likme'!B$1*'AIKA Pieskaitāmās izmaksas'!B$1 -> 12150
A13: Jēkabpils Agrobiznesa koledža | B13: 1 | C13: Koledža | D13: 0 | E13: 2 | F13: =VLOOKUP(C13,Table14[],2,FALSE) -> 3 | G13: =VLOOKUP(C13,Table1[#All],2,FALSE) -> 5 | H13: =(Table2[[#This Row],[Ekspertu skaits]]*8+16+16+(Table2[[#This Row],[Ekspertu skaits]]-2)*8+Table2[[#This Row],[Ekspertu skaits]]*Table2[[#This Row],[Dienu skaits (atkarībā no iestādes tipa)]]-1)*'Ekspertu likme'!B$1*'AIKA Pieskaitāmās izmaksas'!B$1 -> 9900 | I13: =(Table2[[#This Row],[Ekspertu skaits]]*8+16+16+(Table2[[#This Row],[Ekspertu skaits]]-2)*8+Table2[[#This Row],[Ekspertu skaits]]*Table2[[#This Row],[Dienu skaits (atkarībā no iestādes tipa)]]-1+Table2[[#This Row],[Filiāļu skaits ]]*4)*'Ekspertu likme'!B$1*'AIKA Pieskaitāmās izmaksas'!B$1 -> 9900
A14: Juridiskā koledža | B14: 0 | C14: Koledža | D14: 4 | E14: 2 | F14: =VLOOKUP(C14,Table14[],2,FALSE) -> 3 | G14: =VLOOKUP(C14,Table1[#All],2,FALSE) -> 5 | H14: =(Table2[[#This Row],[Ekspertu skaits]]*8+16+16+(Table2[[#This Row],[Ekspertu skaits]]-2)*8+Table2[[#This Row],[Ekspertu skaits]]*Table2[[#This Row],[Dienu skaits (atkarībā no iestādes tipa)]]-1)*'Ekspertu likme'!B$1*'AIKA Pieskaitāmās izmaksas'!B$1 -> 9900 | I14: =(Table2[[#This Row],[Ekspertu skaits]]*8+16+16+(Table2[[#This Row],[Ekspertu skaits]]-2)*8+Table2[[#This Row],[Ekspertu skaits]]*Table2[[#This Row],[Dienu skaits (atkarībā no iestādes tipa)]]-1+Table2[[#This Row],[Filiāļu skaits ]]*4)*'Ekspertu likme'!B$1*'AIKA Pieskaitāmās izmaksas'!B$1 -> 11340
... A48: Vidzemes Augstskola | B48: 1 | C48: Augstskola | D48: 0 | E48: 4 | F48: =VLOOKUP(C48,Table14[],2,FALSE) -> 4 | G48: =VLOOKUP(C48,Table1[#All],2,FALSE) -> 6 | H48: =(Table2[[#This Row],[Ekspertu skaits]]*8+16+16+(Table2[[#This Row],[Ekspertu skaits]]-2)*8+Table2[[#This Row],[Ekspertu skaits]]*Table2[[#This Row],[Dienu skaits (atkarībā no iestādes tipa)]]-1)*'Ekspertu likme'!B$1*'AIKA Pieskaitāmās izmaksas'!B$1 -> 12150 | I48: =(Table2[[#This Row],[Ekspertu skaits]]*8+16+16+(Table2[[#This Row],[Ekspertu skaits]]-2)*8+Table2[[#This Row],[Ekspertu skaits]]*Table2[[#This Row],[Dienu skaits (atkarībā no iestādes tipa)]]-1+Table2[[#This Row],[Filiāļu skaits ]]*4)*'Ekspertu likme'!B$1*'AIKA Pieskaitāmās izmaksas'!B$1 -> 12150
A49: Kopā | H49: =SUM(H3:H48) -> 536040 | I49: =SUM(I3:I48) -> 557640

Sheet AIKA Pieskaitāmās izmaksas
A1: Koeficients administratīvai nodrošināšanai | B1: 1.5
A4: Pašlaik | B4: 1.3

Sheet Ekspertu likme
A1: Ekspertu stundas likme | B1: 60 | C1: euro | D1: Ieskaitot visus nodokļus, arī DD VSAOI, pieņemot 20% pieaugumu
A3: Pašlaik | B3: 49.44 | C3: euro

Sheet Ekspertu skaits
A1: Tips | B1: Skaits
A2: Augstskola | B2: 6
A3: Koledža | B3: 5
A4: Lietišķo zinātņu universitāte | B4: 7
A5: Mākslas universitāte | B5: 6
A6: Zinātnes universitāte | B6: 9

Sheet Dienu skaits
A1: Tips | B1: Dienas
A2: Augstskola | B2: 4
A3: Koledža | B3: 3
A4: Lietišķo zinātņu universitāte | B4: 4
A5: Mākslas universitāte | B5: 4
A6: Zinātnes universitāte | B6: 5
