Workbook

Sheet Deficīts
C1: 1.Pielikums Ministru kabineta rīkojuma “Par Zāļu valsts aģentūras 2022.gada budžeta apstiprināšanu” projekta sākotnējās ietekmes novērtējuma ziņojumam (anotācijai)
A2: VTMEC papildus nepieciešamais finansējums 2022.gadā
A4: Nr. | B4: Pozīcija | C4: Paskaidrojums | D4: Prognozētās Izmaksas | E4: EKK
A5: KOPĀ: | D5: =SUM(D6:D9) -> 185380.3
A6: 1 | B6: Ēkas remontdarbu un remontmateriālu iegādēm, lai nodrošinātu nolietoto ēku infrastruktūras uzturēšanu, lai izvairītos no ārkārtas avārijas stāvokļa iestāšanās | C6: Detalizēts aprēķins darba lapā 1 | D6: ='1'!G19 -> 27731.21 | E6: 2000/5000
A7: 2 | B7: Informācijas tehnoloģiju pakalpojumiem, lai nodrošinātu licenču atjaunošanu un uzturētu ekspertīžu izpildes operativitāti un darba efektivitāti | C7: Detalizēts aprēķins darba lapā 2 | D7: ='2'!G13 -> 22801.757 | E7: 2000/5000
A8: 3 | B8: Pasākumi pamatfunkciju uzturēšanai | C8: Detalizēts aprēķins darba lapā 3 | D8: ='3'!E17 -> 67701.529 | E8: 2000
A9: 4 | B9: Energoresursu cenu kāpuma ietekme | C9: Detalizēts aprēķins darba lapā 5 | D9: ='4'!E8 -> 67145.804 | E9: 2000
A10: Pakalpojumu izdevumu segšanai | D10: ='1'!G20+'2'!G14+'3'!E18+'4'!E8 -> 177664.28 | E10: 2000
A11: Kapitālo iegāžu izdevumu segšanai | D11: ='1'!G21+'2'!G15+'3'!E19+'4'!E9 -> 7716.02 | E11: 5000
A14: * Prioritātes | C14: EUR
A15: 1 | B15: Augsta | C15: ='1'!C24+'2'!C19+'3'!C24+'4'!C14 -> 171872.42
A16: 2 | B16: Vidēja | C16: ='1'!C25+'2'!C20+'3'!C25+'4'!C15 -> 13507.88
A17: 3 | B17: Zema | C17: ='1'!C26+'2'!C21+'3'!C26+'4'!C16 -> 0
A18: Kopā | C18: =SUM(C15:C17) -> 185380.3

Sheet 1
H1: 2.Pielikums Ministru kabineta rīkojuma “Par Zāļu valsts aģentūras 2022.gada budžeta apstiprināšanu” projekta sākotnējās ietekmes novērtējuma ziņojumam (anotācijai)
A2: 1. Ēkas remontdarbu un remontmateriālu iegādēm, lai nodrošinātu nolietoto ēku infrastruktūras uzturēšanu, lai izvairītos no ārkārtas avārijas stāvokļa iestāšanās
A3: Nr.p.k. | B3: Nepieciešamība/aktivitāte | C3: Daudzums | D3: 1 vienības cena bez PVN | E3: Izmaksas bez PVN | F3: PVN (21%) | G3: Izmaksas EUR ar PVN | H3: Pamatojums iegādes nepieciešamībai | I3: EKK | J3: Prioritāte
A4: 1 | B4: Ieejas durvju nomaiņa un uzstādīšana 6. korpusa ēkai | D4: =SUM(D5:D8) -> 1743.76 | E4: =SUM(E5:E8) -> 4587.06 | F4: =SUM(F5:F8) -> 963.29 | G4: =SUM(G5:G8) -> 5550.35 | H4: Esošajām ir bojāts durvju korpusa rāmis, kas intensīvas lietošanas un laikapstākļu rezultātā ir deformējušās un zaudējušas savu sākotnējo funkcionalitāti, durvis neveras ciet un nav iespējams tās saremontēt, lai darbotos pilnvērtīgi. Elektrisko slēdzeņu nomaiņa 3 ieejas durvīm, lai savietotu ar piekļuves kontroles sistēmu, piekļuves kontroles sistēmas instalācijas darbi trim 6.korpusa ieejas durvīm. Epidemoloģiskās drošības paaugstināšanai koordinējot apmeklētāju plūsmu, lai nodrošinātu piekļuvi Reģistratūrai (Hipokrāta 2K-6) un korespondences piegādei Lietvedībai (DIPN), ir jāuzstāda abpusējo sarunu domofoni ar iespēju pieslēgt un attālināti vadīt elektromagnētisko sprūdu atslēgu. | I4: 2000 | J4: 1
A5: 1.1. | B5: Durvis | C5: 3 | D5: 1093.2 | E5: =C5*D5 -> 3279.6 | F5: =ROUND(E5*0.21,2) -> 688.72 | G5: =E5+F5 -> 3968.32 | I5: 2000 | J5: 1
A6: 1.2. | B6: Elektriskā slēdzenes | C6: 3 | D6: 92.5 | E6: =C6*D6 -> 277.5 | F6: =ROUND(E6*0.21,2) -> 58.28 | G6: =E6+F6 -> 335.78 | I6: 2000 | J6: 1
A7: 1.3. | B7: Instalācijas darbi | C7: 1 | D7: 86.16 | E7: =C7*D7 -> 86.16 | F7: =ROUND(E7*0.21,2) -> 18.09 | G7: =E7+F7 -> 104.25 | I7: 2000 | J7: 1
A8: 1.4. | B8: Domofona iegāde un uzstādīšana | C8: 2 | D8: 471.9 | E8: =C8*D8 -> 943.8 | F8: =ROUND(E8*0.21,2) -> 198.2 | G8: =E8+F8 -> 1142 | I8: 2000 | J8: 1
A9: 2 | B9: Remontdarbi Valmieras reģionālajā nodaļā | D9: =SUM(D10:D10) -> 180.4 | E9: =SUM(E10:E10) -> 180.4 | F9: =SUM(F10:F10) -> 37.88 | G9: =SUM(G10:G10) -> 218.28 | I9: 2000 | J9: 1/2
A10: 2.1. | B10: Santehnikas remontdarbi Valmieras reģionālajā nodaļā | C10: 1 | D10: 180.4 | E10: =C10*D10 -> 180.4 | F10: =ROUND(E10*0.21,2) -> 37.88 | G10: =E10+F10 -> 218.28 | H10: Neatliekami santehnikas remontdarbi VaRN, lai novērstu regulāru iekšējās kanalizācijas sistēmas cauruļvadu aizdambēšanos. | I10: 2000 | J10: 1
A11: 3 | B11: Kosmētiskais remonts laboratorijas telpām Hipokrāta ielā 2 k-6, Rīgā, lai nodrošinātu kabinetu pielāgošanu TTL jauno iekārtu- LCMS-8050 Nexera un GCMS-TQ N uzstādīšanai | D11: =SUM(D12:D15) -> 7818.96 | E11: =SUM(E12:E15) -> 10218.96 | F11: =SUM(F12:F15) -> 2145.98 | G11: =SUM(G12:G15) -> 12364.94 | I11: 2000 /5000 | J11: 1
A12: 3.1. | B12: Remonts 217.telpā Hipokrāta ielā 2 k-6, Rīgā | C12: 1 | D12: 4863.65 | E12: =C12*D12 -> 4863.65 | F12: =ROUND(E12*0.21,2) -> 1021.37 | G12: =E12+F12 -> 5885.02 | H12: Telpai, kurā tiks uzstādītas LCMS-8050 Nexera un GCMS-TQ N, jābūt pēc iespējas brīvai no kaitīgiem elementiem (putekļiem, vibrācijām, elektromagnētiskajiem laukiem un kodīgām gāzēm). Jānodrošina maiņstrāvas magnētiskā lauka intensitāte: 0,01 mT (100 mg) vai mazāka. Statiskā magnētiskā lauka intensitāte: 0,1mT (1000 mg) vai mazāka. Telpai obligāti nepieciešams autonoms kvalitatīvs, jaudīgs gaisa kondicionieris, jo 2 masspektrometri rada ļoti lielu siltumenerģiju. | I12: 2000 | J12: 1
A13: 3.2. | B13: Gaisa kondicionieris | C13: 1 | D13: 727.88 | E13: 727.88 | F13: =ROUND(E13*0.21,2) -> 152.85 | G13: =E13+F13 -> 880.73 | I13: 5000 | J13: 1
A14: 3.3. | B14: Remonts 222.telpā Hipokrāta ielā 2 k-6, Rīgā | C14: 1 | D14: 1027.43 | E14: =C14*D14 -> 1027.43 | F14: =ROUND(E14*0.21,2) -> 215.76 | G14: =E14+F14 -> 1243.19 | H14: Lai izvietotu UV-VIS spektrometru, analītiskos svarus, references materiālu sagatavošanu, mikrocentrifugēšanu. | I14: 2000 | J14: 1
A15: 3.4. | B15: TMĢSL telpas 202.un 203.kab. elektroinstalācijas darbi jauno iekārtu uzstādīsānai | C15: 3 | D15: 1200 | E15: 3600 | F15: =ROUND(E15*0.21,2) -> 756 | G15: =E15+F15 -> 4356 | H15: Lai nodrošinātu jauno iekārtu izvietošanu laboratorijas telpās (202.kab.) tajās nepieciešams veikt esošo mēbeļu komplektu demontāžu un uzstādīsanu citās telpās( 206, 207.kab), telpu (202.kab.) nepieciešams aprīkot ar attiecīgu apgaismojumu virs iekārtām, plauktiem pie sienas un atvilkņu skapīšiem, veikt elektrības instalāciju auditu, nepieciešamības gadījumā, palielināt pienākušo vadu jaudas un palielināt kontaktigzdu skaitu iekārtu pieslēgšanai. Nomainīt dubulto izlietni telpas stūrī pret vienu nelielu izlietni ar skapīti, kam blakus pārvietot jauno saldētavu un ledusskapi, nodrošinot starp tiem atstarpi gaisa pieplūdei. Jaunu darba virsu ierīkošanu 206.un 207.kab.un attiecīgi sakārtot elektroinstalāciju, palielināt esošo elektrības kontaktligzdu skaitu, atbilstoši iekārtu darbības nodrošināšanas nepieciešamībai, nostiprināt esošās elektrības kontaktligzdas. | I15: 2000 | J15: 1
A16: 4 | B16: Remontdarbi un neatliekamas iegādes Pļaviņu reģionālajai nodaļai | D16: =SUM(D17:D18) -> 7931.93 | E16: =SUM(E17:E18) -> 7931.93 | F16: =SUM(F17:F18) -> 1665.71 | G16: =SUM(G17:G18) -> 9597.64 | I16: 2000 /5000 | J16: 2
A17: 4.1. | B17: Pļaviņu tiesu medicīnas nodaļas ēkas jumta nomaiņa Daugavas 54a, Pļaviņās | C17: 1 | D17: 2742.93 | E17: =C17*D17 -> 2742.93 | F17: =ROUND(E17*0.21,2) -> 576.02 | G17: =E17+F17 -> 3318.95 | H17: Jumts nav labots kopš ēkas nodošanas ekspluatācijā, patreiz ir defekti jumta daļā virs mirušo ķermeņu dzesēšanas kameras, pašreiz ir pagaidu risinājums- telpas iekšpusē pie griestiem pielikta caurule, no kuras ūdens tiek novadīts grīdas notekcaurulē | I17: 2000 | J17: 2
A18: 4.2. | B18: Aukstuma iekārta mirušo cilvēku uzglabāšanas telpai Pļaviņās | C18: 1 | D18: 5189 | E18: 5189 | F18: =ROUND(E18*0.21,2) -> 1089.69 | G18: =E18+F18 -> 6278.69 | H18: Esošā aukstuma iekārta morāli un fiziski novesojus, tā nenodrošina nepieciešamo t0, jo korpusā ir izveiodojušās plaisas caur kurām iztvaiko freons, kā rezultātā bieži ir jāveic tehnikās apkpopes un tas jāuzpilda. Bojāts iekārtas kompresors. | I18: 5000 | J18: 2
A19: Pavisam kopā: | E19: =E4+E9+E11+E16 -> 22918.35 | F19: =F4+F9+F11+F16 -> 4812.86 | G19: =G4+G9+G11+G16 -> 27731.21
A20: Pakalpojumu izdevumu segšanai | G20: =G19-G21 -> 20571.79
A21: Kapitālo iegāžu izdevumu segšanai | G21: =G18+G13 -> 7159.42
A23: * Prioritātes | C23: EUR
A24: 1 | B24: Augsta | C24: =G12+G13+G14+G4+G10+G15 -> 18133.57
A25: 2 | B25: Vidēja | C25: =+G17+G18 -> 9597.64
A26: 3 | B26: Zema | C26: 0
A27: Kopā | C27: =SUM(C24:C26) -> 27731.21

Sheet 2
H1: 3.Pielikums Ministru kabineta rīkojuma “Par Zāļu valsts aģentūras 2022.gada budžeta apstiprināšanu” projekta sākotnējās ietekmes novērtējuma ziņojumam (anotācijai)
A2: 2. Informācijas tehnoloģiju pakalpojumiem, lai nodrošinātu licenču atjaunošanu un uzturētu ekspertīžu izpildes operativitāti un darba efektivitāti
A3: Nr.p.k. | B3: Nepieciešamība/aktivitāte | C3: Daudzums | D3: 1 vienības cena bez PVN | E3: Izmaksas bez PVN | F3: PVN (21%) | G3: Izmaksas ar PVN | H3: Pamatojums nepieciešamībai | I3: EKK | J3: Prioritāte
A4: 1 | B4: Sophos ugunsmūra uzturēšana | C4: 1 | D4: 3576 | E4: =C4*D4 -> 3576 | F4: =E4*0.21 -> 750.96 | G4: =E4+F4 -> 4326.96 | H4: VTMEC drošības un datu tīkla nodrošināšana | I4: 2000 | J4: 1
A5: 2 | B5: ESET Endpoint Antivīruss, ESET Endpoint Proptection, Licence | C5: 120 | D5: 5.93 | E5: =C5*D5 -> 711.6 | F5: =E5*0.21 -> 149.436 | G5: =E5+F5 -> 861.036 | H5: Datu aizsardzības nodrošināšanai | I5: 2000 | J5: 1
A6: 3 | B6: Teamviewer | C6: 12 | D6: 28.4056 | E6: =C6*D6 -> 340.8672 | F6: =E6*0.21 -> 71.582112 | G6: =E6+F6 -> 412.44931 | H6: Attālinātā atbalsta sniegšana | I6: 2000 | J6: 1
A7: 4 | B7: HPE 1820-24G - switch | C7: 1 | D7: 300 | E7: =C7*D7 -> 300 | F7: =E7*0.21 -> 63 | G7: =E7+F7 -> 363 | H7: VTMEC datortīkla darba nodrošināšanai | I7: 2000 | J7: 1
A8: 5 | B8: SFP (mini-GBIC) transceiver module - LC multi-mode | C8: 4 | D8: 63.06 | E8: =C8*D8 -> 252.24 | F8: =E8*0.21 -> 52.9704 | G8: =E8+F8 -> 305.2104 | H8: VTMEC datortīkla darba nodrošināšanai | I8: 2000 | J8: 1
A9: 6 | B9: TMEIS uzturēšana | C9: 1 | D9: 11936 | E9: =C9*D9 -> 11936 | F9: =E9*0.21 -> 2506.56 | G9: =E9+F9 -> 14442.56 | H9: TMEIS uzturēšana, 298,4 stundas, stundas likme bez PVN 40,00 EUR | I9: 2000 | J9: 1
A10: 7 | B10: Dokumentu skaneris | C10: 1 | D10: 250 | E10: =C10*D10 -> 250 | F10: =E10*0.21 -> 52.5 | G10: =E10+F10 -> 302.5 | H10: DIPN dokumentu apstrādes automatizācija | I10: 2000 | J10: 2
A11: 8 | B11: ABBYY FineReader 15 Corporate, Single User License (ESD), Perpetual | C11: 2 | D11: 230 | E11: =C11*D11 -> 460 | F11: =E11*0.21 -> 96.6 | G11: =E11+F11 -> 556.6 | H11: KTMEN un DIPN dokumentu apstrādes automatizācija | I11: 5000 | J11: 2
A12: 9 | B12: Olympus AS 2400 Transcription Kit | C12: 4 | D12: 254.43 | E12: =C12*D12 -> 1017.72 | F12: =E12*0.21 -> 213.7212 | G12: =E12+F12 -> 1231.4412 | H12: Tanatoloģijas nodaļas darba nodrošinājums | I12: 2000 | J12: 1
A13: Pavisam kopā: | E13: =SUM(E4:E12) -> 18844.427 | F13: =SUM(F4:F12) -> 3957.3297 | G13: =SUM(G4:G12) -> 22801.757
A14: Pakalpojumu izdevumu segšanai | G14: =G13-G11 -> 22245.157
A15: Kapitālo iegāžu izdevumu segšanai | G15: =G11 -> 556.6
A18: * Prioritātes | C18: EUR
A19: 1 | B19: Augsta | C19: =G4+G5+G7+G8+G9+G12+G6 -> 21942.657
A20: 2 | B20: Vidēja | C20: =G10+G11 -> 859.1
A21: 3 | B21: Zema | C21: 0
A22: Kopā | C22: =SUM(C19:C21) -> 22801.757

Sheet 3
F1: 4.Pielikums Ministru kabineta rīkojuma “Par Zāļu valsts aģentūras 2022.gada budžeta apstiprināšanu” projekta sākotnējās ietekmes novērtējuma ziņojumam (anotācijai)
A2: 3. Pasākumi pamatfunkciju uzturēšanai
A4: Nr. | B4: Nosaukums | C4: Izdevumi bez PVN | D4: PVN (21%) | E4: Izdevumi ar PVN | F4: Paskaidrojums | G4: EKK | H4: Prioritāte
A5: 1 | B5: Dokumentu (2019.gada pastāvīgi un ilgstoši glabājamie dokumentu) arhivēšanas pakalpojumu nodrošināšana | C5: 1350 | D5: 0 | E5: =C5+D5 -> 1350 | F5: Dokumentu arhīvu pakalpojumu nodrošināšana, lai 2022.gadā veiktu 2019.gada pastāvīgi un ilgstoši glabājamo dokumentu sakārtošana atbilstoši MK 06.11.2012. noteikumos Nr.748 “Dokumentu un arhīvu pārvaldības” 4.nodaļā noteiktām prasībām | G5: 2000 | H5: 2
A6: 2. | B6: Akreditētās atbilstības novērtēšanas institūcijas akreditācijas statusa uzturēšana, uzraudzības vizīte, apliecības izgatavošana | C6: 2605 | D6: 0 | E6: =C6+D6 -> 2605 | F6: Pakalpojuma (Centra Ekspertīzes un izpētes departamenta (T-484) uzraudzības un sfēras paplašināšanas procedūra) īstenošanu nodrošina Latvijas Nacionālais akreditācijas birojs atbilstoši MK 27.02.2018. noteikumos Nr. 114 “Valsts aģentūras “Latvijas Nacionālais akreditācijas birojs” maksas pakalpojumu cenrādis” noteiktajam izcenojumam | G6: 2000 | H6: 1
A7: 3. | B7: Reaģentu izmaksu sadārdzinājums ģenētikas (t.sk. paternitātes u.c.) un seroloģiskajām tiesu medicīniskajām ekspertīzēm un izpētēm, TTL psihoaktīvo vielu iegāde | C7: 38403.07 | D7: =C7*0.21 -> 8064.6447 | E7: =C7+D7 -> 46467.715 | F7: Tiesu medicīnas ģenētikas un seroloģijas laboratorijas pamatfunkcijas nodrošināšanai, veicot DNS ekspertīzes dzīvām un mirušām personām, nepieciešamie reaģenti: ir iegādātas jaunas iekārtas un līdz ar to papildus ieviestas arī jaunas mūsdienīgas izpētes metodes, kuru izmantošanai nepieciešami jauni papildus reaģenti, vienlaikus līdz pilnīgai jaunās metodes validācijai ir nepieciešams veikt arī izpēti izmantojot esošās tehnoloģijas. Bez tam arī turpmākajā darbībā tiks izmantotas gan esošās, gan jaunās tehnoloģijas atbilstoši konkrēto izpētes objektu veidam. Nepieciešami laboratorijas instrumenti un laboratorijas trauki TMĢSL, psihotropo līdzekļu, narkotisko vielu, jauno psihoaktīvo vielu (JPV) un iekšējo radioaktīvo izotopu regulāra ikgadēja iegāde nepieciešama jauno augstas veiktspējas analītisko iekārtu LC-MS/MS, GC-TQ/MS izmantošanai šo vielu kvantitatīvai noteikšanai, kas līdz šim brīdim nebija iespējams | G7: 2000 | H7: 1
A8: 4. | B8: Darba aizsardzības līdzekļi | C8: 426.45 | D8: =C8*0.21 -> 89.5545 | E8: =C8+D8 -> 516.0045 | F8: TN autopsiju veikšanai nepieciešamais specapģerbs | G8: 2000 | H8: 1
A9: 5. | B9: Starplaboratoriju salīdzinošā testēšana atbilstoši akreditācijas standarta prasībām, GEDNAP 54.starptautiskais pārbaudes tests | C9: 495.87 | D9: =ROUND(C9*0.21,2) -> 104.13 | E9: =C9+D9 -> 600 | F9: Viena starptautiskā pārbaudes testa veikšana, atbilstoši standarta LVS EN ISO/IEC 17025:2017 „Testēšanas un kalibrēšanas laboratoriju kompetences vispārīgās prasības” prasībām, lai veiksmīgi izietu ikgadējo Latvijas Nacionālā akreditācijas biroja uzraudzību | G9: 2000 | H9: 1
A10: 6. | B10: Laboratorisko izmeklējumu izdevumu segšanai | C10: =5567.53+262 -> 5829.53 | D10: 0 | E10: =C10+D10 -> 5829.53 | F10: Nāves cēloņa, t.i. diagnozes (imūnfermentatīvā analīze IgG, HBs AG, Anti-HCV, SARS - CoV-2 RNS (COVID-19) u.c. analīžu veikšana) precizēšanai | G10: 2000 | H10: 1
A11: 7. | B11: Pamatfunkcijas darbapstākļu uzlabošana | C11: =SUM(C12:C16) -> 8539.9 | D11: =SUM(D12:D16) -> 1793.38 | E11: =SUM(E12:E16) -> 10333.28 | G11: 2000 | H11: 1/2
A12: 7.1. | B12: Biroja krēsli (17 gab.) | C12: 3655 | D12: =ROUND(C12*0.21,2) -> 767.55 | E12: =C12+D12 -> 4422.55 | F12: Darba aizsardzības prasību nodrošināšana, jo esošie krēsli ir ar defektiem un prasībām neatbilstoši. | G12: 2000 | H12: 1
A13: 7.2. | B13: Laboratorijas krēsli | C13: 3479 | D13: =ROUND(C13*0.21,2) -> 730.59 | E13: =C13+D13 -> 4209.59 | F13: Darba aizsardzības prasību nodrošināšana atbilstoši laboratorijas prasībām, jo esošie laboratorijas krēsli neatbilst darba virsmas augstumam. | G13: 2000 | H13: 1
A14: 7.3. | B14: Augstumu regulējošs galds ar paceļamu virsmu | C14: 449 | D14: =ROUND(C14*0.21,2) -> 94.29 | E14: =C14+D14 -> 543.29 | F14: Darba aizsardzības prasību nodrošināšana atbilstoši laboratorijas prasībām, jo esošais laboratorijas galds nav funkcionāls un neatbilst darba virsmas augstumam. | G14: 2000 | H14: 2
A15: 7.4. | B15: Galda pieskrūvejāmās lampas | C15: 527 | D15: =ROUND(C15*0.21,2) -> 110.67 | E15: =C15+D15 -> 637.67 | F15: THL pēc darba drošibas speciālista novērtējuma esošas lampas nespēj nodrošināt atbilstošu apgaismojumu, pastiprināts redzes sasprindzinājums | G15: 2000 | H15: 2
A16: 7.5. | B16: Fotoaparāts ar plecu somu | C16: 429.9 | D16: =ROUND(C16*0.21,2) -> 90.28 | E16: =C16+D16 -> 520.18 | F16: Jelgavas RN Esošā fotoaparāta fotogrāfiju kvalitāte ļoti zema un foroaparāts morāli novecojis, nepieciešams jauns ar spoguļkameru un attēla lielāku izšķirtspēju | G16: 2000 | H16: 2
A17: Pavisam kopā: | C17: =C8+C5+C6+C7+C11+C9+C10 -> 57649.82 | D17: =D8+D5+D6+D7+D11+D9+D10 -> 10051.709 | E17: =E8+E5+E6+E7+E11+E9+E10 -> 67701.529
A18: Pakalpojumu izdevumu segšanai | E18: =E17 -> 67701.529
A19: Kapitālo iegāžu izdevumu segšanai | E19: 0
A23: * Prioritātes | C23: EUR
A24: 1 | B24: Augsta | C24: =E7+E6+E9+E10+E8+E12+E13 -> 64650.389
A25: 2 | B25: Vidēja | C25: =E14+E15+E16+E5 -> 3051.14
A26: 3 | B26: Zema | C26: 0
A27: Kopā | C27: =SUM(C24:C26) -> 67701.529

Sheet 4
F1: 5.Pielikums Ministru kabineta rīkojuma “Par Zāļu valsts aģentūras 2022.gada budžeta apstiprināšanu” projekta sākotnējās ietekmes novērtējuma ziņojumam (anotācijai)
A2: 4.Energoresursu cenu kāpuma ietekme
A4: Nr. | B4: Nosaukums | C4: Izdevumi bez PVN | D4: PVN (21%) | E4: Izdevumi ar PVN | F4: Paskaidrojums | G4: EKK | H4: Prioritāte
A5: 1. | B5: Komunālo izmaksu pieaugums | C5: =SUM(C6:C6) -> 55492.4 | D5: =SUM(D6:D6) -> 11653.404 | E5: =SUM(E6:E6) -> 67145.804 | F5: Telpu komunālo izdevumu pieaugumu segšanai, lai nodrošinātu valsts deleģēto funkciju pildīšanu Rīgā, VRN, JRN | G5: 2000 | H5: 1
A6: 1.1. | B6: Nomas maksas un komunālo izdevumu segšana JRN,VaRN, DRN, PRN, Rīga | C6: 55492.4 | D6: =C6*0.21 -> 11653.404 | E6: =C6+D6 -> 67145.804 | F6: Izmaksu pieaaugums saistībā ar cenu paaugstināšanu no pakalpojumu sniedzēju puses (SIA Vidzemes slimnīca, Jelgavas pilsētas slimnīca, AS Latvijas gāze, SIA Rīgas siltums, SIA Lautus) | G6: 2000 | H6: 1
A7: Pavisam kopā: | C7: =C5 -> 55492.4 | D7: =D5 -> 11653.404 | E7: =E5 -> 67145.804
A8: Pakalpojumu izdevumu segšanai | E8: =E7 -> 67145.804
A9: Kapitālo iegāžu izdevumu segšanai | E9: 0
A13: * Prioritātes | C13: EUR
A14: 1 | B14: Augsta | C14: =E5 -> 67145.804
A15: 2 | B15: Vidēja | C15: 0
A16: 3 | B16: Zema | C16: 0
A17: Kopā | C17: =SUM(C14:C16) -> 67145.804
