Workbook

Sheet piemērs
A1: Pārskats par sabiedriskā transporta pakalpojumos radītajiem izdevumiem un zaudējumiem sakarā ar noteiktajiem ierobežojumiem
A2: Periods | C2: Vienības | D2: Autobusi | E2: Minibusi (ekspresbusi) | F2: Tramvaji | G2: Trolejbusi
A3: 1.SADAĻA | B3: KOPSUMMA ((N - P) x Izm) | D3: =(D10-D9)*D13 -> 1884.96 | E3: =(E9-E10)*E13 -> 0 | F3: =(F9-F10)*F13 -> 0 | G3: =(G9-G10)*G13 -> 0
A4: 09.03.2021.- 31.03.2021. | B4: Iesaistīto transportlīdzekļu vienības | C4: skaits | D4: 20
B5: (S) Plānotais reisu skaits | D5: 5479
B6: (R) Faktiskais reisu skaits (S + RP-RA) | D6: =D5+D7-D8 -> 5567 | E6: =E5+E7-E8 -> 0 | F6: =F5+F7-F8 -> 0 | G6: =G5+G7-G8 -> 0
B7: to starpā papildu reisi (RP) | D7: 830
B8: to starpā atceltie reisi (RA) | D8: 742
B9: (P) Plānotais nobraukums | C9: km | D9: 57529
B10: (N) Faktiskais nobraukums (P + NP-NA) | D10: =D9+D11-D12 -> 58453 | E10: =E9+E11-E12 -> 0 | F10: =F9+F11-F12 -> 0 | G10: =G9+G11-G12 -> 0
B11: to starpā papildu reisos veiktais nobraukums (NP) | D11: 8715
B12: to starpā atcelto reisu nobraukums (NA) | D12: 7791
A13: 01.03.2021.-31.03.2021. | B13: (Izm) 1 km pašizmaksa | C13: EUR/km | D13: 2.04
A14: 2.SADAĻA | B14: KOPSUMMA (1 vienības cenas reizinājums ar preču/pakalpojumu skaitu; summa ( K x Z)) | D14: =SUM(D25*D36,D24*D35,D23*D34,D22*D33,D20*D31,D19*D30,D17*D28,D16*D27) -> 16414.94 | E14: =SUM(E25*E36,E24*E35,E23*E34,E22*E33,E20*E31,E19*E30,E17*E28,E16*E27) -> 0 | F14: =SUM(F25*F36,F24*F35,F23*F34,F22*F33,F20*F31,F19*F30,F17*F28,F16*F27) -> 0 | G14: =SUM(G25*G36,G24*G35,G23*G34,G22*G33,G20*G31,G19*G30,G17*G28,G16*G27) -> 0
A15: 09.03.2021.- 31.03.2021. | B15: (Z) Pakalpojumi, pasākumi un materiāli Covid-19 pandēmijas ierobežošanai
B16: Dezinfekcijas līdzekļi | C16: litri | D16: 15
B17: Sejas maskas | C17: gab | D17: 200
B18: Sociālā distancēšanās sabiedriskā transportā
B19: to starpā uzlīmes | C19: gab | D19: 105
B20: to starpā norobežojošā lenta | C20: metri | D20: 28
B21: Transportlīdzekļu dezinfekcija | C21: reizes
B22: to starpā ozonēšanas pakalpojumi | D22: 84
B23: to starpā apstrāde ar dezinfekcijas līdzekļiem | D23: 3658
B24: Transportlīdzekļu papildu mazgāšana | C24: reizes | D24: 1783
B25: Informācijas atskaņošana reisos | C25: audiāls ieraksts | D25: 1
B26: (K) Faktiskās izmaksas Covid-19 pandēmijas ierobežošanai, t.sk. | C26: EUR/vien bez PVN
B27: Dezinfekcijas līdzekļi | D27: 3
B28: Sejas maskas | D28: 0.55
B29: Sociālā distancēšanās sabiedriskā transportā
B30: to starpā uzlīmes | D30: 0.53
B31: to starpā norobežojošā lenta | D31: 4.87
B32: Transportlīdzekļu dezinfekcija
B33: to starpā ozonēšanas pakalpojumi | D33: 5.54
B34: to starpā apstrāde ar dezinfekcijas līdzekļiem | D34: 2.26
B35: Transportlīdzekļu papildu mazgāšana | D35: 4.03
B36: Informācijas atskaņošana reisos | D36: 150
A37: 3.SADAĻA | B37: KOPSUMMA ((C/D-A/N) x N) | D37: =((D40/D41)-(D38/D39))*D39 -> 4716.5994 | E37: =((E40/E41)-(E38/E39))*E39 -> #DIV/0! | F37: =((F40/F41)-(F38/F39))*F39 -> #DIV/0! | G37: =((G40/G41)-(G38/G39))*G39 -> #DIV/0!
A38: 09.03.2021.-31.03.2021. | B38: (A) No pasažieriem, t.sk., personām, kurām noteikti pašvaldības noteiktie braukšanas maksas atvieglojumi, saņemtie ieņēmumi par sniegto sabiedriskā transporta pakalpojumu | C38: EUR bez PVN | D38: 20573
B39: (N) Faktiskais nobraukums | C39: km | D39: 58453
A40: 09.03.2019.-31.03.2019. | B40: (C) No pasažieriem, t.sk., personām, kurām noteikti pašvaldības noteiktie braukšanas maksas atvieglojumi, saņemtie ieņēmumi par sniegto sabiedriskā transporta pakalpojumu | C40: EUR bez PVN | D40: 24847
...

Sheet marts_pirm
A1: Pārskats par sabiedriskā transporta pakalpojumos radītajiem izdevumiem un zaudējumiem sakarā ar noteiktajiem ierobežojumiem
A2: Periods | C2: Vienības | D2: Autobusi | E2: Minibusi (ekspresbusi) | F2: Tramvaji | G2: Trolejbusi
A3: 1.SADAĻA | B3: KOPSUMMA ((N - P) x Izm) | D3: =(D10-D9)*D13 -> 1665.5883 | E3: =(E10-E9)*E13 -> 0 | F3: =(F10-F9)*F13 -> 0 | G3: =(G10-G9)*G13 -> 0
A4: 09.03.2021.- 31.03.2021. | B4: Iesaistīto transportlīdzekļu vienības | C4: skaits | D4: 14
B5: (S) Plānotais reisu skaits | D5: 3966
B6: (R) Faktiskais reisu skaits (S + RP-RA) | D6: =D5+D7-D8 -> 3796 | E6: =E5+E7-E8 -> 0 | F6: =F5+F7-F8 -> 0 | G6: =G5+G7-G8 -> 0
B7: to starpā papildu reisi (RP) | D7: 0
B8: to starpā atceltie reisi (RA) | D8: =17*10 -> 170
B9: (P) Plānotais nobraukums | C9: km | D9: 36350.22
B10: (N) Faktiskais nobraukums (P + NP-NA) | D10: =D9+D12-D11 -> 37669.08 | E10: =E9+E11-E12 -> 0 | F10: =F9+F11-F12 -> 0 | G10: =G9+G11-G12 -> 0
B11: to starpā papildu reisos veiktais nobraukums (NP) | D11: 0
B12: to starpā atcelto reisu nobraukums (NA) | D12: =77.58*17 -> 1318.86
A13: 01.03.2021.-31.03.2021. | B13: (Izm) 1 km pašizmaksa | C13: EUR/km | D13: 1.2629
A14: 2.SADAĻA | B14: KOPSUMMA (1 vienības cenas reizinājums ar preču/pakalpojumu skaitu; summa ( K x Z)) | D14: =SUM(D16*D23,D17*D24,D18*D25,D19*D26,D20*D27,D21*D28) -> 57.773 | E14: =SUM(E16*E23,E17*E24,E18*E25,E19*E26,E20*E27,E21*E28) -> 0 | F14: =SUM(F16*F23,F17*F24,F18*F25,F19*F26,F20*F27,F21*F28) -> 0 | G14: =SUM(G16*G23,G17*G24,G18*G25,G19*G26,G20*G27,G21*G28) -> 0
A15: 09.03.2021.- 31.03.2021. | B15: (Z) Pakalpojumi, pasākumi un materiāli Covid-19 pandēmijas ierobežošanai
B16: Dezinfekcijas līdzekļi | C16: litri | D16: =5+1 -> 6
B17: Sejas maskas | C17: gab | D17: 10
B18: Sociālā distancēšanās sabiedriskā transportā
B19: Transportlīdzekļu dezinfekcija
B20: Transportlīdzekļu papildu mazgāšana
B21: Citi izdevumi- Nitrila melni un zilie cimdi | C21: gab | D21: =100+50 -> 150
B22: (K) Faktiskās izmaksas Covid-19 pandēmijas ierobežošanai, t.sk. | C22: EUR/vien bez PVN
B23: Dezinfekcijas līdzekļi | D23: 2.105
B24: Sejas maskas | D24: 1.3967
B25: Sociālā distancēšanās sabiedriskā transportā
B26: Transportlīdzekļu dezinfekcija, to starpā darba spēka izmaksas
B27: Transportlīdzekļu papildu mazgāšana, to starpā darba spēka izmaksas
B28: Citi izdevumi- Nitrila melni un zilie cimdi | D28: 0.20784
A29: 3.SADAĻA | B29: KOPSUMMA ((C/D-A/N) x N) | D29: =((D32/D33)-(D30/D31))*D31 -> 17868.301 | E29: =((E32/E33)-(E31/#REF!))*#REF! -> #DIV/0! | F29: =((F32/F33)-(F30/F31))*F31 -> #DIV/0! | G29: =((G32/G33)-(G30/G31))*G31 -> #DIV/0!
A30: 09.03.2021.-31.03.2021. | B30: (A) No pasažieriem, t.sk., personām, kurām noteikti pašvaldības noteiktie braukšanas maksas atvieglojumi, saņemtie ieņēmumi par sniegto sabiedriskā transporta pakalpojumu | C30: EUR bez PVN | D30: 20729.79
B31: (N) Faktiskais nobraukums | C31: km | D31: 36350.22
A32: 09.03.2019.-31.03.2019. | B32: (C) No pasažieriem, t.sk., personām, kurām noteikti pašvaldības noteiktie braukšanas maksas atvieglojumi, saņemtie ieņēmumi par sniegto sabiedriskā transporta pakalpojumu | C32: EUR bez PVN | D32: 39022.2
B33: (D) Faktiskais nobraukums | C33: km | D33: 36749.63
B36: Pašvaldības atbildīgās personas vārds, uzvārds, kontaktinformācija un paraksts (ja dokuments nav parakstīts ar elektroniski) | E36: Jēkabpils pilsētas pašvaldības, Komunālās saimniecības nodaļas, Saimniecības vadītāja Elita Vaniņa, tālr. 29611529, e-pasts: elita.vanina@jekabpils.lv
B37: Pārvadātāja atbildīga persona: Jēkabpils autobusu parks SIA valdes priekšsēdētājs J.Ščerbickis
B38: Sagatavoja: Jēkabpils autobusu parks SIA gal.grāmatvede N.Lupiķe, t.29237946
A39: Informāciju aizpilda katra pašvaldība par pārvadājumu veidiem, kādi ir noteikti attiecīgā pilsētā
A40: Tabulā iekļauj norādītajā laika periodā radušās pamatotās izmaksas, kas attiecināmas uz sabiedriskā transporta pakalpojuma izpildē noteiktajiem drošības pasākumiem Covid-19 infekcijas izplatības ierobežošanai.
A41: Pašvaldībai ir pienākums pārliecināties par izmaksu pamatotību, to apjomu vai attiecināto apmēru.
A42: 1.SADAĻĀ tiek aprēķināti faktiskie izdevumi, kas radušies saistībā ar atcelto reisu vai/un papildu reisu nodrošināšanu sakarā ar pakalpojuma apjoma ierobežošanu un 50% pasažieru piepildījuma noteikšanu
...

Sheet marts_koriģetais
A1: Pārskats par sabiedriskā transporta pakalpojumos radītajiem izdevumiem un zaudējumiem sakarā ar noteiktajiem ierobežojumiem
A2: Periods | C2: Vienības | D2: Autobusi | E2: Minibusi (ekspresbusi) | F2: Tramvaji | G2: Trolejbusi
A3: 1.SADAĻA | B3: KOPSUMMA ((N - P) x Izm) | D3: =(D10-D9)*D13 -> -1665.5883 | E3: =(E10-E9)*E13 -> 0 | F3: =(F10-F9)*F13 -> 0 | G3: =(G10-G9)*G13 -> 0
A4: 09.03.2021.- 31.03.2021. | B4: Iesaistīto transportlīdzekļu vienības | C4: skaits | D4: 14
B5: (S) Plānotais reisu skaits | D5: 3966
B6: (R) Faktiskais reisu skaits (S + RP-RA) | D6: =D5+D7-D8 -> 3796 | E6: =E5+E7-E8 -> 0 | F6: =F5+F7-F8 -> 0 | G6: =G5+G7-G8 -> 0 | H6: =D5-D8 -> 3796 | I6: =H6=D6 -> TRUE
B7: to starpā papildu reisi (RP) | D7: 0
B8: to starpā atceltie reisi (RA) | D8: =17*10 -> 170
B9: (P) Plānotais nobraukums | C9: km | D9: 37669.08
B10: (N) Faktiskais nobraukums (P + NP-NA) | D10: =D9-D12+D11 -> 36350.22 | E10: =E9+E11-E12 -> 0 | F10: =F9+F11-F12 -> 0 | G10: =G9+G11-G12 -> 0 | H10: =atskaites_jedox!AB8 -> 49034.52 | I10: =D9-D12 -> 36350.22 | J10: =I10=D31 -> TRUE
B11: to starpā papildu reisos veiktais nobraukums (NP) | D11: 0
B12: to starpā atcelto reisu nobraukums (NA) | D12: =77.58*17 -> 1318.86
A13: 01.03.2021.-31.03.2021. | B13: (Izm) 1 km pašizmaksa | C13: EUR/km | D13: 1.2629 | H13: =atskaites_jedox!AC8 -> 1.26
A14: 2.SADAĻA | B14: KOPSUMMA (1 vienības cenas reizinājums ar preču/pakalpojumu skaitu; summa ( K x Z)) | D14: =SUM(D16*D23,D17*D24,D18*D25,D19*D26,D20*D27,D21*D28) -> 57.773 | E14: =SUM(E16*E23,E17*E24,E18*E25,E19*E26,E20*E27,E21*E28) -> 0 | F14: =SUM(F16*F23,F17*F24,F18*F25,F19*F26,F20*F27,F21*F28) -> 0 | G14: =SUM(G16*G23,G17*G24,G18*G25,G19*G26,G20*G27,G21*G28) -> 0
A15: 09.03.2021.- 31.03.2021. | B15: (Z) Pakalpojumi, pasākumi un materiāli Covid-19 pandēmijas ierobežošanai
B16: Dezinfekcijas līdzekļi | C16: litri | D16: =5+1 -> 6
B17: Sejas maskas | C17: gab | D17: 10
B18: Sociālā distancēšanās sabiedriskā transportā
B19: Transportlīdzekļu dezinfekcija
B20: Transportlīdzekļu papildu mazgāšana
B21: Citi izdevumi- Nitrila melni un zilie cimdi | C21: gab | D21: =100+50 -> 150
B22: (K) Faktiskās izmaksas Covid-19 pandēmijas ierobežošanai, t.sk. | C22: EUR/vien bez PVN
B23: Dezinfekcijas līdzekļi | D23: 2.105
B24: Sejas maskas | D24: 1.3967
B25: Sociālā distancēšanās sabiedriskā transportā
B26: Transportlīdzekļu dezinfekcija, to starpā darba spēka izmaksas
B27: Transportlīdzekļu papildu mazgāšana, to starpā darba spēka izmaksas
B28: Citi izdevumi- Nitrila melni un zilie cimdi | D28: 0.20784
A29: 3.SADAĻA | B29: KOPSUMMA ((C/D-A/N) x N) | D29: =((D32/D33)-(D30/D31))*D31 -> 17868.301 | E29: =((E32/E33)-(E31/#REF!))*#REF! -> #DIV/0! | F29: =((F32/F33)-(F30/F31))*F31 -> #DIV/0! | G29: =((G32/G33)-(G30/G31))*G31 -> #DIV/0!
A30: 09.03.2021.-31.03.2021. | B30: (A) No pasažieriem, t.sk., personām, kurām noteikti pašvaldības noteiktie braukšanas maksas atvieglojumi, saņemtie ieņēmumi par sniegto sabiedriskā transporta pakalpojumu | C30: EUR bez PVN | D30: 20729.79 | H30: =atskaites_jedox!AA8 -> 28069.44
B31: (N) Faktiskais nobraukums | C31: km | D31: 36350.22 | H31: =atskaites_jedox!AB8 -> 49034.52 | I31: =D31=D10 -> TRUE
A32: 09.03.2019.-31.03.2019. | B32: (C) No pasažieriem, t.sk., personām, kurām noteikti pašvaldības noteiktie braukšanas maksas atvieglojumi, saņemtie ieņēmumi par sniegto sabiedriskā transporta pakalpojumu | C32: EUR bez PVN | D32: 39022.2 | H32: =atskaites_jedox!C8 -> 52595.14
B33: (D) Faktiskais nobraukums | C33: km | D33: 36749.63 | H33: =atskaites_jedox!D8 -> 49532.4
B36: Pašvaldības atbildīgās personas vārds, uzvārds, kontaktinformācija un paraksts (ja dokuments nav parakstīts ar elektroniski) | E36: Jēkabpils pilsētas pašvaldības, Komunālās saimniecības nodaļas, Saimniecības vadītāja Elita Vaniņa, tālr. 29611529, e-pasts: elita.vanina@jekabpils.lv
B37: Pārvadātāja atbildīga persona: Jēkabpils autobusu parks SIA valdes priekšsēdētājs J.Ščerbickis
B38: Sagatavoja: Jēkabpils autobusu parks SIA gal.grāmatvede N.Lupiķe, t.29237946
A39: Informāciju aizpilda katra pašvaldība par pārvadājumu veidiem, kādi ir noteikti attiecīgā pilsētā
A40: Tabulā iekļauj norādītajā laika periodā radušās pamatotās izmaksas, kas attiecināmas uz sabiedriskā transporta pakalpojuma izpildē noteiktajiem drošības pasākumiem Covid-19 infekcijas izplatības ierobežošanai.
A41: Pašvaldībai ir pienākums pārliecināties par izmaksu pamatotību, to apjomu vai attiecināto apmēru.
A42: 1.SADAĻĀ tiek aprēķināti faktiskie izdevumi, kas radušies saistībā ar atcelto reisu vai/un papildu reisu nodrošināšanu sakarā ar pakalpojuma apjoma ierobežošanu un 50% pasažieru piepildījuma noteikšanu
...

Sheet marts
A1: Pārskats par sabiedriskā transporta pakalpojumos radītajiem izdevumiem un zaudējumiem sakarā ar noteiktajiem ierobežojumiem
A2: Periods | C2: Vienības | D2: Autobusi | E2: Minibusi (ekspresbusi) | F2: Tramvaji | G2: Trolejbusi
A3: 1.SADAĻA | B3: KOPSUMMA ((N - P) x Izm) | D3: =(D10-D9)*D13 -> 1665.5883 | E3: =(E10-E9)*E13 -> 0 | F3: =(F10-F9)*F13 -> 0 | G3: =(G10-G9)*G13 -> 0
A4: 09.03.2021.- 31.03.2021. | B4: Iesaistīto transportlīdzekļu vienības | C4: skaits | D4: 14
B5: (S) Plānotais reisu skaits | D5: 3966
B6: (R) Faktiskais reisu skaits (S + RP-RA) | D6: =D5+D7-D8 -> 3796 | E6: =E5+E7-E8 -> 0 | F6: =F5+F7-F8 -> 0 | G6: =G5+G7-G8 -> 0
B7: to starpā papildu reisi (RP) | D7: 0
B8: to starpā atceltie reisi (RA) | D8: =17*10 -> 170
B9: (P) Plānotais nobraukums | C9: km | D9: 36350.22
B10: (N) Faktiskais nobraukums (P + NP-NA) | D10: =D9+D12-D11 -> 37669.08 | E10: =E9+E11-E12 -> 0 | F10: =F9+F11-F12 -> 0 | G10: =G9+G11-G12 -> 0
B11: to starpā papildu reisos veiktais nobraukums (NP) | D11: 0
B12: to starpā atcelto reisu nobraukums (NA) | D12: =77.58*17 -> 1318.86
A13: 01.03.2021.-31.03.2021. | B13: (Izm) 1 km pašizmaksa | C13: EUR/km | D13: 1.2629
A14: 2.SADAĻA | B14: KOPSUMMA (1 vienības cenas reizinājums ar preču/pakalpojumu skaitu; summa ( K x Z)) | D14: =SUM(D16*D23,D17*D24,D18*D25,D19*D26,D20*D27,D21*D28) -> 57.773 | E14: =SUM(E16*E23,E17*E24,E18*E25,E19*E26,E20*E27,E21*E28) -> 0 | F14: =SUM(F16*F23,F17*F24,F18*F25,F19*F26,F20*F27,F21*F28) -> 0 | G14: =SUM(G16*G23,G17*G24,G18*G25,G19*G26,G20*G27,G21*G28) -> 0
A15: 09.03.2021.- 31.03.2021. | B15: (Z) Pakalpojumi, pasākumi un materiāli Covid-19 pandēmijas ierobežošanai
B16: Dezinfekcijas līdzekļi | C16: litri | D16: =5+1 -> 6
B17: Sejas maskas | C17: gab | D17: 10
B18: Sociālā distancēšanās sabiedriskā transportā
B19: Transportlīdzekļu dezinfekcija
B20: Transportlīdzekļu papildu mazgāšana
B21: Citi izdevumi- Nitrila melni un zilie cimdi | C21: gab | D21: =100+50 -> 150
B22: (K) Faktiskās izmaksas Covid-19 pandēmijas ierobežošanai, t.sk. | C22: EUR/vien bez PVN
B23: Dezinfekcijas līdzekļi | D23: 2.105
B24: Sejas maskas | D24: 1.3967
B25: Sociālā distancēšanās sabiedriskā transportā
B26: Transportlīdzekļu dezinfekcija, to starpā darba spēka izmaksas
B27: Transportlīdzekļu papildu mazgāšana, to starpā darba spēka izmaksas
B28: Citi izdevumi- Nitrila melni un zilie cimdi | D28: 0.20784
A29: 3.SADAĻA | B29: KOPSUMMA ((C/D-A/N) x N) | D29: =((D32/D33)-(D30/D31))*D31 -> 17868.301 | E29: =((E32/E33)-(E31/#REF!))*#REF! -> #DIV/0! | F29: =((F32/F33)-(F30/F31))*F31 -> #DIV/0! | G29: =((G32/G33)-(G30/G31))*G31 -> #DIV/0!
A30: 09.03.2021.-31.03.2021. | B30: (A) No pasažieriem, t.sk., personām, kurām noteikti pašvaldības noteiktie braukšanas maksas atvieglojumi, saņemtie ieņēmumi par sniegto sabiedriskā transporta pakalpojumu | C30: EUR bez PVN | D30: 20729.79
B31: (N) Faktiskais nobraukums | C31: km | D31: 36350.22
A32: 09.03.2019.-31.03.2019. | B32: (C) No pasažieriem, t.sk., personām, kurām noteikti pašvaldības noteiktie braukšanas maksas atvieglojumi, saņemtie ieņēmumi par sniegto sabiedriskā transporta pakalpojumu | C32: EUR bez PVN | D32: 39022.2
B33: (D) Faktiskais nobraukums | C33: km | D33: 36749.63
B36: Pašvaldības atbildīgās personas vārds, uzvārds, kontaktinformācija un paraksts (ja dokuments nav parakstīts ar elektroniski) | E36: Jēkabpils pilsētas pašvaldības, Komunālās saimniecības nodaļas, Saimniecības vadītāja Elita Vaniņa, tālr. 29611529, e-pasts: elita.vanina@jekabpils.lv
B37: Pārvadātāja atbildīga persona: Jēkabpils autobusu parks SIA valdes priekšsēdētājs J.Ščerbickis
B38: Sagatavoja: Jēkabpils autobusu parks SIA gal.grāmatvede N.Lupiķe, t.29237946
A39: Informāciju aizpilda katra pašvaldība par pārvadājumu veidiem, kādi ir noteikti attiecīgā pilsētā
A40: Tabulā iekļauj norādītajā laika periodā radušās pamatotās izmaksas, kas attiecināmas uz sabiedriskā transporta pakalpojuma izpildē noteiktajiem drošības pasākumiem Covid-19 infekcijas izplatības ierobežošanai.
A41: Pašvaldībai ir pienākums pārliecināties par izmaksu pamatotību, to apjomu vai attiecināto apmēru.
A42: 1.SADAĻĀ tiek aprēķināti faktiskie izdevumi, kas radušies saistībā ar atcelto reisu vai/un papildu reisu nodrošināšanu sakarā ar pakalpojuma apjoma ierobežošanu un 50% pasažieru piepildījuma noteikšanu
...

Sheet aprīlis
A1: Pārskats par sabiedriskā transporta pakalpojumos radītajiem izdevumiem un zaudējumiem sakarā ar noteiktajiem ierobežojumiem
A2: Periods | C2: Vienības | D2: Autobusi | E2: Minibusi (ekspresbusi) | F2: Tramvaji | G2: Trolejbusi
A3: 1.SADAĻA | B3: KOPSUMMA ((N - P) x Izm) | D3: =(D10-D9)*D13 -> -178.18574 | E3: =(E10-E9)*E13 -> 0 | F3: =(F10-F9)*F13 -> 0 | G3: =(G10-G9)*G13 -> 0
A4: 01.04.2021.- 30.04.2021. | B4: Iesaistīto transportlīdzekļu vienības | C4: skaits | D4: 14
B5: (S) Plānotais reisu skaits | D5: 5256
B6: (R) Faktiskais reisu skaits (S + RP-RA) | D6: =D5+D7-D8 -> 5236 | E6: =E5+E7-E8 -> 0 | F6: =F5+F7-F8 -> 0 | G6: =G5+G7-G8 -> 0 | I6: =D5-D8 -> 5236
B7: to starpā papildu reisi (RP) | D7: 0
B8: to starpā atceltie reisi (RA) | D8: 20
B9: (P) Plānotais nobraukums | C9: km | D9: 47955.92
B10: (N) Faktiskais nobraukums (P + NP-NA) | D10: =D9+D11-D12 -> 47800.76 | E10: =E9+E11-E12 -> 0 | F10: =F9+F11-F12 -> 0 | G10: =G9+G11-G12 -> 0 | H10: =atskaites_jedox!AE8 -> 47800.76 | I10: =D9-D12 -> 47800.76
B11: to starpā papildu reisos veiktais nobraukums (NP) | D11: 0
B12: to starpā atcelto reisu nobraukums (NA) | D12: 155.16
A13: 01.04.2021.-30.04.2021. | B13: (Izm) 1 km pašizmaksa | C13: EUR/km | D13: 1.1484 | H13: =atskaites_jedox!AF8 -> 1.1491
A14: 2.SADAĻA | B14: KOPSUMMA (1 vienības cenas reizinājums ar preču/pakalpojumu skaitu; summa ( K x Z)) | D14: =SUM(D16*D23,D17*D24,D18*D25,D19*D26,D20*D27,D21*D28) -> 33.927 | E14: =SUM(E16*E23,E17*E24,E18*E25,E19*E26,E20*E27,E21*E28) -> 0 | F14: =SUM(F16*F23,F17*F24,F18*F25,F19*F26,F20*F27,F21*F28) -> 0 | G14: =SUM(G16*G23,G17*G24,G18*G25,G19*G26,G20*G27,G21*G28) -> 0
A15: 01.04.2021.- 30.04.2021. | B15: (Z) Pakalpojumi, pasākumi un materiāli Covid-19 pandēmijas ierobežošanai
B16: Dezinfekcijas līdzekļi | C16: litri | D16: 6
B17: Sejas maskas
B18: Sociālā distancēšanās sabiedriskā transportā
B19: Transportlīdzekļu dezinfekcija
B20: Transportlīdzekļu papildu mazgāšana
B21: Suma Tab D4 hlora tabletes | C21: gab | D21: 300
B22: (K) Faktiskās izmaksas Covid-19 pandēmijas ierobežošanai, t.sk. | C22: EUR/vien bez PVN
B23: Dezinfekcijas līdzekļi | D23: 2.5945
B24: Sejas maskas
B25: Sociālā distancēšanās sabiedriskā transportā
B26: Transportlīdzekļu dezinfekcija, to starpā darba spēka izmaksas
B27: Transportlīdzekļu papildu mazgāšana, to starpā darba spēka izmaksas
B28: Suma Tab D4 hlora tabletes | D28: 0.0612
A29: 3.SADAĻA | B29: KOPSUMMA ((C/D-A/N) x N) | D29: =((D32/D33)-(D30/D31))*D31 -> 20304.425 | E29: =((E32/E33)-(E31/#REF!))*#REF! -> #DIV/0! | F29: =((F32/F33)-(F30/F31))*F31 -> #DIV/0! | G29: =((G32/G33)-(G30/G31))*G31 -> #DIV/0!
A30: 01.04.2021.-30.04.2021. | B30: (A) No pasažieriem, t.sk., personām, kurām noteikti pašvaldības noteiktie braukšanas maksas atvieglojumi, saņemtie ieņēmumi par sniegto sabiedriskā transporta pakalpojumu | C30: EUR bez PVN | D30: 28761.8 | H30: =atskaites_jedox!AD8 -> 28761.8
B31: (N) Faktiskais nobraukums | C31: km | D31: 47800.76 | H31: =atskaites_jedox!AE8 -> 47800.76 | I31: =D31=D10 -> TRUE
A32: 01.04.2019.-30.04.2019. | B32: (C) No pasažieriem, t.sk., personām, kurām noteikti pašvaldības noteiktie braukšanas maksas atvieglojumi, saņemtie ieņēmumi par sniegto sabiedriskā transporta pakalpojumu | C32: EUR bez PVN | D32: 48542.61 | H32: =atskaites_jedox!F8 -> 48542.61
B33: (D) Faktiskais nobraukums | C33: km | D33: 47290.65 | H33: =atskaites_jedox!G8 -> 47290.65
B36: Pašvaldības atbildīgās personas vārds, uzvārds, kontaktinformācija un paraksts (ja dokuments nav parakstīts ar elektroniski) | E36: Jēkabpils pilsētas pašvaldības, Komunālās saimniecības nodaļas, Saimniecības vadītāja Elita Vaniņa, tālr. 29611529, e-pasts: elita.vanina@jekabpils.lv
B37: Pārvadātāja atbildīga persona: Jēkabpils autobusu parks SIA valdes priekšsēdētājs J.Ščerbickis
B38: Sagatavoja: Jēkabpils autobusu parks SIA gal.grāmatvede N.Lupiķe, t.29237946
A39: Informāciju aizpilda katra pašvaldība par pārvadājumu veidiem, kādi ir noteikti attiecīgā pilsētā
A40: Tabulā iekļauj norādītajā laika periodā radušās pamatotās izmaksas, kas attiecināmas uz sabiedriskā transporta pakalpojuma izpildē noteiktajiem drošības pasākumiem Covid-19 infekcijas izplatības ierobežošanai.
A41: Pašvaldībai ir pienākums pārliecināties par izmaksu pamatotību, to apjomu vai attiecināto apmēru.
A42: 1.SADAĻĀ tiek aprēķināti faktiskie izdevumi, kas radušies saistībā ar atcelto reisu vai/un papildu reisu nodrošināšanu sakarā ar pakalpojuma apjoma ierobežošanu un 50% pasažieru piepildījuma noteikšanu
...

Sheet maijs
A1: Pārskats par sabiedriskā transporta pakalpojumos radītajiem izdevumiem un zaudējumiem sakarā ar noteiktajiem ierobežojumiem
A2: Periods | C2: Vienības | D2: Autobusi | E2: Minibusi (ekspresbusi) | F2: Tramvaji | G2: Trolejbusi
A3: 1.SADAĻA | B3: KOPSUMMA ((N - P) x Izm) | D3: =(D10-D9)*D13 -> 0 | E3: =(E10-E9)*E13 -> 0 | F3: =(F10-F9)*F13 -> 0 | G3: =(G10-G9)*G13 -> 0
A4: 01.05.2021.-31.05.2021. | B4: Iesaistīto transportlīdzekļu vienības | C4: skaits | D4: 14
B5: (S) Plānotais reisu skaits | D5: 5388
B6: (R) Faktiskais reisu skaits (S + RP-RA) | D6: =D5+D7-D8 -> 5388 | E6: =E5+E7-E8 -> 0 | F6: =F5+F7-F8 -> 0 | G6: =G5+G7-G8 -> 0
B7: to starpā papildu reisi (RP) | D7: 0
B8: to starpā atceltie reisi (RA) | D8: 0
B9: (P) Plānotais nobraukums | C9: km | D9: 49186.19
B10: (N) Faktiskais nobraukums (P + NP-NA) | D10: =D9+D11-D12 -> 49186.19 | E10: =E9+E11-E12 -> 0 | F10: =F9+F11-F12 -> 0 | G10: =G9+G11-G12 -> 0 | H10: =atskaites_jedox!AH8 -> 49186.19
B11: to starpā papildu reisos veiktais nobraukums (NP) | D11: 0
B12: to starpā atcelto reisu nobraukums (NA) | D12: 0
B13: (Izm) 1 km pašizmaksa | C13: EUR/km | D13: 1.1426 | H13: =atskaites_jedox!AI8 -> 1.14
A14: 2.SADAĻA | B14: KOPSUMMA (1 vienības cenas reizinājums ar preču/pakalpojumu skaitu; summa ( K x Z)) | D14: =SUM(D16*D23,D17*D24,D18*D25,D19*D26,D20*D27,D21*D28) -> 21.298 | E14: =SUM(E16*E23,E17*E24,E18*E25,E19*E26,E20*E27,E21*E28) -> 0 | F14: =SUM(F16*F23,F17*F24,F18*F25,F19*F26,F20*F27,F21*F28) -> 0 | G14: =SUM(G16*G23,G17*G24,G18*G25,G19*G26,G20*G27,G21*G28) -> 0
A15: 01.05.2021.-31.05.2021. | B15: (Z) Pakalpojumi, pasākumi un materiāli Covid-19 pandēmijas ierobežošanai
B16: Dezinfekcijas līdzekļi | C16: litri | D16: 1
B17: Sejas maskas
B18: Sociālā distancēšanās sabiedriskā transportā
B19: Transportlīdzekļu dezinfekcija
B20: Transportlīdzekļu papildu mazgāšana
B21: Suma Tab D4 hlora tabletes | C21: gab | D21: 300
B22: (K) Faktiskās izmaksas Covid-19 pandēmijas ierobežošanai, t.sk. | C22: EUR/vien bez PVN
B23: Dezinfekcijas līdzekļi | D23: 2.95
B24: Sejas maskas
B25: Sociālā distancēšanās sabiedriskā transportā
B26: Transportlīdzekļu dezinfekcija, to starpā darba spēka izmaksas
B27: Transportlīdzekļu papildu mazgāšana, to starpā darba spēka izmaksas
B28: Citi izdevumi (norādīt kādi) | D28: 0.06116
A29: 3.SADAĻA | B29: KOPSUMMA ((C/D-A/N) x N) | D29: =((D32/D33)-(D30/D31))*D31 -> 17842.606 | E29: =((E32/E33)-(E31/#REF!))*#REF! -> #DIV/0! | F29: =((F32/F33)-(F30/F31))*F31 -> #DIV/0! | G29: =((G32/G33)-(G30/G31))*G31 -> #DIV/0!
A30: 01.05.2021.-31.05.2021. | B30: (A) No pasažieriem, t.sk., personām, kurām noteikti pašvaldības noteiktie braukšanas maksas atvieglojumi, saņemtie ieņēmumi par sniegto sabiedriskā transporta pakalpojumu | C30: EUR bez PVN | D30: 29940.75 | H30: =atskaites_jedox!AG8 -> 29940.75
B31: (N) Faktiskais nobraukums | C31: km | D31: 49186.19 | H31: =atskaites_jedox!AH8 -> 49186.19 | I31: =D31=D10 -> TRUE
A32: 01.05.2019.-31.05.2019. | B32: (C) No pasažieriem, t.sk., personām, kurām noteikti pašvaldības noteiktie braukšanas maksas atvieglojumi, saņemtie ieņēmumi par sniegto sabiedriskā transporta pakalpojumu | C32: EUR bez PVN | D32: 47597.57 | H32: =atskaites_jedox!I8 -> 47597.57
B33: (D) Faktiskais nobraukums | C33: km | D33: 48994.95 | H33: =atskaites_jedox!J8 -> 48994.95
B36: Pašvaldības atbildīgās personas vārds, uzvārds, kontaktinformācija un paraksts (ja dokuments nav parakstīts ar elektroniski) | E36: Jēkabpils pilsētas pašvaldības, Komunālās saimniecības nodaļas, Saimniecības vadītāja Elita Vaniņa, tālr. 29611529, e-pasts: elita.vanina@jekabpils.lv
B37: Pārvadātāja atbildīga persona: Jēkabpils autobusu parks SIA valdes priekšsēdētājs J.Ščerbickis
B38: Sagatavoja: Jēkabpils autobusu parks SIA gal.grāmatvede N.Lupiķe, t.29237946
A39: Informāciju aizpilda katra pašvaldība par pārvadājumu veidiem, kādi ir noteikti attiecīgā pilsētā
A40: Tabulā iekļauj norādītajā laika periodā radušās pamatotās izmaksas, kas attiecināmas uz sabiedriskā transporta pakalpojuma izpildē noteiktajiem drošības pasākumiem Covid-19 infekcijas izplatības ierobežošanai.
A41: Pašvaldībai ir pienākums pārliecināties par izmaksu pamatotību, to apjomu vai attiecināto apmēru.
A42: 1.SADAĻĀ tiek aprēķināti faktiskie izdevumi, kas radušies saistībā ar atcelto reisu vai/un papildu reisu nodrošināšanu sakarā ar pakalpojuma apjoma ierobežošanu un 50% pasažieru piepildījuma noteikšanu
...

Sheet jūnijs
A1: Pārskats par sabiedriskā transporta pakalpojumos radītajiem izdevumiem un zaudējumiem sakarā ar noteiktajiem ierobežojumiem
A2: Periods | C2: Vienības | D2: Autobusi | E2: Minibusi (ekspresbusi) | F2: Tramvaji | G2: Trolejbusi
A3: 1.SADAĻA | B3: KOPSUMMA ((N - P) x Izm) | D3: =(D10-D9)*D13 -> 0 | E3: =(E10-E9)*E13 -> 0 | F3: =(F10-F9)*F13 -> 0 | G3: =(G10-G9)*G13 -> 0
A4: 01.06.2021.-30.06.2021. | B4: Iesaistīto transportlīdzekļu vienības | C4: skaits | D4: 14
B5: (S) Plānotais reisu skaits | D5: 5052
B6: (R) Faktiskais reisu skaits (S + RP-RA) | D6: =D5+D7-D8 -> 5032 | E6: =E5+E7-E8 -> 0 | F6: =F5+F7-F8 -> 0 | G6: =G5+G7-G8 -> 0
B7: to starpā papildu reisi (RP) | D7: 0
B8: *) to starpā atceltie reisi (RA) | D8: 20 | I8: *) to starpā atceltie reisi sakarā ar svētku izmaiņām
B9: (P) Plānotais nobraukums | C9: km | D9: 46130.33
B10: (N) Faktiskais nobraukums (P + NP-NA) | D10: =D9+D11-D12 -> 46130.33 | E10: =E9+E11-E12 -> 0 | F10: =F9+F11-F12 -> 0 | G10: =G9+G11-G12 -> 0 | H10: =atskaites_jedox!AK8 -> 46130.33
B11: to starpā papildu reisos veiktais nobraukums (NP) | D11: 0
B12: to starpā atcelto reisu nobraukums (NA) | D12: 0
B13: (Izm) 1 km pašizmaksa | C13: EUR/km | D13: 1.4814 | H13: =atskaites_jedox!AL8 -> 1.48
A14: 2.SADAĻA | B14: KOPSUMMA (1 vienības cenas reizinājums ar preču/pakalpojumu skaitu; summa ( K x Z)) | D14: =SUM(D16*D23,D17*D24,D18*D25,D19*D26,D20*D27,D21*D28) -> 18.54 | E14: =SUM(E16*E23,E17*E24,E18*E25,E19*E26,E20*E27,E21*E28) -> 0 | F14: =SUM(F16*F23,F17*F24,F18*F25,F19*F26,F20*F27,F21*F28) -> 0 | G14: =SUM(G16*G23,G17*G24,G18*G25,G19*G26,G20*G27,G21*G28) -> 0
A15: 01.06.2021.-30.06.2021. | B15: (Z) Pakalpojumi, pasākumi un materiāli Covid-19 pandēmijas ierobežošanai
B16: Dezinfekcijas līdzekļi | C16: litri | D16: 1
B17: Cimdi | C17: gab | D17: 100
B18: Sociālā distancēšanās sabiedriskā transportā
B19: Transportlīdzekļu dezinfekcija
B20: Transportlīdzekļu papildu mazgāšana
B22: (K) Faktiskās izmaksas Covid-19 pandēmijas ierobežošanai, t.sk. | C22: EUR/vien bez PVN
B23: Dezinfekcijas līdzekļi | D23: 2.95
B24: Cimdi | D24: 0.1559
B25: Sociālā distancēšanās sabiedriskā transportā
B26: Transportlīdzekļu dezinfekcija, to starpā darba spēka izmaksas
B27: Transportlīdzekļu papildu mazgāšana, to starpā darba spēka izmaksas
B28: Citi izdevumi (norādīt kādi) | D28: 0
A29: 3.SADAĻA | B29: KOPSUMMA ((C/D-A/N) x N) | D29: =((D32/D33)-(D30/D31))*D31 -> 10829.263 | E29: =((E32/E33)-(E31/#REF!))*#REF! -> #DIV/0! | F29: =((F32/F33)-(F30/F31))*F31 -> #DIV/0! | G29: =((G32/G33)-(G30/G31))*G31 -> #DIV/0!
A30: 01.06.2021.-30.06.2021. | B30: (A) No pasažieriem, t.sk., personām, kurām noteikti pašvaldības noteiktie braukšanas maksas atvieglojumi, saņemtie ieņēmumi par sniegto sabiedriskā transporta pakalpojumu | C30: EUR bez PVN | D30: 26365.46 | H30: =atskaites_jedox!AJ8 -> 26365.46
B31: (N) Faktiskais nobraukums | C31: km | D31: 46130.33 | H31: =atskaites_jedox!AK8 -> 46130.33
A32: 01.06.2019.-30.06.2019. | B32: (C) No pasažieriem, t.sk., personām, kurām noteikti pašvaldības noteiktie braukšanas maksas atvieglojumi, saņemtie ieņēmumi par sniegto sabiedriskā transporta pakalpojumu | C32: EUR bez PVN | D32: 36306.37 | H32: =atskaites_jedox!L8 -> 36306.37
B33: (D) Faktiskais nobraukums | C33: km | D33: 45028.56 | H33: =atskaites_jedox!M8 -> 45028.56
B36: Pašvaldības atbildīgās personas vārds, uzvārds, kontaktinformācija un paraksts (ja dokuments nav parakstīts ar elektroniski) | E36: Elita Vaniņa, Jēkabpils novada pašvaldības komunālās saimniecības nodaļas, Saimniecības vadītāja, elita.vanina@jekabpils.lv, tel. 29611529
B37: Pārvadātāja atbildīga persona: Jēkabpils autobusu parks SIA valdes priekšsēdētājs J.Ščerbickis
B38: Sagatavoja: Jēkabpils autobusu parks SIA gal.grāmatvede N.Lupiķe, t.29237946, 28.07.2021.
A39: Informāciju aizpilda katra pašvaldība par pārvadājumu veidiem, kādi ir noteikti attiecīgā pilsētā
A40: Tabulā iekļauj norādītajā laika periodā radušās pamatotās izmaksas, kas attiecināmas uz sabiedriskā transporta pakalpojuma izpildē noteiktajiem drošības pasākumiem Covid-19 infekcijas izplatības ierobežošanai.
A41: Pašvaldībai ir pienākums pārliecināties par izmaksu pamatotību, to apjomu vai attiecināto apmēru.
A42: 1.SADAĻĀ tiek aprēķināti faktiskie izdevumi, kas radušies saistībā ar atcelto reisu vai/un papildu reisu nodrošināšanu sakarā ar pakalpojuma apjoma ierobežošanu un 50% pasažieru piepildījuma noteikšanu
A43: 2.SADAĻĀ nosakāmi kopējie izdevumi par Covid-19 infekcijas ierobežošanas pasākumiem, kas izpildāmi atbilstoši MK 09.06.2020. noteikumiem Nr.360; MK 06.11.2020. rīkojumam Nr.655
...

Sheet PIVOT_atskaite
A3: Sum of Vērtība | B3: Column Labels
A4: Row Labels | B4: 09.03.2021.- 31.03.2021. | C4: Aprīlis | D4: Maijs | E4: Jūnijs | F4: Grand Total
A5: 1. Faktiskie izdevumi, kas radušies saistībā ar reisu atcelšanu vai papild reisu nodrošināšanu - KOPSUMMA ((N - P) x Izm) | B5: -1665.5883 | C5: -178.18574 | D5: 0 | E5: 0 | F5: -1843.774
A6: 2. Kopējie izdevumi par Covid-19 infekcijas ierobežošanas pasākumiem - KOPSUMMA (1 vienības cenas reizinājums ar preču/pakalpojumu skaitu; summa ( K x Z)) | B6: 57.773 | C6: 33.927 | D6: 21.298 | E6: 18.54 | F6: 131.538
A7: 3. Kopējā ietekme uz ieņēmumu apgrozījumu - KOPSUMMA ((C/D-A/N) x N) | B7: 17868.301 | C7: 20304.425 | D7: 17842.606 | E7: 10829.263 | F7: 66844.594
A8: Grand Total | B8: 16260.485 | C8: 20160.166 | D8: 17863.904 | E8: 10847.803 | F8: 65132.358

Sheet PIVOT
B1: Pārskats par sabiedriskā transporta pakalpojumos radītajiem izdevumiem un zaudējumiem sakarā ar noteiktajiem ierobežojumiem
B5: Rādītājs | C5: Vienības | D5: Vērtība | E5: Pārvadājumu veids | F5: Pilsēta | G5: Periods
B6: 1. Faktiskie izdevumi, kas radušies saistībā ar reisu atcelšanu vai papild reisu nodrošināšanu - KOPSUMMA ((N - P) x Izm) | D6: -1665.5883 | E6: Autobuss | F6: Jēkabpils | G6: 09.03.2021.- 31.03.2021.
B7: Iesaistīto transportlīdzekļu vienības | C7: skaits | D7: 14 | E7: Autobuss | F7: Jēkabpils | G7: 09.03.2021.- 31.03.2021.
B8: (S) Plānotais reisu skaits | C8: skaits | D8: 3966 | E8: Autobuss | F8: Jēkabpils | G8: 09.03.2021.- 31.03.2021.
B9: (R) Faktiskais reisu skaits (S + RP-RA) | C9: skaits | D9: 3796 | E9: Autobuss | F9: Jēkabpils | G9: 09.03.2021.- 31.03.2021.
B10: to starpā papildu reisi (RP) | C10: skaits | D10: 0 | E10: Autobuss | F10: Jēkabpils | G10: 09.03.2021.- 31.03.2021.
B11: to starpā atceltie reisi (RA) | C11: skaits | D11: 170 | E11: Autobuss | F11: Jēkabpils | G11: 09.03.2021.- 31.03.2021.
B12: (P) Plānotais nobraukums | C12: km | D12: 37669.08 | E12: Autobuss | F12: Jēkabpils | G12: 09.03.2021.- 31.03.2021.
B13: (N) Faktiskais nobraukums (P + NP-NA) | C13: km | D13: 36350.22 | E13: Autobuss | F13: Jēkabpils | G13: 09.03.2021.- 31.03.2021.
B14: to starpā papildu reisos veiktais nobraukums (NP) | C14: km | D14: 0 | E14: Autobuss | F14: Jēkabpils | G14: 09.03.2021.- 31.03.2021.
B15: to starpā atcelto reisu nobraukums (NA) | C15: km | D15: 1318.86 | E15: Autobuss | F15: Jēkabpils | G15: 09.03.2021.- 31.03.2021.
B16: (Izm) 1 km pašizmaksa | C16: EUR/km | D16: 1.2629 | E16: Autobuss | F16: Jēkabpils | G16: 09.03.2021.- 31.03.2021.
B17: 2. Kopējie izdevumi par Covid-19 infekcijas ierobežošanas pasākumiem - KOPSUMMA (1 vienības cenas reizinājums ar preču/pakalpojumu skaitu; summa ( K x Z)) | D17: 57.773 | E17: Autobuss | F17: Jēkabpils | G17: 09.03.2021.- 31.03.2021.
B18: (Z) Pakalpojumi, pasākumi un materiāli Covid-19 pandēmijas ierobežošanai | E18: Autobuss | F18: Jēkabpils | G18: 09.03.2021.- 31.03.2021.
B19: Dezinfekcijas līdzekļi | C19: litri | D19: 6 | E19: Autobuss | F19: Jēkabpils | G19: 09.03.2021.- 31.03.2021.
B20: Sejas maskas | C20: gab | D20: 10 | E20: Autobuss | F20: Jēkabpils | G20: 09.03.2021.- 31.03.2021.
B21: Sociālā distancēšanās sabiedriskā transportā | E21: Autobuss | F21: Jēkabpils | G21: 09.03.2021.- 31.03.2021.
B22: Transportlīdzekļu dezinfekcija | E22: Autobuss | F22: Jēkabpils | G22: 09.03.2021.- 31.03.2021.
B23: Transportlīdzekļu papildu mazgāšana | E23: Autobuss | F23: Jēkabpils | G23: 09.03.2021.- 31.03.2021.
B24: Citi izdevumi- Nitrila melni un zilie cimdi | C24: gab | D24: 150 | E24: Autobuss | F24: Jēkabpils | G24: 09.03.2021.- 31.03.2021.
B25: (K) Faktiskās izmaksas Covid-19 pandēmijas ierobežošanai, t.sk. | C25: EUR/vien bez PVN | E25: Autobuss | F25: Jēkabpils | G25: 09.03.2021.- 31.03.2021.
B26: Dezinfekcijas līdzekļi | C26: EUR/vien bez PVN | D26: 2.105 | E26: Autobuss | F26: Jēkabpils | G26: 09.03.2021.- 31.03.2021.
B27: Sejas maskas | C27: EUR/vien bez PVN | D27: 1.3967 | E27: Autobuss | F27: Jēkabpils | G27: 09.03.2021.- 31.03.2021.
B28: Sociālā distancēšanās sabiedriskā transportā | C28: EUR/vien bez PVN | E28: Autobuss | F28: Jēkabpils | G28: 09.03.2021.- 31.03.2021.
B29: Transportlīdzekļu dezinfekcija, to starpā darba spēka izmaksas | C29: EUR/vien bez PVN | E29: Autobuss | F29: Jēkabpils | G29: 09.03.2021.- 31.03.2021.
B30: Transportlīdzekļu papildu mazgāšana, to starpā darba spēka izmaksas | C30: EUR/vien bez PVN | E30: Autobuss | F30: Jēkabpils | G30: 09.03.2021.- 31.03.2021.
B31: Citi izdevumi- Nitrila melni un zilie cimdi | C31: EUR/vien bez PVN | D31: 0.20784 | E31: Autobuss | F31: Jēkabpils | G31: 09.03.2021.- 31.03.2021.
B32: 3. Kopējā ietekme uz ieņēmumu apgrozījumu - KOPSUMMA ((C/D-A/N) x N) | D32: 17868.301 | E32: Autobuss | F32: Jēkabpils | G32: 09.03.2021.- 31.03.2021.
B33: (A) No pasažieriem, t.sk., personām, kurām noteikti pašvaldības noteiktie braukšanas maksas atvieglojumi, saņemtie ieņēmumi par sniegto sabiedriskā transporta pakalpojumu - 09.03.2021.-31.03.2021. | C33: EUR bez PVN | D33: 20729.79 | E33: Autobuss | F33: Jēkabpils | G33: 09.03.2021.- 31.03.2021.
B34: (N) Faktiskais nobraukums - 09.03.2021.-31.03.2021. | C34: km | D34: 36350.22 | E34: Autobuss | F34: Jēkabpils | G34: 09.03.2021.- 31.03.2021.
B35: (C) No pasažieriem, t.sk., personām, kurām noteikti pašvaldības noteiktie braukšanas maksas atvieglojumi, saņemtie ieņēmumi par sniegto sabiedriskā transporta pakalpojumu - 09.03.2019.-31.03.2019. | C35: EUR bez PVN | D35: 39022.2 | E35: Autobuss | F35: Jēkabpils | G35: 09.03.2021.- 31.03.2021.
B36: (D) Faktiskais nobraukums - 09.03.2019.-31.03.2019. | C36: km | D36: 36749.63 | E36: Autobuss | F36: Jēkabpils | G36: 09.03.2021.- 31.03.2021.
B37: 1. Faktiskie izdevumi, kas radušies saistībā ar reisu atcelšanu vai papild reisu nodrošināšanu - KOPSUMMA ((N - P) x Izm) | D37: -178.18574 | E37: Autobuss | F37: Jēkabpils | G37: Aprīlis
B38: Iesaistīto transportlīdzekļu vienības | C38: skaits | D38: 14 | E38: Autobuss | F38: Jēkabpils | G38: Aprīlis
B39: (S) Plānotais reisu skaits | C39: skaits | D39: 5256 | E39: Autobuss | F39: Jēkabpils | G39: Aprīlis
B40: (R) Faktiskais reisu skaits (S + RP-RA) | C40: skaits | D40: 5236 | E40: Autobuss | F40: Jēkabpils | G40: Aprīlis
B41: to starpā papildu reisi (RP) | C41: skaits | D41: 0 | E41: Autobuss | F41: Jēkabpils | G41: Aprīlis
B42: to starpā atceltie reisi (RA) | C42: skaits | D42: 20 | E42: Autobuss | F42: Jēkabpils | G42: Aprīlis
B43: (P) Plānotais nobraukums | C43: km | D43: 47955.92 | E43: Autobuss | F43: Jēkabpils | G43: Aprīlis
...

Sheet atskaites_jedox
B2: servers_ATD/STIFSS | D2: =_xll.PALO.VIEW.DIMNAME($B$2,$B$3,0,0) -> ContractNo | E2: =_xll.PALO.VIEW.DIMNAME($B$2,$B$3,0,1) -> Region | F2: =_xll.PALO.VIEW.DIMNAME($B$2,$B$3,0,2) -> Traffic | G2: =_xll.PALO.VIEW.DIMNAME($B$2,$B$3,0,3) -> Period_type | H2: =_xll.PALO.VIEW.DIMNAME($B$2,$B$3,0,4) -> Report_type | I2: =_xll.PALO.VIEW.DIMNAME($B$2,$B$3,0,5) -> Transport | J2: =_xll.PALO.VIEW.DIMNAME($B$2,$B$3,0,6) -> Vertibas
B3: =_xll.PALO.CUBE($B$2,"PnL_") -> a7df98124852c84d81a0ac801e4941d5f1009fac | D3: =_xll.PALO.ENAME($B$2,$B$3,0,0,0) -> Visi_ligumi | E3: =_xll.PALO.ENAME($B$2,$B$3,0,1,0) -> Visi regioni | F3: =_xll.PALO.ENAME($B$2,$B$3,0,2,0) -> Visi marsruti | G3: =_xll.PALO.ENAME($B$2,$B$3,0,3,0) -> MONTH | H3: =_xll.PALO.ENAME($B$2,$B$3,0,4,0) -> FACTUAL | I3: =_xll.PALO.ENAME($B$2,$B$3,0,5,0) -> Visi_veidi | J3: =_xll.PALO.ENAME($B$2,$B$3,0,6,0) -> EUR [+]
B4: [Edit View]
B5: [Swap]
C6: =_xll.PALO.ENAME($B$2,$B$3,2,0,0) -> 2019-03 | D6: =_xll.PALO.ENAME($B$2,$B$3,2,0,1) -> 2019-03 | E6: =_xll.PALO.ENAME($B$2,$B$3,2,0,2) -> 2019-03 | F6: =_xll.PALO.ENAME($B$2,$B$3,2,0,3) -> 2019-04 | G6: =_xll.PALO.ENAME($B$2,$B$3,2,0,4) -> 2019-04 | H6: =_xll.PALO.ENAME($B$2,$B$3,2,0,5) -> 2019-04 | I6: =_xll.PALO.ENAME($B$2,$B$3,2,0,6) -> 2019-05 | J6: =_xll.PALO.ENAME($B$2,$B$3,2,0,7) -> 2019-05 | K6: =_xll.PALO.ENAME($B$2,$B$3,2,0,8) -> 2019-05 | L6: =_xll.PALO.ENAME($B$2,$B$3,2,0,9) -> 2019-06 | M6: =_xll.PALO.ENAME($B$2,$B$3,2,0,10) -> 2019-06 | N6: =_xll.PALO.ENAME($B$2,$B$3,2,0,11) -> 2019-06 | O6: =_xll.PALO.ENAME($B$2,$B$3,2,0,12) -> 2020-03 | P6: =_xll.PALO.ENAME($B$2,$B$3,2,0,13) -> 2020-03 | Q6: =_xll.PALO.ENAME($B$2,$B$3,2,0,14) -> 2020-03 | R6: =_xll.PALO.ENAME($B$2,$B$3,2,0,15) -> 2020-04 | S6: =_xll.PALO.ENAME($B$2,$B$3,2,0,16) -> 2020-04 | T6: =_xll.PALO.ENAME($B$2,$B$3,2,0,17) -> 2020-04 | U6: =_xll.PALO.ENAME($B$2,$B$3,2,0,18) -> 2020-05 | V6: =_xll.PALO.ENAME($B$2,$B$3,2,0,19) -> 2020-05 | W6: =_xll.PALO.ENAME($B$2,$B$3,2,0,20) -> 2020-05 | X6: =_xll.PALO.ENAME($B$2,$B$3,2,0,21) -> 2020-06 | Y6: =_xll.PALO.ENAME($B$2,$B$3,2,0,22) -> 2020-06 | Z6: =_xll.PALO.ENAME($B$2,$B$3,2,0,23) -> 2020-06 | AA6: =_xll.PALO.ENAME($B$2,$B$3,2,0,24) -> 2021-03 | AB6: =_xll.PALO.ENAME($B$2,$B$3,2,0,25) -> 2021-03 | AC6: =_xll.PALO.ENAME($B$2,$B$3,2,0,26) -> 2021-03 | AD6: =_xll.PALO.ENAME($B$2,$B$3,2,0,27) -> 2021-04 | AE6: =_xll.PALO.ENAME($B$2,$B$3,2,0,28) -> 2021-04 | AF6: =_xll.PALO.ENAME($B$2,$B$3,2,0,29) -> 2021-04 | AG6: =_xll.PALO.ENAME($B$2,$B$3,2,0,30) -> 2021-05 | AH6: =_xll.PALO.ENAME($B$2,$B$3,2,0,31) -> 2021-05 | AI6: =_xll.PALO.ENAME($B$2,$B$3,2,0,32) -> 2021-05 | AJ6: =_xll.PALO.ENAME($B$2,$B$3,2,0,33) -> 2021-06 | AK6: =_xll.PALO.ENAME($B$2,$B$3,2,0,34) -> 2021-06 | AL6: =_xll.PALO.ENAME($B$2,$B$3,2,0,35) -> 2021-06
C7: =_xll.PALO.ENAME($B$2,$B$3,2,1,0) -> Ieņēmumi | D7: =_xll.PALO.ENAME($B$2,$B$3,2,1,1) -> Nobraukums maršrutu tīklā | E7: =_xll.PALO.ENAME($B$2,$B$3,2,1,2) -> Viena kilometra pašizmaksa (EUR) | F7: =_xll.PALO.ENAME($B$2,$B$3,2,1,3) -> Ieņēmumi | G7: =_xll.PALO.ENAME($B$2,$B$3,2,1,4) -> Nobraukums maršrutu tīklā | H7: =_xll.PALO.ENAME($B$2,$B$3,2,1,5) -> Viena kilometra pašizmaksa (EUR) | I7: =_xll.PALO.ENAME($B$2,$B$3,2,1,6) -> Ieņēmumi | J7: =_xll.PALO.ENAME($B$2,$B$3,2,1,7) -> Nobraukums maršrutu tīklā | K7: =_xll.PALO.ENAME($B$2,$B$3,2,1,8) -> Viena kilometra pašizmaksa (EUR) | L7: =_xll.PALO.ENAME($B$2,$B$3,2,1,9) -> Ieņēmumi | M7: =_xll.PALO.ENAME($B$2,$B$3,2,1,10) -> Nobraukums maršrutu tīklā | N7: =_xll.PALO.ENAME($B$2,$B$3,2,1,11) -> Viena kilometra pašizmaksa (EUR) | O7: =_xll.PALO.ENAME($B$2,$B$3,2,1,12) -> Ieņēmumi | P7: =_xll.PALO.ENAME($B$2,$B$3,2,1,13) -> Nobraukums maršrutu tīklā | Q7: =_xll.PALO.ENAME($B$2,$B$3,2,1,14) -> Viena kilometra pašizmaksa (EUR) | R7: =_xll.PALO.ENAME($B$2,$B$3,2,1,15) -> Ieņēmumi | S7: =_xll.PALO.ENAME($B$2,$B$3,2,1,16) -> Nobraukums maršrutu tīklā | T7: =_xll.PALO.ENAME($B$2,$B$3,2,1,17) -> Viena kilometra pašizmaksa (EUR) | U7: =_xll.PALO.ENAME($B$2,$B$3,2,1,18) -> Ieņēmumi | V7: =_xll.PALO.ENAME($B$2,$B$3,2,1,19) -> Nobraukums maršrutu tīklā | W7: =_xll.PALO.ENAME($B$2,$B$3,2,1,20) -> Viena kilometra pašizmaksa (EUR) | X7: =_xll.PALO.ENAME($B$2,$B$3,2,1,21) -> Ieņēmumi | Y7: =_xll.PALO.ENAME($B$2,$B$3,2,1,22) -> Nobraukums maršrutu tīklā | Z7: =_xll.PALO.ENAME($B$2,$B$3,2,1,23) -> Viena kilometra pašizmaksa (EUR) | AA7: =_xll.PALO.ENAME($B$2,$B$3,2,1,24) -> Ieņēmumi | AB7: =_xll.PALO.ENAME($B$2,$B$3,2,1,25) -> Nobraukums maršrutu tīklā | AC7: =_xll.PALO.ENAME($B$2,$B$3,2,1,26) -> Viena kilometra pašizmaksa (EUR) | AD7: =_xll.PALO.ENAME($B$2,$B$3,2,1,27) -> Ieņēmumi | AE7: =_xll.PALO.ENAME($B$2,$B$3,2,1,28) -> Nobraukums maršrutu tīklā | AF7: =_xll.PALO.ENAME($B$2,$B$3,2,1,29) -> Viena kilometra pašizmaksa (EUR) | AG7: =_xll.PALO.ENAME($B$2,$B$3,2,1,30) -> Ieņēmumi | AH7: =_xll.PALO.ENAME($B$2,$B$3,2,1,31) -> Nobraukums maršrutu tīklā | AI7: =_xll.PALO.ENAME($B$2,$B$3,2,1,32) -> Viena kilometra pašizmaksa (EUR) | AJ7: =_xll.PALO.ENAME($B$2,$B$3,2,1,33) -> Ieņēmumi | AK7: =_xll.PALO.ENAME($B$2,$B$3,2,1,34) -> Nobraukums maršrutu tīklā | AL7: =_xll.PALO.ENAME($B$2,$B$3,2,1,35) -> Viena kilometra pašizmaksa (EUR)
B8: =_xll.PALO.ENAME($B$2,$B$3,1,0,0) -> Jēkabpils pilsētas pašvaldība | C8: =_xll.PALO.DATA($B$2,$B$3,_xll.PALO.EL("Time",C$6),_xll.PALO.EL("Partner",$B8),_xll.PALO.EL($D$2,$D$3),_xll.PALO.EL($E$2,$E$3),_xll.PALO.EL($F$2,$F$3),_xll.PALO.EL($G$2,$G$3),_xll.PALO.EL($H$2,$H$3),_xll.PALO.EL($I$2,$I$3),_xll.PALO.EL($J$2,$J$3),_xll.PALO.EL("Position",C$7)) -> 52595.14 | D8: =_xll.PALO.DATA($B$2,$B$3,_xll.PALO.EL("Time",D$6),_xll.PALO.EL("Partner",$B8),_xll.PALO.EL($D$2,$D$3),_xll.PALO.EL($E$2,$E$3),_xll.PALO.EL($F$2,$F$3),_xll.PALO.EL($G$2,$G$3),_xll.PALO.EL($H$2,$H$3),_xll.PALO.EL($I$2,$I$3),_xll.PALO.EL($J$2,$J$3),_xll.PALO.EL("Position",D$7)) -> 49532.4 | E8: =_xll.PALO.DATA($B$2,$B$3,_xll.PALO.EL("Time",E$6),_xll.PALO.EL("Partner",$B8),_xll.PALO.EL($D$2,$D$3),_xll.PALO.EL($E$2,$E$3),_xll.PALO.EL($F$2,$F$3),_xll.PALO.EL($G$2,$G$3),_xll.PALO.EL($H$2,$H$3),_xll.PALO.EL($I$2,$I$3),_xll.PALO.EL($J$2,$J$3),_xll.PALO.EL("Position",E$7)) -> 1.07 | F8: =_xll.PALO.DATA($B$2,$B$3,_xll.PALO.EL("Time",F$6),_xll.PALO.EL("Partner",$B8),_xll.PALO.EL($D$2,$D$3),_xll.PALO.EL($E$2,$E$3),_xll.PALO.EL($F$2,$F$3),_xll.PALO.EL($G$2,$G$3),_xll.PALO.EL($H$2,$H$3),_xll.PALO.EL($I$2,$I$3),_xll.PALO.EL($J$2,$J$3),_xll.PALO.EL("Position",F$7)) -> 48542.61 | G8: =_xll.PALO.DATA($B$2,$B$3,_xll.PALO.EL("Time",G$6),_xll.PALO.EL("Partner",$B8),_xll.PALO.EL($D$2,$D$3),_xll.PALO.EL($E$2,$E$3),_xll.PALO.EL($F$2,$F$3),_xll.PALO.EL($G$2,$G$3),_xll.PALO.EL($H$2,$H$3),_xll.PALO.EL($I$2,$I$3),_xll.PALO.EL($J$2,$J$3),_xll.PALO.EL("Position",G$7)) -> 47290.65 | H8: =_xll.PALO.DATA($B$2,$B$3,_xll.PALO.EL("Time",H$6),_xll.PALO.EL("Partner",$B8),_xll.PALO.EL($D$2,$D$3),_xll.PALO.EL($E$2,$E$3),_xll.PALO.EL($F$2,$F$3),_xll.PALO.EL($G$2,$G$3),_xll.PALO.EL($H$2,$H$3),_xll.PALO.EL($I$2,$I$3),_xll.PALO.EL($J$2,$J$3),_xll.PALO.EL("Position",H$7)) -> 1.1598 | I8: =_xll.PALO.DATA($B$2,$B$3,_xll.PALO.EL("Time",I$6),_xll.PALO.EL("Partner",$B8),_xll.PALO.EL($D$2,$D$3),_xll.PALO.EL($E$2,$E$3),_xll.PALO.EL($F$2,$F$3),_xll.PALO.EL($G$2,$G$3),_xll.PALO.EL($H$2,$H$3),_xll.PALO.EL($I$2,$I$3),_xll.PALO.EL($J$2,$J$3),_xll.PALO.EL("Position",I$7)) -> 47597.57 | J8: =_xll.PALO.DATA($B$2,$B$3,_xll.PALO.EL("Time",J$6),_xll.PALO.EL("Partner",$B8),_xll.PALO.EL($D$2,$D$3),_xll.PALO.EL($E$2,$E$3),_xll.PALO.EL($F$2,$F$3),_xll.PALO.EL($G$2,$G$3),_xll.PALO.EL($H$2,$H$3),_xll.PALO.EL($I$2,$I$3),_xll.PALO.EL($J$2,$J$3),_xll.PALO.EL("Position",J$7)) -> 48994.95 | ... AL8: =_xll.PALO.DATA($B$2,$B$3,_xll.PALO.EL("Time",AL$6),_xll.PALO.EL("Partner",$B8),_xll.PALO.EL($D$2,$D$3),_xll.PALO.EL($E$2,$E$3),_xll.PALO.EL($F$2,$F$3),_xll.PALO.EL($G$2,$G$3),_xll.PALO.EL($H$2,$H$3),_xll.PALO.EL($I$2,$I$3),_xll.PALO.EL($J$2,$J$3),_xll.PALO.EL("Position",AL$7)) -> 1.48
