Workbook

Sheet Kopsavilkums
L1: 1.1.pielikums
L2: Informatīvajam ziņojumam "Par paveikto veselības aprūpes sistēmas papildus kapacitātes stiprināšanai Covid-19 pacientu ārstēšanas nodrošināšanai un priekšlikumiem neizlietotā finansējuma apguvei "
A3: Papildus piešķirtā finansējums slimnīcu papildus kapacitātes stiprināšanai Covid -19 apstākļos piešķirtā finansējuma sadalījums, izlietojums un plānotās ekonomijas
A5: Ārstniecības iestāde | B5: Finansējums, atbilstoši MK rīkojumiem un protokoliem | G5: Faktiski realizēts 2021. gadā | H5: Faktiski slimnīcām tika aizskaitīts finansējums 2021. gadā, euro | I5: Atlikums 2021.gadā no daļēji noslēgtajiem vai nenoslēgtajiem līgumiem | J5: Atlikums 2022.gadā (tiks veikts pārskaitījums uz valsts budžeta ieņēmumu kontu) | K5: Finansējums, kas nepieciešams 2022. gadā, lai pabeigtu īstenot 2021. gada beigās uzsāktos darbus vai uzsāktu 2022. gadā jaunus pasākumus | L5: Finansējums, kas nepieciešams 2022. gadā, lai īstenotu 2022. gada sākumā plānotos darbus (iezīmēts ar protokolu)
B6: datums | C6: Nr. | D6: Summa priekšapmaksai VAI IEGULDĪŠANA PAMATKAPITĀLĀ 2021.gadā | E6: 2022.gada summa | F6: Summa
A7: Pavisam kopā trīs rīkojumiem (799, 899, 904) | D7: =D8+D15+D37 -> 5727448 | E7: =E8+E15+E37 -> 6688008 | F7: =F8+F15+F37 -> 12415456 | G7: 1380010.1 | H7: =H8+H15+H37 -> 5009873.8 | I7: 717574.24 | J7: 3629863.6 | K7: =K8+K15+K37 -> 3385031 | L7: 5894005
A8: 4.piešķīrums (Izlietojums, atbilstoši Ministru kabineta 2021.gada 3.novembra rīkojumam Nr.799 "Par finanšu līdzekļu piešķiršanu no valsts budžeta programmas "Līdzekļi neparedzētiem gadījumiem") | D8: =D9+D10+D11+D12+D13 -> 1045916 | E8: =E9+E10+E11+E12+E13+E14 -> 4590901 | F8: =F9+F10+F11+F12+F13+F14 -> 5636817 | G8: 370182.62 | H8: =SUM(H9:H14) -> 713629.76 | I8: 332286.24 | J8: 343447.14 | K8: =K9+K10+K11+K12+K13+K14 -> 345687 | L8: 3827310
A9: Rīgas 1.slimnīca | B9: 28.12.2021. | C9: NVD-9/234-2021 | D9: 381795 | E9: 763591 | F9: =D9+E9 -> 1145386 | G9: ='R.1.sl._799'!C63 -> 49508.76 | H9: =G9 -> 49508.76 | I9: 332286.24 | K9: ='R.1.sl._799'!C64 -> 3776 | L9: 0
A10: Rīgas 2.slimnīca | B10: 08.12.2021. | C10: NVD-9/187-2021 | D10: 376625 | E10: 753248 | F10: =D10+E10 -> 1129873 | G10: ='R.2.sl_02_799'!B91 -> 34714.6 | H10: =D10 -> 376625 | J10: 341910.4 | K10: ='R.2.sl_02_799'!B92 -> 341911 | L10: 753248
A11: Rēzeknes sl | B11: 17.03.2021. | C11: NVD-2/131-2021 | D11: 49075 | E11: 1190485 | F11: =D11+E11 -> 1239560 | G11: =Rēzekne_2021_799!B14 -> 49075 | H11: =D11 -> 49075 | J11: 0 | K11: =J11 -> 0 | L11: 1190485
A12: Jelgavas PS | B12: 29.12.2021. | C12: NVD-9/195-2021 | D12: 175421 | E12: 1621775 | F12: =D12+E12 -> 1797196 | G12: =Jelg_799!B41 -> 173884.26 | H12: =D12 -> 175421 | J12: 1536.74 | K12: 0 | L12: 1621775
A13: Ziemeļkurzemes RS | B13: 28.12.2021. | C13: NVD-9/201-2021 | D13: 63000 | E13: 21000 | F13: =D13+E13 -> 84000 | G13: =Ziemeļkurz_799!B19 -> 63000 | H13: =D13 -> 63000 | J13: 0 | K13: 0 | L13: 21000
A14: Vidzemes slimnīca | E14: 240802 | F14: =D14+E14 -> 240802 | G14: 0 | H14: =D14 -> 0 | J14: 0 | L14: 240802
A15: 5.piešķīrums (Izlietojums, atbilstoši Ministru kabineta 2021.gada 1.decembra rīkojumam Nr.899 "Par finanšu līdzekļu piešķiršanu no valsts budžeta programmas "Līdzekļi neparedzētiem gadījumiem") | D15: =SUM(D16:D36) -> 4284321 | E15: =SUM(E16:E36) -> 1976769 | F15: =SUM(F16:F36) -> 6261090 | G15: 906493.49 | H15: =SUM(H16:H36) -> 4007479 | I15: 276842 | J15: 3100985.5 | K15: =SUM(K16:K36) -> 2636940 | L15: 1946357
A16: Vidzemes slimnīca | B16: 30.12.2021. | C16: NVD-9/200-2021 | D16: 399140 | E16: 171060 | F16: =D16+E16 -> 570200 | G16: =Vidzem_899!B40 -> 81086.94 | H16: =D16-60000 -> 339140 | I16: 60000 | J16: 258053.06 | K16: =Vidzem_899!B41 -> 318054 | L16: 171060
A17: Jēkabpils RS | B17: 22.12.2021. | C17: NVD-9/208-2021 | D17: 392192 | E17: 650000 | F17: =D17+E17 -> 1042192 | G17: =JEKABP_899!C27 -> 41401.36 | H17: =D17 -> 392192 | J17: 350790.64 | K17: =JEKABP_899!C28 -> 350791 | L17: 650000
A18: Liepājas RS | B18: 30.12.2021. | C18: NVD-9/203-2021 | D18: 991075 | E18: 424746 | F18: =D18+E18 -> 1415821 | G18: =Liepāj_899!C37 -> 11904.22 | H18: =D18 -> 991075 | J18: 979170.78 | K18: =Liepāj_899!C38 -> 979171 | L18: 424746
A19: Rēzeknes sl | B19: 22.12.2021. | C19: NVD-9/220-2021 | D19: 485888 | E19: 0 | F19: =D19+E19 -> 485888 | G19: =Rēzekn_899!B18 -> 304459.34 | H19: =D19 -> 485888 | J19: 181428.66 | K19: 0 | L19: 0
A20: Ziemeļkurzemes RS | B20: 27.12.2021. | C20: NVD-9/222-2021 | D20: =56441+144720 -> 201161 | E20: =8500+32991 -> 41491 | F20: =D20+E20 -> 242652 | G20: =Ziemeļk_899!B41 -> 187271.5 | H20: =D20 -> 201161 | J20: 13889.5 | K20: 0 | L20: 41491
A21: Priekules slimnīca | B21: 29.12.2021. | C21: NVD-9/214-2021 | D21: 9681 | E21: 4149 | F21: =D21+E21 -> 13830 | G21: =Priek_899!B23 -> 9681 | H21: =D21 -> 9681 | J21: 0 | K21: 0 | L21: 4149
A22: Dobeles un apkārtnes slimnīca | B22: 28.12.2021. | C22: NVD-9/206-2021 | D22: 126032 | E22: 49838 | F22: =D22+E22 -> 175870 | G22: =Dobele_899!B19 -> 1498.34 | H22: =D22 -> 126032 | J22: 124533.66 | K22: =Dobele_899!B20 -> 1902 | L22: 49838
A23: Alūksnes slimnīca | B23: 22.12.2021. | C23: NVD-9/216-2021 | D23: 58783 | E23: 25193 | F23: =D23+E23 -> 83976 | G23: =Alūksn_899!B24 -> 30951.31 | H23: =D23 -> 58783 | J23: 27831.69 | K23: =Alūksn_899!B25 -> 7020 | L23: 25193
A24: Bauskas slimnīca | B24: 22.12.2021. | C24: NVD-9/204-2021 | D24: 179462 | E24: 71577 | F24: =D24+E24 -> 251039 | G24: =Bausk_899!B26 -> 27026.64 | H24: =D24 -> 179462 | J24: 152435.36 | K24: =Bausk_899!B27 -> 152435 | L24: 71577
A25: Cēsu slimnīca | B25: 30.12.2021. | C25: NVD-9/205-2021 | D25: 78855 | E25: 33795 | F25: =D25+E25 -> 112650 | G25: =Cēsis_899!B28 -> 20072.75 | H25: =D25 -> 78855 | J25: 58782.25 | K25: 0 | L25: 33795
A26: Preiļu slimnīca | D26: 145880 | E26: 62520 | F26: =D26+E26 -> 208400 | G26: 0 | H26: 0 | I26: 145880 | J26: 0 | K26: 0 | L26: 62520
A27: Krāslavas slimnīca | D27: 63000 | E27: 27000 | F27: =D27+E27 -> 90000 | G27: 0 | H27: 0 | I27: 63000 | J27: 0 | K27: 0 | L27: 0
A28: Jūrmalas slimnīca | B28: 27.12.2021. | C28: NVD-9/209-2021 | D28: 108900 | E28: 0 | F28: =D28+E28 -> 108900 | G28: 0 | H28: =D28 -> 108900 | J28: 108900 | K28: =J28 -> 108900 | L28: 0
A29: Madonas slimnīca | B29: 29.12.2021. | C29: NVD-9/221-2021 | D29: 163450 | E29: 70050 | F29: =D29+E29 -> 233500 | G29: 0 | H29: =D29 -> 163450 | J29: 163450 | K29: =J29 -> 163450 | L29: 70050
A30: Limbažu slimnīca | B30: 22.12.2021. | C30: NVD-9/211-2021 | D30: 55650 | E30: 23850 | F30: =D30+E30 -> 79500 | G30: 0 | H30: =D30 -> 55650 | J30: 55650 | K30: =J30 -> 55650 | L30: 23850
A31: Aizkraukles sl. | B31: 28.12.2021. | C31: NVD-9/231-2021 | D31: 2100 | E31: 0 | F31: =D31+E31 -> 2100 | G31: =Aizkr_899!B16 -> 1858.62 | H31: =D31 -> 2100 | J31: 241.38 | K31: 0 | L31: 0
A32: Rīgas 2.slimnīca | B32: 29.12.2021. | C32: NVD-9/237-2021 | D32: 211912 | E32: 90819 | F32: =D32+E32 -> 302731 | G32: 0 | H32: =D32 -> 211912 | J32: 211912 | K32: =J32 -> 211912 | L32: 90819
A33: Sanare KRC Jaunķemeri | B33: 23.12.2021. | C33: NVD-9/224-2021 | D33: 173042 | E33: 74161 | F33: =D33+E33 -> 247203 | G33: =Sanare_899!B33 -> 55420.78 | H33: =D33 -> 173042 | J33: 117621.22 | K33: 0 | L33: 74161
A34: Irlavas SKS | D34: 7962 | E34: 3412 | F34: =D34+E34 -> 11374 | G34: 0 | H34: 0 | I34: 7962 | J34: 0 | K34: 0 | L34: 0
A35: Jelgavas PS | B35: 22.12.2021. | C35: NVD-9/207-2021 | D35: 118783 | E35: 19663 | F35: =D35+E35 -> 138446 | G35: =Jelg_899!B19 -> 110142.14 | H35: =D35 -> 118783 | J35: 8640.86 | K35: 0 | L35: 19663
A36: Tukuma slimnīca | B36: 22.12.2021. | C36: NVD-9/218-2021 | D36: 311373 | E36: 133445 | F36: =D36+E36 -> 444818 | G36: =Tukums_899!B25 -> 23718.55 | H36: =D36 -> 311373 | J36: 287654.45 | K36: =Tukums_899!B26 -> 287655 | L36: 133445
A37: 6.piešķīrums (Izlietojums, atbilstoši Ministru kabineta 2021.gada 1.decembra rīkojumam Nr.904 "Par finanšu līdzekļu piešķiršanu no valsts budžeta programmas "Līdzekļi neparedzētiem gadījumiem") | D37: =D38+D39+D40+D41+D42+D43+D44 -> 397211 | E37: =E38+E39+E40+E41+E42+E43+E44 -> 120338 | F37: =F38+F39+F40+F41+F42+F43+F44 -> 517549 | G37: 103334.03 | H37: =SUM(H38:H44) -> 288765 | I37: 108446 | J37: 185430.97 | K37: =K38+K39+K40+K41+K42+K43+K44 -> 402404 | L37: 120338
A38: Saldus MC | B38: 27.12.2021. | C38: NVD-9/227-2021 | D38: 1247 | E38: 11223 | F38: =D38+E38 -> 12470 | G38: =Saldus_904!B17 -> 615.39 | H38: =D38 -> 1247 | J38: 631.61 | K38: 0 | L38: 11223
A39: Ludzas MC | B39: 27.12.2021. | C39: NVD-9/226-2021 | D39: 125120 | F39: =D39+E39 -> 125120 | G39: =Ludza_904!B29 -> 59608.64 | H39: =D39 -> 125120 | J39: 65511.36 | K39: =Ludza_904!B30 -> 65512 | L39: 0
A40: Latvijas Jūras MC | B40: 30.12.2021. | C40: NVD-9/228-2021 | D40: 32110 | E40: 17666 | F40: =D40+E40 -> 49776 | G40: ='Jūras MC_904'!B26 -> 32110 | H40: =D40 -> 32110 | J40: 0 | K40: 0 | L40: 17666
A41: Rīgas 1.slimnīca | D41: 108446 | E41: 0 | F41: =D41+E41 -> 108446 | G41: 0 | H41: 0 | I41: 108446 | J41: 0 | K41: 0 | L41: 0
...

Sheet R.1.sl._799
K1: 1.2.pielikums
K2: Informatīvajam ziņojumam "Par paveikto veselības aprūpes sistēmas papildus kapacitātes stiprināšanai Covid-19 pacientu ārstēšanas nodrošināšanai un priekšlikumiem neizlietotā finansējuma apguvei "
B3: SIA Rīgas 1.slimnīca | G3: novembris | H3: =H11+H13+H14+H22 -> 49508.76
G4: decembris | H4: =H24+H25 -> 3775.2
B6: Informācija par finanšu līdzekļu izlietojumu
B7: Plānotais finansējums | E7: Informācija par finanšu līdzekļu izlietojumu
B8: Pozīcijas nosaukums | C8: Skaits | D8: Plānotā summa (ar PVN), EUR | E8: Pavadzīme | I8: Maksājuma uzdevums | K8: Komentārs par izpildes progresu
E9: Pavadzīmes Nr. | F9: Datums | G9: Piegādātājs | H9: Summa ( ar PVN) EUR | I9: Nr. | J9: Summa
B10: KOPĀ, t.sk. | C10: =SUM(C11:C29) -> 686 | D10: =SUM(D11:D57) -> 1145387 | H10: =SUM(H11:H29) -> 53283.96 | J10: =SUM(J11:J29) -> 53283.96
A11: CV-NVD-F01 | B11: Slūžas 2 gab. | C11: 2 | D11: 6050 | E11: TEN131-21 | F11: 09.11.2021. | G11: TENTI LV SIA | H11: 6050 | I11: 3537 | J11: 6050 | K11: Iepirkums R1S2021/103-iep/COVID
A12: CV-NVD-F02 | B12: Skābekļa pievāds pie gultas | D12: 36300 | K12: Netiks īstenots
A13: CV-NVD-F03 | B13: Skābekļa līnijas paplašināšana | C13: 1 | D13: 36300 | E13: 835/2021 | F13: 05.11.2021. | G13: NMS ELPA SIA | H13: 38409.99 | I13: 3547 | J13: 38409.99 | K13: Līgums Nr. R1S-378/2021
A14: CV-NVD-F04 | B14: Māsu posteņa aizsardzība, 3 gab | C14: 3 | D14: 2541 | E14: TEN131-21 | F14: 09.11.2021. | G14: TENTI LV SIA | H14: 4077.7 | I14: 3537 | J14: 4077.7 | K14: Iepirkums R1S2021/103-iep/COVID
A15: CV-NVD-F05 | B15: Elektrības jaudas nodrošināšana | D15: 8168 | K15: Netiks īstenots
A16: CV-NVD-F06 | B16: Māsu izsaukumu sistēmas nomaiņa | D16: 72600 | K16: Netiks īstenots
A17: CV-NVD-F07 | B17: Nerūsējoša tērauda ratiņi ar ritenīšiem 50 gab | C17: 50 | D17: 9075 | K17: Netiks īstenots
A18: CV-NVD-F08 | B18: Higiēnisko priekšmetu mazgāšanas-dezinfekcijas iekārta. 2 gab | C18: 2 | D18: 14520 | K18: Netiks īstenots
A19: CV-NVD-F09 | B19: Aktīvais pretizgulējumu matracis. 10 gab | C19: 10 | D19: 12100 | K19: Netiks īstenots
A20: CV-NVD-F10 | B20: Pacienta transporta rati. 4 gab. | C20: 4 | D20: 9680 | K20: Netiks īstenots
A21: CV-NVD-F11 | B21: Video novērošana | D21: 1210 | K21: Netiks īstenots
A22: CV-NVD-F12 | B22: Video ieraksta servera dators | C22: 1 | D22: 1452 | E22: MSR130119 | F22: 09.11.2021. | G22: Multisistēma Rīga SIA | H22: 971.07 | I22: 3504 | J22: 971.07 | K22: Iepirkums R1S2021/99-iep/COVID
A23: CV-NVD-F13 | B23: Palātu / Pacientu informatīvais sienas monitors (māsu postenis) | C23: 2 | D23: 2420 | K23: Netiks īstenots
A24: CV-NVD-F14 | B24: Spilvens | C24: 240 | D24: 5808 | E24: KAT21296 | F24: 20.12.2021. | G24: Katūns SIA | H24: 1306.8 | I24: 3950 | J24: 1306.8 | K24: Saruna procedūra R1S 2021/104-IEP/COVID
A25: CV-NVD-F15 | B25: Sega | C25: 240 | D25: 14520 | E25: KAT21296 | F25: 20.12.2021. | G25: Katūns SIA | H25: 2468.4 | I25: 3950 | J25: 2468.4 | K25: Saruna procedūra R1S 2021/104-IEP/COVID
A26: CV-NVD-F16 | B26: Matraču aizsargs 120 | C26: 120 | D26: 4356 | K26: Netiks īstenots
A27: CV-NVD-F17 | B27: Dušas guļrati 1 gab | C27: 1 | D27: 3025 | K27: Netiks īstenots
A28: CV-NVD-F18 | B28: Slīddēlis, 4 | C28: 4 | D28: 726 | K28: Netiks īstenots
A29: CV-NVD-F19 | B29: Galvas mazgašanas vanna, 6 gab | C29: 6 | D29: 726 | K29: Netiks īstenots
A30: CV-NVD-F20 | B30: Teleskopiskais aizslietnis, 20 | C30: 20 | D30: 14520 | K30: Netiks īstenots
A31: CV-NVD-F21 | B31: Noliktavas plaukti, 50 | C31: 50 | D31: 6050 | K31: Netiks īstenots
A32: CV-NVD-F22 | B32: Aprūpes rati, 4 | C32: 4 | D32: 2904 | K32: Netiks īstenots
A33: CV-NVD-F23 | B33: Padubes mašīna, 2 gab | C33: 2 | D33: 14520 | K33: Netiks īstenots
A34: CV-NVD-F24 | B34: Mazgāšanas rati, 15 | C34: 15 | D34: 6353 | K34: Netiks īstenots
A35: CV-NVD-F25 | B35: Miskastes ar pedāli, 100 | C35: 100 | D35: 3630 | K35: Netiks īstenots
A36: CV-NVD-F26 | B36: Ēdiena transporta rati, 4 gab. | C36: 4 | D36: 2904 | K36: Netiks īstenots
A37: CV-NVD-F27 | B37: Transporta MPV iekārtas 2 gab | C37: 2 | D37: 53240 | K37: Netiks īstenots
... A52: CV-NVD-F42 | B52: Pacientu skapīši 140 gab. | C52: 140 | D52: 59290 | K52: Netiks īstenots
A53: CV-NVD-F43 | B53: Fizioterapijas piederumi | D53: 12100 | K53: Netiks īstenots
A54: CV-NVD-F44 | B54: Līķu rati | D54: 4840 | K54: Netiks īstenots
A55: CV-NVD-F45 | B55: Ledusskapis med.uzglabāšanai 4 gab | C55: 4 | D55: 7260 | K55: Netiks īstenots
...

Sheet R.2.sl_02_799
J1: 1.3.pielikums
A2: SIA "Rīgas 2.slimnīca" | J2: Informatīvajam ziņojumam "Par paveikto veselības aprūpes sistēmas papildus kapacitātes stiprināšanai Covid-19 pacientu ārstēšanas nodrošināšanai un priekšlikumiem neizlietotā finansējuma apguvei "
F3: oktobris-decembris | G3: =G13+G14+G29+G30+G31+G60+G64+G65+G67+G68+G70+G71+G72+G73+G75+G76+G77+G78+G79+G80+G81+G83+G15 -> 34714.6
F4: janvāris | G4: =G18+G19+G22+G23+G59 -> 188058.2
F5: februāris | G5: =G16+G20+G24+G35+G40+G41+G44+G45+G46+G51+G54+G55+G56+G58+G62+G63+G86 -> 474509.13
A6: Informācija par finanšu līdzekļu izlietojumu
A7: Plānotais finansējums | D7: Informācija par finanšu līdzekļu izlietojumu
A8: Pozīcijas nosaukums | B8: Skaits | C8: Plānotā summa (ar PVN), EUR | D8: Pavadzīme | H8: Maksājuma uzdevums | J8: Komentārs par izpildes progresu
D9: Pavadzīmes Nr. | E9: Datums | F9: Piegādātājs | G9: Summa ( ar PVN) EUR | H9: Nr. | I9: Summa
A10: KOPĀ, t.sk. | C10: =SUM(C12:C86) -> 1129872.4 | G10: =SUM(G13:G86) -> 697281.93 | I10: =SUM(I13:I86) -> 697281.93
A11: 1. Ieguldījumi infrastruktūrā un ēkas tehniskajā nodrošinājumā
A12: 1.1. punkts. Starpsienu montāžas un izbūves darbi: | B12: 5 | C12: 7500
A13: Aizkari ar rāvējslēdzēju aprūpes vajadzībām | B13: 1 | D13: 25.10.2021. | E13: 25.10.2021. | F13: Stalve | G13: 364.34 | H13: 21-03553 | I13: 364.34
A14: Aizkari ar rāvējslēdzēju aprūpes vajadzībām | B14: 14 | D14: 04.11.2021. | E14: 04.11.2021. | F14: Stalve | G14: 3084.12 | H14: 21-03557 | I14: 3084.12
A15: Aizkari ar rāvējslēdzēju aprūpes vajadzībām | B15: 1 | D15: 30.12.2021. | E15: 30.12.2021. | F15: Stalve | G15: 337.47 | H15: 22-00268 | I15: 337.47
B16: 1 | D16: 397209521 | E16: 14.02.2022. | F16: K Senukai | G16: 47.51 | H16: 22-00632 | I16: 47.51 | J16: Izdevumi materiālu iegādei priekš 4.nodaļas aizkaru/slūžu uzstādīšanas pabeigšanas
A17: 2. Medicīnas iekārtas un aprīkojums
A18: 2.1. Monitors pacientu vitālo funkciju novērošanas ar ratiem | B18: 24 | C18: 180048 | D18: TR 220008 | E18: 06.01.2022. | F18: TRADINTEK SIA | G18: 79279.2 | H18: 22-00269 | I18: 79279.2
A19: 2.2. Neinvazīva mākslīgās plaušas ventilācijas iekārta | B19: 4 | C19: 72600 | D19: GRAINLV245 | E19: 25.01.2022. | F19: UAB GRAINA LATVIA filiāle | G19: 77440 | H19: 22-00271 | I19: 77440
A20: 2.3. Mobīla palātas digitāla rentgena iekārta | B20: 1 | C20: 114950 | D20: ARB 200851 | E20: 24.02.2022. | F20: SIA "Arbor Medical Korporācija" | G20: 77682 | H20: 22-00637 | I20: 77682 | J20: Līgums 275/2021
A21: 2.5. Defibrilātors | B21: 5 | C21: 59290 | F21: „TRADINTEK” SIA | J21: Izsludināts sarunu procedūrā “Medicīnas iekārtu piegāde“ (Iepirkuma identifikācijas Nr. Rīgas 2.slimnīca 2021/23 SP), ir noslēgti iepirkuma līgumi Nr. 275/2021 un 277/2021, plānotie piegādes termiņi ne ilgāk kā 60 (sešdesmit) dienu laikā defibrilātoriem no Līguma spēkā stāšanās dienas.
A22: 2.6. Perfūzijas sūknis | B22: 30 | C22: 32250 | D22: TR 220009 | E22: 11.01.2022. | F22: TRADINTEK SIA | G22: =12140*0.21+12140 -> 14689.4 | H22: 22-00270 | I22: 25531
A23: 2.7. Infūzijas sūknis | B23: 14 | C23: 18634 | G23: =9600*0.21+9600-774.4 -> 10841.6
A24: 2.8. Portatīvs pulsa oksimetrs | B24: 60 | C24: 54450 | D24: ABMG 220269 | E24: 17.02.2022. | F24: Sabiedrība ar ierobežotu atbildību "AB MEDICAL GROUP RIGA" | G24: 36245.55 | H24: 22-00641 | I24: 36245.55 | J24: Līgums 276/2021
A25: 2.9. Enterālās barošanas sūknis | B25: 5 | C25: 4915 | J25: Iespējamie piegādes veicēji nespēj iekļauties noteiktajā piegādes termiņā. Vēlams piegādes termiņa pagarinājums aptuveni 2 mēneši.
A26: 2.10. Krūšu kurvja portatīvā vakuuma iekārta | B26: 5 | C26: 6655 | J26: Izsludināts iepirkums Publisko iepirkumu likuma 9. panta kārtībā „Krūšu kurvja drenāžas sistēmu iegāde” (id. Nr. SIA „Rīgas 2.slimnīca” 2022/3), kur atvēršana bija 21.02.2022.
A27: 2.11. Videolaringoskops | B27: 2 | C27: 21780 | F27: „TRADINTEK” SIA | J27: Izsludināts sarunu procedūrā “Medicīnas iekārtu piegāde“ (Iepirkuma identifikācijas Nr. Rīgas 2.slimnīca 2021/23 SP), ir noslēgts iepirkuma līgums Nr. 277/2021, plānotie piegādes termiņi 90 (deviņdesmit) dienu laikā no Līguma spēkā stāšanās dienas. 16.02. tika saņemts atteikums no piegādātāju puses, steidzami tiek meklēts alternatīvs risinājums.
A28: 2.12. punkts. Bezkontakta termometrs: | B28: 60 | C28: 2100
A29: Infrasarkanie termometri | B29: 40 | D29: MMD 764518 | E29: 08.11.2021. | F29: Magnum medical | G29: 1484.91 | H29: 21-03559 | I29: 1484.91
A30: Infrasarkanie termometri | B30: 20 | D30: MMD 764520 | E30: 08.11.2021. | F30: Magnum medical | G30: 742.46 | H30: 21-03560 | I30: 742.46
A31: 2.13. punkts. Pulsoksitometrs, pirksta, portatīvs | B31: 44 | C31: 1320 | D31: ARB 116127 | E31: 03.11.2021. | F31: Arbor Medical Korporācija | G31: 2395.8 | H31: 21-03555 | I31: 2395.8
A32: 2.14. Elektrokardiogrāfs, mobils ar DICOM funkciju (WiFe) | B32: 4 | C32: 14520 | F32: Sabiedrība ar ierobežotu atbildību "NMS ELPA" | J32: Izsludināts sarunu procedūrā “Medicīnas iekārtu piegāde“ (Iepirkuma identifikācijas Nr. Rīgas 2.slimnīca 2021/23 SP), plānots noslēgt iepirkuma līgumu līdz 07.01.2022., plānotie piegādes termiņi 4 (četru) nedēļu laikā no Līguma spēkā stāšanās dienas.
A33: 2.15. Skābekļa mitrinātāja trauks ar dozimetru | B33: 15 | C33: 1611.15 | J33: Saņemti 10 gab, pagaidām nav iespējams pasūtīt, jo vairāk uz doto brīdi nav pedāvājumā
A34: 3. Ar pacientu aprūpi saistītās nepieciešamās iekārtas un aprīkojums
A35: 3.1. Gulta pacientu, funkcionāla, elektriska | B35: 70 | C35: 152460 | D35: ARB 119303 | E35: 24.01.2022. | F35: Arbor Medical Korporācija | G35: 228690 | H35: 22-00629 | I35: 228690 | J35: Līgums 280/2021
A36: 3.2. Pacienta nakts skapītis vismaz ar 2 atvilknēm un papildus paceļamu funkcionālu ēdināšanas dēli | B36: 70 | C36: 38115 | F36: SIA "Arbor Medical Korporācija" | J36: Izsludināts sarunu procedūrā “Covid-19 pacientu aprūpei nepieciešamā aprīkojuma piegāde“ (Iepirkuma identifikācijas Nr. Rīgas 2.slimnīca 2021/24 SP), ir noslēgti iepirkuma līgumi Nr. 281/2021, plānots noslēgt pēdējo iepirkuma līgumu līdz 07.01.2022., plānotie piegādes termiņi ne ilgāk kā 15 (piecpadsmit) dienu laikā pacientu funkconālajām gultām un aktīvajiem pretizgulējumu matračiem, 45 (četrdesmit piecu) dienu laikā pacientu piederumu skapīšiem, kušetēm un pacientu guļratiem, 3 (trīs) nedēļu laikā
A37: 3.4. Kušete, hidrauliskas ar augstuma regulāciju | B37: 7 | C37: 18214
A38: 3.5. Guļrati uzņemšanai | B38: 2 | C38: 6050
A39: 3.6. Pacienta guļrati nodaļai | B39: 5 | C39: 11495
A40: 3.7. Pretizgulējumu matracis | B40: 74 | C40: 23880.54 | D40: ELPA 023547 | E40: 25.02.2022. | F40: Sabiedrība ar ierobežotu atbildību "NMS ELPA" | G40: 11729.74 | H40: 22-00639 | I40: 11729.74 | J40: Līgums 281/2021
...

Sheet Rēzekne_2021_799
H1: 1.4.pielikums
H2: Informatīvajam ziņojumam "Par paveikto veselības aprūpes sistēmas papildus kapacitātes stiprināšanai Covid-19 pacientu ārstēšanas nodrošināšanai un priekšlikumiem neizlietotā finansējuma apguvei "
A3: Sabiedrība ar ierobežotu atbildību "RĒZEKNES SLIMNĪCA" | F3: iekārtas sadārdzinājums | G3: =G9-I9 -> 49075
D5: Informācija par finanšu līdzekļu izlietojumu
A6: Medicīniskā iekārta/papildaprīkojums | B6: Skaits | C6: Plānotā summa (ar PVN), EUR | D6: Pavadzīme | H6: Maksājuma uzdevums
D7: Pavadzīmes Nr. | E7: Datums | F7: Piegādātājs | G7: Summa (ar PVN) EUR | H7: Nr. | I7: Summa
A8: x | D8: x | E8: x | F8: x | G8: =SUM(G9:G9) -> 775924.6 | H8: x | I8: =SUM(I9:I9) -> 726849.6
A9: Datortomogrāfs (sadārdzinājuma segšanai) | B9: 1 | C9: 49075 | D9: ARB 116177 | E9: 01.11.2021. | F9: SIA "Arbor Medical Korporācija", reģ. Nr. 40003547099 | G9: 775924.6 | H9: 650 | I9: =775924.6-49075 -> 726849.6
A12: Avansā izmaksāts 2021.gadā | B12: =G3 -> 49075
A14: Faktiski apgūts finansējums 2021. gadā | B14: =G3 -> 49075
A15: Papildus nepieciešams finansējums 2022. gadā (2021. gadā uzsākto pasākumu norēķiniem) | B15: =B12-B14 -> 0

Sheet Rēzekn_2022_799
J1: 1.5.pielikums
A2: Sabiedrība ar ierobežotu atbildību "RĒZEKNES SLIMNĪCA" | J2: Informatīvajam ziņojumam "Par paveikto veselības aprūpes sistēmas papildus kapacitātes stiprināšanai Covid-19 pacientu ārstēšanas nodrošināšanai un priekšlikumiem neizlietotā finansējuma apguvei "
F3: janvāris | G3: =G22+G30 -> 256205.4
F4: februāris | G4: =G12+G14+G15+G16+G19+G20+G21+G23+G24+G25+G26+G27+G28+G29+G31+G32 -> 329373.5
A5: Informācija par finanšu līdzekļu izlietojumu
A6: Plānotais finansējums | D6: Informācija par finanšu līdzekļu izlietojumu
A7: Pozīcijas nosaukums | B7: Skaits | C7: Plānotā summa (ar PVN), EUR | D7: Pavadzīme | H7: Maksājuma uzdevums | J7: Komentārs par izpildes progresu
D8: Pavadzīmes Nr. | E8: Datums | F8: Piegādātājs | G8: Summa ( ar PVN) EUR | H8: Nr. | I8: Summa
A9: KOPĀ, t.sk. | B9: =SUM(B10:B32) -> 127 | C9: =SUM(C10:C31) -> 1190485 | G9: =SUM(G10:G32) -> 585578.9 | I9: =SUM(I10:I32) -> 585578.9
A10: Sašķidrinātā medicīniskā skābekļa uzglabāšanas tvertne | B10: 1 | C10: 127413 | J10: Pasākuma realizēšana netiks veikta.
A11: Iztvaicētājs | B11: 1 | C11: 5348 | J11: Pasākuma realizēšana netiks veikta.
A12: Plūsmas mērītāju komplekts | B12: 1 | C12: 18876 | D12: Rēķins 6721936885 | E12: 18.02.2022. | F12: Linde Gas SIA, reģ. Nr. 40003068518 | G12: 12971.2 | H12: 7 | I12: 12971.2 | J12: Iepirkuma līgums Nr. RS 2022/15 noslēgts 25.01.2022. Līgums izpildīts
A13: Iekšējās medicīniskā skābekļa apgādes sistēmas atjaunošana | B13: 1 | C13: 241143 | F13: Sabiedrība ar ierobežotu atbildību "NMS ELPA", reģ. 40003348336 | J13: 16.02.2022. Veselības ministrijai iesniegts lūgums pagarināt darbības izpildes termiņu, kas pamatots ar objektīviem, no ārstniecības iestādes neatkarīgiem apstākļiem
A14: Skābekļa padeves sistēmas kapacitātes palielināšana un modernizēšana, t.sk. centrāle ar sms modeli, stabilizācijas bloks, un izejas kolektors | B14: 1 | C14: 39325 | D14: Rēķins 6721936884 | E14: 18.02.2022. | F14: Linde Gas SIA, reģ. Nr. 40003068518 | G14: 44953.92 | H14: 6 | I14: 44953.92 | J14: Iepirkuma līgums Nr. RS 2022/16 noslēgts 25.01.2022. Līgums izpildīts
A15: Risinājums medicīniskā skābekļa kontūru segmentēšanai (noplūžu fiksēšanai) | B15: 1 | C15: 30615 | D15: Rēķins 67219379 22/02/051OPT | E15: 25.02.2022. 28.02.2022. | F15: Linde Gas SIA, reģ. Nr. 40003068518; Sabiedrība ar ierobežotu atbildību "OptiCom", 40003231409 | G15: =SUM(2371.6+20846.73) -> 23218.33 | H15: 8; 17 | I15: =SUM(2371.6+20846.73) -> 23218.33 | J15: Iepirkuma līgums Nr. RS 2022/19/1 noslēgts 04.02.2022. Līgums izpildīts Iepirkuma līgums Nr. RS 2022/19 noslēgts 04.02.2022. Līgums izpildīts
A16: Viena punkta rezerves barošana ar platformu | B16: 2 | C16: 25168 | D16: VEL180222/8 | E16: 18.02.2022. | F16: Sabiedrība ar ierobežotu atbildību "Velasco", reģ. Nr. 40203232892 | G16: 6916.41 | H16: 12, 15 | I16: 6916.41 | J16: Iepirkuma līgums Nr. RS 2022/14 noslēgts 28.01.2022. Līgums izpildīts
A17: Medicīniskā saspiestā gaisa apgādes sistēmas atjaunošana | B17: 1 | C17: 108216 | F17: Sabiedrība ar ierobežotu atbildību "NMS ELPA", reģ. 40003348336 | J17: Veselības ministrijai iesniegts lūgums pagarināt darbības izpildes termiņu, kas pamatots ar objektīviem, no ārstniecības iestādes neatkarīgiem apstākļiem
A18: Risinājums medicīniskā saspiestā gaisa kontūru segmentēšanai (noplūžu fiksēšanai) | B18: 1 | C18: 30615 | J18: Pasākuma realizēšana netiks veikta.
A19: Funkcionālā pacientu gulta | B19: 25 | C19: 189069 | D19: ABMG 220321 | E19: 24.02.2022. | F19: Sabiedrība ar ierobežotu atbildību "AB MEDICAL GROUP RIGA", reģ. Nr. 40003373297 | G19: 121312.18 | H19: 2 | I19: 121312.18 | J19: Iepirkuma līgums Nr. RS 2022/1 noslēgts 26.01.2022. Līgums izpildīts
A20: Pretizgulējumu matracis | B20: 25 | C20: 52042 | D20: ELPA 023528 | E20: 23.02.2022. | F20: Sabiedrība ar ierobežotu atbildību "NMS ELPA", reģ. 40003348336 | G20: 5868.5 | H20: 10 | I20: 5868.5 | J20: Iepirkuma līgums Nr. RS 2022/2 noslēgts 25.01.2022. Līgums izpildīts
A21: Nieru aizstājējterapijas iekārta | B21: 1 | C21: 26597 | D21: 304646 BLV | E21: 17.02.2022. | F21: Sabiedrība ar ierobežotu atbildību "B.BRAUN MEDICAL", reģ.Nr.40003277955 | G21: 49796.05 | H21: 294 | I21: 49796.05 | J21: Iepirkuma līgums Nr. RS 2022/3 noslēgts 25.01.2022. Līgums izpildīts
A22: Mākslīgā plaušu ventilācijas iekārta | B22: 7 | C22: 245000 | D22: ARB 119306 ARB 200497 | E22: 31.01.2022. 15.02.2022. | F22: SIA "Arbor Medical Korporācija", reģ. Nr. 40003547099 | G22: 232925 | H22: 81 | I22: 232925 | J22: Iepirkuma līgums Nr. RS 2022/4 noslēgts 28.01.2022. Līgums izpildīts. Noslēgta vienošanās par grozījumiem līgumā.
G23: 13975.5 | H23: 114 | I23: 13975.5
A24: Pacientu skapīši | B24: 25 | C24: 10648 | D24: ELPA 023555 | E24: 23.02.2022. | F24: Sabiedrība ar ierobežotu atbildību "NMS ELPA", reģ. 40003348336 | G24: 10617.75 | H24: 16 | I24: 10617.75 | J24: Iepirkuma līgums Nr. RS 2022/5 noslēgts 26.01.2022. Līgums izpildīts
A25: Pulsa oksimetri | B25: 20 | C25: 772 | D25: ARB 200218 | E25: 08.02.2022. | F25: SIA "Arbor Medical Korporācija", reģ. Nr. 40003547099 | G25: 605 | H25: 113 | I25: 605 | J25: Iepirkuma līgums Nr. RS 2022/6 noslēgts 21.01.2022. Līgums izpildīts
A26: Šībermašīna | B26: 1 | C26: 12645 | D26: ABMG 220270 | E26: 17.02.2022. | F26: Sabiedrība ar ierobežotu atbildību "AB MEDICAL GROUP RIGA", reģ. Nr. 40003373297 | G26: 12069.75 | H26: 1 | I26: 12069.75 | J26: Iepirkuma līgums Nr. RS 2022/7 noslēgts 20.01.2022. Līgums izpildīts
A27: Sēžamrati | B27: 5 | C27: 1026 | D27: ELPA 023440 | E27: 14.02.2022. | F27: Sabiedrība ar ierobežotu atbildību "NMS ELPA", reģ. 40003348336 | G27: 1827.1 | H27: 175 | I27: 1827.1 | J27: Iepirkuma līgums Nr. RS 2022/8 noslēgts 25.01.2022. Līgums izpildīts
A28: Pacientu transportēšanas guļrati | B28: 2 | C28: 6655 | D28: ABMG 220322 | E28: 24.02.2022. | F28: Sabiedrība ar ierobežotu atbildību "AB MEDICAL GROUP RIGA", reģ. Nr. 40003373297 | G28: 6413 | H28: 3 | I28: 6413 | J28: Iepirkuma līgums Nr. RS 2022/9 noslēgts 20.01.2022. Līgums izpildīts
A29: Portatīvās tualetes | B29: 3 | C29: 515 | D29: ELPA 023439 | E29: 14.02.2022. | F29: Sabiedrība ar ierobežotu atbildību "NMS ELPA", reģ. 40003348336 | G29: 606.21 | H29: 176 | I29: 606.21 | J29: Iepirkuma līgums Nr. RS 2022/10 noslēgts 25.01.2022. Līgums izpildīts
A30: Ūdeņraža peroksīda miglotājs | B30: 1 | C30: 9380 | D30: AMR-00775 | E30: 28.01.2022. | F30: Sabiedrība ar ierobežotu atbildību "Amrid", reģ. Nr. 40103271732 | G30: 23280.4 | H30: 37 | I30: 23280.4 | J30: Izpildīts
A31: Portatīvā gaisa un telpu attīrīšanas iekārta | B31: 1 | C31: 9417 | D31: JIM 021729 | E31: 22.02.2022. | F31: SIA "J.I.M.", reģ. Nr. 40003191695 | G31: 13594.35 | H31: 5 | I31: 13594.35 | J31: Iepirkuma līgums Nr. RS 2022/12 noslēgts 25.01.2022. Līgums izpildīts
A32: Portatīvais elektrokardiogrāfs | B32: 1 | C32: 5091 | D32: ARB 200646 | E32: 28.02.2022. | F32: SIA "Arbor Medical Korporācija", reģ. Nr. 40003547099 | G32: 4628.25 | H32: 4 | I32: 4628.25 | J32: Iepirkuma līgums Nr. RS 2022/13 noslēgts 09.02.2022. Līgums izpildīts
A35: Iezīmēts finansējums 2022. gadam | B35: =C9 -> 1190485

Sheet Jelg_799
J1: 1.6.pielikums
J2: Informatīvajam ziņojumam "Par paveikto veselības aprūpes sistēmas papildus kapacitātes stiprināšanai Covid-19 pacientu ārstēšanas nodrošināšanai un priekšlikumiem neizlietotā finansējuma apguvei "
A3: SIA " Jelgavas pilsētas slimnīca" | F3: novembris | G3: =G11+G21+G28+G30 -> 34818.96
F4: decembris | G4: =G22+G24+G26+G29+G32+G31 -> 139065.3
F5: februāris | G5: =G27 -> 14883
A6: Informācija par finanšu līdzekļu izlietojumu
A7: Plānotais finansējums | D7: Informācija par finanšu līdzekļu izlietojumu
A8: Pozīcijas nosaukums | B8: Skaits | C8: Plānotā summa (ar PVN), EUR | D8: Pavadzīme | H8: Maksājuma uzdevums | J8: Komentārs par izpildes progresu
D9: Pavadzīmes Nr. | E9: Datums | F9: Piegādātājs | G9: Summa ( ar PVN) EUR | H9: Nr. | I9: Summa
A10: KOPĀ, t.sk. | B10: =SUM(B11:B32) -> 79 | C10: =SUM(C11:C36) -> 1797197 | G10: =SUM(G11:G36) -> 188767.26 | I10: =SUM(I11:I36) -> 188767.26
A11: Mediciniskā skābekļa automātiskas pārslēgšanas stacija aprikota ar LCD ekranu, SMS moduli. Darba jauda 50 m3/h | B11: 1 | C11: 10648 | D11: 6721898937 | E11: 30.11.2021. | F11: SIA " Linde Gas" | G11: 23505.46 | H11: 2584 | I11: 23505.46 | J11: Iegādāts
A12: Dublējošās avārijas apgādes ar medicīnisko skābekli remontdarbi, montāža un izbūve (60 m) | B12: 1 | C12: 12857
A13: Skābekļa koncentrators (Skābekļa ražošanas iekārtu piegāde un uzstādīšana) ar ražību 15 Nm3/h, glabāšanas konteiners | B13: 1 | C13: 65195 | G13: 0 | I13: 0 | J13: Neiegādāsimies
A14: Skābekļa saišķu uzglabāšanas nojumes izbūve | B14: 1 | C14: 8470 | G14: 0 | I14: 0 | J14: Neiegādāsimies
A15: Astoņu pacientu novērošanas centrālā darba stacija intensīvās terapijas pacientiem un 8 pacientu novērošanas monitori | B15: 1 | C15: 160301 | J15: Līgums Nr 1-22/14/2022. 17.01.2022. SIA " A.Medical"
A16: Specializētas intensīvās terapijas gultas | B16: 8 | C16: 38720 | J16: Līgums 1-22/12/2022 14.01.2022. SIAS " Tradintek"
A17: Intensīvās terapijas gultu aktīvie pretzigulējumu matrači | B17: 8 | C17: 22748 | J17: Līgums Nr. 1-22/13/2022. 17.01.2022. SIA " Arbor Medical Korporācija"
A18: Nieru aiztājējterapijas iekārta (intensīvās terapijas pacientiem) | B18: 1 | C18: 30250 | J18: Līgums Nr. 1-22/15/2022. 17.01.2022. SIA " Baltijas dialīzes Serviss"
A19: Datortomogrāfs (64-slāņu) | B19: 1 | C19: 726000 | J19: Līgums Nr. 1-22/96/2021, 08.12.2021. SIA "Tradinteks"
A20: Videolaringoskops (intensīvās terapijas pacientiem) | B20: 1 | C20: 15730 | J20: Netika iesniegts neviens piedāvājums
A21: Defibrilators | B21: 1 | C21: 6050 | D21: 116739 | E21: 15.11.2021. | F21: SIA Arbor Medical Korporācija" | G21: 5892.7 | H21: 2582 | I21: 5892.7 | J21: Iegādāts
A22: Medicīniskie attēlu apskates monitori | B22: 2 | C22: 3630 | D22: 211200326 | E22: 44546 | F22: SIA " A.Medical" | G22: 2904 | H22: 2712 | I22: 2904 | J22: Iegādāts
A23: Stacionārais RTG aparāts Radioloģijas nodaļā COVID pacientu izmeklēšanai | B23: 1 | C23: 242000 | J23: Līgums Nr. 1-22/16/2022. 14.01.2022. SIA " Siemens Healcare Oy Latvijas filiāle. Līguma pagarinājums līdz 2022.gada 29.aprīlim
A24: Digitālā palātas RTG iekārta Covid nodaļai | B24: 1 | C24: 78650 | D24: 118105 | E24: 22.12.2021. | F24: SIA " Arbor Medical Korporācija" | G24: 78650 | H24: 2714 | I24: 78650 | J24: Iegādāts
A25: Pacientu skapīši (COVID nodaļa) | B25: 35 | C25: 27528 | J25: Līgums Nr. 1-22/13/2022. 17.01.2022. SIA " Arbor Medical Korporācija"
A26: Portatīva ultrasonogrāfijas iekārta (Uzņemšanas nodaāli, COVID nodaļai) | B26: 1 | C26: 36300 | D26: 210208 | E26: 16.12.2021. | F26: SIA Tradinteks" | G26: 36251.6 | H26: 2713 | I26: 36251.6 | J26: Iegādāts
A27: Tvaika tīrīšanas un dezinfekcijas iekārta | B27: 2 | C27: 14036 | D27: 782 | E27: 10.02.2022. | F27: SIA " Amrid" | G27: 14883 | H27: 360 | I27: 14883 | J27: Līgums Nr. 1-22/17/2022. 14.01.2022. SIA " Amrid" , piegādāts
A28: Kardiogrāfs ar statīvu COVID nodaļai | B28: 1 | C28: 3630 | D28: 22866 | E28: 30.11.2021. | F28: SIA " NMS Elpa" | G28: 3351.7 | H28: 2581 | I28: 3351.7 | J28: Iegādāts
A29: Statīvs kardiogrāfam COVID nodaļai | B29: 1 | C29: 1029 | D29: 22913 | E29: 07.12.2021. | F29: SIA " NMS ELPA" | G29: 992.2 | H29: 2579 | I29: 992.2 | J29: Iegādāts
A30: Vakuumsūkņi ar statīvu COVID nodaļai | B30: 2 | C30: 2904 | D30: 22865 | E30: 30.11.2021. | F30: SIA " NMS Elpa" | G30: 2069.1 | H30: 2580 | I30: 2069.1 | J30: Iegādāts
A31: Augstas plūsmas skābekļa terapijas iekārta | B31: 3 | C31: 9438 | D31: 23075 | E31: 23.12.2021. | F31: SIA " NMS Elpa" | G31: 9619.5 | H31: 2718 | I31: 9619.5 | J31: Iegādāts
A32: Guļrati (Uzņemšanas nodala, pacientu transportēšanai) | B32: 5 | C32: 13915 | D32: 22907 | E32: 06.12.2021. | F32: SIA " NMS Elpa" | G32: 10648 | H32: 2583 | I32: 10648 | J32: Iegādāts
A33: Stacionārais USG aparāts COVID pacientu izmeklēšanai | B33: 1 | C33: 151250 | J33: Līgums Nr. 1-22/14/2022.17.01.2022.. SIA " A.Medical"
A34: Piekļuves kontroles sistēma slimnīcai | B34: 1 | C34: 54450 | J34: Līgums Nr. 1-22/7/2022 13.01.2022. SIA " Rears"
A35: Specializētas intensīvās terapijas gultas | B35: 8 | C35: 38720 | J35: Līgums 1-22/12/2022 14.01.2022. SIAS " Tradintek"
A36: Intensīvās terapijas gultu aktīvie pretzigulējumu matrači | B36: 8 | C36: 22748 | J36: Līgums Nr. 1-22/13/2022. 17.01.2022. SIA " Arbor Medical Korporācija"
A39: Avansā izmaksāts 2021.gadā | B39: 175421
A41: Faktiski apgūts finansējums 2021. gadā | B41: =G3+G4 -> 173884.26
A42: Papildus nepieciešams finansējums 2022. gadā (2021. gadā uzsākto pasākumu norēķiniem) | B42: 0
A43: Iezīmēts finansējums 2022. gadam | B43: =Kopsavilkums!E12 -> 1621775

Sheet Ziemeļkurz_799
J1: 1.7.pielikums
A2: SIA "Ziemeļkurzemes reģionālā slimnīca" | J2: Informatīvajam ziņojumam "Par paveikto veselības aprūpes sistēmas papildus kapacitātes stiprināšanai Covid-19 pacientu ārstēšanas nodrošināšanai un priekšlikumiem neizlietotā finansējuma apguvei "
F3: novembris | G3: =G11+G12 -> 58776.96
F4: decembris | G4: =G13+G14 -> 24478.3
A6: Informācija par finanšu līdzekļu izlietojumu
A7: Plānotais finansējums | D7: Informācija par finanšu līdzekļu izlietojumu
A8: Pozīcijas nosaukums | B8: Skaits | C8: Plānotā summa (ar PVN), EUR | D8: Pavadzīme | H8: Maksājuma uzdevums | J8: Komentārs par izpildes progresu
D9: Pavadzīmes Nr. | E9: Datums | F9: Piegādātājs | G9: Summa ( ar PVN) EUR | H9: Nr. | I9: Summa
A10: KOPĀ, t.sk. | B10: =SUM(B11:B14) -> 10 | C10: =SUM(C11:C14) -> 84000 | G10: =SUM(G11:G14) -> 83255.26 | I10: =SUM(I11:I14) -> 83255.26
A11: Augstas plūsmas skābekļa terapijas iekārtas | B11: 8 | C11: 60000 | D11: ABMG 212153 | E11: 44509 | F11: SIA "AB Medical Group Riga" | G11: 29040 | H11: 4532 | I11: 29040 | J11: Izpildīts
D12: ABMG 212177 | E12: 44516 | F12: SIA "AB Medical Group Riga" | G12: 29736.96 | H12: 1488 | I12: 29736.96 | J12: Izpildīts
A13: Defibrilators | B13: 1 | C13: 21000 | D13: ABTK 213451 | E13: 44544 | F13: SIA "Amerikas Baltijas tehnoloģiju korporācija" | G13: 21598.5 | H13: 29 | I13: 21598.5 | J13: Izpildīts
A14: Sevoflurāna iztvaikotājs anestēzijas iekārtai | B14: 1 | C14: 3000 | D14: AM211200125 | E14: 44537 | F14: SIA "A Medical" | G14: 2879.8 | H14: 4857 | I14: 2879.8 | J14: Izpildīts
A17: Avansā izmaksāts 2021.gadā | B17: 63000
A19: Faktiski apgūts finansējums 2021. gadā | B19: 63000
A20: Iezīmēts finansējums 2022. gadam | B20: 21000

Sheet Vidzem_899
J1: 1.8.pielikums
J2: Informatīvajam ziņojumam "Par paveikto veselības aprūpes sistēmas papildus kapacitātes stiprināšanai Covid-19 pacientu ārstēšanas nodrošināšanai un priekšlikumiem neizlietotā finansējuma apguvei "
A3: SIA "Vidzemes slimnīca" | D3: izpildīts | F3: oktobris | G3: =G13+G31+G18+G35 -> 15684.02
D4: daļēji izpildīts | F4: novembris | G4: =G16+G19+G25+G32 -> 43557.58
D5: jaunākie rēķini | F5: decembris | G5: =G17+G30 -> 21845.34
F6: janvāris | G6: =G33 -> 3303.3
A8: Informācija par finanšu līdzekļu izlietojumu (līgums Nr. VS/2021-395 )
A9: Plānotais finansējums | D9: Informācija par finanšu līdzekļu izlietojumu
A10: Pozīcijas nosaukums | B10: Skaits | C10: Plānotā summa (ar PVN), EUR | D10: Pavadzīme | H10: Maksājuma uzdevums | J10: Komentārs par izpildes progresu
D11: Pavadzīmes Nr. | E11: Datums | F11: Piegādātājs | G11: Summa ( ar PVN) EUR | H11: Nr. | I11: Summa
A12: KOPĀ, t.sk. | B12: =SUM(B13:B35) -> 332 | C12: =SUM(C13:C35) -> 570200 | G12: =SUM(G13:G35) -> 84390.24 | I12: =SUM(I13:I35) -> 83549.82
A13: Aktīvie pretizgulējumu matrači | B13: 16 | C13: 16000 | D13: S01816 | E13: 21.10.2021. | F13: UAB Slaugivita | G13: 4842.42 | H13: 21-05721 | I13: 4002 | J13: 6 gab. aktīvie pretizgulējumu matrači iegādāti. Pozīcija izpildīta daļēji, tiks organizēts papildus iepirkums. Plānotais iepirkuma izsludināšanas termiņš - februāris/marts. Iespējamais piegādes termiņš - maijs/jūnijs.
A14: Pacientu novērošanas monitori | B14: 30 | C14: 120000 | J14: Līgums noslēgts, gaidām piegādi.
A15: Perfūzijas sūkņi | B15: 40 | C15: 48000 | J15: Līgums noslēgts, gaidām piegādi.
A16: Mākslīgā plaušu ventilācijas iekārta | B16: 5 | C16: 75000 | D16: ARB 116357 | E16: 04.11.2021. | F16: SIA Arbor Medical Korporācija | G16: 9377.5 | H16: 21-06561 | I16: 9377.5 | J16: Iegādāts 1 gab. ventilators un mitrinātājs. Vēl pasūtīts klāt statīvs un vienreizlietojamie materiāli. Pozīcija izpildīta daļēji, tiks organizēts papildus iepirkums vēl 4 ventilatoriem. Plānotais iepirkuma izsludināšanas termiņš - februāris/marts. Iespējamais piegādes termiņš - maijs/jūnijs.
A17: Baktericīdais gaisa caurplūdes recirkulators | B17: 30 | C17: 18000 | D17: AM 1335 | E17: 06.12.2021. | F17: SIA Airmed | G17: 15500.1 | H17: 21-07205 | I17: 15500.1 | J17: Ir piegādāti, pozīcija izpildīta. Atskaite iesniegta janvārī.
A18: Augstas plūsmas skābekļa terapijas iekārtas | B18: 6 | C18: 36000 | D18: ELPA 022529 | E18: 25.10.2021. | F18: SIA NMS ELPA | G18: 60.5 | H18: 21-05969 | I18: 60.5 | J18: Iegādāta 1 lietota iekārta. Atskaite iesniegta janvārī.
D19: ELPA 022753 | E19: 22.11.2021. | F19: SIA NMS ELPA | G19: 27844.52 | H19: 21-06703 | I19: 8835.42 | J19: Iegādātas atlikušās 5 gab. iekārtas ar pacientu komplektiem visām 6 iekārtām. Pozīcija izpildīta. Atskaite iesniegta janvārī.
H20: 21-06963 | I20: 19009.1
A21: Hipoksijas – hiperoksijas terapijas ierīce | B21: 1 | C21: 55000 | J21: Līgums noslēgts, gaidām piegādi.
A22: Kardiotokogrāfs | B22: 1 | C22: 2800 | J22: Tiek gatavota tehniskā specifikācija iepirkumam. Plānotais iepirkuma izsludināšanas termiņš - februāris/marts. Iespējamais piegādes termiņš - maijs/jūnijs.
A23: Mobila ultrasonogrāfijas iekārta | B23: 1 | C23: 40000 | J23: Tiek gatavota tehniskā specifikācija iepirkumam. Plānotais iepirkuma izsludināšanas termiņš - februāris/marts. Iespējamais piegādes termiņš - maijs/jūnijs.
A24: Funkcionālās gultas (ar pasīviem pretizgulējumu matračiem) | B24: 10 | C24: 25000 | J24: Līgums noslēgts, gaidām piegādi.
A25: Instrumentu un manipulāciju galdiņi | B25: 10 | C25: 8000 | D25: ARB 117129 | E25: 26.11.2021. | F25: SIA Arbor Medical Korporācija | G25: 1422.96 | H25: 21-06862 | I25: 1422.96 | J25: 3 gab. galdiņi iegādāti. Pozīcija izpildīta daļēji, tiks organizēts papildus iepirkums. Plānotais iepirkuma izsludināšanas termiņš - februāris/marts. Iespējamais piegādes termiņš - maijs/jūnijs.
A26: Asins kultūru analizators | B26: 1 | C26: 46000 | J26: Tiek gatavota tehniskā specifikācija iepirkumam. Plānotais iepirkuma izsludināšanas termiņš - februāris/marts. Iespējamais piegādes termiņš - maijs/jūnijs.
A27: Medicīniskais ledusskapis | B27: 3 | C27: 7800 | J27: Tiek gatavota tehniskā specifikācija iepirkumam. Plānotais iepirkuma izsludināšanas termiņš - februāris/marts. Iespējamais piegādes termiņš - maijs/jūnijs.
A28: Centrifūga | B28: 1 | C28: 8000 | J28: Tiek gatavota tehniskā specifikācija iepirkumam. Plānotais iepirkuma izsludināšanas termiņš - februāris/marts. Iespējamais piegādes termiņš - maijs/jūnijs.
A29: Pacientu pārvietošanas aprīkojums | B29: 10 | C29: 16000 | J29: Līgums noslēgts, gaidām piegādi.
A30: Līķu rati | B30: 4 | C30: 8000 | D30: ELPA 023077 | E30: 29.12.2021. | F30: SIA NMS ELPA | G30: 6345.24 | H30: 22-07469 | I30: 6345.24 | J30: Pozīcija izpildīta, atskaite februārī.
A31: Ūdens sagatavošanas sistēma | B31: 1 | C31: 4600 | D31: WAT21 2-0846 | E31: 26.10.2021. | F31: WATEX SIA | G31: 4222.9 | H31: 21-05959 | I31: 4222.9 | J31: Nomainīta bojātā reversās osmozes sistēma, pozīcija izpildīta. Atskaite iesniegta janvārī.
A32: Skābekļa terapijas ierīces | B32: 150 | C32: 12000 | D32: ELPA 022765 | E32: 22.11.2021. | F32: SIA NMS ELPA | G32: 4912.6 | H32: 21-06947 | I32: 4912.6 | J32: Iegādāti 30 dubultie flowmetri un 100 mitrinātājtrauki. Pozīcija izpildīta daļēji, tiks veikta papildus ierīču iegāde.
D33: ELPA 023296 | E33: 28.01.2022. | F33: SIA NMS ELPA | G33: 3303.3 | H33: 22-08325 | I33: 3303.3 | J33: Iegādātas 7 gab. skābekļa koncentrācijas mērīšanas ierīces, kuras izmantot palātās skābekļa terapijas laikā. Pozīcija izpildīta.
A34: Defibrilators | B34: 2 | C34: 16000 | J34: Tiek gatavota tehniskā specifikācija iepirkumam. Plānotais iepirkuma izsludināšanas termiņš - februāris/marts. Iespējamais piegādes termiņš - maijs/jūnijs.
A35: Enterālās barošanas sūkņi | B35: 10 | C35: 8000 | D35: 297430 BLV | E35: 11.10.2021. | F35: SIA B.Braun Medical | G35: 6558.2 | H35: 21-05792 | I35: 6558.2 | J35: Iegādāti 10 gab. sūkņi komplektācijā ar barošanas blokiem, pozīcija izpildīta. Atskaite iesniegta janvārī.
A38: Avansā izmaksāts 2021.gadā | B38: 399140
A40: Faktiski apgūts finansējums 2021. gadā | B40: =G3+G4+G5 -> 81086.94
A41: Papildus nepieciešams finansējums 2022. gadā (2021. gadā uzsākto pasākumu norēķiniem) | B41: =ROUNDUP(B38-B40,0) -> 318054
A42: Iezīmēts finansējums 2022. gadam | B42: 171060

Sheet JEKABP_899
K1: 1.9.pielikums
A2: SIA Jēkabpils reģionālā slimnīca, reģ. Nr.50003356621 | K2: Informatīvajam ziņojumam "Par paveikto veselības aprūpes sistēmas papildus kapacitātes stiprināšanai Covid-19 pacientu ārstēšanas nodrošināšanai un priekšlikumiem neizlietotā finansējuma apguvei "
G3: decembris | H3: =H12 -> 41401.36
G4: janvāris | H4: =H22 -> 9858.78
G5: februāris | H5: =H13 -> 2178
A7: Informācija par finanšu līdzekļu izlietojumu pie līguma no 12.2021
A8: Plānotais finansējums | E8: Informācija par finanšu līdzekļu izlietojumu
A9: Grupa | B9: Medicīnas ierīce | C9: Skaits | D9: Plānotā summa (ar PVN), EUR | E9: Pavadzīme | I9: Maksājuma uzdevums (atbilstoši Līguma 3.1.4.punktam) | K9: Komentārs par izpildes progresu
E10: Pavadzīmes Nr. | F10: Datums | G10: Piegādātājs | H10: Summa ( ar PVN) EUR | I10: Nr. | J10: Summa
A11: KOPĀ, t.sk. | B11: x | D11: =D21+D22+D23 -> 1042192 | E11: x | F11: x | G11: x | H11: =H12+H13+H14+H17+H18+H19+H20+H21+H22+H23 -> 191218.42 | I11: x | K11: x
B12: Multifunkcionālās reanimācijas gulta, elektriska | C12: 4 | D12: 30800 | E12: 118045 | F12: 22.12.21. | G12: ARBOR MEDICAL KORPORĀCIJA SIA | H12: 41401.36 | I12: 27.12.21.086651 | J12: =H12 -> 41401.36 | K12: IZPILDĪTS
B13: Pacenta skapīti ar statīviem | C13: 4 | D13: 2400 | E13: 200134 | F13: 04.02.2022 | G13: ARBOR MEDICAL KORPORĀCIJA SIA | H13: 2178 | K13: IZPILDĪTS
B14: Procedūru rati | C14: 4 | D14: 3000 | G14: ARBOR MEDICAL KORPORĀCIJA SIA | H14: 2744.28 | K14: Gaidam piegādi Martā
B15: Māsu novērošanas postenis un kameras pacientu novērošanai | C15: 1 | D15: 5000 | E15: - | F15: - | G15: - | H15: - | I15: - | J15: - | K15: Nav aktuāls
B16: Slūžas | C16: 2 | D16: 3000 | E16: - | F16: - | G16: - | H16: - | I16: - | J16: - | K16: Nav aktuāls
B17: Mākslīgās plaušu ventilācijas aparāti (NIVA, APST, INV) | C17: 4 | D17: 132000 | G17: ARBOR MEDICAL KORPORĀCIJA SIA | H17: 135036 | K17: Noslēdzies iepirkums (parakstīts līgums par piegādi)
B18: Vitālo rādītāju moniori | C18: 4 | D18: 30000 | K18: Izsludināts iepirkums
B19: Perfuzori | C19: 24 | D19: 31992 | K19: Izsludināts iepirkums
B20: Enterālās barošanas sūknis | C20: 4 | D20: 4000 | K20: Izsludināts iepirkums
D21: =SUM(D12:D20) -> 242192
B22: Iekštelpu pārveide (cauruļu maiņa) - steidzama | D22: 150000 | E22: 036/2021. | F22: 05.01.22. | G22: NMS ELPA SIA | H22: 9858.78 | K22: Daļēji realizēts
B23: Ārējā infrastruktūras uzlabošana - skābekļa balons, attvaikotājsistēm, balona uzstādīšanas infrastruktūra un cauruļu novadīšana līdz stacionāriem) | D23: 650000 | K23: Tiks realizēts vasarā, jo darbi saistīti ar zemes darbiem un tos var veikt kad būs atbilstoši laika apstākļi.
B25: Avansā izmaksāts 2021.gadā | C25: 392192
B27: Faktiski apgūts finansējums 2021. gadā | C27: =H3 -> 41401.36
B28: Papildus nepieciešams finansējums 2022. gadā (2021. gadā uzsākto pasākumu norēķiniem) | C28: =ROUNDUP(C25-C27,0) -> 350791
B29: Iezīmēts finansējums 2022. gadam | C29: 650000

Sheet Liepāj_899
N1: 1.10.pielikums
A2: SIA “Liepājas reģionālā slimnīca” | I2: decembris | J2: =J12 -> 11904.22 | N2: Informatīvajam ziņojumam "Par paveikto veselības aprūpes sistēmas papildus kapacitātes stiprināšanai Covid-19 pacientu ārstēšanas nodrošināšanai un priekšlikumiem neizlietotā finansējuma apguvei "
A5: Nr | B5: Pozīcijas nosaukums | C5: Skaits | D5: Cena EUR par vienību bez PVN | E5: Cena EUR par vienību ar PVN | F5: Summa EUR kopā a PVN | G5: Informācija par finanšu līdzekļu izlietojumu | N5: Komentārs par izpildes progresu
G6: Pavadzīme | K6: Maksājuma uzdevums
G7: Pavadzīmes Nr. | H7: Datums | I7: Piegādātājs | J7: Summa ( ar PVN) EUR | K7: Nr. | L7: Datums | M7: Summa
D8: =SUM(D9:D32) -> 537000 | E8: =SUM(E9:E32) -> 649771 | F8: =SUM(F9:F32) -> 1415821 | J8: =SUM(J9:J32) -> 11904.22 | M8: =SUM(M9:M32) -> 11904.22
A9: 1 | B9: Pacientu monitoru komplekti | C9: 28 | D9: 4000 | E9: 4840 | F9: 135520 | N9: Iepirkuma dokumentācijas izstrāde. Plānota piegāde atbilstoši telpu gatavībai (LRS pārbūves 2.kārta - 09.2022.). Izpilde 10.2022.
A10: 2 | B10: Pacientu monitoru stacijas/sistēmas (komplekts) | C10: 2 | D10: 36000 | E10: 43560 | F10: 87120 | N10: Iepirkuma dokumentācijas izstrāde. Plānota piegāde atbilstoši telpu gatavībai (LRS pārbūves 2.kārta - 09.2022.). Izpilde 10.2022.
A11: 3 | B11: Mākslīgās plaušu ventilācijas iekārtas | C11: 3 | D11: 34500 | E11: 41745 | F11: 125235 | N11: Iepirkuma dokumentācijas izstrāde. Plānota piegāde atbilstoši telpu gatavībai (LRS pārbūves 2.kārta - 09.2022.). Izpilde 10.2022.
A12: 4 | B12: Augstas plūsmas iekārtas | C12: 5 | D12: 3200 | E12: 3872 | F12: 19360 | G12: ELPA 022993 | H12: 15.12.2021. | I12: SIA "NMS ELPA" | J12: 11904.22 | K12: 19194 | L12: 29.12.2021. | M12: =J12 -> 11904.22 | N12: Izpildīts, 2021.gadā: Veikta 4 iekārtu piegāde.
A13: 5 | B13: Neinvazīvas pozitīva spiediena plaušu ventilācijas iekārtas | C13: 5 | D13: 7000 | E13: 8470 | F13: 42350 | N13: Iepirkuma dokumentācijas izstrāde. Plānota piegāde 07.2022. Izpilde 08.2022.
A14: 6 | B14: Mobilā USG iekārta | C14: 1 | D14: 40000 | E14: 48400 | F14: 48400 | N14: Iepirkuma dokumentācijas izstrāde. Plānota piegāde atbilstoši telpu gatavībai (LRS pārbūves 2.kārta - 09.2022.). Izpilde 10.2022.
A15: 7 | B15: Medicīniskie sūkņi | C15: 28 | D15: 350 | E15: 424 | F15: 11858 | N15: Iepirkuma dokumentācijas izstrāde. Plānota piegāde atbilstoši telpu gatavībai (LRS pārbūves 2.kārta - 09.2022.). Izpilde 10.2022.
A16: 8 | B16: Perfūzijas iekārtas | C16: 28 | D16: 1300 | E16: 1573 | F16: 44044 | N16: Iepirkuma dokumentācijas izstrāde. Plānota piegāde atbilstoši telpu gatavībai (LRS pārbūves 2.kārta - 09.2022.). Izpilde 10.2022.
A17: 9 | B17: Infūzijas iekārtas | C17: 28 | D17: 1300 | E17: 1573 | F17: 44044 | N17: Iepirkuma dokumentācijas izstrāde. Plānota piegāde atbilstoši telpu gatavībai (LRS pārbūves 2.kārta - 09.2022.). Izpilde 10.2022.
A18: 10 | B18: Akūtā nieru aizstājeējterapijas iekārta | C18: 1 | D18: 19000 | E18: 22990 | F18: 22990 | N18: Iepirkuma dokumentācijas izstrāde. Plānota piegāde atbilstoši telpu gatavībai (LRS pārbūves 2.kārta - 09.2022.). Izpilde 10.2022.
A19: 11 | B19: Skābekļa ražošanas stacija (papildus, rezervē, lai varam nodrošināt lielāku kapacitāti) | C19: 1 | D19: 170000 | E19: 205700 | F19: 205700 | N19: Izsludināts iepirkums: LRS 2022/01. Plānots piegādāt un uzstādīt līdz 04.2022.
A20: 12 | B20: Funkcionālās gultas | C20: 28 | D20: 4200 | E20: 5082 | F20: 142296 | N20: Iepirkuma dokumentācijas izstrāde. Plānota piegāde atbilstoši telpu gatavībai (LRS pārbūves 2.kārta - 09.2022.). Izpilde 10.2022.
A21: 13 | B21: Elektriskās impendances tomogrāfs | C21: 2 | D21: 65000 | E21: 78650 | F21: 157300 | N21: Iepirkuma dokumentācijas izstrāde. Plānota piegāde atbilstoši telpu gatavībai (LRS pārbūves 2.kārta - 09.2022.). Izpilde 10.2022.
A22: 14 | B22: Pacientu termoregulācijas vadības sistēma | C22: 2 | D22: 13000 | E22: 15730 | F22: 31460 | N22: Iepirkuma dokumentācijas izstrāde. Plānota piegāde atbilstoši telpu gatavībai (LRS pārbūves 2.kārta - 09.2022.). Izpilde 10.2022.
A23: 15 | B23: Inhalācijas anestētiķu sedācijas iekārta | C23: 3 | D23: 23000 | E23: 27830 | F23: 83490 | N23: Iepirkuma dokumentācijas izstrāde. Plānota piegāde atbilstoši telpu gatavībai (LRS pārbūves 2.kārta - 09.2022.). Izpilde 10.2022.
A24: 16 | B24: Pozicionēšanas balstu sistēma (spilveni) | C24: 10 | D24: 500 | E24: 605 | F24: 6050 | N24: Iepirkuma dokumentācijas izstrāde. Plānota piegāde atbilstoši telpu gatavībai (LRS pārbūves 2.kārta - 09.2022.). Izpilde 10.2022.
... A32: 24 | B32: Anestēzijas iekārta | C32: 2 | D32: 45000 | E32: 54450 | F32: 108900 | N32: Iepirkuma dokumentācijas izstrāde. Plānota piegāde atbilstoši telpu gatavībai (LRS pārbūves 2.kārta - 09.2022.). Izpilde 10.2022.
B35: Avansā izmaksāts 2021.gadā | C35: 991075
B37: Faktiski apgūts finansējums 2021. gadā | C37: =J2 -> 11904.22
B38: Papildus nepieciešams finansējums 2022. gadā (2021. gadā uzsākto pasākumu norēķiniem) | C38: =ROUNDUP(C35-C37,0) -> 979171
B39: Iezīmēts finansējums 2022. gadam | C39: =Kopsavilkums!E18 -> 424746

Sheet Rēzekn_899
J1: 1.11.pielikums
A2: Sabiedrība ar ierobežotu atbildību "RĒZEKNES SLIMNĪCA" | J2: Informatīvajam ziņojumam "Par paveikto veselības aprūpes sistēmas papildus kapacitātes stiprināšanai Covid-19 pacientu ārstēšanas nodrošināšanai un priekšlikumiem neizlietotā finansējuma apguvei "
F3: decembris | G3: =G9+G10+G11+G12+G13 -> 304459.34
A4: Informācija par finanšu līdzekļu izlietojumu
A5: Plānotais finansējums | D5: Informācija par finanšu līdzekļu izlietojumu
A6: Pozīcijas nosaukums | B6: Skaits | C6: Plānotā summa (ar PVN), EUR | D6: Pavadzīme | H6: Maksājuma uzdevums | J6: Komentārs par izpildes progresu
D7: Pavadzīmes Nr. | E7: Datums | F7: Piegādātājs | G7: Summa ( ar PVN) EUR | H7: Nr. | I7: Summa
A8: KOPĀ, t.sk. | B8: =SUM(B9:B13) -> 3 | C8: =SUM(C9:C13) -> 485888 | G8: =SUM(G9:G13) -> 304459.34 | I8: =SUM(I9:I13) -> 304459.34 | J8: Uz 16.02.2022.
A9: Augstākas caurplūdes skābekļa padeves cauruļvadu sistēmas izbūve starp centrālo tvertni, intensīvās terapijas nodaļu un infekciju nodaļu (papildfinansējums) | B9: 1 | C9: 209114 | D9: VEL301221/64 | E9: 30.12.2021. | F9: Sabiedrība ar ierobežotu atbildību "Velasco", reģ. Nr. 40203232892 | G9: 71606.86 | H9: 1068, 1071 | I9: 71606.86 | J9: Iepirkuma līgums Nr. RS 2021/61/2 noslēgts 04.11.2021. Līguma izpildīts (līgums par sistēmas izbūvi). Līguma summa 173 494,30 EUR, t.sk. pamatsumma 143 383,72 EUR un PVN 21% 30 110,58 EUR. Uz 17.03.2021. līgumu Nr. NVD-2/131-2021 attiecināma summa 101 887,44 EUR, t.sk. pamatsumma 84 204,50 EUR un PVN 21% 17 682,94 EUR, savukārt uz 22.12.2021. līgumu Nr. NVD-9/220-2021 attiecināma summa 71 606,86 EUR, t.sk. pamatsumma 59 179,22 EUR un PVN 21% 12 427,64 EUR.
A10: Medicīniskā saspiestā gaisa ražošanas mezgla, gaisa apmaiņas mezgla, ūdens sagatavošanas un attīrīšanas mezgla un to funkcionalitāti nodrošinošo inženierkomunikāciju remontdarbu/pielāgošanas darbu veikšana | B10: 2 | C10: 276774 | D10: RS 274 | E10: 30.12.2021. | F10: SIA "RĒZEKNES SANTEHNIĶIS", reģ.Nr. 42402007219 | G10: 65110.31 | H10: 82, 125 | I10: 65110.31 | J10: Iepirkuma līgums Nr. RS 2021/96/1 noslēgts 22.12.2021. Būvdarbu izpildes termiņš 31.12.2021. Norisinās dokumentācijas (darbu akti un izpilddokumentācija) pārbaude, paredzētais apmaksas termiņš ne vēlāk kā 01.03.2022. Paredzētais atskaites iesniegšanas termiņš pēc darbu apmaksas veikšanas nepārsniedz līguma Nr. NVD-9/220-2021 3.1.punktā noteikto termiņu.
D11: RS 275 | E11: 30.12.2021. | F11: SIA "RĒZEKNES SANTEHNIĶIS", reģ.Nr. 42402007219 | G11: 52726.9 | H11: 186, 126 | I11: 52726.9 | J11: Iepirkuma līgums Nr. RS 2021/96/2 noslēgts 22.12.2021. Būvdarbu izpildes termiņš 31.12.2021. Norisinās dokumentācijas (darbu akti un izpilddokumentācija) pārbaude, paredzētais apmaksas termiņš ne vēlāk kā 01.03.2022. Paredzētais atskaites iesniegšanas termiņš pēc darbu apmaksas veikšanas nepārsniedz līguma Nr. NVD-9/220-2021 3.1.punktā noteikto termiņu.
D12: M-2021/97 | E12: 30.12.2021. | F12: SIA "M-Trade", reģ.Nr. 40103593535 | G12: 30853.39 | H12: 9, 13 | I12: 30853.39 | J12: Iepirkuma līgums Nr. RS 2021/96/3 noslēgts 22.12.2021. Būvdarbu izpildes termiņš 31.12.2021. Norisinās dokumentācijas (darbu akti un izpilddokumentācija) pārbaude, paredzētais apmaksas termiņš ne vēlāk kā 01.03.2022. Paredzētais atskaites iesniegšanas termiņš pēc darbu apmaksas veikšanas nepārsniedz līguma Nr. NVD-9/220-2021 3.1.punktā noteikto termiņu.
D13: Rēķins 202112/06 | E13: 30.12.2021. | F13: Sabiedrība ar ierobežotu atbildību "STEXKOM", reģ.Nr. 52403038701 | G13: 84161.88 | H13: 11, 14 | I13: 84161.88 | J13: Iepirkuma līgums Nr. RS 2021/96/4 noslēgts 22.12.2021. Būvdarbu izpildes termiņš 31.12.2021. Norisinās dokumentācijas (darbu akti un izpilddokumentācija) pārbaude, paredzētais apmaksas termiņš ne vēlāk kā 01.03.2022. Paredzētais atskaites iesniegšanas termiņš pēc darbu apmaksas veikšanas nepārsniedz līguma Nr. NVD-9/220-2021 3.1.punktā noteikto termiņu.
A16: Avansā izmaksāts 2021.gadā | B16: 485888
A18: Faktiski apgūts finansējums 2021. gadā | B18: =G3 -> 304459.34
A19: Papildus nepieciešams finansējums 2022. gadā (2021. gadā uzsākto pasākumu norēķiniem) | B19: 0

Sheet Ziemeļk_899
J1: 1.12.pielikums
A2: SIA "Ziemeļkurzemes reģionālā slimnīca" | J2: Informatīvajam ziņojumam "Par paveikto veselības aprūpes sistēmas papildus kapacitātes stiprināšanai Covid-19 pacientu ārstēšanas nodrošināšanai un priekšlikumiem neizlietotā finansējuma apguvei "
F3: oktobris | G3: =G19+G21+G32 -> 4005.11
F4: novembris | G4: =G12+G18+G20+G22+G23+G24+G25+G26+G29+G34+G35 -> 90078.92
F5: decembris | G5: =G13+G14+G17+G27+G28+G30+G31+G33+G36 -> 93187.47
F6: janvāris | G6: =G15+G16 -> 33329.45
A7: Informācija par finanšu līdzekļu izlietojumu
A8: Plānotais finansējums | D8: Informācija par finanšu līdzekļu izlietojumu
A9: Pozīcijas nosaukums | B9: Skaits | C9: Plānotā summa (ar PVN), EUR | D9: Pavadzīme | H9: Maksājuma uzdevums | J9: Komentārs par izpildes progresu
D10: Pavadzīmes Nr. | E10: Datums | F10: Piegādātājs | G10: Summa ( ar PVN) EUR | H10: Nr. | I10: Summa
A11: KOPĀ, t.sk. | B11: =SUM(B12:B35) -> 156 | C11: =SUM(C12:C36) -> 242651.65 | G11: =SUM(G12:G36) -> 220600.95 | I11: =SUM(I12:I35) -> 220181.76
A12: Funkcionālās gultas + matrači | B12: 20 | C12: 42000 | D12: ELPA 022719 | E12: 44515 | F12: SIA "NMS Elpa" | G12: 39228.2 | H12: 4452 | I12: 39228.2 | J12: Izpildīts
A13: Pacientu skapīši | B13: 20 | C13: 13000 | D13: TR 212116 | E13: 44552 | F13: SIA "Tradintek" | G13: 13189 | H13: 5021 | I13: 13189 | J13: Izpildīts
A14: Infūziju statīvi | B14: 20 | C14: 1420 | D14: ARB 1177773 | E14: 44540 | F14: SIA "Arbor Medical Korporācija" | G14: 1573 | H14: 4832 | I14: 1573 | J14: Izpildīts
A15: Perfuzori | B15: 21 | C15: 20328 | D15: 303446 BLV | E15: 44589 | F15: SIA "B.Braun Medical" | G15: 20582.1 | H15: 425 | I15: 33329.45 | J15: Izpildīts
A16: Perfuzoru turētājskapis ar statīvu (1 uz 3 perfuzoriem) | B16: 7 | C16: 12662.65 | G16: 12747.35
A17: Komplekts 12 pacientu nov.monitori ar centrālo staciju | B17: 1 | C17: 80000 | D17: ARB 117994 | E17: 44550 | F17: SIA "Arbor Medical Korporācija" | G17: 63113.6 | H17: 5017 | I17: 63113.6 | J17: Izpildīts
A18: Pulsa oksimetri (ar lādētāju) | B18: 20 | C18: 8300 | D18: ARB 116863 | E18: 44517 | F18: SIA "Arbor Medical Korporācija" | G18: 7986 | H18: 4556 | I18: 7986 | J18: Izpildīts
A19: Konteiners medicīniskajiem atkritumiem | B19: 1 | C19: 2800 | D19: MODU 6140/21 | E19: 44491 | F19: SIA "Modul" | G19: 2758.8 | H19: 4008 | I19: =G19 -> 2758.8 | J19: Izpildīts
A20: Bīstamo atkritumu statīvs | B20: 1 | C20: 760 | D20: ILX2200454 | E20: 44509 | F20: SIA "Interlux" | G20: =830.48 -> 830.48 | H20: 1440 | I20: =G20 -> 830.48 | J20: Izpildīts
A21: Uzkopšanas rati | B21: 1 | C21: 860 | D21: BG730731 | E21: 44497 | F21: SIA "BG" | G21: 859.75 | H21: 1293 | I21: =G21 -> 859.75 | J21: Izpildīts
A22: Veļas mazgājamā mašīna | B22: 1 | C22: 4750 | D22: PRO690709 | E22: 44511 | F22: SIA "Profiks Clean" | G22: 2740.65 | H22: 1401 | I22: =G22 -> 2740.65 | J22: Izpildīts
A23: Rati pacientu pārvadāšanai (sēdrati) | B23: 1 | C23: 500 | D23: ELPA 022675 | E23: 44508 | F23: SIA "NMS Elpa" | G23: 234.74 | H23: 1376 | I23: =G23 -> 234.74 | J23: Izpildīts
A24: Ledusskapis slēdzams | B24: 1 | C24: 530 | D24: SOL 21-47 | E24: 44504 | F24: SIA "SOL 1" | G24: 544.5 | H24: 4356 | I24: =G24 -> 544.5 | J24: Izpildīts
A25: Infūzijas šķīduma sildītājs | B25: 1 | C25: 1200 | D25: ARB 116153 | E25: 44503 | F25: SIA "Arbor Medical Korporācija" | G25: 907.5 | H25: 4353 | I25: =G25 -> 907.5 | J25: Izpildīts
A26: Automātiskās virsmu dezinfekcijas iekārta | B26: 1 | C26: 5143 | D26: AMR-00729 | E26: 44505 | F26: SIA "Amrid" | G26: 5142.5 | H26: 4342 | I26: =G26 -> 5142.5 | J26: Izpildīts
A27: elektrokardiogrāfs | B27: 1 | C27: 5000 | D27: ARB 117562 | E27: 44540 | F27: SIA "Arbor Medical Korporācija" | G27: 5445 | H27: 00001 | I27: 5445 | J27: Izpildīts
A28: slēgtā tipa baktericīdā lampa | B28: 2 | C28: 1500 | D28: ARB 117644 | E28: 44536 | F28: SIA "Arbor Medical Korporācija" | G28: 1089 | H28: 4780 | I28: 1089 | J28: Izpildīts
A29: intensīvās terapijas pacientu gultas | B29: 2 | C29: 31800 | D29: ARB 116988 | E29: 44523 | F29: SIA "Arbor Medical Korporācija" | G29: 31460 | H29: 4555 | I29: 31460 | J29: Izpildīts
A30: pārvietojamie ratiņi | B30: 3 | C30: 2250 | D30: ELPA 022930 | E30: 44533 | F30: SIA "NMS Elpa" | G30: 2254.23 | H30: 4874 | I30: 2254.23 | J30: Izpildīts
A31: pārvietojamie medicīnas skapji | B31: 3 | C31: 5320 | D31: SC 12721 | E31: 44532 | F31: SIA "Scanmed" | G31: 5317.95 | H31: 4771 | I31: 5317.95 | J31: Izpildīts
A32: Slūžas | B32: 1 | C32: 380 | D32: Nr.24.10.2021 | E32: 44493 | F32: SIA "STALVE" | G32: 386.56 | H32: 4135 | I32: =G32 -> 386.56 | J32: Izpildīts
A33: Infūzu statīvi | B33: 10 | C33: 710 | D33: ARB 1177772 | E33: 44540 | F33: SIA "Arbor Medical Korporācija" | G33: 786.5 | H33: 4873 | I33: =G33 -> 786.5 | J33: Izpildīts | R33: 3
A34: neinvazīvā ventilācijas maska | B34: 13 | C34: 598 | D34: ELPA 022720 | E34: 44515 | F34: SIA "NMS Elpa" | G34: 613.47 | H34: 4558 | I34: 613.47 | J34: Izpildīts
A35: Codan invazīvā asinspiediena piederumi | B35: 4 | C35: 840 | D35: ARB 116259 | E35: 44503 | F35: SIA "Arbor Medical Korporācija" | G35: 390.88 | H35: 4357 | I35: =G35 -> 390.88 | J35: Izpildīts | R35: 2
D36: ARB 117889 | E36: 44547 | F36: SIA "Arbor Medical Korporācija" | G36: 419.19 | H36: 4871 | I36: 419.19 | J36: Izpildīts | R36: 2
A39: Avansā izmaksāts 2021.gadā | B39: 201161
A41: Faktiski apgūts finansējums 2021. gadā | B41: =G3+G4+G5 -> 187271.5
A42: Iezīmēts finansējums 2022. gadam | B42: 41491

Sheet Priek_899
J1: 1.13.pielikums
