Workbook

Sheet Kopsavilkums
L1: 1.1.pielikums
L2: Informatīvajam ziņojumam "Par paveikto veselības aprūpes sistēmas papildus kapacitātes stiprināšanai Covid-19 pacientu ārstēšanas nodrošināšanai un priekšlikumiem neizlietotā finansējuma apguvei "
A3: Papildus piešķirtā finansējums slimnīcu papildus kapacitātes stiprināšanai Covid -19 apstākļos piešķirtā finansējuma sadalījums, izlietojums un plānotās ekonomijas
A5: Ārstniecības iestāde | B5: Finansējums, atbilstoši MK rīkojumiem un protokoliem | G5: Faktiski realizēts 2021. gadā | H5: Faktiski slimnīcām tika aizskaitīts finansējums 2021. gadā, euro | I5: Atlikums 2021.gadā no daļēji noslēgtajiem vai nenoslēgtajiem līgumiem | J5: Atlikums 2022.gadā (tiks veikts pārskaitījums uz valsts budžeta ieņēmumu kontu) | K5: Finansējums, kas nepieciešams 2022. gadā, lai pabeigtu īstenot 2021. gada beigās uzsāktos darbus vai uzsāktu 2022. gadā jaunus pasākumus | L5: Finansējums, kas nepieciešams 2022. gadā, lai īstenotu 2022. gada sākumā plānotos darbus (iezīmēts ar protokolu)
B6: datums | C6: Nr. | D6: Summa priekšapmaksai VAI IEGULDĪŠANA PAMATKAPITĀLĀ 2021.gadā | E6: 2022.gada summa | F6: Summa
A7: Pavisam kopā trīs rīkojumiem (799, 899, 904) | D7: =D8+D15+D37 -> 5727448 | E7: =E8+E15+E37 -> 6688008 | F7: =F8+F15+F37 -> 12415456 | G7: 1380010.1 | H7: =H8+H15+H37 -> 5009873.8 | I7: 717574.24 | J7: 3629863.6 | K7: =K8+K15+K37 -> 3385031 | L7: 5894005
A8: 4.piešķīrums (Izlietojums, atbilstoši Ministru kabineta 2021.gada 3.novembra rīkojumam Nr.799 "Par finanšu līdzekļu piešķiršanu no valsts budžeta programmas "Līdzekļi neparedzētiem gadījumiem") | D8: =D9+D10+D11+D12+D13 -> 1045916 | E8: =E9+E10+E11+E12+E13+E14 -> 4590901 | F8: =F9+F10+F11+F12+F13+F14 -> 5636817 | G8: 370182.62 | H8: =SUM(H9:H14) -> 713629.76 | I8: 332286.24 | J8: 343447.14 | K8: =K9+K10+K11+K12+K13+K14 -> 345687 | L8: 3827310
A9: Rīgas 1.slimnīca | B9: 28.12.2021. | C9: NVD-9/234-2021 | D9: 381795 | E9: 763591 | F9: =D9+E9 -> 1145386 | G9: ='R.1.sl._799'!C63 -> 49508.76 | H9: =G9 -> 49508.76 | I9: 332286.24 | K9: ='R.1.sl._799'!C64 -> 3776 | L9: 0
A10: Rīgas 2.slimnīca | B10: 08.12.2021. | C10: NVD-9/187-2021 | D10: 376625 | E10: 753248 | F10: =D10+E10 -> 1129873 | G10: ='R.2.sl_02_799'!B91 -> 34714.6 | H10: =D10 -> 376625 | J10: 341910.4 | K10: ='R.2.sl_02_799'!B92 -> 341911 | L10: 753248
A11: Rēzeknes sl | B11: 17.03.2021. | C11: NVD-2/131-2021 | D11: 49075 | E11: 1190485 | F11: =D11+E11 -> 1239560 | G11: =Rēzekne_2021_799!B14 -> 49075 | H11: =D11 -> 49075 | J11: 0 | K11: =J11 -> 0 | L11: 1190485
A12: Jelgavas PS | B12: 29.12.2021. | C12: NVD-9/195-2021 | D12: 175421 | E12: 1621775 | F12: =D12+E12 -> 1797196 | G12: =Jelg_799!B41 -> 173884.26 | H12: =D12 -> 175421 | J12: 1536.74 | K12: 0 | L12: 1621775
A13: Ziemeļkurzemes RS | B13: 28.12.2021. | C13: NVD-9/201-2021 | D13: 63000 | E13: 21000 | F13: =D13+E13 -> 84000 | G13: =Ziemeļkurz_799!B19 -> 63000 | H13: =D13 -> 63000 | J13: 0 | K13: 0 | L13: 21000
A14: Vidzemes slimnīca | E14: 240802 | F14: =D14+E14 -> 240802 | G14: 0 | H14: =D14 -> 0 | J14: 0 | L14: 240802
A15: 5.piešķīrums (Izlietojums, atbilstoši Ministru kabineta 2021.gada 1.decembra rīkojumam Nr.899 "Par finanšu līdzekļu piešķiršanu no valsts budžeta programmas "Līdzekļi neparedzētiem gadījumiem") | D15: =SUM(D16:D36) -> 4284321 | E15: =SUM(E16:E36) -> 1976769 | F15: =SUM(F16:F36) -> 6261090 | G15: 906493.49 | H15: =SUM(H16:H36) -> 4007479 | I15: 276842 | J15: 3100985.5 | K15: =SUM(K16:K36) -> 2636940 | L15: 1946357
A16: Vidzemes slimnīca | B16: 30.12.2021. | C16: NVD-9/200-2021 | D16: 399140 | E16: 171060 | F16: =D16+E16 -> 570200 | G16: =Vidzem_899!B40 -> 81086.94 | H16: =D16-60000 -> 339140 | I16: 60000 | J16: 258053.06 | K16: =Vidzem_899!B41 -> 318054 | L16: 171060
A17: Jēkabpils RS | B17: 22.12.2021. | C17: NVD-9/208-2021 | D17: 392192 | E17: 650000 | F17: =D17+E17 -> 1042192 | G17: =JEKABP_899!C27 -> 41401.36 | H17: =D17 -> 392192 | J17: 350790.64 | K17: =JEKABP_899!C28 -> 350791 | L17: 650000
A18: Liepājas RS | B18: 30.12.2021. | C18: NVD-9/203-2021 | D18: 991075 | E18: 424746 | F18: =D18+E18 -> 1415821 | G18: =Liepāj_899!C37 -> 11904.22 | H18: =D18 -> 991075 | J18: 979170.78 | K18: =Liepāj_899!C38 -> 979171 | L18: 424746
A19: Rēzeknes sl | B19: 22.12.2021. | C19: NVD-9/220-2021 | D19: 485888 | E19: 0 | F19: =D19+E19 -> 485888 | G19: =Rēzekn_899!B18 -> 304459.34 | H19: =D19 -> 485888 | J19: 181428.66 | K19: 0 | L19: 0
A20: Ziemeļkurzemes RS | B20: 27.12.2021. | C20: NVD-9/222-2021 | D20: =56441+144720 -> 201161 | E20: =8500+32991 -> 41491 | F20: =D20+E20 -> 242652 | G20: =Ziemeļk_899!B41 -> 187271.5 | H20: =D20 -> 201161 | J20: 13889.5 | K20: 0 | L20: 41491
A21: Priekules slimnīca | B21: 29.12.2021. | C21: NVD-9/214-2021 | D21: 9681 | E21: 4149 | F21: =D21+E21 -> 13830 | G21: =Priek_899!B23 -> 9681 | H21: =D21 -> 9681 | J21: 0 | K21: 0 | L21: 4149
A22: Dobeles un apkārtnes slimnīca | B22: 28.12.2021. | C22: NVD-9/206-2021 | D22: 126032 | E22: 49838 | F22: =D22+E22 -> 175870 | G22: =Dobele_899!B19 -> 1498.34 | H22: =D22 -> 126032 | J22: 124533.66 | K22: =Dobele_899!B20 -> 1902 | L22: 49838
A23: Alūksnes slimnīca | B23: 22.12.2021. | C23: NVD-9/216-2021 | D23: 58783 | E23: 25193 | F23: =D23+E23 -> 83976 | G23: =Alūksn_899!B24 -> 30951.31 | H23: =D23 -> 58783 | J23: 27831.69 | K23: =Alūksn_899!B25 -> 7020 | L23: 25193
A24: Bauskas slimnīca | B24: 22.12.2021. | C24: NVD-9/204-2021 | D24: 179462 | E24: 71577 | F24: =D24+E24 -> 251039 | G24: =Bausk_899!B26 -> 27026.64 | H24: =D24 -> 179462 | J24: 152435.36 | K24: =Bausk_899!B27 -> 152435 | L24: 71577
A25: Cēsu slimnīca | B25: 30.12.2021. | C25: NVD-9/205-2021 | D25: 78855 | E25: 33795 | F25: =D25+E25 -> 112650 | G25: =Cēsis_899!B28 -> 20072.75 | H25: =D25 -> 78855 | J25: 58782.25 | K25: 0 | L25: 33795
A26: Preiļu slimnīca | D26: 145880 | E26: 62520 | F26: =D26+E26 -> 208400 | G26: 0 | H26: 0 | I26: 145880 | J26: 0 | K26: 0 | L26: 62520
A27: Krāslavas slimnīca | D27: 63000 | E27: 27000 | F27: =D27+E27 -> 90000 | G27: 0 | H27: 0 | I27: 63000 | J27: 0 | K27: 0 | L27: 0
A28: Jūrmalas slimnīca | B28: 27.12.2021. | C28: NVD-9/209-2021 | D28: 108900 | E28: 0 | F28: =D28+E28 -> 108900 | G28: 0 | H28: =D28 -> 108900 | J28: 108900 | K28: =J28 -> 108900 | L28: 0
A29: Madonas slimnīca | B29: 29.12.2021. | C29: NVD-9/221-2021 | D29: 163450 | E29: 70050 | F29: =D29+E29 -> 233500 | G29: 0 | H29: =D29 -> 163450 | J29: 163450 | K29: =J29 -> 163450 | L29: 70050
A30: Limbažu slimnīca | B30: 22.12.2021. | C30: NVD-9/211-2021 | D30: 55650 | E30: 23850 | F30: =D30+E30 -> 79500 | G30: 0 | H30: =D30 -> 55650 | J30: 55650 | K30: =J30 -> 55650 | L30: 23850
A31: Aizkraukles sl. | B31: 28.12.2021. | C31: NVD-9/231-2021 | D31: 2100 | E31: 0 | F31: =D31+E31 -> 2100 | G31: =Aizkr_899!B16 -> 1858.62 | H31: =D31 -> 2100 | J31: 241.38 | K31: 0 | L31: 0
A32: Rīgas 2.slimnīca | B32: 29.12.2021. | C32: NVD-9/237-2021 | D32: 211912 | E32: 90819 | F32: =D32+E32 -> 302731 | G32: 0 | H32: =D32 -> 211912 | J32: 211912 | K32: =J32 -> 211912 | L32: 90819
A33: Sanare KRC Jaunķemeri | B33: 23.12.2021. | C33: NVD-9/224-2021 | D33: 173042 | E33: 74161 | F33: =D33+E33 -> 247203 | G33: =Sanare_899!B33 -> 55420.78 | H33: =D33 -> 173042 | J33: 117621.22 | K33: 0 | L33: 74161
A34: Irlavas SKS | D34: 7962 | E34: 3412 | F34: =D34+E34 -> 11374 | G34: 0 | H34: 0 | I34: 7962 | J34: 0 | K34: 0 | L34: 0
A35: Jelgavas PS | B35: 22.12.2021. | C35: NVD-9/207-2021 | D35: 118783 | E35: 19663 | F35: =D35+E35 -> 138446 | G35: =Jelg_899!B19 -> 110142.14 | H35: =D35 -> 118783 | J35: 8640.86 | K35: 0 | L35: 19663
A36: Tukuma slimnīca | B36: 22.12.2021. | C36: NVD-9/218-2021 | D36: 311373 | E36: 133445 | F36: =D36+E36 -> 444818 | G36: =Tukums_899!B25 -> 23718.55 | H36: =D36 -> 311373 | J36: 287654.45 | K36: =Tukums_899!B26 -> 287655 | L36: 133445
A37: 6.piešķīrums (Izlietojums, atbilstoši Ministru kabineta 2021.gada 1.decembra rīkojumam Nr.904 "Par finanšu līdzekļu piešķiršanu no valsts budžeta programmas "Līdzekļi neparedzētiem gadījumiem") | D37: =D38+D39+D40+D41+D42+D43+D44 -> 397211 | E37: =E38+E39+E40+E41+E42+E43+E44 -> 120338 | F37: =F38+F39+F40+F41+F42+F43+F44 -> 517549 | G37: 103334.03 | H37: =SUM(H38:H44) -> 288765 | I37: 108446 | J37: 185430.97 | K37: =K38+K39+K40+K41+K42+K43+K44 -> 402404 | L37: 120338
A38: Saldus MC | B38: 27.12.2021. | C38: NVD-9/227-2021 | D38: 1247 | E38: 11223 | F38: =D38+E38 -> 12470 | G38: =Saldus_904!B17 -> 615.39 | H38: =D38 -> 1247 | J38: 631.61 | K38: 0 | L38: 11223
A39: Ludzas MC | B39: 27.12.2021. | C39: NVD-9/226-2021 | D39: 125120 | F39: =D39+E39 -> 125120 | G39: =Ludza_904!B29 -> 59608.64 | H39: =D39 -> 125120 | J39: 65511.36 | K39: =Ludza_904!B30 -> 65512 | L39: 0
A40: Latvijas Jūras MC | B40: 30.12.2021. | C40: NVD-9/228-2021 | D40: 32110 | E40: 17666 | F40: =D40+E40 -> 49776 | G40: ='Jūras MC_904'!B26 -> 32110 | H40: =D40 -> 32110 | J40: 0 | K40: 0 | L40: 17666
A41: Rīgas 1.slimnīca | D41: 108446 | E41: 0 | F41: =D41+E41 -> 108446 | G41: 0 | H41: 0 | I41: 108446 | J41: 0 | K41: 0 | L41: 0
A42: Balvu un Gulbenes SA | B42: 28.12.2021. | C42: NVD-9/233-2021 | D42: 11000 | E42: 0 | F42: =D42+E42 -> 11000 | G42: =Balvi_904!B18 -> 11000 | H42: =D42 -> 11000 | J42: 0 | K42: 0 | L42: 0
A43: Rīgas Dzemdību nams | B43: 28.12.2021. | C43: NVD-9/230-2021 | D43: 119288 | E43: 51124 | F43: =D43+E43 -> 170412 | G43: 0 | H43: =D43 -> 119288 | J43: 119288 | K43: =Dzemd_904!B27+Dzemd_904!B28 -> 336892 | L43: 51124
A44: Aizkraukles S | E44: 40325 | F44: =D44+E44 -> 40325 | G44: 0 | H44: =D44 -> 0 | K44: =J44 -> 0 | L44: 40325
A45: Pavisam kopā ieguldīšana pamatkapitālā (797, 900, 905) | D45: =D46+D50+D54 -> 9933245
A46: 7.piešķīrums (Izlietojums, atbilstoši Ministru kabineta 2021.gada 4.novembra rīkojumam Ministru kabineta rīkojums Nr. 797 “Par apropriācijas palielināšanu Veselības ministrijai” | D46: =D47+D48+D49 -> 9550228 | E46: =E47+E48+E49+E50+E51+E52+E53 -> 0 | F46: =F47+F48+F49+F50+F51+F52+F53 -> 0 | G46: 0 | J46: 0 | K46: =K47+K48+K49+K50+K51+K52+K53 -> 0 | L46: 0
A47: Rīgas Austrumu klīniskā universitātes slimnīca | D47: 7113884
A48: Paula Stradiņa klīniskā universitātes slimnīca | D48: 2330332
A49: Traumatoloģijas un ortopēdijas slimnīca | D49: 106012
A50: 8.piešķīrums (Izlietojums, atbilstoši Ministru kabineta 2021.gada 1.decembra rīkojumam Ministru kabineta rīkojums Nr. 900 “Par apropriācijas palielināšanu Veselības ministrijai” | D50: =D51+D52+D53 -> 163650 | E50: =E51+E52+E53+E55+E56+E57+E58 -> 0 | F50: =F51+F52+F53+F55+F56+F57+F58 -> 0 | G50: 0 | J50: 0 | K50: =K51+K52+K53+K55+K56+K57+K58 -> 0 | L50: 0
A51: Daugavpils psihoneiroloģiskā slimnīca | D51: 19200
A52: Strenču psihoneiroloģiskā slimnīca | D52: 143250
A53: Rīgas psihiatrijas un narkoloģijas centrs | D53: 1200
A54: 9.piešķīrums (Izlietojums, atbilstoši Ministru kabineta 2021.gada 1.decembra rīkojumam Ministru kabineta rīkojums Nr. 905 “Par apropriācijas palielināšanu Veselības ministrijai” | D54: =D55+D56+D57 -> 219367 | E54: =E55+E56+E57+E59+E60+E61+E62 -> 0 | F54: =F55+F56+F57+F59+F60+F61+F62 -> 0 | G54: 0 | J54: 0 | K54: =K55+K56+K57+K59+K60+K61+K62 -> 0 | L54: 0
A55: Rīgas psihiatrijas un narkoloģijas centrs | D55: 192865
A56: Ģintermuiža | D56: 26502

Sheet R.1.sl._799
K1: 1.2.pielikums
K2: Informatīvajam ziņojumam "Par paveikto veselības aprūpes sistēmas papildus kapacitātes stiprināšanai Covid-19 pacientu ārstēšanas nodrošināšanai un priekšlikumiem neizlietotā finansējuma apguvei "
B3: SIA Rīgas 1.slimnīca | G3: novembris | H3: =H11+H13+H14+H22 -> 49508.76
G4: decembris | H4: =H24+H25 -> 3775.2
B6: Informācija par finanšu līdzekļu izlietojumu
B7: Plānotais finansējums | E7: Informācija par finanšu līdzekļu izlietojumu
B8: Pozīcijas nosaukums | C8: Skaits | D8: Plānotā summa (ar PVN), EUR | E8: Pavadzīme | I8: Maksājuma uzdevums | K8: Komentārs par izpildes progresu
E9: Pavadzīmes Nr. | F9: Datums | G9: Piegādātājs | H9: Summa ( ar PVN) EUR | I9: Nr. | J9: Summa
B10: KOPĀ, t.sk. | C10: =SUM(C11:C29) -> 686 | D10: =SUM(D11:D57) -> 1145387 | H10: =SUM(H11:H29) -> 53283.96 | J10: =SUM(J11:J29) -> 53283.96
A11: CV-NVD-F01 | B11: Slūžas 2 gab. | C11: 2 | D11: 6050 | E11: TEN131-21 | F11: 09.11.2021. | G11: TENTI LV SIA | H11: 6050 | I11: 3537 | J11: 6050 | K11: Iepirkums R1S2021/103-iep/COVID
A12: CV-NVD-F02 | B12: Skābekļa pievāds pie gultas | D12: 36300 | K12: Netiks īstenots
A13: CV-NVD-F03 | B13: Skābekļa līnijas paplašināšana | C13: 1 | D13: 36300 | E13: 835/2021 | F13: 05.11.2021. | G13: NMS ELPA SIA | H13: 38409.99 | I13: 3547 | J13: 38409.99 | K13: Līgums Nr. R1S-378/2021
A14: CV-NVD-F04 | B14: Māsu posteņa aizsardzība, 3 gab | C14: 3 | D14: 2541 | E14: TEN131-21 | F14: 09.11.2021. | G14: TENTI LV SIA | H14: 4077.7 | I14: 3537 | J14: 4077.7 | K14: Iepirkums R1S2021/103-iep/COVID
A15: CV-NVD-F05 | B15: Elektrības jaudas nodrošināšana | D15: 8168 | K15: Netiks īstenots
A16: CV-NVD-F06 | B16: Māsu izsaukumu sistēmas nomaiņa | D16: 72600 | K16: Netiks īstenots
A17: CV-NVD-F07 | B17: Nerūsējoša tērauda ratiņi ar ritenīšiem 50 gab | C17: 50 | D17: 9075 | K17: Netiks īstenots
A18: CV-NVD-F08 | B18: Higiēnisko priekšmetu mazgāšanas-dezinfekcijas iekārta. 2 gab | C18: 2 | D18: 14520 | K18: Netiks īstenots
A19: CV-NVD-F09 | B19: Aktīvais pretizgulējumu matracis. 10 gab | C19: 10 | D19: 12100 | K19: Netiks īstenots
A20: CV-NVD-F10 | B20: Pacienta transporta rati. 4 gab. | C20: 4 | D20: 9680 | K20: Netiks īstenots
A21: CV-NVD-F11 | B21: Video novērošana | D21: 1210 | K21: Netiks īstenots
A22: CV-NVD-F12 | B22: Video ieraksta servera dators | C22: 1 | D22: 1452 | E22: MSR130119 | F22: 09.11.2021. | G22: Multisistēma Rīga SIA | H22: 971.07 | I22: 3504 | J22: 971.07 | K22: Iepirkums R1S2021/99-iep/COVID
A23: CV-NVD-F13 | B23: Palātu / Pacientu informatīvais sienas monitors (māsu postenis) | C23: 2 | D23: 2420 | K23: Netiks īstenots
A24: CV-NVD-F14 | B24: Spilvens | C24: 240 | D24: 5808 | E24: KAT21296 | F24: 20.12.2021. | G24: Katūns SIA | H24: 1306.8 | I24: 3950 | J24: 1306.8 | K24: Saruna procedūra R1S 2021/104-IEP/COVID
A25: CV-NVD-F15 | B25: Sega | C25: 240 | D25: 14520 | E25: KAT21296 | F25: 20.12.2021. | G25: Katūns SIA | H25: 2468.4 | I25: 3950 | J25: 2468.4 | K25: Saruna procedūra R1S 2021/104-IEP/COVID
A26: CV-NVD-F16 | B26: Matraču aizsargs 120 | C26: 120 | D26: 4356 | K26: Netiks īstenots
A27: CV-NVD-F17 | B27: Dušas guļrati 1 gab | C27: 1 | D27: 3025 | K27: Netiks īstenots
A28: CV-NVD-F18 | B28: Slīddēlis, 4 | C28: 4 | D28: 726 | K28: Netiks īstenots
A29: CV-NVD-F19 | B29: Galvas mazgašanas vanna, 6 gab | C29: 6 | D29: 726 | K29: Netiks īstenots
A30: CV-NVD-F20 | B30: Teleskopiskais aizslietnis, 20 | C30: 20 | D30: 14520 | K30: Netiks īstenots
A31: CV-NVD-F21 | B31: Noliktavas plaukti, 50 | C31: 50 | D31: 6050 | K31: Netiks īstenots
A32: CV-NVD-F22 | B32: Aprūpes rati, 4 | C32: 4 | D32: 2904 | K32: Netiks īstenots
A33: CV-NVD-F23 | B33: Padubes mašīna, 2 gab | C33: 2 | D33: 14520 | K33: Netiks īstenots
A34: CV-NVD-F24 | B34: Mazgāšanas rati, 15 | C34: 15 | D34: 6353 | K34: Netiks īstenots
A35: CV-NVD-F25 | B35: Miskastes ar pedāli, 100 | C35: 100 | D35: 3630 | K35: Netiks īstenots
A36: CV-NVD-F26 | B36: Ēdiena transporta rati, 4 gab. | C36: 4 | D36: 2904 | K36: Netiks īstenots
A37: CV-NVD-F27 | B37: Transporta MPV iekārtas 2 gab | C37: 2 | D37: 53240 | K37: Netiks īstenots
... A52: CV-NVD-F42 | B52: Pacientu skapīši 140 gab. | C52: 140 | D52: 59290 | K52: Netiks īstenots
A53: CV-NVD-F43 | B53: Fizioterapijas piederumi | D53: 12100 | K53: Netiks īstenots
A54: CV-NVD-F44 | B54: Līķu rati | D54: 4840 | K54: Netiks īstenots
A55: CV-NVD-F45 | B55: Ledusskapis med.uzglabāšanai 4 gab | C55: 4 | D55: 7260 | K55: Netiks īstenots
A56: CV-NVD-F46 | B56: Reanimācijas rati, 3 gab. | C56: 3 | D56: 7260 | K56: Netiks īstenots
A57: CV-NVD-F47 | B57: Skābekļa koncentrācijas mērīšanas iekārtas. 6 gab. | C57: 6 | D57: 2178 | K57: Netiks īstenots
B61: Avansā izmaksāts 2021.gadā | C61: =C63 -> 49508.76
B63: Faktiski apgūts finansējums 2021. gadā | C63: =H11+H13+H14+H22 -> 49508.76
B64: Papildus nepieciešams finansējums 2022. gadā (2021. gadā uzsākto pasākumu norēķiniem) | C64: =ROUNDUP(H24+H25,0) -> 3776

Sheet R.2.sl_02_799
J1: 1.3.pielikums
A2: SIA "Rīgas 2.slimnīca" | J2: Informatīvajam ziņojumam "Par paveikto veselības aprūpes sistēmas papildus kapacitātes stiprināšanai Covid-19 pacientu ārstēšanas nodrošināšanai un priekšlikumiem neizlietotā finansējuma apguvei "
F3: oktobris-decembris | G3: =G13+G14+G29+G30+G31+G60+G64+G65+G67+G68+G70+G71+G72+G73+G75+G76+G77+G78+G79+G80+G81+G83+G15 -> 34714.6
F4: janvāris | G4: =G18+G19+G22+G23+G59 -> 188058.2
F5: februāris | G5: =G16+G20+G24+G35+G40+G41+G44+G45+G46+G51+G54+G55+G56+G58+G62+G63+G86 -> 474509.13
A6: Informācija par finanšu līdzekļu izlietojumu
A7: Plānotais finansējums | D7: Informācija par finanšu līdzekļu izlietojumu
A8: Pozīcijas nosaukums | B8: Skaits | C8: Plānotā summa (ar PVN), EUR | D8: Pavadzīme | H8: Maksājuma uzdevums | J8: Komentārs par izpildes progresu
D9: Pavadzīmes Nr. | E9: Datums | F9: Piegādātājs | G9: Summa ( ar PVN) EUR | H9: Nr. | I9: Summa
A10: KOPĀ, t.sk. | C10: =SUM(C12:C86) -> 1129872.4 | G10: =SUM(G13:G86) -> 697281.93 | I10: =SUM(I13:I86) -> 697281.93
A11: 1. Ieguldījumi infrastruktūrā un ēkas tehniskajā nodrošinājumā
A12: 1.1. punkts. Starpsienu montāžas un izbūves darbi: | B12: 5 | C12: 7500
A13: Aizkari ar rāvējslēdzēju aprūpes vajadzībām | B13: 1 | D13: 25.10.2021. | E13: 25.10.2021. | F13: Stalve | G13: 364.34 | H13: 21-03553 | I13: 364.34
A14: Aizkari ar rāvējslēdzēju aprūpes vajadzībām | B14: 14 | D14: 04.11.2021. | E14: 04.11.2021. | F14: Stalve | G14: 3084.12 | H14: 21-03557 | I14: 3084.12
A15: Aizkari ar rāvējslēdzēju aprūpes vajadzībām | B15: 1 | D15: 30.12.2021. | E15: 30.12.2021. | F15: Stalve | G15: 337.47 | H15: 22-00268 | I15: 337.47
B16: 1 | D16: 397209521 | E16: 14.02.2022. | F16: K Senukai | G16: 47.51 | H16: 22-00632 | I16: 47.51 | J16: Izdevumi materiālu iegādei priekš 4.nodaļas aizkaru/slūžu uzstādīšanas pabeigšanas
A17: 2. Medicīnas iekārtas un aprīkojums
A18: 2.1. Monitors pacientu vitālo funkciju novērošanas ar ratiem | B18: 24 | C18: 180048 | D18: TR 220008 | E18: 06.01.2022. | F18: TRADINTEK SIA | G18: 79279.2 | H18: 22-00269 | I18: 79279.2
A19: 2.2. Neinvazīva mākslīgās plaušas ventilācijas iekārta | B19: 4 | C19: 72600 | D19: GRAINLV245 | E19: 25.01.2022. | F19: UAB GRAINA LATVIA filiāle | G19: 77440 | H19: 22-00271 | I19: 77440
A20: 2.3. Mobīla palātas digitāla rentgena iekārta | B20: 1 | C20: 114950 | D20: ARB 200851 | E20: 24.02.2022. | F20: SIA "Arbor Medical Korporācija" | G20: 77682 | H20: 22-00637 | I20: 77682 | J20: Līgums 275/2021
A21: 2.5. Defibrilātors | B21: 5 | C21: 59290 | F21: „TRADINTEK” SIA | J21: Izsludināts sarunu procedūrā “Medicīnas iekārtu piegāde“ (Iepirkuma identifikācijas Nr. Rīgas 2.slimnīca 2021/23 SP), ir noslēgti iepirkuma līgumi Nr. 275/2021 un 277/2021, plānotie piegādes termiņi ne ilgāk kā 60 (sešdesmit) dienu laikā defibrilātoriem no Līguma spēkā stāšanās dienas.
A22: 2.6. Perfūzijas sūknis | B22: 30 | C22: 32250 | D22: TR 220009 | E22: 11.01.2022. | F22: TRADINTEK SIA | G22: =12140*0.21+12140 -> 14689.4 | H22: 22-00270 | I22: 25531
A23: 2.7. Infūzijas sūknis | B23: 14 | C23: 18634 | G23: =9600*0.21+9600-774.4 -> 10841.6
A24: 2.8. Portatīvs pulsa oksimetrs | B24: 60 | C24: 54450 | D24: ABMG 220269 | E24: 17.02.2022. | F24: Sabiedrība ar ierobežotu atbildību "AB MEDICAL GROUP RIGA" | G24: 36245.55 | H24: 22-00641 | I24: 36245.55 | J24: Līgums 276/2021
A25: 2.9. Enterālās barošanas sūknis | B25: 5 | C25: 4915 | J25: Iespējamie piegādes veicēji nespēj iekļauties noteiktajā piegādes termiņā. Vēlams piegādes termiņa pagarinājums aptuveni 2 mēneši.
A26: 2.10. Krūšu kurvja portatīvā vakuuma iekārta | B26: 5 | C26: 6655 | J26: Izsludināts iepirkums Publisko iepirkumu likuma 9. panta kārtībā „Krūšu kurvja drenāžas sistēmu iegāde” (id. Nr. SIA „Rīgas 2.slimnīca” 2022/3), kur atvēršana bija 21.02.2022.
A27: 2.11. Videolaringoskops | B27: 2 | C27: 21780 | F27: „TRADINTEK” SIA | J27: Izsludināts sarunu procedūrā “Medicīnas iekārtu piegāde“ (Iepirkuma identifikācijas Nr. Rīgas 2.slimnīca 2021/23 SP), ir noslēgts iepirkuma līgums Nr. 277/2021, plānotie piegādes termiņi 90 (deviņdesmit) dienu laikā no Līguma spēkā stāšanās dienas. 16.02. tika saņemts atteikums no piegādātāju puses, steidzami tiek meklēts alternatīvs risinājums.
A28: 2.12. punkts. Bezkontakta termometrs: | B28: 60 | C28: 2100
A29: Infrasarkanie termometri | B29: 40 | D29: MMD 764518 | E29: 08.11.2021. | F29: Magnum medical | G29: 1484.91 | H29: 21-03559 | I29: 1484.91
A30: Infrasarkanie termometri | B30: 20 | D30: MMD 764520 | E30: 08.11.2021. | F30: Magnum medical | G30: 742.46 | H30: 21-03560 | I30: 742.46
A31: 2.13. punkts. Pulsoksitometrs, pirksta, portatīvs | B31: 44 | C31: 1320 | D31: ARB 116127 | E31: 03.11.2021. | F31: Arbor Medical Korporācija | G31: 2395.8 | H31: 21-03555 | I31: 2395.8
A32: 2.14. Elektrokardiogrāfs, mobils ar DICOM funkciju (WiFe) | B32: 4 | C32: 14520 | F32: Sabiedrība ar ierobežotu atbildību "NMS ELPA" | J32: Izsludināts sarunu procedūrā “Medicīnas iekārtu piegāde“ (Iepirkuma identifikācijas Nr. Rīgas 2.slimnīca 2021/23 SP), plānots noslēgt iepirkuma līgumu līdz 07.01.2022., plānotie piegādes termiņi 4 (četru) nedēļu laikā no Līguma spēkā stāšanās dienas.
A33: 2.15. Skābekļa mitrinātāja trauks ar dozimetru | B33: 15 | C33: 1611.15 | J33: Saņemti 10 gab, pagaidām nav iespējams pasūtīt, jo vairāk uz doto brīdi nav pedāvājumā
A34: 3. Ar pacientu aprūpi saistītās nepieciešamās iekārtas un aprīkojums
A35: 3.1. Gulta pacientu, funkcionāla, elektriska | B35: 70 | C35: 152460 | D35: ARB 119303 | E35: 24.01.2022. | F35: Arbor Medical Korporācija | G35: 228690 | H35: 22-00629 | I35: 228690 | J35: Līgums 280/2021
A36: 3.2. Pacienta nakts skapītis vismaz ar 2 atvilknēm un papildus paceļamu funkcionālu ēdināšanas dēli | B36: 70 | C36: 38115 | F36: SIA "Arbor Medical Korporācija" | J36: Izsludināts sarunu procedūrā “Covid-19 pacientu aprūpei nepieciešamā aprīkojuma piegāde“ (Iepirkuma identifikācijas Nr. Rīgas 2.slimnīca 2021/24 SP), ir noslēgti iepirkuma līgumi Nr. 281/2021, plānots noslēgt pēdējo iepirkuma līgumu līdz 07.01.2022., plānotie piegādes termiņi ne ilgāk kā 15 (piecpadsmit) dienu laikā pacientu funkconālajām gultām un aktīvajiem pretizgulējumu matračiem, 45 (četrdesmit piecu) dienu laikā pacientu piederumu skapīšiem, kušetēm un pacientu guļratiem, 3 (trīs) nedēļu laikā
A37: 3.4. Kušete, hidrauliskas ar augstuma regulāciju | B37: 7 | C37: 18214
A38: 3.5. Guļrati uzņemšanai | B38: 2 | C38: 6050
A39: 3.6. Pacienta guļrati nodaļai | B39: 5 | C39: 11495
A40: 3.7. Pretizgulējumu matracis | B40: 74 | C40: 23880.54 | D40: ELPA 023547 | E40: 25.02.2022. | F40: Sabiedrība ar ierobežotu atbildību "NMS ELPA" | G40: 11729.74 | H40: 22-00639 | I40: 11729.74 | J40: Līgums 281/2021
A41: 3.8. Aktīvais pretizgulējumu matracis ar kompresoru | B41: 10 | C41: 16940 | D41: ARB 119303 | E41: 24.01.2022. | F41: Arbor Medical Korporācija | G41: 33880 | H41: 22-00629 | I41: 33880 | J41: Līgums 280/2021
A42: 3.9.Pacienu pacēlājs | B42: 1 | C42: 12100 | J42: Iespējamie piegādes veicēji nespēj iekļauties noteiktajā piegādes termiņā. Vēlams piegādes termiņa pagarinājums aptuveni 2 mēneši.
A43: 3.10. Aizslietnis, divdaļīgs, uz ritentiņiem, salokāms | B43: 40 | C43: 32428 | F43: UAB "Slaugivita" | J43: Izsludināts sarunu procedūrā “Covid-19 pacientu aprūpei nepieciešamā aprīkojuma piegāde“ (Iepirkuma identifikācijas Nr. Rīgas 2.slimnīca 2021/24 SP), ir noslēgti iepirkuma līgums Nr. 279/2021, plānotie piegādes termiņi ne ilgāk kā 21 (divdesmit vienas) dienas laikā no Līguma spēkā stāšanās dienas.
A44: 3.11. Šībermašīna | B44: 5 | C44: 58080 | D44: AM 220200252 | E44: 10.02.2022. | F44: SIA “A.MEDICAL” | G44: 24684 | H44: 22-00631 | I44: 24684 | J44: Līgums 274/2021
D45: AM 220200550 | E45: 22.02.2022. | G45: 6171 | H45: 22-00635 | I45: 6171 | J45: Līgums 274/2021
A46: 3.12. Pacientu sēdrati | B46: 6 | C46: 8712 | D46: ELPA 023525 | E46: 23.02.2022. | F46: Sabiedrība ar ierobežotu atbildību "NMS ELPA" | G46: 2221.56 | H46: 22-00640 | I46: 2221.56 | J46: Līgums 281/2021
A47: 3.13. Statīvi (infūzijām, ar 4 zariem) | B47: 62 | C47: 2790 | F47: SIA "Arbor Medical Korporācija" | J47: Veitka tirgus izpēte, dotajā brīdī līgums tiek skaņots
A48: 3.14. Slīdmatrači pacienta pārvietošanai | B48: 10 | C48: 5500 | F48: Sabiedrība ar ierobežotu atbildību "NMS ELPA" | J48: Nolsēgts līgums Nr. 026/2022, piegāde 2 kalendāro nedēļu laikā.
A49: 3.15. Nebulaizeri | B49: 20 | C49: 1380 | J49: Tiek veikta tirgus izpēte
A50: 3.16. Pārvietojamie galdiņi, 2 līmeņu, uz ritentiņiem | B50: 12 | C50: 3180 | J50: Tiek veikta tirgus izpēte
A51: 3.17. Termo kastes ēdiena pārvedāšanai, dezinficējamas | B51: 12 | C51: 960 | D51: S 2022-028 | E51: 17.02.2022. | F51: SIA "BFGS" | G51: 682.73 | H51: 22-00633 | I51: 682.73 | J51: Pirkums bez līguma
A52: 3.18. Papildus rati ēdiena pārvadāšanai | B52: 6 | C52: 800.34 | J52: Tiek veikta tirgus izpēte
A53: 3.19. Aparāts bahilām, automātisks | B53: 2 | C53: 114.96 | J53: Tiek veikta tirgus izpēte
A54: 3.20. Gultas veļas komplekti (virspalags, spilvendrāna, palags, puspalags), veļas maisi, spilveni, flaneļa segas | B54: 150 | C54: 5677.5 | D54: KAT 22017 | E54: 02.02.2022. | F54: SIA "KATŪNS" | G54: 8900.76 | H54: 22-00634 | I54: 12095.16 | J54: Līgums 283/2021
D55: KAT 22028 | E55: 28.02.2022. | G55: 1742.4
A56: 3.21. Pacientu krekli | B56: 150 | C56: 960 | D56: KAT 22017 | E56: 02.02.2022. | G56: 1452
A57: 4. Dezinfekcijas, uzkopšanas un veļas nodrošinājums
A58: 4.1.Portatīva gaisa un telpas attīrīšans iekārta | B58: 5 | C58: 20000 | D58: AMR 00791 | E58: 24.02.2022. | F58: Sabiedrība ar ierobežotu atbildību "Amrid" | G58: 29620.56 | H58: 22-00636 | I58: 29620.56 | J58: Līgums 032/2022
A59: 4.2. Ultravioletā (UV) starojuma baktericīdas lampas | B59: 12 | C59: 6534 | D59: BSL-012022-33 | E59: 26.01.2022. | F59: Biosan Latvia SIA | G59: 5808 | H59: 22-00272 | I59: 5808
A60: 4.3. punkts. Grīdas mazgājamā mašīna | B60: 5 | C60: 10000 | D60: FE20015166 | E60: 29.11.2021. | F60: Fevex | G60: 9559 | H60: 21-03563 | I60: 9559
A61: 4.4. Veļas mazgājamā mašīna | B61: 2 | C61: 29550 | F61: Sabiedrība ar ierobežotu atbildību "FEVEX" | J61: Izsludināts sarunu procedūrā “Profesionālo veļas mazgājamo mašīnu, veļas ruļļa un žāvētāja piegāde“ (Iepirkuma identifikācijas Nr. Rīgas 2.slimnīca 2021/25 SP), ir noslēgts iepirkuma līgums Nr. 286/2021, plānotie piegādes termiņi 30 (trīsdesmit) dienu laikā no Līguma spēkā stāšanās dienas.
A62: 4.5. Veļas žāvētājs | B62: 1 | C62: 10000 | D62: FE 20017634 | E62: 15.02.2022. | F62: Sabiedrība ar ierobežotu atbildību "FEVEX" | G62: 5552.69 | H62: 22-00630 | I62: =G62+G63 -> 10759.32 | J62: Līgums 286/2021
A63: 4.6. Veļas rullis | B63: 1 | C63: 11300 | G63: 5206.63
A64: 4.7. punkts. Netīrās veļas rati ar noslēgtām malām, 1 nolaižamu | B64: 5 | C64: 4200 | D64: BG 732135 | E64: 23.11.2021. | F64: BG | G64: 1194.33 | H64: 21-03429 | I64: 1194.33
A65: 4.8. punkts. Atkritumu rati ar 4 riteņiem, nolaižamu malu | B65: 5 | C65: 4908.9 | D65: BG 732135 | E65: 23.11.2021. | F65: BG | G65: 4345.47 | H65: 21-03429 | I65: 4345.47
A66: 4.9. Atkritumu tvertnes (kājas pedālis vāka pacelšanai) 100l: | B66: 56 | C66: 13440
A67: Spaiņi 50l | B67: 24 | D67: ZE 21/4102 | E67: 04.11.2021. | F67: Zeimans | G67: 731.28 | H67: 21-03556 | I67: 731.28
A68: Spaiņi 50l | B68: 24 | D68: ZE 21/4129 | E68: 09.11.2021. | F68: Zeimans | G68: 731.28 | H68: 21-03561 | I68: 731.28
A69: 4.10. Atkritumu tvertnes (kājas pedālis vāka pacelšanai) 200l: | B69: 30 | C69: 12000
A70: Atkritumu maisu turētāji | B70: 3 | D70: ZE 21/4129 | E70: 09.11.2021. | F70: Zeimans | G70: 533.61 | H70: 21-03561 | I70: 533.61
A71: Atkritumu maisu turētāji | B71: 3 | D71: ZE 21/4059 | E71: 05.11.2021. | F71: Zeimans | G71: 705.06 | H71: 21-03558 | I71: 705.06
A72: Atkritumu maisu turētāji | B72: 3 | D72: BG 731361 | E72: 23.11.2021. | F72: BG | G72: 276.64 | H72: 21-03428 | I72: 276.64
A73: Atkritumu maisu turētāji | B73: 10 | D73: BG 732135 | E73: 23.11.2021. | F73: BG | G73: 922.16 | H73: 21-03429 | I73: 922.16
A74: 4.11. punkts. Automātiskās dezinfekcijas iekārta rokām. T.sk.: | B74: 14 | C74: 6000
A75: Roku dezinfekcijas stends | B75: 1 | D75: ZE 21/4129 | E75: 09.11.2021. | F75: Zeimans | G75: 261.36 | H75: 21-03561 | I75: 261.36
A76: Roku dezinfekcijas stends | B76: 3 | D76: ZE 21//4214 | E76: 15.11.2021. | F76: Zeimans | G76: 784.08 | H76: 21-03562 | I76: 784.08
A77: Statīvi roku dezinfekcijas līdzekļiem | B77: 11 | D77: BG 731469 | E77: 23.11.2021. | F77: BG | G77: 1157.01 | H77: 21-03430 | I77: 1157.01
A78: Dozatori ar sensoru | B78: 11 | D78: BG 731469 | E78: 23.11.2021. | F78: BG | G78: 764.84 | H78: 21-03430 | I78: 764.84
A79: Baterijas | B79: 7 | D79: 395972348 | E79: 09.11.2021. | F79: Kesko Senukai Latvia | G79: 52.43 | H79: 22-00002 | I79: 52.43
A80: Baterijas Duracell Industrial AA | B80: 7 | D80: BG 731469 | E80: 23.11.2021. | F80: BG | G80: 41.25 | H80: 21-03430 | I80: 41.25
A81: Baterijas Duracell Industrial AA | B81: 10 | D81: ZE 21/4129 | E81: 09.11.2021. | F81: Zeimans | G81: 11.26 | H81: 21-03561 | I81: 11.26
A82: 5. Cita veida pozīcijas
A83: 5.1. punkts. Aukstuma iekārtu uzstādīšana pagrabstāva morgā | B83: 1 | C83: 4235 | D83: 2021/111 | E83: 08.12.2021. | F83: Europa serviss | G83: 4234.44 | H83: 21-03392 | I83: 4234.44
A84: 5.2. Līķu rati | B84: 1 | C84: 500 | F84: Sabiedrība ar ierobežotu atbildību "GenMedica Baltic" | J84: Veikta tirgus izpēte, kuras rezultātā noslēgts pirkuma līgums
A85: 5.3. Noliktavas konteiners medicīnas preču uzglabāšanai, izm. 6,058 x 2,438 x 2,591 mm | B85: 1 | C85: 4500 | J85: Veikta tirgus izpēte, kuras rezultātā noslēgts pirkuma līgums. Gaidāma piegāde tuvākajā laikā.
A86: 5.4. Platformu ratiņi, alumīnija, ar noņemamiem rokturiem, kravnesību vismaz 300 kg | B86: 1 | C86: 244
A89: Avansā izmaksāts 2021.gadā | B89: 376625
A91: Faktiski apgūts finansējums 2021. gadā | B91: =G3 -> 34714.6
A92: Papildus nepieciešams finansējums 2022. gadā (2021. gadā uzsākto pasākumu norēķiniem) | B92: =ROUNDUP(B89-B91,0) -> 341911

Sheet Rēzekne_2021_799
H1: 1.4.pielikums
H2: Informatīvajam ziņojumam "Par paveikto veselības aprūpes sistēmas papildus kapacitātes stiprināšanai Covid-19 pacientu ārstēšanas nodrošināšanai un priekšlikumiem neizlietotā finansējuma apguvei "
A3: Sabiedrība ar ierobežotu atbildību "RĒZEKNES SLIMNĪCA" | F3: iekārtas sadārdzinājums | G3: =G9-I9 -> 49075
D5: Informācija par finanšu līdzekļu izlietojumu
A6: Medicīniskā iekārta/papildaprīkojums | B6: Skaits | C6: Plānotā summa (ar PVN), EUR | D6: Pavadzīme | H6: Maksājuma uzdevums
D7: Pavadzīmes Nr. | E7: Datums | F7: Piegādātājs | G7: Summa (ar PVN) EUR | H7: Nr. | I7: Summa
A8: x | D8: x | E8: x | F8: x | G8: =SUM(G9:G9) -> 775924.6 | H8: x | I8: =SUM(I9:I9) -> 726849.6
A9: Datortomogrāfs (sadārdzinājuma segšanai) | B9: 1 | C9: 49075 | D9: ARB 116177 | E9: 01.11.2021. | F9: SIA "Arbor Medical Korporācija", reģ. Nr. 40003547099 | G9: 775924.6 | H9: 650 | I9: =775924.6-49075 -> 726849.6
A12: Avansā izmaksāts 2021.gadā | B12: =G3 -> 49075
A14: Faktiski apgūts finansējums 2021. gadā | B14: =G3 -> 49075
A15: Papildus nepieciešams finansējums 2022. gadā (2021. gadā uzsākto pasākumu norēķiniem) | B15: =B12-B14 -> 0

Sheet Rēzekn_2022_799
J1: 1.5.pielikums
A2: Sabiedrība ar ierobežotu atbildību "RĒZEKNES SLIMNĪCA" | J2: Informatīvajam ziņojumam "Par paveikto veselības aprūpes sistēmas papildus kapacitātes stiprināšanai Covid-19 pacientu ārstēšanas nodrošināšanai un priekšlikumiem neizlietotā finansējuma apguvei "
F3: janvāris | G3: =G22+G30 -> 256205.4
F4: februāris | G4: =G12+G14+G15+G16+G19+G20+G21+G23+G24+G25+G26+G27+G28+G29+G31+G32 -> 329373.5
A5: Informācija par finanšu līdzekļu izlietojumu
A6: Plānotais finansējums | D6: Informācija par finanšu līdzekļu izlietojumu
A7: Pozīcijas nosaukums | B7: Skaits | C7: Plānotā summa (ar PVN), EUR | D7: Pavadzīme | H7: Maksājuma uzdevums | J7: Komentārs par izpildes progresu
D8: Pavadzīmes Nr. | E8: Datums | F8: Piegādātājs | G8: Summa ( ar PVN) EUR | H8: Nr. | I8: Summa
A9: KOPĀ, t.sk. | B9: =SUM(B10:B32) -> 127 | C9: =SUM(C10:C31) -> 1190485 | G9: =SUM(G10:G32) -> 585578.9 | I9: =SUM(I10:I32) -> 585578.9
A10: Sašķidrinātā medicīniskā skābekļa uzglabāšanas tvertne | B10: 1 | C10: 127413 | J10: Pasākuma realizēšana netiks veikta.
A11: Iztvaicētājs | B11: 1 | C11: 5348 | J11: Pasākuma realizēšana netiks veikta.
A12: Plūsmas mērītāju komplekts | B12: 1 | C12: 18876 | D12: Rēķins 6721936885 | E12: 18.02.2022. | F12: Linde Gas SIA, reģ. Nr. 40003068518 | G12: 12971.2 | H12: 7 | I12: 12971.2 | J12: Iepirkuma līgums Nr. RS 2022/15 noslēgts 25.01.2022. Līgums izpildīts
A13: Iekšējās medicīniskā skābekļa apgādes sistēmas atjaunošana | B13: 1 | C13: 241143 | F13: Sabiedrība ar ierobežotu atbildību "NMS ELPA", reģ. 40003348336 | J13: 16.02.2022. Veselības ministrijai iesniegts lūgums pagarināt darbības izpildes termiņu, kas pamatots ar objektīviem, no ārstniecības iestādes neatkarīgiem apstākļiem
A14: Skābekļa padeves sistēmas kapacitātes palielināšana un modernizēšana, t.sk. centrāle ar sms modeli, stabilizācijas bloks, un izejas kolektors | B14: 1 | C14: 39325 | D14: Rēķins 6721936884 | E14: 18.02.2022. | F14: Linde Gas SIA, reģ. Nr. 40003068518 | G14: 44953.92 | H14: 6 | I14: 44953.92 | J14: Iepirkuma līgums Nr. RS 2022/16 noslēgts 25.01.2022. Līgums izpildīts
A15: Risinājums medicīniskā skābekļa kontūru segmentēšanai (noplūžu fiksēšanai) | B15: 1 | C15: 30615 | D15: Rēķins 67219379 22/02/051OPT | E15: 25.02.2022. 28.02.2022. | F15: Linde Gas SIA, reģ. Nr. 40003068518; Sabiedrība ar ierobežotu atbildību "OptiCom", 40003231409 | G15: =SUM(2371.6+20846.73) -> 23218.33 | H15: 8; 17 | I15: =SUM(2371.6+20846.73) -> 23218.33 | J15: Iepirkuma līgums Nr. RS 2022/19/1 noslēgts 04.02.2022. Līgums izpildīts Iepirkuma līgums Nr. RS 2022/19 noslēgts 04.02.2022. Līgums izpildīts
A16: Viena punkta rezerves barošana ar platformu | B16: 2 | C16: 25168 | D16: VEL180222/8 | E16: 18.02.2022. | F16: Sabiedrība ar ierobežotu atbildību "Velasco", reģ. Nr. 40203232892 | G16: 6916.41 | H16: 12, 15 | I16: 6916.41 | J16: Iepirkuma līgums Nr. RS 2022/14 noslēgts 28.01.2022. Līgums izpildīts
A17: Medicīniskā saspiestā gaisa apgādes sistēmas atjaunošana | B17: 1 | C17: 108216 | F17: Sabiedrība ar ierobežotu atbildību "NMS ELPA", reģ. 40003348336 | J17: Veselības ministrijai iesniegts lūgums pagarināt darbības izpildes termiņu, kas pamatots ar objektīviem, no ārstniecības iestādes neatkarīgiem apstākļiem
A18: Risinājums medicīniskā saspiestā gaisa kontūru segmentēšanai (noplūžu fiksēšanai) | B18: 1 | C18: 30615 | J18: Pasākuma realizēšana netiks veikta.
A19: Funkcionālā pacientu gulta | B19: 25 | C19: 189069 | D19: ABMG 220321 | E19: 24.02.2022. | F19: Sabiedrība ar ierobežotu atbildību "AB MEDICAL GROUP RIGA", reģ. Nr. 40003373297 | G19: 121312.18 | H19: 2 | I19: 121312.18 | J19: Iepirkuma līgums Nr. RS 2022/1 noslēgts 26.01.2022. Līgums izpildīts
A20: Pretizgulējumu matracis | B20: 25 | C20: 52042 | D20: ELPA 023528 | E20: 23.02.2022. | F20: Sabiedrība ar ierobežotu atbildību "NMS ELPA", reģ. 40003348336 | G20: 5868.5 | H20: 10 | I20: 5868.5 | J20: Iepirkuma līgums Nr. RS 2022/2 noslēgts 25.01.2022. Līgums izpildīts
A21: Nieru aizstājējterapijas iekārta | B21: 1 | C21: 26597 | D21: 304646 BLV | E21: 17.02.2022. | F21: Sabiedrība ar ierobežotu atbildību "B.BRAUN MEDICAL", reģ.Nr.40003277955 | G21: 49796.05 | H21: 294 | I21: 49796.05 | J21: Iepirkuma līgums Nr. RS 2022/3 noslēgts 25.01.2022. Līgums izpildīts
A22: Mākslīgā plaušu ventilācijas iekārta | B22: 7 | C22: 245000 | D22: ARB 119306 ARB 200497 | E22: 31.01.2022. 15.02.2022. | F22: SIA "Arbor Medical Korporācija", reģ. Nr. 40003547099 | G22: 232925 | H22: 81 | I22: 232925 | J22: Iepirkuma līgums Nr. RS 2022/4 noslēgts 28.01.2022. Līgums izpildīts. Noslēgta vienošanās par grozījumiem līgumā.
G23: 13975.5 | H23: 114 | I23: 13975.5
A24: Pacientu skapīši | B24: 25 | C24: 10648 | D24: ELPA 023555 | E24: 23.02.2022. | F24: Sabiedrība ar ierobežotu atbildību "NMS ELPA", reģ. 40003348336 | G24: 10617.75 | H24: 16 | I24: 10617.75 | J24: Iepirkuma līgums Nr. RS 2022/5 noslēgts 26.01.2022. Līgums izpildīts
A25: Pulsa oksimetri | B25: 20 | C25: 772 | D25: ARB 200218 | E25: 08.02.2022. | F25: SIA "Arbor Medical Korporācija", reģ. Nr. 40003547099 | G25: 605 | H25: 113 | I25: 605 | J25: Iepirkuma līgums Nr. RS 2022/6 noslēgts 21.01.2022. Līgums izpildīts
A26: Šībermašīna | B26: 1 | C26: 12645 | D26: ABMG 220270 | E26: 17.02.2022. | F26: Sabiedrība ar ierobežotu atbildību "AB MEDICAL GROUP RIGA", reģ. Nr. 40003373297 | G26: 12069.75 | H26: 1 | I26: 12069.75 | J26: Iepirkuma līgums Nr. RS 2022/7 noslēgts 20.01.2022. Līgums izpildīts
A27: Sēžamrati | B27: 5 | C27: 1026 | D27: ELPA 023440 | E27: 14.02.2022. | F27: Sabiedrība ar ierobežotu atbildību "NMS ELPA", reģ. 40003348336 | G27: 1827.1 | H27: 175 | I27: 1827.1 | J27: Iepirkuma līgums Nr. RS 2022/8 noslēgts 25.01.2022. Līgums izpildīts
A28: Pacientu transportēšanas guļrati | B28: 2 | C28: 6655 | D28: ABMG 220322 | E28: 24.02.2022. | F28: Sabiedrība ar ierobežotu atbildību "AB MEDICAL GROUP RIGA", reģ. Nr. 40003373297 | G28: 6413 | H28: 3 | I28: 6413 | J28: Iepirkuma līgums Nr. RS 2022/9 noslēgts 20.01.2022. Līgums izpildīts
A29: Portatīvās tualetes | B29: 3 | C29: 515 | D29: ELPA 023439 | E29: 14.02.2022. | F29: Sabiedrība ar ierobežotu atbildību "NMS ELPA", reģ. 40003348336 | G29: 606.21 | H29: 176 | I29: 606.21 | J29: Iepirkuma līgums Nr. RS 2022/10 noslēgts 25.01.2022. Līgums izpildīts
A30: Ūdeņraža peroksīda miglotājs | B30: 1 | C30: 9380 | D30: AMR-00775 | E30: 28.01.2022. | F30: Sabiedrība ar ierobežotu atbildību "Amrid", reģ. Nr. 40103271732 | G30: 23280.4 | H30: 37 | I30: 23280.4 | J30: Izpildīts
A31: Portatīvā gaisa un telpu attīrīšanas iekārta | B31: 1 | C31: 9417 | D31: JIM 021729 | E31: 22.02.2022. | F31: SIA "J.I.M.", reģ. Nr. 40003191695 | G31: 13594.35 | H31: 5 | I31: 13594.35 | J31: Iepirkuma līgums Nr. RS 2022/12 noslēgts 25.01.2022. Līgums izpildīts
A32: Portatīvais elektrokardiogrāfs | B32: 1 | C32: 5091 | D32: ARB 200646 | E32: 28.02.2022. | F32: SIA "Arbor Medical Korporācija", reģ. Nr. 40003547099 | G32: 4628.25 | H32: 4 | I32: 4628.25 | J32: Iepirkuma līgums Nr. RS 2022/13 noslēgts 09.02.2022. Līgums izpildīts
A35: Iezīmēts finansējums 2022. gadam | B35: =C9 -> 1190485

Sheet Jelg_799
J1: 1.6.pielikums
J2: Informatīvajam ziņojumam "Par paveikto veselības aprūpes sistēmas papildus kapacitātes stiprināšanai Covid-19 pacientu ārstēšanas nodrošināšanai un priekšlikumiem neizlietotā finansējuma apguvei "
A3: SIA " Jelgavas pilsētas slimnīca" | F3: novembris | G3: =G11+G21+G28+G30 -> 34818.96
F4: decembris | G4: =G22+G24+G26+G29+G32+G31 -> 139065.3
F5: februāris | G5: =G27 -> 14883
A6: Informācija par finanšu līdzekļu izlietojumu
A7: Plānotais finansējums | D7: Informācija par finanšu līdzekļu izlietojumu
A8: Pozīcijas nosaukums | B8: Skaits | C8: Plānotā summa (ar PVN), EUR | D8: Pavadzīme | H8: Maksājuma uzdevums | J8: Komentārs par izpildes progresu
D9: Pavadzīmes Nr. | E9: Datums | F9: Piegādātājs | G9: Summa ( ar PVN) EUR | H9: Nr. | I9: Summa
A10: KOPĀ, t.sk. | B10: =SUM(B11:B32) -> 79 | C10: =SUM(C11:C36) -> 1797197 | G10: =SUM(G11:G36) -> 188767.26 | I10: =SUM(I11:I36) -> 188767.26
A11: Mediciniskā skābekļa automātiskas pārslēgšanas stacija aprikota ar LCD ekranu, SMS moduli. Darba jauda 50 m3/h | B11: 1 | C11: 10648 | D11: 6721898937 | E11: 30.11.2021. | F11: SIA " Linde Gas" | G11: 23505.46 | H11: 2584 | I11: 23505.46 | J11: Iegādāts
A12: Dublējošās avārijas apgādes ar medicīnisko skābekli remontdarbi, montāža un izbūve (60 m) | B12: 1 | C12: 12857
A13: Skābekļa koncentrators (Skābekļa ražošanas iekārtu piegāde un uzstādīšana) ar ražību 15 Nm3/h, glabāšanas konteiners | B13: 1 | C13: 65195 | G13: 0 | I13: 0 | J13: Neiegādāsimies
A14: Skābekļa saišķu uzglabāšanas nojumes izbūve | B14: 1 | C14: 8470 | G14: 0 | I14: 0 | J14: Neiegādāsimies
A15: Astoņu pacientu novērošanas centrālā darba stacija intensīvās terapijas pacientiem un 8 pacientu novērošanas monitori | B15: 1 | C15: 160301 | J15: Līgums Nr 1-22/14/2022. 17.01.2022. SIA " A.Medical"
A16: Specializētas intensīvās terapijas gultas | B16: 8 | C16: 38720 | J16: Līgums 1-22/12/2022 14.01.2022. SIAS " Tradintek"
A17: Intensīvās terapijas gultu aktīvie pretzigulējumu matrači | B17: 8 | C17: 22748 | J17: Līgums Nr. 1-22/13/2022. 17.01.2022. SIA " Arbor Medical Korporācija"
A18: Nieru aiztājējterapijas iekārta (intensīvās terapijas pacientiem) | B18: 1 | C18: 30250 | J18: Līgums Nr. 1-22/15/2022. 17.01.2022. SIA " Baltijas dialīzes Serviss"
A19: Datortomogrāfs (64-slāņu) | B19: 1 | C19: 726000 | J19: Līgums Nr. 1-22/96/2021, 08.12.2021. SIA "Tradinteks"
A20: Videolaringoskops (intensīvās terapijas pacientiem) | B20: 1 | C20: 15730 | J20: Netika iesniegts neviens piedāvājums
A21: Defibrilators | B21: 1 | C21: 6050 | D21: 116739 | E21: 15.11.2021. | F21: SIA Arbor Medical Korporācija" | G21: 5892.7 | H21: 2582 | I21: 5892.7 | J21: Iegādāts
A22: Medicīniskie attēlu apskates monitori | B22: 2 | C22: 3630 | D22: 211200326 | E22: 44546 | F22: SIA " A.Medical" | G22: 2904 | H22: 2712 | I22: 2904 | J22: Iegādāts
A23: Stacionārais RTG aparāts Radioloģijas nodaļā COVID pacientu izmeklēšanai | B23: 1 | C23: 242000 | J23: Līgums Nr. 1-22/16/2022. 14.01.2022. SIA " Siemens Healcare Oy Latvijas filiāle. Līguma pagarinājums līdz 2022.gada 29.aprīlim
A24: Digitālā palātas RTG iekārta Covid nodaļai | B24: 1 | C24: 78650 | D24: 118105 | E24: 22.12.2021. | F24: SIA " Arbor Medical Korporācija" | G24: 78650 | H24: 2714 | I24: 78650 | J24: Iegādāts
A25: Pacientu skapīši (COVID nodaļa) | B25: 35 | C25: 27528 | J25: Līgums Nr. 1-22/13/2022. 17.01.2022. SIA " Arbor Medical Korporācija"
A26: Portatīva ultrasonogrāfijas iekārta (Uzņemšanas nodaāli, COVID nodaļai) | B26: 1 | C26: 36300 | D26: 210208 | E26: 16.12.2021. | F26: SIA Tradinteks" | G26: 36251.6 | H26: 2713 | I26: 36251.6 | J26: Iegādāts
A27: Tvaika tīrīšanas un dezinfekcijas iekārta | B27: 2 | C27: 14036 | D27: 782 | E27: 10.02.2022. | F27: SIA " Amrid" | G27: 14883 | H27: 360 | I27: 14883 | J27: Līgums Nr. 1-22/17/2022. 14.01.2022. SIA " Amrid" , piegādāts
A28: Kardiogrāfs ar statīvu COVID nodaļai | B28: 1 | C28: 3630 | D28: 22866 | E28: 30.11.2021. | F28: SIA " NMS Elpa" | G28: 3351.7 | H28: 2581 | I28: 3351.7 | J28: Iegādāts
A29: Statīvs kardiogrāfam COVID nodaļai | B29: 1 | C29: 1029 | D29: 22913 | E29: 07.12.2021. | F29: SIA " NMS ELPA" | G29: 992.2 | H29: 2579 | I29: 992.2 | J29: Iegādāts
A30: Vakuumsūkņi ar statīvu COVID nodaļai | B30: 2 | C30: 2904 | D30: 22865 | E30: 30.11.2021. | F30: SIA " NMS Elpa" | G30: 2069.1 | H30: 2580 | I30: 2069.1 | J30: Iegādāts
A31: Augstas plūsmas skābekļa terapijas iekārta | B31: 3 | C31: 9438 | D31: 23075 | E31: 23.12.2021. | F31: SIA " NMS Elpa" | G31: 9619.5 | H31: 2718 | I31: 9619.5 | J31: Iegādāts
A32: Guļrati (Uzņemšanas nodala, pacientu transportēšanai) | B32: 5 | C32: 13915 | D32: 22907 | E32: 06.12.2021. | F32: SIA " NMS Elpa" | G32: 10648 | H32: 2583 | I32: 10648 | J32: Iegādāts
A33: Stacionārais USG aparāts COVID pacientu izmeklēšanai | B33: 1 | C33: 151250 | J33: Līgums Nr. 1-22/14/2022.17.01.2022.. SIA " A.Medical"
A34: Piekļuves kontroles sistēma slimnīcai | B34: 1 | C34: 54450 | J34: Līgums Nr. 1-22/7/2022 13.01.2022. SIA " Rears"
A35: Specializētas intensīvās terapijas gultas | B35: 8 | C35: 38720 | J35: Līgums 1-22/12/2022 14.01.2022. SIAS " Tradintek"
A36: Intensīvās terapijas gultu aktīvie pretzigulējumu matrači | B36: 8 | C36: 22748 | J36: Līgums Nr. 1-22/13/2022. 17.01.2022. SIA " Arbor Medical Korporācija"
A39: Avansā izmaksāts 2021.gadā | B39: 175421
A41: Faktiski apgūts finansējums 2021. gadā | B41: =G3+G4 -> 173884.26
A42: Papildus nepieciešams finansējums 2022. gadā (2021. gadā uzsākto pasākumu norēķiniem) | B42: 0
A43: Iezīmēts finansējums 2022. gadam | B43: =Kopsavilkums!E12 -> 1621775

Sheet Ziemeļkurz_799
J1: 1.7.pielikums
A2: SIA "Ziemeļkurzemes reģionālā slimnīca" | J2: Informatīvajam ziņojumam "Par paveikto veselības aprūpes sistēmas papildus kapacitātes stiprināšanai Covid-19 pacientu ārstēšanas nodrošināšanai un priekšlikumiem neizlietotā finansējuma apguvei "
F3: novembris | G3: =G11+G12 -> 58776.96
F4: decembris | G4: =G13+G14 -> 24478.3
A6: Informācija par finanšu līdzekļu izlietojumu
A7: Plānotais finansējums | D7: Informācija par finanšu līdzekļu izlietojumu
A8: Pozīcijas nosaukums | B8: Skaits | C8: Plānotā summa (ar PVN), EUR | D8: Pavadzīme | H8: Maksājuma uzdevums | J8: Komentārs par izpildes progresu
D9: Pavadzīmes Nr. | E9: Datums | F9: Piegādātājs | G9: Summa ( ar PVN) EUR | H9: Nr. | I9: Summa
A10: KOPĀ, t.sk. | B10: =SUM(B11:B14) -> 10 | C10: =SUM(C11:C14) -> 84000 | G10: =SUM(G11:G14) -> 83255.26 | I10: =SUM(I11:I14) -> 83255.26
A11: Augstas plūsmas skābekļa terapijas iekārtas | B11: 8 | C11: 60000 | D11: ABMG 212153 | E11: 44509 | F11: SIA "AB Medical Group Riga" | G11: 29040 | H11: 4532 | I11: 29040 | J11: Izpildīts
D12: ABMG 212177 | E12: 44516 | F12: SIA "AB Medical Group Riga" | G12: 29736.96 | H12: 1488 | I12: 29736.96 | J12: Izpildīts
A13: Defibrilators | B13: 1 | C13: 21000 | D13: ABTK 213451 | E13: 44544 | F13: SIA "Amerikas Baltijas tehnoloģiju korporācija" | G13: 21598.5 | H13: 29 | I13: 21598.5 | J13: Izpildīts
A14: Sevoflurāna iztvaikotājs anestēzijas iekārtai | B14: 1 | C14: 3000 | D14: AM211200125 | E14: 44537 | F14: SIA "A Medical" | G14: 2879.8 | H14: 4857 | I14: 2879.8 | J14: Izpildīts
A17: Avansā izmaksāts 2021.gadā | B17: 63000
A19: Faktiski apgūts finansējums 2021. gadā | B19: 63000
A20: Iezīmēts finansējums 2022. gadam | B20: 21000

Sheet Vidzem_899
J1: 1.8.pielikums
J2: Informatīvajam ziņojumam "Par paveikto veselības aprūpes sistēmas papildus kapacitātes stiprināšanai Covid-19 pacientu ārstēšanas nodrošināšanai un priekšlikumiem neizlietotā finansējuma apguvei "
A3: SIA "Vidzemes slimnīca" | D3: izpildīts | F3: oktobris | G3: =G13+G31+G18+G35 -> 15684.02
D4: daļēji izpildīts | F4: novembris | G4: =G16+G19+G25+G32 -> 43557.58
D5: jaunākie rēķini | F5: decembris | G5: =G17+G30 -> 21845.34
F6: janvāris | G6: =G33 -> 3303.3
A8: Informācija par finanšu līdzekļu izlietojumu (līgums Nr. VS/2021-395 )
A9: Plānotais finansējums | D9: Informācija par finanšu līdzekļu izlietojumu
A10: Pozīcijas nosaukums | B10: Skaits | C10: Plānotā summa (ar PVN), EUR | D10: Pavadzīme | H10: Maksājuma uzdevums | J10: Komentārs par izpildes progresu
D11: Pavadzīmes Nr. | E11: Datums | F11: Piegādātājs | G11: Summa ( ar PVN) EUR | H11: Nr. | I11: Summa
A12: KOPĀ, t.sk. | B12: =SUM(B13:B35) -> 332 | C12: =SUM(C13:C35) -> 570200 | G12: =SUM(G13:G35) -> 84390.24 | I12: =SUM(I13:I35) -> 83549.82
A13: Aktīvie pretizgulējumu matrači | B13: 16 | C13: 16000 | D13: S01816 | E13: 21.10.2021. | F13: UAB Slaugivita | G13: 4842.42 | H13: 21-05721 | I13: 4002 | J13: 6 gab. aktīvie pretizgulējumu matrači iegādāti. Pozīcija izpildīta daļēji, tiks organizēts papildus iepirkums. Plānotais iepirkuma izsludināšanas termiņš - februāris/marts. Iespējamais piegādes termiņš - maijs/jūnijs.
A14: Pacientu novērošanas monitori | B14: 30 | C14: 120000 | J14: Līgums noslēgts, gaidām piegādi.
A15: Perfūzijas sūkņi | B15: 40 | C15: 48000 | J15: Līgums noslēgts, gaidām piegādi.
A16: Mākslīgā plaušu ventilācijas iekārta | B16: 5 | C16: 75000 | D16: ARB 116357 | E16: 04.11.2021. | F16: SIA Arbor Medical Korporācija | G16: 9377.5 | H16: 21-06561 | I16: 9377.5 | J16: Iegādāts 1 gab. ventilators un mitrinātājs. Vēl pasūtīts klāt statīvs un vienreizlietojamie materiāli. Pozīcija izpildīta daļēji, tiks organizēts papildus iepirkums vēl 4 ventilatoriem. Plānotais iepirkuma izsludināšanas termiņš - februāris/marts. Iespējamais piegādes termiņš - maijs/jūnijs.
A17: Baktericīdais gaisa caurplūdes recirkulators | B17: 30 | C17: 18000 | D17: AM 1335 | E17: 06.12.2021. | F17: SIA Airmed | G17: 15500.1 | H17: 21-07205 | I17: 15500.1 | J17: Ir piegādāti, pozīcija izpildīta. Atskaite iesniegta janvārī.
A18: Augstas plūsmas skābekļa terapijas iekārtas | B18: 6 | C18: 36000 | D18: ELPA 022529 | E18: 25.10.2021. | F18: SIA NMS ELPA | G18: 60.5 | H18: 21-05969 | I18: 60.5 | J18: Iegādāta 1 lietota iekārta. Atskaite iesniegta janvārī.
D19: ELPA 022753 | E19: 22.11.2021. | F19: SIA NMS ELPA | G19: 27844.52 | H19: 21-06703 | I19: 8835.42 | J19: Iegādātas atlikušās 5 gab. iekārtas ar pacientu komplektiem visām 6 iekārtām. Pozīcija izpildīta. Atskaite iesniegta janvārī.
H20: 21-06963 | I20: 19009.1
A21: Hipoksijas – hiperoksijas terapijas ierīce | B21: 1 | C21: 55000 | J21: Līgums noslēgts, gaidām piegādi.
A22: Kardiotokogrāfs | B22: 1 | C22: 2800 | J22: Tiek gatavota tehniskā specifikācija iepirkumam. Plānotais iepirkuma izsludināšanas termiņš - februāris/marts. Iespējamais piegādes termiņš - maijs/jūnijs.
A23: Mobila ultrasonogrāfijas iekārta | B23: 1 | C23: 40000 | J23: Tiek gatavota tehniskā specifikācija iepirkumam. Plānotais iepirkuma izsludināšanas termiņš - februāris/marts. Iespējamais piegādes termiņš - maijs/jūnijs.
A24: Funkcionālās gultas (ar pasīviem pretizgulējumu matračiem) | B24: 10 | C24: 25000 | J24: Līgums noslēgts, gaidām piegādi.
A25: Instrumentu un manipulāciju galdiņi | B25: 10 | C25: 8000 | D25: ARB 117129 | E25: 26.11.2021. | F25: SIA Arbor Medical Korporācija | G25: 1422.96 | H25: 21-06862 | I25: 1422.96 | J25: 3 gab. galdiņi iegādāti. Pozīcija izpildīta daļēji, tiks organizēts papildus iepirkums. Plānotais iepirkuma izsludināšanas termiņš - februāris/marts. Iespējamais piegādes termiņš - maijs/jūnijs.
A26: Asins kultūru analizators | B26: 1 | C26: 46000 | J26: Tiek gatavota tehniskā specifikācija iepirkumam. Plānotais iepirkuma izsludināšanas termiņš - februāris/marts. Iespējamais piegādes termiņš - maijs/jūnijs.
A27: Medicīniskais ledusskapis | B27: 3 | C27: 7800 | J27: Tiek gatavota tehniskā specifikācija iepirkumam. Plānotais iepirkuma izsludināšanas termiņš - februāris/marts. Iespējamais piegādes termiņš - maijs/jūnijs.
A28: Centrifūga | B28: 1 | C28: 8000 | J28: Tiek gatavota tehniskā specifikācija iepirkumam. Plānotais iepirkuma izsludināšanas termiņš - februāris/marts. Iespējamais piegādes termiņš - maijs/jūnijs.
A29: Pacientu pārvietošanas aprīkojums | B29: 10 | C29: 16000 | J29: Līgums noslēgts, gaidām piegādi.
A30: Līķu rati | B30: 4 | C30: 8000 | D30: ELPA 023077 | E30: 29.12.2021. | F30: SIA NMS ELPA | G30: 6345.24 | H30: 22-07469 | I30: 6345.24 | J30: Pozīcija izpildīta, atskaite februārī.
A31: Ūdens sagatavošanas sistēma | B31: 1 | C31: 4600 | D31: WAT21 2-0846 | E31: 26.10.2021. | F31: WATEX SIA | G31: 4222.9 | H31: 21-05959 | I31: 4222.9 | J31: Nomainīta bojātā reversās osmozes sistēma, pozīcija izpildīta. Atskaite iesniegta janvārī.
A32: Skābekļa terapijas ierīces | B32: 150 | C32: 12000 | D32: ELPA 022765 | E32: 22.11.2021. | F32: SIA NMS ELPA | G32: 4912.6 | H32: 21-06947 | I32: 4912.6 | J32: Iegādāti 30 dubultie flowmetri un 100 mitrinātājtrauki. Pozīcija izpildīta daļēji, tiks veikta papildus ierīču iegāde.
D33: ELPA 023296 | E33: 28.01.2022. | F33: SIA NMS ELPA | G33: 3303.3 | H33: 22-08325 | I33: 3303.3 | J33: Iegādātas 7 gab. skābekļa koncentrācijas mērīšanas ierīces, kuras izmantot palātās skābekļa terapijas laikā. Pozīcija izpildīta.
A34: Defibrilators | B34: 2 | C34: 16000 | J34: Tiek gatavota tehniskā specifikācija iepirkumam. Plānotais iepirkuma izsludināšanas termiņš - februāris/marts. Iespējamais piegādes termiņš - maijs/jūnijs.
A35: Enterālās barošanas sūkņi | B35: 10 | C35: 8000 | D35: 297430 BLV | E35: 11.10.2021. | F35: SIA B.Braun Medical | G35: 6558.2 | H35: 21-05792 | I35: 6558.2 | J35: Iegādāti 10 gab. sūkņi komplektācijā ar barošanas blokiem, pozīcija izpildīta. Atskaite iesniegta janvārī.
A38: Avansā izmaksāts 2021.gadā | B38: 399140
A40: Faktiski apgūts finansējums 2021. gadā | B40: =G3+G4+G5 -> 81086.94
A41: Papildus nepieciešams finansējums 2022. gadā (2021. gadā uzsākto pasākumu norēķiniem) | B41: =ROUNDUP(B38-B40,0) -> 318054
A42: Iezīmēts finansējums 2022. gadam | B42: 171060

Sheet JEKABP_899
K1: 1.9.pielikums
A2: SIA Jēkabpils reģionālā slimnīca, reģ. Nr.50003356621 | K2: Informatīvajam ziņojumam "Par paveikto veselības aprūpes sistēmas papildus kapacitātes stiprināšanai Covid-19 pacientu ārstēšanas nodrošināšanai un priekšlikumiem neizlietotā finansējuma apguvei "
G3: decembris | H3: =H12 -> 41401.36
G4: janvāris | H4: =H22 -> 9858.78
G5: februāris | H5: =H13 -> 2178
A7: Informācija par finanšu līdzekļu izlietojumu pie līguma no 12.2021
A8: Plānotais finansējums | E8: Informācija par finanšu līdzekļu izlietojumu
A9: Grupa | B9: Medicīnas ierīce | C9: Skaits | D9: Plānotā summa (ar PVN), EUR | E9: Pavadzīme | I9: Maksājuma uzdevums (atbilstoši Līguma 3.1.4.punktam) | K9: Komentārs par izpildes progresu
E10: Pavadzīmes Nr. | F10: Datums | G10: Piegādātājs | H10: Summa ( ar PVN) EUR | I10: Nr. | J10: Summa
A11: KOPĀ, t.sk. | B11: x | D11: =D21+D22+D23 -> 1042192 | E11: x | F11: x | G11: x | H11: =H12+H13+H14+H17+H18+H19+H20+H21+H22+H23 -> 191218.42 | I11: x | K11: x
B12: Multifunkcionālās reanimācijas gulta, elektriska | C12: 4 | D12: 30800 | E12: 118045 | F12: 22.12.21. | G12: ARBOR MEDICAL KORPORĀCIJA SIA | H12: 41401.36 | I12: 27.12.21.086651 | J12: =H12 -> 41401.36 | K12: IZPILDĪTS
B13: Pacenta skapīti ar statīviem | C13: 4 | D13: 2400 | E13: 200134 | F13: 04.02.2022 | G13: ARBOR MEDICAL KORPORĀCIJA SIA | H13: 2178 | K13: IZPILDĪTS
B14: Procedūru rati | C14: 4 | D14: 3000 | G14: ARBOR MEDICAL KORPORĀCIJA SIA | H14: 2744.28 | K14: Gaidam piegādi Martā
B15: Māsu novērošanas postenis un kameras pacientu novērošanai | C15: 1 | D15: 5000 | E15: - | F15: - | G15: - | H15: - | I15: - | J15: - | K15: Nav aktuāls
B16: Slūžas | C16: 2 | D16: 3000 | E16: - | F16: - | G16: - | H16: - | I16: - | J16: - | K16: Nav aktuāls
B17: Mākslīgās plaušu ventilācijas aparāti (NIVA, APST, INV) | C17: 4 | D17: 132000 | G17: ARBOR MEDICAL KORPORĀCIJA SIA | H17: 135036 | K17: Noslēdzies iepirkums (parakstīts līgums par piegādi)
B18: Vitālo rādītāju moniori | C18: 4 | D18: 30000 | K18: Izsludināts iepirkums
B19: Perfuzori | C19: 24 | D19: 31992 | K19: Izsludināts iepirkums
B20: Enterālās barošanas sūknis | C20: 4 | D20: 4000 | K20: Izsludināts iepirkums
D21: =SUM(D12:D20) -> 242192
B22: Iekštelpu pārveide (cauruļu maiņa) - steidzama | D22: 150000 | E22: 036/2021. | F22: 05.01.22. | G22: NMS ELPA SIA | H22: 9858.78 | K22: Daļēji realizēts
B23: Ārējā infrastruktūras uzlabošana - skābekļa balons, attvaikotājsistēm, balona uzstādīšanas infrastruktūra un cauruļu novadīšana līdz stacionāriem) | D23: 650000 | K23: Tiks realizēts vasarā, jo darbi saistīti ar zemes darbiem un tos var veikt kad būs atbilstoši laika apstākļi.
B25: Avansā izmaksāts 2021.gadā | C25: 392192
B27: Faktiski apgūts finansējums 2021. gadā | C27: =H3 -> 41401.36
B28: Papildus nepieciešams finansējums 2022. gadā (2021. gadā uzsākto pasākumu norēķiniem) | C28: =ROUNDUP(C25-C27,0) -> 350791
B29: Iezīmēts finansējums 2022. gadam | C29: 650000

Sheet Liepāj_899
N1: 1.10.pielikums
A2: SIA “Liepājas reģionālā slimnīca” | I2: decembris | J2: =J12 -> 11904.22 | N2: Informatīvajam ziņojumam "Par paveikto veselības aprūpes sistēmas papildus kapacitātes stiprināšanai Covid-19 pacientu ārstēšanas nodrošināšanai un priekšlikumiem neizlietotā finansējuma apguvei "
A5: Nr | B5: Pozīcijas nosaukums | C5: Skaits | D5: Cena EUR par vienību bez PVN | E5: Cena EUR par vienību ar PVN | F5: Summa EUR kopā a PVN | G5: Informācija par finanšu līdzekļu izlietojumu | N5: Komentārs par izpildes progresu
G6: Pavadzīme | K6: Maksājuma uzdevums
G7: Pavadzīmes Nr. | H7: Datums | I7: Piegādātājs | J7: Summa ( ar PVN) EUR | K7: Nr. | L7: Datums | M7: Summa
D8: =SUM(D9:D32) -> 537000 | E8: =SUM(E9:E32) -> 649771 | F8: =SUM(F9:F32) -> 1415821 | J8: =SUM(J9:J32) -> 11904.22 | M8: =SUM(M9:M32) -> 11904.22
A9: 1 | B9: Pacientu monitoru komplekti | C9: 28 | D9: 4000 | E9: 4840 | F9: 135520 | N9: Iepirkuma dokumentācijas izstrāde. Plānota piegāde atbilstoši telpu gatavībai (LRS pārbūves 2.kārta - 09.2022.). Izpilde 10.2022.
A10: 2 | B10: Pacientu monitoru stacijas/sistēmas (komplekts) | C10: 2 | D10: 36000 | E10: 43560 | F10: 87120 | N10: Iepirkuma dokumentācijas izstrāde. Plānota piegāde atbilstoši telpu gatavībai (LRS pārbūves 2.kārta - 09.2022.). Izpilde 10.2022.
A11: 3 | B11: Mākslīgās plaušu ventilācijas iekārtas | C11: 3 | D11: 34500 | E11: 41745 | F11: 125235 | N11: Iepirkuma dokumentācijas izstrāde. Plānota piegāde atbilstoši telpu gatavībai (LRS pārbūves 2.kārta - 09.2022.). Izpilde 10.2022.
A12: 4 | B12: Augstas plūsmas iekārtas | C12: 5 | D12: 3200 | E12: 3872 | F12: 19360 | G12: ELPA 022993 | H12: 15.12.2021. | I12: SIA "NMS ELPA" | J12: 11904.22 | K12: 19194 | L12: 29.12.2021. | M12: =J12 -> 11904.22 | N12: Izpildīts, 2021.gadā: Veikta 4 iekārtu piegāde.
A13: 5 | B13: Neinvazīvas pozitīva spiediena plaušu ventilācijas iekārtas | C13: 5 | D13: 7000 | E13: 8470 | F13: 42350 | N13: Iepirkuma dokumentācijas izstrāde. Plānota piegāde 07.2022. Izpilde 08.2022.
A14: 6 | B14: Mobilā USG iekārta | C14: 1 | D14: 40000 | E14: 48400 | F14: 48400 | N14: Iepirkuma dokumentācijas izstrāde. Plānota piegāde atbilstoši telpu gatavībai (LRS pārbūves 2.kārta - 09.2022.). Izpilde 10.2022.
A15: 7 | B15: Medicīniskie sūkņi | C15: 28 | D15: 350 | E15: 424 | F15: 11858 | N15: Iepirkuma dokumentācijas izstrāde. Plānota piegāde atbilstoši telpu gatavībai (LRS pārbūves 2.kārta - 09.2022.). Izpilde 10.2022.
A16: 8 | B16: Perfūzijas iekārtas | C16: 28 | D16: 1300 | E16: 1573 | F16: 44044 | N16: Iepirkuma dokumentācijas izstrāde. Plānota piegāde atbilstoši telpu gatavībai (LRS pārbūves 2.kārta - 09.2022.). Izpilde 10.2022.
A17: 9 | B17: Infūzijas iekārtas | C17: 28 | D17: 1300 | E17: 1573 | F17: 44044 | N17: Iepirkuma dokumentācijas izstrāde. Plānota piegāde atbilstoši telpu gatavībai (LRS pārbūves 2.kārta - 09.2022.). Izpilde 10.2022.
A18: 10 | B18: Akūtā nieru aizstājeējterapijas iekārta | C18: 1 | D18: 19000 | E18: 22990 | F18: 22990 | N18: Iepirkuma dokumentācijas izstrāde. Plānota piegāde atbilstoši telpu gatavībai (LRS pārbūves 2.kārta - 09.2022.). Izpilde 10.2022.
A19: 11 | B19: Skābekļa ražošanas stacija (papildus, rezervē, lai varam nodrošināt lielāku kapacitāti) | C19: 1 | D19: 170000 | E19: 205700 | F19: 205700 | N19: Izsludināts iepirkums: LRS 2022/01. Plānots piegādāt un uzstādīt līdz 04.2022.
A20: 12 | B20: Funkcionālās gultas | C20: 28 | D20: 4200 | E20: 5082 | F20: 142296 | N20: Iepirkuma dokumentācijas izstrāde. Plānota piegāde atbilstoši telpu gatavībai (LRS pārbūves 2.kārta - 09.2022.). Izpilde 10.2022.
A21: 13 | B21: Elektriskās impendances tomogrāfs | C21: 2 | D21: 65000 | E21: 78650 | F21: 157300 | N21: Iepirkuma dokumentācijas izstrāde. Plānota piegāde atbilstoši telpu gatavībai (LRS pārbūves 2.kārta - 09.2022.). Izpilde 10.2022.
A22: 14 | B22: Pacientu termoregulācijas vadības sistēma | C22: 2 | D22: 13000 | E22: 15730 | F22: 31460 | N22: Iepirkuma dokumentācijas izstrāde. Plānota piegāde atbilstoši telpu gatavībai (LRS pārbūves 2.kārta - 09.2022.). Izpilde 10.2022.
A23: 15 | B23: Inhalācijas anestētiķu sedācijas iekārta | C23: 3 | D23: 23000 | E23: 27830 | F23: 83490 | N23: Iepirkuma dokumentācijas izstrāde. Plānota piegāde atbilstoši telpu gatavībai (LRS pārbūves 2.kārta - 09.2022.). Izpilde 10.2022.
A24: 16 | B24: Pozicionēšanas balstu sistēma (spilveni) | C24: 10 | D24: 500 | E24: 605 | F24: 6050 | N24: Iepirkuma dokumentācijas izstrāde. Plānota piegāde atbilstoši telpu gatavībai (LRS pārbūves 2.kārta - 09.2022.). Izpilde 10.2022.
... A32: 24 | B32: Anestēzijas iekārta | C32: 2 | D32: 45000 | E32: 54450 | F32: 108900 | N32: Iepirkuma dokumentācijas izstrāde. Plānota piegāde atbilstoši telpu gatavībai (LRS pārbūves 2.kārta - 09.2022.). Izpilde 10.2022.
B35: Avansā izmaksāts 2021.gadā | C35: 991075
B37: Faktiski apgūts finansējums 2021. gadā | C37: =J2 -> 11904.22
B38: Papildus nepieciešams finansējums 2022. gadā (2021. gadā uzsākto pasākumu norēķiniem) | C38: =ROUNDUP(C35-C37,0) -> 979171
B39: Iezīmēts finansējums 2022. gadam | C39: =Kopsavilkums!E18 -> 424746

Sheet Rēzekn_899
J1: 1.11.pielikums
A2: Sabiedrība ar ierobežotu atbildību "RĒZEKNES SLIMNĪCA" | J2: Informatīvajam ziņojumam "Par paveikto veselības aprūpes sistēmas papildus kapacitātes stiprināšanai Covid-19 pacientu ārstēšanas nodrošināšanai un priekšlikumiem neizlietotā finansējuma apguvei "
F3: decembris | G3: =G9+G10+G11+G12+G13 -> 304459.34
A4: Informācija par finanšu līdzekļu izlietojumu
A5: Plānotais finansējums | D5: Informācija par finanšu līdzekļu izlietojumu
A6: Pozīcijas nosaukums | B6: Skaits | C6: Plānotā summa (ar PVN), EUR | D6: Pavadzīme | H6: Maksājuma uzdevums | J6: Komentārs par izpildes progresu
D7: Pavadzīmes Nr. | E7: Datums | F7: Piegādātājs | G7: Summa ( ar PVN) EUR | H7: Nr. | I7: Summa
A8: KOPĀ, t.sk. | B8: =SUM(B9:B13) -> 3 | C8: =SUM(C9:C13) -> 485888 | G8: =SUM(G9:G13) -> 304459.34 | I8: =SUM(I9:I13) -> 304459.34 | J8: Uz 16.02.2022.
A9: Augstākas caurplūdes skābekļa padeves cauruļvadu sistēmas izbūve starp centrālo tvertni, intensīvās terapijas nodaļu un infekciju nodaļu (papildfinansējums) | B9: 1 | C9: 209114 | D9: VEL301221/64 | E9: 30.12.2021. | F9: Sabiedrība ar ierobežotu atbildību "Velasco", reģ. Nr. 40203232892 | G9: 71606.86 | H9: 1068, 1071 | I9: 71606.86 | J9: Iepirkuma līgums Nr. RS 2021/61/2 noslēgts 04.11.2021. Līguma izpildīts (līgums par sistēmas izbūvi). Līguma summa 173 494,30 EUR, t.sk. pamatsumma 143 383,72 EUR un PVN 21% 30 110,58 EUR. Uz 17.03.2021. līgumu Nr. NVD-2/131-2021 attiecināma summa 101 887,44 EUR, t.sk. pamatsumma 84 204,50 EUR un PVN 21% 17 682,94 EUR, savukārt uz 22.12.2021. līgumu Nr. NVD-9/220-2021 attiecināma summa 71 606,86 EUR, t.sk. pamatsumma 59 179,22 EUR un PVN 21% 12 427,64 EUR.
A10: Medicīniskā saspiestā gaisa ražošanas mezgla, gaisa apmaiņas mezgla, ūdens sagatavošanas un attīrīšanas mezgla un to funkcionalitāti nodrošinošo inženierkomunikāciju remontdarbu/pielāgošanas darbu veikšana | B10: 2 | C10: 276774 | D10: RS 274 | E10: 30.12.2021. | F10: SIA "RĒZEKNES SANTEHNIĶIS", reģ.Nr. 42402007219 | G10: 65110.31 | H10: 82, 125 | I10: 65110.31 | J10: Iepirkuma līgums Nr. RS 2021/96/1 noslēgts 22.12.2021. Būvdarbu izpildes termiņš 31.12.2021. Norisinās dokumentācijas (darbu akti un izpilddokumentācija) pārbaude, paredzētais apmaksas termiņš ne vēlāk kā 01.03.2022. Paredzētais atskaites iesniegšanas termiņš pēc darbu apmaksas veikšanas nepārsniedz līguma Nr. NVD-9/220-2021 3.1.punktā noteikto termiņu.
D11: RS 275 | E11: 30.12.2021. | F11: SIA "RĒZEKNES SANTEHNIĶIS", reģ.Nr. 42402007219 | G11: 52726.9 | H11: 186, 126 | I11: 52726.9 | J11: Iepirkuma līgums Nr. RS 2021/96/2 noslēgts 22.12.2021. Būvdarbu izpildes termiņš 31.12.2021. Norisinās dokumentācijas (darbu akti un izpilddokumentācija) pārbaude, paredzētais apmaksas termiņš ne vēlāk kā 01.03.2022. Paredzētais atskaites iesniegšanas termiņš pēc darbu apmaksas veikšanas nepārsniedz līguma Nr. NVD-9/220-2021 3.1.punktā noteikto termiņu.
D12: M-2021/97 | E12: 30.12.2021. | F12: SIA "M-Trade", reģ.Nr. 40103593535 | G12: 30853.39 | H12: 9, 13 | I12: 30853.39 | J12: Iepirkuma līgums Nr. RS 2021/96/3 noslēgts 22.12.2021. Būvdarbu izpildes termiņš 31.12.2021. Norisinās dokumentācijas (darbu akti un izpilddokumentācija) pārbaude, paredzētais apmaksas termiņš ne vēlāk kā 01.03.2022. Paredzētais atskaites iesniegšanas termiņš pēc darbu apmaksas veikšanas nepārsniedz līguma Nr. NVD-9/220-2021 3.1.punktā noteikto termiņu.
D13: Rēķins 202112/06 | E13: 30.12.2021. | F13: Sabiedrība ar ierobežotu atbildību "STEXKOM", reģ.Nr. 52403038701 | G13: 84161.88 | H13: 11, 14 | I13: 84161.88 | J13: Iepirkuma līgums Nr. RS 2021/96/4 noslēgts 22.12.2021. Būvdarbu izpildes termiņš 31.12.2021. Norisinās dokumentācijas (darbu akti un izpilddokumentācija) pārbaude, paredzētais apmaksas termiņš ne vēlāk kā 01.03.2022. Paredzētais atskaites iesniegšanas termiņš pēc darbu apmaksas veikšanas nepārsniedz līguma Nr. NVD-9/220-2021 3.1.punktā noteikto termiņu.
A16: Avansā izmaksāts 2021.gadā | B16: 485888
A18: Faktiski apgūts finansējums 2021. gadā | B18: =G3 -> 304459.34
A19: Papildus nepieciešams finansējums 2022. gadā (2021. gadā uzsākto pasākumu norēķiniem) | B19: 0

Sheet Ziemeļk_899
J1: 1.12.pielikums
A2: SIA "Ziemeļkurzemes reģionālā slimnīca" | J2: Informatīvajam ziņojumam "Par paveikto veselības aprūpes sistēmas papildus kapacitātes stiprināšanai Covid-19 pacientu ārstēšanas nodrošināšanai un priekšlikumiem neizlietotā finansējuma apguvei "
F3: oktobris | G3: =G19+G21+G32 -> 4005.11
F4: novembris | G4: =G12+G18+G20+G22+G23+G24+G25+G26+G29+G34+G35 -> 90078.92
F5: decembris | G5: =G13+G14+G17+G27+G28+G30+G31+G33+G36 -> 93187.47
F6: janvāris | G6: =G15+G16 -> 33329.45
A7: Informācija par finanšu līdzekļu izlietojumu
A8: Plānotais finansējums | D8: Informācija par finanšu līdzekļu izlietojumu
A9: Pozīcijas nosaukums | B9: Skaits | C9: Plānotā summa (ar PVN), EUR | D9: Pavadzīme | H9: Maksājuma uzdevums | J9: Komentārs par izpildes progresu
D10: Pavadzīmes Nr. | E10: Datums | F10: Piegādātājs | G10: Summa ( ar PVN) EUR | H10: Nr. | I10: Summa
A11: KOPĀ, t.sk. | B11: =SUM(B12:B35) -> 156 | C11: =SUM(C12:C36) -> 242651.65 | G11: =SUM(G12:G36) -> 220600.95 | I11: =SUM(I12:I35) -> 220181.76
A12: Funkcionālās gultas + matrači | B12: 20 | C12: 42000 | D12: ELPA 022719 | E12: 44515 | F12: SIA "NMS Elpa" | G12: 39228.2 | H12: 4452 | I12: 39228.2 | J12: Izpildīts
A13: Pacientu skapīši | B13: 20 | C13: 13000 | D13: TR 212116 | E13: 44552 | F13: SIA "Tradintek" | G13: 13189 | H13: 5021 | I13: 13189 | J13: Izpildīts
A14: Infūziju statīvi | B14: 20 | C14: 1420 | D14: ARB 1177773 | E14: 44540 | F14: SIA "Arbor Medical Korporācija" | G14: 1573 | H14: 4832 | I14: 1573 | J14: Izpildīts
A15: Perfuzori | B15: 21 | C15: 20328 | D15: 303446 BLV | E15: 44589 | F15: SIA "B.Braun Medical" | G15: 20582.1 | H15: 425 | I15: 33329.45 | J15: Izpildīts
A16: Perfuzoru turētājskapis ar statīvu (1 uz 3 perfuzoriem) | B16: 7 | C16: 12662.65 | G16: 12747.35
A17: Komplekts 12 pacientu nov.monitori ar centrālo staciju | B17: 1 | C17: 80000 | D17: ARB 117994 | E17: 44550 | F17: SIA "Arbor Medical Korporācija" | G17: 63113.6 | H17: 5017 | I17: 63113.6 | J17: Izpildīts
A18: Pulsa oksimetri (ar lādētāju) | B18: 20 | C18: 8300 | D18: ARB 116863 | E18: 44517 | F18: SIA "Arbor Medical Korporācija" | G18: 7986 | H18: 4556 | I18: 7986 | J18: Izpildīts
A19: Konteiners medicīniskajiem atkritumiem | B19: 1 | C19: 2800 | D19: MODU 6140/21 | E19: 44491 | F19: SIA "Modul" | G19: 2758.8 | H19: 4008 | I19: =G19 -> 2758.8 | J19: Izpildīts
A20: Bīstamo atkritumu statīvs | B20: 1 | C20: 760 | D20: ILX2200454 | E20: 44509 | F20: SIA "Interlux" | G20: =830.48 -> 830.48 | H20: 1440 | I20: =G20 -> 830.48 | J20: Izpildīts
A21: Uzkopšanas rati | B21: 1 | C21: 860 | D21: BG730731 | E21: 44497 | F21: SIA "BG" | G21: 859.75 | H21: 1293 | I21: =G21 -> 859.75 | J21: Izpildīts
A22: Veļas mazgājamā mašīna | B22: 1 | C22: 4750 | D22: PRO690709 | E22: 44511 | F22: SIA "Profiks Clean" | G22: 2740.65 | H22: 1401 | I22: =G22 -> 2740.65 | J22: Izpildīts
A23: Rati pacientu pārvadāšanai (sēdrati) | B23: 1 | C23: 500 | D23: ELPA 022675 | E23: 44508 | F23: SIA "NMS Elpa" | G23: 234.74 | H23: 1376 | I23: =G23 -> 234.74 | J23: Izpildīts
A24: Ledusskapis slēdzams | B24: 1 | C24: 530 | D24: SOL 21-47 | E24: 44504 | F24: SIA "SOL 1" | G24: 544.5 | H24: 4356 | I24: =G24 -> 544.5 | J24: Izpildīts
A25: Infūzijas šķīduma sildītājs | B25: 1 | C25: 1200 | D25: ARB 116153 | E25: 44503 | F25: SIA "Arbor Medical Korporācija" | G25: 907.5 | H25: 4353 | I25: =G25 -> 907.5 | J25: Izpildīts
A26: Automātiskās virsmu dezinfekcijas iekārta | B26: 1 | C26: 5143 | D26: AMR-00729 | E26: 44505 | F26: SIA "Amrid" | G26: 5142.5 | H26: 4342 | I26: =G26 -> 5142.5 | J26: Izpildīts
A27: elektrokardiogrāfs | B27: 1 | C27: 5000 | D27: ARB 117562 | E27: 44540 | F27: SIA "Arbor Medical Korporācija" | G27: 5445 | H27: 00001 | I27: 5445 | J27: Izpildīts
A28: slēgtā tipa baktericīdā lampa | B28: 2 | C28: 1500 | D28: ARB 117644 | E28: 44536 | F28: SIA "Arbor Medical Korporācija" | G28: 1089 | H28: 4780 | I28: 1089 | J28: Izpildīts
A29: intensīvās terapijas pacientu gultas | B29: 2 | C29: 31800 | D29: ARB 116988 | E29: 44523 | F29: SIA "Arbor Medical Korporācija" | G29: 31460 | H29: 4555 | I29: 31460 | J29: Izpildīts
A30: pārvietojamie ratiņi | B30: 3 | C30: 2250 | D30: ELPA 022930 | E30: 44533 | F30: SIA "NMS Elpa" | G30: 2254.23 | H30: 4874 | I30: 2254.23 | J30: Izpildīts
A31: pārvietojamie medicīnas skapji | B31: 3 | C31: 5320 | D31: SC 12721 | E31: 44532 | F31: SIA "Scanmed" | G31: 5317.95 | H31: 4771 | I31: 5317.95 | J31: Izpildīts
A32: Slūžas | B32: 1 | C32: 380 | D32: Nr.24.10.2021 | E32: 44493 | F32: SIA "STALVE" | G32: 386.56 | H32: 4135 | I32: =G32 -> 386.56 | J32: Izpildīts
A33: Infūzu statīvi | B33: 10 | C33: 710 | D33: ARB 1177772 | E33: 44540 | F33: SIA "Arbor Medical Korporācija" | G33: 786.5 | H33: 4873 | I33: =G33 -> 786.5 | J33: Izpildīts | R33: 3
A34: neinvazīvā ventilācijas maska | B34: 13 | C34: 598 | D34: ELPA 022720 | E34: 44515 | F34: SIA "NMS Elpa" | G34: 613.47 | H34: 4558 | I34: 613.47 | J34: Izpildīts
A35: Codan invazīvā asinspiediena piederumi | B35: 4 | C35: 840 | D35: ARB 116259 | E35: 44503 | F35: SIA "Arbor Medical Korporācija" | G35: 390.88 | H35: 4357 | I35: =G35 -> 390.88 | J35: Izpildīts | R35: 2
D36: ARB 117889 | E36: 44547 | F36: SIA "Arbor Medical Korporācija" | G36: 419.19 | H36: 4871 | I36: 419.19 | J36: Izpildīts | R36: 2
A39: Avansā izmaksāts 2021.gadā | B39: 201161
A41: Faktiski apgūts finansējums 2021. gadā | B41: =G3+G4+G5 -> 187271.5
A42: Iezīmēts finansējums 2022. gadam | B42: 41491

Sheet Priek_899
J1: 1.13.pielikums
A2: SIA "Priekules slimnīca" | J2: Informatīvajam ziņojumam "Par paveikto veselības aprūpes sistēmas papildus kapacitātes stiprināšanai Covid-19 pacientu ārstēšanas nodrošināšanai un priekšlikumiem neizlietotā finansējuma apguvei "
F3: 2021.gads | G3: =G11+G12+G13+G14+G16 -> 10850.07
F4: 2022.gada janvāris | G4: =G17 -> 1022.01
F5: 2022.gada februāris | G5: =G15+G18 -> 1954.15
A6: Informācija par finanšu līdzekļu izlietojumu
A7: Plānotais finansējums | D7: Informācija par finanšu līdzekļu izlietojumu
A8: Pozīcijas nosaukums | B8: Skaits | C8: Plānotā summa (ar PVN), EUR | D8: Pavadzīme | H8: Maksājuma uzdevums | J8: Komentārs par izpildes progresu
D9: Pavadzīmes Nr. | E9: Datums | F9: Piegādātājs | G9: Summa ( ar PVN) EUR | H9: Nr. | I9: Summa
A10: KOPĀ, t.sk. | B10: =SUM(B11:B18) -> 19 | C10: =SUM(C11:C18) -> 13830 | G10: =SUM(G11:G18) -> 13826.23 | I10: =SUM(I11:I18) -> 13826.23
A11: Pacientu monitori ar pulsoksimetriem,ar asinsspiediena automātisko mērišanu un EKG | B11: 3 | C11: 9000 | D11: ARB 118318 | E11: 30.12.2021. | F11: Arbor Medical Korporācija SIA | G11: 2420 | H11: 41 | I11: 2420 | J11: Viens monitors
D12: ARB 118318 | E12: 30.12.2021. | F12: Arbor Medical Korporācija SIA | G12: 423.5 | H12: 41 | I12: 423.5 | J12: Monitora statīvs
D13: TR 212129 | E13: 30.12.2021. | F13: SIA Tradintek | G13: 5507.92 | H13: 42 | I13: 5507.92 | J13: Divi monitori
A14: Sūkņi | B14: 2 | C14: 1000 | D14: ARB 118318 | E14: 30.12.2021. | F14: Arbor Medical Korporācija SIA | G14: 1210 | H14: 41 | I14: 1210 | J14: Divi sūkņi
A15: Pretizgulējuma matrači | B15: 5 | C15: 1250 | D15: NOVA 220101 | E15: 17.02.2022. | F15: Novamed SIA | G15: 828.85 | H15: 4575 | I15: 828.85 | J15: Pieci pretizgulējumu matrači KP80-S+kompersors
A16: Elektrokardiogrāfs | B16: 1 | C16: 1100 | D16: TR 212129 | E16: 30.12.2021. | F16: SIA Tradintek | G16: 1288.65 | H16: 42 | I16: 1288.65 | J16: Viens elektrokardiogrāfs
A17: Starpsienas telpu nodalīšanai (zonu nodalīšanai) | B17: 2 | C17: 1000 | D17: 44568 | E17: 07.01.2022. | F17: SIA Stalve | G17: 1022.01 | H17: 4440 | I17: 1022.01 | J17: Divas starpsienas telpu nodalīšanai ( zonu nodalīšanai).
A18: Aizslietņi | B18: 6 | C18: 480 | D18: J22-05 | E18: 18.02.2022. | F18: Emed SIA | G18: 1125.3 | H18: 4574 | I18: 1125.3 | J18: Seši aizslietņi-3 sekciju, saliekami,uz riteņiem.
A21: Avansā izmaksāts 2021.gadā | B21: 9681
A23: Faktiski apgūts finansējums 2021. gadā | B23: 9681
A24: Iezīmēts finansējums 2022. gadam | B24: 4149

Sheet Dobele_899
J1: 1.14.pielikums
J2: Informatīvajam ziņojumam "Par paveikto veselības aprūpes sistēmas papildus kapacitātes stiprināšanai Covid-19 pacientu ārstēšanas nodrošināšanai un priekšlikumiem neizlietotā finansējuma apguvei "
A3: SIA "Dobeles un apkārtnes slimnīca" | F3: novembris | G3: =G10 -> 1498.34
D6: Informācija par finanšu līdzekļu izlietojumu
A7: Pozīcijas nosaukums | B7: Skaits | C7: Plānotā summa (ar PVN), EUR | D7: Pavadzīme | H7: Maksājuma uzdevums | J7: Komentārs par izpildes progresu
D8: Pavadzīmes Nr. | E8: Datums | F8: Piegādātājs | G8: Summa ( ar PVN) EUR | H8: Nr. | I8: Summa
A9: KOPĀ, t.sk. | B9: =SUM(B10:B14) -> 35 | C9: =SUM(C10:C14) -> 175869.08 | G9: =SUM(G10:G14) -> 53237.94
A10: Skābekļa padeves līnijas izbūve | B10: 1 | C10: 9745 | D10: 6721895568 | E10: 44511 | F10: SIA "Linde Gas" | G10: 1498.34 | H10: 2905 | I10: 1498.34 | J10: Pabeigta skābekļa izbūves sistēma
A11: Pulsa oksimetri ar neinvazīvu asinsspiediena mērījuma funkciju ar statīviem uz riteņiem | B11: 16 | C11: 33686.08 | F11: SIA "AB Medical Group Riga" | G11: 49888.3 | J11: Sākotnēji bija plānoti 16 gab. Pacientu monitoru novērošanas stacijas ar riteņiem un statīviem. 18.01.2022. pretendentiem tika nosūtīts paziņojums par atklāta konkursa rezultātiem. Līgumu paredzēts slēgt ar SIA "AB Medical Group Riga" par kopējo līgumsummu 49888.30 euro ar PVN. Preces piegāde līdz 2022. gada aprīļa beigām, taču ražotājs sola piegādāt līdz marta beigām.Ir risks, ka ražotājs aizkavē piegādi un Prece netiek piegādāta līdz 2022. gada marta beigām.
A12: Perfuzori | B12: 16 | C12: 15488 | J12: Piegādāti ārzemju palīdzības kārtā
A13: Mobīlā RTG iekārta (pārvietojama) | B13: 1 | C13: 114950 | J13: Piegādāta lietota ārzemju palīdzības kārtā
A14: Liela apjoma dezinfekcijas iekārta | B14: 1 | C14: 2000 | F14: SIA "Gudrā māja GMF" | G14: 1851.3 | J14: 11.02.2022. izvērtēti iesniegtie piedāvājumi un pieņemts lēmums slēgt līgumu ar SIA "Gudrā māja GMF". Kopējā līgumsumma par iekārtu sastāda 1851,30 euro ar PVN. Prece tiks iegādāta līdz 2022. gada marta beigām.
A18: Avansā izmaksāts 2021.gadā | B18: 126032
A19: Faktiski apgūts finansējums 2021. gadā | B19: =G10 -> 1498.34
A20: Papildus nepieciešams finansējums 2022. gadā (2021. gadā uzsākto pasākumu norēķiniem) | B20: =ROUNDUP(G14+G11-B21,0) -> 1902
A21: Iezīmēts finansējums 2022. gadam | B21: 49838

Sheet Alūksn_899
J1: 1.15.pielikums
A2: Alūksnes slimnīca | J2: Informatīvajam ziņojumam "Par paveikto veselības aprūpes sistēmas papildus kapacitātes stiprināšanai Covid-19 pacientu ārstēšanas nodrošināšanai un priekšlikumiem neizlietotā finansējuma apguvei "
F3: oktobris | G3: =G20 -> 676.48
F4: novembris | G4: =G19 -> 6316.83
F5: decembris | G5: =G13 -> 23958
F6: janvāris | G6: =G14 -> 9438
F7: februāris | G7: =G15+G17 -> 6774.19
A8: Informācija par finanšu līdzekļu izlietojumu
A9: Plānotais finansējums | D9: Informācija par finanšu līdzekļu izlietojumu
A10: Pozīcijas nosaukums | B10: Skaits | C10: Plānotā summa (ar PVN), EUR | D10: Pavadzīme | H10: Maksājuma uzdevums | J10: Komentārs par izpildes progresu
D11: Pavadzīmes Nr. | E11: Datums | F11: Piegādātājs | G11: Summa ( ar PVN) EUR | H11: Nr. | I11: Summa
A12: KOPĀ, t.sk. | B12: =SUM(B13:B20) -> 38 | C12: =SUM(C13:C20) -> 83975.05 | G12: =SUM(G13:G20) -> 47163.5 | I12: =SUM(I13:I20) -> 47163.5
A13: Perfuzors | B13: 6 | C13: 25300.02 | D13: 301890 BLV | E13: 30.12.2021. | F13: SIA "B.Braun Medical" | G13: 23958 | H13: 220001 | I13: 23958 | J13: Iekārtas piegādātas
A14: Pacientu monitori ar statīvu | B14: 4 | C14: 8000 | D14: ARB 119294 | E14: 28.01.2022. | F14: SIA "Arbor Medical Korporācija" | G14: 9438 | H14: 220271 | I14: 9438 | J14: Iekārtas piegādātas
A15: Vakuumsūkņi ar piederumiem | B15: 3 | C15: 3600 | D15: MQ-091774 | E15: 21.02.2022. | F15: SIA "Mediq Latvija" | G15: 3446.69 | H15: 220527 | I15: 3446.69 | J15: Iekārtas piegādātas
A16: Funkcionālās gultas ar skapīti | B16: 8 | C16: 16000 | J16: Līgums noslēgts. Piegāde plānota līdz marta beigām
A17: Baktericīdās lampas | B17: 8 | C17: 6400 | D17: AM220200330 | E17: 21.02.2022. | F17: SIA "A.Medical" | G17: 3327.5 | H17: 220569 | I17: 3327.5 | J17: Iekārtas piegādātas
A18: Pacientu novērošanas kameras ar piederumiem un monitoriem | B18: 7 | C18: 12000 | G18: 0 | H18: 0 | I18: 0 | J18: Iekārtas netiks iegādātas
A19: Sābekļa sistēmas uzlabošanas darbi (jau uzsākti, bet rēķins nav saņemts) | B19: 1 | C19: 12000.03 | D19: 6721895046 | E19: 09.11.2021. | F19: SIA "Linde Gas" | G19: 6316.83 | H19: 217440 | I19: 6316.83 | J19: Darbi veikti
A20: Norobežojošo slūžu izdevumi | B20: 1 | C20: 675 | D20: 21.10.2021. - Alūksnes slimnīca | E20: 21.10.2021. | F20: SIA"STALVE" | G20: 676.48 | H20: 217191 | I20: 676.48 | J20: Iekārta piegādāta
A23: Avansā izmaksāts 2021.gadā | B23: 58783
A24: Faktiski apgūts finansējums 2021. gadā | B24: =G13+G19+G20 -> 30951.31
A25: Papildus nepieciešams finansējums 2022. gadā (2021. gadā uzsākto pasākumu norēķiniem) | B25: =ROUNDUP(G6+G7+C16-B26,0) -> 7020
A26: Iezīmēts finansējums 2022. gadam | B26: 25193

Sheet Bausk_899
J1: 1.16.pielikums
A2: SIA "BAUSKAS SLIMNĪCA" | J2: Informatīvajam ziņojumam "Par paveikto veselības aprūpes sistēmas papildus kapacitātes stiprināšanai Covid-19 pacientu ārstēšanas nodrošināšanai un priekšlikumiem neizlietotā finansējuma apguvei "
F3: oktobris | G3: =G16+G19+G20+G21 -> 27026.64
F4: februāris | G4: =G12+G13+G14+G15+G22 -> 43364.63
A5: Informācija par finanšu līdzekļu izlietojumu
A6: Plānotais finansējums | D6: Informācija par finanšu līdzekļu izlietojumu
A7: Pozīcijas nosaukums | B7: Skaits | C7: Plānotā summa (ar PVN), EUR | D7: Pavadzīme | H7: Maksājuma uzdevums | J7: Komentārs par izpildes progresu
D8: Pavadzīmes Nr. | E8: Datums | F8: Piegādātājs | G8: Summa ( ar PVN) EUR | H8: Nr. | I8: Summa
A9: KOPĀ, t.sk. | B9: =SUM(B10:B23) -> 53 | C9: =SUM(C10:C23) -> 251038.47 | G9: =SUM(G10:G23) -> 70391.27 | I9: =SUM(I10:I23) -> 70391.27
A10: Digitālais RTG aparāts ar 2 detektoriem, stacionārais | B10: 1 | C10: 140000 | F10: SIA "Arbor Medical Korporācija" | J10: Veikts iepirkums, noslēgts Līgums
A11: Portatīvais US aparāts ar 2 zondēm | B11: 1 | C11: 40000 | F11: SIA "A.Medical" | J11: Veikts iepirkums, noslēgts Līgums
A12: Pacientu gultas | B12: 10 | C12: 19360 | D12: ARB 200494 | E12: 15.02.2022. | F12: SIA "Arbor Medical Korporācija" | G12: 19360 | H12: 222682 | I12: 19360 | J12: Darījums pabeigts.
A13: Matrači | B13: 10 | C13: 2662 | D13: ARB 200494 | E13: 15.02.2022. | F13: SIA "Arbor Medical Korporācija" | G13: 2662 | H13: 222682 | I13: 2662 | J13: Darījums pabeigts.
A14: Pacientu galdiņi | B14: 10 | C14: 5560 | D14: ARB 200494 | E14: 15.02.2022. | F14: SIA "Arbor Medical Korporācija" | G14: 5566 | H14: 222682 | I14: 5566 | J14: Darījums pabeigts.
A15: Pacientu sēdrati (nogādāšanai uz manipulācijām) | B15: 1 | C15: 856 | D15: ARB 200837 | E15: 23.02.2022. | F15: SIA "Arbor Medical Korporācija" | G15: 853.05 | H15: 222693 | I15: 853.05 | J15: Darījums pabeigts.
A16: Pacientu aizslietņi | B16: 4 | C16: 976 | D16: ARB 116069 | E16: 29.10.2021. | F16: SIA "Arbor Medical Korporācija" | G16: 963.16 | H16: 212129 | I16: 963.16 | J16: Darījums pabeigts.
A17: Vakuumsūknis | B17: 1 | C17: 1331 | D17: Pieņemšanas - Nodošanas akts | E17: 10.11.2021. | F17: Veselības ministrijas Riropas lietu un starptautiskās sadarbības departaments | J17: Nodošanas - Pieņemšanas akts par no Francijas un Polijas saņemto aprīkojumu. Saņemti 2 vakuuma sūkņi. NETIKS IEGĀDĀTI PAR PIEŠĶIRTO FINANSĒJUMU
A18: Medicīniskie perfozori | B18: 3 | C18: 2400 | D18: Pieņemšanas - Nodošanas akts | E18: 10.11.2021. | F18: Veselības ministrijas Riropas lietu un starptautiskās sadarbības departaments | J18: Nodošanas - Pieņemšanas akts par no Francijas un Polijas saņemto aprīkojumu. Saņemti 4 perfuzori. NETIKS IEGĀDĀTI PAR PIEŠĶIRTO FINANSĒJUMU
A19: Kardiomonitori | B19: 5 | C19: 25446 | D19: ARB 115868 | E19: 25.10.2021. | F19: SIA "Arbor Medical Korporācija" | G19: 24200 | H19: 212130 | I19: 24200 | J19: Darījums pabeigts.
A20: Slūžu aizkari | B20: 2 | C20: 791.72 | D20: Nr. 22.10.2021.-Bauskas slimnīca | E20: 22.10.2021. | F20: SIA "STALVE" | G20: 791.73 | H20: 212143 | I20: 791.73 | J20: Darījums pabeigts.
A21: Skābekļa plūsmas sadalītājs | B21: 5 | C21: 1071.75 | D21: Rēķins 6721881694 | E21: 12.10.2021. | F21: Linde Gas SIA | G21: 1071.75 | H21: 212043 | I21: 1071.75 | J21: Darījums pabeigts.
A22: Skābekļa apgādes sistēmas rekonstrukcija III kārta | C22: 10584 | D22: Rēķins 6721937768 | E22: 24.02.2022. | F22: Linde Gas SIA | G22: 14923.58 | H22: 222694 | I22: 14923.58 | J22: Darījums pabeigts.
A25: Avansā izmaksāts 2021.gadā | B25: 179462
A26: Faktiski apgūts finansējums 2021. gadā | B26: =G3 -> 27026.64
A27: Papildus nepieciešams finansējums 2022. gadā (2021. gadā uzsākto pasākumu norēķiniem) | B27: =ROUND(C9-B28-B26,0) -> 152435
A28: Iezīmēts finansējums 2022. gadam | B28: 71577

Sheet Cēsis_899
J1: 1.17.pielikums
A2: "Cēsu klīnika" SIA | J2: Informatīvajam ziņojumam "Par paveikto veselības aprūpes sistēmas papildus kapacitātes stiprināšanai Covid-19 pacientu ārstēšanas nodrošināšanai un priekšlikumiem neizlietotā finansējuma apguvei "
F3: oktobris | G3: =G14+G19+G22 -> 9365.22
F4: novembris | G4: =G17+G18+G21 -> 1207.82
F5: decembris | G5: =G13+G24 -> 9499.71
F6: janvāris | G6: =G16+G23+G20 -> 2035.99
A7: Informācija par finanšu līdzekļu izlietojumu
A8: Plānotais finansējums | D8: Informācija par finanšu līdzekļu izlietojumu
A9: Pozīcijas nosaukums | B9: Skaits | C9: Plānotā summa (ar PVN), EUR | D9: Pavadzīme | H9: Maksājuma uzdevums | J9: Komentārs par izpildes progresu
D10: Pavadzīmes Nr. | E10: Datums | F10: Piegādātājs | G10: Summa ( ar PVN) EUR | H10: Nr. | I10: Summa
A11: KOPĀ, t.sk. | B11: =SUM(B12:B24) -> 43 | C11: =SUM(C12:C24) -> 112650 | G11: =SUM(G12:G24) -> 22108.74 | I11: =SUM(I12:I24) -> 22108.74
A12: Mobilais ultrasonogrāfs | B12: 1 | C12: 76000 | J12: Rēķins pirms termiņa iesniegts
A13: Vitālo funkciju monitoru stacija | B13: 1 | C13: 9100 | D13: GRAINALV225 | E13: 03.12.2021. | F13: UAB GRAINA Latvia filiāle | G13: 9075 | H13: 21-04044 | I13: 9075 | J13: Izpildīts 100%
A14: Vitālo funkciju monitoru stacija | B14: 1 | C14: 9100 | D14: GRAINALV206 | E14: 28.10.2021. | F14: UAB GRAINA Latvia filiāle | G14: 9075 | H14: 22-00684 | I14: 9075 | J14: Izpildīts 100%
A15: Monitori ar invazīvā spiediena mērīšanas moduli | B15: 5 | C15: 15000 | J15: Notiek sarunu procedūra.
A16: Perfuzori | B16: 2 | C16: 1600 | D16: 302290BLV | E16: 10.01.2022. | F16: B.Braun Medical SIA | G16: 1936 | H16: 22-00428 | I16: 1936 | J16: Izpildīts 100%
A17: Pulsa oksimetri | B17: 10 | C17: 450 | D17: ARB116136 | E17: 01.11.2021. | F17: Arbor Medical Korporšacija SIA | G17: 544.5 | H17: 21-03990 | I17: 544.5 | J17: Izpildīts 100%
A18: Fonendoskopi | B18: 5 | C18: 65 | D18: ARB116383 | E18: 05.11.2021. | F18: Arbor Medical Korporšacija SIA | G18: 106.72 | H18: 21-04065 | I18: 106.72 | J18: Izpildīts 100%
A19: Fonendoskopi | B19: 1 | C19: 13 | D19: ARB115213 | E19: 12.10.2021. | F19: Arbor Medical Korporācija SIA | G19: 11.92 | H19: 21-03777 | I19: 11.92 | J19: Izpildīts 100%
A20: Fonendoskopi | B20: 1 | C20: 13 | D20: ARB118645 | E20: 11.01.2022. | F20: Arbor Medical Korporācija SIA | G20: 21.34 | H20: 22-00430 | I20: 21.34 | J20: Izpildīts 100%
A21: Tonometri | B21: 4 | C21: 460 | D21: ARB116136 | E21: 01.11.2021. | F21: Arbor Medical Korporācija SIA | G21: 556.6 | H21: 21-03990 | I21: 556.6 | J21: Izpildīts 100%
A22: Tonometri | B22: 2 | C22: 230 | D22: ARB115213 | E22: 12.10.2021. | F22: Arbor Medical Korporācija SIA | G22: 278.3 | H22: 21-03777 | I22: 278.3 | J22: Izpildīts 100%
A23: Tonometri | B23: 1 | C23: 115 | D23: ARB118645 | E23: 11.01.2022. | F23: Arbor Medical Korporācija SIA | G23: 78.65 | H23: 22-00430 | I23: 78.65 | J23: Izpildīts 100%
A24: Skābekļa plūsmas regulatori | B24: 9 | C24: 504 | D24: ELPA022887 | E24: 03.12.2021. | F24: NMS ELPA SIA | G24: 424.71 | H24: 21-03971 | I24: 424.71 | J24: Izpildīts 100%
A27: Avansā izmaksāts 2021.gadā | B27: 78855
A28: Faktiski apgūts finansējums 2021. gadā | B28: =G3+G4+G5 -> 20072.75
A30: Iezīmēts finansējums 2022. gadam | B30: 33795

Sheet Preiļi_899
K1: 1.18.pielikums
A2: SIA "Prieļu slimnīca" | K2: Informatīvajam ziņojumam "Par paveikto veselības aprūpes sistēmas papildus kapacitātes stiprināšanai Covid-19 pacientu ārstēšanas nodrošināšanai un priekšlikumiem neizlietotā finansējuma apguvei "
A4: Informācija par finanšu līdzekļu izlietojumu
A5: Plānotais finansējums | E5: Informācija par finanšu līdzekļu izlietojumu
A6: Grupa | B6: Medicīnas ierīce | C6: Skaits | D6: Plānotā summa (ar PVN), EUR | E6: Pavadzīme | I6: Maksājuma uzdevums | K6: Komentārs par izpildes progresu
E7: Pavadzīmes Nr. | F7: Datums | G7: Piegādātājs | H7: Summa ( ar PVN) EUR | I7: Nr. | J7: Summa
A8: KOPĀ, t.sk. | D8: =SUM(D9:D21) -> 61400
B9: Iekārta mākslīgai elpināšanai | C9: 1 | K9: Netiks iegādāts
B10: Asinsgāzu analizators | C10: 1 | K10: Netiks iegādāts
B11: Vakuuma sūknis ar piederumiem | C11: 2 | K11: Netiks iegādāts
B12: Aizslietnis pacientu norobežošanai | C12: 10 | D12: 6800 | K12: Plānojam iegādāties 2022. gada ietvaros
B13: Sūknis zema vakuma | C13: 1 | K13: Netiks iegādāts
B14: Monitors | C14: 5 | D14: 6000 | K14: Plānojam iegādāties 2022. gada ietvaros
B15: Video laringoskops ar piederumiem | C15: 1 | K15: Netiks iegādāts
B16: Matracis, pretizgulējumu, dinamiskais | C16: 2 | D16: 4000 | K16: Plānojam iegādāties 2022. gada ietvaros
B17: Rati stumjami procedūru | C17: 2 | K17: Netiks iegādāts
B18: Infuzomats | C18: 3 | D18: 3600 | K18: Plānojam iegādāties 2022. gada ietvaros
B19: Portatīvais USG | C19: 1 | D19: 30000 | K19: Plānojam iegādāties 2022. gada ietvaros
B20: Darba stacija | C20: 1 | D20: 1000 | K20: Plānojam iegādāties 2022. gada ietvaros
B21: Gultas | C21: 10 | D21: 10000 | K21: Plānojam iegādāties 2022. gada ietvaros
A23: Avansā izmaksāts 2021.gadā | B23: 0
A24: Faktiski apgūts finansējums 2021. gadā | B24: 0
A26: Iezīmēts finansējums 2022. gadam | B26: 62520

Sheet Krāslava_899
E1: 1.19.pielikums
E2: Informatīvajam ziņojumam "Par paveikto veselības aprūpes sistēmas papildus kapacitātes stiprināšanai Covid-19 pacientu ārstēšanas nodrošināšanai un priekšlikumiem neizlietotā finansējuma apguvei "
A3: Krāslavas slimnīca
B5: Iekārtas nosaukums | C5: Skaits | D5: Cena (EUR) | E5: Summa (EUR)
B6: Gāzu analizators | C6: 1 | D6: 20000 | E6: =D6*C6 -> 20000
B7: Pacientu monitori | C7: 10 | D7: 4000 | E7: =D7*C7 -> 40000
B8: Funkcionālās gultas | C8: 20 | D8: 1200 | E8: =D8*C8 -> 24000
B9: Pulsoksimetri | C9: 20 | D9: 50 | E9: =D9*C9 -> 1000
B10: Videonovērošanas sistēma 6 vietām | C10: 1 | D10: 3000 | E10: =D10*C10 -> 3000
B11: Skābekļa analizators | C11: 2 | D11: 1000 | E11: =D11*C11 -> 2000
E12: =SUM(E6:E11) -> 90000
B16: Avansā izmaksāts 2021.gadā | C16: =E12*0.7 -> 63000
B17: Iezīmēts finansējums 2022. gadam | C17: =E12*0.3 -> 27000

Sheet Jūrmala_899
J1: 1.20.pielikums
A2: SIA Jūrmalas slimnīca | J2: Informatīvajam ziņojumam "Par paveikto veselības aprūpes sistēmas papildus kapacitātes stiprināšanai Covid-19 pacientu ārstēšanas nodrošināšanai un priekšlikumiem neizlietotā finansējuma apguvei "
A4: Informācija par finanšu līdzekļu izlietojumu
A5: Plānotais finansējums | D5: Informācija par finanšu līdzekļu izlietojumu
A6: Pozīcijas nosaukums | B6: Skaits | C6: Plānotā summa (ar PVN), EUR | D6: Pavadzīme | H6: Maksājuma uzdevums | J6: Komentārs par izpildes progresu
D7: Pavadzīmes Nr. | E7: Datums | F7: Piegādātājs | G7: Summa ( ar PVN) EUR | H7: Nr. | I7: Summa
A8: KOPĀ, t.sk. | B8: =SUM(B9:B27) -> 1 | C8: =SUM(C9:C27) -> 108900 | G8: =SUM(G9:G27) -> 112409 | I8: =SUM(I9:I27) -> 112409
A9: digitālais rentgens | B9: 1 | C9: 108900 | D9: 1063019698 | E9: 09.02.2022. | F9: Siemens Healthcare Oy Latvijas filiāle | G9: 112409 | H9: 20 | I9: 112409 | J9: 30.12.2021. ar Siemens Healthcare Oy Latvijas filiāle noslēgts līgums nr.SIAJS 230/2021 eur 112409 ar PVN, starpība EUR 3509 tiks apmaksāta no slimnīcas līdzekļiem.
A31: Avansā izmaksāts 2021.gadā | B31: 108900
A32: Faktiski apgūts finansējums 2021. gadā | B32: 0
A33: Papildus nepieciešams finansējums 2022. gadā (2021. gadā uzsākto pasākumu norēķiniem) | B33: 108900
A34: Iezīmēts finansējums 2022. gadam | B34: 0

Sheet Madona_899
J1: 1.21.pielikums
A2: MNP SIA "Madonas slimnīca", reģistrācijas Nr.40003356507 | J2: Informatīvajam ziņojumam "Par paveikto veselības aprūpes sistēmas papildus kapacitātes stiprināšanai Covid-19 pacientu ārstēšanas nodrošināšanai un priekšlikumiem neizlietotā finansējuma apguvei "
F3: janvāris | G3: =G8 -> 28097.78
A4: Informācija par finanšu līdzekļu izlietojumu
A5: Plānotais finansējums | D5: Informācija par finanšu līdzekļu izlietojumu
A6: Pozīcijas nosaukums | B6: Skaits | C6: Plānotā summa (ar PVN), EUR | D6: Pavadzīme | H6: Maksājuma uzdevums | J6: Komentārs par izpildes progresu
D7: Pavadzīmes Nr. | E7: Datums | F7: Piegādātājs | G7: Summa ( ar PVN) EUR | H7: Nr. | I7: Summa
A8: KOPĀ, t.sk. | B8: =SUM(B9:B18) -> 112 | C8: =SUM(C9:C18) -> 233500 | G8: =SUM(G9:G18) -> 28097.78 | I8: =SUM(I9:I18) -> 28097.78
A9: Mākslīgās plaušu ventilācijas iekārtas (neinvazīvas) | B9: 3 | C9: 52200 | J9: 31.01.2022. atvērti piedāvājumi.
A10: Skābekļa centrālā pievada pārbūve | B10: 1 | C10: 30000 | D10: 6721924357 | E10: 44585 | F10: Linda Gas SIA | G10: 7176.88 | H10: 22-07358 | I10: 7176.88 | J10: Piegādāti skābekļa plūsmas mērītāji ar mitrinātājtrauku. Tiek gatavota iepirkuma dokumentācija.
A11: Funkcionālās gultas | B11: 20 | C11: 40000 | J11: Tiek gatavota iepirkuma dokumentācija.
A12: Pretizgulējuma matrači | B12: 20 | C12: 20000 | J12: Tiek gatavota iepirkuma dokumentācija.
A13: Perfuzori | B13: 20 | C13: 24000 | J13: 10.11.2021. saņemts no Veselības ministrijas ārvalstu veselības ietvaros, no Francijas.
A14: Pārvietojamais vitālo funkciju kardiomonitors | B14: 5 | C14: 11500 | D14: TR 220017 | E14: 44580 | F14: TRADINTEK SIA | G14: 15699.75 | H14: 22-07374 | I14: 15699.75 | J14: Izpildīts. 21.12.2021. noslēgts piegādes līgums ar SIA "Tradintek" , piegādes termiņš 20.01.2022.. Līgumcena atšķiras no plānotā finansējuma apjoma, jo pieteikuma sagatavošanai tika dots īss termiņš, tādēļ pozīcijas izmaksas tika noteiktas aptuveni.
A15: Infūzijas šķīduma uzsildāmais skapis | B15: 2 | C15: 2400 | D15: ELPA 023338 | E15: 44588 | F15: NMS ELPA SIA | G15: 4495.15 | H15: 22-07461 | I15: 4495.15 | J15: Izpildīts. 28.12.2021. noslēgts piegādes līgums ar SIA "NMS Elpa", piegādes termiņš 27.01.2022.. Līgumcena atšķiras no plānotā finansējuma apjoma, jo pieteikuma sagatavošanai tika dots īss termiņš, tādēļ pozīcijas izmaksas tika noteiktas aptuveni.
A16: Pulsa oksimetri | B16: 20 | C16: 10000 | D16: ELPA 023337 | E16: 44588 | F16: NMS ELPA SIA | G16: 726 | H16: 22-07462 | I16: 726 | J16: Izpildīts. 28.12.2021. noslēgts piegādes līgums ar SIA "NMS Elpa", piegādes termiņš 27.01.2022.. Līgumcena atšķiras no plānotā finansējuma apjoma, jo pieteikuma sagatavošanai tika dots īss termiņš, tādēļ pozīcijas izmaksas tika noteiktas aptuveni.
A17: Pacientu skapīši | B17: 20 | C17: 3400 | J17: Tiek gatavota iepirkuma dokumentācija.
A18: Pārvietojamais rentgena aparāts | B18: 1 | C18: 40000 | J18: Tiek gatavota iepirkuma dokumentācija.
A21: Avansā izmaksāts 2021.gadā | B21: 163450
A22: Faktiski apgūts finansējums 2021. gadā | B22: 0
A23: Papildus nepieciešams finansējums 2022. gadā (2021. gadā uzsākto pasākumu norēķiniem) | B23: 163450
A24: Iezīmēts finansējums 2022. gadam | B24: 70050

Sheet Limb_899
J1: 1.22.pielikums
A2: Sabiedrība ar ierobežotu atbildību "Limbažu slimnīca" | J2: Informatīvajam ziņojumam "Par paveikto veselības aprūpes sistēmas papildus kapacitātes stiprināšanai Covid-19 pacientu ārstēšanas nodrošināšanai un priekšlikumiem neizlietotā finansējuma apguvei "
F3: janvāris | G3: =G15+G16+G17+G21+G22 -> 8028.14
F4: februāris | G4: =G12+G13 -> 10672.2
A5: Informācija par finanšu līdzekļu izlietojumu
A6: Plānotais finansējums | D6: Informācija par finanšu līdzekļu izlietojumu
A7: Pozīcijas nosaukums | B7: Skaits | C7: Plānotā summa (ar PVN), EUR | D7: Pavadzīme | H7: Maksājuma uzdevums | J7: Komentārs par izpildes progresu
D8: Pavadzīmes Nr. | E8: Datums | F8: Piegādātājs | G8: Summa ( ar PVN) EUR | H8: Nr. | I8: Summa
A9: KOPĀ, t.sk. | B9: =SUM(B10:B23) -> 146 | C9: =SUM(C10:C23) -> 79500 | G9: =SUM(G10:G23) -> 18700.34 | I9: =SUM(I10:I23) -> 18700.34
A10: Vitālo funkciju monitori | B10: 4 | C10: 12000 | J10: sagatavota iepirkuma specifikācija, notiek sarunu procedūra ar piegādātāju
A11: Perfuzori | B11: 8 | C11: 8000 | J11: sagatavota iepirkuma specifikācija, notiek sarunu procedūra ar piegādātāju
A12: Skābekļa koncentratori | B12: 10 | C12: 8000 | D12: ARB200742 | E12: 22.02.2022. | F12: Arbor Medical korporācija SIA | G12: 7695.6 | H12: 686 | I12: 7695.6 | J12: iegādāti 10 gabali
A13: UV lampas gaisa attīrīšanai | B13: 6 | C13: 3600 | D13: ARB200702 | E13: 22.02.2022. | F13: Arbor Medical korporācija SIA | G13: 2976.6 | H13: 686 | I13: 2976.6 | J13: iegādātas 6 lampas
A14: Procedūru galdiņi | B14: 10 | C14: 3000 | J14: sagatavota iepirkuma specifikācija, notiek sarunu procedūra ar piegādātāju
A15: Pārvietošanās palīgierīce (slīddēlis) | B15: 2 | C15: 400 | D15: ARB119173 | E15: 25.01.2020. | F15: Arbor Medical Korporācija SIA | G15: 1028.5 | H15: 282 | I15: 1028.5 | J15: iegādāti 2 gabali
A16: Podkrēsls | B16: 15 | C16: 3000 | D16: POC2022032 | E16: 17.01.2022. | F16: Protezēšanas un ortopēdijas centrs AS | G16: 1075.12 | H16: 281 | I16: 3508.79 | J16: pagaidām iegādāti vēl tikai 10 gabali (EUR 1075.12)
A17: Skābekļa plūsmas mērītājs ar mitrinātāja trauku | B17: 25 | C17: 2500 | D17: ELPA023235 | E17: 18.01.2022. | F17: NMS ELPA | G17: 3490.85 | H17: 325 | I17: 3490.85 | J17: iegādāti 25 gabali
A18: Infūzijas statīvi | B18: 25 | C18: 2500 | J18: sagatavota iepirkuma specifikācija, notiek sarunu procedūra ar piegādātāju
A19: Funkcionālie rati pacientu pārvietošanai | B19: 2 | C19: 4000 | J19: sagatavota iepirkuma specifikācija, notiek sarunu procedūra ar piegādātāju
A20: Sēdkrēsli pacientu pārvietošanai | B20: 4 | C20: 6000 | J20: sagatavota iepirkuma specifikācija, notiek sarunu procedūra ar piegādātāju
A21: Pretizgulējumu matrači | B21: 15 | C21: 4500 | D21: POC2022032 | E21: 17.01.2022. | F21: Protezēšanas un ortopēdijas centrs AS | G21: 860.67 | J21: iegādāti 15 gabali
A22: Aizslietņi | B22: 10 | C22: 2000 | D22: POC2022032 | E22: 17.01.2022. | F22: Protezēšanas un ortopēdijas centrs AS | G22: 1573 | J22: iegādāti 10 gabali
A23: Funkcionālās gultas ar matračiem | B23: 10 | C23: 20000 | J23: sagatavota iepirkuma specifikācija, notiek sarunu procedūra ar piegādātāju
A26: Avansā izmaksāts 2021.gadā | B26: 55650
A27: Faktiski apgūts finansējums 2021. gadā | B27: 0
A28: Papildus nepieciešams finansējums 2022. gadā (2021. gadā uzsākto pasākumu norēķiniem) | B28: 55650
A29: Iezīmēts finansējums 2022. gadam | B29: 23850

Sheet Aizkr_899
J1: 1.23.pielikums
A2: SIA "Aizkraukles slimnīca" | J2: Informatīvajam ziņojumam "Par paveikto veselības aprūpes sistēmas papildus kapacitātes stiprināšanai Covid-19 pacientu ārstēšanas nodrošināšanai un priekšlikumiem neizlietotā finansējuma apguvei "
F3: novembris | G3: =G10+G11 -> 1486.64
F4: decembris | G4: =G12 -> 371.98
A5: Informācija par finanšu līdzekļu izlietojumu
A6: Plānotais finansējums | D6: Informācija par finanšu līdzekļu izlietojumu
A7: Pozīcijas nosaukums | B7: Skaits | C7: Plānotā summa (ar PVN), EUR | D7: Pavadzīme | H7: Maksājuma uzdevums | J7: Komentārs par izpildes progresu
D8: Pavadzīmes Nr. | E8: Datums | F8: Piegādātājs | G8: Summa ( ar PVN) EUR | H8: Nr. | I8: Summa
A9: KOPĀ, t.sk. | B9: =SUM(B10:B12) -> 15 | C9: =SUM(C10:C12) -> 2100 | G9: =SUM(G10:G12) -> 1858.62 | I9: =SUM(I10:I12) -> 1858.62
A10: O mitrinātāja pudeles | B10: 10 | C10: 1000 | D10: GUG-0024 | E10: 44501 | F10: SIA Gugols | G10: 931.7 | H10: 21-28988 | I10: 931.7
A11: Konsoles sadalītāji | B11: 5 | C11: 1100 | D11: 092-28273 | E11: 44512 | F11: Elme Messer GAAS | G11: 554.94 | H11: 21-29061 | I11: 554.94
D12: 092-28570 | E12: 44537 | F12: Elme Messer GAAS | G12: 371.98 | H12: 21-29220 | I12: 371.98
A15: Avansā izmaksāts 2021.gadā | B15: 2100
A16: Faktiski apgūts finansējums 2021. gadā | B16: =G9 -> 1858.62

Sheet R.2.sl_899
J1: 1.24.pielikums
A2: SIA "Rīgas 2.slimnīca" | J2: Informatīvajam ziņojumam "Par paveikto veselības aprūpes sistēmas papildus kapacitātes stiprināšanai Covid-19 pacientu ārstēšanas nodrošināšanai un priekšlikumiem neizlietotā finansējuma apguvei "
F3: februāris | G3: =G12 -> 11331.24
A4: Informācija par finanšu līdzekļu izlietojumu - PAPILDUS FINANSĒJUMS
A5: Plānotais finansējums | D5: Informācija par finanšu līdzekļu izlietojumu
A6: Pozīcijas nosaukums | B6: Skaits | C6: Plānotā summa (ar PVN), EUR | D6: Pavadzīme | H6: Maksājuma uzdevums | J6: Komentārs par izpildes progresu
D7: Pavadzīmes Nr. | E7: Datums | F7: Piegādātājs | G7: Summa ( ar PVN) EUR | H7: Nr. | I7: Summa
A8: KOPĀ, t.sk. | C8: =SUM(C9:C20) -> 302730.2 | G8: =SUM(G12:G20) -> 11331.24 | I8: =SUM(I12:I20) -> 11331.24
A9: 1. Skābekļa pieslēguma sistēmas izbūve
A10: 1.1. Skābekļa pieslēguma sistēmas izbūve, nodrošinot skābekļa pieslēgumu slimnīcas nodaļās | B10: 1 | C10: 166950 | J10: Izsludināts sarunu procedūrā “Skābekļa pieslēguma sistēmas izbūve“ (Iepirkuma identifikācijas Nr. Rīgas 2.slimnīca 2021/22 SP), 11.01.2022. noslēgts iepirkuma līgums Nr. 003/2022, plānotie ieviešanas termiņi 4 (četru) nedēļu laikā no Līguma spēkā stāšanās dienas
A11: 1.2. Skābekļa tvertnes (3 tonnas ) noma | B11: 1 | C11: 45560 | F11: NMS ELPA | J11: Ir veikta tirgus apzināšana, uzaicināti potenciālie pretendenti uz klātienes apskati, apzināti iespējamie risinājumi un ir izsludināta cenu aptauja “Pagaidu skābekļa balonu novietošanas vietas izbūve” (id. Nr. Rīgas 2.slimnīca 2022/5 TI), kur piedāvājumu iesniegšanas termiņš ir noteikts līdz 08.02.2022. plkst. 11:00
A12: 1.3. Slimnīcas palātu skābekļa sistēmas | B12: 150 | C12: 22800 | D12: 091-21954 | E12: 17.02.2022. | F12: Elme Messer | G12: 11331.24 | H12: 22-00638 | I12: 11331.24 | J12: Līgums 027/2022
A13: 2. Medicīnas iekārtas un aprīkojums
A14: 2.1. Neinvazīvais portatīvais ventilators | B14: 1 | C14: 6050 | J14: Plānota tirgus izpēte, tiek gatavota tehniskā specifikācija
A15: 2.2. 3 veida maskas (M, L, XL), 2 no katra | B15: 6 | C15: 3630 | F15: EIS | J15: Plānots EIS pirkums
A16: 2.3. Skābekļa ģenerators (koncentrators) | B16: 3 | C16: 3630 | J16: Plānota tirgus izpēte, tiek gatavota tehniskā specifikācija
A17: 2.4. Skābekļa koncentrācijas detektors | B17: 5 | C17: 2540 | J17: Plānota tirgus izpēte, tiek gatavota tehniskā specifikācija
A18: 3. IT infrastruktūras izveidošana
A19: 3.1. Pacientu attālināta monitoringa izveidošana 55 palātās ar monitoringa staciju(5 gab.) katras nodaļas māsu postenī | B19: 1 | C19: 51570.2 | J19: Ir veikta tirgus priekšizpēte, lai apzinātu iespējamās izmaksas, tomēr secināts, ka nevaram iekļauties budžetā, jo tas pārsniedz piešķirto finansējumu 5 reizes, attiecīgi tiek meklēti risinājumi alternatīvai sistēmai
A22: Avansā izmaksāts 2021.gadā | B22: 211912
A23: Faktiski apgūts finansējums 2021. gadā | B23: 0
A24: Papildus nepieciešams finansējums 2022. gadā (2021. gadā uzsākto pasākumu norēķiniem) | B24: 211912
A25: Iezīmēts finansējums 2022. gadam | B25: 90819

Sheet Sanare_899
J1: 1.25.pielikums
A2: SIA "Sanare - KRC Jaunķemeri" | J2: Informatīvajam ziņojumam "Par paveikto veselības aprūpes sistēmas papildus kapacitātes stiprināšanai Covid-19 pacientu ārstēšanas nodrošināšanai un priekšlikumiem neizlietotā finansējuma apguvei "
F3: decembris | G3: =G10+G11+G12+G13+G14+G15+G16+G17+G18+G19+G20+G21+G22+G23 -> 55420.78
A5: Informācija par finanšu līdzekļu izlietojumu
A6: Plānotais finansējums | D6: Informācija par finanšu līdzekļu izlietojumu
A7: Pozīcijas nosaukums | B7: Skaits | C7: Plānotā summa (ar PVN), EUR | D7: Pavadzīme | H7: Maksājuma uzdevums | J7: Komentārs par izpildes progresu
D8: Pavadzīmes Nr. | E8: Datums | F8: Piegādātājs | G8: Summa ( ar PVN) EUR | H8: Nr. | I8: Summa
A9: KOPĀ, t.sk. | B9: =SUM(B10:B28) -> 113 | C9: =SUM(C10:C28) -> 247203 | G9: =SUM(G10:G28) -> 55420.78 | I9: =SUM(I10:I28) -> 55409.53
A10: Skābekļa koncentrators EverFlo | B10: 20 | C10: 24200 | D10: ARB 118235 | E10: 44558 | F10: Arbor Medical Korporācija SIA | G10: 9207.25 | H10: 1375 | I10: 9196 | J10: Piegādāts
A11: Defibrilators Hartsine AED 360P | B11: 2 | C11: 14520 | D11: TK/21-478 | E11: 44558 | F11: Amerikas Baltijas Tehnoloģiju Korporācija SIA | G11: 3509 | H11: 51 | I11: 3509 | J11: Avanss
A12: Funkcionālais galds Malvestio | B12: 36 | C12: 21780 | D12: TK/21-478 | E12: 44558 | F12: Amerikas Baltijas Tehnoloģiju Korporācija SIA | G12: 8058.6 | H12: 51 | I12: 8058.6 | J12: Avanss
A13: Gulta, pacientu Arjo | B13: 16 | C13: 38720 | D13: TK/21-478 | E13: 44558 | F13: Amerikas Baltijas Tehnoloģiju Korporācija SIA | G13: 19195.44 | H13: 51 | I13: 19195.44 | J13: Avanss
A14: Infūzijas statīvi | B14: 15 | C14: 2541 | D14: R159/21 | E14: 44557 | F14: Industriālās tehnoloģijas SIA | G14: 889.35 | H14: 1374 | I14: 889.35 | J14: Avanss
A15: Vakuuma sūknis | B15: 1 | C15: 2178 | D15: R159/21 | E15: 44557 | F15: Industriālās tehnoloģijas SIA | G15: 786.5 | H15: 1374 | I15: 786.5 | J15: Avanss
A16: Pacientu vitālo funkciju monitors P 16 GIMA BM3 PRO | B16: 2 | C16: 5324 | D16: R159/21 | E16: 44557 | F16: Industriālās tehnoloģijas SIA | G16: 2541 | H16: 1374 | I16: 2541 | J16: Avanss
A17: Pacientu vitālo funkciju monitors P 16 GIMA VITAL PRO | B17: 5 | C17: 13310 | D17: R159/21 | E17: 44557 | F17: Industriālās tehnoloģijas SIA | G17: 3630 | H17: 1374 | I17: 3630 | J17: Avanss
A18: Perfuzors 35205 | B18: 4 | C18: 5082 | D18: R159/21 | E18: 44557 | F18: Industriālās tehnoloģijas SIA | G18: 2388.54 | H18: 1374 | I18: 2388.54 | J18: Avanss
A19: Guļrati ar regulējamu augstumu un matraci | B19: 2 | C19: 4356 | D19: R159/21 | E19: 44557 | F19: Industriālās tehnoloģijas SIA | G19: 2178 | H19: 1374 | I19: 2178 | J19: Avanss
A20: Podkrēsli 43191 | B20: 3 | C20: 726 | D20: R159/21 | E20: 44557 | F20: Industriālās tehnoloģijas SIA | G20: 308.55 | H20: 1374 | I20: 308.55 | J20: Avanss
A21: Podkrēsli 27703 | B21: 3 | C21: 726 | D21: R159/21 | E21: 44557 | F21: Industriālās tehnoloģijas SIA | G21: 359.37 | H21: 1374 | I21: 359.37 | J21: Avanss
... A23: Portatīvais EKG aparāts ar piederumiem | B23: 1 | C23: 4356 | D23: R159/21 | E23: 44557 | F23: Industriālās tehnoloģijas SIA | G23: 2129.6 | H23: 1374 | I23: 2129.6 | J23: Avanss
A24: Portatīvais RTG aparāts | B24: 1 | C24: 108900 | J24: Nepirks
A32: Avansā izmaksāts 2021.gadā | B32: 173042
A33: Faktiski apgūts finansējums 2021. gadā | B33: =G3 -> 55420.78
A34: Iezīmēts finansējums 2022. gadam | B34: 74161

Sheet Irlavas slimnīca_899
E1: 1.26.pielikums
E2: Informatīvajam ziņojumam "Par paveikto veselības aprūpes sistēmas papildus kapacitātes stiprināšanai Covid-19 pacientu ārstēšanas nodrošināšanai un priekšlikumiem neizlietotā finansējuma apguvei "
A3: Irlavas slimnīca
B5: Iekārtas nosaukums | C5: Skaits | D5: Cena (EUR) | E5: Summa (EUR)
B6: Skābekļa koncentrators | C6: 5 | D6: 1210 | E6: =C6*D6 -> 6050
B7: Pacientu vitālo funkciju monitors | C7: 2 | D7: 2662 | E7: =C7*D7 -> 5324
E8: =SUM(E6:E7) -> 11374
B12: Avansā izmaksāts 2021.gadā | C12: =ROUND(E8*0.7,0) -> 7962
B13: Iezīmēts finansējums 2022. gadam | C13: =ROUND(E8*0.3,0) -> 3412

Sheet Jelg_899
J1: 1.27.pielikums
A2: SIA " Jelgavas pilsētas slimnīca" | J2: Informatīvajam ziņojumam "Par paveikto veselības aprūpes sistēmas papildus kapacitātes stiprināšanai Covid-19 pacientu ārstēšanas nodrošināšanai un priekšlikumiem neizlietotā finansējuma apguvei "
F3: oktobris | G3: =G12 -> 4747.43
F4: decembris | G4: =G11+G13+G14+G15 -> 105394.71
A5: Informācija par finanšu līdzekļu izlietojumu
A6: Plānotais finansējums | D6: Informācija par finanšu līdzekļu izlietojumu
A7: Pozīcijas nosaukums | B7: Skaits | C7: Plānotā summa (ar PVN), EUR | D7: Pavadzīme | H7: Maksājuma uzdevums | J7: Komentārs par izpildes progresu
D8: Pavadzīmes Nr. | E8: Datums | F8: Piegādātājs | G8: Summa ( ar PVN) EUR | H8: Nr. | I8: Summa
A9: KOPĀ, t.sk. | B9: =SUM(B11:B15) -> 18 | C9: =SUM(C10:C15) -> 138446 | G9: =SUM(G11:G15) -> 110142.14 | I9: =SUM(I11:I15) -> 110044.14
A10: Pacientu skapīši (COVID nodaļa) | B10: 25 | C10: 19663 | J10: Līgums Nr. 1-22/13/2022. 17.01.2022. SIA " Arbor Medical Korporācija"
A11: Ventilācijas sistēmu darbības efektivitātes pārbaude, regulēšana un to pasu izstrāde | B11: 1 | C11: 5009 | D11: 245/12-2021 | E11: 13.12.2021. | F11: SIA " Rimelss" | G11: 5009.4 | H11: 2593 | I11: 5009.4 | J11: Iegādāts
A12: Ventilācijas AHU webserver pieslēgšana | B12: 1 | C12: 9495 | D12: 07/1021 | E12: 19.10.2021. | F12: SIA " Baltservice" | G12: 4747.43 | H12: 2354 | I12: 4747.43 | J12: Iegādāts
A13: HEPA filtru nomaiņa (35 gb.) | B13: 1 | C13: 4817 | D13: 243/12-2021 | E13: 13.12.2021. | F13: SIA " Rimelss" | G13: 4817.09 | H13: 2593 | I13: 4719.09 | J13: Iegādāts
A14: Augstas veiktspējas gaisa attīrīšanas iekārta | B14: 8 | C14: 77440 | D14: 21385 | E14: 14.12.2021. | F14: SIA " J.I.M." | G14: 73122.72 | H14: 2585 | I14: 73122.72 | J14: Iegādāts
A15: Augstas plūsmas skābekļa terapijas iekārta | B15: 7 | C15: 22022 | D15: 23057 | E15: 23.12.2021. | F15: SIA " NMS Elpa" | G15: 22445.5 | H15: 2717 | I15: 22445.5 | J15: Iegādāts
A18: Avansā izmaksāts 2021.gadā | B18: 118783
A19: Faktiski apgūts finansējums 2021. gadā | B19: =G3+G4 -> 110142.14
A20: Papildus nepieciešams finansējums 2022. gadā (2021. gadā uzsākto pasākumu norēķiniem) | B20: 0
A21: Iezīmēts finansējums 2022. gadam | B21: 19663

Sheet Tukums_899
J1: 1.28.pielikums
A2: SIA ,,Tukuma slimnīca " | J2: Informatīvajam ziņojumam "Par paveikto veselības aprūpes sistēmas papildus kapacitātes stiprināšanai Covid-19 pacientu ārstēšanas nodrošināšanai un priekšlikumiem neizlietotā finansējuma apguvei "
F3: decembris | G3: =G10+G11+G12 -> 23718.55
A5: Informācija par finanšu līdzekļu izlietojumu
A6: Plānotais finansējums | D6: Informācija par finanšu līdzekļu izlietojumu
A7: Pozīcijas nosaukums | B7: Skaits | C7: Plānotā summa (ar PVN), EUR | D7: Pavadzīme | H7: Maksājuma uzdevums | J7: Komentārs par izpildes progresu
D8: Pavadzīmes Nr. | E8: Datums | F8: Piegādātājs | G8: Summa ( ar PVN) EUR | H8: Nr. | I8: Summa
A9: KOPĀ, t.sk. | B9: =SUM(B10:B21) -> 41 | C9: =SUM(C10:C21) -> 444818 | G9: =SUM(G10:G21) -> 23718.55 | I9: =SUM(I10:I21) -> 23718.55
A10: 6 skābekļa ligzdu renovācija un to izvietojuma maiņa | B10: 1 | C10: 2200 | D10: 920/2021 | E10: 13.12.2021. | F10: NMS Elpa SIA | G10: 2168.45 | H10: 2793 | I10: 2168.45 | J10: Darbi ir pabeigti
A11: Papildus nepieciešamo vitālo funkciju monitoru skaits | B11: 16 | C11: 42592 | D11: GRAINALV223 | E11: 08.12.2021. | F11: UAB Graina Latvia- filiāle | G11: 15669.5 | H11: 2801 | I11: 15669.5 | J11: Iegādāti 4 monitori un 1 darba stacija
D12: KJS 212054 | E12: 29.12.2021. | F12: SIA KJ Serviss | G12: 5880.6 | H12: 101 | I12: 5880.6 | J12: Iegādāti 4 monitori un 1 darba stacija
F13: UAB Graina Latvia- filiāle | J13: 02.03.2022. noslēgts līgums, iekārtu piegāde līdz 04.04.2022. Plānots iegādāties 8 monitorus un 1 darba staciju
A14: Papildus nepieciešamo vitālo funkciju monitoru staciju skaits | B14: 3 | C14: 29040 | J14: 02.03.2022. noslēgts līgums, iekārtu piegāde līdz 04.04.2022
A15: Mākslīgās plaušu ventilācijas iekārtas | B15: 2 | C15: 62920 | F15: UAB Graina Latvia- filiāle | J15: 02.03.2022. noslēgts līgums, iekārtu piegāde līdz 04.04.2022
A16: Pārvietojamais rentgens | B16: 2 | C16: 217800 | F16: SIA ,,A.Medical" | J16: Samazināts skaits no 2.gab., plānots iegādāties 1 gab, 02.03.2022. noslēgts līgums, plānotā iekārtu piegāde līdz 04.04.2022
A17: Portatīvs ultrasonogrāfs | B17: 1 | C17: 54450 | F17: UAB Graina Latvia- filiāle | J17: 16.02.2022. noslēdzas iepirkums, plānotā iekārtu piegāde 01.04.2022.
A18: Inhalators | B18: 10 | C18: 14520 | F18: SIA ,,Arbor medical korporācija" | J18: Samazināts skaits no 10.gab., plānots iegādāties 5.gab. 16.02.2022. noslēdzas iepirkums, iekārtu piegāde 01.04.2022.
A19: Vakuumsūknis | B19: 3 | C19: 6534 | F19: SIA ,,NMS Elpa" | J19: 02.03.2022. noslēgts līgums, iekārtu piegāde līdz 04.04.2022
A20: Slimnieku pacelšanas ierīce (līdz 250 kg) | B20: 1 | C20: 6050 | F20: SAS ,,Slaugvita" | J20: 02.03.2022. noslēgts līgums, iekārtu piegāde līdz 04.04.2022.
A21: Elektrokardiogrāfs | B21: 2 | C21: 8712 | F21: SIA ,,Arbor medical korporācija" | J21: 02.03.2022. noslēgts līgums, iekārtu piegāde līdz 04.04.2022.
A24: Avansā izmaksāts 2021.gadā | B24: 311373
A25: Faktiski apgūts finansējums 2021. gadā | B25: =G3 -> 23718.55
A26: Papildus nepieciešams finansējums 2022. gadā (2021. gadā uzsākto pasākumu norēķiniem) | B26: =ROUNDUP(B24-B25,0) -> 287655
A27: Iezīmēts finansējums 2022. gadam | B27: 133445

Sheet Saldus_904
J1: 1.29.pielikums
A2: SIA "Saldus medicīnas centrs" | J2: Informatīvajam ziņojumam "Par paveikto veselības aprūpes sistēmas papildus kapacitātes stiprināšanai Covid-19 pacientu ārstēšanas nodrošināšanai un priekšlikumiem neizlietotā finansējuma apguvei "
F3: oktobris | G3: =G11+G12 -> 615.39
A4: Informācija par finanšu līdzekļu izlietojumu
A5: Plānotais finansējums | D5: Informācija par finanšu līdzekļu izlietojumu
A6: Pozīcijas nosaukums | B6: Skaits | C6: Plānotā summa (ar PVN), EUR | D6: Pavadzīme | H6: Maksājuma uzdevums | J6: Komentārs par izpildes progresu
D7: Pavadzīmes Nr. | E7: Datums | F7: Piegādātājs | G7: Summa ( ar PVN) EUR | H7: Nr. | I7: Summa
A8: KOPĀ, t.sk. | B8: =SUM(B9:B13) -> 19 | C8: =SUM(C9:C13) -> 12469.7 | G8: =SUM(G9:G13) -> 615.39 | I8: =SUM(I9:I13) -> 615.39
A9: Vitālo funkciju monitorēšanai | B9: 3 | C9: 635.1 | J9: Monitori nav nepieciešami, jo saņemti kā humānā palīdzība
A10: Pulsoksimetrs | B10: 10 | C10: 258.7
A11: Papildus 6 skābekļa padeves ligzdu ierīkošana | B11: 1 | C11: 988.4 | D11: 092-27991 | E11: 44488 | F11: SIA Elme Messer L | G11: 533.61 | H11: FT213195NZ67 | I11: 533.61
D12: DRS210885 | E12: 44498 | F12: SIA Drussa | G12: 81.78 | H12: FT213143CXPB | I12: 81.78
A13: Funkcionālās gultas | B13: 5 | C13: 10587.5 | J13: Gultu iegādei šobrīd tiek gatavoti iepirkuma dokumenti
A16: Avansā izmaksāts 2021.gadā | B16: 1247
A17: Faktiski apgūts finansējums 2021. gadā | B17: =G3 -> 615.39
A18: Papildus nepieciešams finansējums 2022. gadā (2021. gadā uzsākto pasākumu norēķiniem) | B18: 0
A19: Iezīmēts finansējums 2022. gadam | B19: 11223

Sheet Ludza_904
J1: 1.30.pielikums
A2: SIA "Ludzas medicīnas centrs" | J2: Informatīvajam ziņojumam "Par paveikto veselības aprūpes sistēmas papildus kapacitātes stiprināšanai Covid-19 pacientu ārstēšanas nodrošināšanai un priekšlikumiem neizlietotā finansējuma apguvei "
F3: decembris | G3: =G12+G13+G14+G15+G18+G21+G23+G24+G26 -> 59608.64
F4: janvāris | G4: =G11+G16+G17+G19 -> 48751.51
F5: februāris | G5: =G22 -> 2359.5
A6: Informācija par finanšu līdzekļu izlietojumu
A7: Plānotais finansējums | D7: Informācija par finanšu līdzekļu izlietojumu
A8: Pozīcijas nosaukums | B8: Skaits | C8: Plānotā summa (ar PVN), EUR | D8: Pavadzīme | H8: Maksājuma uzdevums | J8: Komentārs par izpildes progresu
D9: Pavadzīmes Nr. | E9: Datums | F9: Piegādātājs | G9: Summa ( ar PVN) EUR | H9: Nr. | I9: Summa
A10: KOPĀ, t.sk. | B10: =SUM(B11:B26) -> 135 | C10: =SUM(C11:C26) -> 125120 | G10: =SUM(G11:G26) -> 112498.35 | I10: =SUM(I11:I26) -> 112498.35
A11: Dubultais skābekļa plūsmas regulators (15l/min) | B11: 30 | C11: 4200 | D11: 092-28882 | E11: 44567 | F11: SIA "ELME MESSER L" | G11: 2945.75 | H11: 35 | I11: 2945.75
A12: Augstas plūsmas skābekļa regulators (25l/min) | B12: 6 | C12: 570 | D12: 092-28482 | E12: 44543 | F12: SIA "ELME MESSER L" | G12: 568.09 | H12: 4321 | I12: 568.09
A13: Pacientu vitāli svarīgo funkciju novērošanas monitors | B13: 6 | C13: 19770 | D13: TR212084 | E13: 44545 | F13: SIA "Tradintek" | G13: 18505.74 | H13: 4316 | I13: 18505.74
A14: Portatīva MVP iekārta ar neinvazīvo ventilācijas funkciju | B14: 2 | C14: 28200 | D14: ARB117857 | E14: 44547 | F14: SIA "Arbor Medical Korporācija" | G14: 28193 | H14: 4319 | I14: 28193
A15: Medikamentu galdiņš | B15: 10 | C15: 2150 | D15: ARB117859 | E15: 44547 | F15: SIA "Arbor Medical Korporācija" | G15: 2178 | H15: 4317 | I15: 2178
A16: Aizslietnis 2 daļīgs | B16: 8 | C16: 2000 | D16: ARB118484 | E16: 44566 | F16: SIA "Arbor Medical Korporācija" | G16: 1926.32 | H16: 50 | I16: 1926.32
A17: Aizslietnis 1 daļīgs | B17: 4 | C17: 600 | D17: ARB118484 | E17: 44566 | F17: SIA "Arbor Medical Korporācija" | G17: 580.8 | H17: 50 | I17: 580.8
A18: Pulsa oksimetrs ar iznesamo sensoru | B18: 5 | C18: 2800 | D18: ARB117855 | E18: 44547 | F18: SIA "Arbor Medical Korporācija" | G18: 1996.5 | H18: 4318 | I18: 1996.5
A19: Gultas | B19: 12 | C19: 45600 | D19: TR220004 | E19: 44571 | F19: SIA "Tradintek" | G19: 43298.64 | H19: 20 | I19: 43298.64
A20: Statīvi | B20: 30 | C20: 3600 | D20: KJS220181 | E20: 44600 | F20: SIA "KJ Serviss" | G20: 1778.7 | H20: 48 | I20: 1778.7
A21: Baktericīdā mašīna | B21: 1 | C21: 5145 | D21: AMR-00753 | E21: 44539 | F21: SIA"AMRID" | G21: 5142.5 | H21: 4320 | I21: 5142.5
A22: Transportēšanas rati | B22: 1 | C22: 2600 | D22: KJS220180 | E22: 44600 | F22: SIA "KJ Serviss" | G22: 2359.5 | H22: 49 | I22: 2359.5
... A24: Baktericīdās lampas | B24: 3 | C24: 3600 | D24: MDQ-000055056 | E24: 44558 | F24: SIA "Mediq Latvija" | G24: 1270.5 | H24: 4326 | I24: 1270.5
A25: O2 kocentratori | B25: 2 | C25: 2200 | J25: Iepirkuma daļa pārtraukta
A26: Miskastes turētāji | B26: 12 | C26: 1200 | D26: SEL21016374 | E26: 44536 | F26: SIA "Selding" | G26: 1031.94 | H26: 7848 | I26: 1031.94
A28: Avansā izmaksāts 2021.gadā | B28: 125120
A29: Faktiski apgūts finansējums 2021. gadā | B29: =G3 -> 59608.64
A30: Papildus nepieciešams finansējums 2022. gadā (2021. gadā uzsākto pasākumu norēķiniem) | B30: =ROUNDUP(B28-B29,0) -> 65512
A31: Iezīmēts finansējums 2022. gadam | B31: 0

Sheet Jūras MC_904
J1: 1.31.pielikums
A2: Latvijas Jūras Medicīnas centrs AS | J2: Informatīvajam ziņojumam "Par paveikto veselības aprūpes sistēmas papildus kapacitātes stiprināšanai Covid-19 pacientu ārstēšanas nodrošināšanai un priekšlikumiem neizlietotā finansējuma apguvei "
F3: oktobris | G3: =G16 -> 1103.52
F4: novembris | G4: =G17+G18+G19 -> 5503.36
F5: decembris | G5: =G13+G14+G15+G21 -> 37195.4
F6: janvāris | G6: =G20+G22 -> 5973.26
A8: Informācija par finanšu līdzekļu izlietojumu
A9: Plānotais finansējums | D9: Informācija par finanšu līdzekļu izlietojumu
A10: Pozīcijas nosaukums | B10: Skaits | C10: Plānotā summa (ar PVN), EUR | D10: Pavadzīme | H10: Maksājuma uzdevums | J10: Komentārs par izpildes progresu
D11: Pavadzīmes Nr. | E11: Datums | F11: Piegādātājs | G11: Summa ( ar PVN) EUR | H11: Nr. | I11: Summa
A12: KOPĀ, t.sk. | B12: =SUM(B13:B22) -> 21 | C12: =SUM(C13:C22) -> 49775.54 | G12: =SUM(G13:G22) -> 49775.54 | I12: =SUM(I13:I22) -> 49775.54
A13: Pacientu vitālo funkciju monitors | B13: 4 | C13: 8712 | D13: ARB118461 | E13: 30.12.2021. | F13: Arbor Medical Korporācija SIA | G13: =8712 -> 8712 | H13: 40 | I13: 8712 | J13: Izpildīts
A14: Pulsa oksimetri ar neinvazīvo asisspiediena mērīšanu | B14: 8 | C14: 6582.4 | D14: ARB118464 | E14: 30.12.2021. | F14: Arbor Medical Korporācija SIA | G14: 6582.4 | H14: 40 | I14: 6582.4 | J14: Izpildīts
A15: Perfuzori | B15: 6 | C15: 5445 | D15: ARB118466 | E15: 30.12.2021. | F15: Arbor Medical Korporācija SIA | G15: 5445 | H15: 65 | I15: 5445 | J15: Izpildīts
A16: Skābekļa sistēmas izveide papildus 24. gultām. | B16: 1 | C16: 11370.14 | D16: 6721884410 | E16: 27.10.2021. | F16: Linde Gas SIA | G16: 1103.52 | H16: 1199 | I16: 1103.52 | J16: Izpildīts
D17: ARB116484 | E17: 08.11.2021. | F17: Arbor Medical Korporācija SIA | G17: 471.9 | H17: 65 | I17: 471.9 | J17: Izpildīts
D18: 6721894877 | E18: 08.11.2021. | F18: Linde Gas SIA | G18: 1242.36 | H18: 1437 | I18: 1242.36 | J18: Izpildīts
D19: 6721895049 | E19: 09.11.2021. | F19: Linde Gas SIA | G19: 3789.1 | H19: 1437 | I19: 3789.1 | J19: Izpildīts
D20: 6721924453 | E20: 24.01.2022. | F20: Linde Gas SIA | G20: 4763.26 | H20: 101 | I20: 4763.26 | J20: Izpildīts
A21: Neinvazīvais ventilators ar CO2 funkciju | B21: 1 | C21: 16456 | D21: ARB118530 | E21: 30.12.2021. | F21: Arbor Medical Korporācija SIA | G21: 16456 | H21: 40 | I21: 16456 | J21: Izpildīts
A22: Laringoskopa komplekts COVD 19 pacientiem | B22: 1 | C22: 1210 | D22: ARB 119015 | E22: 19.01.2022. | F22: Arbor Medical Korporācija SIA | G22: 1210 | H22: 102 | I22: 1210 | J22: Izpildīts
A25: Avansā izmaksāts 2021.gadā | B25: 32110
A26: Faktiski apgūts finansējums 2021. gadā | B26: 32110
A27: Papildus nepieciešams finansējums 2022. gadā (2021. gadā uzsākto pasākumu norēķiniem) | B27: 0
A28: Iezīmēts finansējums 2022. gadam | B28: 17666

Sheet Rīgas 1.slimnica_904
F1: 1.32.pielikums
F2: Informatīvajam ziņojumam "Par paveikto veselības aprūpes sistēmas papildus kapacitātes stiprināšanai Covid-19 pacientu ārstēšanas nodrošināšanai un priekšlikumiem neizlietotā finansējuma apguvei "
A3: SIA "Rīgas 1. slimnīca"
B4: 9., 10., 11. un 12. nodaļu pielāgošanas darbi | C4: Skaits | D4: Cena | E4: summa ar PVN | F4: Pasākuma īstenošanas termiņi
B5: Covid-19 pacientu uzņemšanai | D5: (EUR) | E5: (EUR)
B6: Nerūsējoša tērauda ratiņi ar ritenīšiem | C6: 15 | D6: 181.5 | E6: =C6*D6 -> 2722.5 | F6: novembris, decembris
B7: Pacienta transporta rati | C7: 2 | D7: 2420 | E7: =C7*D7 -> 4840 | F7: novembris, decembris
B8: Palātu / pacientu informatīvais sienas monitors (māsu postenis) | C8: 2 | D8: 1210 | E8: =C8*D8 -> 2420 | F8: novembris, decembris
B9: Dušas guļrati | C9: 1 | D9: 3025 | E9: =C9*D9 -> 3025 | F9: novembris, decembris
B10: Slīddēlis | C10: 1 | D10: 200 | E10: =C10*D10 -> 200 | F10: novembris, decembris
B11: Līķu maisi | C11: 100 | D11: 3.63 | E11: =C11*D11 -> 363 | F11: novembris, decembris
B12: Rācijas | C12: 20 | D12: 70 | E12: =C12*D12 -> 1400 | F12: novembris, decembris
B13: Asins gāzu analizators | C13: 4 | D13: 8470 | E13: =C13*D13 -> 33880 | F13: novembris, decembris
B14: Asins gāzu analizatoru šļirce | C14: 4000 | D14: 2.42 | E14: =C14*D14 -> 9680 | F14: novembris, decembris
B15: Gāzes analizatoru kārtridži | C15: 4000 | D15: 9 | E15: =C15*D15 -> 36000 | F15: novembris, decembris
B16: Galvas mazgāšanas vanna | C16: 2 | D16: 121 | E16: =C16*D16 -> 242 | F16: novembris, decembris
B17: Aprūpes rati | C17: 2 | D17: 726 | E17: =C17*D17 -> 1452 | F17: novembris, decembris
... B19: Līķu rati | C19: 2 | D19: 4840 | E19: =C19*D19 -> 9680 | F19: novembris, decembris
E20: =ROUNDUP(SUM(E6:E19),0) -> 108446
B22: Avansā izmaksāts 2021.gadā | C22: =E20 -> 108446

Sheet Balvi_904
J1: 1.33.pielikums
A2: SIA "Balvu un Gulbenes slimnīcu apvienība" | J2: Informatīvajam ziņojumam "Par paveikto veselības aprūpes sistēmas papildus kapacitātes stiprināšanai Covid-19 pacientu ārstēšanas nodrošināšanai un priekšlikumiem neizlietotā finansējuma apguvei "
F3: novembris | G3: =G13 -> 739.53
F4: decembris | G4: =G10+G11+G12+G14 -> 11401.81
A5: Informācija par finanšu līdzekļu izlietojumu
A6: Plānotais finansējums | D6: Informācija par finanšu līdzekļu izlietojumu
A7: Pozīcijas nosaukums | B7: Skaits | C7: Plānotā summa (ar PVN), EUR | D7: Pavadzīme | H7: Maksājuma uzdevums | J7: Komentārs par izpildes progresu
D8: Pavadzīmes Nr. | E8: Datums | F8: Piegādātājs | G8: Summa ( ar PVN) EUR | H8: Nr. | I8: Summa
A9: KOPĀ, t.sk. | B9: =SUM(B10:B14) -> 36 | C9: =SUM(C10:C14) -> 11000 | G9: =SUM(G10:G14) -> 12141.34 | I9: =SUM(I10:I14) -> 12141.34
A10: Baktericīdais recirkulators NEXA Prolux G M30WA ar statīvu (izolators) | B10: 8 | C10: 950 | D10: AM 1343 | E10: 14.12.2021. | F10: Airmed, SIA | G10: 3488.41 | H10: 2750 | I10: 3488.41 | J10: Izpildīts
A11: Pacientu monitors | B11: 2 | C11: 5000 | D11: ARB 118216 | E11: 28.12.2021. | F11: Arbor Medical Korporācija SIA | G11: 4114 | H11: 2882 | I11: 4114 | J11: Izpildīts
A12: Perfuzors | B12: 2 | C12: 2300 | D12: ARB 117417 | E12: 03.12.2021. | F12: Arbor Medical Korporācija SIA | G12: 2057 | H12: 2752 | I12: 2057 | J12: Izpildīts
A13: Slūžas, m2 | B13: 14 | C13: 750 | D13: 16.11.2021.-BGSA | E13: 16.11.2021. | F13: Stalve SIA | G13: 739.53 | H13: 2544 | I13: 739.53 | J13: Izpildīts
A14: Pretizgulējumu matrači | B14: 10 | C14: 2000 | D14: ARB 118209 | E14: 28.12.2021. | F14: Arbor Medical Korporācija SIA | G14: 1742.4 | H14: 2881 | I14: 1742.4 | J14: Izpildīts
A17: Avansā izmaksāts 2021.gadā | B17: 11000
A18: Faktiski apgūts finansējums 2021. gadā | B18: 11000

Sheet Dzemd_904
J1: 1.34.pielikums
A2: Rīgas Dzemdību nams SIA | J2: Informatīvajam ziņojumam "Par paveikto veselības aprūpes sistēmas papildus kapacitātes stiprināšanai Covid-19 pacientu ārstēšanas nodrošināšanai un priekšlikumiem neizlietotā finansējuma apguvei "
B3: realizēs | C3: =C8-C14-C16-C21-C22-C18 -> 104512.56 | D3: papildus vēl vēlas no saraksta | E3: =Papildus_dzn_904_aizstāt!D16 -> 283503
A4: Informācija par finanšu līdzekļu izlietojumu
A5: Plānotais finansējums | D5: Informācija par finanšu līdzekļu izlietojumu
A6: Pozīcijas nosaukums | B6: Skaits | C6: Plānotā summa (ar PVN), EUR | D6: Pavadzīme | H6: Maksājuma uzdevums | J6: Komentārs par izpildes progresu
D7: Pavadzīmes Nr. | E7: Datums | F7: Piegādātājs | G7: Summa ( ar PVN) EUR | H7: Nr. | I7: Summa
A8: KOPĀ, t.sk. | B8: =SUM(B9:B22) -> 28 | C8: =SUM(C9:C22) -> 170411.63 | G8: =SUM(G9:G22) -> 0 | I8: =SUM(I9:I22) -> 0
A9: Elektriski regulējama dzemdību gulta-galds | B9: 2 | C9: 41624 | J9: Izsludināts atklātais konkurss “Medicīnas ierīces un aprīkojums” Identifikācijas numurs: RDzN 2022/10/K, piegādes saskaņā ar līgumu , orientējoši 2022.05.
A10: Perfuzors – infūzijas sūknis dozētai medikamentu ievadei | B10: 4 | C10: 2746.72 | J10: 03.02.2022. noslēgts iepirkuma līgums ar SIA "Arbor Medical Korporācija" par 1 iekārtas iegādi,iekārtas cena 1452.00 EUR ar PVN, piegādes termiņš 25.02.2022.
A11: Termostats infūziju šķīdumu sildīšanai | B11: 1 | C11: 1028.5 | J11: Izsludināts atklātais konkurss “Medicīnas ierīces un aprīkojums”RDzN 2022/10/K, piegādes saskaņā ar līgumu , orientējoši 2022.05.- 06.
A12: Ķirurģiskais vakuumsūknis | B12: 2 | C12: 6050 | J12: Izsludināts atklātais konkurss “Medicīnas ierīces un aprīkojums”Identifikācijas numurs: RDzN 2022/10/K, piegādes saskaņā ar līgumu , orientējoši 2022.05.
A13: Pacienta vitālo funkciju novērošanas monitors | B13: 3 | C13: 14048.1 | J13: 03.02.2022. noslēgts iepirkuma līgums ar SIA "Arbor Medical Korporācija" par 1 ierīces iekārtas,iekārtas cena 3811.50 EUR ar PVN, piegādes termiņš 25.02.2022. 2 ierīces - Izsludināts atklātais konkurss “Medicīnas ierīces un aprīkojums”Identifikācijas numurs: RDzN 2022/10/K
A14: Virsmu dezinfekcijas iekārta automātiskai virsmu dezinfekcijai | B14: 1 | C14: 5456.62 | J14: Netiks iegādāts, iespējams aizvietot ar citām VM sarakstā iekļautajām Covid -19 pacientu aprūpei nepieciešamajām ierīcēm
A15: Kardiotokogrāfs (bezvadu) | B15: 3 | C15: 32488.5 | J15: Izsludināts atklātais konkurss “Medicīnas ierīces un aprīkojums” Identifikācijas numurs: RDzN 2022/10/K, piegādes saskaņā ar līgumu , orientējoši 2022.05. - 07.
A16: Elektriskā gaisa attīrīšanas ierīce | B16: 1 | C16: 5414.75 | J16: Netiks iegādāts, iespējams aizvietot ar citām VM sarakstā iekļautajām Covid -19 pacientu aprūpei nepieciešamajām ierīcēm
A17: Izmeklējumu lampa LED uz statīva | B17: 2 | C17: 2831.4 | J17: 11.02.2022. noslēgts iepirkuma līgums ar SIA "NMS ELPA" par 1 iekārtas iegādi,iekārtas cena 1269.29 EUR ar PVN, piegādes termiņš 25.02.2022.
A18: Elektrokoagulators ar nepieciešamajiem aksesuāriem | B18: 1 | C18: 2513.7 | J18: Netiks iegādāts, iespējams aizvietot ar citām VM sarakstā iekļautajām Covid -19 pacientu aprūpei nepieciešamajām ierīcēm
A19: Elektroniskie zīdaiņu (jaundzimušo) medicīniskie svari | B19: 3 | C19: 900.24 | J19: 11.02.2022. noslēgts iepirkuma līgums ar SIA "NMS ELPA" par 1 iekārtas iegādi,iekārtas cena 314.60 EUR ar PVN, piegādes termiņš 25.02.2022.
A20: Galdiņš (procedūru) medikamentu, materiāla un aprūpes priekšmetu novietošanai | B20: 3 | C20: 2795.1 | J20: 03.02.2022. noslēgts iepirkuma līgums ar SIA "Arbor Medical Korporācija" par 1 iekārtas iegādi,iekārtas cena 1004.30 EUR ar PVN, piegādes termiņš 25.02.2022. Atlikušās ierīces iespējams aizvietot ar citām VM sarakstā iekļautajām Covid-19 pacientu aprūpei nepieciešamajām ierīcēm
... A22: Augstas plūsmas skābekļa padeves iekārta | B22: 1 | C22: 6534 | J22: Netiks iegādāts, iespējams aizvietot ar citām VM sarakstā iekļautajām Covid -19 pacientu aprūpei nepieciešamajām ierīcēm
A25: Avansā izmaksāts 2021.gadā | B25: 119288
A26: Faktiski apgūts finansējums 2021. gadā | B26: =G2 -> 0
A27: Papildus nepieciešams finansējums 2022. gadā (2021. gadā uzsākto pasākumu norēķiniem) | B27: =ROUNDUP(C3-B29,0) -> 53389
A28: Papildus nepieciešams finansējums 2022. gadā (jauno pasākumu īstenošanai) | B28: =Papildus_dzn_904_aizstāt!D16 -> 283503
A29: Iezīmēts finansējums 2022. gadam | B29: 51124

Sheet Papildus_dzn_904_aizstāt
D1: 1.35.pielikums
A2: Rīgas Dzemdību nams SIA | D2: Informatīvajam ziņojumam "Par paveikto veselības aprūpes sistēmas papildus kapacitātes stiprināšanai Covid-19 pacientu ārstēšanas nodrošināšanai un priekšlikumiem neizlietotā finansējuma apguvei "
A5: Medicīnas iekārta | B5: Skaists | C5: Prognozētā cena EUR bez PVN par 1 vienību | D5: Kopā ar PVN
A6: Termostasts | B6: 1 | C6: 1000 | D6: =1000*1.21 -> 1210
A7: Nazālā divfāziskā PMV iekārta | B7: 1 | C7: 17000 | D7: =17000*1.21 -> 20570
A8: Jaundzimušo inkubators | B8: 1 | C8: 15000 | D8: =15000*1.21 -> 18150
A9: Perfuzors | B9: 3 | C9: 900 | D9: =2700*1.21 -> 3267
A10: Kirurģiskais vakuumsūknis | B10: 1 | C10: 2500 | D10: =2500*1.21 -> 3025
A11: Dzemdību gulta-galds (2 gab.) | B11: 2 | C11: 17200 | D11: =34400*1.21 -> 41624
A12: Ārējais fetālais KTG monitors (bezvadu) ar Avalon FM20 un FM30 bāzes stacijām | B12: 3 | C12: 9000 | D12: =27000*1.21 -> 32670
A13: Vitālo funkciju monitors (mini) | B13: 3 | C13: 3900 | D13: =11700*1.21 -> 14157
A14: USG planšete DzC5 | B14: 1 | C14: 24000 | D14: =24000*1.21 -> 29040
A15: Pārvietojama rtg iekārta | B15: 1 | C15: 99000 | D15: =99000*1.21 -> 119790
D16: =SUM(D6:D15) -> 283503

Sheet Aizkraukle_904
J1: 1.36.pielikums
A2: SIA "Aizkraukles slimnīca | J2: Informatīvajam ziņojumam "Par paveikto veselības aprūpes sistēmas papildus kapacitātes stiprināšanai Covid-19 pacientu ārstēšanas nodrošināšanai un priekšlikumiem neizlietotā finansējuma apguvei "
F3: janvāris | G3: =G11 -> 3690.5
A4: Informācija par finanšu līdzekļu izlietojumu
A5: Plānotais finansējums | D5: Informācija par finanšu līdzekļu izlietojumu
A6: Pozīcijas nosaukums | B6: Skaits | C6: Plānotā summa (ar PVN), EUR | D6: Pavadzīme | H6: Maksājuma uzdevums | J6: Komentārs par izpildes progresu
D7: Pavadzīmes Nr. | E7: Datums | F7: Piegādātājs | G7: Summa ( ar PVN) EUR | H7: Nr. | I7: Summa
A8: KOPĀ, t.sk. | B8: =SUM(B9:B11) -> 23 | C8: =SUM(C9:C11) -> 40325 | G8: =SUM(G9:G11) -> 3690.5 | I8: =SUM(I9:I11) -> 3690.5
A9: Funkcionālās gultas | B9: 11 | C9: 33275 | J9: Izsludināts iepirkums 31.01.2022.
A10: Dezinficējams skapītis pie gultas | B10: 11 | C10: 3355 | J10: Izsludināts iepirkums 31.01.2022.
A11: Vitālo funkciju novērošanas monitors | B11: 1 | C11: 3695 | D11: ELPA 023196 | E11: 11.01.2022. | F11: NMS ELPA SIA | G11: 3690.5 | H11: 22-29440 | I11: 3690.5 | J11: 09.11.2021. līgums ar NMS ELPA SIA. Piegādāts 1 gab. 11.01.2022.
A13: Avansā izmaksāts 2021.gadā | B13: 0
A14: Iezīmēts finansējums 2022. gadam | B14: 40325
