Workbook

Sheet APRĒĶINS
S1: Pielikums
S2: Ministru kabineta rīkojuma projektam
S3: Tiesību akta lietas ID 23-TA-421
A5: Aprēķins plānotajam nepieciešamajam finansējumam laika periodam no 2023. gada janvāra līdz aprīlim pašvaldībām par atbalstu mājsaimniecībām apkures sezonai, ja apkurei izmanto elektroenerģiju, koksnes granulas, koksnes briketes, malku, sašķidrināto naftas gāzi un dīzeļdegvielu, tai skaitā administratīvo izmaksu daļējai kompensēšanai, kas pašvaldībām radušās saistībā ar minētā atbalsta iesniegumu reģistrāciju un izskatīšanu.
A8: Pašvaldības nosaukums | B8: Faktiskie izdevumi par 2022. gada novembri, euro | C8: Mājsaimniecību atbalstīto iesniegumu skaits 2022. gada novembrī par malku bez maksājuma apliecinājuma dokumenta | D8: Kompensējamie izdevumi pašvaldībai par administratīvajām izmaksām, izskatot mājsaimniecību iesniegumus 2022. gada novembrī par malku bez maksājuma apliecinājuma dokumenta, euro | E8: Pašvaldībai kompensējamie izdevumi2022. gada novembrī par malku bez maksājuma apliecinājuma dokumenta, euro | F8: Faktiskie izdevumi par 2022. gada novembri bez izdevumiem par malku bez maksājuma apliecinājuma dokumenta, euro | G8: Faktiskie izdevumi par 2022. gada decembri, euro | H8: Mājsaimniecību atbalstīto iesniegumu skaits 2022. gada decembrī par malku bez maksājuma apliecinājuma dokumenta | I8: Kompensējamie izdevumi pašvaldībai par administratīvajām izmaksām, izskatot mājsaimniecību iesniegumus 2022. gada decembrī par malku bez maksājuma apliecinājuma dokumenta, euro | J8: Pašvaldībai kompensējamie izdevumi2022. gada decembrī par malku bez maksājuma apliecinājuma dokumenta, euro | K8: Faktiskie izdevumi par 2022. gada decembri bez izdevumiem par malku bez maksājuma apliecinājuma dokumenta, euro | L8: Faktiskie izdevumi par 2023. gada janvāri, euro | M8: Mājsaimniecību atbalstīto iesniegumu skaits 2023. gada janvārī par malku bez maksājuma apliecinājuma dokumenta | N8: Kompensējamie izdevumi pašvaldībai par administratīvajām izmaksām, izskatot mājsaimniecību iesniegumus 2023. gada janvārī par malku bez maksājuma apliecinājuma dokumenta, euro | O8: Pašvaldībai kompensējamie izdevumi2023. gada janvārī par malku bez maksājuma apliecinājuma dokumenta, euro | P8: Faktiskie izdevumi par 2023. gada janvāri bez izdevumiem par malku bez maksājuma apliecinājuma dokumenta, euro | Q8: Faktiskie izdevumi kopā, euro (6+11+16) | R8: Faktiskie izdevumi vidēji vienā mēnesī, euro (17/3 mēnešiem) | S8: Plānotais nepieciešamais finansējums pašvaldību faktisko izdevumu segšanai apkures sezonā no 2023. gada janvāra līdz aprīlim, euro (18*4 mēneši)
A9: 1 | B9: 2 | C9: 3 | D9: 4 | E9: 5 | F9: 6 | G9: 7 | H9: 8 | I9: 9 | J9: 10 | K9: 11 | L9: 12 | M9: 13 | N9: 14 | O9: 15 | P9: 16 | Q9: 17 | R9: 18 | S9: 19
A10: Aizkraukles novada pašvaldība | B10: =Novembris_2022!B14 -> 299782.5 | C10: =Novembris_2022!T14 -> 4087 | D10: =C10*8 -> 32696 | E10: =Novembris_2022!U14 -> 245640 | F10: =B10-D10-E10 -> 21446.5 | G10: =Decembris_2022!B14 -> 39406.42 | H10: =Decembris_2022!T14 -> 496 | I10: =H10*8 -> 3968 | J10: =Decembris_2022!U14 -> 29760 | K10: =G10-I10-J10 -> 5678.42 | L10: =Janvāris_2023!B14 -> 5634.35 | M10: =Janvāris_2023!T14 -> 2 | N10: =M10*8 -> 16 | O10: =Janvāris_2023!U14 -> 120 | P10: =L10-N10-O10 -> 5498.35 | Q10: =F10+K10+P10 -> 32623.27 | R10: =Q10/3 -> 10874.423 | S10: =R10*4 -> 43497.693
A11: Alūksnes novada pašvaldība | B11: =Novembris_2022!B15 -> 120520.82 | C11: =Novembris_2022!T15 -> 1726 | D11: =C11*8 -> 13808 | E11: =Novembris_2022!U15 -> 103740 | F11: =B11-D11-E11 -> 2972.82 | G11: =Decembris_2022!B15 -> 11567.43 | H11: =Decembris_2022!T15 -> 93 | I11: =H11*8 -> 744 | J11: =Decembris_2022!U15 -> 5460 | K11: =G11-I11-J11 -> 5363.43 | L11: =Janvāris_2023!B15 -> 1291.78 | M11: =Janvāris_2023!T15 -> 0 | N11: =M11*8 -> 0 | O11: =Janvāris_2023!U15 -> 0 | P11: =L11-N11-O11 -> 1291.78 | Q11: =F11+K11+P11 -> 9628.03 | R11: =Q11/3 -> 3209.3433 | S11: =R11*4 -> 12837.373
A12: Augšdaugavas novada pašvaldība | B12: =Novembris_2022!B16 -> 347969.31 | C12: =Novembris_2022!T16 -> 4911 | D12: =C12*8 -> 39288 | E12: =Novembris_2022!U16 -> 294660 | F12: =B12-D12-E12 -> 14021.31 | G12: =Decembris_2022!B16 -> 165704 | H12: =Decembris_2022!T16 -> 2244 | I12: =H12*8 -> 17952 | J12: =Decembris_2022!U16 -> 134640 | K12: =G12-I12-J12 -> 13112 | L12: =Janvāris_2023!B16 -> 3898.94 | M12: =Janvāris_2023!T16 -> 22 | N12: =M12*8 -> 176 | O12: =Janvāris_2023!U16 -> 1320 | P12: =L12-N12-O12 -> 2402.94 | Q12: =F12+K12+P12 -> 29536.25 | R12: =Q12/3 -> 9845.4167 | S12: =R12*4 -> 39381.667
A13: Ādažu novada pašvaldība | B13: =Novembris_2022!B17 -> 17352.55 | C13: =Novembris_2022!T17 -> 120 | D13: =C13*8 -> 960 | E13: =Novembris_2022!U17 -> 7200 | F13: =B13-D13-E13 -> 9192.55 | G13: =Decembris_2022!B17 -> 64295.66 | H13: =Decembris_2022!T17 -> 583 | I13: =H13*8 -> 4664 | J13: =Decembris_2022!U17 -> 34980 | K13: =G13-I13-J13 -> 24651.66 | L13: =Janvāris_2023!B17 -> 5615 | M13: =Janvāris_2023!T17 -> 72 | N13: =M13*8 -> 576 | O13: =Janvāris_2023!U17 -> 4320 | P13: =L13-N13-O13 -> 719 | Q13: =F13+K13+P13 -> 34563.21 | R13: =Q13/3 -> 11521.07 | S13: =R13*4 -> 46084.28
A14: Balvu novada pašvaldība | B14: =Novembris_2022!B18 -> 145317.56 | C14: =Novembris_2022!T18 -> 2075 | D14: =C14*8 -> 16600 | E14: =Novembris_2022!U18 -> 124800 | F14: =B14-D14-E14 -> 3917.56 | G14: =Decembris_2022!B18 -> 27499.81 | H14: =Decembris_2022!T18 -> 371 | I14: =H14*8 -> 2968 | J14: =Decembris_2022!U18 -> 22320 | K14: =G14-I14-J14 -> 2211.81 | L14: =Janvāris_2023!B18 -> 645.78 | M14: =Janvāris_2023!T18 -> 1 | N14: =M14*8 -> 8 | O14: =Janvāris_2023!U18 -> 60 | P14: =L14-N14-O14 -> 577.78 | Q14: =F14+K14+P14 -> 6707.15 | R14: =Q14/3 -> 2235.7167 | S14: =R14*4 -> 8942.8667
A15: Bauskas novada pašvaldība | B15: =Novembris_2022!B19 -> 241751.32 | C15: =Novembris_2022!T19 -> 3303 | D15: =C15*8 -> 26424 | E15: =Novembris_2022!U19 -> 198480 | F15: =B15-D15-E15 -> 16847.32 | G15: =Decembris_2022!B19 -> 63799.65 | H15: =Decembris_2022!T19 -> 861 | I15: =H15*8 -> 6888 | J15: =Decembris_2022!U19 -> 51660 | K15: =G15-I15-J15 -> 5251.65 | L15: =Janvāris_2023!B19 -> 9831 | M15: =Janvāris_2023!T19 -> 1 | N15: =M15*8 -> 8 | O15: =Janvāris_2023!U19 -> 60 | P15: =L15-N15-O15 -> 9763 | Q15: =F15+K15+P15 -> 31861.97 | R15: =Q15/3 -> 10620.657 | S15: =R15*4 -> 42482.627
A16: Cēsu novada pašvaldība | B16: =Novembris_2022!B20 -> 187785.86 | C16: =Novembris_2022!T20 -> 2490 | D16: =C16*8 -> 19920 | E16: =Novembris_2022!U20 -> 150300 | F16: =B16-D16-E16 -> 17565.86 | G16: =Decembris_2022!B20 -> 59541.23 | H16: =Decembris_2022!T20 -> 774 | I16: =H16*8 -> 6192 | J16: =Decembris_2022!U20 -> 46440 | K16: =G16-I16-J16 -> 6909.23 | L16: =Janvāris_2023!B20 -> 15457.98 | M16: =Janvāris_2023!T20 -> 7 | N16: =M16*8 -> 56 | O16: =Janvāris_2023!U20 -> 420 | P16: =L16-N16-O16 -> 14981.98 | Q16: =F16+K16+P16 -> 39457.07 | R16: =Q16/3 -> 13152.357 | S16: =R16*4 -> 52609.427
A17: Daugavpils valstspilsētas pašvaldība | B17: =Novembris_2022!B21 -> 471201.28 | C17: =Novembris_2022!T21 -> 6246 | D17: =C17*8 -> 49968 | E17: =Novembris_2022!U21 -> 374760 | F17: =B17-D17-E17 -> 46473.28 | G17: =Decembris_2022!B21 -> 1711.01 | H17: =Decembris_2022!T21 -> 19 | I17: =H17*8 -> 152 | J17: =Decembris_2022!U21 -> 1140 | K17: =G17-I17-J17 -> 419.01 | L17: =Janvāris_2023!B21 -> 43349.59 | M17: =Janvāris_2023!T21 -> 403 | N17: =M17*8 -> 3224 | O17: =Janvāris_2023!U21 -> 24180 | P17: =L17-N17-O17 -> 15945.59 | Q17: =F17+K17+P17 -> 62837.88 | R17: =Q17/3 -> 20945.96 | S17: =R17*4 -> 83783.84
A18: Dienvidkurzemes novada pašvaldība | B18: =Novembris_2022!B22 -> 79995.07 | C18: =Novembris_2022!T22 -> 1154 | D18: =C18*8 -> 9232 | E18: =Novembris_2022!U22 -> 69300 | F18: =B18-D18-E18 -> 1463.07 | G18: =Decembris_2022!B22 -> 145418.78 | H18: =Decembris_2022!T22 -> 1977 | I18: =H18*8 -> 15816 | J18: =Decembris_2022!U22 -> 118680 | K18: =G18-I18-J18 -> 10922.78 | L18: =Janvāris_2023!B22 -> 8210.95 | M18: =Janvāris_2023!T22 -> 2 | N18: =M18*8 -> 16 | O18: =Janvāris_2023!U22 -> 120 | P18: =L18-N18-O18 -> 8074.95 | Q18: =F18+K18+P18 -> 20460.8 | R18: =Q18/3 -> 6820.2667 | S18: =R18*4 -> 27281.067
A19: Dobeles novada pašvaldība | B19: =Novembris_2022!B23 -> 138769.89 | C19: =Novembris_2022!T23 -> 1843 | D19: =C19*8 -> 14744 | E19: =Novembris_2022!U23 -> 111240 | F19: =B19-D19-E19 -> 12785.89 | G19: =Decembris_2022!B23 -> 22417.65 | H19: =Decembris_2022!T23 -> 256 | I19: =H19*8 -> 2048 | J19: =Decembris_2022!U23 -> 15360 | K19: =G19-I19-J19 -> 5009.65 | L19: =Janvāris_2023!B23 -> 7846.71 | M19: =Janvāris_2023!T23 -> 1 | N19: =M19*8 -> 8 | O19: =Janvāris_2023!U23 -> 60 | P19: =L19-N19-O19 -> 7778.71 | Q19: =F19+K19+P19 -> 25574.25 | R19: =Q19/3 -> 8524.75 | S19: =R19*4 -> 34099
A20: Gulbenes novada pašvaldība | B20: =Novembris_2022!B24 -> 149567.6 | C20: =Novembris_2022!T24 -> 2113 | D20: =C20*8 -> 16904 | E20: =Novembris_2022!U24 -> 126780 | F20: =B20-D20-E20 -> 5883.6 | G20: =Decembris_2022!B24 -> 50324.55 | H20: =Decembris_2022!T24 -> 701 | I20: =H20*8 -> 5608 | J20: =Decembris_2022!U24 -> 42060 | K20: =G20-I20-J20 -> 2656.55 | L20: =Janvāris_2023!B24 -> 1453.63 | M20: =Janvāris_2023!T24 -> 0 | N20: =M20*8 -> 0 | O20: =Janvāris_2023!U24 -> 0 | P20: =L20-N20-O20 -> 1453.63 | Q20: =F20+K20+P20 -> 9993.78 | R20: =Q20/3 -> 3331.26 | S20: =R20*4 -> 13325.04
A21: Jelgavas novada pašvaldība | B21: =Novembris_2022!B25 -> 375514.98 | C21: =Novembris_2022!T25 -> 4932 | D21: =C21*8 -> 39456 | E21: =Novembris_2022!U25 -> 296280 | F21: =B21-D21-E21 -> 39778.98 | G21: =Decembris_2022!B25 -> 84919.24 | H21: =Decembris_2022!T25 -> 1045 | I21: =H21*8 -> 8360 | J21: =Decembris_2022!U25 -> 62700 | K21: =G21-I21-J21 -> 13859.24 | L21: =Janvāris_2023!B25 -> 11710.34 | M21: =Janvāris_2023!T25 -> 0 | N21: =M21*8 -> 0 | O21: =Janvāris_2023!U25 -> 0 | P21: =L21-N21-O21 -> 11710.34 | Q21: =F21+K21+P21 -> 65348.56 | R21: =Q21/3 -> 21782.853 | S21: =R21*4 -> 87131.413
... A52: Ventspils valstspilsētas pašvaldība | B52: =Novembris_2022!B56 -> 69749.05 | C52: =Novembris_2022!T56 -> 951 | D52: =C52*8 -> 7608 | E52: =Novembris_2022!U56 -> 57060 | F52: =B52-D52-E52 -> 5081.05 | G52: =Decembris_2022!B56 -> 93823.54 | H52: =Decembris_2022!T56 -> 1106 | I52: =H52*8 -> 8848 | J52: =Decembris_2022!U56 -> 66484 | K52: =G52-I52-J52 -> 18491.54 | L52: =Janvāris_2023!B56 -> 5862.9 | M52: =Janvāris_2023!T56 -> 14 | N52: =M52*8 -> 112 | O52: =Janvāris_2023!U56 -> 840 | P52: =L52-N52-O52 -> 4910.9 | Q52: =F52+K52+P52 -> 28483.49 | R52: =Q52/3 -> 9494.4967 | S52: =R52*4 -> 37977.987
A53: KOPĀ | B53: =SUM(B10:B52) -> 6585751.2 | C53: =SUM(C10:C52) -> 87233 | D53: =SUM(D10:D52) -> 697864 | E53: =SUM(E10:E52) -> 5249985.4 | F53: =SUM(F10:F52) -> 637901.81 | G53: =SUM(G10:G52) -> 2397403.6 | H53: =SUM(H10:H52) -> 29041 | I53: =SUM(I10:I52) -> 232328 | ... S53: =SUM(S10:S52) -> 1962732.4
A55: Apkures veidi | B55: Faktiskie izdevumi kopā par 3 mēnešiem | C55: Faktiskie izdevumi vidēji vienā mēnesī, euro | D55: Plānotais nepieciešamais finansējums pašvaldību faktisko izdevumu segšanai apkures sezonā no 2023. gada janvāra līdz aprīlim, euro
A56: par koksnes granulām | B56: =Novembris_2022!O57+Decembris_2022!O57+Janvāris_2023!O57 -> 1031936.7 | C56: =B56/3 -> 343978.89 | D56: =C56*4 -> 1375915.6
A57: par koksnes briketēm | B57: =Novembris_2022!Q57+Decembris_2022!Q57+Janvāris_2023!Q57 -> 74672.51 | C57: =B57/3 -> 24890.837 | D57: =C57*4 -> 99563.347
A58: par malku ar maksājuma apliecinājuma dokumentu | B58: =Novembris_2022!S57+Decembris_2022!S57+Janvāris_2023!S57 -> 96805.34 | C58: =B58/3 -> 32268.447 | D58: =C58*4 -> 129073.79
A59: par elektroenerģiju | B59: =Novembris_2022!W57+Decembris_2022!W57+Janvāris_2023!W57 -> 105458.76 | C59: =B59/3 -> 35152.92 | D59: =C59*4 -> 140611.68
A60: par administratīvajām izmaksām | B60: =(Novembris_2022!J57+Decembris_2022!J57+Janvāris_2023!J57)-(Novembris_2022!T57*8+Decembris_2022!T57*8+Janvāris_2023!T57*8) -> 163176 | C60: =B60/3 -> 54392 | D60: =C60*4 -> 217568
A61: KOPĀ: | B61: =SUM(B56:B60) -> 1472049.3 | C61: =SUM(C56:C60) -> 490683.09 | D61: =SUM(D56:D60) -> 1962732.4

Sheet Novembris_2022
A1: Datu savākšanas pamatojums – Energoresursu cenu ārkārtēja pieauguma samazinājuma pasākumu likuma 7.1 pants | F1: 21_Apkure
F2: Pārskats par atbalstu mājsaimniecībām apkures sezonai
V4: KODI
A5: Pašvaldības nosaukums Novadi un pilsētas
A6: Iestādes nosaukums Novadi un pilsētas | V6: x
A7: Gads | V7: 2022
A8: Pārskata periods: | V8: Apkure_novembris
A10: Pašvaldības finansējuma saņēmējas | B10: Izdevumi kopā (9.+12.) | C10: Saņemtais avanss, euro | D10: Avansa atlikums uz pārskata perioda sākumu, euro | E10: Avansa atlikums uz nākamo pārskata periodu, euro | F10: Pārskata perioda izmaksātā summa, kas pārsniedza avansu | G10: Pašvaldības pieprasītais avanss, euro | H10: Avansa maksimāli pieejamā summa (kontrole un pārbaude) | I10: Izmaksājamā summa (kompensējamie izdevumi un avanss) (5.+ 7.) | J10: Kompensējamie izdevumi par administratīvajām izmaksām, euro (8 euro par viena iesnieguma reģistrāciju un izskatīšanu) | K10: Izskatīto mājsaimniecību iesniegumu skaits, tai skaitā | M10: Kompensējamie izdevumi par apkuri, euro | N10: Ja apkurei izmanto koksnes granulas | P10: Ja apkurei izmanto koksnes briketes | R10: Ja apkurei izmanto malku | V10: Ja apkurei izmanto elektroenerģiju
K11: atbalstīto iesniegumu skaits | L11: neatbalstīto iesniegumu skaits | N11: mājsaimniecību atbalstīto iesniegumu skaits | O11: pašvaldībai kompensējamie izdevumi, euro | P11: mājsaimniecību atbalstīto iesniegumu skaits | Q11: pašvaldībai kompensējamie izdevumi, euro | R11: ar maksājuma apliecinājuma dokumentu | T11: bez maksājuma apliecinājuma dokumenta | V11: mājsaimniecību atbalstīto iesniegumu skaits | W11: pašvaldībai kompensējamie izdevumi, euro
A12: nosaukums | R12: mājsaimniecību atbalstīto iesniegumu skaits | S12: pašvaldībai kompensējamie izdevumi, euro | T12: mājsaimniecību atbalstīto iesniegumu skaits | U12: pašvaldībai kompensējamie izdevumi, euro
A13: A | B13: 1 | C13: 2 | D13: 3 | E13: 4 | F13: 5 | G13: 6 | H13: 7 | I13: 8 | J13: 9 | K13: 10 | L13: 11 | M13: 12 | N13: 13 | O13: 14 | P13: 15 | Q13: 16 | R13: 17 | S13: 18 | T13: 19 | U13: 20 | V13: 21 | W13: 22
A14: AIZKRAUKLES NOVADA PAŠVALDĪBA | B14: =J14+M14 -> 299782.5 | C14: 0 | D14: 187936.38 | E14: 0 | F14: 111846.12 | G14: 0 | H14: 0 | I14: 111846.12 | J14: =(K14+L14)*8 -> 34848 | K14: =N14+P14+R14+T14+V14 -> 4219 | L14: 137 | M14: =O14+Q14+S14+U14+W14 -> 264934.5 | N14: 109 | O14: 18471.5 | P14: 19 | Q14: 616.63 | R14: 4 | S14: 206.37 | T14: 4087 | U14: 245640 | V14: 0 | W14: 0
A15: Alūksnes novada pašvaldība | B15: =J15+M15 -> 120520.82 | C15: 0 | D15: 280637.76 | E15: 160116.94 | F15: 0 | G15: 0 | H15: 0 | I15: 0 | J15: 14400 | K15: =N15+P15+R15+T15+V15 -> 1739 | L15: 61 | M15: =O15+Q15+S15+U15+W15 -> 106120.82 | N15: 8 | O15: 2033.22 | P15: 0 | Q15: 0 | R15: 5 | S15: 347.6 | T15: 1726 | U15: 103740 | V15: 0 | W15: 0
A16: Augšdaugavas novada pašvaldības centrālā administrācija | B16: =J16+M16 -> 347969.31 | C16: 47614 | D16: 329466 | E16: 29110.69 | F16: 0 | G16: 173320.66 | H16: 173320.66 | I16: 173320.66 | J16: 42912 | K16: =N16+P16+R16+T16+V16 -> 4965 | L16: 399 | M16: =O16+Q16+S16+U16+W16 -> 305057.31 | N16: 49 | O16: 10139.11 | P16: 4 | Q16: 179.8 | R16: 1 | S16: 78.4 | T16: 4911 | U16: 294660 | V16: 0 | W16: 0
A17: Ādažu novada pašvaldība | B17: =J17+M17 -> 17352.55 | C17: 0 | D17: 374699.56 | E17: 357347.01 | F17: 0 | G17: 0 | H17: 0 | I17: 0 | J17: 1448 | K17: =N17+P17+R17+T17+V17 -> 176 | L17: 5 | M17: =O17+Q17+S17+U17+W17 -> 15904.55 | N17: 53 | O17: 8241.91 | P17: 0 | Q17: 0 | R17: 3 | S17: 462.64 | T17: 120 | U17: 7200 | V17: 0 | W17: 0
A18: Balvu novada pašvaldība | B18: =J18+M18 -> 145317.56 | C18: 0 | D18: 208471.31 | E18: 63153.75 | F18: 0 | G18: 0 | H18: 0 | I18: 0 | J18: 17168 | K18: =N18+P18+R18+T18+V18 -> 2094 | L18: 52 | M18: =O18+Q18+S18+U18+W18 -> 128149.56 | N18: 17 | O18: 3187.13 | P18: 0 | Q18: 0 | R18: 1 | S18: 130 | T18: 2075 | U18: 124800 | V18: 1 | W18: 32.43
A19: BAUSKAS NOVADA PAŠVALDĪBA | B19: =J19+M19 -> 241751.32 | C19: 100000 | D19: 9410.72 | E19: 0 | F19: 132340.6 | G19: 120000 | H19: 120000 | I19: 252340.6 | J19: 28048 | K19: =N19+P19+R19+T19+V19 -> 3429 | L19: 77 | M19: =O19+Q19+S19+U19+W19 -> 213703.32 | N19: 103 | O19: 13547.39 | P19: 14 | Q19: 1011.82 | R19: 3 | S19: 634.57 | T19: 3303 | U19: 198480 | V19: 6 | W19: 29.54
A20: Cēsu novada pašvaldība | B20: =J20+M20 -> 187785.86 | C20: 137918.36 | D20: 148857.28 | E20: 98989.78 | F20: 0 | G20: 0 | H20: 0 | I20: 0 | J20: 21392 | K20: =N20+P20+R20+T20+V20 -> 2594 | L20: 80 | M20: =O20+Q20+S20+U20+W20 -> 166393.86 | N20: 83 | O20: 15061.51 | P20: 3 | Q20: 95.06 | R20: 4 | S20: 793.8 | T20: 2490 | U20: 150300 | V20: 14 | W20: 143.49
A21: Daugavpils pilsētas pašvaldība | B21: =J21+M21 -> 471201.28 | C21: 0 | D21: 419333.8 | E21: 0 | F21: 51867.48 | G21: 50000 | H21: 50000 | I21: 101867.48 | J21: 54712 | K21: =N21+P21+R21+T21+V21 -> 6512 | L21: 327 | M21: =O21+Q21+S21+U21+W21 -> 416489.28 | N21: 238 | O21: 40210.13 | P21: 9 | Q21: 624.92 | R21: 14 | S21: 834.91 | T21: 6246 | U21: 374760 | V21: 5 | W21: 59.32
A22: Dienvidkurzemes novada pašvaldība | B22: =J22+M22 -> 79995.07 | C22: 176332.85 | D22: 24132.29 | E22: 120470.07 | F22: 0 | G22: 20000 | H22: 20000 | I22: 20000 | J22: 9944 | K22: =N22+P22+R22+T22+V22 -> 1167 | L22: 76 | M22: =O22+Q22+S22+U22+W22 -> 70051.07 | N22: 12 | O22: 732.49 | P22: 1 | Q22: 18.58 | R22: 0 | S22: 0 | T22: 1154 | U22: 69300 | V22: 0 | W22: 0
A23: Dobeles novada pašvaldība | B23: =J23+M23 -> 138769.89 | C23: 50000 | D23: 151903.17 | E23: 63133.28 | F23: 0 | G23: 0 | H23: 0 | I23: 0 | J23: 15976 | K23: =N23+P23+R23+T23+V23 -> 1939 | L23: 58 | M23: =O23+Q23+S23+U23+W23 -> 122793.89 | N23: 53 | O23: 10012.44 | P23: 30 | Q23: 1402.89 | R23: 1 | S23: 29.61 | T23: 1843 | U23: 111240 | V23: 12 | W23: 108.95
A24: Gulbenes novada pašvaldība | B24: =J24+M24 -> 149567.6 | C24: 69122.24 | D24: 61755.53 | E24: 0 | F24: 18689.83 | G24: 0 | H24: 0 | I24: 18689.83 | J24: 17448 | K24: =N24+P24+R24+T24+V24 -> 2142 | L24: 39 | M24: =O24+Q24+S24+U24+W24 -> 132119.6 | N24: 22 | O24: 5029.36 | P24: 5 | Q24: 60.84 | R24: 1 | S24: 240 | T24: 2113 | U24: 126780 | V24: 1 | W24: 9.4
A25: Jelgavas novada pašvaldība | B25: =J25+M25 -> 375514.98 | C25: 14060 | D25: 396572.29 | E25: 35117.31 | F25: 0 | G25: 100000 | H25: 100000 | I25: 100000 | J25: 42592 | K25: =N25+P25+R25+T25+V25 -> 5192 | L25: 132 | M25: =O25+Q25+S25+U25+W25 -> 332922.98 | N25: 187 | O25: 32157.81 | P25: 50 | Q25: 3452.18 | R25: 10 | S25: 904.66 | T25: 4932 | U25: 296280 | V25: 13 | W25: 128.33
A26: Jelgavas valstspilsētas pašvaldība | B26: =J26+M26 -> 149675.16 | C26: 0 | D26: 346758.98 | E26: 197083.82 | F26: 0 | G26: 0 | H26: 0 | I26: 0 | J26: 16480 | K26: =N26+P26+R26+T26+V26 -> 2002 | L26: 58 | M26: =O26+Q26+S26+U26+W26 -> 133195.16 | N26: 117 | O26: 20500.07 | P26: 56 | Q26: 4035.25 | R26: 6 | S26: 456.65 | T26: 1800 | U26: 108060 | V26: 23 | W26: 143.19
... A56: Ventspils valstspilsētas pašvaldība | B56: =J56+M56 -> 69749.05 | C56: 0 | D56: 344325.16 | E56: 274576.11 | F56: 0 | G56: 0 | H56: 0 | I56: 0 | J56: 8344 | K56: =N56+P56+R56+T56+V56 -> 994 | L56: 49 | M56: =O56+Q56+S56+U56+W56 -> 61405.05 | N56: 37 | O56: 3930.61 | P56: 0 | Q56: 0 | R56: 6 | S56: 414.44 | T56: 951 | U56: 57060 | V56: 0 | W56: 0
A57: Kopā | B57: =SUM(B14:B56) -> 6585751.2 | C57: =SUM(C14:C56) -> 2518717 | D57: =SUM(D14:D56) -> 8657696.7 | E57: =SUM(E14:E56) -> 5115428.4 | F57: =SUM(F14:F56) -> 524765.87 | G57: =SUM(G14:G56) -> 1346285.2 | H57: =SUM(H14:H56) -> 1346285.2 | I57: =SUM(I14:I56) -> 1871051 | ... W57: =SUM(W14:W56) -> 6098.17
A60: Pašvaldība nodrošina normatīvajos aktos noteikto līdzekļu izlietojuma kontroli un atbilstību Energoresursu cenu ārkārtēja pieauguma samazinājuma pasākumu likuma mērķim.
A61: Pašvaldība apliecina, ka ir sniegtas patiesas un pilnīgas ziņas un apzinās, ka par nepatiesu ziņu sniegšanu var saukt pie normatīvajos aktos noteiktās atbildības.
A63: ŠIS DOKUMENTS IR SAGATAVOTS UN ELEKTRONISKI PARAKSTĪTS EPĀRSKATOS, IZMANTOJOT EPĀRSKATU AUTENTIFIKĀCIJAS RĪKUS
A66: Veidlapas aktuālās redakcijas numurs: Nr. 2 Izvēlētās redakcijas numurs: Nr. 2 2. Neparakstīts, pieņemts 12.12.2022 11:43:00 Maija Brunava 1. Neparakstīts, pieņemts 12.12.2022 11:43:00 Maija Brunava

Sheet Decembris_2022
A1: Datu savākšanas pamatojums – Energoresursu cenu ārkārtēja pieauguma samazinājuma pasākumu likuma 7.1 pants | F1: 21_Apkure
F2: Pārskats par atbalstu mājsaimniecībām apkures sezonai
V4: KODI
A5: Pašvaldības nosaukums Novadi un pilsētas
A6: Iestādes nosaukums Novadi un pilsētas | V6: x
A7: Gads | V7: 2022
A8: Pārskata periods: | V8: Apkure_decembris
A10: Pašvaldības finansējuma saņēmējas | B10: Izdevumi kopā (9.+12.) | C10: Saņemtais avanss, euro | D10: Avansa atlikums uz pārskata perioda sākumu, euro | E10: Avansa atlikums uz nākamo pārskata periodu, euro | F10: Pārskata perioda izmaksātā summa, kas pārsniedza avansu | G10: Pašvaldības pieprasītais avanss, euro | H10: Avansa maksimāli pieejamā summa (kontrole un pārbaude) | I10: Izmaksājamā summa (kompensējamie izdevumi un avanss) (5.+ 7.) | J10: Kompensējamie izdevumi par administratīvajām izmaksām, euro (8 euro par viena iesnieguma reģistrāciju un izskatīšanu) | K10: Izskatīto mājsaimniecību iesniegumu skaits, tai skaitā | M10: Kompensējamie izdevumi par apkuri, euro | N10: Ja apkurei izmanto koksnes granulas | P10: Ja apkurei izmanto koksnes briketes | R10: Ja apkurei izmanto malku | V10: Ja apkurei izmanto elektroenerģiju
K11: atbalstīto iesniegumu skaits | L11: neatbalstīto iesniegumu skaits | N11: mājsaimniecību atbalstīto iesniegumu skaits | O11: pašvaldībai kompensējamie izdevumi, euro | P11: mājsaimniecību atbalstīto iesniegumu skaits | Q11: pašvaldībai kompensējamie izdevumi, euro | R11: ar maksājuma apliecinājuma dokumentu | T11: bez maksājuma apliecinājuma dokumenta | V11: mājsaimniecību atbalstīto iesniegumu skaits | W11: pašvaldībai kompensējamie izdevumi, euro
A12: nosaukums | R12: mājsaimniecību atbalstīto iesniegumu skaits | S12: pašvaldībai kompensējamie izdevumi, euro | T12: mājsaimniecību atbalstīto iesniegumu skaits | U12: pašvaldībai kompensējamie izdevumi, euro
A13: A | B13: 1 | C13: 2 | D13: 3 | E13: 4 | F13: 5 | G13: 6 | H13: 7 | I13: 8 | J13: 9 | K13: 10 | L13: 11 | M13: 12 | N13: 13 | O13: 14 | P13: 15 | Q13: 16 | R13: 17 | S13: 18 | T13: 19 | U13: 20 | V13: 21 | W13: 22
A14: AIZKRAUKLES NOVADA PAŠVALDĪBA | B14: =J14+M14 -> 39406.42 | C14: 0 | D14: 0 | E14: 0 | F14: 39406.42 | G14: 0 | H14: 0 | I14: 39406.42 | J14: =(K14+L14)*8 -> 4640 | K14: =N14+P14+R14+T14+V14 -> 558 | L14: 22 | M14: =O14+Q14+S14+U14+W14 -> 34766.42 | N14: 29 | O14: 3846.41 | P14: 6 | Q14: 302.16 | R14: 2 | S14: 525.79 | T14: 496 | U14: 29760 | V14: 25 | W14: 332.06
A15: Alūksnes novada pašvaldība | B15: =J15+M15 -> 11567.43 | C15: 0 | D15: 160116.94 | E15: 148549.51 | F15: 0 | G15: 0 | H15: 0 | I15: 0 | J15: =(K15+L15)*8 -> 920 | K15: =N15+P15+R15+T15+V15 -> 102 | L15: 13 | M15: =O15+Q15+S15+U15+W15 -> 10647.43 | N15: 6 | O15: 5175.58 | P15: 0 | Q15: 0 | R15: 0 | S15: 0 | T15: 93 | U15: 5460 | V15: 3 | W15: 11.85
A16: Augšdaugavas novada pašvaldības centrālā administrācija | B16: =J16+M16 -> 165704 | C16: 0 | D16: 29110.69 | E16: 0 | F16: 136593.31 | G16: 82852 | H16: 82852 | I16: 219445.31 | J16: =(K16+L16)*8 -> 22960 | K16: =N16+P16+R16+T16+V16 -> 2318 | L16: 552 | M16: =O16+Q16+S16+U16+W16 -> 142744 | N16: 49 | O16: 7467.04 | P16: 4 | Q16: 147.84 | R16: 6 | S16: 293.89 | T16: 2244 | U16: 134640 | V16: 15 | W16: 195.23
A17: Ādažu novada pašvaldība | B17: =J17+M17 -> 64295.66 | C17: 0 | D17: 357347.01 | E17: 293051.35 | F17: 0 | G17: 32147.83 | H17: 32147.83 | I17: 32147.83 | J17: =(K17+L17)*8 -> 7760 | K17: =N17+P17+R17+T17+V17 -> 947 | L17: 23 | M17: =O17+Q17+S17+U17+W17 -> 56535.66 | N17: 111 | O17: 16075.02 | P17: 20 | Q17: 1081.91 | R17: 14 | S17: 1841.08 | T17: 583 | U17: 34980 | V17: 219 | W17: 2557.65
A18: Balvu novada pašvaldība | B18: =J18+M18 -> 27499.81 | C18: 0 | D18: 63153.75 | E18: 35653.94 | F18: 0 | G18: 0 | H18: 0 | I18: 0 | J18: =(K18+L18)*8 -> 3192 | K18: =N18+P18+R18+T18+V18 -> 390 | L18: 9 | M18: =O18+Q18+S18+U18+W18 -> 24307.81 | N18: 8 | O18: 1549.87 | P18: 3 | Q18: 132.92 | R18: 4 | S18: 232.79 | T18: 371 | U18: 22320 | V18: 4 | W18: 72.23
A19: BAUSKAS NOVADA PAŠVALDĪBA | B19: =J19+M19 -> 63799.65 | C19: 0 | D19: 0 | E19: 0 | F19: 63799.65 | G19: 28000 | H19: 28000 | I19: 91799.65 | J19: =(K19+L19)*8 -> 7608 | K19: =N19+P19+R19+T19+V19 -> 913 | L19: 38 | M19: =O19+Q19+S19+U19+W19 -> 56191.65 | N19: 29 | O19: 3992.55 | P19: 14 | Q19: 381.23 | R19: 2 | S19: 131.99 | T19: 861 | U19: 51660 | V19: 7 | W19: 25.88
A20: Cēsu novada pašvaldība | B20: =J20+M20 -> 59541.23 | C20: 0 | D20: 98989.78 | E20: 39448.55 | F20: 0 | G20: 0 | H20: 0 | I20: 0 | J20: =(K20+L20)*8 -> 6808 | K20: =N20+P20+R20+T20+V20 -> 851 | L20: 0 | M20: =O20+Q20+S20+U20+W20 -> 52733.23 | N20: 36 | O20: 5578.19 | P20: 9 | Q20: 166.21 | R20: 3 | S20: 148.46 | T20: 774 | U20: 46440 | V20: 29 | W20: 400.37
A21: Daugavpils pilsētas pašvaldība | B21: =J21+M21 -> 1711.01 | C21: 0 | D21: 0 | E21: 0 | F21: 1711.01 | G21: 855.5 | H21: 855.5 | I21: 2566.51 | J21: =(K21+L21)*8 -> 312 | K21: =N21+P21+R21+T21+V21 -> 20 | L21: 19 | M21: =O21+Q21+S21+U21+W21 -> 1399.01 | N21: 1 | O21: 259.01 | P21: 0 | Q21: 0 | R21: 0 | S21: 0 | T21: 19 | U21: 1140 | V21: 0 | W21: 0
A22: Dienvidkurzemes novada pašvaldība | B22: =J22+M22 -> 145418.78 | C22: 0 | D22: 120470.07 | E22: 0 | F22: 24948.71 | G22: 50000 | H22: 50000 | I22: 74948.71 | J22: =(K22+L22)*8 -> 16832 | K22: =N22+P22+R22+T22+V22 -> 2095 | L22: 9 | M22: =O22+Q22+S22+U22+W22 -> 128586.78 | N22: 61 | O22: 6962.24 | P22: 18 | Q22: 508.88 | R22: 6 | S22: 1850.04 | T22: 1977 | U22: 118680 | V22: 33 | W22: 585.62
A23: Dobeles novada pašvaldība | B23: =J23+M23 -> 22417.65 | C23: 0 | D23: 63133.28 | E23: 40715.63 | F23: 0 | G23: 11200 | H23: 11200 | I23: 11200 | J23: =(K23+L23)*8 -> 2784 | K23: =N23+P23+R23+T23+V23 -> 335 | L23: 13 | M23: =O23+Q23+S23+U23+W23 -> 19633.65 | N23: 35 | O23: 3354.62 | P23: 16 | Q23: 539.21 | R23: 1 | S23: 115.98 | T23: 256 | U23: 15360 | V23: 27 | W23: 263.84
A24: Gulbenes novada pašvaldība | B24: =J24+M24 -> 50324.55 | C24: 0 | D24: 0 | E24: 0 | F24: 50324.55 | G24: 0 | H24: 0 | I24: 50324.55 | J24: =(K24+L24)*8 -> 5952 | K24: =N24+P24+R24+T24+V24 -> 733 | L24: 11 | M24: =O24+Q24+S24+U24+W24 -> 44372.55 | N24: 15 | O24: 1643.88 | P24: 5 | Q24: 116.66 | R24: 1 | S24: 441 | T24: 701 | U24: 42060 | V24: 11 | W24: 111.01
A25: Jelgavas novada pašvaldība | B25: =J25+M25 -> 84919.24 | C25: 0 | D25: 35117.31 | E25: 0 | F25: 49801.93 | G25: 42000 | H25: 42000 | I25: 91801.93 | J25: =(K25+L25)*8 -> 10000 | K25: =N25+P25+R25+T25+V25 -> 1231 | L25: 19 | M25: =O25+Q25+S25+U25+W25 -> 74919.24 | N25: 73 | O25: 9573.45 | P25: 30 | Q25: 1563.55 | R25: 7 | S25: 278.38 | T25: 1045 | U25: 62700 | V25: 76 | W25: 803.86
... A56: Ventspils valstspilsētas pašvaldība | B56: =J56+M56 -> 93823.54 | C56: 0 | D56: 274576.11 | E56: 180752.57 | F56: 0 | G56: 0 | H56: 0 | I56: 0 | J56: =(K56+L56)*8 -> 12344 | K56: =N56+P56+R56+T56+V56 -> 1337 | L56: 206 | M56: =O56+Q56+S56+U56+W56 -> 81479.54 | N56: 119 | O56: 11728.92 | P56: 27 | Q56: 1468.21 | R56: 8 | S56: 530.72 | T56: 1106 | U56: 66484 | V56: 77 | W56: 1267.69
A57: Kopā | B57: =SUM(B14:B56) -> 2397403.6 | C57: =SUM(C14:C56) -> 0 | D57: =SUM(D14:D56) -> 5115428.4 | E57: =SUM(E14:E56) -> 3790664.9 | F57: =SUM(F14:F56) -> 1072640.1 | G57: =SUM(G14:G56) -> 606351.9 | H57: =SUM(H14:H56) -> 606351.9 | I57: =SUM(I14:I56) -> 1678992 | ... W57: =SUM(W14:W56) -> 28091.52
A60: Pašvaldība nodrošina normatīvajos aktos noteikto līdzekļu izlietojuma kontroli un atbilstību Energoresursu cenu ārkārtēja pieauguma samazinājuma pasākumu likuma mērķim.
A61: Pašvaldība apliecina, ka ir sniegtas patiesas un pilnīgas ziņas un apzinās, ka par nepatiesu ziņu sniegšanu var saukt pie normatīvajos aktos noteiktās atbildības.
A63: ŠIS DOKUMENTS IR SAGATAVOTS UN ELEKTRONISKI PARAKSTĪTS EPĀRSKATOS, IZMANTOJOT EPĀRSKATU AUTENTIFIKĀCIJAS RĪKUS
A66: Veidlapas aktuālās redakcijas numurs: Nr. 1 Izvēlētās redakcijas numurs: Nr. 1 1. Sagatavošanā 02.01.2023 16:20:19 Maija Brunava

Sheet Janvāris_2023
A1: Datu savākšanas pamatojums – Energoresursu cenu ārkārtēja pieauguma samazinājuma pasākumu likuma 7.1 pants | F1: 21_Apkure
F2: Pārskats par atbalstu mājsaimniecībām apkures sezonai
V4: KODI
A5: Pašvaldības nosaukums Novadi un pilsētas
A6: Iestādes nosaukums Novadi un pilsētas | V6: x
A7: Gads | V7: 2023
A8: Pārskata periods: | V8: Apkure_janvāris
A10: Pašvaldības finansējuma saņēmējas | B10: Izdevumi kopā (9.+12.) | C10: Saņemtais avanss, euro | D10: Avansa atlikums uz pārskata perioda sākumu, euro | E10: Avansa atlikums uz nākamo pārskata periodu, euro | F10: Pārskata perioda izmaksātā summa, kas pārsniedza avansu | G10: Pašvaldības pieprasītais avanss, euro | H10: Avansa maksimāli pieejamā summa (kontrole un pārbaude) | I10: Izmaksājamā summa (kompensējamie izdevumi un avanss) (5.+ 7.) | J10: Kompensējamie izdevumi par administratīvajām izmaksām, euro (8 euro par viena iesnieguma reģistrāciju un izskatīšanu) | K10: Izskatīto mājsaimniecību iesniegumu skaits, tai skaitā | M10: Kompensējamie izdevumi par apkuri, euro | N10: Ja apkurei izmanto koksnes granulas | P10: Ja apkurei izmanto koksnes briketes | R10: Ja apkurei izmanto malku | V10: Ja apkurei izmanto elektroenerģiju
K11: atbalstīto iesniegumu skaits | L11: neatbalstīto iesniegumu skaits | N11: mājsaimniecību atbalstīto iesniegumu skaits | O11: pašvaldībai kompensējamie izdevumi, euro | P11: mājsaimniecību atbalstīto iesniegumu skaits | Q11: pašvaldībai kompensējamie izdevumi, euro | R11: ar maksājuma apliecinājuma dokumentu | T11: bez maksājuma apliecinājuma dokumenta | V11: mājsaimniecību atbalstīto iesniegumu skaits | W11: pašvaldībai kompensējamie izdevumi, euro
A12: nosaukums | R12: mājsaimniecību atbalstīto iesniegumu skaits | S12: pašvaldībai kompensējamie izdevumi, euro | T12: mājsaimniecību atbalstīto iesniegumu skaits | U12: pašvaldībai kompensējamie izdevumi, euro
A13: A | B13: 1 | C13: 2 | D13: 3 | E13: 4 | F13: 5 | G13: 6 | H13: 7 | I13: 8 | J13: 9 | K13: 10 | L13: 11 | M13: 12 | N13: 13 | O13: 14 | P13: 15 | Q13: 16 | R13: 17 | S13: 18 | T13: 19 | U13: 20 | V13: 21 | W13: 22
A14: AIZKRAUKLES NOVADA PAŠVALDĪBA | B14: =J14+M14 -> 5634.35 | C14: 0 | D14: 0 | E14: 0 | F14: 5634.35 | G14: 0 | H14: 0 | I14: 5634.35 | J14: =(K14+L14)*8 -> 456 | K14: =N14+P14+R14+T14+V14 -> 56 | L14: 1 | M14: =O14+Q14+S14+U14+W14 -> 5178.35 | N14: 22 | O14: 4120.47 | P14: 8 | Q14: 318.61 | R14: 0 | S14: 0 | T14: 2 | U14: 120 | V14: 24 | W14: 619.27
A15: Alūksnes novada pašvaldība | B15: =J15+M15 -> 1291.78 | C15: 0 | D15: 0 | E15: 0 | F15: 1291.78 | G15: 0 | H15: 0 | I15: 1291.78 | J15: =(K15+L15)*8 -> 32 | K15: =N15+P15+R15+T15+V15 -> 4 | L15: 0 | M15: =O15+Q15+S15+U15+W15 -> 1259.78 | N15: 1 | O15: 1225.17 | P15: 0 | Q15: 0 | R15: 0 | S15: 0 | T15: 0 | U15: 0 | V15: 3 | W15: 34.61
A16: Augšdaugavas novada pašvaldības centrālā administrācija | B16: =J16+M16 -> 3898.94 | C16: 82852 | D16: 0 | E16: 78953.06 | F16: 0 | G16: 0 | H16: 0 | I16: 0 | J16: =(K16+L16)*8 -> 624 | K16: =N16+P16+R16+T16+V16 -> 39 | L16: 39 | M16: =O16+Q16+S16+U16+W16 -> 3274.94 | N16: 11 | O16: 1273.13 | P16: 1 | Q16: 78.68 | R16: 1 | S16: 525 | T16: 22 | U16: 1320 | V16: 4 | W16: 78.13
A17: Ādažu novada pašvaldība | B17: =J17+M17 -> 5615 | C17: 32147.83 | D17: 0 | E17: 26532.83 | F17: 0 | G17: 2807.5 | H17: 2807.5 | I17: 2807.5 | J17: =(K17+L17)*8 -> 1232 | K17: =N17+P17+R17+T17+V17 -> 73 | L17: 81 | M17: =O17+Q17+S17+U17+W17 -> 4383 | N17: 0 | O17: 0 | P17: 0 | Q17: 0 | R17: 1 | S17: 63 | T17: 72 | U17: 4320 | V17: 0 | W17: 0
A18: Balvu novada pašvaldība | B18: =J18+M18 -> 645.78 | C18: 0 | D18: 0 | E18: 0 | F18: 645.78 | G18: 322.89 | H18: 322.89 | I18: 968.67 | J18: =(K18+L18)*8 -> 72 | K18: =N18+P18+R18+T18+V18 -> 7 | L18: 2 | M18: =O18+Q18+S18+U18+W18 -> 573.78 | N18: 4 | O18: 307.86 | P18: 1 | Q18: 173.59 | R18: 0 | S18: 0 | T18: 1 | U18: 60 | V18: 1 | W18: 32.33
A19: BAUSKAS NOVADA PAŠVALDĪBA | B19: =J19+M19 -> 9831 | C19: 28000 | D19: 0 | E19: 18169 | F19: 0 | G19: 0 | H19: 0 | I19: 0 | J19: =(K19+L19)*8 -> 1064 | K19: =N19+P19+R19+T19+V19 -> 127 | L19: 6 | M19: =O19+Q19+S19+U19+W19 -> 8767 | N19: 52 | O19: 6762.75 | P19: 23 | Q19: 920.15 | R19: 2 | S19: 305.53 | T19: 1 | U19: 60 | V19: 49 | W19: 718.57
A20: Cēsu novada pašvaldība | B20: =J20+M20 -> 15457.98 | C20: 0 | D20: 0 | E20: 0 | F20: 15457.98 | G20: 7728.99 | H20: 7728.99 | I20: 23186.97 | J20: =(K20+L20)*8 -> 952 | K20: =N20+P20+R20+T20+V20 -> 119 | L20: 0 | M20: =O20+Q20+S20+U20+W20 -> 14505.98 | N20: 51 | O20: 12138.54 | P20: 4 | Q20: 407.04 | R20: 2 | S20: 221.81 | T20: 7 | U20: 420 | V20: 55 | W20: 1318.59
A21: Daugavpils pilsētas pašvaldība | B21: =J21+M21 -> 43349.59 | C21: 855.5 | D21: 0 | E21: 0 | F21: 42494.09 | G21: 21245 | H21: 21245 | I21: 63739.09 | J21: =(K21+L21)*8 -> 4336 | K21: =N21+P21+R21+T21+V21 -> 535 | L21: 7 | M21: =O21+Q21+S21+U21+W21 -> 39013.59 | N21: 90 | O21: 13512 | P21: 0 | Q21: 0 | R21: 7 | S21: 392.39 | T21: 403 | U21: 24180 | V21: 35 | W21: 929.2
A22: Dienvidkurzemes novada pašvaldība | B22: =J22+M22 -> 8210.95 | C22: 50000 | D22: 0 | E22: 41789.05 | F22: 0 | G22: 4105 | H22: 4105 | I22: 4105 | J22: =(K22+L22)*8 -> 880 | K22: =N22+P22+R22+T22+V22 -> 106 | L22: 4 | M22: =O22+Q22+S22+U22+W22 -> 7330.95 | N22: 42 | O22: 4374.66 | P22: 16 | Q22: 606.05 | R22: 7 | S22: 1070.67 | T22: 2 | U22: 120 | V22: 39 | W22: 1159.57
A23: Dobeles novada pašvaldība | B23: =J23+M23 -> 7846.71 | C23: 11200 | D23: -3098.86 | E23: 254.43 | F23: 0 | G23: 3000 | H23: 3000 | I23: 3000 | J23: =(K23+L23)*8 -> 816 | K23: =N23+P23+R23+T23+V23 -> 99 | L23: 3 | M23: =O23+Q23+S23+U23+W23 -> 7030.71 | N23: 45 | O23: 4926.71 | P23: 17 | Q23: 1242.14 | R23: 1 | S23: 33.21 | T23: 1 | U23: 60 | V23: 35 | W23: 768.65
A24: Gulbenes novada pašvaldība | B24: =J24+M24 -> 1453.63 | C24: 0 | D24: 0 | E24: 0 | F24: 1453.63 | G24: 0 | H24: 0 | I24: 1453.63 | J24: =(K24+L24)*8 -> 136 | K24: =N24+P24+R24+T24+V24 -> 17 | L24: 0 | M24: =O24+Q24+S24+U24+W24 -> 1317.63 | N24: 10 | O24: 1031.6 | P24: 3 | Q24: 127.64 | R24: 0 | S24: 0 | T24: 0 | U24: 0 | V24: 4 | W24: 158.39
A25: Jelgavas novada pašvaldība | B25: =J25+M25 -> 11710.34 | C25: 42000 | D25: 0 | E25: 30289.66 | F25: 0 | G25: 5000 | H25: 5000 | I25: 5000 | J25: =(K25+L25)*8 -> 1328 | K25: =N25+P25+R25+T25+V25 -> 159 | L25: 7 | M25: =O25+Q25+S25+U25+W25 -> 10382.34 | N25: 51 | O25: 7318.48 | P25: 14 | Q25: 781.6 | R25: 1 | S25: 392 | T25: 0 | U25: 0 | V25: 93 | W25: 1890.26
... A56: Ventspils valstspilsētas pašvaldība | B56: =J56+M56 -> 5862.9 | C56: 0 | D56: 0 | E56: 0 | F56: 5862.9 | G56: 2367 | H56: 2367 | I56: 8229.9 | J56: =(K56+L56)*8 -> 1128 | K56: =N56+P56+R56+T56+V56 -> 109 | L56: 32 | M56: =O56+Q56+S56+U56+W56 -> 4734.9 | N56: 31 | O56: 1869.69 | P56: 14 | Q56: 505.93 | R56: 0 | S56: 0 | T56: 14 | U56: 840 | V56: 50 | W56: 1519.28
A57: Kopā | B57: =SUM(B14:B56) -> 481242.55 | C57: =SUM(C14:C56) -> 606351.9 | D57: =SUM(D14:D56) -> -5546.86 | E57: =SUM(E14:E56) -> 397287.38 | F57: =SUM(F14:F56) -> 277724.89 | G57: =SUM(G14:G56) -> 177642.4 | H57: =SUM(H14:H56) -> 177642.4 | I57: =SUM(I14:I56) -> 455367.29 | ... W57: =SUM(W14:W56) -> 71269.07
A60: Pašvaldība nodrošina normatīvajos aktos noteikto līdzekļu izlietojuma kontroli un atbilstību Energoresursu cenu ārkārtēja pieauguma samazinājuma pasākumu likuma mērķim.
A61: Pašvaldība apliecina, ka ir sniegtas patiesas un pilnīgas ziņas un apzinās, ka par nepatiesu ziņu sniegšanu var saukt pie normatīvajos aktos noteiktās atbildības.
A63: ŠIS DOKUMENTS IR SAGATAVOTS UN ELEKTRONISKI PARAKSTĪTS EPĀRSKATOS, IZMANTOJOT EPĀRSKATU AUTENTIFIKĀCIJAS RĪKUS
A66: Veidlapas aktuālās redakcijas numurs: Nr. 2 Izvēlētās redakcijas numurs: Nr. 2 2. Neparakstīts, pieņemts 15.02.2023 16:43:49 Maija Brunava 1. Neparakstīts, pieņemts 15.02.2023 16:43:49 Maija Brunava

Sheet KOPĒJAIS APRĒĶINS
A3: Apkures veidi | B3: Faktiskie izdevumi kopā par 3 mēnešiem | C3: Faktiskie izdevumi vidēji vienā mēnesī, euro | D3: Plānotais nepieciešamais finansējums pašvaldību faktisko izdevumu segšanai apkures sezonā no 2023. gada janvāra līdz aprīlim, euro | F3: Apkures veidi | G3: Plānotais nepieciešamais finansējums pašvaldību faktisko izdevumu segšanai apkures sezonā no 2023. gada janvāra līdz aprīlim, euro
A4: par koksnes granulām | B4: 1031936.7 | C4: 343978.89 | D4: 1375915.6 | F4: par koksnes granulām | G4: 1375915.6
A5: par koksnes briketēm | B5: 74672.51 | C5: 24890.837 | D5: 99563.347 | F5: par koksnes briketēm | G5: 99563.347
A6: par malku ar maksājuma apliecinājuma dokumentu | B6: 96805.34 | C6: 32268.447 | D6: 129073.79 | F6: par malku ar maksājuma apliecinājuma dokumentu | G6: 129073.79
A7: par elektroenerģiju | B7: 105458.76 | C7: 35152.92 | D7: 140611.68 | F7: par elektroenerģiju | G7: 140611.68
A8: par administratīvajām izmaksām | B8: 163176 | C8: 54392 | D8: =217568+4500*8+3100*8 -> 278368 | F8: par administratīvajām izmaksām | G8: =217568+4500*8+3100*8 -> 278368
A9: sašķidrināto naftas gāzi | D9: 1051157 | F9: sašķidrināto naftas gāzi | G9: 1051157
A10: par dīzeļdegvielu | D10: 9811902 | F10: par dīzeļdegvielu | G10: 9811902
A11: KOPĀ: | B11: =SUM(B4:B8) -> 1472049.3 | C11: =SUM(C4:C8) -> 490683.09 | D11: =SUM(D4:D10) -> 12886591 | F11: KOPĀ: | G11: =SUM(G4:G10) -> 12886591
