Workbook

Sheet piemērs
A1: Pārskats par sabiedriskā transporta pakalpojumos radītajiem izdevumiem un zaudējumiem sakarā ar noteiktajiem ierobežojumiem
A2: Periods | C2: Vienības | D2: Autobusi | E2: Minibusi (ekspresbusi) | F2: Tramvaji | G2: Trolejbusi
A3: 1.SADAĻA | B3: KOPSUMMA ((N - P) x Izm) | D3: =(D10-D9)*D13 -> 1884.96 | E3: =(E9-E10)*E13 -> 0 | F3: =(F9-F10)*F13 -> 0 | G3: =(G9-G10)*G13 -> 0
A4: 09.03.2021.- 31.03.2021. | B4: Iesaistīto transportlīdzekļu vienības | C4: skaits | D4: 20
B5: (S) Plānotais reisu skaits | D5: 5479
B6: (R) Faktiskais reisu skaits (S + RP-RA) | D6: =D5+D7-D8 -> 5567 | E6: =E5+E7-E8 -> 0 | F6: =F5+F7-F8 -> 0 | G6: =G5+G7-G8 -> 0
B7: to starpā papildu reisi (RP) | D7: 830
B8: to starpā atceltie reisi (RA) | D8: 742
B9: (P) Plānotais nobraukums | C9: km | D9: 57529
B10: (N) Faktiskais nobraukums (P + NP-NA) | D10: =D9+D11-D12 -> 58453 | E10: =E9+E11-E12 -> 0 | F10: =F9+F11-F12 -> 0 | G10: =G9+G11-G12 -> 0
B11: to starpā papildu reisos veiktais nobraukums (NP) | D11: 8715
B12: to starpā atcelto reisu nobraukums (NA) | D12: 7791
A13: 01.03.2021.-31.03.2021. | B13: (Izm) 1 km pašizmaksa | C13: EUR/km | D13: 2.04
A14: 2.SADAĻA | B14: KOPSUMMA (1 vienības cenas reizinājums ar preču/pakalpojumu skaitu; summa ( K x Z)) | D14: =SUM(D25*D36,D24*D35,D23*D34,D22*D33,D20*D31,D19*D30,D17*D28,D16*D27) -> 16414.94 | E14: =SUM(E25*E36,E24*E35,E23*E34,E22*E33,E20*E31,E19*E30,E17*E28,E16*E27) -> 0 | F14: =SUM(F25*F36,F24*F35,F23*F34,F22*F33,F20*F31,F19*F30,F17*F28,F16*F27) -> 0 | G14: =SUM(G25*G36,G24*G35,G23*G34,G22*G33,G20*G31,G19*G30,G17*G28,G16*G27) -> 0
A15: 09.03.2021.- 31.03.2021. | B15: (Z) Pakalpojumi, pasākumi un materiāli Covid-19 pandēmijas ierobežošanai
B16: Dezinfekcijas līdzekļi | C16: litri | D16: 15
B17: Sejas maskas | C17: gab | D17: 200
B18: Sociālā distancēšanās sabiedriskā transportā
B19: to starpā uzlīmes | C19: gab | D19: 105
B20: to starpā norobežojošā lenta | C20: metri | D20: 28
B21: Transportlīdzekļu dezinfekcija | C21: reizes
B22: to starpā ozonēšanas pakalpojumi | D22: 84
B23: to starpā apstrāde ar dezinfekcijas līdzekļiem | D23: 3658
B24: Transportlīdzekļu papildu mazgāšana | C24: reizes | D24: 1783
B25: Informācijas atskaņošana reisos | C25: audiāls ieraksts | D25: 1
B26: (K) Faktiskās izmaksas Covid-19 pandēmijas ierobežošanai, t.sk. | C26: EUR/vien bez PVN
B27: Dezinfekcijas līdzekļi | D27: 3
B28: Sejas maskas | D28: 0.55
B29: Sociālā distancēšanās sabiedriskā transportā
B30: to starpā uzlīmes | D30: 0.53
B31: to starpā norobežojošā lenta | D31: 4.87
B32: Transportlīdzekļu dezinfekcija
B33: to starpā ozonēšanas pakalpojumi | D33: 5.54
B34: to starpā apstrāde ar dezinfekcijas līdzekļiem | D34: 2.26
B35: Transportlīdzekļu papildu mazgāšana | D35: 4.03
B36: Informācijas atskaņošana reisos | D36: 150
A37: 3.SADAĻA | B37: KOPSUMMA ((C/D-A/N) x N) | D37: =((D40/D41)-(D38/D39))*D39 -> 4716.5994 | E37: =((E40/E41)-(E38/E39))*E39 -> #DIV/0! | F37: =((F40/F41)-(F38/F39))*F39 -> #DIV/0! | G37: =((G40/G41)-(G38/G39))*G39 -> #DIV/0!
A38: 09.03.2021.-31.03.2021. | B38: (A) No pasažieriem, t.sk., personām, kurām noteikti pašvaldības noteiktie braukšanas maksas atvieglojumi, saņemtie ieņēmumi par sniegto sabiedriskā transporta pakalpojumu | C38: EUR bez PVN | D38: 20573
B39: (N) Faktiskais nobraukums | C39: km | D39: 58453
A40: 09.03.2019.-31.03.2019. | B40: (C) No pasažieriem, t.sk., personām, kurām noteikti pašvaldības noteiktie braukšanas maksas atvieglojumi, saņemtie ieņēmumi par sniegto sabiedriskā transporta pakalpojumu | C40: EUR bez PVN | D40: 24847
...

Sheet marts
A1: Pārskats par sabiedriskā transporta pakalpojumos radītajiem izdevumiem un zaudējumiem sakarā ar noteiktajiem ierobežojumiem
A2: Periods | C2: Vienības | D2: Autobusi | E2: Minibusi (ekspresbusi) | F2: Tramvaji | G2: Trolejbusi
A3: 1.SADAĻA | B3: KOPSUMMA ((N - P) x Izm) | D3: =(D10-D9)*D13 -> 0 | E3: =(E10-E9)*E13 -> 0 | F3: =(F10-F9)*F13 -> 0 | G3: =(G10-G9)*G13 -> 0
A4: 09.03.2021.- 31.03.2021. | B4: Iesaistīto transportlīdzekļu vienības | C4: skaits | D4: 29
B5: (S) Plānotais reisu skaits | D5: 8635
B6: (R) Faktiskais reisu skaits (S + RP-RA) | D6: =D5+D7-D8 -> 8635 | E6: =E5+E7-E8 -> 0 | F6: =F5+F7-F8 -> 0 | G6: =G5+G7-G8 -> 0
B7: to starpā papildu reisi (RP)
B8: to starpā atceltie reisi (RA)
B9: (P) Plānotais nobraukums | C9: km | D9: 77873.7
B10: (N) Faktiskais nobraukums (P + NP-NA) | D10: =D9+D12-D11 -> 77873.7 | E10: =E9+E11-E12 -> 0 | F10: =F9+F11-F12 -> 0 | G10: =G9+G11-G12 -> 0 | H10: =atskaites_jedox!V8 -> #NAME?
B11: to starpā papildu reisos veiktais nobraukums (NP)
B12: to starpā atcelto reisu nobraukums (NA)
A13: 01.03.2021.-31.03.2021. | B13: (Izm) 1 km pašizmaksa | C13: EUR/km | D13: 1.5318 | H13: =atskaites_jedox!W8 -> #NAME?
A14: 2.SADAĻA | B14: KOPSUMMA (1 vienības cenas reizinājums ar preču/pakalpojumu skaitu; summa ( K x Z)) | D14: =SUM(D16*D23,D17*D24,D18*D25,D19*D26,D20*D27,D21*D28) -> 165.40604 | E14: =SUM(E16*E23,E17*E24,E18*E25,E19*E26,E20*E27,E21*E28) -> 0 | F14: =SUM(F16*F23,F17*F24,F18*F25,F19*F26,F20*F27,F21*F28) -> 0 | G14: =SUM(G16*G23,G17*G24,G18*G25,G19*G26,G20*G27,G21*G28) -> 0
A15: 09.03.2021.- 31.03.2021. | B15: (Z) Pakalpojumi, pasākumi un materiāli Covid-19 pandēmijas ierobežošanai | C15: skaits (jānorāda atbilstoša mērvienība gab., litri, reižu skaits, darba stundas u.c.)
B16: Dezinfekcijas līdzekļi | D16: 17.8
B17: Sejas maskas | D17: 370
B18: Sociālā distancēšanās sabiedriskā transportā
B19: Transportlīdzekļu dezinfekcija | D19: 17.42
B20: Transportlīdzekļu papildu mazgāšana
B21: Citi izdevumi ( vienreizlietojami cimdi) | D21: 150
B22: (K) Faktiskās izmaksas Covid-19 pandēmijas ierobežošanai, t.sk. | C22: EUR/vien bez PVN
B23: Dezinfekcijas līdzekļi | D23: 3.0908
B24: Sejas maskas | D24: 0.07
B25: Sociālā distancēšanās sabiedriskā transportā
B26: Transportlīdzekļu dezinfekcija, to starpā darba spēka izmaksas | D26: 1.69
B27: Transportlīdzekļu papildu mazgāšana, to starpā darba spēka izmaksas
B28: Citi izdevumi (vienreizlietojami cimdi) | D28: 0.367
A29: 3.SADAĻA | B29: KOPSUMMA ((C/D-A/N) x N) | D29: =((D32/D33)-(D30/D31))*D31 -> 7052.9324 | E29: =((E32/E33)-(E31/#REF!))*#REF! -> #DIV/0! | F29: =((F32/F33)-(F30/F31))*F31 -> #DIV/0! | G29: =((G32/G33)-(G30/G31))*G31 -> #DIV/0!
A30: 09.03.2021.-31.03.2021. | B30: (A) No pasažieriem, t.sk., personām, kurām noteikti pašvaldības noteiktie braukšanas maksas atvieglojumi, saņemtie ieņēmumi par sniegto sabiedriskā transporta pakalpojumu | C30: EUR bez PVN | D30: 8685.16 | H30: =atskaites_jedox!U8 -> #NAME?
B31: (N) Faktiskais nobraukums | C31: km | D31: 77873.7 | H31: =atskaites_jedox!V8 -> #NAME? | I31: =D31=D10 -> TRUE
A32: 09.03.2019.-31.03.2019. | B32: (C) No pasažieriem, t.sk., personām, kurām noteikti pašvaldības noteiktie braukšanas maksas atvieglojumi, saņemtie ieņēmumi par sniegto sabiedriskā transporta pakalpojumu | C32: EUR bez PVN | D32: 15787 | H32: =atskaites_jedox!C8 -> #NAME?
B33: (D) Faktiskais nobraukums | C33: km | D33: 78115.7 | H33: =atskaites_jedox!D8 -> #NAME?
B36: Pašvaldības atbildīgās personas vārds, uzvārds, kontaktinformācija un paraksts (ja dokuments nav parakstīts ar elektroniski)
A39: Informāciju aizpilda katra pašvaldība par pārvadājumu veidiem, kādi ir noteikti attiecīgā pilsētā
A40: Tabulā iekļauj norādītajā laika periodā radušās pamatotās izmaksas, kas attiecināmas uz sabiedriskā transporta pakalpojuma izpildē noteiktajiem drošības pasākumiem Covid-19 infekcijas izplatības ierobežošanai.
A41: Pašvaldībai ir pienākums pārliecināties par izmaksu pamatotību, to apjomu vai attiecināto apmēru.
A42: 1.SADAĻĀ tiek aprēķināti faktiskie izdevumi, kas radušies saistībā ar atcelto reisu vai/un papildu reisu nodrošināšanu sakarā ar pakalpojuma apjoma ierobežošanu un 50% pasažieru piepildījuma noteikšanu
A43: 2.SADAĻĀ nosakāmi kopējie izdevumi par Covid-19 infekcijas ierobežošanas pasākumiem, kas izpildāmi atbilstoši MK 09.06.2020. noteikumiem Nr.360; MK 06.11.2020. rīkojumam Nr.655
A44: 3.SADAĻĀ nosakāma kopējā ietekme uz ieņēmumu apgrozījumu, ko radījusi Covid-19 infekcijas apkarošanā radītā iedzīvotāju mobilitātes ierobežošana, pakalpojuma apjoma ierobežošana, kā arī citi ārkārtējās situācijas laikā un pēc tās noteiktie ierobežojumi atsevišķām nozarēm
...

Sheet aprīlis
A1: Pārskats par sabiedriskā transporta pakalpojumos radītajiem izdevumiem un zaudējumiem sakarā ar noteiktajiem ierobežojumiem
A2: Periods | C2: Vienības | D2: Autobusi | E2: Minibusi (ekspresbusi) | F2: Tramvaji | G2: Trolejbusi
A3: 1.SADAĻA | B3: KOPSUMMA ((N - P) x Izm) | D3: =(D10-D9)*D13 -> 122.232 | E3: =(E10-E9)*E13 -> 0 | F3: =(F10-F9)*F13 -> 0 | G3: =(G10-G9)*G13 -> 0
A4: 01.04.2021.- 30.04.2021. | B4: Iesaistīto transportlīdzekļu vienības | C4: skaits | D4: 29
B5: (S) Plānotais reisu skaits | D5: 11304
B6: (R) Faktiskais reisu skaits (S + RP-RA) | D6: =D5+D7-D8 -> 11324 | E6: =E5+E7-E8 -> 0 | F6: =F5+F7-F8 -> 0 | G6: =G5+G7-G8 -> 0
B7: to starpā papildu reisi (RP) | D7: 20
B8: to starpā atceltie reisi (RA)
B9: (P) Plānotais nobraukums | C9: km | D9: 102031.5
B10: (N) Faktiskais nobraukums (P + NP-NA) | D10: =D9+D11-D12 -> 102111.5 | E10: =E9+E11-E12 -> 0 | F10: =F9+F11-F12 -> 0 | G10: =G9+G11-G12 -> 0 | H10: =atskaites_jedox!Y8 -> #NAME?
B11: to starpā papildu reisos veiktais nobraukums (NP) | D11: 80
B12: to starpā atcelto reisu nobraukums (NA)
A13: 01.04.2021.-30.04.2021. | B13: (Izm) 1 km pašizmaksa | C13: EUR/km | D13: 1.5279 | H13: =atskaites_jedox!Z8 -> #NAME?
A14: 2.SADAĻA | B14: KOPSUMMA (1 vienības cenas reizinājums ar preču/pakalpojumu skaitu; summa ( K x Z)) | D14: =SUM(D16*D23,D17*D24,D18*D25,D19*D26,D20*D27,D21*D28) -> 166.25 | E14: =SUM(E16*E23,E17*E24,E18*E25,E19*E26,E20*E27,E21*E28) -> 0 | F14: =SUM(F16*F23,F17*F24,F18*F25,F19*F26,F20*F27,F21*F28) -> 0 | G14: =SUM(G16*G23,G17*G24,G18*G25,G19*G26,G20*G27,G21*G28) -> 0
A15: 01.04.2021.- 30.04.2021. | B15: (Z) Pakalpojumi, pasākumi un materiāli Covid-19 pandēmijas ierobežošanai | C15: skaits (jānorāda atbilstoša mērvienība gab., litri, reižu skaits, darba stundas u.c.)
B16: Dezinfekcijas līdzekļi | D16: 8
B17: Sejas maskas | D17: 500
B18: Sociālā distancēšanās sabiedriskā transportā
B19: Transportlīdzekļu dezinfekcija | D19: 33
B20: Transportlīdzekļu papildu mazgāšana
B21: Citi izdevumi (( vienreizlietojami cimdi) | D21: 300
B22: (K) Faktiskās izmaksas Covid-19 pandēmijas ierobežošanai, t.sk. | C22: EUR/vien bez PVN
B23: Dezinfekcijas līdzekļi | D23: 3.0975
B24: Sejas maskas | D24: 0.07
B25: Sociālā distancēšanās sabiedriskā transportā
B26: Transportlīdzekļu dezinfekcija, to starpā darba spēka izmaksas | D26: 1.59
B27: Transportlīdzekļu papildu mazgāšana, to starpā darba spēka izmaksas
B28: Citi izdevumi (norādīt kādi) | D28: 0.18
A29: 3.SADAĻA | B29: KOPSUMMA ((C/D-A/N) x N) | D29: =((D32/D33)-(D30/D31))*D31 -> 9627.4635 | E29: =((E32/E33)-(E31/#REF!))*#REF! -> #DIV/0! | F29: =((F32/F33)-(F30/F31))*F31 -> #DIV/0! | G29: =((G32/G33)-(G30/G31))*G31 -> #DIV/0!
A30: 01.04.2021.-30.04.2021. | B30: (A) No pasažieriem, t.sk., personām, kurām noteikti pašvaldības noteiktie braukšanas maksas atvieglojumi, saņemtie ieņēmumi par sniegto sabiedriskā transporta pakalpojumu | C30: EUR bez PVN | D30: 11282.35 | H30: =atskaites_jedox!X8 -> #NAME?
B31: (N) Faktiskais nobraukums | C31: km | D31: 102111.5 | H31: =atskaites_jedox!Y8 -> #NAME?
A32: 01.04.2019.-30.04.2019. | B32: (C) No pasažieriem, t.sk., personām, kurām noteikti pašvaldības noteiktie braukšanas maksas atvieglojumi, saņemtie ieņēmumi par sniegto sabiedriskā transporta pakalpojumu | C32: EUR bez PVN | D32: 20749.25 | H32: =atskaites_jedox!F8 -> #NAME?
B33: (D) Faktiskais nobraukums | C33: km | D33: 101327.4 | H33: =atskaites_jedox!G8 -> #NAME?
B36: Pašvaldības atbildīgās personas vārds, uzvārds, kontaktinformācija un paraksts (ja dokuments nav parakstīts ar elektroniski)
A39: Informāciju aizpilda katra pašvaldība par pārvadājumu veidiem, kādi ir noteikti attiecīgā pilsētā
A40: Tabulā iekļauj norādītajā laika periodā radušās pamatotās izmaksas, kas attiecināmas uz sabiedriskā transporta pakalpojuma izpildē noteiktajiem drošības pasākumiem Covid-19 infekcijas izplatības ierobežošanai.
A41: Pašvaldībai ir pienākums pārliecināties par izmaksu pamatotību, to apjomu vai attiecināto apmēru.
A42: 1.SADAĻĀ tiek aprēķināti faktiskie izdevumi, kas radušies saistībā ar atcelto reisu vai/un papildu reisu nodrošināšanu sakarā ar pakalpojuma apjoma ierobežošanu un 50% pasažieru piepildījuma noteikšanu
A43: 2.SADAĻĀ nosakāmi kopējie izdevumi par Covid-19 infekcijas ierobežošanas pasākumiem, kas izpildāmi atbilstoši MK 09.06.2020. noteikumiem Nr.360; MK 06.11.2020. rīkojumam Nr.655
A44: 3.SADAĻĀ nosakāma kopējā ietekme uz ieņēmumu apgrozījumu, ko radījusi Covid-19 infekcijas apkarošanā radītā iedzīvotāju mobilitātes ierobežošana, pakalpojuma apjoma ierobežošana, kā arī citi ārkārtējās situācijas laikā un pēc tās noteiktie ierobežojumi atsevišķām nozarēm
...

Sheet maijs
A1: Pārskats par sabiedriskā transporta pakalpojumos radītajiem izdevumiem un zaudējumiem sakarā ar noteiktajiem ierobežojumiem
A2: Periods | C2: Vienības | D2: Autobusi | E2: Minibusi (ekspresbusi) | F2: Tramvaji | G2: Trolejbusi
A3: 1.SADAĻA | B3: KOPSUMMA ((N - P) x Izm) | D3: =(D10-D9)*D13 -> 126.68 | E3: =(E10-E9)*E13 -> 0 | F3: =(F10-F9)*F13 -> 0 | G3: =(G10-G9)*G13 -> 0
B4: Iesaistīto transportlīdzekļu vienības | C4: skaits | D4: 29
B5: (S) Plānotais reisu skaits | D5: 11736
B6: (R) Faktiskais reisu skaits (S + RP-RA) | D6: =D5+D7-D8 -> 11756 | E6: =E5+E7-E8 -> 0 | F6: =F5+F7-F8 -> 0 | G6: =G5+G7-G8 -> 0
B7: to starpā papildu reisi (RP) | D7: 20
B8: to starpā atceltie reisi (RA)
B9: (P) Plānotais nobraukums | C9: km | D9: 106047.5
B10: (N) Faktiskais nobraukums (P + NP-NA) | D10: =D9+D11-D12 -> 106127.5 | E10: =E9+E11-E12 -> 0 | F10: =F9+F11-F12 -> 0 | G10: =G9+G11-G12 -> 0 | H10: =atskaites_jedox!AB8 -> #NAME?
B11: to starpā papildu reisos veiktais nobraukums (NP) | D11: 80
B12: to starpā atcelto reisu nobraukums (NA)
B13: (Izm) 1 km pašizmaksa | C13: EUR/km | D13: 1.5835 | H13: =atskaites_jedox!AC8 -> #NAME?
A14: 2.SADAĻA | B14: KOPSUMMA (1 vienības cenas reizinājums ar preču/pakalpojumu skaitu; summa ( K x Z)) | D14: =SUM(D16*D23,D17*D24,D18*D25,D19*D26,D20*D27,D21*D28) -> 148.85 | E14: =SUM(E16*E23,E17*E24,E18*E25,E19*E26,E20*E27,E21*E28) -> 0 | F14: =SUM(F16*F23,F17*F24,F18*F25,F19*F26,F20*F27,F21*F28) -> 0 | G14: =SUM(G16*G23,G17*G24,G18*G25,G19*G26,G20*G27,G21*G28) -> 0
B15: (Z) Pakalpojumi, pasākumi un materiāli Covid-19 pandēmijas ierobežošanai | C15: skaits (jānorāda atbilstoša mērvienība gab., litri, reižu skaits, darba stundas u.c.)
B16: Dezinfekcijas līdzekļi | D16: 4
B17: Sejas maskas | D17: 500
B18: Sociālā distancēšanās sabiedriskā transportā | D18: 66
B19: Transportlīdzekļu dezinfekcija | D19: 46
B20: Transportlīdzekļu papildu mazgāšana
B21: Citi izdevumi (norādīt kādi) | D21: 300
B22: (K) Faktiskās izmaksas Covid-19 pandēmijas ierobežošanai, t.sk. | C22: EUR/vien bez PVN
B23: Dezinfekcijas līdzekļi | D23: 3.0975
B24: Sejas maskas | D24: 0.07
B25: Sociālā distancēšanās sabiedriskā transportā | D25: 0.1
B26: Transportlīdzekļu dezinfekcija, to starpā darba spēka izmaksas | D26: 1.47
B27: Transportlīdzekļu papildu mazgāšana, to starpā darba spēka izmaksas
B28: Citi izdevumi (norādīt kādi) | D28: 0.0908
A29: 3.SADAĻA | B29: KOPSUMMA ((C/D-A/N) x N) | D29: =((D32/D33)-(D30/D31))*D31 -> 9136.5285
B30: (A) No pasažieriem, t.sk., personām, kurām noteikti pašvaldības noteiktie braukšanas maksas atvieglojumi, saņemtie ieņēmumi par sniegto sabiedriskā transporta pakalpojumu | C30: EUR bez PVN | D30: 12286.47 | H30: =atskaites_jedox!AA8 -> #NAME?
B31: (N) Faktiskais nobraukums | C31: km | D31: 106127.5 | H31: =atskaites_jedox!AB8 -> #NAME? | I31: =D31=D10 -> TRUE
B32: (C) No pasažieriem, t.sk., personām, kurām noteikti pašvaldības noteiktie braukšanas maksas atvieglojumi, saņemtie ieņēmumi par sniegto sabiedriskā transporta pakalpojumu | C32: EUR bez PVN | D32: 21169.34 | H32: =atskaites_jedox!I8 -> #NAME?
B33: (D) Faktiskais nobraukums | C33: km | D33: 104870.9 | H33: =atskaites_jedox!J8 -> #NAME?
B36: Pašvaldības atbildīgās personas vārds, uzvārds, kontaktinformācija un paraksts (ja dokuments nav parakstīts ar elektroniski)
A39: Informāciju aizpilda katra pašvaldība par pārvadājumu veidiem, kādi ir noteikti attiecīgā pilsētā
A40: Tabulā iekļauj norādītajā laika periodā radušās pamatotās izmaksas, kas attiecināmas uz sabiedriskā transporta pakalpojuma izpildē noteiktajiem drošības pasākumiem Covid-19 infekcijas izplatības ierobežošanai.
A41: Pašvaldībai ir pienākums pārliecināties par izmaksu pamatotību, to apjomu vai attiecināto apmēru.
A42: 1.SADAĻĀ tiek aprēķināti faktiskie izdevumi, kas radušies saistībā ar atcelto reisu vai/un papildu reisu nodrošināšanu sakarā ar pakalpojuma apjoma ierobežošanu un 50% pasažieru piepildījuma noteikšanu
A43: 2.SADAĻĀ nosakāmi kopējie izdevumi par Covid-19 infekcijas ierobežošanas pasākumiem, kas izpildāmi atbilstoši MK 09.06.2020. noteikumiem Nr.360; MK 06.11.2020. rīkojumam Nr.655
A44: 3.SADAĻĀ nosakāma kopējā ietekme uz ieņēmumu apgrozījumu, ko radījusi Covid-19 infekcijas apkarošanā radītā iedzīvotāju mobilitātes ierobežošana, pakalpojuma apjoma ierobežošana, kā arī citi ārkārtējās situācijas laikā un pēc tās noteiktie ierobežojumi atsevišķām nozarēm
...

Sheet jūnijs
A1: Pārskats par sabiedriskā transporta pakalpojumos radītajiem izdevumiem un zaudējumiem sakarā ar noteiktajiem ierobežojumiem
A2: Periods | C2: Vienības | D2: Autobusi | E2: Minibusi (ekspresbusi) | F2: Tramvaji | G2: Trolejbusi
A3: 1.SADAĻA | B3: KOPSUMMA ((N - P) x Izm) | D3: =(D10-D9)*D13 -> 2668.656 | E3: =(E10-E9)*E13 -> 0 | F3: =(F10-F9)*F13 -> 0 | G3: =(G10-G9)*G13 -> 0
B4: Iesaistīto transportlīdzekļu vienības | C4: skaits | D4: 29
B5: (S) Plānotais reisu skaits | D5: 11260
B6: (R) Faktiskais reisu skaits (S + RP-RA) | D6: =D5+D7-D8 -> 11560 | E6: =E5+E7-E8 -> 0 | F6: =F5+F7-F8 -> 0 | G6: =G5+G7-G8 -> 0
B7: to starpā papildu reisi (RP) | D7: 300
B8: to starpā atceltie reisi (RA)
B9: (P) Plānotais nobraukums | C9: km | D9: 102273
B10: (N) Faktiskais nobraukums (P + NP-NA) | D10: =D9+D11-D12 -> 103969 | E10: =E9+E11-E12 -> 0 | F10: =F9+F11-F12 -> 0 | G10: =G9+G11-G12 -> 0 | H10: =atskaites_jedox!AK8 -> #NAME?
B11: to starpā papildu reisos veiktais nobraukums (NP) | D11: 1696
B12: to starpā atcelto reisu nobraukums (NA)
B13: (Izm) 1 km pašizmaksa | C13: EUR/km | D13: 1.5735 | H13: =atskaites_jedox!AL8 -> #NAME?
A14: 2.SADAĻA | B14: KOPSUMMA (1 vienības cenas reizinājums ar preču/pakalpojumu skaitu; summa ( K x Z)) | D14: =SUM(D16*D23,D17*D24,D18*D25,D19*D26,D20*D27,D21*D28) -> 255.569 | E14: =SUM(E16*E23,E17*E24,E18*E25,E19*E26,E20*E27,E21*E28) -> 0 | F14: =SUM(F16*F23,F17*F24,F18*F25,F19*F26,F20*F27,F21*F28) -> 0 | G14: =SUM(G16*G23,G17*G24,G18*G25,G19*G26,G20*G27,G21*G28) -> 0
B15: (Z) Pakalpojumi, pasākumi un materiāli Covid-19 pandēmijas ierobežošanai | C15: skaits (jānorāda atbilstoša mērvienība gab., litri, reižu skaits, darba stundas u.c.)
B16: Dezinfekcijas līdzekļi | D16: 32
B17: Sejas maskas | D17: 750
B18: Sociālā distancēšanās sabiedriskā transportā | D18: 400
B19: Transportlīdzekļu dezinfekcija | D19: 53
B20: Transportlīdzekļu papildu mazgāšana
B21: Citi izdevumi (norādīt kādi) | D21: 300
B22: (K) Faktiskās izmaksas Covid-19 pandēmijas ierobežošanai, t.sk. | C22: EUR/vien bez PVN
B23: Dezinfekcijas līdzekļi | D23: 2.86
B24: Sejas maskas | D24: 0.07
B25: Sociālā distancēšanās sabiedriskā transportā | D25: 0.0138
B26: Transportlīdzekļu dezinfekcija, to starpā darba spēka izmaksas | D26: 1.533
B27: Transportlīdzekļu papildu mazgāšana, to starpā darba spēka izmaksas
B28: Citi izdevumi (norādīt kādi) | D28: 0.0826
A29: 3.SADAĻA | B29: KOPSUMMA ((C/D-A/N) x N) | D29: =((D32/D33)-(D30/D31))*D31 -> 7585.4254
B30: (A) No pasažieriem, t.sk., personām, kurām noteikti pašvaldības noteiktie braukšanas maksas atvieglojumi, saņemtie ieņēmumi par sniegto sabiedriskā transporta pakalpojumu | C30: EUR bez PVN | D30: 13201.82 | H30: =atskaites_jedox!AJ8 -> #NAME?
B31: (N) Faktiskais nobraukums | C31: km | D31: 103969 | H31: =atskaites_jedox!AK8 -> #NAME? | I31: =D31=D10 -> TRUE
B32: (C) No pasažieriem, t.sk., personām, kurām noteikti pašvaldības noteiktie braukšanas maksas atvieglojumi, saņemtie ieņēmumi par sniegto sabiedriskā transporta pakalpojumu | C32: EUR bez PVN | D32: 20233.62 | H32: =atskaites_jedox!L8 -> #NAME?
B33: (D) Faktiskais nobraukums | C33: km | D33: 101200 | H33: =atskaites_jedox!M8 -> #NAME?
B36: Pašvaldības atbildīgās personas vārds, uzvārds, kontaktinformācija un paraksts (ja dokuments nav parakstīts ar elektroniski)
A39: Informāciju aizpilda katra pašvaldība par pārvadājumu veidiem, kādi ir noteikti attiecīgā pilsētā
A40: Tabulā iekļauj norādītajā laika periodā radušās pamatotās izmaksas, kas attiecināmas uz sabiedriskā transporta pakalpojuma izpildē noteiktajiem drošības pasākumiem Covid-19 infekcijas izplatības ierobežošanai.
A41: Pašvaldībai ir pienākums pārliecināties par izmaksu pamatotību, to apjomu vai attiecināto apmēru.
A42: 1.SADAĻĀ tiek aprēķināti faktiskie izdevumi, kas radušies saistībā ar atcelto reisu vai/un papildu reisu nodrošināšanu sakarā ar pakalpojuma apjoma ierobežošanu un 50% pasažieru piepildījuma noteikšanu
A43: 2.SADAĻĀ nosakāmi kopējie izdevumi par Covid-19 infekcijas ierobežošanas pasākumiem, kas izpildāmi atbilstoši MK 09.06.2020. noteikumiem Nr.360; MK 06.11.2020. rīkojumam Nr.655
A44: 3.SADAĻĀ nosakāma kopējā ietekme uz ieņēmumu apgrozījumu, ko radījusi Covid-19 infekcijas apkarošanā radītā iedzīvotāju mobilitātes ierobežošana, pakalpojuma apjoma ierobežošana, kā arī citi ārkārtējās situācijas laikā un pēc tās noteiktie ierobežojumi atsevišķām nozarēm
...

Sheet PIVOT_apkopojums
A3: Sum of Vērtība | B3: Column Labels
A4: Row Labels | B4: 09.03.2021.- 31.03.2021. | C4: Aprīlis | D4: Maijs | E4: Jūnijs | F4: Grand Total
A5: 1. Faktiskie izdevumi, kas radušies saistībā ar reisu atcelšanu vai papild reisu nodrošināšanu - KOPSUMMA ((N - P) x Izm) | B5: 0 | C5: 122.232 | D5: 126.68 | E5: 2668.656 | F5: 2917.568
A6: 2. Kopējie izdevumi par Covid-19 infekcijas ierobežošanas pasākumiem - KOPSUMMA (1 vienības cenas reizinājums ar preču/pakalpojumu skaitu; summa ( K x Z)) | B6: 165.40604 | C6: 166.25 | D6: 148.85 | E6: 255.569 | F6: 736.07504
A7: 3. Kopējā ietekme uz ieņēmumu apgrozījumu - KOPSUMMA ((C/D-A/N) x N) | B7: 7052.9324 | C7: 9627.4635 | D7: 9136.5285 | E7: 7585.4254 | F7: 33402.35
A8: Grand Total | B8: 7218.3384 | C8: 9915.9455 | D8: 9412.0585 | E8: 10509.65 | F8: 37055.993

Sheet PIVOT
B1: Pārskats par sabiedriskā transporta pakalpojumos radītajiem izdevumiem un zaudējumiem sakarā ar noteiktajiem ierobežojumiem
B5: Rādītājs | C5: Vienības | D5: Vērtība | E5: Pārvadājumu veids | F5: Pilsēta | G5: Periods
B6: 1. Faktiskie izdevumi, kas radušies saistībā ar reisu atcelšanu vai papild reisu nodrošināšanu - KOPSUMMA ((N - P) x Izm) | D6: 0 | E6: Autobuss | F6: Rēzekne | G6: 09.03.2021.- 31.03.2021.
B7: Iesaistīto transportlīdzekļu vienības | C7: skaits | D7: 29 | E7: Autobuss | F7: Rēzekne | G7: 09.03.2021.- 31.03.2021.
B8: (S) Plānotais reisu skaits | C8: skaits | D8: 8635 | E8: Autobuss | F8: Rēzekne | G8: 09.03.2021.- 31.03.2021.
B9: (R) Faktiskais reisu skaits (S + RP-RA) | C9: skaits | D9: 8635 | E9: Autobuss | F9: Rēzekne | G9: 09.03.2021.- 31.03.2021.
B10: to starpā papildu reisi (RP) | C10: skaits | E10: Autobuss | F10: Rēzekne | G10: 09.03.2021.- 31.03.2021.
B11: to starpā atceltie reisi (RA) | C11: skaits | E11: Autobuss | F11: Rēzekne | G11: 09.03.2021.- 31.03.2021.
B12: (P) Plānotais nobraukums | C12: km | D12: 77873.7 | E12: Autobuss | F12: Rēzekne | G12: 09.03.2021.- 31.03.2021.
B13: (N) Faktiskais nobraukums (P + NP-NA) | C13: km | D13: 77873.7 | E13: Autobuss | F13: Rēzekne | G13: 09.03.2021.- 31.03.2021.
B14: to starpā papildu reisos veiktais nobraukums (NP) | C14: km | E14: Autobuss | F14: Rēzekne | G14: 09.03.2021.- 31.03.2021.
B15: to starpā atcelto reisu nobraukums (NA) | C15: km | E15: Autobuss | F15: Rēzekne | G15: 09.03.2021.- 31.03.2021.
B16: (Izm) 1 km pašizmaksa | C16: EUR/km | D16: 1.5318 | E16: Autobuss | F16: Rēzekne | G16: 09.03.2021.- 31.03.2021.
B17: 2. Kopējie izdevumi par Covid-19 infekcijas ierobežošanas pasākumiem - KOPSUMMA (1 vienības cenas reizinājums ar preču/pakalpojumu skaitu; summa ( K x Z)) | D17: 165.40604 | E17: Autobuss | F17: Rēzekne | G17: 09.03.2021.- 31.03.2021.
B18: (Z) Pakalpojumi, pasākumi un materiāli Covid-19 pandēmijas ierobežošanai | C18: skaits (jānorāda atbilstoša mērvienība gab., litri, reižu skaits, darba stundas u.c.) | E18: Autobuss | F18: Rēzekne | G18: 09.03.2021.- 31.03.2021.
B19: Dezinfekcijas līdzekļi | C19: skaits (jānorāda atbilstoša mērvienība gab., litri, reižu skaits, darba stundas u.c.) | D19: 17.8 | E19: Autobuss | F19: Rēzekne | G19: 09.03.2021.- 31.03.2021.
B20: Sejas maskas | C20: skaits (jānorāda atbilstoša mērvienība gab., litri, reižu skaits, darba stundas u.c.) | D20: 370 | E20: Autobuss | F20: Rēzekne | G20: 09.03.2021.- 31.03.2021.
B21: Sociālā distancēšanās sabiedriskā transportā | C21: skaits (jānorāda atbilstoša mērvienība gab., litri, reižu skaits, darba stundas u.c.) | E21: Autobuss | F21: Rēzekne | G21: 09.03.2021.- 31.03.2021.
B22: Transportlīdzekļu dezinfekcija | C22: skaits (jānorāda atbilstoša mērvienība gab., litri, reižu skaits, darba stundas u.c.) | D22: 17.42 | E22: Autobuss | F22: Rēzekne | G22: 09.03.2021.- 31.03.2021.
B23: Transportlīdzekļu papildu mazgāšana | C23: skaits (jānorāda atbilstoša mērvienība gab., litri, reižu skaits, darba stundas u.c.) | E23: Autobuss | F23: Rēzekne | G23: 09.03.2021.- 31.03.2021.
B24: Citi izdevumi ( vienreizlietojami cimdi) | C24: skaits (jānorāda atbilstoša mērvienība gab., litri, reižu skaits, darba stundas u.c.) | D24: 150 | E24: Autobuss | F24: Rēzekne | G24: 09.03.2021.- 31.03.2021.
B25: (K) Faktiskās izmaksas Covid-19 pandēmijas ierobežošanai, t.sk. | C25: EUR/vien bez PVN | E25: Autobuss | F25: Rēzekne | G25: 09.03.2021.- 31.03.2021.
B26: Dezinfekcijas līdzekļi | C26: EUR/vien bez PVN | D26: 3.0908 | E26: Autobuss | F26: Rēzekne | G26: 09.03.2021.- 31.03.2021.
B27: Sejas maskas | C27: EUR/vien bez PVN | D27: 0.07 | E27: Autobuss | F27: Rēzekne | G27: 09.03.2021.- 31.03.2021.
B28: Sociālā distancēšanās sabiedriskā transportā | C28: EUR/vien bez PVN | E28: Autobuss | F28: Rēzekne | G28: 09.03.2021.- 31.03.2021.
B29: Transportlīdzekļu dezinfekcija, to starpā darba spēka izmaksas | C29: EUR/vien bez PVN | D29: 1.69 | E29: Autobuss | F29: Rēzekne | G29: 09.03.2021.- 31.03.2021.
B30: Transportlīdzekļu papildu mazgāšana, to starpā darba spēka izmaksas | C30: EUR/vien bez PVN | E30: Autobuss | F30: Rēzekne | G30: 09.03.2021.- 31.03.2021.
B31: Citi izdevumi (vienreizlietojami cimdi) | C31: EUR/vien bez PVN | D31: 0.367 | E31: Autobuss | F31: Rēzekne | G31: 09.03.2021.- 31.03.2021.
B32: 3. Kopējā ietekme uz ieņēmumu apgrozījumu - KOPSUMMA ((C/D-A/N) x N) | D32: 7052.9324 | E32: Autobuss | F32: Rēzekne | G32: 09.03.2021.- 31.03.2021.
B33: (A) No pasažieriem, t.sk., personām, kurām noteikti pašvaldības noteiktie braukšanas maksas atvieglojumi, saņemtie ieņēmumi par sniegto sabiedriskā transporta pakalpojumu - 09.03.2021.-31.03.2021. | C33: EUR bez PVN | D33: 8685.16 | E33: Autobuss | F33: Rēzekne | G33: 09.03.2021.- 31.03.2021.
B34: (N) Faktiskais nobraukums - 09.03.2021.-31.03.2021. | C34: km | D34: 77873.7 | E34: Autobuss | F34: Rēzekne | G34: 09.03.2021.- 31.03.2021.
B35: (C) No pasažieriem, t.sk., personām, kurām noteikti pašvaldības noteiktie braukšanas maksas atvieglojumi, saņemtie ieņēmumi par sniegto sabiedriskā transporta pakalpojumu - 09.03.2019.-31.03.2019. | C35: EUR bez PVN | D35: 15787 | E35: Autobuss | F35: Rēzekne | G35: 09.03.2021.- 31.03.2021.
B36: (D) Faktiskais nobraukums - 09.03.2019.-31.03.2019. | C36: km | D36: 78115.7 | E36: Autobuss | F36: Rēzekne | G36: 09.03.2021.- 31.03.2021.
B37: 1. Faktiskie izdevumi, kas radušies saistībā ar reisu atcelšanu vai papild reisu nodrošināšanu - KOPSUMMA ((N - P) x Izm) | D37: =(D44-D43)*D47 -> 122.232 | E37: Autobuss | F37: Rēzekne | G37: Aprīlis
B38: Iesaistīto transportlīdzekļu vienības | C38: skaits | D38: 29 | E38: Autobuss | F38: Rēzekne | G38: Aprīlis
B39: (S) Plānotais reisu skaits | C39: skaits | D39: 11304 | E39: Autobuss | F39: Rēzekne | G39: Aprīlis
B40: (R) Faktiskais reisu skaits (S + RP-RA) | C40: skaits | D40: =D39+D41-D42 -> 11324 | E40: Autobuss | F40: Rēzekne | G40: Aprīlis
B41: to starpā papildu reisi (RP) | C41: skaits | D41: 20 | E41: Autobuss | F41: Rēzekne | G41: Aprīlis
B42: to starpā atceltie reisi (RA) | C42: skaits | E42: Autobuss | F42: Rēzekne | G42: Aprīlis
B43: (P) Plānotais nobraukums | C43: km | D43: 102031.5 | E43: Autobuss | F43: Rēzekne | G43: Aprīlis
...

Sheet atskaites_jedox
B2: servers_ATD/STIFSS | D2: =_xll.PALO.VIEW.DIMNAME($B$2,$B$3,0,0) -> #NAME? | E2: =_xll.PALO.VIEW.DIMNAME($B$2,$B$3,0,1) -> #NAME? | F2: =_xll.PALO.VIEW.DIMNAME($B$2,$B$3,0,2) -> #NAME? | G2: =_xll.PALO.VIEW.DIMNAME($B$2,$B$3,0,3) -> #NAME? | H2: =_xll.PALO.VIEW.DIMNAME($B$2,$B$3,0,4) -> #NAME? | I2: =_xll.PALO.VIEW.DIMNAME($B$2,$B$3,0,5) -> #NAME? | J2: =_xll.PALO.VIEW.DIMNAME($B$2,$B$3,0,6) -> #NAME?
B3: =_xll.PALO.CUBE($B$2,"PnL_") -> #NAME? | D3: =_xll.PALO.ENAME($B$2,$B$3,0,0,0) -> #NAME? | E3: =_xll.PALO.ENAME($B$2,$B$3,0,1,0) -> #NAME? | F3: =_xll.PALO.ENAME($B$2,$B$3,0,2,0) -> #NAME? | G3: =_xll.PALO.ENAME($B$2,$B$3,0,3,0) -> #NAME? | H3: =_xll.PALO.ENAME($B$2,$B$3,0,4,0) -> #NAME? | I3: =_xll.PALO.ENAME($B$2,$B$3,0,5,0) -> #NAME? | J3: =_xll.PALO.ENAME($B$2,$B$3,0,6,0) -> #NAME?
B4: [Edit View]
B5: [Swap]
C6: =_xll.PALO.ENAME($B$2,$B$3,2,0,0) -> #NAME? | D6: =_xll.PALO.ENAME($B$2,$B$3,2,0,1) -> #NAME? | E6: =_xll.PALO.ENAME($B$2,$B$3,2,0,2) -> #NAME? | F6: =_xll.PALO.ENAME($B$2,$B$3,2,0,3) -> #NAME? | G6: =_xll.PALO.ENAME($B$2,$B$3,2,0,4) -> #NAME? | H6: =_xll.PALO.ENAME($B$2,$B$3,2,0,5) -> #NAME? | I6: =_xll.PALO.ENAME($B$2,$B$3,2,0,6) -> #NAME? | J6: =_xll.PALO.ENAME($B$2,$B$3,2,0,7) -> #NAME? | K6: =_xll.PALO.ENAME($B$2,$B$3,2,0,8) -> #NAME? | L6: =_xll.PALO.ENAME($B$2,$B$3,2,0,9) -> #NAME? | M6: =_xll.PALO.ENAME($B$2,$B$3,2,0,10) -> #NAME? | N6: =_xll.PALO.ENAME($B$2,$B$3,2,0,11) -> #NAME? | O6: =_xll.PALO.ENAME($B$2,$B$3,2,0,12) -> #NAME? | P6: =_xll.PALO.ENAME($B$2,$B$3,2,0,13) -> #NAME? | Q6: =_xll.PALO.ENAME($B$2,$B$3,2,0,14) -> #NAME? | R6: =_xll.PALO.ENAME($B$2,$B$3,2,0,15) -> #NAME? | S6: =_xll.PALO.ENAME($B$2,$B$3,2,0,16) -> #NAME? | T6: =_xll.PALO.ENAME($B$2,$B$3,2,0,17) -> #NAME? | U6: =_xll.PALO.ENAME($B$2,$B$3,2,0,18) -> #NAME? | V6: =_xll.PALO.ENAME($B$2,$B$3,2,0,19) -> #NAME? | W6: =_xll.PALO.ENAME($B$2,$B$3,2,0,20) -> #NAME? | X6: =_xll.PALO.ENAME($B$2,$B$3,2,0,21) -> #NAME? | Y6: =_xll.PALO.ENAME($B$2,$B$3,2,0,22) -> #NAME? | Z6: =_xll.PALO.ENAME($B$2,$B$3,2,0,23) -> #NAME? | AA6: =_xll.PALO.ENAME($B$2,$B$3,2,0,24) -> #NAME? | AB6: =_xll.PALO.ENAME($B$2,$B$3,2,0,25) -> #NAME? | AC6: =_xll.PALO.ENAME($B$2,$B$3,2,0,26) -> #NAME? | AD6: =_xll.PALO.ENAME($B$2,$B$3,2,0,27) -> #NAME? | AE6: =_xll.PALO.ENAME($B$2,$B$3,2,0,28) -> #NAME? | AF6: =_xll.PALO.ENAME($B$2,$B$3,2,0,29) -> #NAME? | AG6: =_xll.PALO.ENAME($B$2,$B$3,2,0,30) -> #NAME? | AH6: =_xll.PALO.ENAME($B$2,$B$3,2,0,31) -> #NAME? | AI6: =_xll.PALO.ENAME($B$2,$B$3,2,0,32) -> #NAME? | AJ6: =_xll.PALO.ENAME($B$2,$B$3,2,0,33) -> #NAME? | AK6: =_xll.PALO.ENAME($B$2,$B$3,2,0,34) -> #NAME? | AL6: =_xll.PALO.ENAME($B$2,$B$3,2,0,35) -> #NAME?
C7: =_xll.PALO.ENAME($B$2,$B$3,2,1,0) -> #NAME? | D7: =_xll.PALO.ENAME($B$2,$B$3,2,1,1) -> #NAME? | E7: =_xll.PALO.ENAME($B$2,$B$3,2,1,2) -> #NAME? | F7: =_xll.PALO.ENAME($B$2,$B$3,2,1,3) -> #NAME? | G7: =_xll.PALO.ENAME($B$2,$B$3,2,1,4) -> #NAME? | H7: =_xll.PALO.ENAME($B$2,$B$3,2,1,5) -> #NAME? | I7: =_xll.PALO.ENAME($B$2,$B$3,2,1,6) -> #NAME? | J7: =_xll.PALO.ENAME($B$2,$B$3,2,1,7) -> #NAME? | K7: =_xll.PALO.ENAME($B$2,$B$3,2,1,8) -> #NAME? | L7: =_xll.PALO.ENAME($B$2,$B$3,2,1,9) -> #NAME? | M7: =_xll.PALO.ENAME($B$2,$B$3,2,1,10) -> #NAME? | N7: =_xll.PALO.ENAME($B$2,$B$3,2,1,11) -> #NAME? | O7: =_xll.PALO.ENAME($B$2,$B$3,2,1,12) -> #NAME? | P7: =_xll.PALO.ENAME($B$2,$B$3,2,1,13) -> #NAME? | Q7: =_xll.PALO.ENAME($B$2,$B$3,2,1,14) -> #NAME? | R7: =_xll.PALO.ENAME($B$2,$B$3,2,1,15) -> #NAME? | S7: =_xll.PALO.ENAME($B$2,$B$3,2,1,16) -> #NAME? | T7: =_xll.PALO.ENAME($B$2,$B$3,2,1,17) -> #NAME? | U7: =_xll.PALO.ENAME($B$2,$B$3,2,1,18) -> #NAME? | V7: =_xll.PALO.ENAME($B$2,$B$3,2,1,19) -> #NAME? | W7: =_xll.PALO.ENAME($B$2,$B$3,2,1,20) -> #NAME? | X7: =_xll.PALO.ENAME($B$2,$B$3,2,1,21) -> #NAME? | Y7: =_xll.PALO.ENAME($B$2,$B$3,2,1,22) -> #NAME? | Z7: =_xll.PALO.ENAME($B$2,$B$3,2,1,23) -> #NAME? | AA7: =_xll.PALO.ENAME($B$2,$B$3,2,1,24) -> #NAME? | AB7: =_xll.PALO.ENAME($B$2,$B$3,2,1,25) -> #NAME? | AC7: =_xll.PALO.ENAME($B$2,$B$3,2,1,26) -> #NAME? | AD7: =_xll.PALO.ENAME($B$2,$B$3,2,1,27) -> #NAME? | AE7: =_xll.PALO.ENAME($B$2,$B$3,2,1,28) -> #NAME? | AF7: =_xll.PALO.ENAME($B$2,$B$3,2,1,29) -> #NAME? | AG7: =_xll.PALO.ENAME($B$2,$B$3,2,1,30) -> #NAME? | AH7: =_xll.PALO.ENAME($B$2,$B$3,2,1,31) -> #NAME? | AI7: =_xll.PALO.ENAME($B$2,$B$3,2,1,32) -> #NAME? | AJ7: =_xll.PALO.ENAME($B$2,$B$3,2,1,33) -> #NAME? | AK7: =_xll.PALO.ENAME($B$2,$B$3,2,1,34) -> #NAME? | AL7: =_xll.PALO.ENAME($B$2,$B$3,2,1,35) -> #NAME?
B8: =_xll.PALO.ENAME($B$2,$B$3,1,0,0) -> #NAME? | C8: =_xll.PALO.DATA($B$2,$B$3,_xll.PALO.EL("Time",C$6),_xll.PALO.EL("Partner",$B8),_xll.PALO.EL($D$2,$D$3),_xll.PALO.EL($E$2,$E$3),_xll.PALO.EL($F$2,$F$3),_xll.PALO.EL($G$2,$G$3),_xll.PALO.EL($H$2,$H$3),_xll.PALO.EL($I$2,$I$3),_xll.PALO.EL($J$2,$J$3),_xll.PALO.EL("Position",C$7)) -> #NAME? | D8: =_xll.PALO.DATA($B$2,$B$3,_xll.PALO.EL("Time",D$6),_xll.PALO.EL("Partner",$B8),_xll.PALO.EL($D$2,$D$3),_xll.PALO.EL($E$2,$E$3),_xll.PALO.EL($F$2,$F$3),_xll.PALO.EL($G$2,$G$3),_xll.PALO.EL($H$2,$H$3),_xll.PALO.EL($I$2,$I$3),_xll.PALO.EL($J$2,$J$3),_xll.PALO.EL("Position",D$7)) -> #NAME? | E8: =_xll.PALO.DATA($B$2,$B$3,_xll.PALO.EL("Time",E$6),_xll.PALO.EL("Partner",$B8),_xll.PALO.EL($D$2,$D$3),_xll.PALO.EL($E$2,$E$3),_xll.PALO.EL($F$2,$F$3),_xll.PALO.EL($G$2,$G$3),_xll.PALO.EL($H$2,$H$3),_xll.PALO.EL($I$2,$I$3),_xll.PALO.EL($J$2,$J$3),_xll.PALO.EL("Position",E$7)) -> #NAME? | F8: =_xll.PALO.DATA($B$2,$B$3,_xll.PALO.EL("Time",F$6),_xll.PALO.EL("Partner",$B8),_xll.PALO.EL($D$2,$D$3),_xll.PALO.EL($E$2,$E$3),_xll.PALO.EL($F$2,$F$3),_xll.PALO.EL($G$2,$G$3),_xll.PALO.EL($H$2,$H$3),_xll.PALO.EL($I$2,$I$3),_xll.PALO.EL($J$2,$J$3),_xll.PALO.EL("Position",F$7)) -> #NAME? | G8: =_xll.PALO.DATA($B$2,$B$3,_xll.PALO.EL("Time",G$6),_xll.PALO.EL("Partner",$B8),_xll.PALO.EL($D$2,$D$3),_xll.PALO.EL($E$2,$E$3),_xll.PALO.EL($F$2,$F$3),_xll.PALO.EL($G$2,$G$3),_xll.PALO.EL($H$2,$H$3),_xll.PALO.EL($I$2,$I$3),_xll.PALO.EL($J$2,$J$3),_xll.PALO.EL("Position",G$7)) -> #NAME? | H8: =_xll.PALO.DATA($B$2,$B$3,_xll.PALO.EL("Time",H$6),_xll.PALO.EL("Partner",$B8),_xll.PALO.EL($D$2,$D$3),_xll.PALO.EL($E$2,$E$3),_xll.PALO.EL($F$2,$F$3),_xll.PALO.EL($G$2,$G$3),_xll.PALO.EL($H$2,$H$3),_xll.PALO.EL($I$2,$I$3),_xll.PALO.EL($J$2,$J$3),_xll.PALO.EL("Position",H$7)) -> #NAME? | I8: =_xll.PALO.DATA($B$2,$B$3,_xll.PALO.EL("Time",I$6),_xll.PALO.EL("Partner",$B8),_xll.PALO.EL($D$2,$D$3),_xll.PALO.EL($E$2,$E$3),_xll.PALO.EL($F$2,$F$3),_xll.PALO.EL($G$2,$G$3),_xll.PALO.EL($H$2,$H$3),_xll.PALO.EL($I$2,$I$3),_xll.PALO.EL($J$2,$J$3),_xll.PALO.EL("Position",I$7)) -> #NAME? | J8: =_xll.PALO.DATA($B$2,$B$3,_xll.PALO.EL("Time",J$6),_xll.PALO.EL("Partner",$B8),_xll.PALO.EL($D$2,$D$3),_xll.PALO.EL($E$2,$E$3),_xll.PALO.EL($F$2,$F$3),_xll.PALO.EL($G$2,$G$3),_xll.PALO.EL($H$2,$H$3),_xll.PALO.EL($I$2,$I$3),_xll.PALO.EL($J$2,$J$3),_xll.PALO.EL("Position",J$7)) -> #NAME? | ... AL8: =_xll.PALO.DATA($B$2,$B$3,_xll.PALO.EL("Time",AL$6),_xll.PALO.EL("Partner",$B8),_xll.PALO.EL($D$2,$D$3),_xll.PALO.EL($E$2,$E$3),_xll.PALO.EL($F$2,$F$3),_xll.PALO.EL($G$2,$G$3),_xll.PALO.EL($H$2,$H$3),_xll.PALO.EL($I$2,$I$3),_xll.PALO.EL($J$2,$J$3),_xll.PALO.EL("Position",AL$7)) -> #NAME?
