Workbook
Name _1_2_d_NMP_lim: #REF!
Name aa: #REF!
Name aa: #REF!
Name b: #REF!
Name b: #REF!
Name bt: #REF!
Name bt: #REF!
Name BX: #REF!
Name BX: #REF!
Name CalendarYear: #REF!
Name CalendarYear: #REF!
Name ccc: #REF!
Name d: #REF!
Name D_Evija3: #REF!
Name DaysAndWeeks: {0,1,2,3,4,5,6} + {0;1;2;3;4;5}*7
Name DaysAndWeeks: {0,1,2,3,4,5,6} + {0;1;2;3;4;5}*7
Name de: #REF!
Name dff: #NAME?
Name DRGNAMES: #REF!
Name e: #REF!
Name ee: #REF!
Name Excel_BuiltIn__FilterDatabase_2: #REF!
Name Excel_BuiltIn__FilterDatabase_3: #REF!
Name Excel_BuiltIn_Print_Titles_2: #REF!
Name Excel_BuiltIn_Print_Titles_3: #REF!
Name gad_skaits: #REF!
Name gad_skaits_1: #REF!
Name gggg: #REF!
Name ghy: #REF!
Name h: #REF!
Name hh: #REF!
Name hjh: #REF!
Name hyh: #REF!
Name i: #REF!
Name izm.kods: #REF!
Name izm.kods_1: [2]izm.posteni!$A$2:$A$216
Name izm.nos: #REF!
Name izm.nos: #REF!
Name izm.nos_1: [2]izm.posteni!$B$2:$B$216
Name jhg: #REF!
Name jhg: #REF!
Name kk: #REF!
Name kk: #REF!
Name l: #REF!
Name l: #REF!
Name Limeni_7_9group: #REF!
Name n: #REF!
Name n: #REF!
Name P_Dati_rikojums: #REF!
Name P_Dati_rikojums: #REF!
Name pp: #REF!
Name pp: #REF!
Name Recover: [3]Macro1!$A$80
Name Rikojums2222: [4]Macro1!$A$106
Name rr: #REF!
Name rr: #REF!
Name rt: #REF!
Name rt: #REF!
Name rty: #REF!
Name rty: #REF!

Sheet test_sept_dec
C1: JANVĀRIS | H1: FEBRUĀRIS | M1: MARTS | R1: APRĪLIS | U1: MAIJS | Z1: JŪNIJS | AD1: JŪLIJS | AF1: Augusts | AH1: Septembris | AL1: Oktobris | AN1: Novembris | AP1: Decembris
E2: 1.1669895 | M2: =N2/7743 -> 1.524732 | N2: =ROUND(SUM(((16300*5)+(10900*2))/7)*0.8,0) -> 11806
A3: Manipulācijas kods | B3: Manipulācijas nosaukums | C3: Tarifs | D3: Manipulāciju skaits 2020.gada decembrī dienā | E3: Nepieciešamais finansējums testu skaitam 2021.gada janvāris un februāris pie 9036 analīzēm vidēji dienā (59 dienas) euro | F3: Veikto manipulāciju skaits janvārī (fakts) | G3: Faktiskās izmaksas par janvārī veiktajām manipulācijām, euro | H3: Tarifs no 22.02.2021 | I3: Veikto manipulāciju skaits februārī (fakts) līdz 21.02.2021 | J3: Veikto manipulāciju skaits februārī (fakts) no 22.02.2021 | K3: Veikto manipulāciju skaits februārī (fakts) | L3: Faktiskās izmaksas par februārī veiktajām manipulācijām,euro | M3: Manipulāciju skaits 2020.gada martā dienā (proporcija 67/33%) | N3: Manipulāciju skaits 2020.gada martā dienā (proporcija 54/46%) | O3: Nepieciešamais finansējums testu skaitam no 2021.gada marts, aprīlis (61 dienas) euro (testēšanas apjoms dienā sastāda 11 806) | P3: Veikto manipulāciju skaits martā (fakts) | Q3: Faktiskās izmaksas par martā veiktajām manipulācijām, euro | R3: Tarifs no 01.04.2021 | S3: Veikto manipulāciju skaits aprīlī (fakts) | T3: Faktiskās izmaksas par aprīlī veiktajām manipulācijām,euro | U3: Nepieciešamais finansējums testu skaitam no 2021.gada maijs līdz augustam (123 dienas) euro (testēšanas apjoms dienā sastāda 5 903) | V3: Stacionārā veikto manipulāciju skaits līdz 1.aprīlim (fakts), izrakstīšanas datums maijs | W3: Stacionārā veikto manipulāciju skaits no 1 aprīļa (fakts), izrakstīšanas datums maijs | X3: Veikto manipulāciju skaits maijā (fakts) | Y3: Faktiskās izmaksas par maijā veiktajām manipulācijām,euro | Z3: Stacionārā veikto manipulāciju skaits līdz 1.aprīlim (fakts) | AA3: Stacionārā veikto manipulāciju skaits no 1 aprīļa (fakts), izrakstīšanas datums jūnijs | AB3: Veikto manipulāciju skaits jūnijā (fakts) | AC3: Faktiskās izmaksas par jūnijā veiktajām manipulācijām, euro | AD3: Veikto manipulāciju skaits jūlijā (fakts) | AE3: Faktiskās izmaksas par aprīlī veiktajām manipulācijām,euro | AF3: Veikto manipulāciju skaits augustā (indikatīvi) | AG3: Izmaksas par veiktajām manipulācijām augustā, euro | AH3: Nepieciešamais finansējums testu skaitam no 2021.gada septembra līdz decembrim (122 dienas) euro (testēšanas apjoms dienā sastāda 3 935) | AI3: Tarifs no 01.09.2021 | AJ3: Veikto manipulāciju skaits septembrī (indikatīvi) | AK3: Izmaksas par veiktajām manipulācijām septembrī, euro | AL3: Veikto manipulāciju skaits oktobrī (indikatīvi) | AM3: Izmaksas par veiktajām manipulācijām oktobrī, euro | AN3: Veikto manipulāciju skaits novembrī (indikatīvi) | AO3: Izmaksas par veiktajām manipulācijām novembrī, euro | AP3: Veikto manipulāciju skaits decembrī (indikatīvi) | AQ3: Izmaksas par veiktajām manipulācijām decembrī, euro | AR3: Izmaksas gadā (plāns), EUR
A4: 47060 | B4: SARS-CoV-2 (COVID-19) ambulatora parauga(nazofaringāla uztriepe) paņemšana laboratorijā | C4: 4.86 | D4: 3349 | E4: 1120651 | F4: =7775+9693+20878+2651+53191+31533 -> 125721 | G4: =C4*F4 -> 611004.06 | H4: 4.86 | I4: =6679+4857+13306+2099+32141+19878 -> 78960 | J4: =1591+1400+4522+812+10163+6288 -> 24776 | K4: =I4+J4 -> 103736 | L4: =(C4*I4)+(H4*J4) -> 504156.96 | M4: 5106 | N4: 4442 | O4: 1316875.3 | P4: =6329+8261+20619+3258+43055+26874+1 -> 108397 | Q4: =H4*P4 -> 526809.42 | R4: 4.13 | S4: =4529+6184+20809+1355+38094+21287+242 -> 92500 | T4: =R4*S4 -> 382025 | U4: 1327669.4 | X4: =2201+3746+682+20974+4+34903+18208 -> 80718 | Y4: =X4*R4 -> 333365.34 | AB4: =1363+4000+13032+22059+11399+1+91 -> 51945 | AC4: =AB4*R4 -> 214532.85 | AD4: =1239+4296+12369+21453+11848+360 -> 51565 | AE4: =AD4*R4 -> 212963.45 | AF4: =AD4 -> 51565 | AG4: =AF4*R4 -> 212963.45 | AH4: 877916.88 | AJ4: =(AF4)+(AF4/2) -> 77347.5 | AK4: =AJ4*R4 -> 319445.17 | AL4: =X4+(246493*0.1)*2 -> 130016.6 | AM4: =AL4*R4 -> 536968.56 | AN4: =P4+(246493*0.1)*2 -> 157695.6 | AO4: =R4*AN4 -> 651282.83 | AP4: =AN4 -> 157695.6 | AQ4: =AO4 -> 651282.83 | AR4: =E4+O4+U4+AH4 -> 4643112.6
A5: 47259 | B5: SARS-CoV-2 RNS (COVID-19) parauga paņemšana mājās | C5: 25.83 | D5: 175 | AJ5: =AF5 -> 0 | AK5: =AG5 -> 0 | AL5: =X5 -> 0 | AM5: =AL5*R5 -> 0 | AN5: =P5 -> 0 | AO5: =R5*AN5 -> 0 | AP5: =AN5 -> 0 | AQ5: =AO5 -> 0 | AR5: =E5+O5+U5+AH5 -> 0
A6: 60162 | B6: manipulācija 47259 aizvietota ar 60162 | C6: 5.13 | E6: 61812.227 | M6: 267 | N6: 232 | O6: 72599.76 | U6: 73194.84 | AH6: 48399.84 | AJ6: =AF6 -> 0 | AK6: =AG6 -> 0 | AL6: =X6 -> 0 | AM6: =AL6*R6 -> 0 | AN6: =P6 -> 0 | AO6: =R6*AN6 -> 0 | AP6: =AN6 -> 0 | AQ6: =AO6 -> 0 | AR6: =E6+O6+U6+AH6 -> 256006.67
A7: 6014 | B7: manipulācija 47259 aizvietota ar 6014 - ceļš par 10.min uz pacienta dzīvesvietu. | C7: 2.73 | E7: 32894.226 | M7: 267 | N7: 232 | O7: 38634.96 | U7: 38951.64 | AH7: 25756.64 | AJ7: =AF7 -> 0 | AK7: =AG7 -> 0 | AL7: =X7 -> 0 | AM7: =AL7*R7 -> 0 | AN7: =P7 -> 0 | AO7: =R7*AN7 -> 0 | AP7: =AN7 -> 0 | AQ7: =AO7 -> 0 | AR7: =E7+O7+U7+AH7 -> 136237.47
A8: 47073 | B8: SARS-CoV-2 RNS (COVID-19) noteikšana ar reālā laika PĶR (bez parauga paņemšanas) | C8: 34.81 | D8: 5121 | E8: 12273764 | F8: =15507+8179+19927+5273+81422+60710+88 -> 191106 | G8: =C8*F8 -> 6652399.9 | H8: 26.68 | I8: =12786+5426+13306+3550+51159+35120+198 -> 121545 | J8: =3287+4533+4522+1263+15406+10730+108 -> 39849 | K8: =I8+J8 -> 161394 | L8: =(C8*I8)+(H8*J8) -> 5294152.8 | M8: 7808 | N8: 6793 | O8: 14424324 | P8: =15469+21959+20619+4831+67964+47832+661+73 -> 179408 | Q8: =H8*P8 -> 4786605.4 | S8: =13821+7966+20809+4042+59739+44344+783+81+176 -> 151761 | T8: =H8*S8 -> 4048983.5 | U8: 14542556 | X8: =11937+4217+156+555+20974+4157+58442+38775+707 -> 139920 | Y8: =X8*H8 -> 3733065.6 | AB8: =9481+4150+13032+2839+39437+24739+118+76+653 -> 94525 | AC8: =AB8*H8 -> 2521927 | AD8: =8727+4637+12369+2574+33172+22258+623+230+342 -> 84932 | AE8: =AD8*H8 -> 2265985.8 | AF8: =AD8+3275 -> 88207 | AG8: =AF8*H8 -> 2353362.8 | AH8: 9616216.1 | AJ8: =(AF8)+(AF8/2) -> 132310.5 | AK8: =AJ8*H8 -> 3530044.1 | AL8: =X8+(146493*0.1)*2 -> 169218.6 | AM8: =AL8*H8 -> 4514752.2 | AN8: =P8+(246493*0.1)*2 -> 228706.6 | AO8: =H8*AN8 -> 6101892.1 | AP8: =AN8 -> 228706.6 | AQ8: =AO8 -> 6101892.1 | AR8: =E8+O8+U8+AH8 -> 50856861
A9: 47075 | B9: SARS-CoV-2 RNS (COVID-19) apstiprināšana ar reālā laika PĶR (bez parauga paņemšanas) | C9: 41.84 | D9: 678 | E9: 1953171.3 | F9: =98+2439+1349+8477+11231+4 -> 23598 | G9: =C9*F9 -> 987340.32 | H9: 33.4 | I9: =264+1085+1866+7233+5117+1 -> 15566 | J9: =45+329+549+2472+1303 -> 4698 | K9: =I9+J9 -> 20264 | L9: =(C9*I9)+(H9*J9) -> 808194.64 | M9: 1034 | N9: 900 | O9: 2297016 | P9: =2159+1773+2156+6+8323+4429+4 -> 18850 | Q9: =H9*P9 -> 629590 | S9: =243+2001+1303+2858+7555+4279+66 -> 18305 | T9: =H9*S9 -> 611387 | U9: 2315844 | X9: =2989+1034+132+2937+7443+3284 -> 17819 | Y9: =X9*H9 -> 595154.6 | AB9: =2601+240+740+2116+949+15 -> 6661 | AC9: =AB9*H9 -> 222477.4 | AD9: =73+53+291+593+388+23 -> 1421 | AE9: =AD9*H9 -> 47461.4 | AF9: =AD9 -> 1421 | AG9: =AF9*H9 -> 47461.4 | AH9: 1531344 | AJ9: =(AF9)+(AF9/2) -> 2131.5 | AK9: =AJ9*H9 -> 71192.1 | AL9: =X9*2 -> 35638 | AM9: =AL9*H9 -> 1190309.2 | AN9: =P9*2 -> 37700 | AO9: =H9*AN9 -> 1259180 | AP9: =AN9 -> 37700 | AQ9: =AO9 -> 1259180 | AR9: =E9+O9+U9+AH9 -> 8097375.3
A10: 47078 | B10: SARS-CoV-2 RNS (COVID-19) noteikšana ar reālā laika PĶR (bez parauga paņemšanas) ātrai diagnostikai un diferenciāldiagnostikai (ar reaģenta vērtību) | C10: 55.76 | D10: 17 | E10: 65266.551 | F10: =147+370+1201+1 -> 1719 | G10: =C10*F10 -> 95851.44 | H10: 55.76 | I10: =28+114 -> 142 | J10: =14+55+1340 -> 1409 | K10: =I10+J10 -> 1551 | L10: =(C10*I10)+(H10*J10) -> 86483.76 | M10: 26 | N10: 23 | O10: 78231.28 | P10: =48+217+1590 -> 1855 | Q10: =H10*P10 -> 103434.8 | R10: 48.2 | S10: =50+261+5+1135 -> 1451 | T10: =R10*S10 -> 69938.2 | U10: 78872.52 | V10: 14 | W10: 1363 | X10: =61+2+309 -> 372 | Y10: =(X10*R10)+(V10*C10)+(W10*R10) -> 84407.64 | Z10: 3 | AA10: 378 | AB10: =76+61+332+1018 -> 1487 | AC10: =(AB10*R10)+(Z10*H10)+(AA10*R10) -> 90060.28 | AD10: =80+329+11+52 -> 472 | AE10: =AD10*R10 -> 22750.4 | AF10: 4472 | AG10: =AF10*R10 -> 215550.4 | AH10: 52154.187 | AJ10: 5208 | AK10: =AJ10*R10 -> 251025.6 | AL10: 5208 | AM10: =AL10*R10 -> 251025.6 | AN10: 5208 | AO10: =R10*AN10 -> 251025.6 | AP10: =AN10 -> 5208 | AQ10: =AO10 -> 251025.6 | AR10: =E10+O10+U10+AH10 -> 274524.54
A11: 47079 | B11: SARS-CoV-2 (COVID-19) transporta barotne ar diviem lokaniem tamponiem | C11: 1.86 | D11: 3613 | E11: 462700.41 | F11: =10680+9693+23369+4039+81115+15527 -> 144423 | G11: =C11*F11 -> 268626.78 | H11: 1.86 | I11: =9815+4857+13306+2924+45248+8927 -> 85077 | J11: =2713+1400+4522+1029+4288+3078 -> 17030 | K11: =I11+J11 -> 102107 | L11: =(C11*I11)+(H11*J11) -> 189919.02 | M11: 5509 | N11: 4793 | O11: 543813.78 | P11: =11704+8261+20619+4752+21839+15975 -> 83150 | Q11: =H11*P11 -> 154659 | R11: 1.5 | S11: =9840+6184+20809+4232+20896+17203+242 -> 79406 | T11: =R11*S11 -> 119109 | U11: 548271.27 | X11: =8869+3746+687+20974+22693+16866+4391 -> 78226 | Y11: =X11*R11 -> 117339 | AB11: =6926+4001+13032+3164+16996+11863+91 -> 56073 | AC11: =AB11*R11 -> 84109.5 | AD11: =7034+4296+12369+2936+11171+9468+365 -> 47639 | AE11: =AD11*R11 -> 71458.5 | AF11: =AD11 -> 47639 | AG11: =AF11*R11 -> 71458.5 | AH11: 362542.52 | AJ11: =(AF11)+(AF11/2) -> 71458.5 | AK11: =AJ11*R11 -> 107187.75 | AL11: =X11 -> 78226 | AM11: =AL11*R11 -> 117339 | AN11: =P11 -> 83150 | AO11: =R11*AN11 -> 124725 | AP11: =AN11 -> 83150 | AQ11: =AO11 -> 124725 | AR11: =E11+O11+U11+AH11 -> 1917328
A12: 47405 | B12: Siekalu parauga paņemšanas komplekts SARS-CoV-2 (COVID-19) izmeklējumam | C12: 3.36 | D12: 2545 | E12: 588770.5 | F12: =925+317+19698+75743 -> 96683 | G12: =C12*F12 -> 324854.88 | H12: 3.36 | I12: =1654+15337+51424 -> 68415 | J12: =3464+735+5632+17815 -> 27646 | K12: =I12+J12 -> 96061 | L12: =(C12*I12)+(H12*J12) -> 322764.96 | M12: 3880 | N12: 4384 | O12: 898544.64 | P12: =44479+18096+47736+102041 -> 212352 | Q12: =H12*P12 -> 713502.72 | S12: =54421+18230+47619+94480 -> 214750 | T12: =S12*H12 -> 721560 | U12: 905909.76 | X12: =44364+24136+38989+73071 -> 180560 | Y12: =X12*H12 -> 606681.6 | AB12: =15736+9390+16551+41311 -> 82988 | AC12: =AB12*H12 -> 278839.68 | AD12: =9914+9228+13083+47928 -> 80153 | AE12: =AD12*H12 -> 269314.08 | AF12: =AD12+136000+(101619/2) -> 266962.5 | AG12: =AF12*H12 -> 896994 | AH12: 599029.76 | AJ12: =AD12 -> 80153 | AK12: =AE12 -> 269314.08 | AL12: =AD12 -> 80153 | AM12: =AL12*H12 -> 269314.08 | AN12: =AL12 -> 80153 | AO12: =H12*AN12 -> 269314.08 | AP12: =AN12 -> 80153 | AQ12: =AO12 -> 269314.08 | AR12: =E12+O12+U12+AH12 -> 2992254.7
A13: 47407 | B13: SARS-CoV-2 RNS (COVID-19) noteikšana ar "pooling" metodi (3 paraugi) (bez parauga paņemšanas) | C13: 15.14 | F13: 274 | G13: =C13*F13 -> 4148.36 | H13: 12.41 | I13: 0 | J13: 735 | K13: =I13+J13 -> 735 | L13: =(C13*I13)+(H13*J13) -> 9121.35 | P13: 223 | Q13: =H13*P13 -> 2767.43 | S13: 174 | T13: =H13*S13 -> 2159.34 | X13: 183 | Y13: =X13*H13 -> 2271.03 | AB13: 11 | AC13: =AB13*H13 -> 136.51 | AD13: 3 | AE13: =AD13*H13 -> 37.23 | AF13: =AD13 -> 3 | AG13: =AF13*H13 -> 37.23 | AJ13: =AF13 -> 3 | AK13: =AG13 -> 37.23 | AL13: =AJ13 -> 3 | AM13: =AL13*H13 -> 37.23 | AN13: =AL13 -> 3 | AO13: =H13*AN13 -> 37.23 | AP13: =AN13 -> 3 | AQ13: =AO13 -> 37.23 | AR13: =E13+O13+U13+AH13 -> 0
A14: 47403 | B14: SARS-CoV-2 RNS (COVID-19) noteikšana ar "pooling" metodi (10 paraugi) (bez parauga paņemšanas) | C14: 8.26 | D14: 287 | E14: 163222.84 | F14: 19698 | G14: =C14*F14 -> 162705.48 | H14: 7.42 | I14: 13377 | J14: 1 | K14: =I14+J14 -> 13378 | L14: =(C14*I14)+(H14*J14) -> 110501.44 | M14: 438 | N14: 495 | O14: 249410.7 | Q14: =H14*P14 -> 0 | U14: 251455.05 | AB14: =5028+3508+18642 -> 27178 | AC14: =AB14*H14 -> 201660.76 | AD14: =9620+9205+47928 -> 66753 | AE14: =AD14*H14 -> 495307.26 | AF14: =AD14+136000+(101619/2) -> 253562.5 | AG14: =AF14*H14 -> 1881433.8 | AH14: 166273.8 | AJ14: =AD14 -> 66753 | AK14: =AE14 -> 495307.26 | AL14: =AD14 -> 66753 | AM14: =AK14 -> 495307.26 | AN14: =AL14 -> 66753 | AO14: =H14*AN14 -> 495307.26 | AP14: =AN14 -> 66753 | AQ14: =AO14 -> 495307.26 | AR14: =E14+O14+U14+AH14 -> 830362.39
A15: 47408 | B15: SARS-CoV-2 RNS (COVID-19) noteikšana ar "pooling" metodi (4 paraugi) (bez parauga paņemšanas) | C15: 12.69 | H15: 10.63 | I15: 1937 | J15: 5609 | K15: =I15+J15 -> 7546 | L15: =(C15*I15)+(H15*J15) -> 84204.2 | P15: 47736 | Q15: =H15*P15 -> 507433.68 | S15: =5382+15924 -> 21306 | T15: =H15*S15 -> 226482.78 | X15: 20 | Y15: =X15*H15 -> 212.6 | AD15: 3 | AE15: =AD15*H15 -> 31.89 | AF15: =AD15 -> 3 | AG15: =AF15*H15 -> 31.89 | AJ15: =AF15 -> 3 | AK15: =AG15 -> 31.89 | AL15: =AJ15 -> 3 | AM15: =AL15*H15 -> 31.89 | AN15: =AL15 -> 3 | AO15: =H15*AN15 -> 31.89 | AP15: =AN15 -> 3 | AQ15: =AO15 -> 31.89 | AR15: =E15+O15+U15+AH15 -> 0
A16: 47409 | B16: SARS-CoV-2 RNS (COVID-19) noteikšana ar "pooling" metodi (5 paraugi) (bez parauga paņemšanas) | C16: 11.21 | D16: 2257 | E16: 1742032.1 | F16: 75743 | G16: =C16*F16 -> 849079.03 | H16: 9.56 | I16: 51424 | J16: 17815 | K16: =I16+J16 -> 69239 | L16: =(C16*I16)+(H16*J16) -> 746774.44 | M16: 3441 | N16: 3888 | O16: 2658653.3 | P16: =7250+17873+102041 -> 127164 | Q16: =H16*P16 -> 1215687.8 | S16: =45745+18056+31695+94480 -> 189976 | T16: =S16*H16 -> 1816170.6 | U16: 2680445.5 | X16: =44169+23953+38989+73071 -> 180182 | Y16: =X16*H16 -> 1722539.9 | AB16: =10530+7369+16551+22669 -> 57119 | AC16: =AB16*H16 -> 546057.64 | AD16: =20+13083 -> 13103 | AE16: =AD16*H16 -> 125264.68 | AF16: =AD16 -> 13103 | AG16: =AF16*H16 -> 125264.68 | AH16: 1772435.5 | AJ16: =AF16 -> 13103 | AK16: =AG16 -> 125264.68 | AL16: =AJ16 -> 13103 | AM16: =AL16*H16 -> 125264.68 | AN16: =AL16 -> 13103 | AO16: =H16*AN16 -> 125264.68 | AP16: =AN16 -> 13103 | AQ16: =AO16 -> 125264.68 | AR16: =E16+O16+U16+AH16 -> 8853566.4
A17: 47406 | B17: SARS-CoV-2 RNS (COVID-19) noteikšana ar "pooling" metodi (2 paraugi) (bez parauga paņemšanas) | C17: 15.98 | P17: 23332 | Q17: =P17*C17 -> 372845.36 | S17: 1902 | T17: =C17*S17 -> 30393.96 | X17: 9 | Y17: =X17*C17 -> 143.82 | AB17: 2 | AC17: =AB17*C17 -> 31.96 | AD17: =20 -> 20 | AE17: =AD17*C17 -> 319.6 | AF17: =AD17 -> 20 | AG17: =AF17*C17 -> 319.6 | AJ17: =AF17 -> 20 | AK17: =AG17 -> 319.6 | AL17: =AJ17 -> 20 | AM17: =AL17*C17 -> 319.6 | AN17: =AL17 -> 20 | AO17: =C17*AN17 -> 319.6 | AP17: =AN17 -> 20 | AQ17: =AO17 -> 319.6 | AR17: =E17+O17+U17+AH17 -> 0
A18: 47416 | B18: SARS-CoV-2 RNS (COVID-19) apstiprināšana ar reālā laika PĶR (bez parauga paņemšanas) | R18: 2.85 | S18: =2783+1161 -> 3944 | T18: =R18*S18 -> 11240.4 | X18: =2022+2270 -> 4292 | Y18: =X18*R18 -> 12232.2 | AB18: =1536+1446 -> 2982 | AC18: =AB18*R18 -> 8498.7 | AD18: =2055+1490 -> 3545 | AE18: =AD18*2.85 -> 10103.25 | AF18: =AD18 -> 3545 | AG18: =AF18*R18 -> 10103.25 | AJ18: =AF18 -> 3545 | AK18: =AG18 -> 10103.25 | AL18: =X18 -> 4292 | AM18: =AL18*R18 -> 12232.2 | AN18: =P18 -> 0 | AO18: =R18*AN18 -> 0 | AP18: =AN18 -> 0 | AQ18: =AO18 -> 0 | AR18: =E18+O18+U18+AH18 -> 0
A19: 47417 | B19: SARS-CoV-2 vīrusa variantu skrīninga PĶR tests | R19: 33.4 | S19: 128 | T19: =R19*S19 -> 4275.2 | X19: =86+347+173 -> 606 | Y19: =X19*R19 -> 20240.4 | AB19: =76+87 -> 163 | AC19: =AB19*R19 -> 5444.2 | AD19: =222+25 -> 247 | AE19: =AD19*R19 -> 8249.8 | AF19: =AD19 -> 247 | AG19: =AF19*R19 -> 8249.8 | AJ19: =AF19 -> 247 | AK19: =AG19 -> 8249.8 | AL19: =X19 -> 606 | AM19: =AL19*R19 -> 20240.4 | AN19: =P19 -> 0 | AO19: =H19*AN19 -> 0 | AP19: =AN19 -> 0 | AQ19: =AO19 -> 0 | AR19: =E19+O19+U19+AH19 -> 0
A20: 47064R | B20: Kopējo antivielu pret SARS-CoV-2 (COVID-19) noteikšana ar imūnfermentatīvo metodi (ELISA, CMIA, ECLIA, CLIA) | C20: 6.79 | D20: 2 | E20: 935.01536 | F20: 69 | G20: =C20*F20 -> 468.51 | K20: 168 | L20: =C20*K20 -> 1140.72 | M20: 3.049464 | N20: 3 | O20: 1242.57 | P20: 225 | Q20: =P20*C20 -> 1527.75 | S20: 228 | T20: =C20*S20 -> 1548.12 | U20: 1252.755 | X20: 174 | Y20: =X20*C20 -> 1181.46 | AB20: 114 | AC20: =AB20*C20 -> 774.06 | AD20: 1050 | AE20: =AD20*C20 -> 7129.5 | AF20: =AD20 -> 1050 | AG20: =AF20*C20 -> 7129.5 | AH20: 828.38 | AJ20: =AF20 -> 1050 | AK20: =AG20 -> 7129.5 | AL20: =X20 -> 174 | AM20: =AL20*C20 -> 1181.46 | AN20: =P20 -> 225 | AO20: =C20*AN20 -> 1527.75 | AP20: =AN20 -> 225 | AQ20: =AO20 -> 1527.75 | AR20: =E20+O20+U20+AH20 -> 4258.7204
A21: 47047R | B21: IgM klases antivielu pret SARS-CoV-2 (COVID-19) noteikšana ar imūnfermentatīvo metodi (ELISA, CMIA, ECLIA, CLIA) | C21: 13.32 | F21: 814 | G21: =C21*F21 -> 10842.48 | K21: 696 | L21: =C21*K21 -> 9270.72 | P21: 614 | Q21: =P21*C21 -> 8178.48 | S21: 690 | T21: =C21*S21 -> 9190.8 | X21: 498 | Y21: =X21*C21 -> 6633.36 | AB21: 217 | AC21: =AB21*C21 -> 2890.44 | AD21: 3565 | AE21: =AD21*C21 -> 47485.8 | AF21: =AD21 -> 3565 | AG21: =AF21*C21 -> 47485.8 | AJ21: =AF21 -> 3565 | AK21: =AG21 -> 47485.8 | AL21: =X21 -> 498 | AM21: =AL21*C21 -> 6633.36 | AN21: =P21 -> 614 | AO21: =C21*AN21 -> 8178.48 | AP21: =AN21 -> 614 | AQ21: =AO21 -> 8178.48 | AR21: =E21+O21+U21+AH21 -> 0
A22: 47076R | B22: Asins ņemšana ar slēgtu sistēmu vienā stobriņā antivielu pret SARS-CoV-2 (COVID-19) noteikšanai | C22: 1.3 | D22: 17 | E22: 1521.6377 | F22: 665 | G22: =C22*F22 -> 864.5 | K22: 370 | L22: =C22*K22 -> 481 | M22: 26 | N22: 23 | O22: 1823.9 | P22: 348 | Q22: =P22*C22 -> 452.4 | S22: 245 | T22: =C22*S22 -> 318.5 | U22: 1838.85 | X22: 535 | Y22: =X22*C22 -> 695.5 | AB22: 329 | AC22: =AB22*C22 -> 427.7 | AD22: 2560 | AE22: =AD22*C22 -> 3328 | AF22: =AD22 -> 2560 | AG22: =AF22*C22 -> 3328 | AH22: 1215.9333 | AJ22: =AF22 -> 2560 | AK22: =AG22 -> 3328 | AL22: =X22 -> 535 | AM22: =AL22*C22 -> 695.5 | AN22: =P22 -> 348 | AO22: =C22*AN22 -> 452.4 | AP22: =AN22 -> 348 | AQ22: =AO22 -> 452.4 | AR22: =E22+O22+U22+AH22 -> 6400.321
A23: 47077R | B23: SARS-CoV-2 RNS (COVID-19) noteikšana ar reālā laika PĶR (bez parauga paņemšanas) ātrai diagnostikai un diferenciāldiagnostikai - izmeklējums ar Multiplex reaģentiem | C23: 171.06 | D23: 4 | E23: 47111.554 | F23: 128 | G23: =C23*F23 -> 21895.68 | K23: 74 | L23: =C23*K23 -> 12658.44 | M23: 6 | N23: 5 | O23: 52173.3 | P23: 109 | Q23: =P23*C23 -> 18645.54 | S23: 130 | T23: =C23*S23 -> 22237.8 | U23: 52600.95 | X23: 182 | Y23: =X23*C23 -> 31132.92 | AB23: 160 | AC23: =AB23*C23 -> 27369.6 | AD23: 912 | AE23: =AD23*C23 -> 156006.72 | AF23: =AD23 -> 912 | AG23: =AF23*C23 -> 156006.72 | AH23: 34782.2 | AJ23: =AF23 -> 912 | AK23: =AG23 -> 156006.72 | AL23: =X23 -> 182 | AM23: =AL23*C23 -> 31132.92 | AN23: =P23 -> 109 | AO23: =C23*AN23 -> 18645.54 | AP23: =AN23 -> 109 | AQ23: =AO23 -> 18645.54 | AR23: =E23+O23+U23+AH23 -> 186668
A24: 47049R | B24: IgG klases antivielu pret SARS-CoV-2 (COVID-19) noteikšana ar imūnfermentatīvo metodi (ELISA, CMIA, ECLIA, CLIA) | C24: 13.32 | D24: 49 | E24: 44938.573 | F24: 896 | G24: =C24*F24 -> 11934.72 | K24: 853 | L24: =C24*K24 -> 11361.96 | M24: 75 | N24: 65 | O24: 52813.8 | P24: 701 | Q24: =P24*C24 -> 9337.32 | S24: 682 | T24: =C24*S24 -> 9084.24 | U24: 53246.7 | X24: 546 | Y24: =X24*C24 -> 7272.72 | AB24: 279 | AC24: =AB24*C24 -> 3716.28 | AD24: 4061 | AE24: =AD24*C24 -> 54092.52 | AF24: =AD24 -> 4061 | AG24: =AF24*C24 -> 54092.52 | AH24: 35209.2 | AJ24: =AF24 -> 4061 | AK24: =AG24 -> 54092.52 | AL24: =X24 -> 546 | AM24: =AL24*C24 -> 7272.72 | AN24: =P24 -> 701 | AO24: =C24*AN24 -> 9337.32 | AP24: =AN24 -> 701 | AQ24: =AO24 -> 9337.32 | AR24: =E24+O24+U24+AH24 -> 186208.27
A25: 47051R | B25: IgG klases antivielu pret SARS-CoV-2 (COVID-19) kvantitatīva noteikšana ar imūnfermentatīvo metodi (ELISA, CMIA, ECLIA, CLIA) | C25: 20.48 | D25: 8 | E25: 11280.774 | F25: 168 | G25: =C25*F25 -> 3440.64 | K25: 349 | L25: =C25*K25 -> 7147.52 | M25: 12 | N25: 10 | O25: 12492.8 | P25: 428 | Q25: =P25*C25 -> 8765.44 | S25: 453 | T25: =C25*S25 -> 9277.44 | U25: 12595.2 | X25: 278 | Y25: =X25*C25 -> 5693.44 | AB25: 155 | AC25: =AB25*C25 -> 3174.4 | AD25: 1865 | AE25: =AD25*C25 -> 38195.2 | AF25: =AD25 -> 1865 | AG25: =AF25*C25 -> 38195.2 | AH25: 8328.5333 | AI25: 11.63 | AJ25: =AF25 -> 1865 | AK25: =AJ25*11.63 -> 21689.95 | AL25: =X25 -> 278 | AM25: =AL25*11.63 -> 3233.14 | AN25: =P25 -> 428 | AO25: =AN25*11.63 -> 4977.64 | AP25: =AN25 -> 428 | AQ25: =AO25 -> 4977.64 | AR25: =E25+O25+U25+AH25 -> 44697.308
A26: 47046R | B26: IgA klases antivielu pret SARS-CoV-2 (COVID-19) noteikšana ar imūnfermentatīvo metodi (ELISA, CMIA, ECLIA, CLIA) | C26: 13.32 | F26: 43 | G26: =C26*F26 -> 572.76 | K26: 42 | L26: =C26*K26 -> 559.44 | P26: 29 | Q26: =P26*C26 -> 386.28 | S26: 17 | T26: =C26*S26 -> 226.44 | X26: 22 | Y26: =X26*C26 -> 293.04 | AB26: 6 | AC26: =AB26*C26 -> 79.92 | AD26: 165 | AE26: =AD26*C26 -> 2197.8 | AF26: =AD26 -> 165 | AG26: =AF26*C26 -> 2197.8 | AJ26: =AF26 -> 165 | AK26: =AG26 -> 2197.8 | AL26: =X26 -> 22 | AM26: =AL26*C26 -> 293.04 | AN26: =P26 -> 29 | AO26: =C26*AN26 -> 386.28 | AP26: =AN26 -> 29 | AQ26: =AO26 -> 386.28 | AR26: =E26+O26+U26+AH26 -> 0
A27: 60046 | B27: COVID-19 transporta barotne ar diviem lokaniem tamponiem ātrajam molekulārajam testam | C27: 1.49 | F27: 471 | G27: =C27*F27 -> 701.79 | K27: 483 | L27: =C27*K27 -> 719.67 | P27: 574 | Q27: =P27*C27 -> 855.26 | R27: 1.5 | S27: 479 | T27: =R27*S27 -> 718.5 | V27: 5 | W27: 93 | X27: 371 | Y27: =(V27*C27)+((W27+X27)*R27) -> 703.45 | Z27: 1 | AA27: 81 | AB27: 336 | AC27: =(AB27*R27)+(Z27*C27)+(AA27*R27) -> 626.99 | AF27: =AD27 -> 0 | AG27: =AF27*C27 -> 0 | AJ27: =AF27 -> 0 | AK27: =AG27 -> 0 | AL27: =X27 -> 371 | AM27: =AL27*C27 -> 552.79 | AN27: =P27 -> 574 | AO27: =R27*AN27 -> 861 | AP27: =AN27 -> 574 | AQ27: =AO27 -> 861 | AR27: =E27+O27+U27+AH27 -> 0
A28: 47268 | B28: SARS-CoV-2 (COVID-19) antigēna noteikšana (Ag eksprestests) | C28: 14.04 | E28: 11232 | F28: 2218 | G28: =C28*F28 -> 31140.72 | K28: 4055 | L28: =C28*K28 -> 56932.2 | M28: 2000 | N28: 2000 | O28: 28080 | P28: 6357 | Q28: =P28*C28 -> 89252.28 | R28: 9.36 | S28: 4289 | T28: =R28*S28 -> 40145.04 | U28: 28080 | V28: 158 | W28: 5359 | Y28: =(V28*C28)+(W28*R28) -> 52378.56 | Z28: 136 | AA28: 1318 | AB28: =23+225+107+21+718+3886 -> 4980 | AC28: =(AB28*R28)+(Z28*C28)+(AA28*R28) -> 60858.72 | AD28: =25+2285+1381+73+3904+704 -> 8372 | AE28: =AD28*R28 -> 78361.92 | AF28: =AD28 -> 8372 | AG28: =AF28*R28 -> 78361.92 | AH28: 16848 | AJ28: =AF28 -> 8372 | AK28: =AG28 -> 78361.92 | AL28: =X28 -> 0 | AM28: =AL28*C28 -> 0 | AN28: =P28 -> 6357 | AO28: =R28*AN28 -> 59501.52 | AP28: =AN28 -> 6357 | AQ28: =AO28 -> 59501.52 | AR28: =E28+O28+U28+AH28 -> 84240 | AT28: Pavisam kopā 2021. gada testēšanai nepieciešami | AY28: Noņemam nost rezervēto atlikumu, sanāk, ka papildus vajag klāt 2021. gadam
A29: 47328 | B29: SARS-CoV-2 (COVID-19) antigēna noteikšana (Ag eksprestests) (bez reaģenta komplekta vērtības) | R29: 3.67 | S29: 5 | T29: =R29*S29 -> 18.35 | W29: 5 | X29: 4 | Y29: =(W29+X29)*R29 -> 33.03 | AA29: 2 | AB29: 288 | AC29: =(AB29*R29)+(AA29*R29) -> 1064.3 | AF29: =AD29 -> 0 | AG29: =AF29*R29 -> 0 | AJ29: =AF29 -> 0 | AK29: =AG29 -> 0 | AL29: =X29 -> 4 | AM29: =AL29*R29 -> 14.68 | AN29: =P29 -> 0 | AO29: =R29*AN29 -> 0 | AP29: =AN29 -> 0 | AQ29: =AO29 -> 0 | AR29: =E29+O29+U29+AH29 -> 0
A30: 47269 | B30: SARS-CoV-2 RNS (COVID-19) noteikšana ar reālā laika PĶR (bez parauga paņemšanas) ātrai diagnostikai un diferenciāldiagnostikai (bez reaģenta vērtības) | C30: 12.2 | E30: 9760 | K30: 97 | L30: =C30*K30 -> 1183.4 | M30: 2000 | N30: 2000 | O30: 24400 | P30: =30+225 -> 255 | Q30: =P30*C30 -> 3111 | S30: =18+289 -> 307 | T30: =C30*S30 -> 3745.4 | U30: 24400 | V30: 2 | W30: 596 | X30: 118 | Y30: =(X30*C30)+(V30*C30)+(W30*C30) -> 8735.2 | AA30: 48 | AB30: =88+184 -> 272 | AC30: =(AB30*C30)+(AA30*C30) -> 3904 | AF30: =AD30 -> 0 | AG30: =AF30*R30 -> 0 | AH30: 14640 | AJ30: =AF30 -> 0 | AK30: =AG30 -> 0 | AL30: =X30 -> 118 | AM30: =AL30*C30 -> 1439.6 | AN30: =P30 -> 255 | AO30: =C30*AN30 -> 3111 | AP30: =AN30 -> 255 | AQ30: =AO30 -> 3111 | AR30: =E30+O30+U30+AH30 -> 73200
A31: 60173 | B31: Ceļa izdevumi par 10 minūtēm SARS-CoV-2 (COVID-19) parauga paņemšanai pacienta dzīvesvietā | C31: 3.7 | F31: 64107 | G31: =C31*F31 -> 237195.9 | H31: 3.7 | I31: =42713 -> 42713 | J31: =3660 -> 3660 | L31: =(C31*I31)+(H31*J31) -> 171580.1 | P31: 11932 | Q31: =P31*C31 -> 44148.4 | S31: 3068 | T31: =S31*C31 -> 11351.6 | X31: =22+3288 -> 3310 | Y31: =X31*H31 -> 12247 | AB31: =1504 -> 1504 | AC31: =(AB31*H31) -> 5564.8 | AD31: =1292+27 -> 1319 | AE31: =AD31*H31 -> 4880.3 | AF31: =AD31 -> 1319 | AG31: =AF31*H31 -> 4880.3 | AJ31: =(AF31)+(AF31/2) -> 1978.5 | AK31: =AJ31*H31 -> 7320.45 | AL31: =X31*2 -> 6620 | AM31: =AL31*H31 -> 24494 | AN31: =P31*2 -> 23864 | AO31: =H31*AN31 -> 88296.8 | AP31: =AN31 -> 23864 | AQ31: =AO31 -> 88296.8 | AR31: =E31+O31+U31+AH31 -> 0
D32: =SUM(D4:D31) -> 18122 | E32: =SUM(E4:E31) -> 18591065 | F32: =SUM(F4:F31) -> 748544 | G32: =ROUNDUP(SUM(G4:G31),) -> 10275068 | I32: =ROUNDUP(SUM(I4:I31),) -> 479156 | J32: =ROUNDUP(SUM(J4:J31),) -> 143228 | K32: =ROUNDUP(SUM(K4:K31),) -> 583198 | L32: =ROUNDUP(SUM(L4:L31),) -> 8429309 | M32: =SUM(M4:M31) -> 31898.049 | N32: =SUM(N4:N31) -> 30288 | O32: =SUM(O4:O31) -> 22751130 | P32: =ROUNDUP(SUM(P4:P31),) -> 824039 | Q32: =ROUNDUP(SUM(Q4:Q31),) -> 9197996 | S32: =ROUNDUP(SUM(S4:S31),) -> 786196 | T32: =SUM(T4:T31) -> 8151587.2 | U32: =SUM(U4:U31) -> 22937185 | V32: =SUM(V4:V31) -> 179 | W32: =SUM(W4:W31) -> 7416 | X32: =SUM(X4:X31) -> 688945 | Y32: =SUM(Y4:Y31) -> 7354653.4 | Z32: =SUM(Z4:Z31) -> 140 | AA32: =SUM(AA4:AA31) -> 1827 | ... AH32: =SUM(AH4:AH31) -> 15163921 | AJ32: =SUM(AJ4:AJ31) -> 476811.5 | AK32: =SUM(AK4:AK31) -> 5565135.2 | AL32: =SUM(AL4:AL31) -> 592588.2 | AM32: =SUM(AM4:AM31) -> 7610085.2 | AN32: =SUM(AN4:AN31) -> 705999.2 | AO32: =SUM(AO4:AO31) -> 9473656 | AP32: =SUM(AP4:AP31) -> 705999.2 | AQ32: =SUM(AQ4:AQ31) -> 9473656 | AR32: =SUM(AR4:AR31) -> 79443301
AO33: Pieejamais finansējums līdz gada beigām | AR33: =AR32-G32-L32-Y32-Q32-T32-AC32-AE32-AG32 -> 21614627 | AT33: Avanss prioritārajām grupām ar poolo pa 10 (septembris, oktobris, novembris)
A34: (Esošais SKRĪNINGS (nazofaringālais testi) kopā) | F34: =F4+F8+F9+F11+F31 -> 548955 | G34: =G4+G8+G9+G11+G31 -> 8756566.9 | K34: =K4+K8+K9+K11+K31 -> 387501 | L34: =L4+L8+L9+L11+L31 -> 6968003.5 | P34: =P4+P8+P9+P11+P31 -> 401737 | Q34: =Q4+Q8+Q9+Q11+Q31 -> 6141812.3 | S34: =S4+S8+S9+S11+S31 -> 345040 | T34: =T4+T8+T9+T11+T31 -> 5172856.1 | X34: =X4+X8+X9+X11+X31 -> 319993 | Y34: =Y4+Y8+Y9+Y11+Y31 -> 4791171.5 | AB34: =AB4+AB8+AB9+AB11+AB31 -> 210708 | AC34: =AC4+AC8+AC9+AC11+AC31 -> 3048611.5 | AD34: =AD4+AD8+AD9+AD11+AD31 -> 186876 | AE34: =AE4+AE8+AE9+AE11+AE31 -> 2602749.4 | AF34: =AF4+AF8+AF9+AF11+AF31 -> 190151 | AG34: =AG4+AG8+AG9+AG11+AG31 -> 2690126.4 | AJ34: =AJ4+AJ8+AJ9+AJ11+AJ31 -> 285226.5 | AK34: =AK4+AK8+AK9+AK11+AK31 -> 4035189.6 | AL34: =AL4+AL8+AL9+AL11+AL31 -> 419719.2 | AM34: =AM4+AM8+AM9+AM11+AM31 -> 6383863 | AN34: =AN4+AN8+AN9+AN11+AN31 -> 531116.2 | AO34: =AO4+AO8+AO9+AO11+AO31 -> 8225376.7 | AP34: =AP4+AP8+AP9+AP11+AP31 -> 531116.2 | AQ34: =AQ4+AQ8+AQ9+AQ11+AQ31 -> 8225376.7 | AR34: =AC34+AE34+AG34+AK34+AM34+AO34+AQ34 -> 35211293 | AX34: =AK44+AM44+AO44 -> 36945944 | AY34: =AX34-AR33 -> 15331318
A35: BEZ SAMAZINÄJUMA: Covid-19 izmeklējumu izmaksas, izņemot skrīningu | F35: =F8+F9+F10+F19+F23 -> 216551 | G35: =G8+G9+G10+G19+G23 -> 7757487.3 | K35: =K8+K9+K10+K19+K23 -> 183283 | L35: =L8+L9+L10+L19+L23 -> 6201489.6 | P35: =P8+P9+P10+P19+P23 -> 200222 | Q35: =Q8+Q9+Q10+Q19+Q23 -> 5538275.8 | S35: =S8+S9+S10+S19+S23 -> 171775 | T35: =T8+T9+T10+T19+T23 -> 4756821.7 | X35: =X8+X9+X10+X19+X23 -> 158899 | Y35: =Y8+Y9+Y10+Y19+Y23 -> 4464001.2 | AB35: =AB8+AB9+AB10+AB19+AB23 -> 102996 | AC35: =AC8+AC9+AC10+AC19+AC23 -> 2867278.5 | AD35: =AD8+AD9+AD10+AD19+AD23 -> 87984 | AE35: =AE8+AE9+AE10+AE19+AE23 -> 2500454.1 | AF35: =AF8+AF9+AF10+AF19+AF23 -> 95259 | AG35: =AG8+AG9+AG10+AG19+AG23 -> 2780631.1 | AJ35: =AJ8+AJ9+AJ10+AJ19+AJ23 -> 140809 | AK35: =AK8+AK9+AK10+AK19+AK23 -> 4016518.4 | AL35: =AL8+AL9+AL10+AL19+AL23 -> 210852.6 | AM35: =AM8+AM9+AM10+AM19+AM23 -> 6007460.4 | AN35: =AN8+AN9+AN10+AN19+AN23 -> 271723.6 | AO35: =AO8+AO9+AO10+AO19+AO23 -> 7630743.2 | AP35: =AP8+AP9+AP10+AP19+AP23 -> 271723.6 | AQ35: =AQ8+AQ9+AQ10+AQ19+AQ23 -> 7630743.2 | AR35: =AC35+AE35+AG35+AK35+AM35+AO35+AQ35 -> 33433829
B36: B scenārijs: Covid-19 saslimušie (% pret AUGUSTU) | AF36: =#REF! -> #REF! | AJ36: =#REF! -> #REF! | AL36: =#REF! -> #REF! | AN36: =#REF! -> #REF! | AP36: =#REF! -> #REF!
B37: B scenārijs: Covid-19 izmeklējumu izmaksas, izņemot skrīningu | AG37: =AG35*AF36 -> #REF! | AK37: =AK35*AJ36 -> #REF! | AM37: =AM35*AL36 -> #REF! | AO37: =AO35*AN36 -> #REF! | AQ37: =AQ35*AP36 -> #REF! | AR37: =AC37+AE37+AG37+AK37+AM37+AO37+AQ37 -> #REF!
A38: Esošais SKRĪNINGS (siekalu testi) kopā | F38: =F12+F13+F14+F15+F16+F17 -> 192398 | G38: =G12+G13+G14+G15+G16+G17 -> 1340787.8 | K38: =K12+K13+K14+K15+K16+K17 -> 186959 | L38: =L12+L13+L14+L15+L16+L17 -> 1273366.4 | P38: =P12+P13+P14+P15+P16+P17 -> 410807 | Q38: =Q12+Q13+Q14+Q15+Q16+Q17 -> 2812237 | S38: =S12+S13+S14+S15+S16+S17 -> 428108 | T38: =T12+T13+T14+T15+T16+T17 -> 2796766.6 | X38: =X12+X13+X14+X15+X16+X17 -> 360954 | Y38: =Y12+Y13+Y14+Y15+Y16+Y17 -> 2331849 | AB38: =AB12+AB13+AB14+AB15+AB16+AB17 -> 167298 | AC38: =AC12+AC13+AC14+AC15+AC16+AC17 -> 1026726.6 | AD38: =AD12+AD13+AD14+AD15+AD16+AD17 -> 160035 | AE38: =AE12+AE13+AE14+AE15+AE16+AE17 -> 890274.74 | AF38: =AF12+AF13+AF14+AF15+AF16+AF17 -> 533654 | AG38: =AG12+AG13+AG14+AG15+AG16+AG17 -> 2904081.2 | AJ38: =AJ12+AJ13+AJ14+AJ15+AJ16+AJ17 -> 160035 | AK38: =AK12+AK13+AK14+AK15+AK16+AK17 -> 890274.74 | AL38: =AL12+AL13+AL14+AL15+AL16+AL17 -> 160035 | AM38: =AM12+AM13+AM14+AM15+AM16+AM17 -> 890274.74 | AN38: =AN12+AN13+AN14+AN15+AN16+AN17 -> 160035 | AO38: =AO12+AO13+AO14+AO15+AO16+AO17 -> 890274.74 | AP38: =AP12+AP13+AP14+AP15+AP17+AP16 -> 160035 | AQ38: =AQ12+AQ13+AQ14+AQ15+AQ16+AQ17 -> 890274.74 | AR38: =AC38+AE38+AG38+AK38+AM38+AO38+AQ38 -> 8382181.4
A39: Esošais SKRĪNINGS (nazofaringālais testi) kopā | F39: =F34 -> 548955 | G39: =G34 -> 8756566.9 | K39: =K34 -> 387501 | L39: =L34 -> 6968003.5 | P39: =P34 -> 401737 | Q39: =Q34 -> 6141812.3 | S39: =S34 -> 345040 | T39: =T34 -> 5172856.1 | X39: =X34 -> 319993 | Y39: =Y34 -> 4791171.5 | AB39: =AB34 -> 210708 | AC39: =AC34 -> 3048611.5 | AD39: =AD34 -> 186876 | AE39: =AE34 -> 2602749.4 | AF39: =AF34 -> 190151 | AG39: =AG34 -> 2690126.4 | AJ39: =AJ34 -> 285226.5 | AK39: =AK34 -> 4035189.6 | AL39: =AL34 -> 419719.2 | AM39: =AM34 -> 6383863 | AN39: =AN34 -> 531116.2 | AO39: =AO34 -> 8225376.7 | AP39: =AP34 -> 531116.2 | AQ39: =AQ34 -> 8225376.7 | AR39: =AC39+AE39+AG39+AK39+AM39+AO39+AQ39 -> 35211293 | AT39: 2022.gadam papildus nepieciešams par decembri A variants | AX39: =AQ44 -> 14636984
A40: SKRĪNINGS kopā | F40: =F38+F39 -> 741353 | G40: =G38+G39 -> 10097355 | K40: =K38+K39 -> 574460 | L40: =L38+L39 -> 8241369.9 | P40: =P38+P39 -> 812544 | Q40: =Q38+Q39 -> 8954049.3 | S40: =S38+S39 -> 773148 | T40: =T38+T39 -> 7969622.7 | X40: =X38+X39 -> 680947 | Y40: =Y38+Y39 -> 7123020.5 | AB40: =AB38+AB39 -> 378006 | AC40: =AC38+AC39 -> 4075338.1 | AD40: =AD38+AD39 -> 346911 | AE40: =AE38+AE39 -> 3493024.1 | AF40: =AF38+AF39 -> 723805 | AG40: =AG38+AG39 -> 5594207.6 | AH40: =AH38+AH39 -> 0 | AJ40: =AJ38+AJ39 -> 445261.5 | AK40: =AK38+AK39 -> 4925464.4 | AL40: =AL38+AL39 -> 579754.2 | AM40: =AM38+AM39 -> 7274137.7 | AN40: =AN38+AN39 -> 691151.2 | AO40: =AO38+AO39 -> 9115651.5 | AP40: =AP38+AP39 -> 691151.2 | AQ40: =AQ38+AQ39 -> 9115651.5 | AR40: =AK40+AM40+AO40+AQ40 -> 30430905
...

Sheet Skrinings
B1: 0.3 | D1: Maijs | I1: Jūnijs | N1: Jūlijs | T1: Augusts | Y1: Septembis | AD1: Oktobris | AJ1: Novembris | AO1: Decembris
A2: Resors/ strādājošo grupas | B2: Riska grupa | C2: Testu skaits nedēļā | D2: 3.05.-9.05. | E2: 10.05.-16.05. | F2: 17.05.-23.05. | G2: 24.05.-30.05 | H2: Maijs | I2: 31.05-6.06. | J2: 07.06.-13.06. | K2: 14.06.-20.06. | L2: 21.06.-27.06. | M2: Jūnijs | N2: 28.06.-4.07. | O2: 05.07.-11.07. | P2: 12.07.-18.07. | Q2: 19.07.-25.07. | R2: 26.07.-01.08. | S2: Jūlijs | T2: 02.08.-08.08. | U2: 09.08.-15.08. | V2: 16.08.-22.08. | W2: 23.08.-29.08. | X2: Augusts | Y2: 30.08.-5.09. | Z2: 06.09.-12.09. | AA2: 13.09.-19.09. | AB2: 20.09.-26.09. | AC2: Septembris | AD2: 27.09.-3.10. | AE2: 04.10.-10.10. | AF2: 11.10.-17.10. | AG2: 18.10.-24.10. | AH2: 25.10.-31.10. | AI2: Oktobris | AJ2: 01.11.-07.11. | AK2: 08.11.-14.11. | AL2: 15.11.-21.11. | AM2: 22.11.-28.11. | AN2: Novembris | AO2: 29.11.-5.12. | AP2: 06.12.-12.12. | AQ2: 13.12.-19.12. | AR2: 20.12.-26.12. | AS2: 27.12.-02.01. | AT2: Decembris
A3: Slimnīcu darbinieki | B3: I. | H3: 23985 | M3: 23985 | S3: 23985 | X3: 23985 | Y3: 1799 | Z3: 1799 | AA3: 1799 | AB3: 1799 | AC3: =Y3+Z3+AA3+AB3 -> 7196 | AD3: 1439 | AE3: 1439 | AF3: 1439 | AG3: 1439 | AH3: 1439 | AI3: =AD3+AE3+AF3+AG3+AH3 -> 7195 | AJ3: 1799 | AK3: 1799 | AL3: 1799 | AM3: 1799 | AN3: =AJ3+AK3+AL3+AM3 -> 7196 | AO3: 1439 | AP3: 1439 | AQ3: 1439 | AR3: 1439 | AS3: 1439 | AT3: =AO3+AP3+AQ3+AR3+AS3 -> 7195
A4: Ambulatoro iestāžu darbinieki | H4: 23709 | M4: 23709 | S4: 23709 | X4: 23709 | Y4: 1783 | Z4: 1783 | AA4: 1783 | AB4: 1783 | AC4: =Y4+Z4+AA4+AB4 -> 7132 | AD4: 1423 | AE4: 1423 | AF4: 1423 | AG4: 1423 | AH4: 1423 | AI4: =AD4+AE4+AF4+AG4+AH4 -> 7115 | AJ4: 1783 | AK4: 1783 | AL4: 1783 | AM4: 1783 | AN4: =AJ4+AK4+AL4+AM4 -> 7132 | AO4: 1423 | AP4: 1423 | AQ4: 1423 | AR4: 1423 | AS4: 1423 | AT4: =AO4+AP4+AQ4+AR4+AS4 -> 7115
A5: Stacionārā ilgi aprūpējamie pacienti, kuri nav Covid-19 inficēti | H5: 347 | M5: 347 | S5: 347 | X5: 347 | Y5: 26 | Z5: 26 | AA5: 26 | AB5: 26 | AC5: =Y5+Z5+AA5+AB5 -> 104 | AD5: 21 | AE5: 21 | AF5: 21 | AG5: 21 | AH5: 21 | AI5: =AD5+AE5+AF5+AG5+AH5 -> 105 | AJ5: 26 | AK5: 26 | AL5: 26 | AM5: 26 | AN5: =AJ5+AK5+AL5+AM5 -> 104 | AO5: 21 | AP5: 21 | AQ5: 21 | AR5: 21 | AS5: 21 | AT5: =AO5+AP5+AQ5+AR5+AS5 -> 105
A6: Pacientus pavadošās personas | B6: I. | H6: 347 | M6: 347 | S6: 347 | X6: 347 | Y6: 26 | Z6: 26 | AA6: 26 | AB6: 26 | AC6: =Y6+Z6+AA6+AB6 -> 104 | AD6: 21 | AE6: 21 | AF6: 21 | AG6: 21 | AH6: 21 | AI6: =AD6+AE6+AF6+AG6+AH6 -> 105 | AJ6: 26 | AK6: 26 | AL6: 26 | AM6: 26 | AN6: =X6*0.3 -> 104.1 | AO6: 21 | AP6: 21 | AQ6: 21 | AR6: 21 | AS6: 21 | AT6: =AO6+AP6+AQ6+AR6+AS6 -> 105
H7: =SUM(D7:G7) -> 0 | M7: =SUM(I7:L7) -> 0 | S7: =SUM(N7:R7) -> 0 | X7: =SUM(T7:W7) -> 0 | AC7: =SUM(Y7:AB7) -> 0 | AI7: =SUM(AD7:AH7) -> 0 | AN7: =SUM(AJ7:AM7) -> 0 | AT7: =SUM(AO7:AS7) -> 0
A8: NMPD darbinieki, kas strādā uz brigādēm | B8: I. | H8: 2120 | M8: 2120 | S8: 2120 | X8: 2120 | AC8: =X8*0.3 -> 636 | AI8: =X8*0.3 -> 636 | AN8: =X8*0.3 -> 636 | AT8: =X8*0.3 -> 636
A9: Veselības resors: | D9: =SUM(D3:D8) -> 0 | E9: =SUM(E3:E8) -> 0 | F9: =SUM(F3:F8) -> 0 | G9: =SUM(G3:G8) -> 0 | H9: =SUM(H3:H8) -> 50508 | I9: =SUM(I3:I8) -> 0 | J9: =SUM(J3:J8) -> 0 | K9: =SUM(K3:K8) -> 0 | ... AT9: =SUM(AT3:AT8) -> 15156
A10: Skolotāji, skolu darbinieki, kad mācību process notiek klātienē (70% vakc! No septembra) | B10: I. | D10: 14000 | E10: 14000 | F10: 14000 | G10: 14000 | H10: =SUM(D10:G10) -> 56000 | M10: =SUM(I10:L10) -> 0 | S10: =SUM(N10:R10) -> 0 | X10: =SUM(T10:W10) -> 0 | Y10: =G10*0.2 -> 2800 | Z10: 2800 | AA10: 2800 | AB10: 2800 | AD10: 2800 | AE10: 2800 | AF10: 2800 | AG10: 2800 | AH10: 2800 | AJ10: 2800 | AK10: 2800 | AL10: 2800 | AM10: 2800 | AO10: 2800 | AP10: 2800 | AQ10: 2800 | AR10: 2800 | AS10: 2800
A11: Centralizētie eksāmeni - skolotāji, darbinieki, novērotāji, kas nav 11. rindā | D11: 16000 | F11: 1800 | H11: =SUM(D11:G11) -> 17800 | I11: 1200 | J11: 300 | M11: =SUM(I11:L11) -> 1500 | S11: =SUM(N11:R11) -> 0 | X11: =SUM(T11:W11) -> 0 | AC11: =SUM(Y11:AB11) -> 0 | AI11: =SUM(AD11:AH11) -> 0 | AN11: =SUM(AJ11:AM11) -> 0 | AQ11: 1200 | AR11: 800 | AS11: 500
A12: Kultūras jomas izglītības iestādes | H12: =SUM(D12:G12) -> 0 | M12: =SUM(I12:L12) -> 0 | S12: =SUM(N12:R12) -> 0 | X12: =SUM(T12:W12) -> 0 | Y12: 498 | Z12: 498 | AA12: 498 | AB12: 498 | AD12: 498 | AE12: 498 | AF12: 498 | AG12: 498 | AH12: 498 | AJ12: 498 | AK12: 498 | AL12: 498 | AM12: 498 | AO12: 498 | AP12: 498 | AQ12: 498 | AR12: 498 | AS12: 498
A13: Izglītības iestāžu darbinieki, kurās realizē programmas bērniem ar īpašām vajadzībām ar/bez internāta | D13: 3000 | E13: 3000 | F13: 3000 | G13: 3000 | H13: =SUM(D13:G13) -> 12000 | M13: =SUM(I13:L13) -> 0 | S13: =SUM(N13:R13) -> 0 | X13: =SUM(T13:W13) -> 0
A14: Pirmsskola (bērnudārzi) – darbinieki – rudens 25% no pašr. apjoma, jo vakcinējas | D14: 16000 | E14: 16000 | F14: 16000 | G14: 16000 | H14: =SUM(D14:G14) -> 64000 | I14: 16000 | J14: 16000 | K14: 16000 | L14: 16000 | M14: =SUM(I14:L14) -> 64000 | N14: 6000 | O14: 6000 | P14: 6000 | Q14: 6000 | R14: 6000 | S14: =SUM(N14:R14) -> 30000 | T14: 6000 | U14: 6000 | V14: 6000 | W14: 6000 | X14: =SUM(T14:W14) -> 24000
A15: Izglītojamie | B15: I. | C15: CE maijā!!! | D15: 17000 | F15: 6000 | H15: =SUM(D15:G15) -> 23000 | I15: 3000 | K15: 1500 | M15: =SUM(I15:L15) -> 4500 | S15: =SUM(N15:R15) -> 0 | X15: =SUM(T15:W15) -> 0 | Y15: 123246 | Z15: 123246 | AA15: 123246 | AB15: 123246 | AC15: =Y15+Z15+AA15+AB15 -> 492984 | AD15: 246493 | AE15: 246493 | AF15: 246493 | AG15: 246493 | AH15: 246493 | AI15: =AD15+AE15+AF15+AG15+AH15 -> 1232465 | AJ15: 246493 | AK15: 246493 | AL15: 246493 | AM15: 246493 | AN15: =AJ15+AK15+AL15+AM15 -> 985972 | AO15: 246493 | AP15: 246493 | AQ15: 246493 | AR15: 246493 | AS15: 246493 | AT15: =AO15+AP15+AQ15+AR15+AS15 -> 1232465
A16: Pedagogi, skolu tehniskais personāls, t.s. koledžu vid. izglītības programmās, bērnu un jauniešu interešu izglītības iestādēs, pieaugušo neformālās izglītības iestādēs, pirmsskolas izglītības iestādēs, profesionālās ievirzes izglītības iestādēs, profesionālās pamata un vidējās izglītības iestādēs, profesionālās tālākizglītības un pilnveides izglītības iestādēs, speciālās izglītības iestādēs, vispārējās izglītības iestādēs | G16: 6000 | H16: =SUM(D16:G16) -> 6000 | I16: 6000 | J16: 4000 | K16: 2000 | M16: =SUM(I16:L16)+500 -> 12500 | S16: 2500 | X16: =SUM(T16:W16) -> 0 | Y16: 12907 | Z16: 12907 | AA16: 12907 | AB16: 25813 | AC16: =Y16+Z16+AA16+AB16 -> 64534 | AD16: 25813 | AF16: 25813 | AH16: 25813 | AI16: =AD16+AE16+AF16+AG16+AH16 -> 77439 | AK16: 25813 | AM16: 25813 | AN16: =AJ16+AK16+AL16+AM16 -> 51626 | AP16: 25813 | AR16: 25813 | AT16: =AO16+AP16+AQ16+AR16+AS16 -> 51626
A17: Augstskolas | M17: 1500 | S17: 2000 | X17: 2000 | AC17: - | AI17: =SUM(AD17:AH17) -> 0 | AN17: =SUM(AI17:AM17) -> 0 | AT17: =SUM(AO17:AS17) -> 0
A18: Kultūras jomas izglītības iestādes | H18: =SUM(D18:G18) -> 0 | M18: =SUM(I18:L18) -> 0 | S18: =SUM(N18:R18) -> 0 | X18: =SUM(T18:W18) -> 0 | Y18: 663 | Z18: 663 | AA18: 663 | AB18: 663 | AC18: - | AD18: 663 | AE18: 663 | AF18: 663 | AG18: 663 | AH18: 663 | AI18: - | AJ18: 663 | AK18: 663 | AL18: 663 | AM18: 663 | AN18: - | AO18: 663 | AP18: 663 | AQ18: 663 | AR18: 663 | AS18: 663 | AT18: -
A19: Jurista centralizētais eksāmens augstskolās | B19: I. | C19: 300 / maijā - jūnijā | D19: 300 | E19: 300 | F19: 300 | G19: 300 | H19: =SUM(D19:G19) -> 1200 | I19: 300 | J19: 300 | K19: 300 | L19: 300 | M19: =SUM(I19:L19) -> 1200 | S19: =SUM(N19:R19) -> 0 | X19: =SUM(T19:W19) -> 0 | AC19: =SUM(Y19:AB19) -> 0 | AI19: =SUM(AD19:AH19) -> 0 | AN19: =SUM(AJ19:AM19) -> 0 | AT19: =SUM(AO19:AS19) -> 0
A20: Nometnes skolēniem | B20: I. | C20: Jūlijs-augusts | H20: =SUM(D20:G20) -> 0 | M20: =SUM(I20:L20) -> 0 | N20: =(1500+2800)*1.1 + 2500 -> 7230 | O20: =(1500+2800)*1.1 + 2500 -> 7230 | P20: =(1500+2800)*1.1 + 2500 -> 7230 | Q20: =(1500+2800)*1.1 + 2500 -> 7230 | R20: =(1500+2800)*1.1 + 2500 -> 7230 | S20: =SUM(N20:R20) -> 36150 | T20: =(1500+2800)*1.1 + 2500 -> 7230 | U20: =(1500+2800)*1.1 + 2500 -> 7230 | V20: =(1500+2800)*1.1 + 2500 -> 7230 | W20: =(1500+2800)*1.1 + 2500 -> 7230 | X20: =SUM(T20:W20) -> 28920 | AC20: =SUM(Y20:AB20) -> 0 | AI20: =SUM(AD20:AH20) -> 0 | AN20: =SUM(AJ20:AM20) -> 0 | AT20: =SUM(AO20:AS20) -> 0
A21: Sporta nometnes t.sk. skolēniem | B21: I. | C21: Jūlijs-augusts | H21: =SUM(D21:G21) -> 0 | M21: =SUM(I21:L21) -> 0 | N21: 350 | O21: 350 | P21: 350 | Q21: 350 | R21: 350 | S21: =SUM(N21:R21) -> 1750 | T21: 350 | U21: 350 | V21: 350 | W21: 350 | X21: =SUM(T21:W21) -> 1400 | AC21: =SUM(Y21:AB21) -> 0 | AI21: =SUM(AD21:AH21) -> 0 | AN21: =SUM(AJ21:AM21) -> 0 | AT21: =SUM(AO21:AS21) -> 0
A22: Dziesmu svētki | B22: I. | C22: 35.000 10.500 testi periodā augusts-oktobris | H22: =SUM(D22:G22) -> 0 | M22: =SUM(I22:L22) -> 0 | P22: 750 | Q22: 750 | R22: 750 | S22: =SUM(N22:R22) -> 2250 | T22: 750 | U22: 750 | V22: 750 | W22: 750 | X22: =SUM(T22:W22) -> 3000 | Y22: 750 | Z22: 750 | AA22: 750 | AB22: 750 | AC22: =SUM(Y22:AB22) -> 3000 | AD22: 750 | AE22: 750 | AF22: 750 | AI22: =SUM(AD22:AH22) -> 2250 | AN22: =SUM(AJ22:AM22) -> 0 | AT22: =SUM(AO22:AS22) -> 0
A23: Mūzikas, deju skolu beidzēji un skolotāji, kas sniedz klātienes konsultācijas | B23: I. | C23: 4745 | H23: =SUM(D23:G23) -> 0 | M23: =SUM(I23:L23) -> 0 | S23: =SUM(N23:R23) -> 0 | X23: =SUM(T23:W23) -> 0 | AC23: =SUM(Y23:AB23) -> 0 | AI23: =SUM(AD23:AH23) -> 0 | AN23: =SUM(AJ23:AM23) -> 0 | AT23: =SUM(AO23:AS23) -> 0
A24: Izglītības resors: | D24: =SUM(D10:D23) -> 66300 | E24: =SUM(E10:E23) -> 33300 | F24: =SUM(F10:F23) -> 41100 | G24: =SUM(G10:G23) -> 39300 | H24: =SUM(H10:H23) -> 180000 | I24: =SUM(I10:I23) -> 26500 | J24: =SUM(J10:J23) -> 20600 | K24: =SUM(K10:K23) -> 19800 | ... AT24: =SUM(AT10:AT23) -> 1284091
A25: Sociālās aprūpes centra (SAC) darbinieki un klienti, sociālās aprūpes un palīdzības sniedzēji (ārpus SAC) | B25: I. | C25: 39141 | D25: =ROUND(C25/4,0) -> 9785 | E25: 9785 | F25: 9785 | G25: 9785 | H25: =SUM(D25:G25) -> 39140 | I25: 9785 | J25: 9785 | K25: 9785 | L25: 9785 | M25: =SUM(I25:L25) -> 39140 | N25: 9785 | O25: 9785 | P25: 9785 | Q25: 9785 | R25: 9785 | S25: =SUM(N25:R25) -> 48925 | T25: 9785 | U25: 9785 | V25: 9785 | W25: 9785 | X25: =SUM(T25:W25) -> 39140 | Y25: 2935.5 | Z25: 2935.5 | AA25: 2935.5 | AB25: 2935.5 | AC25: 6250 | AD25: 2935.5 | AE25: 2935.5 | AF25: 2935.5 | AG25: 2935.5 | AH25: 2935.5 | AI25: 6250 | AJ25: 2935.5 | AK25: 2935.5 | AL25: 2935.5 | AM25: 2935.5 | AN25: 6250 | AO25: 2935.5 | AP25: 2935.5 | AQ25: 2935.5 | AR25: 2935.5 | AS25: 2935.5 | AT25: 6250
A26: Patversmes (darbinieki) | C26: 505 | D26: 126 | E26: 126 | F26: 126 | G26: 126 | H26: =SUM(D26:G26) -> 504 | I26: 126 | J26: 126 | K26: 126 | L26: 126 | M26: =SUM(I26:L26) -> 504 | N26: 126 | O26: 126 | P26: 126 | Q26: 126 | R26: 126 | S26: =SUM(N26:R26) -> 630 | T26: 126 | U26: 126 | V26: 126 | W26: 126 | X26: =SUM(T26:W26) -> 504 | Y26: 37.8 | Z26: 37.8 | AA26: 37.8 | AB26: 37.8 | AC26: 182 | AD26: 37.8 | AE26: 37.8 | AF26: 37.8 | AG26: 37.8 | AH26: 37.8 | AI26: 182 | AJ26: 37.8 | AK26: 37.8 | AL26: 37.8 | AM26: 37.8 | AN26: 182 | AO26: 37.8 | AP26: 37.8 | AQ26: 37.8 | AR26: 37.8 | AS26: 37.8 | AT26: 182
A27: Bāriņtiesas/ārpus ģimenes atbalsta centri, krīzes audžeģimenes | AC27: 512 | AI27: 512 | AN27: 512 | AT27: 512
A28: Asistenti | AC28: 5321 | AI28: 5321 | AN28: 5321 | AT28: 5321
A29: Pašvaldības sociālie darbinieki, pašvaldības dienas centri | C29: 3758 | D29: =ROUND(3758/4,0) -> 940 | E29: 940 | F29: 940 | G29: 940 | H29: =SUM(D29:G29) -> 3760 | I29: 940 | J29: 940 | K29: 940 | L29: 940 | M29: =SUM(I29:L29) -> 3760 | N29: 940 | O29: 940 | P29: 940 | Q29: 940 | R29: 940 | S29: =SUM(N29:R29) -> 4700 | T29: 940 | U29: 940 | V29: 940 | W29: 940 | X29: =SUM(T29:W29) -> 3760 | Y29: 282 | Z29: 282 | AA29: 282 | AB29: 282 | AC29: 2355 | AD29: 282 | AE29: 282 | AF29: 282 | AG29: 282 | AH29: 282 | AI29: 2355 | AJ29: 282 | AK29: 282 | AL29: 282 | AM29: 282 | AN29: 2355 | AO29: 282 | AP29: 282 | AQ29: 282 | AR29: 282 | AS29: 282 | AT29: 2355
A30: Labklājības resors: | D30: =SUM(D25:D29) -> 10851 | E30: =SUM(E25:E29) -> 10851 | F30: =SUM(F25:F29) -> 10851 | G30: =SUM(G25:G29) -> 10851 | H30: =SUM(H25:H29) -> 43404 | I30: =SUM(I25:I29) -> 10851 | J30: =SUM(J25:J29) -> 10851 | K30: =SUM(K25:K29) -> 10851 | ... AT30: =SUM(AT25:AT29) -> 14620
A31: Pašvaldības policija | B31: I. | C31: 1511 | H31: =SUM(D31:G31) -> 0 | M31: =SUM(I31:L31) -> 0 | S31: =SUM(N31:R31) -> 0 | X31: =SUM(T31:W31) -> 0 | Y31: 0 | AE31: 0 | AJ31: 0 | AP31: 0 | AT31: =SUM(AO31:AS31) -> 0
A32: Valsts policija | B32: II.-III. | C32: 4400 | D32: =C32/4 -> 1100 | E32: 1100 | F32: 1100 | G32: 1100 | H32: =SUM(D32:G32) -> 4400 | I32: 1100 | J32: 1100 | K32: 1100 | L32: 1100 | M32: =SUM(I32:L32) -> 4400 | N32: 1100 | O32: 1100 | P32: 1100 | Q32: 1100 | R32: 1100 | S32: =SUM(N32:R32) -> 5500 | T32: 1100 | U32: 1100 | V32: 1100 | W32: 1100 | X32: =SUM(T32:W32) -> 4400 | Y32: 1320 | Z32: 330 | AA32: 330 | AB32: 330 | AC32: 330 | AD32: 330 | AE32: 1650 | AF32: 330 | AG32: 330 | AH32: 330 | AI32: 330 | AJ32: 1320 | AK32: 330 | AL32: 330 | AM32: 330 | AN32: 330 | AO32: 330 | AP32: 1650 | AQ32: =$W$32*$B$1 -> 330 | AR32: =$W$32*$B$1 -> 330 | AS32: =$W$32*$B$1 -> 330 | AT32: =SUM(AO32:AS32) -> 2970
A33: IeM struktūrvienības | B33: III. | C33: 1142 | D33: 285 | E33: 285 | F33: 285 | G33: 285 | H33: =SUM(D33:G33) -> 1140 | I33: 285 | J33: 285 | K33: 285 | L33: 285 | M33: =SUM(I33:L33) -> 1140 | N33: 285 | O33: 285 | P33: 285 | Q33: 285 | R33: 285 | S33: =SUM(N33:R33) -> 1425 | T33: 285 | U33: 285 | V33: 285 | W33: 285 | X33: =SUM(T33:W33) -> 1140 | Y33: 342 | Z33: 85.5 | AA33: 85.5 | AB33: 85.5 | AC33: 85.5 | AD33: 85.5 | AE33: 427.5 | AF33: 85.5 | AG33: 85.5 | AH33: 85.5 | AI33: 85.5 | AJ33: 342 | AK33: 85.5 | AL33: 85.5 | AM33: 85.5 | AN33: 85.5 | AO33: 85.5 | AP33: 427.5 | AQ33: =$W$33*$B$1 -> 85.5 | AR33: =$W$33*$B$1 -> 85.5 | AS33: =$W$33*$B$1 -> 85.5 | AT33: =SUM(AO33:AS33) -> 769.5
A34: Valsts robežsardze | C34: 700 | D34: =700/4 -> 175 | E34: 175 | F34: 175 | G34: 175 | H34: =SUM(D34:G34) -> 700 | I34: 175 | J34: 175 | K34: 175 | L34: 175 | M34: =SUM(I34:L34) -> 700 | N34: 175 | O34: 175 | P34: 175 | Q34: 175 | R34: 175 | S34: =SUM(N34:R34) -> 875 | T34: 175 | U34: 175 | V34: 175 | W34: 175 | X34: =SUM(T34:W34) -> 700 | Y34: 210 | Z34: 52.5 | AA34: 52.5 | AB34: 52.5 | AC34: 52.5 | AD34: 52.5 | AE34: 262.5 | AF34: 52.5 | AG34: 52.5 | AH34: 52.5 | AI34: 52.5 | AJ34: 210 | AK34: 52.5 | AL34: 52.5 | AM34: 52.5 | AN34: 52.5 | AO34: 52.5 | AP34: 262.5 | AQ34: =$W$34*$B$1 -> 52.5 | AR34: =$W$34*$B$1 -> 52.5 | AS34: =$W$34*$B$1 -> 52.5 | AT34: =SUM(AO34:AS34) -> 472.5
A35: Apsardzes darbinieki | B35: II | C35: 8990 | D35: 2247.5 | E35: 2247.5 | F35: 2247.5 | G35: 2247.5 | H35: =SUM(D35:G35) -> 8990 | I35: 2247.5 | J35: 2247.5 | K35: 2247.5 | L35: 2247.5 | M35: =SUM(I35:L35) -> 8990 | N35: 2247.5 | O35: 2247.5 | P35: 2247.5 | Q35: 2247.5 | R35: 2247.5 | S35: =SUM(N35:R35) -> 11237.5 | T35: 2247.5 | U35: 2247.5 | V35: 2247.5 | W35: 2247.5 | X35: =SUM(T35:W35) -> 8990 | Y35: 2697 | Z35: 674.25 | AA35: 674.25 | AB35: 674.25 | AC35: 674.25 | AD35: 674.25 | AE35: 3371.25 | AF35: 674.25 | AG35: 674.25 | AH35: 674.25 | AI35: 674.25 | AJ35: 2697 | AK35: 674.25 | AL35: 674.25 | AM35: 674.25 | AN35: 674.25 | AO35: 674.25 | AP35: 3371.25 | AQ35: =$W$35*$B$1 -> 674.25 | AR35: =$W$35*$B$1 -> 674.25 | AS35: =$W$35*$B$1 -> 674.25 | AT35: =SUM(AO35:AS35) -> 6068.25
A36: Patvēruma meklētāju izmitināšanas centrs (izmitinātie patvēruma meklētājiem un darbinieki) | B36: II.? | C36: 166 | D36: 42 | E36: 42 | F36: 42 | G36: 42 | H36: =SUM(D36:G36) -> 168 | I36: 42 | J36: 42 | K36: 42 | L36: 42 | M36: =SUM(I36:L36) -> 168 | N36: 43 | O36: 44 | P36: 45 | Q36: 46 | R36: 47 | S36: =SUM(N36:R36) -> 225 | T36: 48 | U36: 49 | V36: 50 | W36: 51 | X36: =SUM(T36:W36) -> 198 | Y36: 214 | Z36: 56 | AA36: 57 | AB36: 58 | AC36: 59 | AD36: 60 | AE36: 290 | AF36: 61 | AG36: 62 | AH36: 63 | AI36: 64 | AJ36: 250 | AK36: 65 | AL36: 66 | AM36: 67 | AN36: 68 | AO36: 69 | AP36: 335 | AQ36: 67 | AR36: 68 | AS36: 69 | AT36: =SUM(AO36:AS36) -> 608
A37: Iekšlietu resors: | D37: =SUM(D31:D36) -> 3849.5 | E37: =SUM(E31:E36) -> 3849.5 | F37: =SUM(F31:F36) -> 3849.5 | G37: =SUM(G31:G36) -> 3849.5 | H37: =SUM(H31:H36) -> 15398 | I37: =SUM(I31:I36) -> 3849.5 | J37: =SUM(J31:J36) -> 3849.5 | K37: =SUM(K31:K36) -> 3849.5 | ... AT37: =SUM(AT31:AT36) -> 10888.25
A38: Sabiedriskās ēdināšanas nozares darbinieki | B38: I. | C38: 30845 | D38: 7711 | E38: 7711 | F38: 7711 | G38: 7711 | H38: =SUM(D38:G38) -> 30844 | I38: 7711 | J38: 7711 | K38: 7711 | L38: 7711 | M38: =SUM(I38:L38) -> 30844 | N38: 7711 | O38: 7711 | P38: 7711 | Q38: 7711 | R38: 7711 | S38: =SUM(N38:R38) -> 38555 | T38: 7711 | U38: 7711 | V38: 7711 | W38: 7711 | X38: =SUM(T38:W38) -> 30844 | Y38: =$W$38*$B$1 -> 2313.3 | Z38: =$W$38*$B$1 -> 2313.3 | AA38: =$W$38*$B$1 -> 2313.3 | AB38: =$W$38*$B$1 -> 2313.3 | AC38: =SUM(Y38:AB38) -> 9253.2 | AD38: =$W$38*$B$1 -> 2313.3 | AE38: =$W$38*$B$1 -> 2313.3 | AF38: =$W$38*$B$1 -> 2313.3 | AG38: =$W$38*$B$1 -> 2313.3 | AH38: =$W$38*$B$1 -> 2313.3 | AI38: =SUM(AD38:AH38) -> 11566.5 | AJ38: =$W$38*$B$1 -> 2313.3 | AK38: =$W$38*$B$1 -> 2313.3 | AL38: =$W$38*$B$1 -> 2313.3 | AM38: =$W$38*$B$1 -> 2313.3 | AN38: =SUM(AJ38:AM38) -> 9253.2 | AO38: =$W$38*$B$1 -> 2313.3 | AP38: =$W$38*$B$1 -> 2313.3 | AQ38: =$W$38*$B$1 -> 2313.3 | AR38: =$W$38*$B$1 -> 2313.3 | AS38: =$W$38*$B$1 -> 2313.3 | AT38: =SUM(AO38:AS38) -> 11566.5
A39: Zvēraudzētāju nozares darbinieki | B39: I. | C39: 106 | D39: 106 | E39: 106 | F39: 106 | G39: 106 | H39: =SUM(D39:G39) -> 424 | I39: 106 | J39: 106 | K39: 106 | L39: 106 | M39: =SUM(I39:L39) -> 424 | N39: 106 | O39: 106 | P39: 106 | Q39: 106 | R39: 106 | S39: =SUM(N39:R39) -> 530 | T39: 106 | U39: 106 | V39: 106 | W39: 106 | X39: =SUM(T39:W39) -> 424 | Y39: =$W$39*$B$1 -> 31.8 | Z39: =$W$39*$B$1 -> 31.8 | AA39: =$W$39*$B$1 -> 31.8 | AB39: =$W$39*$B$1 -> 31.8 | AC39: =SUM(Y39:AB39) -> 127.2 | AD39: =$W$39*$B$1 -> 31.8 | AE39: =$W$39*$B$1 -> 31.8 | AF39: =$W$39*$B$1 -> 31.8 | AG39: =$W$39*$B$1 -> 31.8 | AH39: =$W$39*$B$1 -> 31.8 | AI39: =SUM(AD39:AH39) -> 159 | AJ39: =$W$39*$B$1 -> 31.8 | AK39: =$W$39*$B$1 -> 31.8 | AL39: =$W$39*$B$1 -> 31.8 | AM39: =$W$39*$B$1 -> 31.8 | AN39: =SUM(AJ39:AM39) -> 127.2 | AO39: =$W$39*$B$1 -> 31.8 | AP39: =$W$39*$B$1 -> 31.8 | AQ39: =$W$39*$B$1 -> 31.8 | AR39: =$W$39*$B$1 -> 31.8 | AS39: =$W$39*$B$1 -> 31.8 | AT39: =SUM(AO39:AS39) -> 159
A40: PVD darbinieki | B40: I. | C40: 423 | D40: 212 | F40: 212 | H40: =SUM(D40:G40) -> 424 | I40: 212 | K40: 212 | M40: =SUM(I40:L40) -> 424 | S40: =SUM(N40:R40) -> 0 | X40: =SUM(T40:W40) -> 0 | AC40: =SUM(Y40:AB40) -> 0 | AI40: =SUM(AD40:AH40) -> 0 | AN40: =SUM(AJ40:AM40) -> 0 | AT40: =SUM(AO40:AS40) -> 0
...

Sheet Konsilijs
F2: ALGA no 2021. gada | O2: U | P2: A | Q2: n
F3: 1862 | G3: 1117 | H3: 745 | I3: VSAOI | O3: 0.3133 | P3: 0.0251 | Q3: 0.0401
E4: EURO | F4: =ROUND((F3/9600),4) -> 0.194 | G4: =ROUND((G3/9600),4) -> 0.1164 | H4: =ROUND((H3/9600),4) -> 0.0776 | I4: 0.2359
A7: Manip. kods (ja ir iezīmēts) | B7: Manipulācijas plānotais nosaukums | C7: Darba laiks (minūtes) | F7: Darba samaksa D, euro | I7: Valsts sociālās adrošināšanas obligātās iemaksas S, euro | J7: Ārstniecības līdzekļi M, euro | M7: Iekārtu nolietojums N, euro | N7: Citi pieskaitāmie izdevumi, u', euro | O7: Pieskaitāmās un netiešās ražošanas izmaksas U, euro | P7: Administratīvās izmaksas A, euro | Q7: Pārējo pamatlīdzekļu amortizācija n, euro | R7: Tarifs, euro
C8: ārstam | D8: māsai | E8: jaunākajam personālām | F8: ārstam | G8: māsai | H8: jaunākajam personālam | I8: ārstam, māsai un jaunākajam personālām kopā | J8: M kopā | K8: Medikamenti / reaģenti | L8: Materiāli | S8: Plānoto pacientu skaits | T8: Finanšu ietekme
A9: 1 | B9: 2 | C9: 3 | D9: 4 | E9: 5 | F9: 6 | G9: 7 | H9: 8 | I9: 9 | J9: 10 = 11 + 12 | K9: 11 | L9: 12 | M9: 13 | N9: 14 | O9: 15 | P9: 16 | Q9: 17 | R9: 18
A10: JAUNA | B10: Ārstu konsīlijs (3 speciālisti) pacientam, kuram ir kontrindicēta Covid-19 vakcinācija. Iekļauta samaksa par visu konsīlijā iesaistīto darbu. Vienam pacientam vienu reizi norāda konsīlija vadītājs. | C10: 360 | D10: 50 | E10: 0 | F10: =ROUND(C10*F$4,2) -> 69.84 | G10: =ROUND(D10*G$4,2) -> 5.82 | H10: =ROUND(E10*H$4,2) -> 0 | I10: =ROUND((F10+G10+H10)*$I$4,2) -> 17.85 | J10: =L10+K10 -> 0.88 | K10: 0 | L10: 0.88 | M10: 0 | N10: 0 | O10: =ROUND(($F$10+$G$10+$H$10)*O$3,2) -> 23.7 | P10: =ROUND(($F$10+$G$10+$H$10)*P$3,2) -> 1.9 | Q10: =ROUND(($F$10+$G$10+$H$10)*Q$3,2) -> 3.03 | R10: =F10+G10+H10+I10+J10+M10+N10+O10+P10+Q10 -> 123.02 | S10: 100 | T10: =R10*S10 -> 12302
A11: JAUNA | B11: Piemaksa manipulācijai JAUNA par katru nākamo speciālistu pirmreizējā vai atkārotā konsīlijā pacientam, kuram ir kontrindicēta Covid-19 vakcinācija. Vienam pacientam vienu reizi norāda konsīlija vadītājs. | C11: 120 | D11: 0 | E11: 0 | F11: =ROUND(C11*F$4,2) -> 23.28 | G11: =ROUND(D11*G$4,2) -> 0 | H11: =ROUND(E11*H$4,2) -> 0 | I11: =ROUND((F11+G11+H11)*$I$4,2) -> 5.49 | J11: 0 | K11: 0 | L11: 0 | M11: 0 | N11: 0 | O11: =ROUND(($F$11+$G$11+$H$11)*O$3,2) -> 7.29 | P11: =ROUND(($F$11+$G$11+$H$11)*P$3,2) -> 0.58 | Q11: =ROUND(($F$11+$G$11+$H$11)*Q$3,2) -> 0.93 | R11: =F11+G11+H11+I11+J11+M11+N11+O11+P11+Q11 -> 37.57 | S11: 50 | T11: =R11*S11 -> 1878.5
A12: JAUNA | B12: Piemaksa ģimenes ārstam par dokumentācijas un nosūtījuma sagatavošanu, un personas pieteikšanu uz Covid-19 vakcinācijas veikšanu dienas stacionārā personām, kurām vakcinācija tiek veikta, ievērojot īpašu piesardzību. | C12: 30 | D12: 0 | E12: 0 | F12: =ROUND(C12*F$4,2) -> 5.82 | G12: =ROUND(D12*G$4,2) -> 0 | H12: =ROUND(E12*H$4,2) -> 0 | I12: =ROUND((F12+G12+H12)*$I$4,2) -> 1.37 | J12: =L12+K12 -> 0 | K12: 0 | L12: 0 | M12: 0 | N12: 0 | O12: =ROUND(($F$12+$G$12+$H$12)*O$3,2) -> 1.82 | P12: =ROUND(($F$12+$G$12+$H$12)*P$3,2) -> 0.15 | Q12: =ROUND(($F$12+$G$12+$H$12)*Q$3,2) -> 0.23 | R12: =F12+G12+H12+I12+J12+M12+N12+O12+P12+Q12 -> 9.39 | S12: 100 | T12: =R12*S12 -> 939
T13: =SUM(T10:T12) -> 15119.5
