Workbook
Name _1_2_d_NMP_lim: #REF!
Name aa: #REF!
Name aa: #REF!
Name b: #REF!
Name b: #REF!
Name bt: #REF!
Name bt: #REF!
Name BX: #REF!
Name BX: #REF!
Name CalendarYear: #REF!
Name CalendarYear: #REF!
Name ccc: #REF!
Name d: #REF!
Name D_Evija3: #REF!
Name DaysAndWeeks: {0,1,2,3,4,5,6} + {0;1;2;3;4;5}*7
Name DaysAndWeeks: {0,1,2,3,4,5,6} + {0;1;2;3;4;5}*7
Name de: #REF!
Name dff: #NAME?
Name DRGNAMES: #REF!
Name e: #REF!
Name ee: #REF!
Name Excel_BuiltIn__FilterDatabase_2: #REF!
Name Excel_BuiltIn__FilterDatabase_3: #REF!
Name Excel_BuiltIn_Print_Titles_2: #REF!
Name Excel_BuiltIn_Print_Titles_3: #REF!
Name gad_skaits: #REF!
Name gad_skaits_1: #REF!
Name gggg: #REF!
Name ghy: #REF!
Name h: #REF!
Name hh: #REF!
Name hjh: #REF!
Name hyh: #REF!
Name i: #REF!
Name izm.kods: #REF!
Name izm.kods_1: [2]izm.posteni!$A$2:$A$216
Name izm.nos: #REF!
Name izm.nos: #REF!
Name izm.nos_1: [2]izm.posteni!$B$2:$B$216
Name jhg: #REF!
Name jhg: #REF!
Name kk: #REF!
Name kk: #REF!
Name l: #REF!
Name l: #REF!
Name Limeni_7_9group: #REF!
Name n: #REF!
Name n: #REF!
Name P_Dati_rikojums: #REF!
Name P_Dati_rikojums: #REF!
Name pp: #REF!
Name pp: #REF!
Name Recover: [3]Macro1!$A$80
Name Rikojums2222: [4]Macro1!$A$106
Name rr: #REF!
Name rr: #REF!
Name rt: #REF!
Name rt: #REF!
Name rty: #REF!
Name rty: #REF!

Sheet test_sept_dec
C1: JANVĀRIS | H1: FEBRUĀRIS | M1: MARTS | R1: APRĪLIS | U1: MAIJS | Z1: JŪNIJS | AD1: JŪLIJS | AF1: Augusts | AH1: Septembris | AL1: Oktobris | AN1: Novembris | AP1: Decembris
E2: 1.1669895 | M2: =N2/7743 -> 1.524732 | N2: =ROUND(SUM(((16300*5)+(10900*2))/7)*0.8,0) -> 11806
A3: Manipulācijas kods | B3: Manipulācijas nosaukums | C3: Tarifs | D3: Manipulāciju skaits 2020.gada decembrī dienā | E3: Nepieciešamais finansējums testu skaitam 2021.gada janvāris un februāris pie 9036 analīzēm vidēji dienā (59 dienas) euro | F3: Veikto manipulāciju skaits janvārī (fakts) | G3: Faktiskās izmaksas par janvārī veiktajām manipulācijām, euro | H3: Tarifs no 22.02.2021 | I3: Veikto manipulāciju skaits februārī (fakts) līdz 21.02.2021 | J3: Veikto manipulāciju skaits februārī (fakts) no 22.02.2021 | K3: Veikto manipulāciju skaits februārī (fakts) | L3: Faktiskās izmaksas par februārī veiktajām manipulācijām,euro | M3: Manipulāciju skaits 2020.gada martā dienā (proporcija 67/33%) | N3: Manipulāciju skaits 2020.gada martā dienā (proporcija 54/46%) | O3: Nepieciešamais finansējums testu skaitam no 2021.gada marts, aprīlis (61 dienas) euro (testēšanas apjoms dienā sastāda 11 806) | P3: Veikto manipulāciju skaits martā (fakts) | Q3: Faktiskās izmaksas par martā veiktajām manipulācijām, euro | R3: Tarifs no 01.04.2021 | S3: Veikto manipulāciju skaits aprīlī (fakts) | T3: Faktiskās izmaksas par aprīlī veiktajām manipulācijām,euro | U3: Nepieciešamais finansējums testu skaitam no 2021.gada maijs līdz augustam (123 dienas) euro (testēšanas apjoms dienā sastāda 5 903) | V3: Stacionārā veikto manipulāciju skaits līdz 1.aprīlim (fakts), izrakstīšanas datums maijs | W3: Stacionārā veikto manipulāciju skaits no 1 aprīļa (fakts), izrakstīšanas datums maijs | X3: Veikto manipulāciju skaits maijā (fakts) | Y3: Faktiskās izmaksas par maijā veiktajām manipulācijām,euro | Z3: Stacionārā veikto manipulāciju skaits līdz 1.aprīlim (fakts) | AA3: Stacionārā veikto manipulāciju skaits no 1 aprīļa (fakts), izrakstīšanas datums jūnijs | AB3: Veikto manipulāciju skaits jūnijā (fakts) | AC3: Faktiskās izmaksas par jūnijā veiktajām manipulācijām, euro | AD3: Veikto manipulāciju skaits jūlijā (fakts) | AE3: Faktiskās izmaksas par aprīlī veiktajām manipulācijām,euro | AF3: Veikto manipulāciju skaits augustā (indikatīvi) | AG3: Izmaksas par veiktajām manipulācijām augustā, euro | AH3: Nepieciešamais finansējums testu skaitam no 2021.gada septembra līdz decembrim (122 dienas) euro (testēšanas apjoms dienā sastāda 3 935) | AI3: Tarifs no 01.09.2021 | AJ3: Veikto manipulāciju skaits septembrī (indikatīvi) | AK3: Izmaksas par veiktajām manipulācijām septembrī, euro | AL3: Veikto manipulāciju skaits oktobrī (indikatīvi) | AM3: Izmaksas par veiktajām manipulācijām oktobrī, euro | AN3: Veikto manipulāciju skaits novembrī (indikatīvi) | AO3: Izmaksas par veiktajām manipulācijām novembrī, euro | AP3: Veikto manipulāciju skaits decembrī (indikatīvi) | AQ3: Izmaksas par veiktajām manipulācijām decembrī, euro | AR3: Izmaksas gadā (plāns), EUR
A4: 47060 | B4: SARS-CoV-2 (COVID-19) ambulatora parauga(nazofaringāla uztriepe) paņemšana laboratorijā | C4: 4.86 | D4: 3349 | E4: 1120651 | F4: =7775+9693+20878+2651+53191+31533 -> 125721 | G4: =C4*F4 -> 611004.06 | H4: 4.86 | I4: =6679+4857+13306+2099+32141+19878 -> 78960 | J4: =1591+1400+4522+812+10163+6288 -> 24776 | K4: =I4+J4 -> 103736 | L4: =(C4*I4)+(H4*J4) -> 504156.96 | M4: 5106 | N4: 4442 | O4: 1316875.3 | P4: =6329+8261+20619+3258+43055+26874+1 -> 108397 | Q4: =H4*P4 -> 526809.42 | R4: 4.13 | S4: =4529+6184+20809+1355+38094+21287+242 -> 92500 | T4: =R4*S4 -> 382025 | U4: 1327669.4 | X4: =2201+3746+682+20974+4+34903+18208 -> 80718 | Y4: =X4*R4 -> 333365.34 | AB4: =1363+4000+13032+22059+11399+1+91 -> 51945 | AC4: =AB4*R4 -> 214532.85 | AD4: =1239+4296+12369+21453+11848+360 -> 51565 | AE4: =AD4*R4 -> 212963.45 | AF4: =AD4 -> 51565 | AG4: =AF4*R4 -> 212963.45 | AH4: 877916.88 | AJ4: =(AF4)+(AF4/2) -> 77347.5 | AK4: =AJ4*R4 -> 319445.17 | AL4: =X4+(246493*0.1)*2 -> 130016.6 | AM4: =AL4*R4 -> 536968.56 | AN4: =P4+(246493*0.1)*2 -> 157695.6 | AO4: =R4*AN4 -> 651282.83 | AP4: =AN4 -> 157695.6 | AQ4: =AO4 -> 651282.83 | AR4: =E4+O4+U4+AH4 -> 4643112.6
A5: 47259 | B5: SARS-CoV-2 RNS (COVID-19) parauga paņemšana mājās | C5: 25.83 | D5: 175 | AJ5: =AF5 -> 0 | AK5: =AG5 -> 0 | AL5: =X5 -> 0 | AM5: =AL5*R5 -> 0 | AN5: =P5 -> 0 | AO5: =R5*AN5 -> 0 | AP5: =AN5 -> 0 | AQ5: =AO5 -> 0 | AR5: =E5+O5+U5+AH5 -> 0
A6: 60162 | B6: manipulācija 47259 aizvietota ar 60162 | C6: 5.13 | E6: 61812.227 | M6: 267 | N6: 232 | O6: 72599.76 | U6: 73194.84 | AH6: 48399.84 | AJ6: =AF6 -> 0 | AK6: =AG6 -> 0 | AL6: =X6 -> 0 | AM6: =AL6*R6 -> 0 | AN6: =P6 -> 0 | AO6: =R6*AN6 -> 0 | AP6: =AN6 -> 0 | AQ6: =AO6 -> 0 | AR6: =E6+O6+U6+AH6 -> 256006.67
A7: 6014 | B7: manipulācija 47259 aizvietota ar 6014 - ceļš par 10.min uz pacienta dzīvesvietu. | C7: 2.73 | E7: 32894.226 | M7: 267 | N7: 232 | O7: 38634.96 | U7: 38951.64 | AH7: 25756.64 | AJ7: =AF7 -> 0 | AK7: =AG7 -> 0 | AL7: =X7 -> 0 | AM7: =AL7*R7 -> 0 | AN7: =P7 -> 0 | AO7: =R7*AN7 -> 0 | AP7: =AN7 -> 0 | AQ7: =AO7 -> 0 | AR7: =E7+O7+U7+AH7 -> 136237.47
A8: 47073 | B8: SARS-CoV-2 RNS (COVID-19) noteikšana ar reālā laika PĶR (bez parauga paņemšanas) | C8: 34.81 | D8: 5121 | E8: 12273764 | F8: =15507+8179+19927+5273+81422+60710+88 -> 191106 | G8: =C8*F8 -> 6652399.9 | H8: 26.68 | I8: =12786+5426+13306+3550+51159+35120+198 -> 121545 | J8: =3287+4533+4522+1263+15406+10730+108 -> 39849 | K8: =I8+J8 -> 161394 | L8: =(C8*I8)+(H8*J8) -> 5294152.8 | M8: 7808 | N8: 6793 | O8: 14424324 | P8: =15469+21959+20619+4831+67964+47832+661+73 -> 179408 | Q8: =H8*P8 -> 4786605.4 | S8: =13821+7966+20809+4042+59739+44344+783+81+176 -> 151761 | T8: =H8*S8 -> 4048983.5 | U8: 14542556 | X8: =11937+4217+156+555+20974+4157+58442+38775+707 -> 139920 | Y8: =X8*H8 -> 3733065.6 | AB8: =9481+4150+13032+2839+39437+24739+118+76+653 -> 94525 | AC8: =AB8*H8 -> 2521927 | AD8: =8727+4637+12369+2574+33172+22258+623+230+342 -> 84932 | AE8: =AD8*H8 -> 2265985.8 | AF8: =AD8+3275 -> 88207 | AG8: =AF8*H8 -> 2353362.8 | AH8: 9616216.1 | AJ8: =(AF8)+(AF8/2) -> 132310.5 | AK8: =AJ8*H8 -> 3530044.1 | AL8: =X8+(146493*0.1)*2 -> 169218.6 | AM8: =AL8*H8 -> 4514752.2 | AN8: =P8+(246493*0.1)*2 -> 228706.6 | AO8: =H8*AN8 -> 6101892.1 | AP8: =AN8 -> 228706.6 | AQ8: =AO8 -> 6101892.1 | AR8: =E8+O8+U8+AH8 -> 50856861
A9: 47075 | B9: SARS-CoV-2 RNS (COVID-19) apstiprināšana ar reālā laika PĶR (bez parauga paņemšanas) | C9: 41.84 | D9: 678 | E9: 1953171.3 | F9: =98+2439+1349+8477+11231+4 -> 23598 | G9: =C9*F9 -> 987340.32 | H9: 33.4 | I9: =264+1085+1866+7233+5117+1 -> 15566 | J9: =45+329+549+2472+1303 -> 4698 | K9: =I9+J9 -> 20264 | L9: =(C9*I9)+(H9*J9) -> 808194.64 | M9: 1034 | N9: 900 | O9: 2297016 | P9: =2159+1773+2156+6+8323+4429+4 -> 18850 | Q9: =H9*P9 -> 629590 | S9: =243+2001+1303+2858+7555+4279+66 -> 18305 | T9: =H9*S9 -> 611387 | U9: 2315844 | X9: =2989+1034+132+2937+7443+3284 -> 17819 | Y9: =X9*H9 -> 595154.6 | AB9: =2601+240+740+2116+949+15 -> 6661 | AC9: =AB9*H9 -> 222477.4 | AD9: =73+53+291+593+388+23 -> 1421 | AE9: =AD9*H9 -> 47461.4 | AF9: =AD9 -> 1421 | AG9: =AF9*H9 -> 47461.4 | AH9: 1531344 | AJ9: =(AF9)+(AF9/2) -> 2131.5 | AK9: =AJ9*H9 -> 71192.1 | AL9: =X9*2 -> 35638 | AM9: =AL9*H9 -> 1190309.2 | AN9: =P9*2 -> 37700 | AO9: =H9*AN9 -> 1259180 | AP9: =AN9 -> 37700 | AQ9: =AO9 -> 1259180 | AR9: =E9+O9+U9+AH9 -> 8097375.3
A10: 47078 | B10: SARS-CoV-2 RNS (COVID-19) noteikšana ar reālā laika PĶR (bez parauga paņemšanas) ātrai diagnostikai un diferenciāldiagnostikai (ar reaģenta vērtību) | C10: 55.76 | D10: 17 | E10: 65266.551 | F10: =147+370+1201+1 -> 1719 | G10: =C10*F10 -> 95851.44 | H10: 55.76 | I10: =28+114 -> 142 | J10: =14+55+1340 -> 1409 | K10: =I10+J10 -> 1551 | L10: =(C10*I10)+(H10*J10) -> 86483.76 | M10: 26 | N10: 23 | O10: 78231.28 | P10: =48+217+1590 -> 1855 | Q10: =H10*P10 -> 103434.8 | R10: 48.2 | S10: =50+261+5+1135 -> 1451 | T10: =R10*S10 -> 69938.2 | U10: 78872.52 | V10: 14 | W10: 1363 | X10: =61+2+309 -> 372 | Y10: =(X10*R10)+(V10*C10)+(W10*R10) -> 84407.64 | Z10: 3 | AA10: 378 | AB10: =76+61+332+1018 -> 1487 | AC10: =(AB10*R10)+(Z10*H10)+(AA10*R10) -> 90060.28 | AD10: =80+329+11+52 -> 472 | AE10: =AD10*R10 -> 22750.4 | AF10: 4472 | AG10: =AF10*R10 -> 215550.4 | AH10: 52154.187 | AJ10: 5208 | AK10: =AJ10*R10 -> 251025.6 | AL10: 5208 | AM10: =AL10*R10 -> 251025.6 | AN10: 5208 | AO10: =R10*AN10 -> 251025.6 | AP10: =AN10 -> 5208 | AQ10: =AO10 -> 251025.6 | AR10: =E10+O10+U10+AH10 -> 274524.54
A11: 47079 | B11: SARS-CoV-2 (COVID-19) transporta barotne ar diviem lokaniem tamponiem | C11: 1.86 | D11: 3613 | E11: 462700.41 | F11: =10680+9693+23369+4039+81115+15527 -> 144423 | G11: =C11*F11 -> 268626.78 | H11: 1.86 | I11: =9815+4857+13306+2924+45248+8927 -> 85077 | J11: =2713+1400+4522+1029+4288+3078 -> 17030 | K11: =I11+J11 -> 102107 | L11: =(C11*I11)+(H11*J11) -> 189919.02 | M11: 5509 | N11: 4793 | O11: 543813.78 | P11: =11704+8261+20619+4752+21839+15975 -> 83150 | Q11: =H11*P11 -> 154659 | R11: 1.5 | S11: =9840+6184+20809+4232+20896+17203+242 -> 79406 | T11: =R11*S11 -> 119109 | U11: 548271.27 | X11: =8869+3746+687+20974+22693+16866+4391 -> 78226 | Y11: =X11*R11 -> 117339 | AB11: =6926+4001+13032+3164+16996+11863+91 -> 56073 | AC11: =AB11*R11 -> 84109.5 | AD11: =7034+4296+12369+2936+11171+9468+365 -> 47639 | AE11: =AD11*R11 -> 71458.5 | AF11: =AD11 -> 47639 | AG11: =AF11*R11 -> 71458.5 | AH11: 362542.52 | AJ11: =(AF11)+(AF11/2) -> 71458.5 | AK11: =AJ11*R11 -> 107187.75 | AL11: =X11 -> 78226 | AM11: =AL11*R11 -> 117339 | AN11: =P11 -> 83150 | AO11: =R11*AN11 -> 124725 | AP11: =AN11 -> 83150 | AQ11: =AO11 -> 124725 | AR11: =E11+O11+U11+AH11 -> 1917328
A12: 47405 | B12: Siekalu parauga paņemšanas komplekts SARS-CoV-2 (COVID-19) izmeklējumam | C12: 3.36 | D12: 2545 | E12: 588770.5 | F12: =925+317+19698+75743 -> 96683 | G12: =C12*F12 -> 324854.88 | H12: 3.36 | I12: =1654+15337+51424 -> 68415 | J12: =3464+735+5632+17815 -> 27646 | K12: =I12+J12 -> 96061 | L12: =(C12*I12)+(H12*J12) -> 322764.96 | M12: 3880 | N12: 4384 | O12: 898544.64 | P12: =44479+18096+47736+102041 -> 212352 | Q12: =H12*P12 -> 713502.72 | S12: =54421+18230+47619+94480 -> 214750 | T12: =S12*H12 -> 721560 | U12: 905909.76 | X12: =44364+24136+38989+73071 -> 180560 | Y12: =X12*H12 -> 606681.6 | AB12: =15736+9390+16551+41311 -> 82988 | AC12: =AB12*H12 -> 278839.68 | AD12: =9914+9228+13083+47928 -> 80153 | AE12: =AD12*H12 -> 269314.08 | AF12: =AD12+136000+(101619/2) -> 266962.5 | AG12: =AF12*H12 -> 896994 | AH12: 599029.76 | AJ12: =AD12 -> 80153 | AK12: =AE12 -> 269314.08 | AL12: =AD12 -> 80153 | AM12: =AL12*H12 -> 269314.08 | AN12: =AL12 -> 80153 | AO12: =H12*AN12 -> 269314.08 | AP12: =AN12 -> 80153 | AQ12: =AO12 -> 269314.08 | AR12: =E12+O12+U12+AH12 -> 2992254.7
A13: 47407 | B13: SARS-CoV-2 RNS (COVID-19) noteikšana ar "pooling" metodi (3 paraugi) (bez parauga paņemšanas) | C13: 15.14 | F13: 274 | G13: =C13*F13 -> 4148.36 | H13: 12.41 | I13: 0 | J13: 735 | K13: =I13+J13 -> 735 | L13: =(C13*I13)+(H13*J13) -> 9121.35 | P13: 223 | Q13: =H13*P13 -> 2767.43 | S13: 174 | T13: =H13*S13 -> 2159.34 | X13: 183 | Y13: =X13*H13 -> 2271.03 | AB13: 11 | AC13: =AB13*H13 -> 136.51 | AD13: 3 | AE13: =AD13*H13 -> 37.23 | AF13: =AD13 -> 3 | AG13: =AF13*H13 -> 37.23 | AJ13: =AF13 -> 3 | AK13: =AG13 -> 37.23 | AL13: =AJ13 -> 3 | AM13: =AL13*H13 -> 37.23 | AN13: =AL13 -> 3 | AO13: =H13*AN13 -> 37.23 | AP13: =AN13 -> 3 | AQ13: =AO13 -> 37.23 | AR13: =E13+O13+U13+AH13 -> 0
A14: 47403 | B14: SARS-CoV-2 RNS (COVID-19) noteikšana ar "pooling" metodi (10 paraugi) (bez parauga paņemšanas) | C14: 8.26 | D14: 287 | E14: 163222.84 | F14: 19698 | G14: =C14*F14 -> 162705.48 | H14: 7.42 | I14: 13377 | J14: 1 | K14: =I14+J14 -> 13378 | L14: =(C14*I14)+(H14*J14) -> 110501.44 | M14: 438 | N14: 495 | O14: 249410.7 | Q14: =H14*P14 -> 0 | U14: 251455.05 | AB14: =5028+3508+18642 -> 27178 | AC14: =AB14*H14 -> 201660.76 | AD14: =9620+9205+47928 -> 66753 | AE14: =AD14*H14 -> 495307.26 | AF14: =AD14+136000+(101619/2) -> 253562.5 | AG14: =AF14*H14 -> 1881433.8 | AH14: 166273.8 | AJ14: =AD14 -> 66753 | AK14: =AE14 -> 495307.26 | AL14: =AD14 -> 66753 | AM14: =AK14 -> 495307.26 | AN14: =AL14 -> 66753 | AO14: =H14*AN14 -> 495307.26 | AP14: =AN14 -> 66753 | AQ14: =AO14 -> 495307.26 | AR14: =E14+O14+U14+AH14 -> 830362.39
A15: 47408 | B15: SARS-CoV-2 RNS (COVID-19) noteikšana ar "pooling" metodi (4 paraugi) (bez parauga paņemšanas) | C15: 12.69 | H15: 10.63 | I15: 1937 | J15: 5609 | K15: =I15+J15 -> 7546 | L15: =(C15*I15)+(H15*J15) -> 84204.2 | P15: 47736 | Q15: =H15*P15 -> 507433.68 | S15: =5382+15924 -> 21306 | T15: =H15*S15 -> 226482.78 | X15: 20 | Y15: =X15*H15 -> 212.6 | AD15: 3 | AE15: =AD15*H15 -> 31.89 | AF15: =AD15 -> 3 | AG15: =AF15*H15 -> 31.89 | AJ15: =AF15 -> 3 | AK15: =AG15 -> 31.89 | AL15: =AJ15 -> 3 | AM15: =AL15*H15 -> 31.89 | AN15: =AL15 -> 3 | AO15: =H15*AN15 -> 31.89 | AP15: =AN15 -> 3 | AQ15: =AO15 -> 31.89 | AR15: =E15+O15+U15+AH15 -> 0
A16: 47409 | B16: SARS-CoV-2 RNS (COVID-19) noteikšana ar "pooling" metodi (5 paraugi) (bez parauga paņemšanas) | C16: 11.21 | D16: 2257 | E16: 1742032.1 | F16: 75743 | G16: =C16*F16 -> 849079.03 | H16: 9.56 | I16: 51424 | J16: 17815 | K16: =I16+J16 -> 69239 | L16: =(C16*I16)+(H16*J16) -> 746774.44 | M16: 3441 | N16: 3888 | O16: 2658653.3 | P16: =7250+17873+102041 -> 127164 | Q16: =H16*P16 -> 1215687.8 | S16: =45745+18056+31695+94480 -> 189976 | T16: =S16*H16 -> 1816170.6 | U16: 2680445.5 | X16: =44169+23953+38989+73071 -> 180182 | Y16: =X16*H16 -> 1722539.9 | AB16: =10530+7369+16551+22669 -> 57119 | AC16: =AB16*H16 -> 546057.64 | AD16: =20+13083 -> 13103 | AE16: =AD16*H16 -> 125264.68 | AF16: =AD16 -> 13103 | AG16: =AF16*H16 -> 125264.68 | AH16: 1772435.5 | AJ16: =AF16 -> 13103 | AK16: =AG16 -> 125264.68 | AL16: =AJ16 -> 13103 | AM16: =AL16*H16 -> 125264.68 | AN16: =AL16 -> 13103 | AO16: =H16*AN16 -> 125264.68 | AP16: =AN16 -> 13103 | AQ16: =AO16 -> 125264.68 | AR16: =E16+O16+U16+AH16 -> 8853566.4
A17: 47406 | B17: SARS-CoV-2 RNS (COVID-19) noteikšana ar "pooling" metodi (2 paraugi) (bez parauga paņemšanas) | C17: 15.98 | P17: 23332 | Q17: =P17*C17 -> 372845.36 | S17: 1902 | T17: =C17*S17 -> 30393.96 | X17: 9 | Y17: =X17*C17 -> 143.82 | AB17: 2 | AC17: =AB17*C17 -> 31.96 | AD17: =20 -> 20 | AE17: =AD17*C17 -> 319.6 | AF17: =AD17 -> 20 | AG17: =AF17*C17 -> 319.6 | AJ17: =AF17 -> 20 | AK17: =AG17 -> 319.6 | AL17: =AJ17 -> 20 | AM17: =AL17*C17 -> 319.6 | AN17: =AL17 -> 20 | AO17: =C17*AN17 -> 319.6 | AP17: =AN17 -> 20 | AQ17: =AO17 -> 319.6 | AR17: =E17+O17+U17+AH17 -> 0
A18: 47416 | B18: SARS-CoV-2 RNS (COVID-19) apstiprināšana ar reālā laika PĶR (bez parauga paņemšanas) | R18: 2.85 | S18: =2783+1161 -> 3944 | T18: =R18*S18 -> 11240.4 | X18: =2022+2270 -> 4292 | Y18: =X18*R18 -> 12232.2 | AB18: =1536+1446 -> 2982 | AC18: =AB18*R18 -> 8498.7 | AD18: =2055+1490 -> 3545 | AE18: =AD18*2.85 -> 10103.25 | AF18: =AD18 -> 3545 | AG18: =AF18*R18 -> 10103.25 | AJ18: =AF18 -> 3545 | AK18: =AG18 -> 10103.25 | AL18: =X18 -> 4292 | AM18: =AL18*R18 -> 12232.2 | AN18: =P18 -> 0 | AO18: =R18*AN18 -> 0 | AP18: =AN18 -> 0 | AQ18: =AO18 -> 0 | AR18: =E18+O18+U18+AH18 -> 0
A19: 47417 | B19: SARS-CoV-2 vīrusa variantu skrīninga PĶR tests | R19: 33.4 | S19: 128 | T19: =R19*S19 -> 4275.2 | X19: =86+347+173 -> 606 | Y19: =X19*R19 -> 20240.4 | AB19: =76+87 -> 163 | AC19: =AB19*R19 -> 5444.2 | AD19: =222+25 -> 247 | AE19: =AD19*R19 -> 8249.8 | AF19: =AD19 -> 247 | AG19: =AF19*R19 -> 8249.8 | AJ19: =AF19 -> 247 | AK19: =AG19 -> 8249.8 | AL19: =X19 -> 606 | AM19: =AL19*R19 -> 20240.4 | AN19: =P19 -> 0 | AO19: =H19*AN19 -> 0 | AP19: =AN19 -> 0 | AQ19: =AO19 -> 0 | AR19: =E19+O19+U19+AH19 -> 0
A20: 47064R | B20: Kopējo antivielu pret SARS-CoV-2 (COVID-19) noteikšana ar imūnfermentatīvo metodi (ELISA, CMIA, ECLIA, CLIA) | C20: 6.79 | D20: 2 | E20: 935.01536 | F20: 69 | G20: =C20*F20 -> 468.51 | K20: 168 | L20: =C20*K20 -> 1140.72 | M20: 3.049464 | N20: 3 | O20: 1242.57 | P20: 225 | Q20: =P20*C20 -> 1527.75 | S20: 228 | T20: =C20*S20 -> 1548.12 | U20: 1252.755 | X20: 174 | Y20: =X20*C20 -> 1181.46 | AB20: 114 | AC20: =AB20*C20 -> 774.06 | AD20: 1050 | AE20: =AD20*C20 -> 7129.5 | AF20: =AD20 -> 1050 | AG20: =AF20*C20 -> 7129.5 | AH20: 828.38 | AJ20: =AF20 -> 1050 | AK20: =AG20 -> 7129.5 | AL20: =X20 -> 174 | AM20: =AL20*C20 -> 1181.46 | AN20: =P20 -> 225 | AO20: =C20*AN20 -> 1527.75 | AP20: =AN20 -> 225 | AQ20: =AO20 -> 1527.75 | AR20: =E20+O20+U20+AH20 -> 4258.7204
A21: 47047R | B21: IgM klases antivielu pret SARS-CoV-2 (COVID-19) noteikšana ar imūnfermentatīvo metodi (ELISA, CMIA, ECLIA, CLIA) | C21: 13.32 | F21: 814 | G21: =C21*F21 -> 10842.48 | K21: 696 | L21: =C21*K21 -> 9270.72 | P21: 614 | Q21: =P21*C21 -> 8178.48 | S21: 690 | T21: =C21*S21 -> 9190.8 | X21: 498 | Y21: =X21*C21 -> 6633.36 | AB21: 217 | AC21: =AB21*C21 -> 2890.44 | AD21: 3565 | AE21: =AD21*C21 -> 47485.8 | AF21: =AD21 -> 3565 | AG21: =AF21*C21 -> 47485.8 | AJ21: =AF21 -> 3565 | AK21: =AG21 -> 47485.8 | AL21: =X21 -> 498 | AM21: =AL21*C21 -> 6633.36 | AN21: =P21 -> 614 | AO21: =C21*AN21 -> 8178.48 | AP21: =AN21 -> 614 | AQ21: =AO21 -> 8178.48 | AR21: =E21+O21+U21+AH21 -> 0
A22: 47076R | B22: Asins ņemšana ar slēgtu sistēmu vienā stobriņā antivielu pret SARS-CoV-2 (COVID-19) noteikšanai | C22: 1.3 | D22: 17 | E22: 1521.6377 | F22: 665 | G22: =C22*F22 -> 864.5 | K22: 370 | L22: =C22*K22 -> 481 | M22: 26 | N22: 23 | O22: 1823.9 | P22: 348 | Q22: =P22*C22 -> 452.4 | S22: 245 | T22: =C22*S22 -> 318.5 | U22: 1838.85 | X22: 535 | Y22: =X22*C22 -> 695.5 | AB22: 329 | AC22: =AB22*C22 -> 427.7 | AD22: 2560 | AE22: =AD22*C22 -> 3328 | AF22: =AD22 -> 2560 | AG22: =AF22*C22 -> 3328 | AH22: 1215.9333 | AJ22: =AF22 -> 2560 | AK22: =AG22 -> 3328 | AL22: =X22 -> 535 | AM22: =AL22*C22 -> 695.5 | AN22: =P22 -> 348 | AO22: =C22*AN22 -> 452.4 | AP22: =AN22 -> 348 | AQ22: =AO22 -> 452.4 | AR22: =E22+O22+U22+AH22 -> 6400.321
A23: 47077R | B23: SARS-CoV-2 RNS (COVID-19) noteikšana ar reālā laika PĶR (bez parauga paņemšanas) ātrai diagnostikai un diferenciāldiagnostikai - izmeklējums ar Multiplex reaģentiem | C23: 171.06 | D23: 4 | E23: 47111.554 | F23: 128 | G23: =C23*F23 -> 21895.68 | K23: 74 | L23: =C23*K23 -> 12658.44 | M23: 6 | N23: 5 | O23: 52173.3 | P23: 109 | Q23: =P23*C23 -> 18645.54 | S23: 130 | T23: =C23*S23 -> 22237.8 | U23: 52600.95 | X23: 182 | Y23: =X23*C23 -> 31132.92 | AB23: 160 | AC23: =AB23*C23 -> 27369.6 | AD23: 912 | AE23: =AD23*C23 -> 156006.72 | AF23: =AD23 -> 912 | AG23: =AF23*C23 -> 156006.72 | AH23: 34782.2 | AJ23: =AF23 -> 912 | AK23: =AG23 -> 156006.72 | AL23: =X23 -> 182 | AM23: =AL23*C23 -> 31132.92 | AN23: =P23 -> 109 | AO23: =C23*AN23 -> 18645.54 | AP23: =AN23 -> 109 | AQ23: =AO23 -> 18645.54 | AR23: =E23+O23+U23+AH23 -> 186668
A24: 47049R | B24: IgG klases antivielu pret SARS-CoV-2 (COVID-19) noteikšana ar imūnfermentatīvo metodi (ELISA, CMIA, ECLIA, CLIA) | C24: 13.32 | D24: 49 | E24: 44938.573 | F24: 896 | G24: =C24*F24 -> 11934.72 | K24: 853 | L24: =C24*K24 -> 11361.96 | M24: 75 | N24: 65 | O24: 52813.8 | P24: 701 | Q24: =P24*C24 -> 9337.32 | S24: 682 | T24: =C24*S24 -> 9084.24 | U24: 53246.7 | X24: 546 | Y24: =X24*C24 -> 7272.72 | AB24: 279 | AC24: =AB24*C24 -> 3716.28 | AD24: 4061 | AE24: =AD24*C24 -> 54092.52 | AF24: =AD24 -> 4061 | AG24: =AF24*C24 -> 54092.52 | AH24: 35209.2 | AJ24: =AF24 -> 4061 | AK24: =AG24 -> 54092.52 | AL24: =X24 -> 546 | AM24: =AL24*C24 -> 7272.72 | AN24: =P24 -> 701 | AO24: =C24*AN24 -> 9337.32 | AP24: =AN24 -> 701 | AQ24: =AO24 -> 9337.32 | AR24: =E24+O24+U24+AH24 -> 186208.27
A25: 47051R | B25: IgG klases antivielu pret SARS-CoV-2 (COVID-19) kvantitatīva noteikšana ar imūnfermentatīvo metodi (ELISA, CMIA, ECLIA, CLIA) | C25: 20.48 | D25: 8 | E25: 11280.774 | F25: 168 | G25: =C25*F25 -> 3440.64 | K25: 349 | L25: =C25*K25 -> 7147.52 | M25: 12 | N25: 10 | O25: 12492.8 | P25: 428 | Q25: =P25*C25 -> 8765.44 | S25: 453 | T25: =C25*S25 -> 9277.44 | U25: 12595.2 | X25: 278 | Y25: =X25*C25 -> 5693.44 | AB25: 155 | AC25: =AB25*C25 -> 3174.4 | AD25: 1865 | AE25: =AD25*C25 -> 38195.2 | AF25: =AD25 -> 1865 | AG25: =AF25*C25 -> 38195.2 | AH25: 8328.5333 | AI25: 11.63 | AJ25: =AF25 -> 1865 | AK25: =AJ25*11.63 -> 21689.95 | AL25: =X25 -> 278 | AM25: =AL25*11.63 -> 3233.14 | AN25: =P25 -> 428 | AO25: =AN25*11.63 -> 4977.64 | AP25: =AN25 -> 428 | AQ25: =AO25 -> 4977.64 | AR25: =E25+O25+U25+AH25 -> 44697.308
A26: 47046R | B26: IgA klases antivielu pret SARS-CoV-2 (COVID-19) noteikšana ar imūnfermentatīvo metodi (ELISA, CMIA, ECLIA, CLIA) | C26: 13.32 | F26: 43 | G26: =C26*F26 -> 572.76 | K26: 42 | L26: =C26*K26 -> 559.44 | P26: 29 | Q26: =P26*C26 -> 386.28 | S26: 17 | T26: =C26*S26 -> 226.44 | X26: 22 | Y26: =X26*C26 -> 293.04 | AB26: 6 | AC26: =AB26*C26 -> 79.92 | AD26: 165 | AE26: =AD26*C26 -> 2197.8 | AF26: =AD26 -> 165 | AG26: =AF26*C26 -> 2197.8 | AJ26: =AF26 -> 165 | AK26: =AG26 -> 2197.8 | AL26: =X26 -> 22 | AM26: =AL26*C26 -> 293.04 | AN26: =P26 -> 29 | AO26: =C26*AN26 -> 386.28 | AP26: =AN26 -> 29 | AQ26: =AO26 -> 386.28 | AR26: =E26+O26+U26+AH26 -> 0
A27: 60046 | B27: COVID-19 transporta barotne ar diviem lokaniem tamponiem ātrajam molekulārajam testam | C27: 1.49 | F27: 471 | G27: =C27*F27 -> 701.79 | K27: 483 | L27: =C27*K27 -> 719.67 | P27: 574 | Q27: =P27*C27 -> 855.26 | R27: 1.5 | S27: 479 | T27: =R27*S27 -> 718.5 | V27: 5 | W27: 93 | X27: 371 | Y27: =(V27*C27)+((W27+X27)*R27) -> 703.45 | Z27: 1 | AA27: 81 | AB27: 336 | AC27: =(AB27*R27)+(Z27*C27)+(AA27*R27) -> 626.99 | AF27: =AD27 -> 0 | AG27: =AF27*C27 -> 0 | AJ27: =AF27 -> 0 | AK27: =AG27 -> 0 | AL27: =X27 -> 371 | AM27: =AL27*C27 -> 552.79 | AN27: =P27 -> 574 | AO27: =R27*AN27 -> 861 | AP27: =AN27 -> 574 | AQ27: =AO27 -> 861 | AR27: =E27+O27+U27+AH27 -> 0
A28: 47268 | B28: SARS-CoV-2 (COVID-19) antigēna noteikšana (Ag eksprestests) | C28: 14.04 | E28: 11232 | F28: 2218 | G28: =C28*F28 -> 31140.72 | K28: 4055 | L28: =C28*K28 -> 56932.2 | M28: 2000 | N28: 2000 | O28: 28080 | P28: 6357 | Q28: =P28*C28 -> 89252.28 | R28: 9.36 | S28: 4289 | T28: =R28*S28 -> 40145.04 | U28: 28080 | V28: 158 | W28: 5359 | Y28: =(V28*C28)+(W28*R28) -> 52378.56 | Z28: 136 | AA28: 1318 | AB28: =23+225+107+21+718+3886 -> 4980 | AC28: =(AB28*R28)+(Z28*C28)+(AA28*R28) -> 60858.72 | AD28: =25+2285+1381+73+3904+704 -> 8372 | AE28: =AD28*R28 -> 78361.92 | AF28: =AD28 -> 8372 | AG28: =AF28*R28 -> 78361.92 | AH28: 16848 | AJ28: =AF28 -> 8372 | AK28: =AG28 -> 78361.92 | AL28: =X28 -> 0 | AM28: =AL28*C28 -> 0 | AN28: =P28 -> 6357 | AO28: =R28*AN28 -> 59501.52 | AP28: =AN28 -> 6357 | AQ28: =AO28 -> 59501.52 | AR28: =E28+O28+U28+AH28 -> 84240 | AT28: Pavisam kopā 2021. gada testēšanai nepieciešami | AY28: Noņemam nost rezervēto atlikumu, sanāk, ka papildus vajag klāt 2021. gadam
A29: 47328 | B29: SARS-CoV-2 (COVID-19) antigēna noteikšana (Ag eksprestests) (bez reaģenta komplekta vērtības) | R29: 3.67 | S29: 5 | T29: =R29*S29 -> 18.35 | W29: 5 | X29: 4 | Y29: =(W29+X29)*R29 -> 33.03 | AA29: 2 | AB29: 288 | AC29: =(AB29*R29)+(AA29*R29) -> 1064.3 | AF29: =AD29 -> 0 | AG29: =AF29*R29 -> 0 | AJ29: =AF29 -> 0 | AK29: =AG29 -> 0 | AL29: =X29 -> 4 | AM29: =AL29*R29 -> 14.68 | AN29: =P29 -> 0 | AO29: =R29*AN29 -> 0 | AP29: =AN29 -> 0 | AQ29: =AO29 -> 0 | AR29: =E29+O29+U29+AH29 -> 0
A30: 47269 | B30: SARS-CoV-2 RNS (COVID-19) noteikšana ar reālā laika PĶR (bez parauga paņemšanas) ātrai diagnostikai un diferenciāldiagnostikai (bez reaģenta vērtības) | C30: 12.2 | E30: 9760 | K30: 97 | L30: =C30*K30 -> 1183.4 | M30: 2000 | N30: 2000 | O30: 24400 | P30: =30+225 -> 255 | Q30: =P30*C30 -> 3111 | S30: =18+289 -> 307 | T30: =C30*S30 -> 3745.4 | U30: 24400 | V30: 2 | W30: 596 | X30: 118 | Y30: =(X30*C30)+(V30*C30)+(W30*C30) -> 8735.2 | AA30: 48 | AB30: =88+184 -> 272 | AC30: =(AB30*C30)+(AA30*C30) -> 3904 | AF30: =AD30 -> 0 | AG30: =AF30*R30 -> 0 | AH30: 14640 | AJ30: =AF30 -> 0 | AK30: =AG30 -> 0 | AL30: =X30 -> 118 | AM30: =AL30*C30 -> 1439.6 | AN30: =P30 -> 255 | AO30: =C30*AN30 -> 3111 | AP30: =AN30 -> 255 | AQ30: =AO30 -> 3111 | AR30: =E30+O30+U30+AH30 -> 73200
A31: 60173 | B31: Ceļa izdevumi par 10 minūtēm SARS-CoV-2 (COVID-19) parauga paņemšanai pacienta dzīvesvietā | C31: 3.7 | F31: 64107 | G31: =C31*F31 -> 237195.9 | H31: 3.7 | I31: =42713 -> 42713 | J31: =3660 -> 3660 | L31: =(C31*I31)+(H31*J31) -> 171580.1 | P31: 11932 | Q31: =P31*C31 -> 44148.4 | S31: 3068 | T31: =S31*C31 -> 11351.6 | X31: =22+3288 -> 3310 | Y31: =X31*H31 -> 12247 | AB31: =1504 -> 1504 | AC31: =(AB31*H31) -> 5564.8 | AD31: =1292+27 -> 1319 | AE31: =AD31*H31 -> 4880.3 | AF31: =AD31 -> 1319 | AG31: =AF31*H31 -> 4880.3 | AJ31: =(AF31)+(AF31/2) -> 1978.5 | AK31: =AJ31*H31 -> 7320.45 | AL31: =X31*2 -> 6620 | AM31: =AL31*H31 -> 24494 | AN31: =P31*2 -> 23864 | AO31: =H31*AN31 -> 88296.8 | AP31: =AN31 -> 23864 | AQ31: =AO31 -> 88296.8 | AR31: =E31+O31+U31+AH31 -> 0
D32: =SUM(D4:D31) -> 18122 | E32: =SUM(E4:E31) -> 18591065 | F32: =SUM(F4:F31) -> 748544 | G32: =ROUNDUP(SUM(G4:G31),) -> 10275068 | I32: =ROUNDUP(SUM(I4:I31),) -> 479156 | J32: =ROUNDUP(SUM(J4:J31),) -> 143228 | K32: =ROUNDUP(SUM(K4:K31),) -> 583198 | L32: =ROUNDUP(SUM(L4:L31),) -> 8429309 | M32: =SUM(M4:M31) -> 31898.049 | N32: =SUM(N4:N31) -> 30288 | O32: =SUM(O4:O31) -> 22751130 | P32: =ROUNDUP(SUM(P4:P31),) -> 824039 | Q32: =ROUNDUP(SUM(Q4:Q31),) -> 9197996 | S32: =ROUNDUP(SUM(S4:S31),) -> 786196 | T32: =SUM(T4:T31) -> 8151587.2 | U32: =SUM(U4:U31) -> 22937185 | V32: =SUM(V4:V31) -> 179 | W32: =SUM(W4:W31) -> 7416 | X32: =SUM(X4:X31) -> 688945 | Y32: =SUM(Y4:Y31) -> 7354653.4 | Z32: =SUM(Z4:Z31) -> 140 | AA32: =SUM(AA4:AA31) -> 1827 | ... AH32: =SUM(AH4:AH31) -> 15163921 | AJ32: =SUM(AJ4:AJ31) -> 476811.5 | AK32: =SUM(AK4:AK31) -> 5565135.2 | AL32: =SUM(AL4:AL31) -> 592588.2 | AM32: =SUM(AM4:AM31) -> 7610085.2 | AN32: =SUM(AN4:AN31) -> 705999.2 | AO32: =SUM(AO4:AO31) -> 9473656 | AP32: =SUM(AP4:AP31) -> 705999.2 | AQ32: =SUM(AQ4:AQ31) -> 9473656 | AR32: =SUM(AR4:AR31) -> 79443301
AO33: Pieejamais finansējums līdz gada beigām | AR33: =AR32-G32-L32-Y32-Q32-T32-AC32-AE32-AG32 -> 21614627 | AT33: Avanss prioritārajām grupām ar poolo pa 10 (septembris, oktobris, novembris)
A34: (Esošais SKRĪNINGS (nazofaringālais testi) kopā) | F34: =F4+F8+F9+F11+F31 -> 548955 | G34: =G4+G8+G9+G11+G31 -> 8756566.9 | K34: =K4+K8+K9+K11+K31 -> 387501 | L34: =L4+L8+L9+L11+L31 -> 6968003.5 | P34: =P4+P8+P9+P11+P31 -> 401737 | Q34: =Q4+Q8+Q9+Q11+Q31 -> 6141812.3 | S34: =S4+S8+S9+S11+S31 -> 345040 | T34: =T4+T8+T9+T11+T31 -> 5172856.1 | X34: =X4+X8+X9+X11+X31 -> 319993 | Y34: =Y4+Y8+Y9+Y11+Y31 -> 4791171.5 | AB34: =AB4+AB8+AB9+AB11+AB31 -> 210708 | AC34: =AC4+AC8+AC9+AC11+AC31 -> 3048611.5 | AD34: =AD4+AD8+AD9+AD11+AD31 -> 186876 | AE34: =AE4+AE8+AE9+AE11+AE31 -> 2602749.4 | AF34: =AF4+AF8+AF9+AF11+AF31 -> 190151 | AG34: =AG4+AG8+AG9+AG11+AG31 -> 2690126.4 | AJ34: =AJ4+AJ8+AJ9+AJ11+AJ31 -> 285226.5 | AK34: =AK4+AK8+AK9+AK11+AK31 -> 4035189.6 | AL34: =AL4+AL8+AL9+AL11+AL31 -> 419719.2 | AM34: =AM4+AM8+AM9+AM11+AM31 -> 6383863 | AN34: =AN4+AN8+AN9+AN11+AN31 -> 531116.2 | AO34: =AO4+AO8+AO9+AO11+AO31 -> 8225376.7 | AP34: =AP4+AP8+AP9+AP11+AP31 -> 531116.2 | AQ34: =AQ4+AQ8+AQ9+AQ11+AQ31 -> 8225376.7 | AR34: =AC34+AE34+AG34+AK34+AM34+AO34+AQ34 -> 35211293 | AX34: =AK44+AM44+AO44 -> 36945944 | AY34: =AX34-AR33 -> 15331318
A35: BEZ SAMAZINÄJUMA: Covid-19 izmeklējumu izmaksas, izņemot skrīningu | F35: =F8+F9+F10+F19+F23 -> 216551 | G35: =G8+G9+G10+G19+G23 -> 7757487.3 | K35: =K8+K9+K10+K19+K23 -> 183283 | L35: =L8+L9+L10+L19+L23 -> 6201489.6 | P35: =P8+P9+P10+P19+P23 -> 200222 | Q35: =Q8+Q9+Q10+Q19+Q23 -> 5538275.8 | S35: =S8+S9+S10+S19+S23 -> 171775 | T35: =T8+T9+T10+T19+T23 -> 4756821.7 | X35: =X8+X9+X10+X19+X23 -> 158899 | Y35: =Y8+Y9+Y10+Y19+Y23 -> 4464001.2 | AB35: =AB8+AB9+AB10+AB19+AB23 -> 102996 | AC35: =AC8+AC9+AC10+AC19+AC23 -> 2867278.5 | AD35: =AD8+AD9+AD10+AD19+AD23 -> 87984 | AE35: =AE8+AE9+AE10+AE19+AE23 -> 2500454.1 | AF35: =AF8+AF9+AF10+AF19+AF23 -> 95259 | AG35: =AG8+AG9+AG10+AG19+AG23 -> 2780631.1 | AJ35: =AJ8+AJ9+AJ10+AJ19+AJ23 -> 140809 | AK35: =AK8+AK9+AK10+AK19+AK23 -> 4016518.4 | AL35: =AL8+AL9+AL10+AL19+AL23 -> 210852.6 | AM35: =AM8+AM9+AM10+AM19+AM23 -> 6007460.4 | AN35: =AN8+AN9+AN10+AN19+AN23 -> 271723.6 | AO35: =AO8+AO9+AO10+AO19+AO23 -> 7630743.2 | AP35: =AP8+AP9+AP10+AP19+AP23 -> 271723.6 | AQ35: =AQ8+AQ9+AQ10+AQ19+AQ23 -> 7630743.2 | AR35: =AC35+AE35+AG35+AK35+AM35+AO35+AQ35 -> 33433829
B36: B scenārijs: Covid-19 saslimušie (% pret AUGUSTU) | AF36: =#REF! -> #REF! | AJ36: =#REF! -> #REF! | AL36: =#REF! -> #REF! | AN36: =#REF! -> #REF! | AP36: =#REF! -> #REF!
B37: B scenārijs: Covid-19 izmeklējumu izmaksas, izņemot skrīningu | AG37: =AG35*AF36 -> #REF! | AK37: =AK35*AJ36 -> #REF! | AM37: =AM35*AL36 -> #REF! | AO37: =AO35*AN36 -> #REF! | AQ37: =AQ35*AP36 -> #REF! | AR37: =AC37+AE37+AG37+AK37+AM37+AO37+AQ37 -> #REF!
A38: Esošais SKRĪNINGS (siekalu testi) kopā | F38: =F12+F13+F14+F15+F16+F17 -> 192398 | G38: =G12+G13+G14+G15+G16+G17 -> 1340787.8 | K38: =K12+K13+K14+K15+K16+K17 -> 186959 | L38: =L12+L13+L14+L15+L16+L17 -> 1273366.4 | P38: =P12+P13+P14+P15+P16+P17 -> 410807 | Q38: =Q12+Q13+Q14+Q15+Q16+Q17 -> 2812237 | S38: =S12+S13+S14+S15+S16+S17 -> 428108 | T38: =T12+T13+T14+T15+T16+T17 -> 2796766.6 | X38: =X12+X13+X14+X15+X16+X17 -> 360954 | Y38: =Y12+Y13+Y14+Y15+Y16+Y17 -> 2331849 | AB38: =AB12+AB13+AB14+AB15+AB16+AB17 -> 167298 | AC38: =AC12+AC13+AC14+AC15+AC16+AC17 -> 1026726.6 | AD38: =AD12+AD13+AD14+AD15+AD16+AD17 -> 160035 | AE38: =AE12+AE13+AE14+AE15+AE16+AE17 -> 890274.74 | AF38: =AF12+AF13+AF14+AF15+AF16+AF17 -> 533654 | AG38: =AG12+AG13+AG14+AG15+AG16+AG17 -> 2904081.2 | AJ38: =AJ12+AJ13+AJ14+AJ15+AJ16+AJ17 -> 160035 | AK38: =AK12+AK13+AK14+AK15+AK16+AK17 -> 890274.74 | AL38: =AL12+AL13+AL14+AL15+AL16+AL17 -> 160035 | AM38: =AM12+AM13+AM14+AM15+AM16+AM17 -> 890274.74 | AN38: =AN12+AN13+AN14+AN15+AN16+AN17 -> 160035 | AO38: =AO12+AO13+AO14+AO15+AO16+AO17 -> 890274.74 | AP38: =AP12+AP13+AP14+AP15+AP17+AP16 -> 160035 | AQ38: =AQ12+AQ13+AQ14+AQ15+AQ16+AQ17 -> 890274.74 | AR38: =AC38+AE38+AG38+AK38+AM38+AO38+AQ38 -> 8382181.4
A39: Esošais SKRĪNINGS (nazofaringālais testi) kopā | F39: =F34 -> 548955 | G39: =G34 -> 8756566.9 | K39: =K34 -> 387501 | L39: =L34 -> 6968003.5 | P39: =P34 -> 401737 | Q39: =Q34 -> 6141812.3 | S39: =S34 -> 345040 | T39: =T34 -> 5172856.1 | X39: =X34 -> 319993 | Y39: =Y34 -> 4791171.5 | AB39: =AB34 -> 210708 | AC39: =AC34 -> 3048611.5 | AD39: =AD34 -> 186876 | AE39: =AE34 -> 2602749.4 | AF39: =AF34 -> 190151 | AG39: =AG34 -> 2690126.4 | AJ39: =AJ34 -> 285226.5 | AK39: =AK34 -> 4035189.6 | AL39: =AL34 -> 419719.2 | AM39: =AM34 -> 6383863 | AN39: =AN34 -> 531116.2 | AO39: =AO34 -> 8225376.7 | AP39: =AP34 -> 531116.2 | AQ39: =AQ34 -> 8225376.7 | AR39: =AC39+AE39+AG39+AK39+AM39+AO39+AQ39 -> 35211293 | AT39: 2022.gadam papildus nepieciešams par decembri A variants | AX39: =AQ44 -> 14636984
A40: SKRĪNINGS kopā | F40: =F38+F39 -> 741353 | G40: =G38+G39 -> 10097355 | K40: =K38+K39 -> 574460 | L40: =L38+L39 -> 8241369.9 | P40: =P38+P39 -> 812544 | Q40: =Q38+Q39 -> 8954049.3 | S40: =S38+S39 -> 773148 | T40: =T38+T39 -> 7969622.7 | X40: =X38+X39 -> 680947 | Y40: =Y38+Y39 -> 7123020.5 | AB40: =AB38+AB39 -> 378006 | AC40: =AC38+AC39 -> 4075338.1 | AD40: =AD38+AD39 -> 346911 | AE40: =AE38+AE39 -> 3493024.1 | AF40: =AF38+AF39 -> 723805 | AG40: =AG38+AG39 -> 5594207.6 | AH40: =AH38+AH39 -> 0 | AJ40: =AJ38+AJ39 -> 445261.5 | AK40: =AK38+AK39 -> 4925464.4 | AL40: =AL38+AL39 -> 579754.2 | AM40: =AM38+AM39 -> 7274137.7 | AN40: =AN38+AN39 -> 691151.2 | AO40: =AO38+AO39 -> 9115651.5 | AP40: =AP38+AP39 -> 691151.2 | AQ40: =AQ38+AQ39 -> 9115651.5 | AR40: =AK40+AM40+AO40+AQ40 -> 30430905
A41: Resoru prognoze par nepieciešamo skrīningu (prioritates) | AJ41: =Skrinings!AG101+Skrinings!AG102 -> 250920.3 | AK41: =Skrinings!AC105 -> 5667476.7 | AL41: =Skrinings!AI101+Skrinings!AI102 -> 1323360 | AM41: =Skrinings!AI105 -> 6346210.4 | AN41: =Skrinings!AN101+Skrinings!AN102 -> 1049706.1 | AO41: =Skrinings!AN105 -> 4954205.3 | AP41: =Skrinings!AT101+Skrinings!AT102 -> 1298091 | AQ41: =Skrinings!AT105 -> 6053603 | AR41: =AK41+AM41+AO41+AQ41 -> 23021495
AG44: A VARIANTS | AK44: =AK32-AK38+AK41 -> 10342337 | AM44: =AM32-AM38+AM41 -> 13066021 | AO44: =AO32-AO38+AO41 -> 13537587 | AQ44: =AQ32-AQ38+AQ41 -> 14636984 | AR44: =(AK44+AM44+AO44+AQ44)/4 -> 12895732
AS45: Starpība piešķirtam
AN46: Pavisam kopā 2021. gada testēšanai nepieciešami A variantam | AQ46: =G32+L32+Q32+T32+Y32+AC32+AE32+AG32+AK44+AM44+AO44+AQ44 -> 1.094116e+08 | AR46: =AQ46-AQ44 -> 94774619 | AS46: =AR32-AR46 -> -15331318

Sheet Skrinings
B1: 0.3 | D1: Maijs | I1: Jūnijs | N1: Jūlijs | T1: Augusts | Y1: Septembis | AD1: Oktobris | AJ1: Novembris | AO1: Decembris
A2: Resors/ strādājošo grupas | B2: Riska grupa | C2: Testu skaits nedēļā | D2: 3.05.-9.05. | E2: 10.05.-16.05. | F2: 17.05.-23.05. | G2: 24.05.-30.05 | H2: Maijs | I2: 31.05-6.06. | J2: 07.06.-13.06. | K2: 14.06.-20.06. | L2: 21.06.-27.06. | M2: Jūnijs | N2: 28.06.-4.07. | O2: 05.07.-11.07. | P2: 12.07.-18.07. | Q2: 19.07.-25.07. | R2: 26.07.-01.08. | S2: Jūlijs | T2: 02.08.-08.08. | U2: 09.08.-15.08. | V2: 16.08.-22.08. | W2: 23.08.-29.08. | X2: Augusts | Y2: 30.08.-5.09. | Z2: 06.09.-12.09. | AA2: 13.09.-19.09. | AB2: 20.09.-26.09. | AC2: Septembris | AD2: 27.09.-3.10. | AE2: 04.10.-10.10. | AF2: 11.10.-17.10. | AG2: 18.10.-24.10. | AH2: 25.10.-31.10. | AI2: Oktobris | AJ2: 01.11.-07.11. | AK2: 08.11.-14.11. | AL2: 15.11.-21.11. | AM2: 22.11.-28.11. | AN2: Novembris | AO2: 29.11.-5.12. | AP2: 06.12.-12.12. | AQ2: 13.12.-19.12. | AR2: 20.12.-26.12. | AS2: 27.12.-02.01. | AT2: Decembris
A3: Slimnīcu darbinieki | B3: I. | H3: 23985 | M3: 23985 | S3: 23985 | X3: 23985 | Y3: 1799 | Z3: 1799 | AA3: 1799 | AB3: 1799 | AC3: =Y3+Z3+AA3+AB3 -> 7196 | AD3: 1439 | AE3: 1439 | AF3: 1439 | AG3: 1439 | AH3: 1439 | AI3: =AD3+AE3+AF3+AG3+AH3 -> 7195 | AJ3: 1799 | AK3: 1799 | AL3: 1799 | AM3: 1799 | AN3: =AJ3+AK3+AL3+AM3 -> 7196 | AO3: 1439 | AP3: 1439 | AQ3: 1439 | AR3: 1439 | AS3: 1439 | AT3: =AO3+AP3+AQ3+AR3+AS3 -> 7195
A4: Ambulatoro iestāžu darbinieki | H4: 23709 | M4: 23709 | S4: 23709 | X4: 23709 | Y4: 1783 | Z4: 1783 | AA4: 1783 | AB4: 1783 | AC4: =Y4+Z4+AA4+AB4 -> 7132 | AD4: 1423 | AE4: 1423 | AF4: 1423 | AG4: 1423 | AH4: 1423 | AI4: =AD4+AE4+AF4+AG4+AH4 -> 7115 | AJ4: 1783 | AK4: 1783 | AL4: 1783 | AM4: 1783 | AN4: =AJ4+AK4+AL4+AM4 -> 7132 | AO4: 1423 | AP4: 1423 | AQ4: 1423 | AR4: 1423 | AS4: 1423 | AT4: =AO4+AP4+AQ4+AR4+AS4 -> 7115
A5: Stacionārā ilgi aprūpējamie pacienti, kuri nav Covid-19 inficēti | H5: 347 | M5: 347 | S5: 347 | X5: 347 | Y5: 26 | Z5: 26 | AA5: 26 | AB5: 26 | AC5: =Y5+Z5+AA5+AB5 -> 104 | AD5: 21 | AE5: 21 | AF5: 21 | AG5: 21 | AH5: 21 | AI5: =AD5+AE5+AF5+AG5+AH5 -> 105 | AJ5: 26 | AK5: 26 | AL5: 26 | AM5: 26 | AN5: =AJ5+AK5+AL5+AM5 -> 104 | AO5: 21 | AP5: 21 | AQ5: 21 | AR5: 21 | AS5: 21 | AT5: =AO5+AP5+AQ5+AR5+AS5 -> 105
A6: Pacientus pavadošās personas | B6: I. | H6: 347 | M6: 347 | S6: 347 | X6: 347 | Y6: 26 | Z6: 26 | AA6: 26 | AB6: 26 | AC6: =Y6+Z6+AA6+AB6 -> 104 | AD6: 21 | AE6: 21 | AF6: 21 | AG6: 21 | AH6: 21 | AI6: =AD6+AE6+AF6+AG6+AH6 -> 105 | AJ6: 26 | AK6: 26 | AL6: 26 | AM6: 26 | AN6: =X6*0.3 -> 104.1 | AO6: 21 | AP6: 21 | AQ6: 21 | AR6: 21 | AS6: 21 | AT6: =AO6+AP6+AQ6+AR6+AS6 -> 105
H7: =SUM(D7:G7) -> 0 | M7: =SUM(I7:L7) -> 0 | S7: =SUM(N7:R7) -> 0 | X7: =SUM(T7:W7) -> 0 | AC7: =SUM(Y7:AB7) -> 0 | AI7: =SUM(AD7:AH7) -> 0 | AN7: =SUM(AJ7:AM7) -> 0 | AT7: =SUM(AO7:AS7) -> 0
A8: NMPD darbinieki, kas strādā uz brigādēm | B8: I. | H8: 2120 | M8: 2120 | S8: 2120 | X8: 2120 | AC8: =X8*0.3 -> 636 | AI8: =X8*0.3 -> 636 | AN8: =X8*0.3 -> 636 | AT8: =X8*0.3 -> 636
A9: Veselības resors: | D9: =SUM(D3:D8) -> 0 | E9: =SUM(E3:E8) -> 0 | F9: =SUM(F3:F8) -> 0 | G9: =SUM(G3:G8) -> 0 | H9: =SUM(H3:H8) -> 50508 | I9: =SUM(I3:I8) -> 0 | J9: =SUM(J3:J8) -> 0 | K9: =SUM(K3:K8) -> 0 | ... AT9: =SUM(AT3:AT8) -> 15156
A10: Skolotāji, skolu darbinieki, kad mācību process notiek klātienē (70% vakc! No septembra) | B10: I. | D10: 14000 | E10: 14000 | F10: 14000 | G10: 14000 | H10: =SUM(D10:G10) -> 56000 | M10: =SUM(I10:L10) -> 0 | S10: =SUM(N10:R10) -> 0 | X10: =SUM(T10:W10) -> 0 | Y10: =G10*0.2 -> 2800 | Z10: 2800 | AA10: 2800 | AB10: 2800 | AD10: 2800 | AE10: 2800 | AF10: 2800 | AG10: 2800 | AH10: 2800 | AJ10: 2800 | AK10: 2800 | AL10: 2800 | AM10: 2800 | AO10: 2800 | AP10: 2800 | AQ10: 2800 | AR10: 2800 | AS10: 2800
A11: Centralizētie eksāmeni - skolotāji, darbinieki, novērotāji, kas nav 11. rindā | D11: 16000 | F11: 1800 | H11: =SUM(D11:G11) -> 17800 | I11: 1200 | J11: 300 | M11: =SUM(I11:L11) -> 1500 | S11: =SUM(N11:R11) -> 0 | X11: =SUM(T11:W11) -> 0 | AC11: =SUM(Y11:AB11) -> 0 | AI11: =SUM(AD11:AH11) -> 0 | AN11: =SUM(AJ11:AM11) -> 0 | AQ11: 1200 | AR11: 800 | AS11: 500
A12: Kultūras jomas izglītības iestādes | H12: =SUM(D12:G12) -> 0 | M12: =SUM(I12:L12) -> 0 | S12: =SUM(N12:R12) -> 0 | X12: =SUM(T12:W12) -> 0 | Y12: 498 | Z12: 498 | AA12: 498 | AB12: 498 | AD12: 498 | AE12: 498 | AF12: 498 | AG12: 498 | AH12: 498 | AJ12: 498 | AK12: 498 | AL12: 498 | AM12: 498 | AO12: 498 | AP12: 498 | AQ12: 498 | AR12: 498 | AS12: 498
A13: Izglītības iestāžu darbinieki, kurās realizē programmas bērniem ar īpašām vajadzībām ar/bez internāta | D13: 3000 | E13: 3000 | F13: 3000 | G13: 3000 | H13: =SUM(D13:G13) -> 12000 | M13: =SUM(I13:L13) -> 0 | S13: =SUM(N13:R13) -> 0 | X13: =SUM(T13:W13) -> 0
A14: Pirmsskola (bērnudārzi) – darbinieki – rudens 25% no pašr. apjoma, jo vakcinējas | D14: 16000 | E14: 16000 | F14: 16000 | G14: 16000 | H14: =SUM(D14:G14) -> 64000 | I14: 16000 | J14: 16000 | K14: 16000 | L14: 16000 | M14: =SUM(I14:L14) -> 64000 | N14: 6000 | O14: 6000 | P14: 6000 | Q14: 6000 | R14: 6000 | S14: =SUM(N14:R14) -> 30000 | T14: 6000 | U14: 6000 | V14: 6000 | W14: 6000 | X14: =SUM(T14:W14) -> 24000
A15: Izglītojamie | B15: I. | C15: CE maijā!!! | D15: 17000 | F15: 6000 | H15: =SUM(D15:G15) -> 23000 | I15: 3000 | K15: 1500 | M15: =SUM(I15:L15) -> 4500 | S15: =SUM(N15:R15) -> 0 | X15: =SUM(T15:W15) -> 0 | Y15: 123246 | Z15: 123246 | AA15: 123246 | AB15: 123246 | AC15: =Y15+Z15+AA15+AB15 -> 492984 | AD15: 246493 | AE15: 246493 | AF15: 246493 | AG15: 246493 | AH15: 246493 | AI15: =AD15+AE15+AF15+AG15+AH15 -> 1232465 | AJ15: 246493 | AK15: 246493 | AL15: 246493 | AM15: 246493 | AN15: =AJ15+AK15+AL15+AM15 -> 985972 | AO15: 246493 | AP15: 246493 | AQ15: 246493 | AR15: 246493 | AS15: 246493 | AT15: =AO15+AP15+AQ15+AR15+AS15 -> 1232465
A16: Pedagogi, skolu tehniskais personāls, t.s. koledžu vid. izglītības programmās, bērnu un jauniešu interešu izglītības iestādēs, pieaugušo neformālās izglītības iestādēs, pirmsskolas izglītības iestādēs, profesionālās ievirzes izglītības iestādēs, profesionālās pamata un vidējās izglītības iestādēs, profesionālās tālākizglītības un pilnveides izglītības iestādēs, speciālās izglītības iestādēs, vispārējās izglītības iestādēs | G16: 6000 | H16: =SUM(D16:G16) -> 6000 | I16: 6000 | J16: 4000 | K16: 2000 | M16: =SUM(I16:L16)+500 -> 12500 | S16: 2500 | X16: =SUM(T16:W16) -> 0 | Y16: 12907 | Z16: 12907 | AA16: 12907 | AB16: 25813 | AC16: =Y16+Z16+AA16+AB16 -> 64534 | AD16: 25813 | AF16: 25813 | AH16: 25813 | AI16: =AD16+AE16+AF16+AG16+AH16 -> 77439 | AK16: 25813 | AM16: 25813 | AN16: =AJ16+AK16+AL16+AM16 -> 51626 | AP16: 25813 | AR16: 25813 | AT16: =AO16+AP16+AQ16+AR16+AS16 -> 51626
A17: Augstskolas | M17: 1500 | S17: 2000 | X17: 2000 | AC17: - | AI17: =SUM(AD17:AH17) -> 0 | AN17: =SUM(AI17:AM17) -> 0 | AT17: =SUM(AO17:AS17) -> 0
A18: Kultūras jomas izglītības iestādes | H18: =SUM(D18:G18) -> 0 | M18: =SUM(I18:L18) -> 0 | S18: =SUM(N18:R18) -> 0 | X18: =SUM(T18:W18) -> 0 | Y18: 663 | Z18: 663 | AA18: 663 | AB18: 663 | AC18: - | AD18: 663 | AE18: 663 | AF18: 663 | AG18: 663 | AH18: 663 | AI18: - | AJ18: 663 | AK18: 663 | AL18: 663 | AM18: 663 | AN18: - | AO18: 663 | AP18: 663 | AQ18: 663 | AR18: 663 | AS18: 663 | AT18: -
A19: Jurista centralizētais eksāmens augstskolās | B19: I. | C19: 300 / maijā - jūnijā | D19: 300 | E19: 300 | F19: 300 | G19: 300 | H19: =SUM(D19:G19) -> 1200 | I19: 300 | J19: 300 | K19: 300 | L19: 300 | M19: =SUM(I19:L19) -> 1200 | S19: =SUM(N19:R19) -> 0 | X19: =SUM(T19:W19) -> 0 | AC19: =SUM(Y19:AB19) -> 0 | AI19: =SUM(AD19:AH19) -> 0 | AN19: =SUM(AJ19:AM19) -> 0 | AT19: =SUM(AO19:AS19) -> 0
A20: Nometnes skolēniem | B20: I. | C20: Jūlijs-augusts | H20: =SUM(D20:G20) -> 0 | M20: =SUM(I20:L20) -> 0 | N20: =(1500+2800)*1.1 + 2500 -> 7230 | O20: =(1500+2800)*1.1 + 2500 -> 7230 | P20: =(1500+2800)*1.1 + 2500 -> 7230 | Q20: =(1500+2800)*1.1 + 2500 -> 7230 | R20: =(1500+2800)*1.1 + 2500 -> 7230 | S20: =SUM(N20:R20) -> 36150 | T20: =(1500+2800)*1.1 + 2500 -> 7230 | U20: =(1500+2800)*1.1 + 2500 -> 7230 | V20: =(1500+2800)*1.1 + 2500 -> 7230 | W20: =(1500+2800)*1.1 + 2500 -> 7230 | X20: =SUM(T20:W20) -> 28920 | AC20: =SUM(Y20:AB20) -> 0 | AI20: =SUM(AD20:AH20) -> 0 | AN20: =SUM(AJ20:AM20) -> 0 | AT20: =SUM(AO20:AS20) -> 0
A21: Sporta nometnes t.sk. skolēniem | B21: I. | C21: Jūlijs-augusts | H21: =SUM(D21:G21) -> 0 | M21: =SUM(I21:L21) -> 0 | N21: 350 | O21: 350 | P21: 350 | Q21: 350 | R21: 350 | S21: =SUM(N21:R21) -> 1750 | T21: 350 | U21: 350 | V21: 350 | W21: 350 | X21: =SUM(T21:W21) -> 1400 | AC21: =SUM(Y21:AB21) -> 0 | AI21: =SUM(AD21:AH21) -> 0 | AN21: =SUM(AJ21:AM21) -> 0 | AT21: =SUM(AO21:AS21) -> 0
A22: Dziesmu svētki | B22: I. | C22: 35.000 10.500 testi periodā augusts-oktobris | H22: =SUM(D22:G22) -> 0 | M22: =SUM(I22:L22) -> 0 | P22: 750 | Q22: 750 | R22: 750 | S22: =SUM(N22:R22) -> 2250 | T22: 750 | U22: 750 | V22: 750 | W22: 750 | X22: =SUM(T22:W22) -> 3000 | Y22: 750 | Z22: 750 | AA22: 750 | AB22: 750 | AC22: =SUM(Y22:AB22) -> 3000 | AD22: 750 | AE22: 750 | AF22: 750 | AI22: =SUM(AD22:AH22) -> 2250 | AN22: =SUM(AJ22:AM22) -> 0 | AT22: =SUM(AO22:AS22) -> 0
A23: Mūzikas, deju skolu beidzēji un skolotāji, kas sniedz klātienes konsultācijas | B23: I. | C23: 4745 | H23: =SUM(D23:G23) -> 0 | M23: =SUM(I23:L23) -> 0 | S23: =SUM(N23:R23) -> 0 | X23: =SUM(T23:W23) -> 0 | AC23: =SUM(Y23:AB23) -> 0 | AI23: =SUM(AD23:AH23) -> 0 | AN23: =SUM(AJ23:AM23) -> 0 | AT23: =SUM(AO23:AS23) -> 0
A24: Izglītības resors: | D24: =SUM(D10:D23) -> 66300 | E24: =SUM(E10:E23) -> 33300 | F24: =SUM(F10:F23) -> 41100 | G24: =SUM(G10:G23) -> 39300 | H24: =SUM(H10:H23) -> 180000 | I24: =SUM(I10:I23) -> 26500 | J24: =SUM(J10:J23) -> 20600 | K24: =SUM(K10:K23) -> 19800 | ... AT24: =SUM(AT10:AT23) -> 1284091
A25: Sociālās aprūpes centra (SAC) darbinieki un klienti, sociālās aprūpes un palīdzības sniedzēji (ārpus SAC) | B25: I. | C25: 39141 | D25: =ROUND(C25/4,0) -> 9785 | E25: 9785 | F25: 9785 | G25: 9785 | H25: =SUM(D25:G25) -> 39140 | I25: 9785 | J25: 9785 | K25: 9785 | L25: 9785 | M25: =SUM(I25:L25) -> 39140 | N25: 9785 | O25: 9785 | P25: 9785 | Q25: 9785 | R25: 9785 | S25: =SUM(N25:R25) -> 48925 | T25: 9785 | U25: 9785 | V25: 9785 | W25: 9785 | X25: =SUM(T25:W25) -> 39140 | Y25: 2935.5 | Z25: 2935.5 | AA25: 2935.5 | AB25: 2935.5 | AC25: 6250 | AD25: 2935.5 | AE25: 2935.5 | AF25: 2935.5 | AG25: 2935.5 | AH25: 2935.5 | AI25: 6250 | AJ25: 2935.5 | AK25: 2935.5 | AL25: 2935.5 | AM25: 2935.5 | AN25: 6250 | AO25: 2935.5 | AP25: 2935.5 | AQ25: 2935.5 | AR25: 2935.5 | AS25: 2935.5 | AT25: 6250
A26: Patversmes (darbinieki) | C26: 505 | D26: 126 | E26: 126 | F26: 126 | G26: 126 | H26: =SUM(D26:G26) -> 504 | I26: 126 | J26: 126 | K26: 126 | L26: 126 | M26: =SUM(I26:L26) -> 504 | N26: 126 | O26: 126 | P26: 126 | Q26: 126 | R26: 126 | S26: =SUM(N26:R26) -> 630 | T26: 126 | U26: 126 | V26: 126 | W26: 126 | X26: =SUM(T26:W26) -> 504 | Y26: 37.8 | Z26: 37.8 | AA26: 37.8 | AB26: 37.8 | AC26: 182 | AD26: 37.8 | AE26: 37.8 | AF26: 37.8 | AG26: 37.8 | AH26: 37.8 | AI26: 182 | AJ26: 37.8 | AK26: 37.8 | AL26: 37.8 | AM26: 37.8 | AN26: 182 | AO26: 37.8 | AP26: 37.8 | AQ26: 37.8 | AR26: 37.8 | AS26: 37.8 | AT26: 182
A27: Bāriņtiesas/ārpus ģimenes atbalsta centri, krīzes audžeģimenes | AC27: 512 | AI27: 512 | AN27: 512 | AT27: 512
A28: Asistenti | AC28: 5321 | AI28: 5321 | AN28: 5321 | AT28: 5321
A29: Pašvaldības sociālie darbinieki, pašvaldības dienas centri | C29: 3758 | D29: =ROUND(3758/4,0) -> 940 | E29: 940 | F29: 940 | G29: 940 | H29: =SUM(D29:G29) -> 3760 | I29: 940 | J29: 940 | K29: 940 | L29: 940 | M29: =SUM(I29:L29) -> 3760 | N29: 940 | O29: 940 | P29: 940 | Q29: 940 | R29: 940 | S29: =SUM(N29:R29) -> 4700 | T29: 940 | U29: 940 | V29: 940 | W29: 940 | X29: =SUM(T29:W29) -> 3760 | Y29: 282 | Z29: 282 | AA29: 282 | AB29: 282 | AC29: 2355 | AD29: 282 | AE29: 282 | AF29: 282 | AG29: 282 | AH29: 282 | AI29: 2355 | AJ29: 282 | AK29: 282 | AL29: 282 | AM29: 282 | AN29: 2355 | AO29: 282 | AP29: 282 | AQ29: 282 | AR29: 282 | AS29: 282 | AT29: 2355
A30: Labklājības resors: | D30: =SUM(D25:D29) -> 10851 | E30: =SUM(E25:E29) -> 10851 | F30: =SUM(F25:F29) -> 10851 | G30: =SUM(G25:G29) -> 10851 | H30: =SUM(H25:H29) -> 43404 | I30: =SUM(I25:I29) -> 10851 | J30: =SUM(J25:J29) -> 10851 | K30: =SUM(K25:K29) -> 10851 | ... AT30: =SUM(AT25:AT29) -> 14620
A31: Pašvaldības policija | B31: I. | C31: 1511 | H31: =SUM(D31:G31) -> 0 | M31: =SUM(I31:L31) -> 0 | S31: =SUM(N31:R31) -> 0 | X31: =SUM(T31:W31) -> 0 | Y31: 0 | AE31: 0 | AJ31: 0 | AP31: 0 | AT31: =SUM(AO31:AS31) -> 0
A32: Valsts policija | B32: II.-III. | C32: 4400 | D32: =C32/4 -> 1100 | E32: 1100 | F32: 1100 | G32: 1100 | H32: =SUM(D32:G32) -> 4400 | I32: 1100 | J32: 1100 | K32: 1100 | L32: 1100 | M32: =SUM(I32:L32) -> 4400 | N32: 1100 | O32: 1100 | P32: 1100 | Q32: 1100 | R32: 1100 | S32: =SUM(N32:R32) -> 5500 | T32: 1100 | U32: 1100 | V32: 1100 | W32: 1100 | X32: =SUM(T32:W32) -> 4400 | Y32: 1320 | Z32: 330 | AA32: 330 | AB32: 330 | AC32: 330 | AD32: 330 | AE32: 1650 | AF32: 330 | AG32: 330 | AH32: 330 | AI32: 330 | AJ32: 1320 | AK32: 330 | AL32: 330 | AM32: 330 | AN32: 330 | AO32: 330 | AP32: 1650 | AQ32: =$W$32*$B$1 -> 330 | AR32: =$W$32*$B$1 -> 330 | AS32: =$W$32*$B$1 -> 330 | AT32: =SUM(AO32:AS32) -> 2970
A33: IeM struktūrvienības | B33: III. | C33: 1142 | D33: 285 | E33: 285 | F33: 285 | G33: 285 | H33: =SUM(D33:G33) -> 1140 | I33: 285 | J33: 285 | K33: 285 | L33: 285 | M33: =SUM(I33:L33) -> 1140 | N33: 285 | O33: 285 | P33: 285 | Q33: 285 | R33: 285 | S33: =SUM(N33:R33) -> 1425 | T33: 285 | U33: 285 | V33: 285 | W33: 285 | X33: =SUM(T33:W33) -> 1140 | Y33: 342 | Z33: 85.5 | AA33: 85.5 | AB33: 85.5 | AC33: 85.5 | AD33: 85.5 | AE33: 427.5 | AF33: 85.5 | AG33: 85.5 | AH33: 85.5 | AI33: 85.5 | AJ33: 342 | AK33: 85.5 | AL33: 85.5 | AM33: 85.5 | AN33: 85.5 | AO33: 85.5 | AP33: 427.5 | AQ33: =$W$33*$B$1 -> 85.5 | AR33: =$W$33*$B$1 -> 85.5 | AS33: =$W$33*$B$1 -> 85.5 | AT33: =SUM(AO33:AS33) -> 769.5
A34: Valsts robežsardze | C34: 700 | D34: =700/4 -> 175 | E34: 175 | F34: 175 | G34: 175 | H34: =SUM(D34:G34) -> 700 | I34: 175 | J34: 175 | K34: 175 | L34: 175 | M34: =SUM(I34:L34) -> 700 | N34: 175 | O34: 175 | P34: 175 | Q34: 175 | R34: 175 | S34: =SUM(N34:R34) -> 875 | T34: 175 | U34: 175 | V34: 175 | W34: 175 | X34: =SUM(T34:W34) -> 700 | Y34: 210 | Z34: 52.5 | AA34: 52.5 | AB34: 52.5 | AC34: 52.5 | AD34: 52.5 | AE34: 262.5 | AF34: 52.5 | AG34: 52.5 | AH34: 52.5 | AI34: 52.5 | AJ34: 210 | AK34: 52.5 | AL34: 52.5 | AM34: 52.5 | AN34: 52.5 | AO34: 52.5 | AP34: 262.5 | AQ34: =$W$34*$B$1 -> 52.5 | AR34: =$W$34*$B$1 -> 52.5 | AS34: =$W$34*$B$1 -> 52.5 | AT34: =SUM(AO34:AS34) -> 472.5
A35: Apsardzes darbinieki | B35: II | C35: 8990 | D35: 2247.5 | E35: 2247.5 | F35: 2247.5 | G35: 2247.5 | H35: =SUM(D35:G35) -> 8990 | I35: 2247.5 | J35: 2247.5 | K35: 2247.5 | L35: 2247.5 | M35: =SUM(I35:L35) -> 8990 | N35: 2247.5 | O35: 2247.5 | P35: 2247.5 | Q35: 2247.5 | R35: 2247.5 | S35: =SUM(N35:R35) -> 11237.5 | T35: 2247.5 | U35: 2247.5 | V35: 2247.5 | W35: 2247.5 | X35: =SUM(T35:W35) -> 8990 | Y35: 2697 | Z35: 674.25 | AA35: 674.25 | AB35: 674.25 | AC35: 674.25 | AD35: 674.25 | AE35: 3371.25 | AF35: 674.25 | AG35: 674.25 | AH35: 674.25 | AI35: 674.25 | AJ35: 2697 | AK35: 674.25 | AL35: 674.25 | AM35: 674.25 | AN35: 674.25 | AO35: 674.25 | AP35: 3371.25 | AQ35: =$W$35*$B$1 -> 674.25 | AR35: =$W$35*$B$1 -> 674.25 | AS35: =$W$35*$B$1 -> 674.25 | AT35: =SUM(AO35:AS35) -> 6068.25
A36: Patvēruma meklētāju izmitināšanas centrs (izmitinātie patvēruma meklētājiem un darbinieki) | B36: II.? | C36: 166 | D36: 42 | E36: 42 | F36: 42 | G36: 42 | H36: =SUM(D36:G36) -> 168 | I36: 42 | J36: 42 | K36: 42 | L36: 42 | M36: =SUM(I36:L36) -> 168 | N36: 43 | O36: 44 | P36: 45 | Q36: 46 | R36: 47 | S36: =SUM(N36:R36) -> 225 | T36: 48 | U36: 49 | V36: 50 | W36: 51 | X36: =SUM(T36:W36) -> 198 | Y36: 214 | Z36: 56 | AA36: 57 | AB36: 58 | AC36: 59 | AD36: 60 | AE36: 290 | AF36: 61 | AG36: 62 | AH36: 63 | AI36: 64 | AJ36: 250 | AK36: 65 | AL36: 66 | AM36: 67 | AN36: 68 | AO36: 69 | AP36: 335 | AQ36: 67 | AR36: 68 | AS36: 69 | AT36: =SUM(AO36:AS36) -> 608
A37: Iekšlietu resors: | D37: =SUM(D31:D36) -> 3849.5 | E37: =SUM(E31:E36) -> 3849.5 | F37: =SUM(F31:F36) -> 3849.5 | G37: =SUM(G31:G36) -> 3849.5 | H37: =SUM(H31:H36) -> 15398 | I37: =SUM(I31:I36) -> 3849.5 | J37: =SUM(J31:J36) -> 3849.5 | K37: =SUM(K31:K36) -> 3849.5 | ... AT37: =SUM(AT31:AT36) -> 10888.25
A38: Sabiedriskās ēdināšanas nozares darbinieki | B38: I. | C38: 30845 | D38: 7711 | E38: 7711 | F38: 7711 | G38: 7711 | H38: =SUM(D38:G38) -> 30844 | I38: 7711 | J38: 7711 | K38: 7711 | L38: 7711 | M38: =SUM(I38:L38) -> 30844 | N38: 7711 | O38: 7711 | P38: 7711 | Q38: 7711 | R38: 7711 | S38: =SUM(N38:R38) -> 38555 | T38: 7711 | U38: 7711 | V38: 7711 | W38: 7711 | X38: =SUM(T38:W38) -> 30844 | Y38: =$W$38*$B$1 -> 2313.3 | Z38: =$W$38*$B$1 -> 2313.3 | AA38: =$W$38*$B$1 -> 2313.3 | AB38: =$W$38*$B$1 -> 2313.3 | AC38: =SUM(Y38:AB38) -> 9253.2 | AD38: =$W$38*$B$1 -> 2313.3 | AE38: =$W$38*$B$1 -> 2313.3 | AF38: =$W$38*$B$1 -> 2313.3 | AG38: =$W$38*$B$1 -> 2313.3 | AH38: =$W$38*$B$1 -> 2313.3 | AI38: =SUM(AD38:AH38) -> 11566.5 | AJ38: =$W$38*$B$1 -> 2313.3 | AK38: =$W$38*$B$1 -> 2313.3 | AL38: =$W$38*$B$1 -> 2313.3 | AM38: =$W$38*$B$1 -> 2313.3 | AN38: =SUM(AJ38:AM38) -> 9253.2 | AO38: =$W$38*$B$1 -> 2313.3 | AP38: =$W$38*$B$1 -> 2313.3 | AQ38: =$W$38*$B$1 -> 2313.3 | AR38: =$W$38*$B$1 -> 2313.3 | AS38: =$W$38*$B$1 -> 2313.3 | AT38: =SUM(AO38:AS38) -> 11566.5
A39: Zvēraudzētāju nozares darbinieki | B39: I. | C39: 106 | D39: 106 | E39: 106 | F39: 106 | G39: 106 | H39: =SUM(D39:G39) -> 424 | I39: 106 | J39: 106 | K39: 106 | L39: 106 | M39: =SUM(I39:L39) -> 424 | N39: 106 | O39: 106 | P39: 106 | Q39: 106 | R39: 106 | S39: =SUM(N39:R39) -> 530 | T39: 106 | U39: 106 | V39: 106 | W39: 106 | X39: =SUM(T39:W39) -> 424 | Y39: =$W$39*$B$1 -> 31.8 | Z39: =$W$39*$B$1 -> 31.8 | AA39: =$W$39*$B$1 -> 31.8 | AB39: =$W$39*$B$1 -> 31.8 | AC39: =SUM(Y39:AB39) -> 127.2 | AD39: =$W$39*$B$1 -> 31.8 | AE39: =$W$39*$B$1 -> 31.8 | AF39: =$W$39*$B$1 -> 31.8 | AG39: =$W$39*$B$1 -> 31.8 | AH39: =$W$39*$B$1 -> 31.8 | AI39: =SUM(AD39:AH39) -> 159 | AJ39: =$W$39*$B$1 -> 31.8 | AK39: =$W$39*$B$1 -> 31.8 | AL39: =$W$39*$B$1 -> 31.8 | AM39: =$W$39*$B$1 -> 31.8 | AN39: =SUM(AJ39:AM39) -> 127.2 | AO39: =$W$39*$B$1 -> 31.8 | AP39: =$W$39*$B$1 -> 31.8 | AQ39: =$W$39*$B$1 -> 31.8 | AR39: =$W$39*$B$1 -> 31.8 | AS39: =$W$39*$B$1 -> 31.8 | AT39: =SUM(AO39:AS39) -> 159
A40: PVD darbinieki | B40: I. | C40: 423 | D40: 212 | F40: 212 | H40: =SUM(D40:G40) -> 424 | I40: 212 | K40: 212 | M40: =SUM(I40:L40) -> 424 | S40: =SUM(N40:R40) -> 0 | X40: =SUM(T40:W40) -> 0 | AC40: =SUM(Y40:AB40) -> 0 | AI40: =SUM(AD40:AH40) -> 0 | AN40: =SUM(AJ40:AM40) -> 0 | AT40: =SUM(AO40:AS40) -> 0
A41: Pārtikas ražošanas nozares darbinieki | B41: II.-III. | C41: AG testiem piekrita - 1300 | D41: 1300 | E41: 1300 | F41: 1300 | G41: 1300 | H41: =SUM(D41:G41) -> 5200 | I41: 1300 | J41: 1300 | K41: 1300 | L41: 1300 | M41: =SUM(I41:L41) -> 5200 | N41: 1170 | O41: 1170 | P41: 1170 | Q41: 1170 | R41: 1170 | S41: =SUM(N41:R41) -> 5850 | T41: 1170 | U41: 1170 | V41: 1170 | W41: 1170 | X41: =SUM(T41:W41) -> 4680 | Y41: =$W$41*$B$1 -> 351 | Z41: =$W$41*$B$1 -> 351 | AA41: =$W$41*$B$1 -> 351 | AB41: =$W$41*$B$1 -> 351 | AC41: =SUM(Y41:AB41) -> 1404 | AD41: =$W$41*$B$1 -> 351 | AE41: =$W$41*$B$1 -> 351 | AF41: =$W$41*$B$1 -> 351 | AG41: =$W$41*$B$1 -> 351 | AH41: =$W$41*$B$1 -> 351 | AI41: =SUM(AD41:AH41) -> 1755 | AJ41: =$W$41*$B$1 -> 351 | AK41: =$W$41*$B$1 -> 351 | AL41: =$W$41*$B$1 -> 351 | AM41: =$W$41*$B$1 -> 351 | AN41: =SUM(AJ41:AM41) -> 1404 | AO41: =$W$41*$B$1 -> 351 | AP41: =$W$41*$B$1 -> 351 | AQ41: =$W$41*$B$1 -> 351 | AR41: =$W$41*$B$1 -> 351 | AS41: =$W$41*$B$1 -> 351 | AT41: =SUM(AO41:AS41) -> 1755
C42: Siekalu testiem piekrita- 6300 | D42: 6300 | E42: 6300 | F42: 6300 | G42: 6300 | H42: =SUM(D42:G42) -> 25200 | I42: 6300 | J42: 6300 | K42: 6300 | L42: 6300 | M42: =SUM(I42:L42) -> 25200 | N42: 5670 | O42: 5670 | P42: 5670 | Q42: 5670 | R42: 5670 | S42: =SUM(N42:R42) -> 28350 | T42: 5670 | U42: 5670 | V42: 5670 | W42: 5670 | X42: =SUM(T42:W42) -> 22680 | Y42: =$W$42*$B$1 -> 1701 | Z42: =$W$42*$B$1 -> 1701 | AA42: =$W$42*$B$1 -> 1701 | AB42: =$W$42*$B$1 -> 1701 | AC42: =SUM(Y42:AB42) -> 6804 | AD42: =$W$42*$B$1 -> 1701 | AE42: =$W$42*$B$1 -> 1701 | AF42: =$W$42*$B$1 -> 1701 | AG42: =$W$42*$B$1 -> 1701 | AH42: =$W$42*$B$1 -> 1701 | AI42: =SUM(AD42:AH42) -> 8505 | AJ42: =$W$42*$B$1 -> 1701 | AK42: =$W$42*$B$1 -> 1701 | AL42: =$W$42*$B$1 -> 1701 | AM42: =$W$42*$B$1 -> 1701 | AN42: =SUM(AJ42:AM42) -> 6804 | AO42: =$W$42*$B$1 -> 1701 | AP42: =$W$42*$B$1 -> 1701 | AQ42: =$W$42*$B$1 -> 1701 | AR42: =$W$42*$B$1 -> 1701 | AS42: =$W$42*$B$1 -> 1701 | AT42: =SUM(AO42:AS42) -> 8505
A43: Zemkopības resors: | D43: =SUM(D38:D42) -> 15629 | E43: =SUM(E38:E42) -> 15417 | F43: =SUM(F38:F42) -> 15629 | G43: =SUM(G38:G42) -> 15417 | H43: =SUM(H38:H42) -> 62092 | I43: =SUM(I38:I42) -> 15629 | J43: =SUM(J38:J42) -> 15417 | K43: =SUM(K38:K42) -> 15629 | ... AT43: =SUM(AT38:AT42) -> 21985.5
A44: Skaistumkopšanā nodarbinātie[1] | B44: I. | C44: 10 088 | D44: =10088/4 -> 2522 | E44: 2522 | F44: 2522 | G44: 2522 | H44: =SUM(D44:G44) -> 10088 | I44: 2522 | J44: 2522 | K44: 2522 | L44: 2522 | M44: =SUM(I44:L44) -> 10088 | N44: 2522 | O44: 2522 | P44: 2522 | Q44: 2522 | R44: 2522 | S44: =SUM(N44:R44) -> 12610 | T44: 2522 | U44: 2522 | V44: 2522 | W44: 2522 | X44: =SUM(T44:W44) -> 10088 | Y44: =$W$44*$B$1 -> 756.6 | Z44: =$W$44*$B$1 -> 756.6 | AA44: =$W$44*$B$1 -> 756.6 | AB44: =$W$44*$B$1 -> 756.6 | AC44: =SUM(Y44:AB44) -> 3026.4 | AD44: =$W$44*$B$1 -> 756.6 | AE44: =$W$44*$B$1 -> 756.6 | AF44: =$W$44*$B$1 -> 756.6 | AG44: =$W$44*$B$1 -> 756.6 | AH44: =$W$44*$B$1 -> 756.6 | AI44: =SUM(AD44:AH44) -> 3783 | AJ44: =$W$44*$B$1 -> 756.6 | AK44: =$W$44*$B$1 -> 756.6 | AL44: =$W$44*$B$1 -> 756.6 | AM44: =$W$44*$B$1 -> 756.6 | AN44: =SUM(AJ44:AM44) -> 3026.4 | AO44: =$W$44*$B$1 -> 756.6 | AP44: =$W$44*$B$1 -> 756.6 | AQ44: =$W$44*$B$1 -> 756.6 | AR44: =$W$44*$B$1 -> 756.6 | AS44: =$W$44*$B$1 -> 756.6 | AT44: =SUM(AO44:AS44) -> 3783
A45: Tirdzniecības zālēs nodarbinātie, lielveikalu darbinieki | B45: II. | C45: 86 278 | D45: =86278/4 -> 21569.5 | E45: 21569.5 | F45: 21569.5 | G45: 21569.5 | H45: =SUM(D45:G45) -> 86278 | I45: 21569.5 | J45: 21569.5 | K45: 21569.5 | L45: 21569.5 | M45: =SUM(I45:L45) -> 86278 | N45: 21569.5 | O45: 21569.5 | P45: 21569.5 | Q45: 21569.5 | R45: 21569.5 | S45: =SUM(N45:R45) -> 107847.5 | T45: 21569.5 | U45: 21569.5 | V45: 21569.5 | W45: 21569.5 | X45: =SUM(T45:W45) -> 86278 | Y45: =$W$45*$B$1 -> 6470.85 | Z45: =$W$45*$B$1 -> 6470.85 | AA45: =$W$45*$B$1 -> 6470.85 | AB45: =$W$45*$B$1 -> 6470.85 | AC45: =SUM(Y45:AB45) -> 25883.4 | AD45: =$W$45*$B$1 -> 6470.85 | AE45: =$W$45*$B$1 -> 6470.85 | AF45: =$W$45*$B$1 -> 6470.85 | AG45: =$W$45*$B$1 -> 6470.85 | AH45: =$W$45*$B$1 -> 6470.85 | AI45: =SUM(AD45:AH45) -> 32354.25 | AJ45: =$W$45*$B$1 -> 6470.85 | AK45: =$W$45*$B$1 -> 6470.85 | AL45: =$W$45*$B$1 -> 6470.85 | AM45: =$W$45*$B$1 -> 6470.85 | AN45: =SUM(AJ45:AM45) -> 25883.4 | AO45: =$W$45*$B$1 -> 6470.85 | AP45: =$W$45*$B$1 -> 6470.85 | AQ45: =$W$45*$B$1 -> 6470.85 | AR45: =$W$45*$B$1 -> 6470.85 | AS45: =$W$45*$B$1 -> 6470.85 | AT45: =SUM(AO45:AS45) -> 32354.25
A46: Kritiski svarīgie energoapgādes un informācijas un komunikācijas tehnoloģiju komersantu darbinieki | B46: II. – III. | C46: ap/virs 724 | D46: 724 | E46: 724 | F46: 724 | G46: 724 | H46: =SUM(D46:G46) -> 2896 | I46: 724 | J46: 724 | K46: 724 | L46: 724 | M46: =SUM(I46:L46) -> 2896 | N46: 724 | O46: 724 | P46: 724 | Q46: 724 | R46: 724 | S46: =SUM(N46:R46) -> 3620 | T46: 724 | U46: 724 | V46: 724 | W46: 724 | X46: =SUM(T46:W46) -> 2896 | Y46: =$W$46*$B$1 -> 217.2 | Z46: =$W$46*$B$1 -> 217.2 | AA46: =$W$46*$B$1 -> 217.2 | AB46: =$W$46*$B$1 -> 217.2 | AC46: =SUM(Y46:AB46) -> 868.8 | AD46: =$W$46*$B$1 -> 217.2 | AE46: =$W$46*$B$1 -> 217.2 | AF46: =$W$46*$B$1 -> 217.2 | AG46: =$W$46*$B$1 -> 217.2 | AH46: =$W$46*$B$1 -> 217.2 | AI46: =SUM(AD46:AH46) -> 1086 | AJ46: =$W$46*$B$1 -> 217.2 | AK46: =$W$46*$B$1 -> 217.2 | AL46: =$W$46*$B$1 -> 217.2 | AM46: =$W$46*$B$1 -> 217.2 | AN46: =SUM(AJ46:AM46) -> 868.8 | AO46: =$W$46*$B$1 -> 217.2 | AP46: =$W$46*$B$1 -> 217.2 | AQ46: =$W$46*$B$1 -> 217.2 | AR46: =$W$46*$B$1 -> 217.2 | AS46: =$W$46*$B$1 -> 217.2 | AT46: =SUM(AO46:AS46) -> 1086
A47: Ekonomikas resors: | D47: =SUM(D44:D46) -> 24815.5 | E47: =SUM(E44:E46) -> 24815.5 | F47: =SUM(F44:F46) -> 24815.5 | G47: =SUM(G44:G46) -> 24815.5 | H47: =SUM(H44:H46) -> 99262 | I47: =SUM(I44:I46) -> 24815.5 | J47: =SUM(J44:J46) -> 24815.5 | K47: =SUM(K44:K46) -> 24815.5 | ... AT47: =SUM(AT44:AT46) -> 37223.25
A48: Autoskolu un sabiedriskās braukšanas instruktori braukšanas instruktori[2] | B48: I. | C48: 1000 | D48: 1000 | E48: 1000 | F48: 1000 | G48: 1000 | H48: =SUM(D48:G48) -> 4000 | I48: 1000 | J48: 1000 | K48: 1000 | L48: 1000 | M48: =SUM(I48:L48) -> 4000 | N48: 1000 | O48: 1000 | P48: 1000 | Q48: 1000 | R48: 1000 | S48: =SUM(N48:R48) -> 5000 | T48: 1000 | U48: 1000 | V48: 1000 | W48: 1000 | X48: =SUM(T48:W48) -> 4000 | Y48: 1000 | Z48: 1000 | AA48: 1000 | AB48: 1000 | AC48: =SUM(Y48:AB48) -> 4000 | AD48: 1000 | AE48: 1000 | AF48: 1000 | AG48: 1000 | AH48: 1000 | AI48: =SUM(AD48:AH48) -> 5000 | AJ48: 1000 | AK48: 1000 | AL48: 1000 | AM48: 1000 | AN48: =SUM(AJ48:AM48) -> 4000 | AO48: 1000 | AP48: 1000 | AQ48: 1000 | AR48: 1000 | AS48: 1000 | AT48: =SUM(AO48:AS48) -> 5000
A49: Sabiedriskā transporta (pilsētu un starppilsētu) dispečeri un citi pārvadatāju darbinieki, taksometru vadītāji | B49: II. | C49: 3924 | D49: 630 | E49: 630 | F49: 9716 | G49: 630 | H49: =SUM(D49:G49) -> 11606 | I49: 9716 | J49: 630 | K49: 9716 | L49: 600 | M49: =SUM(I49:L49) -> 20662 | N49: 600 | O49: 600 | P49: 600 | Q49: 600 | R49: 600 | S49: =SUM(N49:R49) -> 3000 | T49: 600 | U49: 600 | V49: 600 | W49: 600 | X49: =SUM(T49:W49) -> 2400 | Y49: 600 | Z49: 600 | AA49: 600 | AB49: 600 | AC49: =SUM(Y49:AB49) -> 2400 | AD49: 600 | AE49: 600 | AF49: 600 | AG49: 600 | AH49: 600 | AI49: =SUM(AD49:AH49) -> 3000 | AJ49: 600 | AK49: 600 | AL49: 600 | AM49: 600 | AN49: =SUM(AJ49:AM49) -> 2400 | AO49: 600 | AP49: 600 | AQ49: 600 | AR49: 600 | AS49: 600 | AT49: =SUM(AO49:AS49) -> 3000
A50: Pasažiervilcienu konduktori, auobusu un stāvvietu kontrolieri | C50: 987/167 | D50: 1154 | E50: 987 | F50: 1154 | G50: 987 | H50: =SUM(D50:G50) -> 4282 | I50: 1154 | J50: 987 | K50: 1067 | L50: 900 | M50: =SUM(I50:L50) -> 4108 | N50: 900 | O50: 900 | P50: 900 | Q50: 900 | R50: 900 | S50: =SUM(N50:R50) -> 4500 | T50: 900 | U50: 900 | V50: 900 | W50: 900 | X50: =SUM(T50:W50) -> 3600 | Y50: 900 | Z50: 900 | AA50: 900 | AB50: 900 | AC50: =SUM(Y50:AB50) -> 3600 | AD50: 900 | AE50: 900 | AF50: 900 | AG50: 900 | AH50: 900 | AI50: =SUM(AD50:AH50) -> 4500 | AJ50: 900 | AK50: 900 | AL50: 900 | AM50: 900 | AN50: =SUM(AJ50:AM50) -> 3600 | AO50: 900 | AP50: 900 | AQ50: 900 | AR50: 900 | AS50: 900 | AT50: =SUM(AO50:AS50) -> 4500
A51: Starptautiskā lidosta „Rīga” | B51: II.-III. | C51: 150 | D51: 150 | E51: 0 | F51: 0 | G51: 0 | H51: =SUM(D51:G51) -> 150 | I51: 0 | J51: 50 | K51: 0 | L51: 0 | M51: =SUM(I51:L51) -> 50 | N51: 0 | O51: 50 | P51: 0 | Q51: 0 | R51: 0 | S51: =SUM(N51:R51) -> 50 | T51: 0 | U51: 50 | V51: 0 | W51: 0 | X51: =SUM(T51:W51) -> 50 | Y51: =$W$51*$B$1 -> 0 | Z51: 0 | AA51: 50 | AB51: 0 | AC51: =SUM(Y51:AB51) -> 50 | AD51: 0 | AE51: 0 | AF51: 0 | AG51: 50 | AH51: 0 | AI51: =SUM(AD51:AH51) -> 50 | AJ51: 0 | AK51: 0 | AL51: 0 | AM51: 50 | AN51: =SUM(AJ51:AM51) -> 50 | AO51: 0 | AP51: 0 | AQ51: 0 | AR51: 0 | AS51: 50 | AT51: =SUM(AO51:AS51) -> 50
A52: Transporta un sakaru nozarē strādājošajiem darbiniekiem | C52: 4054 | D52: 3486 | E52: 3486 | F52: 3495 | G52: 3536 | H52: =SUM(D52:G52) -> 14003 | I52: 3505 | J52: 3446 | K52: 3376 | L52: 3367 | M52: =SUM(I52:L52) -> 13694 | N52: 3217 | O52: 3217 | P52: 3217 | Q52: 3217 | R52: 3217 | S52: =SUM(N52:R52) -> 16085 | T52: 3217 | U52: 3217 | V52: 3217 | W52: 3217 | X52: =SUM(T52:W52) -> 12868 | Y52: 3150 | Z52: 3150 | AA52: 3150 | AB52: 3150 | AC52: =SUM(Y52:AB52) -> 12600 | AD52: 3150 | AE52: 3150 | AF52: 3150 | AG52: 3150 | AH52: 3150 | AI52: =SUM(AD52:AH52) -> 15750 | AJ52: 3150 | AK52: 3150 | AL52: 3150 | AM52: 3150 | AN52: =SUM(AJ52:AM52) -> 12600 | AO52: 3150 | AP52: 3150 | AQ52: 3150 | AR52: 3150 | AS52: 3150 | AT52: =SUM(AO52:AS52) -> 15750
A53: VAS “Latvijas Pasts” | C53: 2721 | D53: 680 | E53: 680 | F53: 680 | G53: 680 | H53: =SUM(D53:G53) -> 2720 | I53: 570 | J53: 570 | K53: 570 | L53: 570 | M53: =SUM(I53:L53) -> 2280 | N53: 570 | O53: 570 | P53: 570 | Q53: 570 | R53: 570 | S53: =SUM(N53:R53) -> 2850 | T53: 475 | U53: 475 | V53: 475 | W53: 475 | X53: =SUM(T53:W53) -> 1900 | Y53: 475 | Z53: 475 | AA53: 475 | AB53: 475 | AC53: =SUM(Y53:AB53) -> 1900 | AD53: 475 | AE53: 475 | AF53: 475 | AG53: 475 | AH53: s475 | AI53: =SUM(AD53:AH53) -> 1900 | AJ53: 475 | AK53: 475 | AL53: 475 | AM53: 475 | AN53: =SUM(AJ53:AM53) -> 1900 | AO53: 475 | AP53: 475 | AQ53: 475 | AR53: 475 | AS53: 475 | AT53: =SUM(AO53:AS53) -> 2375
A54: Satiksmes resors: | D54: =SUM(D48:D53) -> 7100 | E54: =SUM(E48:E53) -> 6783 | F54: =SUM(F48:F53) -> 16045 | G54: =SUM(G48:G53) -> 6833 | H54: =SUM(H48:H53) -> 36761 | I54: =SUM(I48:I53) -> 15945 | J54: =SUM(J48:J53) -> 6683 | K54: =SUM(K48:K53) -> 15729 | ... AT54: =SUM(AT48:AT53) -> 30675
A55: Kultūras sfēras pārstāvji (muzikanti, koristi u.c.), kas piedalās koncertos, izrādēs | B55: II. | C55: 1050 | D55: 1050 | E55: 1050 | F55: 1050 | G55: 1050 | H55: =SUM(D55:G55) -> 4200 | I55: 1050 | J55: 1050 | K55: 1050 | L55: 1050 | M55: =SUM(I55:L55) -> 4200 | N55: 1050 | O55: 1050 | P55: 858 | Q55: 858 | R55: 858 | S55: =SUM(N55:R55) -> 4674 | T55: 858 | U55: 858 | V55: 818 | W55: 818 | X55: =SUM(T55:W55) -> 3352 | Y55: =AC55/4 -> 765 | Z55: 765 | AA55: 765 | AB55: 765 | AC55: 3060 | AD55: =AI55/5 -> 718 | AE55: 718 | AF55: 718 | AG55: 718 | AH55: 718 | AI55: 3590 | AJ55: =AN55/4 -> 712 | AK55: 712 | AL55: 712 | AM55: 712 | AN55: 2848 | AO55: =AT55/5 -> 702 | AP55: 702 | AQ55: 702 | AR55: 702 | AS55: 702 | AT55: 3510
A56: KM koncertorganizācijas VSIA "Kremerata Baltica" PCR testi starpt.darbības nodrošināšanai | C56: PCR testi 3x30 | H56: =SUM(D56:G56) -> 0 | J56: 30 | M56: =SUM(I56:L56) -> 30 | P56: 30 | S56: =SUM(N56:R56) -> 30 | V56: 30 | X56: =SUM(T56:W56) -> 30 | AC56: =SUM(Y56:AB56) -> 0 | AI56: =SUM(AD56:AH56) -> 0 | AN56: =SUM(AJ56:AM56) -> 0 | AT56: =SUM(AO56:AS56) -> 0
A57: Kultūras ministrijas pārziņā esošo augstskolu un tās struktūrvienību studenti un pasniedzēji, kas īsteno programmas klātienē | B57: I. | C57: 700 | D57: 205 | E57: 324 | F57: 347 | G57: 328 | H57: =SUM(D57:G57) -> 1204 | I57: 303 | J57: 298 | K57: 288 | L57: 213 | M57: =SUM(I57:L57) -> 1102 | N57: 153 | O57: 23 | P57: 304 | Q57: 58 | R57: 58 | S57: =SUM(N57:R57) -> 596 | T57: 43 | U57: 31 | V57: 239 | W57: 660 | X57: =SUM(T57:W57) -> 973 | Y57: 1009 | Z57: 1010 | AA57: 1010 | AB57: 1010 | AC57: 4039 | AD57: =AI57/5 -> 1064 | AE57: 1064 | AF57: 1064 | AG57: 1064 | AH57: 1064 | AI57: 5320 | AJ57: =AN57/4 -> 1024 | AK57: 1024 | AL57: 1024 | AM57: 1024 | AN57: 4096 | AO57: =AT57/5 -> 1008 | AP57: 1008 | AQ57: 1008 | AR57: 1008 | AS57: 1008 | AT57: 5040
A58: Muzeju personāls, kurš strādā tiešā kontaktā ar apmeklētājiem | B58: I. | C58: 987 | G58: 987 | H58: =SUM(D58:G58) -> 987 | I58: 987 | J58: 987 | K58: 987 | L58: 987 | M58: =SUM(I58:L58) -> 3948 | N58: 987 | O58: 987 | P58: 987 | Q58: 987 | R58: 987 | S58: =SUM(N58:R58) -> 4935 | T58: 987 | U58: 987 | V58: 987 | W58: 987 | X58: =SUM(T58:W58) -> 3948 | Y58: =AC58/4 -> 460 | Z58: 460 | AA58: 460 | AB58: 460 | AC58: 1840 | AD58: =AI58/5 -> 460 | AE58: 460 | AF58: 460 | AG58: 460 | AH58: 460 | AI58: 2300 | AJ58: =AN58/4 -> 460 | AK58: 460 | AL58: 460 | AM58: 460 | AN58: 1840 | AO58: =AT58/5 -> 460 | AP58: 460 | AQ58: 460 | AR58: 460 | AS58: 460 | AT58: 2300
A59: Latvijas Nacionālā arhīva personāls, kurš strādā tiešā kontaktā ar apmeklētājiem | B59: I. | C59: 20 | D59: 20 | E59: 20 | F59: 20 | G59: 20 | H59: =SUM(D59:G59) -> 80 | I59: 20 | J59: 20 | K59: 20 | L59: 20 | M59: =SUM(I59:L59) -> 80 | N59: 20 | O59: 20 | P59: 20 | R59: 20 | S59: =SUM(N59:R59) -> 80 | T59: 20 | U59: 20 | V59: 20 | W59: 20 | X59: =SUM(T59:W59) -> 80 | Y59: 10 | Z59: 10 | AA59: 10 | AB59: 10 | AC59: 40 | AD59: 10 | AE59: 10 | AF59: 10 | AG59: 10 | AH59: 10 | AI59: 50 | AJ59: 10 | AK59: 10 | AL59: 10 | AM59: 10 | AN59: 40 | AO59: 10 | AP59: 10 | AQ59: 10 | AR59: 10 | AS59: 10 | AT59: 50
A60: Bibliotēku personāls, kurš strādā tiešā kontaktā ar apmeklētājiem | B60: I | C60: 1826 | H60: =SUM(D60:G60) -> 0 | I60: 1826 | J60: 1826 | K60: 1826 | L60: 1826 | M60: =SUM(I60:L60) -> 7304 | N60: 1826 | O60: 1826 | P60: 1826 | Q60: 1826 | R60: 1826 | S60: =SUM(N60:R60) -> 9130 | T60: 1826 | U60: 1826 | V60: 1826 | W60: 1826 | X60: =SUM(T60:W60) -> 7304 | Y60: =AC60/4 -> 900 | Z60: 900 | AA60: 900 | AB60: 900 | AC60: 3600 | AD60: =AI60/5 -> 900 | AE60: 900 | AF60: 900 | AG60: 900 | AH60: 900 | AI60: 4500 | AJ60: 900 | AK60: 900 | AL60: 900 | AM60: 900 | AN60: 3600 | AO60: 900 | AP60: 900 | AQ60: 900 | AR60: 900 | AS60: 900 | AT60: 4500
A61: Kultūras resors: | D61: =SUM(D55:D60) -> 1275 | E61: =SUM(E55:E60) -> 1394 | F61: =SUM(F55:F60) -> 1417 | G61: =SUM(G55:G60) -> 2385 | H61: =SUM(H55:H60) -> 6471 | I61: =SUM(I55:I60) -> 4186 | J61: =SUM(J55:J60) -> 4211 | K61: =SUM(K55:K60) -> 4171 | ... AT61: =SUM(AT55:AT60) -> 15400
A62: Ieslodzījumu vietu darbinieki un ieslodzītie | B62: II. | C62: 1050 | D62: 1050 | E62: 1050 | F62: 1050 | G62: 1050 | H62: =SUM(D62:G62) -> 4200 | I62: 1050 | J62: 1050 | K62: 1050 | L62: 1050 | M62: =SUM(I62:L62) -> 4200 | N62: 1050 | O62: 1050 | P62: 1050 | Q62: 1050 | R62: 1050 | S62: =SUM(N62:R62) -> 5250 | T62: 1050 | U62: 1050 | V62: 1050 | W62: 1050 | X62: =SUM(T62:W62) -> 4200 | Y62: 1350 | Z62: =Y62 -> 1350 | AA62: =Z62 -> 1350 | AB62: =AA62 -> 1350 | AC62: =SUM(Y62:AB62) -> 5400 | AD62: =AB62 -> 1350 | AE62: =AD62 -> 1350 | AF62: =AE62 -> 1350 | AG62: =AF62 -> 1350 | AH62: =AG62 -> 1350 | AI62: =SUM(AD62:AH62) -> 6750 | AJ62: =AH62 -> 1350 | AK62: =AJ62 -> 1350 | AL62: =AK62 -> 1350 | AM62: =AL62 -> 1350 | AN62: =SUM(AJ62:AM62) -> 5400 | AO62: =AM62 -> 1350 | AP62: =AO62 -> 1350 | AQ62: =AP62 -> 1350 | AR62: =AQ62 -> 1350 | AS62: =AR62 -> 1350 | AT62: =SUM(AO62:AS62) -> 6750
A63: Valsts probācijas dienesta darbinieki | B63: II.-III. | C63: 160 | D63: 160 | E63: 160 | F63: 160 | G63: 160 | H63: =SUM(D63:G63) -> 640 | I63: 160 | J63: 160 | K63: 160 | L63: 160 | M63: =SUM(I63:L63) -> 640 | N63: 160 | O63: 160 | P63: 160 | Q63: 160 | R63: 160 | S63: =SUM(N63:R63) -> 800 | T63: 160 | U63: 160 | V63: 160 | W63: 160 | X63: =SUM(T63:W63) -> 640 | Y63: 50 | Z63: =Y63 -> 50 | AA63: =Z63 -> 50 | AB63: =AA63 -> 50 | AC63: =SUM(Y63:AB63) -> 200 | AD63: =AB63 -> 50 | AE63: =AD63 -> 50 | AF63: =AE63 -> 50 | AG63: =AF63 -> 50 | AH63: =AG63 -> 50 | AI63: =SUM(AD63:AH63) -> 250 | AJ63: =AH63 -> 50 | AK63: =AJ63 -> 50 | AL63: =AK63 -> 50 | AM63: =AL63 -> 50 | AN63: =SUM(AJ63:AM63) -> 200 | AO63: =AM63 -> 50 | AP63: =AO63 -> 50 | AQ63: =AP63 -> 50 | AR63: =AQ63 -> 50 | AS63: =AR63 -> 50 | AT63: =SUM(AO63:AS63) -> 250
A64: Augstākā tiesa | B64: III. | C64: 11 | D64: 11 | E64: 11 | F64: 11 | G64: 11 | H64: =SUM(D64:G64) -> 44 | I64: 11 | J64: 11 | K64: 11 | L64: 11 | M64: =SUM(I64:L64) -> 44 | N64: 11 | O64: 11 | P64: 11 | Q64: 11 | R64: 11 | S64: =SUM(N64:R64) -> 55 | T64: 11 | U64: 11 | V64: 11 | W64: 11 | X64: =SUM(T64:W64) -> 44 | Y64: 0 | Z64: =Y64 -> 0 | AA64: =Z64 -> 0 | AB64: =AA64 -> 0 | AC64: =SUM(Y64:AB64) -> 0 | AD64: =AB64 -> 0 | AE64: =AD64 -> 0 | AF64: =AE64 -> 0 | AG64: =AF64 -> 0 | AH64: =AG64 -> 0 | AI64: =SUM(AD64:AH64) -> 0 | AJ64: =AH64 -> 0 | AK64: =AJ64 -> 0 | AL64: =AK64 -> 0 | AM64: =AL64 -> 0 | AN64: =SUM(AJ64:AM64) -> 0 | AO64: =AM64 -> 0 | AP64: =AO64 -> 0 | AQ64: =AP64 -> 0 | AR64: =AQ64 -> 0 | AS64: =AR64 -> 0 | AT64: =SUM(AO64:AS64) -> 0
A65: Zvērināti notāri un viņu darbinieki visā Latvijā | B65: III. | C65: 260 | D65: 260 | E65: 260 | F65: 260 | G65: 260 | H65: =SUM(D65:G65) -> 1040 | I65: 260 | J65: 260 | K65: 260 | L65: 260 | M65: =SUM(I65:L65) -> 1040 | N65: 260 | O65: 260 | P65: 260 | Q65: 260 | R65: 260 | S65: =SUM(N65:R65) -> 1300 | T65: 260 | U65: 260 | V65: 260 | W65: 260 | X65: =SUM(T65:W65) -> 1040 | Y65: 198 | Z65: =Y65 -> 198 | AA65: =Z65 -> 198 | AB65: =AA65 -> 198 | AC65: =SUM(Y65:AB65) -> 792 | AD65: =AB65 -> 198 | AE65: =AD65 -> 198 | AF65: =AE65 -> 198 | AG65: =AF65 -> 198 | AH65: =AG65 -> 198 | AI65: =SUM(AD65:AH65) -> 990 | AJ65: =AH65 -> 198 | AK65: =AJ65 -> 198 | AL65: =AK65 -> 198 | AM65: =AL65 -> 198 | AN65: =SUM(AJ65:AM65) -> 792 | AO65: =AM65 -> 198 | AP65: =AO65 -> 198 | AQ65: =AP65 -> 198 | AR65: =AQ65 -> 198 | AS65: =AR65 -> 198 | AT65: =SUM(AO65:AS65) -> 990
A66: Satversmes tiesa | B66: III. | C66: 50 | D66: 50 | E66: 50 | F66: 50 | G66: 50 | H66: =SUM(D66:G66) -> 200 | I66: 50 | J66: 50 | K66: 50 | L66: 50 | M66: =SUM(I66:L66) -> 200 | N66: 50 | O66: 50 | P66: 50 | Q66: 50 | R66: 50 | S66: =SUM(N66:R66) -> 250 | T66: 50 | U66: 50 | V66: 50 | W66: 50 | X66: =SUM(T66:W66) -> 200 | Y66: 5 | Z66: =Y66 -> 5 | AA66: =Z66 -> 5 | AB66: =AA66 -> 5 | AC66: =SUM(Y66:AB66) -> 20 | AD66: 3 | AE66: =AD66 -> 3 | AF66: =AE66 -> 3 | AG66: =AF66 -> 3 | AH66: =AG66 -> 3 | AI66: =SUM(AD66:AH66) -> 15 | AJ66: =AH66 -> 3 | AK66: =AJ66 -> 3 | AL66: =AK66 -> 3 | AM66: =AL66 -> 3 | AN66: =SUM(AJ66:AM66) -> 12 | AO66: =AM66 -> 3 | AP66: =AO66 -> 3 | AQ66: =AP66 -> 3 | AR66: =AQ66 -> 3 | AS66: =AR66 -> 3 | AT66: =SUM(AO66:AS66) -> 15
A67: Zvērināti tiesu izpildītāji un viņu darbinieki visā Latvijā | B67: III. | C67: 272 | D67: 272 | E67: 272 | F67: 272 | G67: 272 | H67: =SUM(D67:G67) -> 1088 | I67: 272 | J67: 272 | K67: 272 | L67: 272 | M67: =SUM(I67:L67) -> 1088 | N67: 272 | O67: 272 | P67: 272 | Q67: 272 | R67: 272 | S67: =SUM(N67:R67) -> 1360 | T67: 272 | U67: 272 | V67: 272 | W67: 272 | X67: =SUM(T67:W67) -> 1088 | Y67: 223 | Z67: =Y67 -> 223 | AA67: =Z67 -> 223 | AB67: =AA67 -> 223 | AC67: =SUM(Y67:AB67) -> 892 | AD67: =AB67 -> 223 | AE67: =AD67 -> 223 | AF67: =AE67 -> 223 | AG67: =AF67 -> 223 | AH67: =AG67 -> 223 | AI67: =SUM(AD67:AH67) -> 1115 | AJ67: =AH67 -> 223 | AK67: =AJ67 -> 223 | AL67: =AK67 -> 223 | AM67: =AL67 -> 223 | AN67: =SUM(AJ67:AM67) -> 892 | AO67: =AM67 -> 223 | AP67: =AO67 -> 223 | AQ67: =AP67 -> 223 | AR67: =AQ67 -> 223 | AS67: =AR67 -> 223 | AT67: =SUM(AO67:AS67) -> 1115
A68: Latvijas Republikas Prokuratūras | B68: III. | C68: 168 | D68: 168 | E68: 168 | F68: 168 | G68: 168 | H68: =SUM(D68:G68) -> 672 | I68: 168 | J68: 168 | K68: 168 | L68: 168 | M68: =SUM(I68:L68) -> 672 | N68: 168 | O68: 168 | P68: 168 | Q68: 168 | R68: 168 | S68: =SUM(N68:R68) -> 840 | T68: 168 | U68: 168 | V68: 168 | W68: 168 | X68: =SUM(T68:W68) -> 672 | Y68: 50 | Z68: =Y68 -> 50 | AA68: =Z68 -> 50 | AB68: =AA68 -> 50 | AC68: =SUM(Y68:AB68) -> 200 | AD68: =AB68 -> 50 | AE68: =AD68 -> 50 | AF68: =AE68 -> 50 | AG68: =AF68 -> 50 | AH68: =AG68 -> 50 | AI68: =SUM(AD68:AH68) -> 250 | AJ68: =AH68 -> 50 | AK68: =AJ68 -> 50 | AL68: =AK68 -> 50 | AM68: =AL68 -> 50 | AN68: =SUM(AJ68:AM68) -> 200 | AO68: =AM68 -> 50 | AP68: =AO68 -> 50 | AQ68: =AP68 -> 50 | AR68: =AQ68 -> 50 | AS68: =AR68 -> 50 | AT68: =SUM(AO68:AS68) -> 250
A69: Advokatūra | B69: III. | C69: 256 | D69: 256 | E69: 256 | F69: 256 | G69: 256 | H69: =SUM(D69:G69) -> 1024 | I69: 256 | J69: 256 | K69: 256 | L69: 256 | M69: =SUM(I69:L69) -> 1024 | N69: 256 | O69: 256 | P69: 256 | Q69: 256 | R69: 256 | S69: =SUM(N69:R69) -> 1280 | T69: 256 | U69: 256 | V69: 256 | W69: 256 | X69: =SUM(T69:W69) -> 1024 | Y69: 180 | Z69: =Y69 -> 180 | AA69: =Z69 -> 180 | AB69: =AA69 -> 180 | AC69: =SUM(Y69:AB69) -> 720 | AD69: =AB69 -> 180 | AE69: =AD69 -> 180 | AF69: =AE69 -> 180 | AG69: =AF69 -> 180 | AH69: =AG69 -> 180 | AI69: =SUM(AD69:AH69) -> 900 | AJ69: =AH69 -> 180 | AK69: =AJ69 -> 180 | AL69: =AK69 -> 180 | AM69: =AL69 -> 180 | AN69: =SUM(AJ69:AM69) -> 720 | AO69: =AM69 -> 180 | AP69: =AO69 -> 180 | AQ69: =AP69 -> 180 | AR69: =AQ69 -> 180 | AS69: =AR69 -> 180 | AT69: =SUM(AO69:AS69) -> 900
A70: Tiesas | B70: III. | C70: 1603 | D70: 1603 | E70: 1603 | F70: 1603 | G70: 1603 | H70: =SUM(D70:G70) -> 6412 | I70: 1603 | J70: 1603 | K70: 1603 | L70: 1603 | M70: =SUM(I70:L70) -> 6412 | N70: 1603 | O70: 1603 | P70: 1603 | Q70: 1603 | R70: 1603 | S70: =SUM(N70:R70) -> 8015 | T70: 1603 | U70: 1603 | V70: 1603 | W70: 1603 | X70: =SUM(T70:W70) -> 6412 | Y70: 750 | Z70: =Y70 -> 750 | AA70: =Z70 -> 750 | AB70: =AA70 -> 750 | AC70: =SUM(Y70:AB70) -> 3000 | AD70: =AB70 -> 750 | AE70: =AD70 -> 750 | AF70: =AE70 -> 750 | AG70: =AF70 -> 750 | AH70: =AG70 -> 750 | AI70: =SUM(AD70:AH70) -> 3750 | AJ70: =AH70 -> 750 | AK70: =AJ70 -> 750 | AL70: =AK70 -> 750 | AM70: =AL70 -> 750 | AN70: =SUM(AJ70:AM70) -> 3000 | AO70: =AM70 -> 750 | AP70: =AO70 -> 750 | AQ70: =AP70 -> 750 | AR70: =AQ70 -> 750 | AS70: =AR70 -> 750 | AT70: =SUM(AO70:AS70) -> 3750
A71: Latvijas Republikas Tiesībsarga biroja darbinieki[4] | B71: II. | C71: 48 | D71: 48 | E71: 48 | F71: 48 | G71: 48 | H71: =SUM(D71:G71) -> 192 | I71: 48 | J71: 48 | K71: 48 | L71: 48 | M71: =SUM(I71:L71) -> 192 | N71: 48 | O71: 48 | P71: 48 | Q71: 48 | R71: 48 | S71: =SUM(N71:R71) -> 240 | T71: 48 | U71: 48 | V71: 48 | W71: 48 | X71: =SUM(T71:W71) -> 192 | Y71: 25 | Z71: =Y71 -> 25 | AA71: =Z71 -> 25 | AB71: =AA71 -> 25 | AC71: =SUM(Y71:AB71) -> 100 | AD71: =AB71 -> 25 | AE71: =AD71 -> 25 | AF71: =AE71 -> 25 | AG71: =AF71 -> 25 | AH71: =AG71 -> 25 | AI71: =SUM(AD71:AH71) -> 125 | AJ71: =AH71 -> 25 | AK71: =AJ71 -> 25 | AL71: =AK71 -> 25 | AM71: =AL71 -> 25 | AN71: =SUM(AJ71:AM71) -> 100 | AO71: =AM71 -> 25 | AP71: =AO71 -> 25 | AQ71: =AP71 -> 25 | AR71: =AQ71 -> 25 | AS71: =AR71 -> 25 | AT71: =SUM(AO71:AS71) -> 125
A72: Tieslietu resors: | D72: =SUM(D62:D71) -> 3878 | E72: =SUM(E62:E71) -> 3878 | F72: =SUM(F62:F71) -> 3878 | G72: =SUM(G62:G71) -> 3878 | H72: =SUM(H62:H71) -> 15512 | I72: =SUM(I62:I71) -> 3878 | J72: =SUM(J62:J71) -> 3878 | K72: =SUM(K62:K71) -> 3878 | ... AT72: =SUM(AT62:AT71) -> 14145
A73: Ārlietu ministrijas Valsts Protokola darbinieki | B73: I. | C73: 2 | D73: 2 | E73: 2 | F73: 2 | G73: 2 | H73: =SUM(D73:G73) -> 8 | I73: 2 | J73: 2 | K73: 2 | L73: 2 | M73: =SUM(I73:L73) -> 8 | N73: 2 | O73: 2 | P73: 2 | Q73: 2 | R73: 2 | S73: =SUM(N73:R73) -> 10 | T73: 2 | U73: 2 | V73: 2 | W73: 2 | X73: =SUM(T73:W73) -> 8 | Y73: =W73*$B$1 -> 0.6 | Z73: =Y73 -> 0.6 | AA73: =Z73 -> 0.6 | AB73: =AA73 -> 0.6 | AC73: =SUM(Y73:AB73) -> 2.4 | AD73: =AB73 -> 0.6 | AE73: =AD73 -> 0.6 | AF73: =AE73 -> 0.6 | AG73: =AF73 -> 0.6 | AH73: =AG73 -> 0.6 | AI73: =SUM(AD73:AH73) -> 3 | AJ73: =AH73 -> 0.6 | AK73: =AJ73 -> 0.6 | AL73: =AK73 -> 0.6 | AM73: =AL73 -> 0.6 | AN73: =SUM(AJ73:AM73) -> 2.4 | AO73: =AM73 -> 0.6 | AP73: =AO73 -> 0.6 | AQ73: =AP73 -> 0.6 | AR73: =AQ73 -> 0.6 | AS73: =AR73 -> 0.6 | AT73: =SUM(AO73:AS73) -> 3
A74: Valsts prezidenta kanceleja | C74: 60 | D74: 60 | E74: 60 | F74: 60 | G74: 60 | H74: =SUM(D74:G74) -> 240 | I74: 60 | J74: 60 | K74: 60 | L74: 60 | M74: =SUM(I74:L74) -> 240 | S74: =SUM(N74:R74) -> 0 | X74: =SUM(T74:W74) -> 0 | Y74: =W74*$B$1 -> 0 | Z74: =Y74 -> 0 | AA74: =Z74 -> 0 | AB74: =AA74 -> 0 | AC74: =SUM(Y74:AB74) -> 0 | AD74: =AB74 -> 0 | AE74: =AD74 -> 0 | AF74: =AE74 -> 0 | AG74: =AF74 -> 0 | AH74: =AG74 -> 0 | AI74: =SUM(AD74:AH74) -> 0 | AJ74: =AH74 -> 0 | AK74: =AJ74 -> 0 | AL74: =AK74 -> 0 | AM74: =AL74 -> 0 | AN74: =SUM(AJ74:AM74) -> 0 | AO74: =AM74 -> 0 | AP74: =AO74 -> 0 | AQ74: =AP74 -> 0 | AR74: =AQ74 -> 0 | AS74: =AR74 -> 0 | AT74: =SUM(AO74:AS74) -> 0
A75: Valsts policijas starptautiskais konvojs | B75: I. | C75: 44382 | D75: 7 | E75: 7 | F75: 7 | G75: 7 | H75: =SUM(D75:G75) -> 28 | I75: 7 | J75: 7 | K75: 7 | L75: 7 | M75: =SUM(I75:L75) -> 28 | N75: 7 | O75: 7 | P75: 7 | Q75: 7 | R75: 7 | S75: =SUM(N75:R75) -> 35 | T75: 7 | U75: 7 | V75: 7 | W75: 7 | X75: =SUM(T75:W75) -> 28 | Y75: =W75*$B$1 -> 2.1 | Z75: =Y75 -> 2.1 | AA75: =Z75 -> 2.1 | AB75: =AA75 -> 2.1 | AC75: =SUM(Y75:AB75) -> 8.4 | AD75: =AB75 -> 2.1 | AE75: =AD75 -> 2.1 | AF75: =AE75 -> 2.1 | AG75: =AF75 -> 2.1 | AH75: =AG75 -> 2.1 | AI75: =SUM(AD75:AH75) -> 10.5 | AJ75: =AH75 -> 2.1 | AK75: =AJ75 -> 2.1 | AL75: =AK75 -> 2.1 | AM75: =AL75 -> 2.1 | AN75: =SUM(AJ75:AM75) -> 8.4 | AO75: =AM75 -> 2.1 | AP75: =AO75 -> 2.1 | AQ75: =AP75 -> 2.1 | AR75: =AQ75 -> 2.1 | AS75: =AR75 -> 2.1 | AT75: =SUM(AO75:AS75) -> 10.5
A76: Latvijas Antidopinga birojs | B76: I. | C76: 7 | D76: 7 | E76: 7 | F76: 7 | G76: 7 | H76: =SUM(D76:G76) -> 28 | I76: 7 | J76: 7 | K76: 7 | L76: 7 | M76: =SUM(I76:L76) -> 28 | N76: 7 | O76: 7 | P76: 7 | Q76: 7 | R76: 7 | S76: =SUM(N76:R76) -> 35 | T76: 7 | U76: 7 | V76: 7 | W76: 7 | X76: =SUM(T76:W76) -> 28 | Y76: =W76*$B$1 -> 2.1 | Z76: =Y76 -> 2.1 | AA76: =Z76 -> 2.1 | AB76: =AA76 -> 2.1 | AC76: =SUM(Y76:AB76) -> 8.4 | AD76: =AB76 -> 2.1 | AE76: =AD76 -> 2.1 | AF76: =AE76 -> 2.1 | AG76: =AF76 -> 2.1 | AH76: =AG76 -> 2.1 | AI76: =SUM(AD76:AH76) -> 10.5 | AJ76: =AH76 -> 2.1 | AK76: =AJ76 -> 2.1 | AL76: =AK76 -> 2.1 | AM76: =AL76 -> 2.1 | AN76: =SUM(AJ76:AM76) -> 8.4 | AO76: =AM76 -> 2.1 | AP76: =AO76 -> 2.1 | AQ76: =AP76 -> 2.1 | AR76: =AQ76 -> 2.1 | AS76: =AR76 -> 2.1 | AT76: =SUM(AO76:AS76) -> 10.5
A77: Veselības inspekcija | B77: I. | C77: 30 | D77: 30 | E77: 30 | F77: 30 | G77: 30 | H77: =SUM(D77:G77) -> 120 | I77: 30 | J77: 30 | K77: 30 | L77: 30 | M77: =SUM(I77:L77) -> 120 | N77: 30 | O77: 30 | P77: 30 | Q77: 30 | R77: 30 | S77: =SUM(N77:R77) -> 150 | T77: 30 | U77: 30 | V77: 30 | W77: 30 | X77: =SUM(T77:W77) -> 120 | Y77: =W77*$B$1 -> 9 | Z77: =Y77 -> 9 | AA77: =Z77 -> 9 | AB77: =AA77 -> 9 | AC77: =SUM(Y77:AB77) -> 36 | AD77: =AB77 -> 9 | AE77: =AD77 -> 9 | AF77: =AE77 -> 9 | AG77: =AF77 -> 9 | AH77: =AG77 -> 9 | AI77: =SUM(AD77:AH77) -> 45 | AJ77: =AH77 -> 9 | AK77: =AJ77 -> 9 | AL77: =AK77 -> 9 | AM77: =AL77 -> 9 | AN77: =SUM(AJ77:AM77) -> 36 | AO77: =AM77 -> 9 | AP77: =AO77 -> 9 | AQ77: =AP77 -> 9 | AR77: =AQ77 -> 9 | AS77: =AR77 -> 9 | AT77: =SUM(AO77:AS77) -> 45
A78: SPKC | B78: I. | C78: 50 | D78: 50 | E78: 50 | F78: 50 | G78: 50 | H78: =SUM(D78:G78) -> 200 | I78: 50 | J78: 50 | K78: 50 | L78: 50 | M78: =SUM(I78:L78) -> 200 | N78: 30 | O78: 30 | P78: 30 | Q78: 30 | R78: 30 | S78: =SUM(N78:R78) -> 150 | T78: 30 | U78: 30 | V78: 30 | W78: 30 | X78: =SUM(T78:W78) -> 120 | Y78: =W78*$B$1 -> 9 | Z78: =Y78 -> 9 | AA78: =Z78 -> 9 | AB78: =AA78 -> 9 | AC78: =SUM(Y78:AB78) -> 36 | AD78: =AB78 -> 9 | AE78: =AD78 -> 9 | AF78: =AE78 -> 9 | AG78: =AF78 -> 9 | AH78: =AG78 -> 9 | AI78: =SUM(AD78:AH78) -> 45 | AJ78: =AH78 -> 9 | AK78: =AJ78 -> 9 | AL78: =AK78 -> 9 | AM78: =AL78 -> 9 | AN78: =SUM(AJ78:AM78) -> 36 | AO78: =AM78 -> 9 | AP78: =AO78 -> 9 | AQ78: =AP78 -> 9 | AR78: =AQ78 -> 9 | AS78: =AR78 -> 9 | AT78: =SUM(AO78:AS78) -> 45
A79: Institūcijas, kuras nodrošina valsts kritiskās funkcijas | B79: I. | D79: =SUM(D73:D78) -> 156 | E79: =SUM(E73:E78) -> 156 | F79: =SUM(F73:F78) -> 156 | G79: =SUM(G73:G78) -> 156 | H79: =SUM(H73:H78) -> 624 | I79: =SUM(I73:I78) -> 156 | J79: =SUM(J73:J78) -> 156 | K79: =SUM(K73:K78) -> 156 | ... AT79: =SUM(AT73:AT78) -> 114
A80: Kājnieku skolas un pārējās NBS MVP mācību iestāžu darbinieki un apmācāmie karavīri, ja mācības notiek klātienē, | B80: I. | C80: 15 Ag testi vai 450 – 500 siekalu testi nedēļā | D80: 500 | E80: 500 | F80: 500 | G80: 500 | H80: =SUM(D80:G80) -> 2000 | I80: 500 | J80: 500 | K80: 500 | L80: 500 | M80: =SUM(I80:L80) -> 2000 | N80: 500 | O80: 500 | P80: 250 | Q80: 250 | R80: 250 | S80: =SUM(N80:R80) -> 1750 | T80: 250 | U80: 250 | V80: 250 | W80: 250 | X80: =SUM(T80:W80) -> 1000 | Y80: =W80*$B$1 -> 75 | Z80: =Y80 -> 75 | AA80: =Z80 -> 75 | AB80: =AA80 -> 75 | AC80: =SUM(Y80:AB80) -> 300 | AD80: =AB80 -> 75 | AE80: =AD80 -> 75 | AF80: =AE80 -> 75 | AG80: =AF80 -> 75 | AH80: =AG80 -> 75 | AI80: =SUM(AD80:AH80) -> 375 | AJ80: =AH80 -> 75 | AK80: =AJ80 -> 75 | AL80: =AK80 -> 75 | AM80: =AL80 -> 75 | AN80: =SUM(AJ80:AM80) -> 300 | AO80: =AM80 -> 75 | AP80: =AO80 -> 75 | AQ80: =AP80 -> 75 | AR80: =AQ80 -> 75 | AS80: =AR80 -> 75 | AT80: =SUM(AO80:AS80) -> 375
A81: t.sk. zemessargu testi pirms došanās uz šīm mācību iestādēm | C81: 50 deguna un rīkles iztriepes vai 50 siekalu testi nedēļā | D81: 50 | E81: 50 | F81: 50 | G81: 50 | H81: =SUM(D81:G81) -> 200 | I81: 50 | J81: 50 | K81: 50 | L81: 50 | M81: =SUM(I81:L81) -> 200 | N81: 50 | O81: 50 | P81: 25 | Q81: 25 | R81: 25 | S81: =SUM(N81:R81) -> 175 | T81: 25 | U81: 25 | V81: 25 | W81: 25 | X81: =SUM(T81:W81) -> 100 | Y81: =W81*$B$1 -> 7.5 | Z81: =Y81 -> 7.5 | AA81: =Z81 -> 7.5 | AB81: =AA81 -> 7.5 | AC81: =SUM(Y81:AB81) -> 30 | AD81: =AB81 -> 7.5 | AE81: =AD81 -> 7.5 | AF81: =AE81 -> 7.5 | AG81: =AF81 -> 7.5 | AH81: =AG81 -> 7.5 | AI81: =SUM(AD81:AH81) -> 37.5 | AJ81: =AH81 -> 7.5 | AK81: =AJ81 -> 7.5 | AL81: =AK81 -> 7.5 | AM81: =AL81 -> 7.5 | AN81: =SUM(AJ81:AM81) -> 30 | AO81: =AM81 -> 7.5 | AP81: =AO81 -> 7.5 | AQ81: =AP81 -> 7.5 | AR81: =AQ81 -> 7.5 | AS81: =AR81 -> 7.5 | AT81: =SUM(AO81:AS81) -> 37.5
A82: Zemessargi, pirms mācībām klātienē | B82: I. | C82: 2000 Ag testu vai 1000 deguna un rīkles iztriepes, vai 1000 siekalu testi nedēļā | D82: 1000 | E82: 1000 | F82: 1000 | G82: 1000 | H82: =SUM(D82:G82) -> 4000 | I82: 1000 | J82: 1000 | K82: 1000 | L82: 1000 | M82: =SUM(I82:L82) -> 4000 | N82: 1000 | O82: 1000 | P82: 500 | Q82: 500 | R82: 500 | S82: =SUM(N82:R82) -> 3500 | T82: 500 | U82: 500 | V82: 500 | W82: 500 | X82: =SUM(T82:W82) -> 2000 | Y82: =W82*$B$1 -> 150 | Z82: =Y82 -> 150 | AA82: =Z82 -> 150 | AB82: =AA82 -> 150 | AC82: =SUM(Y82:AB82) -> 600 | AD82: =AB82 -> 150 | AE82: =AD82 -> 150 | AF82: =AE82 -> 150 | AG82: =AF82 -> 150 | AH82: =AG82 -> 150 | AI82: =SUM(AD82:AH82) -> 750 | AJ82: =AH82 -> 150 | AK82: =AJ82 -> 150 | AL82: =AK82 -> 150 | AM82: =AL82 -> 150 | AN82: =SUM(AJ82:AM82) -> 600 | AO82: =AM82 -> 150 | AP82: =AO82 -> 150 | AQ82: =AP82 -> 150 | AR82: =AQ82 -> 150 | AS82: =AR82 -> 150 | AT82: =SUM(AO82:AS82) -> 750
A83: NBS Jūras spēku kuģu personāls pirms dalībām militārajās operācijās/mācībās un ātrās reaģēšanas vienībās | B83: I. | C83: 250 gab. testi (siekalu testi vai deguna un rīkles iztriepe SARS-CoV-2 RNS* noteikšanai) | D83: 125 | E83: 125 | F83: 125 | G83: 125 | H83: =SUM(D83:G83) -> 500 | I83: 125 | J83: 125 | K83: 125 | L83: 125 | M83: =SUM(I83:L83) -> 500 | N83: 125 | O83: 125 | P83: 63 | Q83: 63 | R83: 63 | S83: =SUM(N83:R83) -> 439 | T83: 63 | U83: 63 | V83: 63 | W83: 63 | X83: =SUM(T83:W83) -> 252 | Y83: =W83*$B$1 -> 18.9 | Z83: =Y83 -> 18.9 | AA83: =Z83 -> 18.9 | AB83: =AA83 -> 18.9 | AC83: =SUM(Y83:AB83) -> 75.6 | AD83: =AB83 -> 18.9 | AE83: =AD83 -> 18.9 | AF83: =AE83 -> 18.9 | AG83: =AF83 -> 18.9 | AH83: =AG83 -> 18.9 | AI83: =SUM(AD83:AH83) -> 94.5 | AJ83: =AH83 -> 18.9 | AK83: =AJ83 -> 18.9 | AL83: =AK83 -> 18.9 | AM83: =AL83 -> 18.9 | AN83: =SUM(AJ83:AM83) -> 75.6 | AO83: =AM83 -> 18.9 | AP83: =AO83 -> 18.9 | AQ83: =AP83 -> 18.9 | AR83: =AQ83 -> 18.9 | AS83: =AR83 -> 18.9 | AT83: =SUM(AO83:AS83) -> 94.5
C84: reizi divās nedēļās | H84: =SUM(D84:G84) -> 0 | M84: =SUM(I84:L84) -> 0 | S84: =SUM(N84:R84) -> 0 | X84: =SUM(T84:W84) -> 0 | Y84: =W84*$B$1 -> 0 | Z84: =Y84 -> 0 | AA84: =Z84 -> 0 | AB84: =AA84 -> 0 | AC84: =SUM(Y84:AB84) -> 0 | AD84: =AB84 -> 0 | AE84: =AD84 -> 0 | AF84: =AE84 -> 0 | AG84: =AF84 -> 0 | AH84: =AG84 -> 0 | AI84: =SUM(AD84:AH84) -> 0 | AJ84: =AH84 -> 0 | AK84: =AJ84 -> 0 | AL84: =AK84 -> 0 | AM84: =AL84 -> 0 | AN84: =SUM(AJ84:AM84) -> 0 | AO84: =AM84 -> 0 | AP84: =AO84 -> 0 | AQ84: =AP84 -> 0 | AR84: =AQ84 -> 0 | AS84: =AR84 -> 0 | AT84: =SUM(AO84:AS84) -> 0
C85: (* pirms došanos jūrā) | H85: =SUM(D85:G85) -> 0 | M85: =SUM(I85:L85) -> 0 | S85: =SUM(N85:R85) -> 0 | X85: =SUM(T85:W85) -> 0 | Y85: =W85*$B$1 -> 0 | Z85: =Y85 -> 0 | AA85: =Z85 -> 0 | AB85: =AA85 -> 0 | AC85: =SUM(Y85:AB85) -> 0 | AD85: =AB85 -> 0 | AE85: =AD85 -> 0 | AF85: =AE85 -> 0 | AG85: =AF85 -> 0 | AH85: =AG85 -> 0 | AI85: =SUM(AD85:AH85) -> 0 | AJ85: =AH85 -> 0 | AK85: =AJ85 -> 0 | AL85: =AK85 -> 0 | AM85: =AL85 -> 0 | AN85: =SUM(AJ85:AM85) -> 0 | AO85: =AM85 -> 0 | AP85: =AO85 -> 0 | AQ85: =AP85 -> 0 | AR85: =AQ85 -> 0 | AS85: =AR85 -> 0 | AT85: =SUM(AO85:AS85) -> 0
A86: NBS struktūrvienības | B86: III. | C86: Ag testi- 4 000 gab. mēnesī (ZS) vai 2 000 deguna un rīkles iztriepes SARS-CoV-2 RNS* noteikšanai gab. mēnesī | D86: =3500/4 -> 875 | E86: =3500/4 -> 875 | F86: =3500/4 -> 875 | G86: =3500/4 -> 875 | H86: =SUM(D86:G86) -> 3500 | I86: =3500/4 -> 875 | J86: =3500/4 -> 875 | K86: =3500/4 -> 875 | L86: =3500/4 -> 875 | M86: =SUM(I86:L86) -> 3500 | N86: 875 | O86: 875 | P86: 438 | Q86: 438 | R86: 438 | S86: =SUM(N86:R86) -> 3064 | T86: 438 | U86: 438 | V86: 438 | W86: 438 | X86: =SUM(T86:W86) -> 1752 | Y86: =W86*$B$1 -> 131.4 | Z86: =Y86 -> 131.4 | AA86: =Z86 -> 131.4 | AB86: =AA86 -> 131.4 | AC86: =SUM(Y86:AB86) -> 525.6 | AD86: =AB86 -> 131.4 | AE86: =AD86 -> 131.4 | AF86: =AE86 -> 131.4 | AG86: =AF86 -> 131.4 | AH86: =AG86 -> 131.4 | AI86: =SUM(AD86:AH86) -> 657 | AJ86: =AH86 -> 131.4 | AK86: =AJ86 -> 131.4 | AL86: =AK86 -> 131.4 | AM86: =AL86 -> 131.4 | AN86: =SUM(AJ86:AM86) -> 525.6 | AO86: =AM86 -> 131.4 | AP86: =AO86 -> 131.4 | AQ86: =AP86 -> 131.4 | AR86: =AQ86 -> 131.4 | AS86: =AR86 -> 131.4 | AT86: =SUM(AO86:AS86) -> 657
C87: (ZS), vai 3 500 siekalu testi mēnesī (t.sk. 2 000 gab. ZS) | H87: =SUM(D87:G87) -> 0 | M87: =SUM(I87:L87) -> 0 | S87: =SUM(N87:R87) -> 0 | X87: =SUM(T87:W87) -> 0 | Y87: =W87*$B$1 -> 0 | Z87: =Y87 -> 0 | AA87: =Z87 -> 0 | AB87: =AA87 -> 0 | AC87: =SUM(Y87:AB87) -> 0 | AD87: =AB87 -> 0 | AE87: =AD87 -> 0 | AF87: =AE87 -> 0 | AG87: =AF87 -> 0 | AH87: =AG87 -> 0 | AI87: =SUM(AD87:AH87) -> 0 | AJ87: =AH87 -> 0 | AK87: =AJ87 -> 0 | AL87: =AK87 -> 0 | AM87: =AL87 -> 0 | AN87: =SUM(AJ87:AM87) -> 0 | AO87: =AM87 -> 0 | AP87: =AO87 -> 0 | AQ87: =AP87 -> 0 | AR87: =AQ87 -> 0 | AS87: =AR87 -> 0 | AT87: =SUM(AO87:AS87) -> 0
A88: Aizsardzības resors: | D88: =SUM(D80:D87) -> 2550 | E88: =SUM(E80:E87) -> 2550 | F88: =SUM(F80:F87) -> 2550 | G88: =SUM(G80:G87) -> 2550 | H88: =SUM(H80:H87) -> 10200 | I88: =SUM(I80:I87) -> 2550 | J88: =SUM(J80:J87) -> 2550 | K88: =SUM(K80:K87) -> 2550 | ... AB88: =SUM(AB80:AB87) -> 382.8 | AC88: 3000 | AD88: =SUM(AD80:AD87) -> 382.8 | AE88: =SUM(AE80:AE87) -> 382.8 | AF88: =SUM(AF80:AF87) -> 382.8 | AG88: =SUM(AG80:AG87) -> 382.8 | AH88: =SUM(AH80:AH87) -> 382.8 | AI88: 3000 | AJ88: =SUM(AJ80:AJ87) -> 382.8 | AK88: =SUM(AK80:AK87) -> 382.8 | AL88: =SUM(AL80:AL87) -> 382.8 | AM88: =SUM(AM80:AM87) -> 382.8 | AN88: 3000 | AO88: =SUM(AO80:AO87) -> 382.8 | AP88: =SUM(AP80:AP87) -> 382.8 | AQ88: =SUM(AQ80:AQ87) -> 382.8 | AR88: =SUM(AR80:AR87) -> 382.8 | AS88: =SUM(AS80:AS87) -> 382.8 | AT88: 3000
A89: Valsts ieņēmumu dienests | C89: 600 siekalu testi | D89: 600 | E89: 600 | F89: 600 | G89: 600 | H89: =SUM(D89:G89) -> 2400 | I89: 600 | J89: 600 | K89: 600 | L89: 600 | M89: =SUM(I89:L89) -> 2400 | N89: 420 | O89: 420 | P89: 420 | Q89: 420 | R89: 420 | S89: =SUM(N89:R89) -> 2100 | T89: 300 | U89: 300 | V89: 300 | W89: 300 | X89: =SUM(T89:W89) -> 1200 | Y89: =W89*$B$1 -> 90 | Z89: =Y89 -> 90 | AA89: =Z89 -> 90 | AB89: =AA89 -> 90 | AC89: =SUM(Y89:AB89) -> 360 | AD89: =AB89 -> 90 | AE89: =AD89 -> 90 | AF89: =AE89 -> 90 | AG89: =AF89 -> 90 | AH89: =AG89 -> 90 | AI89: =SUM(AD89:AH89) -> 450 | AJ89: =AH89 -> 90 | AK89: =AJ89 -> 90 | AL89: =AK89 -> 90 | AM89: =AL89 -> 90 | AN89: =SUM(AJ89:AM89) -> 360 | AO89: =AM89 -> 90 | AP89: =AO89 -> 90 | AQ89: =AP89 -> 90 | AR89: =AQ89 -> 90 | AS89: =AR89 -> 90 | AT89: =SUM(AO89:AS89) -> 450
A90: Finanšu resors: | D90: =SUM(D89:D89) -> 600 | E90: =SUM(E89:E89) -> 600 | F90: =SUM(F89:F89) -> 600 | G90: =SUM(G89:G89) -> 600 | H90: =SUM(H89:H89) -> 2400 | I90: =SUM(I89:I89) -> 600 | J90: =SUM(J89:J89) -> 600 | K90: =SUM(K89:K89) -> 600 | ... AT90: =SUM(AT89:AT89) -> 450
A91: VARAM resors | B91: III. | C91: 255 | D91: 255 | E91: 255 | F91: 255 | G91: 255 | H91: =SUM(D91:G91) -> 1020 | I91: 255 | J91: 255 | K91: 255 | L91: 255 | M91: =SUM(I91:L91) -> 1020 | S91: =SUM(N91:R91) -> 0 | X91: =SUM(T91:W91) -> 0 | AC91: =SUM(Y91:AB91) -> 0 | AI91: =SUM(AD91:AH91) -> 0 | AN91: =SUM(AJ91:AM91) -> 0 | AT91: =SUM(AO91:AS91) -> 0
A92: Dabas aizsardzības pārvalde un Valsts vides dienests | AC92: 384 | AI92: 384 | AN92: 384 | AT92: 384
A93: Ārlietu resors | B93: III. | C93: 15 | D93: 15 | E93: 15 | F93: 15 | G93: 15 | H93: =SUM(D93:G93) -> 60 | I93: 15 | J93: 15 | K93: 15 | L93: 15 | M93: =SUM(I93:L93) -> 60 | N93: 15 | O93: 15 | P93: 15 | Q93: 15 | R93: 15 | S93: =SUM(N93:R93) -> 75 | T93: 15 | U93: 15 | V93: 15 | W93: 15 | X93: =SUM(T93:W93) -> 60 | Y93: 24 | Z93: =Y93 -> 24 | AA93: =Z93 -> 24 | AB93: =AA93 -> 24 | AC93: 98 | AD93: 28 | AE93: =AD93 -> 28 | AF93: =AE93 -> 28 | AG93: =AF93 -> 28 | AH93: =AG93 -> 28 | AI93: 140 | AJ93: 35 | AK93: =AJ93 -> 35 | AL93: =AK93 -> 35 | AM93: =AL93 -> 35 | AN93: 140 | AO93: 28 | AP93: =AO93 -> 28 | AQ93: =AP93 -> 28 | AR93: =AQ93 -> 28 | AS93: =AR93 -> 28 | AT93: 140
C94: vidēji mēnesī | D94: =SUM(D93,D91,D90,D88,D79,D72,D61,D54,D47,D43,D37,D30,D24,D9) -> 137274 | E94: =SUM(E93,E91,E90,E88,E79,E72,E61,E54,E47,E43,E37,E30,E24,E9) -> 103864 | F94: =SUM(F93,F91,F90,F88,F79,F72,F61,F54,F47,F43,F37,F30,F24,F9) -> 121161 | G94: =SUM(G93,G91,G90,G88,G79,G72,G61,G54,G47,G43,G37,G30,G24,G9) -> 110905 | H94: =SUM(H93,H91,H90,H88,H79,H72,H61,H54,H47,H43,H37,H30,H24,H9) -> 523712 | I94: =SUM(I93,I91,I90,I88,I79,I72,I61,I54,I47,I43,I37,I30,I24,I9) -> 109230 | J94: =SUM(J93,J91,J90,J88,J79,J72,J61,J54,J47,J43,J37,J30,J24,J9) -> 93881 | K94: =SUM(K93,K91,K90,K88,K79,K72,K61,K54,K47,K43,K37,K30,K24,K9) -> 102299 | ... AT94: =SUM(AT93,AT91,AT90,AT88,AT79,AT72,AT61,AT54,AT47,AT43,AT37,AT30,AT24,AT9) -> 1447888
C95: vidēji dienā | D95: =D94/7 -> 19610.571 | E95: =E94/7 -> 14837.714 | F95: =F94/7 -> 17308.714 | G95: =G94/7 -> 15843.571 | I95: =I94/7 -> 15604.286 | J95: =J94/7 -> 13411.571 | K95: =K94/7 -> 14614.143 | L95: =L94/7 -> 12745.714 | N95: =N94/7 -> 12145.143 | O95: =O94/7 -> 12133.857 | P95: =P94/7 -> 12069 | Q95: =Q94/7 -> 12026.857 | R95: =R94/7 -> 12029.857 | T95: =T94/7 -> 11997.143 | U95: =U94/7 -> 12002.714 | V95: =V94/7 -> 12024 | W95: =W94/7 -> 12080 | Y95: =Y94/7 -> 25285.379 | Z95: =Z94/7 -> 24773.414 | AA95: =AA94/7 -> 24780.7 | AB95: =AB94/7 -> 26617.414 | AD95: =AD94/7 -> 44121.414 | AE95: =AE94/7 -> 41119.414 | AF95: =AF94/7 -> 44121.557 | AG95: =AG94/7 -> 40334.129 | AH95: =AH94/7 -> 43946.843 | AJ95: =AJ94/7 -> 40942.093 | AK95: =AK94/7 -> 44113.7 | AL95: =AL94/7 -> 40426.271 | AM95: =AM94/7 -> 44121.129 | AO95: =AO94/7 -> 40317.7 | AP95: =AP94/7 -> 44695.986 | AQ95: =AQ94/7 -> 40488.843 | AR95: =AR94/7 -> 44119.414 | AS95: =AS94/7 -> 40396.271
C96: Testu skaits, ja poolo pa 5 (no jūnija pa 10)) | D96: =D94/5 -> 27454.8 | E96: =E94/5 -> 20772.8 | F96: =F94/5 -> 24232.2 | G96: =G94/5 -> 22181 | H96: =H94/5 -> 104742.4 | I96: =I94/5 -> 21846 | J96: =J94/5 -> 18776.2 | K96: =K94/5 -> 20459.8 | L96: =L94/5 -> 17844 | M96: =M94/10 -> 44713.8 | N96: =N94/5 -> 17003.2 | O96: =O94/5 -> 16987.4 | P96: =P94/5 -> 16896.6 | Q96: =Q94/5 -> 16837.6 | R96: =R94/5 -> 16841.8 | S96: =S94/10 -> 47784.1 | T96: =T94/5 -> 16796 | U96: =U94/5 -> 16803.8 | V96: =V94/5 -> 16833.6 | W96: =W94/5 -> 16912 | X96: =X94/10 -> 38923.5 | Y96: =Y94 -> 176997.65 | Z96: =Z94 -> 173413.9 | AA96: =AA94 -> 173464.9 | AB96: =AB94 -> 186321.9 | AC96: =AC94 -> 690880.45 | AD96: =AD94 -> 308849.9 | AE96: =AE94 -> 287835.9 | AF96: =AF94 -> 308850.9 | ... AT96: =AT94 -> 1447888
A97: tarifs poolings pa 10 | C97: Tarifs | D97: =9.56+3.36 -> 12.92 | E97: =9.56+3.36 -> 12.92 | F97: =9.56+3.36 -> 12.92 | G97: =9.56+3.36 -> 12.92 | H97: =9.56+3.36 -> 12.92 | I97: =9.56+3.36 -> 12.92 | J97: =9.56+3.36 -> 12.92 | K97: =9.56+3.36 -> 12.92 | L97: =9.56+3.36 -> 12.92 | M97: =7.42+3.36 -> 10.78 | N97: =9.56+3.36 -> 12.92 | O97: =9.56+3.36 -> 12.92 | P97: =9.56+3.36 -> 12.92 | Q97: =9.56+3.36 -> 12.92 | R97: =9.56+3.36 -> 12.92 | S97: =7.42+3.36 -> 10.78 | T97: =9.56+3.36 -> 12.92 | U97: =9.56+3.36 -> 12.92 | V97: =9.56+3.36 -> 12.92 | W97: =9.56+3.36 -> 12.92 | X97: =7.42+3.36 -> 10.78 | Y97: =7.42+3.36 -> 10.78 | Z97: =7.42+3.36 -> 10.78 | AA97: =7.42+3.36 -> 10.78 | AB97: =7.42+3.36 -> 10.78 | AC97: =7.42+3.36 -> 10.78 | AD97: =7.42+3.36 -> 10.78 | AE97: =7.42+3.36 -> 10.78 | ... AT97: =7.42+3.36 -> 10.78
A98: tarifs testesanas kocini skoleniem | Y98: 3.54 | Z98: 3.54 | AA98: 3.54 | AB98: 3.54 | AC98: 3.54 | AD98: 3.54 | AE98: 3.54 | AF98: 3.54 | AG98: 3.54 | AH98: 3.54 | AI98: 3.54 | AJ98: 3.54 | AK98: 3.54 | AL98: 3.54 | AM98: 3.54 | AN98: 3.54 | AO98: 3.54 | AP98: 3.54 | AQ98: 3.54 | AR98: 3.54 | AS98: 3.54 | AT98: 3.54
A101: Prioritaras grupas (iznemot skolenus)+ konsilijs (A variants) | Y101: =Y5+Y6+Y25+Y26+Y36+Y62+Y16 -> 17496.3 | Z101: =Z5+Z6+Z25+Z26+Z36+Z62+Z16 -> 17338.3 | AA101: =AA5+AA6+AA25+AA26+AA36+AA62+AA16 -> 17339.3 | AB101: =AB5+AB6+AB25+AB26+AB36+AB62+AB16 -> 30246.3 | AC101: =AC5+AC6+AC25+AC26+AC36+AC62+AC16 -> 76633 | AD101: =AD5+AD6+AD25+AD26+AD36+AD62+AD16 -> 30238.3 | AE101: =AE5+AE6+AE25+AE26+AE36+AE62+AE16 -> 4655.3 | AF101: =AF5+AF6+AF25+AF26+AF36+AF62+AF16 -> 30239.3 | ... AT101: =AT5+AT6+AT25+AT26+AT36+AT62+AT16 -> 65626
A102: Prioritara grupa (skoleni) (A variants) | Y102: =Y15 -> 123246 | Z102: =Z15 -> 123246 | AA102: =AA15 -> 123246 | AB102: =AB15 -> 123246 | AC102: =AC15 -> 492984 | AD102: =AD15 -> 246493 | AE102: =AE15 -> 246493 | AF102: =AF15 -> 246493 | ... AT102: =AT15 -> 1232465
...

Sheet Konsilijs
F2: ALGA no 2021. gada | O2: U | P2: A | Q2: n
F3: 1862 | G3: 1117 | H3: 745 | I3: VSAOI | O3: 0.3133 | P3: 0.0251 | Q3: 0.0401
E4: EURO | F4: =ROUND((F3/9600),4) -> 0.194 | G4: =ROUND((G3/9600),4) -> 0.1164 | H4: =ROUND((H3/9600),4) -> 0.0776 | I4: 0.2359
A7: Manip. kods (ja ir iezīmēts) | B7: Manipulācijas plānotais nosaukums | C7: Darba laiks (minūtes) | F7: Darba samaksa D, euro | I7: Valsts sociālās adrošināšanas obligātās iemaksas S, euro | J7: Ārstniecības līdzekļi M, euro | M7: Iekārtu nolietojums N, euro | N7: Citi pieskaitāmie izdevumi, u', euro | O7: Pieskaitāmās un netiešās ražošanas izmaksas U, euro | P7: Administratīvās izmaksas A, euro | Q7: Pārējo pamatlīdzekļu amortizācija n, euro | R7: Tarifs, euro
C8: ārstam | D8: māsai | E8: jaunākajam personālām | F8: ārstam | G8: māsai | H8: jaunākajam personālam | I8: ārstam, māsai un jaunākajam personālām kopā | J8: M kopā | K8: Medikamenti / reaģenti | L8: Materiāli | S8: Plānoto pacientu skaits | T8: Finanšu ietekme
A9: 1 | B9: 2 | C9: 3 | D9: 4 | E9: 5 | F9: 6 | G9: 7 | H9: 8 | I9: 9 | J9: 10 = 11 + 12 | K9: 11 | L9: 12 | M9: 13 | N9: 14 | O9: 15 | P9: 16 | Q9: 17 | R9: 18
A10: JAUNA | B10: Ārstu konsīlijs (3 speciālisti) pacientam, kuram ir kontrindicēta Covid-19 vakcinācija. Iekļauta samaksa par visu konsīlijā iesaistīto darbu. Vienam pacientam vienu reizi norāda konsīlija vadītājs. | C10: 360 | D10: 50 | E10: 0 | F10: =ROUND(C10*F$4,2) -> 69.84 | G10: =ROUND(D10*G$4,2) -> 5.82 | H10: =ROUND(E10*H$4,2) -> 0 | I10: =ROUND((F10+G10+H10)*$I$4,2) -> 17.85 | J10: =L10+K10 -> 0.88 | K10: 0 | L10: 0.88 | M10: 0 | N10: 0 | O10: =ROUND(($F$10+$G$10+$H$10)*O$3,2) -> 23.7 | P10: =ROUND(($F$10+$G$10+$H$10)*P$3,2) -> 1.9 | Q10: =ROUND(($F$10+$G$10+$H$10)*Q$3,2) -> 3.03 | R10: =F10+G10+H10+I10+J10+M10+N10+O10+P10+Q10 -> 123.02 | S10: 100 | T10: =R10*S10 -> 12302
A11: JAUNA | B11: Piemaksa manipulācijai JAUNA par katru nākamo speciālistu pirmreizējā vai atkārotā konsīlijā pacientam, kuram ir kontrindicēta Covid-19 vakcinācija. Vienam pacientam vienu reizi norāda konsīlija vadītājs. | C11: 120 | D11: 0 | E11: 0 | F11: =ROUND(C11*F$4,2) -> 23.28 | G11: =ROUND(D11*G$4,2) -> 0 | H11: =ROUND(E11*H$4,2) -> 0 | I11: =ROUND((F11+G11+H11)*$I$4,2) -> 5.49 | J11: 0 | K11: 0 | L11: 0 | M11: 0 | N11: 0 | O11: =ROUND(($F$11+$G$11+$H$11)*O$3,2) -> 7.29 | P11: =ROUND(($F$11+$G$11+$H$11)*P$3,2) -> 0.58 | Q11: =ROUND(($F$11+$G$11+$H$11)*Q$3,2) -> 0.93 | R11: =F11+G11+H11+I11+J11+M11+N11+O11+P11+Q11 -> 37.57 | S11: 50 | T11: =R11*S11 -> 1878.5
A12: JAUNA | B12: Piemaksa ģimenes ārstam par dokumentācijas un nosūtījuma sagatavošanu, un personas pieteikšanu uz Covid-19 vakcinācijas veikšanu dienas stacionārā personām, kurām vakcinācija tiek veikta, ievērojot īpašu piesardzību. | C12: 30 | D12: 0 | E12: 0 | F12: =ROUND(C12*F$4,2) -> 5.82 | G12: =ROUND(D12*G$4,2) -> 0 | H12: =ROUND(E12*H$4,2) -> 0 | I12: =ROUND((F12+G12+H12)*$I$4,2) -> 1.37 | J12: =L12+K12 -> 0 | K12: 0 | L12: 0 | M12: 0 | N12: 0 | O12: =ROUND(($F$12+$G$12+$H$12)*O$3,2) -> 1.82 | P12: =ROUND(($F$12+$G$12+$H$12)*P$3,2) -> 0.15 | Q12: =ROUND(($F$12+$G$12+$H$12)*Q$3,2) -> 0.23 | R12: =F12+G12+H12+I12+J12+M12+N12+O12+P12+Q12 -> 9.39 | S12: 100 | T12: =R12*S12 -> 939
T13: =SUM(T10:T12) -> 15119.5
