Workbook
Name _bkm78: [1]Pielikums39!#REF!

Sheet priekšlikumi_teksta_daļai
B1: Ministriju un citu centrālo valsts iestāžu priekšlikumi
B2: likumprojekta „Par valsts budžetu 2023. gadam un budžeta ietvaru 2023., 2024. un 2025. gadam” izskatīšanai Saeimā otrajā lasījumā
D4: Priekšlikums MK atzinumam
B5: Pieņemts pirmajā lasījumā | C5: Priekšlikumi 2.lasījumam
B7: Par likumprojekta "Par valsts budžetu 2023.gadam un budžeta ietvaru 2023., 2024. un 2025.gadam" teksta daļu:
B9: 13. Finanšu ministrija
A10: =1 -> 1 | B10: 25. pants. Noteikt, ka akciju sabiedrība “Augstsprieguma tīkls” ieskaita valsts pamatbudžeta ieņēmumos dividenžu maksājumu 2024. gadā (par 2023. pārskata gadu) 64 procentu apmērā no pārskata gada peļņas, bet ne mazāk kā 14 014 067 euro un 2025. gadā (par 2024. pārskata gadu) 64 procentu apmērā no pārskata gada peļņas, bet ne mazāk kā 14 676 376 euro, uzņēmumu ienākuma nodokli aprēķinot un nomaksājot uzņēmumu ienākuma nodokli regulējošos normatīvajos aktos noteiktajā kārtībā. | C10: Izteikt likumprojekta 25. pantu šādā redakcijā: "25. pants. Noteikt, ka akciju sabiedrība “Augstsprieguma tīkls” ieskaita valsts pamatbudžeta ieņēmumos dividenžu maksājumu 2024. gadā (par 2023. pārskata gadu) 64 procentu apmērā no pārskata gada peļņas, bet ne mazāk kā 10 117 120 euro un 2025. gadā (par 2024. pārskata gadu) 64 procentu apmērā no pārskata gada peļņas, bet ne mazāk kā 10 391 040 euro, uzņēmumu ienākuma nodokli aprēķinot un nomaksājot uzņēmumu ienākuma nodokli regulējošos normatīvajos aktos noteiktajā kārtībā." | D10: Atbalstīt
B11: Ņemot vērā “Augstsprieguma tīkls”atbilstoši tarifu izmaiņām aktualizēto prognozētās peļņas apmēru, 2024. un 2025.gadā nepieciešams samazināt ieņēmumu prognozi no “Augstsprieguma tīkls” maksājuma par valsts kapitāla izmantošanu atbilstoši tarifu izmaiņām (17.02.2023. vēstule Nr.2.5/2023/858).
B13: 13. Finanšu ministrija
A14: =A10+1 -> 2 | B14: 31. pants. Apstiprināt valsts budžeta dotāciju pašvaldībām 81 692 732 euro apmērā, tai skaitā: | C14: Izteikt likumprojekta 31.pantu šādā redakcijā: "31. pants. Apstiprināt valsts budžeta dotāciju pašvaldībām 82 638 689 euro apmērā, tai skaitā: | D14: Atbalstīt
B15: 1) pašvaldību finanšu izlīdzināšanas fondam 81 088 436 euro apmērā; | C15: 1) pašvaldību finanšu izlīdzināšanas fondam 81 088 436 euro apmērā;
B16: 2) pašvaldībām par iemītniekiem veco ļaužu pansionātos un centros (par vienu iemītnieku 7848 euro), kuri tajos ievietoti līdz 1998. gada 1. janvārim, 604 296 euro apmērā. Ministru kabinets nosaka kārtību, kādā pašvaldībām piešķir valsts budžeta dotāciju. | C16: 2) pašvaldībām par iemītniekiem veco ļaužu pansionātos un centros (par vienu iemītnieku 7848 euro), kuri tajos ievietoti līdz 1998. gada 1. janvārim, 604 296 euro apmērā. Ministru kabinets nosaka kārtību, kādā pašvaldībām piešķir valsts budžeta dotāciju;
C17: 3) budžeta dotāciju 945 957 euro apmērā pamatojoties uz Ministru kabineta rīkojumu piešķiršanai pašvaldībām, kurām izlīdzinātie ieņēmumi uz vienu izlīdzināmo vienību ir zemāki par 90 % no vidējiem izlīdzinātiem ieņēmumiem un izlīdzināto ieņēmumu pieaugums ir zemāks par 80 % no pašvaldību vidējā izlīdzināto ieņēmumu pieauguma."
B19: 13. Finanšu ministrija
A20: =A14+1 -> 3 | C20: Papildināt likumprojekta 58.pantu ar trešo daļu šādā redakcijā: | D20: Atbalstīt
B21: 58. pants. (1) Valsts akciju sabiedrība “Valsts nekustamie īpašumi” vai sabiedrība ar ierobežotu atbildību “Publisko aktīvu pārvaldītājs Possessor” valsts nekustamā īpašuma atsavināšanas rezultātā iegūtos līdzekļus pēc atsavināšanas izdevumu atskaitīšanas izlieto tās pārvaldīšanā esošo valsts nekustamo īpašumu pārvaldīšanai (izņemot netiešo izmaksu segšanai), tajā skaitā valsts nekustamo īpašumu uzlabošanas darbu veikšanai, vidi degradējošo objektu sakārtošanai un energoefektivitātes pasākumu īstenošanai. Minētos līdzekļus, kas 2023. gadā nav izlietoti valsts īpašumā un valsts akciju sabiedrības “Valsts nekustamie īpašumi” vai sabiedrības ar ierobežotu atbildību “Publisko aktīvu pārvaldītājs Possessor” pārvaldīšanā esošo valsts nekustamo īpašumu pārvaldīšanai, līdz 2023. gada 31. decembrim ieskaita valsts budžetā. Valsts akciju sabiedrībai “Valsts nekustamie īpašumi” vai sabiedrībai ar ierobežotu atbildību “Publisko aktīvu pārvaldītājs Possessor” ir tiesības atsavināšanas izdevumu segšanai paredzētos valsts nekustamā īpašuma atsavināšanas rezultātā iegūtos līdzekļus izlietot arī tās pārvaldīšanā esošo valsts nekustamo īpašumu pārvaldīšanai un šajā daļā noteikto pārvaldīšanas darbību, kas tiek segtas no valsts nekustamā īpašuma atsavināšanas rezultātā iegūtajiem līdzekļiem, priekšfinansēšanai.
B22: (2) Ja lēmums par valsts nekustamā īpašuma atsavināšanu, kuru Publiskas personas mantas atsavināšanas likumā noteiktajā kārtībā organizē ministrija vai cita centrālā valsts iestāde, kuras valdījumā ir attiecīgais valsts nekustamais īpašums, pieņemts līdz 2022. gada 31. decembrim, finanšu ministram ir tiesības palielināt attiecīgajai ministrijai vai citai centrālajai valsts iestādei apropriāciju resursiem no dotācijas no vispārējiem ieņēmumiem un izdevumiem 50 procentu apmērā no šāda valsts nekustamā īpašuma atsavināšanas rezultātā valsts budžetā ieskaitītajiem līdzekļiem. Apropriāciju palielina, ja ir pieņemts Ministru kabineta lēmums par finansējuma summu un to, kādam mērķim atsavināšanas rezultātā iegūtie līdzekļi piešķirami apropriācijas palielināšanai resursiem no dotācijas no vispārējiem ieņēmumiem un izdevumiem, un Saeimas Budžeta un finanšu (nodokļu) komisija piecu darba dienu laikā no attiecīgās informācijas saņemšanas dienas ir to izskatījusi un nav iebildusi pret apropriācijas palielinājumu. Apropriāciju atļauts piešķirt kapitālieguldījumiem vai neatliekamiem pasākumiem ar pozitīvu sociālekonomisku efektu.
C23: "(3) Ja lēmums par Veselības ministrijas valdījumā valsts nekustamā īpašuma atsavināšanu, kuru Publiskas personas mantas atsavināšanas likumā noteiktajā kārtībā organizē valsts akciju sabiedrība “Valsts nekustamie īpašumi”, pieņemts līdz 2022. gada 31. decembrim, finanšu ministram ir tiesības palielināt Veselības ministrijai apropriāciju resursiem no dotācijas no vispārējiem ieņēmumiem un izdevumiem 50 procentu apmērā no šāda valsts nekustamā īpašuma atsavināšanas rezultātā valsts budžetā ieskaitītajiem līdzekļiem. Apropriāciju palielina, ja ir pieņemts Ministru kabineta lēmums par finansējuma summu un to, kādam mērķim atsavināšanas rezultātā iegūtie līdzekļi piešķirami apropriācijas palielināšanai resursiem no dotācijas no vispārējiem ieņēmumiem un izdevumiem, un Saeimas Budžeta un finanšu (nodokļu) komisija piecu darba dienu laikā no attiecīgās informācijas saņemšanas dienas ir to izskatījusi un nav iebildusi pret apropriācijas palielinājumu. Apropriāciju atļauts piešķirt kapitālieguldījumiem Veselības ministrijas valdījumā esošo Veselības ministrijas iestāžu funkciju nodrošināšanai izmantoto valsts nekustamo īpašumu attīstīšanai."
B24: Likuma “Par valsts budžetu 2022.gadam” 40.panta piektajā daļā bija noteikts, ka gadījumā, ja Publiskas personas mantas atsavināšanas likumā noteiktajā kārtībā Veselības ministrijas valdījumā esošu valsts nekustamo īpašumu atsavina valsts akciju sabiedrība "Valsts nekustamie īpašumi", šā panta otrajā daļā minētā apropriācija piešķirama kapitālieguldījumiem Veselības ministrijas valdījumā esošo Veselības ministrijas iestāžu funkciju nodrošināšanai izmantoto valsts nekustamo īpašumu attīstīšanai. Ņemot vērā, ka, pamatojoties uz minēto normu 2022.gadā valsts akciju sabiedrība “Valsts nekustamie īpašumi” ir uzsākusi Veselības ministrijas valdījumā esošu nekustamo īpašumu atsavināšanu, nepieciešams nodrošināt pārejas regulējumu likumprojekta “Par valsts budžetu 2023. gadam un budžeta ietvaru 2023., 2024. un 2025. gadam” 58.panta trešajā daļā, lai nodrošinātu minētā procesa rezultātā iegūto līdzekļu novirzīšanai atbilstoši Ministru kabineta pieņemtajam lēmumam.
B26: 13. Finanšu ministrija
A27: =A20+1 -> 4 | C27: Papildināt likumprojektu ar jaunu pantu: | D27: Atbalstīt
C28: "xx. pants. Ja 2023. gadā faktiskie ieņēmumi no budžetā ieskaitāmās valsts nodevas par valsts valodas prasmes atestāciju profesionālo un amata pienākumu veikšanai pārsniedz šajā likumā plānoto apmēru, finanšu ministram ir tiesības palielināt šajā likumā noteikto apropriāciju budžeta resora “74. Gadskārtējā valsts budžeta izpildes procesā pārdalāmais finansējums” programmā 02.00.00 “Līdzekļi neparedzētiem gadījumiem” atbilstoši budžetā ieskaitītajai valsts nodevai par valsts valodas prasmes atestāciju profesionālo un amata pienākumu veikšanai, ja ir pieņemts attiecīgs Ministru kabineta lēmums un Saeimas Budžeta un finanšu (nodokļu) komisija piecu darba dienu laikā no attiecīgās informācijas saņemšanas dienas ir to izskatījusi un nav iebildusi pret apropriācijas palielinājumu."
B29: Pants nepieciešams, lai nodrošinātu 24.01.2023. MK sēdē (prot. Nr.4 29.§) nolemto - Atbalstīt priekšlikumu, ka gadījumā, ja valsts valodas prasmes pārbaudes kārtotāju pieaugums 2023. gadā pārsniegs 20 000 gadījumu skaitu, tad izdevumi var tikt segti no valsts budžeta programmas 02.00.00 "Līdzekļi neparedzētiem gadījumiem"
B31: 13. Finanšu ministrija
A32: =A27+1 -> 5 | C32: Papildināt likumprojektu ar jaunu pantu: | D32: Atbalstīt
C33: "xx. pants. Ja 2023. gadā personu skaita, kuras nav Latvijas pilsonis, Latvijas nepilsonis vai Eiropas Savienības dalībvalsts, Eiropas Ekonomikas zonas valsts vai Šveices Konfederācijas pilsonis, un kurām jākārto valsts valodas prasmes pārbaudes, pieaugums līdz 2023. gada 1. oktobrim nesasniedz 20 000 gadījumu skaitu, finanšu ministram ir tiesības samazināt šajā likumā noteikto apropriāciju Izglītības un zinātnes ministrijas budžeta apakšprogrammā 42.06.00 “Valsts izglītības satura centra darbības nodrošināšana” dotācijai no vispārējiem ieņēmumiem un attiecīgiem izdevumiem, novirzot tos budžeta resora “74. Gadskārtējā valsts budžeta izpildes procesā pārdalāmais finansējums” programmā 02.00.00 “Līdzekļi neparedzētiem gadījumiem”, ja ir pieņemts attiecīgs Ministru kabineta lēmums un Saeimas Budžeta un finanšu (nodokļu) komisija piecu darba dienu laikā no attiecīgās informācijas saņemšanas dienas ir to izskatījusi un nav iebildusi pret apropriācijas izmaiņām."
B34: Ņemot vērā, ka 24.01.2023. MK sēdē (prot. Nr.4 29.§) Izglītības un zinātnes ministrijai uzdots sagatavot un iesniegt priekšlikumu likumprojekta "Par valsts budžetu 2023. gadam un budžeta ietvaru 2023., 2024. un 2025. gadam" izskatīšanai Saeimā otrajā lasījumā, paredzot palielināt ieņēmumus no valsts nodevas par valsts valodas prasmes pārbaudi un ar to saistītajiem pakalpojumiem 2023. gadā 1 040 000 euro apmērā un paredzēt izdevumus no dotācijas no vispārējiem ieņēmumiem budžeta apakšprogrammā 42.06.00 "Valsts izglītības satura centra darbības nodrošināšana" 2023. gadā 1 040 000 euro apmērā, kuri noteikti paredzot valsts valodas prasmes pārbaudes kārtotāju pieaugumu 2023. gadā par 20 000 personām, gadījumā, ja valsts valodas prasmes pārbaudes kārtotāju pieaugums 2023. gadā nesasniegs 20 000 gadījumu skaitu, ir jāparedz iespēja samazināt izdevumus, kurus nesedz plānotie ieņēmumi.
B36: 13. Finanšu ministrija
A37: =A32+1 -> 6 | C37: Papildināt likumprojektu ar jaunu pantu: | D37: Atbalstīt
C38: "xx. pants. No aplikšanas ar iedzīvotāju ienākuma nodokli 2023. taksācijas gadā atbrīvo ar attālinātā darba veikšanu saistītos darbinieka izdevumus, kurus atbilstoši Darba likumam sedz darba devējs, ja to kopējais apmērs mēnesī par pilnas slodzes darbu nepārsniedz 30 euro un ir izpildīti likuma “Par iedzīvotāju ienākuma nodokli” pārejas noteikumu 160. punkta nosacījumi. Atbrīvojumu nepiemēro darbinieka ilgstošas prombūtnes laikā, kas pārsniedz 30 dienas. Minētais atbrīvojums piemērojams, sākot no 2023. gada 1. janvāra."
B39: Ņemot vērā COVID-19 izsludināto ārkārtējo situāciju, kā arī, ņemot vērā tehnoloģiskās iespējas, kas saistītas ar plaši īstenoto attālinātā darba praksi, ar Saeimā 2020. gada 27. novembrī un 2021. gada 16. novembrī pieņemtajiem grozījumiem likumā “Par iedzīvotāju ienākuma nodokli” ir noteikts, ka 2021. un 2022. taksācijas gadā no aplikšanas ar nodokli atbrīvo ar attālinātā darba veikšanu saistītās izdevumu kompensāciju summas, kuras atbilstoši Darba likumam darba ņēmējam sedz darba devējs, ja to kopējais apmērs mēnesī par pilnas slodzes darbu nepārsniedz 30 euro. Veiktā analīze par šīs normas līdzšinējo darbību, kā arī 2022. gadā vērojamās tendences saistībā ar attālināta darba iespēju izmantošanu (piemēram, gan kontekstā ar Covid-19 noteikto ārkārtas situāciju 2022. gada pirmajos mēnešos, gan arī dažādu optimālo darba modeļu izmantošana saistībā ar Krievijas izraisītā kara ietekmi un enerģētisko situāciju pasaulē) un vispārēju plašāku pāreju uz tādu darba organizācijas modeli, kas ietver attālināto darbu, kā arī regulējuma nozīme administratīvā sloga mazināšanā liecina par nepieciešamību pagarināt šī normatīvā regulējuma darbību. Likumprojekts paredz, ka likumā “Par iedzīvotāju ienākuma nodokli” ietvertās normas, kas atbrīvo no aplikšanas ar nodokli kompensācijas par attālināta darba veikšanu darbiniekam 30 euro apmērā, ir piemērojamas arī 2023. taksācijas gadā.
B41: Valsts kanceleja
A42: =A37+1 -> 7 | C42: Papildināt likumprojektu ar jaunu pantu: | D42: Atbalstīt
C43: "xx. pants. Noteikt, ka, gadījumā, ja aprēķinot 2024. vai 2025. gada valsts un pašvaldību institūciju amatpersonu (darbinieku) bāzes mēnešalgu, finanšu un apdrošināšanas jomas bāzes mēnešalgu, elektronisko sakaru un enerģētikas nozares bāzes mēnešalgu vai ostas valdes priekšsēdētāja bāzes mēnešalgu iegūst skaitli, kas ir lielāks par 6, tad kārtējā gada attiecīgo bāzes mēnešalgu indeksē ar skaitli 6."
B44: Likumprojektā "Par valsts budžetu 2023. gadam un budžeta ietvaru 2023., 2024. un 2025. gadam" ietvert regulējumu par bāzes mēnešalgas pieauguma mazinošo mehānismu, nosakot robežvērtību bāzes mēnešalgas apmēra, finanšu un apdrošināšanas jomas bāzes mēnešalgas apmēra, elektronisko sakaru un enerģētikas nozares bāzes mēnešalgas apmēra un ostas valdes priekšsēdētāja bāzes mēnešalgas aprēķinam kā absolūtu skaitli 6, atbilstoši vidējam darba samaksas pieaugumam pēdējos gados. Ievērojot minēto, ja, aprēķinot bāzes mēnešalgas apmēru, finanšu un apdrošināšanas jomas bāzes mēnešalgas apmēru, elektronisko sakaru un enerģētikas nozares bāzes mēnešalgas apmēru vai ostas valdes priekšsēdētāja bāzes mēnešalgas apmēru, tiks iegūts skaitlis (Valsts un pašvaldību institūciju amatpersonu un darbinieku atlīdzības likuma 4. panta otrās daļas 2. punkts, desmitās daļas 2. punkts, vienpadsmitās daļas 2. punkts, Ministru kabineta 2010. gada 10. augusta noteikumu Nr. 741 "Noteikumi par ostas valdes locekļu mēnešalgu un speciālo piemaksu" 5.2. apakšpunkts), kas būs lielāks par “6”, tad kārtējā gada attiecīgo bāzes mēnešalgu indeksēs ar skaitli “6”. Savukārt, ja skaitlis būs mazāks par “6”, tad indeksēs ar iegūto skaitli. Tādējādi, kad valsts kopējā ekonomiskā izaugsme saglabājas ar lēnu pieauguma tempu, tad attiecīgi publiskajam sektoram, kurš tiešā mērā ir atkarīgs no privātā sektora un valsts kopējās izaugsmes, tiek ierobežots kopējais izaugsmes temps, vienlaikus lielāku vērību pievēršot darba ražīgumam, ko raksturo katra darbinieka personīgais sniegums, kas tiek vērtēts kā viens no mēnešalgas tālākajiem individuālajiem noteikšanas kritērijiem.
B46: 13. Finanšu ministrija
A47: =A42+1 -> 8 | C47: Kopsavilkuma skaitļus likumprojekta tekstā un pielikumos precizēt pēc balsojumiem par konkrētām pielikumu pozīcijām. | D47: Atbalstīt

Sheet MK
A1: Nr.p.k. | C1: Pieņemts pirmajā lasījumā | D1: Priekšlikums par izmaiņām | F1: Pieņemts pirmajā lasījumā | G1: Priekšlikums par izmaiņām | H1: Priekšlikums MK atzinumam
B4: Par likumprojekta "Par valsts budžetu 2023.gadam un budžeta ietvaru 2023., 2024. un 2025.gadam" skaitlisko daļu:
B6: Sadalījumā pa budžeta resoriem
B8: 03. Ministru kabinets
A9: =1 -> 1 | B9: 25. Pārresoru koordinācijas centrs | E9: 03.Ministru kabinets | H9: Atbalstīt
B10: 4.pielikums | E10: 4.pielikums
B11: 01.00.00 Pārresoru koordinācijas centra darbības nodrošināšana | E11: 01.00.00 Ministru kabineta darbības nodrošināšana, valsts pārvaldes politika | F11: `
B12: Resursi izdevumu segšanai | C12: 1790780 | D12: =D13 -> -1569018 | E12: Resursi izdevumu segšanai | F12: 10093922 | G12: =G13+G14 -> 1569018
B13: Dotācija no vispārējiem ieņēmumiem | C13: =C14 -> 1790780 | D13: =D14 -> -1569018 | E13: Ieņēmumi no maksas pakalpojumiem un citi pašu ieņēmumi – kopā | F13: 13219 | G13: 0
B14: Vispārējā kārtībā sadalāmā dotācija no vispārējiem ieņēmumiem | C14: 1790780 | D14: -1569018 | E14: Dotācija no vispārējiem ieņēmumiem | F14: 10080703 | G14: =G15 -> 1569018
B15: Izdevumi – kopā | C15: 1790780 | D15: =D20+D16 -> -1569018 | E15: Vispārējā kārtībā sadalāmā dotācija no vispārējiem ieņēmumiem | F15: 10080703 | G15: 1569018
B16: Uzturēšanas izdevumi | C16: 1785780 | D16: =D17 -> -1564018 | E16: Izdevumi – kopā | F16: 10093922 | G16: 1569018
B17: Kārtējie izdevumi | C17: 1785780 | D17: =D18+D19 -> -1564018 | E17: Uzturēšanas izdevumi | F17: 9580685 | G17: 1564018
B18: Atlīdzība | C18: 1170162 | D18: -988928 | E18: Kārtējie izdevumi | F18: 9537995 | G18: 1564018
B19: Preces un pakalpojumi | C19: 615618 | D19: -575090 | E19: Atlīdzība | F19: 6440743 | G19: 988928
B20: Kapitālie izdevumi | C20: 5000 | D20: -5000 | E20: Preces un pakalpojumi | F20: 3097252 | G20: 575090
B21: Pamatkapitāla veidošana | C21: 5000 | D21: -5000 | E21: Subsīdijas, dotācijas, sociālie maksājumi un kompensācijas | F21: 42690 | G21: 0
E22: Sociāla rakstura maksājumi un kompensācijas | F22: 42690 | G22: 0
E23: Kapitālie izdevumi | F23: 513237 | G23: 5000
E24: Pamatkapitāla veidošana | F24: 513237 | G24: 5000
B25: 70.06.00 Latvijas pārstāvju ceļa izdevumu kompensācija, dodoties uz Eiropas Savienības Padomes darba grupu sanāksmēm un Padomes sanāksmēm | E25: 70.07.00 Latvijas pārstāvju ceļa izdevumu kompensācija, dodoties uz Eiropas Savienības Padomes darba grupu sanāksmēm un Padomes sanāksmēm | F25: `
B26: Resursi izdevumu segšanai | C26: 1990 | D26: -1990 | E26: Resursi izdevumu segšanai | F26: 156000 | G26: 1990
B27: Transferti | C27: 1990 | D27: -1990 | E27: Transferti | F27: 156000 | G27: 1990
B28: Valsts budžeta transferti | C28: 1990 | D28: =D30 -> -1990 | E28: Valsts budžeta transferti | F28: 156000 | G28: =G30 -> 1990
B29: Valsts pamatbudžeta savstarpējie transferti | C29: 1990 | D29: -1990 | E29: Valsts pamatbudžeta savstarpējie transferti | F29: 156000 | G29: 1990
B30: Valsts pamatbudžeta iestāžu saņemtie transferti no valsts pamatbudžeta | C30: 1990 | D30: -1990 | E30: Valsts pamatbudžeta iestāžu saņemtie transferti no valsts pamatbudžeta | F30: 156000 | G30: 1990
B31: Valsts pamatbudžeta iestāžu saņemtie transferti no ārvalstu finanšu palīdzības līdzekļiem | C31: 1990 | D31: -1990 | E31: Valsts pamatbudžeta iestāžu saņemtie transferti no ārvalstu finanšu palīdzības līdzekļiem | F31: 156000 | G31: 1990
B32: Izdevumi – kopā | C32: 1990 | D32: -1990 | E32: Izdevumi – kopā | F32: 156000 | G32: 1990
B33: Uzturēšanas izdevumi | C33: 1990 | D33: 1990 | E33: Uzturēšanas izdevumi | F33: 156000 | G33: 1990
B34: Kārtējie izdevumi | C34: 1990 | D34: -1990 | E34: Kārtējie izdevumi | F34: 156000 | G34: 1990
B35: Preces un pakalpojumi | C35: 1990 | D35: -1990 | E35: Preces un pakalpojumi | F35: 156000 | G35: 1990
B36: 25. Pārresoru koordinācijas centrs | E36: 03. Ministru kabinets
B37: 3.pielikums | E37: 3.pielikums
B38: 2024.gads | E38: 2024.gads
B39: I. Valsts pamatfunkciju īstenošana | E39: I. Valsts pamatfunkciju īstenošana
B40: Resursi izdevumu segšanai | C40: 1832070 | D40: =D41 -> -1832070 | E40: Resursi izdevumu segšanai | F40: 10387121 | G40: 1832070
B41: Dotācija no vispārējiem ieņēmumiem | C41: 1832070 | D41: =D42 -> -1832070 | E41: Ieņēmumi no maksas pakalpojumiem un citi pašu ieņēmumi – kopā | F41: 372621 | G41: 0
B42: Vispārējā kārtībā sadalāmā dotācija no vispārējiem ieņēmumiem | C42: 1832070 | D42: -1832070 | E42: Dotācija no vispārējiem ieņēmumiem | F42: 10014500 | G42: 1832070
B43: Izdevumi – kopā | C43: 1832070 | D43: =D48+D44 -> -1832070 | E43: Vispārējā kārtībā sadalāmā dotācija no vispārējiem ieņēmumiem | F43: 10014500 | G43: 1832070
B44: Uzturēšanas izdevumi | C44: 1832070 | D44: =D45 -> -1827070 | E44: Izdevumi – kopā | F44: 10387121 | G44: 1832070
B45: Kārtējie izdevumi | C45: 1827070 | D45: =D46+D47 -> -1827070 | E45: Uzturēšanas izdevumi | F45: 10129377 | G45: 1827070
B46: Atlīdzība | C46: 1170162 | D46: -1170162 | E46: Kārtējie izdevumi | F46: 10080288 | G46: 1827070
B47: Preces un pakalpojumi | C47: 656908 | D47: -656908 | E47: Atlīdzība | F47: 6861568 | G47: 1170162
B48: Kapitālie izdevumi | C48: 5000 | D48: -5000 | E48: Preces un pakalpojumi | F48: 3218720 | G48: 656908
B49: Pamatkapitāla veidošana | C49: 5000 | D49: -5000 | E49: Subsīdijas, dotācijas, sociālie maksājumi un kompensācijas | F49: 42690 | G49: 0
B50: II. ES politiku instrumentu un pārējās ārvalstu finanšu palīdzības līdzfinansēto projektu un pasākumu īstenošana | E50: Sociāla rakstura maksājumi un kompensācijas | F50: 42690 | G50: 0
B51: Resursi izdevumu segšanai | C51: 1993 | D51: -1993 | E51: Kārtējie maksājumi Eiropas Savienības budžetā un starptautiskā sadarbība | F51: 6399 | G51: 0
B52: Transferti | C52: 1193 | D52: -1993 | E52: Starptautiskā sadarbība | F52: 6399 | G52: 0
B53: Valsts budžeta transferti | C53: 1993 | D53: -1993 | E53: Kapitālie izdevumi | F53: 257744 | G53: 5000
B54: Valsts pamatbudžeta savstarpējie transferti | C54: 1993 | D54: -1993 | E54: Pamatkapitāla veidošana | F54: 257744 | G54: 5000
B55: Valsts pamatbudžeta iestāžu saņemtie transferti no valsts pamatbudžeta | C55: 1993 | D55: -1993 | E55: II. ES politiku instrumentu un pārējās ārvalstu finanšu palīdzības līdzfinansēto projektu un pasākumu īstenošana
B56: Valsts pamatbudžeta iestāžu saņemtie transferti no ārvalstu finanšu palīdzības līdzekļiem | C56: 1993 | D56: -1993 | E56: Resursi izdevumu segšanai | F56: 1260296 | G56: 1993
B57: Izdevumi – kopā | C57: 1993 | D57: -1993 | E57: Transferti | F57: 156000 | G57: 1993
B58: Uzturēšanas izdevumi | C58: 1993 | D58: -1993 | E58: Valsts budžeta transferti | F58: 156000 | G58: 1993
B59: Kārtējie izdevumi | C59: 1993 | D59: -1993 | E59: Valsts pamatbudžeta savstarpējie transferti | F59: 156000 | G59: 1993
B60: Preces un pakalpojumi | C60: 1993 | D60: -1993 | E60: Valsts pamatbudžeta iestāžu saņemtie transferti no valsts pamatbudžeta | F60: 156000 | G60: 1993
E61: Valsts pamatbudžeta iestāžu saņemtie transferti no ārvalstu finanšu palīdzības līdzekļiem | F61: 156000 | G61: 1993
E62: Dotācija no vispārējiem ieņēmumiem | F62: 1104296 | G62: 0
E63: Vispārējā kārtībā sadalāmā dotācija no vispārējiem ieņēmumiem | F63: 1104296 | G63: 0
E64: Izdevumi – kopā | F64: 1260296 | G64: 1993
E65: Uzturēšanas izdevumi | F65: 1254296 | G65: 1993
E66: Kārtējie izdevumi | F66: 1232296 | G66: 1993
E67: Atlīdzība | F67: 402615
E68: Preces un pakalpojumi | F68: 829681 | G68: 1993
E69: Transferti viena budžeta veida ietvaros un uzturēšanas izdevumu transferti starp budžeta veidiem | F69: 22000 | G69: 0
E70: Valsts budžeta transferti un uzturēšanas izdevumu transferti | F70: 22000 | G70: 0
E71: Valsts budžeta transferti no valsts pamatbudžeta uz valsts pamatbudžetu | F71: 22000 | G71: 0
E72: Valsts budžeta transferti no valsts pamatbudžeta dotācijas no vispārējiem ieņēmumiem uz valsts pamatbudžetu | F72: 22000 | G72: 0
E73: Kapitālie izdevumi | F73: 6000 | G73: 0
E74: Pamatkapitāla veidošana | F74: 6000
B75: 2025.gads | E75: 2025.gads
B76: I. Valsts pamatfunkciju īstenošana | E76: I. Valsts pamatfunkciju īstenošana
B77: Resursi izdevumu segšanai | C77: 1832070 | D77: =D78 -> -1832070 | E77: Resursi izdevumu segšanai | F77: 10387121 | G77: 1832070
B78: Dotācija no vispārējiem ieņēmumiem | C78: 1832070 | D78: =D79 -> -1832070 | E78: Ieņēmumi no maksas pakalpojumiem un citi pašu ieņēmumi – kopā | F78: 372621 | G78: 0
B79: Vispārējā kārtībā sadalāmā dotācija no vispārējiem ieņēmumiem | C79: 1832070 | D79: -1832070 | E79: Dotācija no vispārējiem ieņēmumiem | F79: 10014500 | G79: 1832070
B80: Izdevumi – kopā | C80: 1832070 | D80: -1832070 | E80: Vispārējā kārtībā sadalāmā dotācija no vispārējiem ieņēmumiem | F80: 10014500 | G80: 1832070
B81: Uzturēšanas izdevumi | C81: 1832070 | D81: =D82 -> -1827070 | E81: Izdevumi – kopā | F81: 10387121 | G81: 1832070
B82: Kārtējie izdevumi | C82: 1827070 | D82: =D83+D84 -> -1827070 | E82: Uzturēšanas izdevumi | F82: 10129377 | G82: 1827070
B83: Atlīdzība | C83: 1170162 | D83: -1170162 | E83: Kārtējie izdevumi | F83: 10080288 | G83: 1827070
B84: Preces un pakalpojumi | C84: 656908 | D84: -656908 | E84: Atlīdzība | F84: 6861568 | G84: 1170162
B85: Kapitālie izdevumi | C85: 5000 | D85: -5000 | E85: Preces un pakalpojumi | F85: 3218720 | G85: 656908
B86: Pamatkapitāla veidošana | C86: 5000 | D86: -5000 | E86: Subsīdijas, dotācijas, sociālie maksājumi un kompensācijas | F86: 42690 | G86: 0
E87: Sociāla rakstura maksājumi un kompensācijas | F87: 42690 | G87: 0
E88: Kārtējie maksājumi Eiropas Savienības budžetā un starptautiskā sadarbība | F88: 6399 | G88: 0
E89: Starptautiskā sadarbība | F89: 6399 | G89: 0
E90: Kapitālie izdevumi | F90: 257744 | G90: 5000
E91: Pamatkapitāla veidošana | F91: 257744 | G91: 5000
E92: 11.pielikums
E93: 03. Ministru kabinets
E94: 70.07.00 Latvijas pārstāvju ceļa izdevumu kompensācija, dodoties uz Eiropas Savienības Padomes darba grupu sanāksmēm un Padomes sanāksmēm | F94: `
E95: 0101110000 - Citi Eiropas Savienības politiku instrumenti
E96: tajā skaitā
E97: Latvijas pārstāvju ceļa izdevumu kompensācija, dodoties uz Eiropas Savienības Padomes darba grupu sanāksmēm un Padomes sanāksmēm
E98: 2023.gads
E99: Resursi izdevumu segšanai | F99: 156000 | G99: 1990
E100: Transferti | F100: 156000 | G100: 1990
E101: Valsts budžeta transferti | F101: 156000 | G101: =G103 -> 1990
E102: Valsts pamatbudžeta savstarpējie transferti | F102: 156000 | G102: 1990
E103: Valsts pamatbudžeta iestāžu saņemtie transferti no valsts pamatbudžeta | F103: 156000 | G103: 1990
E104: Valsts pamatbudžeta iestāžu saņemtie transferti no ārvalstu finanšu palīdzības līdzekļiem | F104: 156000 | G104: 1990
...

Sheet SIF
A1: Nr.p.k. | C1: Pieņemts pirmajā lasījumā | D1: Priekšlikums par izmaiņām | F1: Pieņemts pirmajā lasījumā | G1: Priekšlikums par izmaiņām | H1: Priekšlikums MK atzinumam
B4: 08. Sabiedrības integrācijas fonds
A5: =MK!A9+1 -> 2 | B5: 74.Gadskārtējā valsts budžeta izpildes procesā pārdalāmais finansējums | E5: 08. Sabiedrības integrācijas fonds | H5: Atbalstīt
B6: 4.pielikums | E6: 4.pielikums
B7: 17.00.00 Finansējums Ukrainas civiliedzīvotāju atbalsta likumā noteikto pasākumu īstenošanai | E7: 01.00.00 Sabiedrības integrācijas fonda vadība | F7: `
B8: Resursi izdevumu segšanai | C8: =C9 -> 96125405 | D8: =D9 -> -765925 | E8: Resursi izdevumu segšanai | F8: =F9 -> 2716152 | G8: =G9 -> 765925
B9: Dotācija no vispārējiem ieņēmumiem | C9: =C10 -> 96125405 | D9: =D10 -> -765925 | E9: Dotācija no vispārējiem ieņēmumiem | F9: =F10 -> 2716152 | G9: =G10 -> 765925
B10: Vispārējā kārtībā sadalāmā dotācija no vispārējiem ieņēmumiem | C10: 96125405 | D10: -765925 | E10: Vispārējā kārtībā sadalāmā dotācija no vispārējiem ieņēmumiem | F10: 2716152 | G10: 765925
B11: Izdevumi – kopā | C11: =C12 -> 96125405 | D11: =D12 -> -765925 | E11: Izdevumi – kopā | F11: =F12+F21 -> 2716152 | G11: =G12+G21 -> 765925
B12: Uzturēšanas izdevumi | C12: =C13 -> 96125405 | D12: =D13 -> -765925 | E12: Uzturēšanas izdevumi | F12: =F13+F16+F18 -> 2619241 | G12: =G13+G16+G18 -> 765925
B13: Subsīdijas, dotācijas, sociālie maksājumi un kompensācijas | C13: 96125405 | D13: =D14 -> -765925 | E13: Kārtējie izdevumi | F13: =F14+F15 -> 1830173 | G13: =G14+G15 -> 22925
B14: Subsīdija sun dotācijas | C14: 96125405 | D14: -765925 | E14: Atlīdzība | F14: 783503 | G14: 17297
E15: Preces un pakalpojumi | F15: 1046670 | G15: 5628
E16: Subsīdijas, dotācijas, sociālie maksājumi un kompensācijas | F16: =F17 -> 639068 | G16: =G17 -> 728140
E17: Subsīdijas un dotācijas | F17: 639068 | G17: 728140
E18: Transferti viena budžeta veida ietvaros un uzturēšanas izdevumu transferti starp budžeta veidiem | F18: =F19 -> 150000 | G18: =G19 -> 14860
E19: Pārējie valsts budžeta uzturēšanas izdevumu transferti citiem budžetiem | F19: =F20 -> 150000 | G19: =G20 -> 14860
E20: Pārējie valsts budžeta uzturēšanas izdevumu transferti pašvaldībām | F20: 150000 | G20: 14860
E21: Kapitālie izdevumi | F21: =F22 -> 96911 | G21: =G22 -> 0
E22: Pamatkapitāla veidošana | F22: 96911
B23: Saskaņā ar Ministru kabineta 2023.gada 1.februāra rīkojumu Nr.53 "Par apropriācijas pārdali", pārdalīt finansējumu 765 925 euro apmērā no budžeta resora "74. Gadskārtējā valsts budžeta izpildes procesā pārdalāmais finansējums" programmas 17.00.00 "Finansējums Ukrainas civiliedzīvotāju atbalsta likumā noteikto pasākumu īstenošanai" uz Sabiedrības integrācijas fonda budžeta programmu 01.00.00 "Sabiedrības integrācijas fonda vadība", lai nodrošinātu valsts budžeta finansētās programmas "Latviešu valodas mācības Ukrainas civiliedzīvotājiem" projektu īstenošanu līdz 2023. gada 30. jūnijam.

Sheet AM
A1: Nr.p.k. | C1: Pieņemts pirmajā lasījumā | D1: Priekšlikums par izmaiņām | F1: Pieņemts pirmajā lasījumā | G1: Priekšlikums par izmaiņām | H1: Priekšlikums MK atzinumam
B4: 11. Ārlietu ministrija
A5: =SIF!A5+1 -> 3 | B5: 74. Gadskārtējā valsts budžeta izpildes procesā pārdalāmais finansējums | E5: 11. Ārlietu ministrija | H5: Atbalstīt
B6: 4.pielikums | E6: 4.pielikums
B7: 02.00.00 Līdzekļi neparedzētiem gadījumiem | E7: 01.04.00 Diplomātiskās misijas ārvalstīs
B8: Resursi izdevumu segšanai | C8: 80981848 | D8: -169179 | E8: Resursi izdevumu segšanai | F8: 51506251 | G8: 169179
B9: Dotācija no vispārējiem ieņēmumiem | C9: 80981848 | D9: -169179 | E9: Ieņēmumi no maksas pakalpojumiem un citi pašu ieņēmumi – kopā | F9: 1421257
B10: Vispārējā kārtībā sadalāmā dotācija no vispārējiem ieņēmumiem | C10: 80981848 | D10: -169179 | E10: Dotācija no vispārējiem ieņēmumiem | F10: 50084994 | G10: 169179
B11: Izdevumi – kopā | C11: 80981848 | D11: -169179 | E11: Vispārējā kārtībā sadalāmā dotācija no vispārējiem ieņēmumiem | F11: 50084994 | G11: 169179
B12: Uzturēšanas izdevumi | C12: 80981848 | D12: -169179 | E12: Izdevumi – kopā | F12: 51832651 | G12: 169179
B13: Subsīdijas, dotācijas, sociālie maksājumi un kompensācijas | C13: 80981848 | D13: -169179 | E13: Uzturēšanas izdevumi | F13: 50333679 | G13: 169179
B14: Subsīdijas un dotācijas | C14: 80981848 | D14: =-53467-115712 -> -169179 | E14: Kārtējie izdevumi | F14: 50081933 | G14: 169179
E15: Atlīdzība | F15: 28141341 | G15: 121869
E16: Preces un pakalpojumi | F16: 21940592 | G16: 47310
E17: Subsīdijas, dotācijas, sociālie maksājumi un kompensācijas | F17: 57600
E18: Subsīdijas un dotācijas | F18: 57600
E19: Transferti viena budžeta veida ietvaros un uzturēšanas izdevumu transferti starp budžeta veidiem | F19: 194146
E20: Valsts budžeta transferti un uzturēšanas izdevumu transferti | F20: 194146
E21: Valsts budžeta uzturēšanas izdevumu transferti no valsts pamatbudžeta uz valsts speciālo budžetu | F21: 194146
E22: Kapitālie izdevumi | F22: 1498972
E23: Pamatkapitāla veidošana | F23: 1498972
E24: Finansiālā bilance | F24: -326400
E25: Finansēšana | F25: 326400
E26: Naudas līdzekļi | F26: 326400
E27: Maksas pakalpojumu un citu pašu ieņēmumu naudas līdzekļu atlikumu izmaiņas palielinājums (-) vai samazinājums (+) | F27: 326400
B28: 74. Gadskārtējā valsts budžeta izpildes procesā pārdalāmais finansējums | E28: 11. Ārlietu ministrija
B29: 3.pielikums | E29: 3.pielikums
B30: I. Valsts pamatfunkciju īstenošana | E30: I. Valsts pamatfunkciju īstenošana
B31: 2024.gads | E31: 2024.gads
B32: Resursi izdevumu segšanai | C32: 622579402 | D32: -28226 | E32: Resursi izdevumu segšanai | F32: 86748124 | G32: 28226
B33: Dotācija no vispārējiem ieņēmumiem | C33: 622579402 | D33: -28226 | E33: Ieņēmumi no maksas pakalpojumiem un citi pašu ieņēmumi – kopā | F33: 1645798
B34: Vispārējā kārtībā sadalāmā dotācija no vispārējiem ieņēmumiem | C34: 622579402 | D34: -28226 | E34: Dotācija no vispārējiem ieņēmumiem | F34: 85102326 | G34: 28226
B35: Izdevumi – kopā | C35: 622579402 | D35: -28226 | E35: Vispārējā kārtībā sadalāmā dotācija no vispārējiem ieņēmumiem | F35: 85102326 | G35: 28226
B36: Uzturēšanas izdevumi | C36: 622579402 | D36: -28226 | E36: Izdevumi – kopā | F36: 86748124 | G36: 28226
B37: Subsīdijas, dotācijas, sociālie maksājumi un kompensācijas | C37: 622579402 | D37: -28226 | E37: Uzturēšanas izdevumi | F37: 85382123 | G37: 28226
B38: Subsīdijas un dotācijas | C38: 622579402 | D38: -28226 | E38: Kārtējie izdevumi | F38: 72985228 | G38: 28226
E39: Atlīdzība | F39: 43565391 | G39: 20835
E40: Preces un pakalpojumi | F40: 29419837 | G40: 7391
E41: Subsīdijas, dotācijas, sociālie maksājumi un kompensācijas | F41: 1683495
E42: Subsīdijas un dotācijas | F42: 1669351
E43: Sociālā rakstura maksājumi un kompensācijas | F43: 14144
E44: Kārtējie maksājumi Eiropas Savienības budžetā un starptautiskā sadarbība | F44: 9944870
E45: Kārtējie maksājumi Eiropas Savienības budžetā
E46: Starptautiskā sadarbība | F46: 9944870
E47: Transferti viena budžeta veida ietvaros un uzturēšanas izdevumu transferti starp budžeta veidiem | F47: 768530
E48: Valsts budžeta transferti un uzturēšanas izdevumu transferti | F48: 252530
E49: Valsts budžeta uzturēšanas izdevumu transferti no valsts pamatbudžeta uz valsts speciālo budžetu | F49: 252530
E50: Pārējie valsts budžeta uzturēšanas izdevumu transferti citiem budžetiem | F50: 516000
E51: Pārējie valsts budžeta uzturēšanas izdevumu transferti valsts budžeta daļēji finansētām atvasinātām publiskām personām un budžeta nefinansētām iestādēm | F51: 516000
E52: Kapitālie izdevumi | F52: 1366001
E53: Pamatkapitāla veidošana | F53: 1366001
B54: Finansējuma pārdale no 74.resora programmas 02.00.00 "Līdzekļi neparedzētiem gadījumiem" uz Ārlietu ministrijas apakšprogrammu 01.04.00 "Diplomātiskās misijas ārvalstīs", lai segtu izdevumus 3 civilo ekspertu dalības nodrošināšanai Eiropas Savienības Novērošanas misijā Gruzijā, saskaņā ar Ministru kabineta 2023.gada 25.janvāra rīkojumu Nr.48 “Par civilā eksperta dalību Eiropas Savienības Novērošanas misijā Gruzijā” un Ministru kabineta 2023.gada 14.februāra rīkojumu Nr.78 “Par civilo ekspertu dalību Eiropas Savienības Novērošanas misijā Gruzijā”.

Sheet FM
A1: Nr.p.k. | C1: Pieņemts pirmajā lasījumā | D1: Priekšlikums par izmaiņām | F1: Pieņemts pirmajā lasījumā | G1: Priekšlikums par izmaiņām | H1: Priekšlikums MK atzinumam
B4: 13. Finanšu ministrija
A5: =AM!A5+1 -> 4 | B5: 13. Finanšu ministrija | E5: 32. Prokuratūra | H5: Atbalstīt
B6: 4. pielikums | E6: 4. pielikums
B7: 33.00.00 Valsts ieņēmumu un muitas politikas nodrošināšana | E7: 01.00.00 Prokuratūras iestāžu uzturēšana
B8: Resursi izdevumu segšanai | C8: 151636480 | D8: -6735 | E8: Resursi izdevumu segšanai | F8: 46355898 | G8: 4034
B9: Dotācija no vispārējiem ieņēmumiem | C9: 151353041 | D9: -6735 | E9: Dotācija no vispārējiem ieņēmumiem | F9: 46355898 | G9: 4034
B10: Vispārējā kārtībā sadalāmā dotācija no vispārējiem ieņēmumiem | C10: 151353041 | D10: -6735 | E10: Vispārējā kārtībā sadalāmā dotācija no vispārējiem ieņēmumiem | F10: 46355898 | G10: 4034
B11: Izdevumi – kopā | C11: 151636480 | D11: -6735 | E11: Izdevumi – kopā | F11: 46355898 | G11: 4034
B12: Uzturēšanas izdevumi | C12: 134533693 | D12: -6735 | E12: Uzturēšanas izdevumi | F12: 45557972 | G12: 4034
B13: Kārtējie izdevumi | C13: 134427693 | D13: -6735 | E13: Kārtējie izdevumi | F13: 45555981 | G13: 4034
B14: Preces un pakalpojumi | C14: 37997563 | D14: -6735 | E14: Preces un pakalpojumi | F14: 7440944 | G14: 4034
E15: 13. Finanšu ministrija
E16: 4. pielikums
E17: 39.02.00 Izložu un azartspēļu organizēšanas un norises uzraudzība
E18: Resursi izdevumu segšanai | F18: 937929 | G18: 2701
E19: Dotācija no vispārējiem ieņēmumiem | F19: 933907 | G19: 2701
E20: Vispārējā kārtībā sadalāmā dotācija no vispārējiem ieņēmumiem | F20: 933907 | G20: 2701
E21: Izdevumi – kopā | F21: 937929 | G21: 2701
E22: Uzturēšanas izdevumi | F22: 929083 | G22: 2701
E23: Kārtējie izdevumi | F23: 929083 | G23: 2701
E24: Preces un pakalpojumi | F24: 173170 | G24: 2701
B25: 13. Finanšu ministrija | E25: 32. Prokuratūra
B26: 3. pielikums | E26: 3. pielikums
B27: I. Valsts pamatfunkciju īstenošana | E27: I. Valsts pamatfunkciju īstenošana
B28: 2024.gadā | E28: 2024.gadā
B29: Resursi izdevumu segšanai | C29: 933798467 | D29: =D31 -> -4034 | E29: Resursi izdevumu segšanai | F29: 46509926 | G29: 4034
B30: Dotācija no vispārējiem ieņēmumiem | C30: 933464006 | D30: -4034 | E30: Dotācija no vispārējiem ieņēmumiem | F30: 46509926 | G30: 4034
B31: Vispārējā kārtībā sadalāmā dotācija no vispārējiem ieņēmumiem | C31: 933464006 | D31: -4034 | E31: Vispārējā kārtībā sadalāmā dotācija no vispārējiem ieņēmumiem | F31: 46509926 | G31: 4034
B32: Izdevumi – kopā | C32: 929385675 | D32: -4034 | E32: Izdevumi – kopā | F32: 46509926 | G32: 4034
B33: Uzturēšanas izdevumi | C33: 889585179 | D33: -4034 | E33: Uzturēšanas izdevumi | F33: 45861984 | G33: 4034
B34: Kārtējie izdevumi | C34: 169345832 | D34: -4034 | E34: Kārtējie izdevumi | F34: 45859392 | G34: 4034
B35: Preces un pakalpojumi | C35: 46756616 | D35: -4034 | E35: Preces un pakalpojumi | F35: 7682214 | G35: 4034
B36: 2025.gadā | E36: 2025.gadā
B37: Resursi izdevumu segšanai | C37: 1109242843 | D37: =D39 -> -4034 | E37: Resursi izdevumu segšanai | F37: 48399214 | G37: 4034
B38: Dotācija no vispārējiem ieņēmumiem | C38: 1108955382 | D38: -4034 | E38: Dotācija no vispārējiem ieņēmumiem | F38: 48399214 | G38: 4034
B39: Vispārējā kārtībā sadalāmā dotācija no vispārējiem ieņēmumiem | C39: 1108955382 | D39: -4034 | E39: Vispārējā kārtībā sadalāmā dotācija no vispārējiem ieņēmumiem | F39: 48399214 | G39: 4034
B40: Izdevumi – kopā | C40: 1105705051 | D40: -4034 | E40: Izdevumi – kopā | F40: 48399214 | G40: 4034
B41: Uzturēšanas izdevumi | C41: 1069130657 | D41: -4034 | E41: Uzturēšanas izdevumi | F41: 46496673 | G41: 4034
B42: Kārtējie izdevumi | C42: 169446810 | D42: -4034 | E42: Kārtējie izdevumi | F42: 46494081 | G42: 4034
B43: Preces un pakalpojumi | C43: 46882914 | D43: -4034 | E43: Preces un pakalpojumi | F43: 8316903 | G43: 4034
B44: 13. Finanšu ministrija | E44: 32. Prokuratūra
B45: 11. pielikums | E45: 11. pielikums
B46: 33.00.00 Valsts ieņēmumu un muitas politikas nodrošināšana | E46: 01.00.00 Prokuratūras iestāžu uzturēšana
B47: 0600000000 Citas ilgtermiņa saistības | E47: 0600000000 Citas ilgtermiņa saistības
B48: VID ēkas Rīgā, Talejas ielā 1, telpu nomas maksas izdevumu segšanai | C48: CIS/FM/011 | E48: Telpu Rīgā, Talejas ielā 1, nomas maksas izdevumu segšanai | F48: CIS/PROK/004
B49: 2023.gadā | E49: 2023.gadā
B50: Resursi izdevumu segšanai | C50: =C51 -> 6364464 | D50: =D51 -> -6735 | E50: Resursi izdevumu segšanai | F50: 66475 | G50: =G51 -> 4034
B51: Dotācija no vispārējiem ieņēmumiem | C51: =C52 -> 6364464 | D51: =D52 -> -6735 | E51: Dotācija no vispārējiem ieņēmumiem | F51: 66475 | G51: =G52 -> 4034
B52: Vispārējā kārtībā sadalāmā dotācija no vispārējiem ieņēmumiem | C52: 6364464 | D52: -6735 | E52: Vispārējā kārtībā sadalāmā dotācija no vispārējiem ieņēmumiem | F52: 66475 | G52: 4034
B53: Izdevumi – kopā | C53: =C54 -> 6364464 | D53: =D54 -> -6735 | E53: Izdevumi – kopā | F53: 66475 | G53: =G54 -> 4034
B54: Uzturēšanas izdevumi | C54: =C55 -> 6364464 | D54: =D55 -> -6735 | E54: Uzturēšanas izdevumi | F54: 66475 | G54: =G55 -> 4034
B55: Kārtējie izdevumi | C55: =C56 -> 6364464 | D55: =D56 -> -6735 | E55: Kārtējie izdevumi | F55: 66475 | G55: =G56 -> 4034
B56: Preces un pakalpojumi | C56: 6364464 | D56: -6735 | E56: Preces un pakalpojumi | F56: 66475 | G56: 4034
B57: 2024.gadā | E57: 2024.gadā
B58: Resursi izdevumu segšanai | C58: =C59 -> 6364464 | D58: =D59 -> -6735 | E58: Resursi izdevumu segšanai | F58: 66475 | G58: =G59 -> 4034
B59: Dotācija no vispārējiem ieņēmumiem | C59: =C60 -> 6364464 | D59: =D60 -> -6735 | E59: Dotācija no vispārējiem ieņēmumiem | F59: 66475 | G59: =G60 -> 4034
B60: Vispārējā kārtībā sadalāmā dotācija no vispārējiem ieņēmumiem | C60: 6364464 | D60: -6735 | E60: Vispārējā kārtībā sadalāmā dotācija no vispārējiem ieņēmumiem | F60: 66475 | G60: 4034
B61: Izdevumi – kopā | C61: =C62 -> 6364464 | D61: =D62 -> -6735 | E61: Izdevumi – kopā | F61: 66475 | G61: =G62 -> 4034
B62: Uzturēšanas izdevumi | C62: =C63 -> 6364464 | D62: =D63 -> -6735 | E62: Uzturēšanas izdevumi | F62: 66475 | G62: =G63 -> 4034
B63: Kārtējie izdevumi | C63: =C64 -> 6364464 | D63: =D64 -> -6735 | E63: Kārtējie izdevumi | F63: 66475 | G63: =G64 -> 4034
B64: Preces un pakalpojumi | C64: 6364464 | D64: -6735 | E64: Preces un pakalpojumi | F64: 66475 | G64: 4034
B65: 2025.gadā | E65: 2025.gadā
B66: Resursi izdevumu segšanai | C66: =C67 -> 6364464 | D66: =D67 -> -6735 | E66: Resursi izdevumu segšanai | F66: 66475 | G66: =G67 -> 4034
B67: Dotācija no vispārējiem ieņēmumiem | C67: =C68 -> 6364464 | D67: =D68 -> -6735 | E67: Dotācija no vispārējiem ieņēmumiem | F67: 66475 | G67: =G68 -> 4034
B68: Vispārējā kārtībā sadalāmā dotācija no vispārējiem ieņēmumiem | C68: 6364464 | D68: -6735 | E68: Vispārējā kārtībā sadalāmā dotācija no vispārējiem ieņēmumiem | F68: 66475 | G68: 4034
B69: Izdevumi – kopā | C69: =C70 -> 6364464 | D69: =D70 -> -6735 | E69: Izdevumi – kopā | F69: 66475 | G69: =G70 -> 4034
B70: Uzturēšanas izdevumi | C70: =C71 -> 6364464 | D70: =D71 -> -6735 | E70: Uzturēšanas izdevumi | F70: 66475 | G70: =G71 -> 4034
B71: Kārtējie izdevumi | C71: =C72 -> 6364464 | D71: =D72 -> -6735 | E71: Kārtējie izdevumi | F71: 66475 | G71: =G72 -> 4034
B72: Preces un pakalpojumi | C72: 6364464 | D72: -6735 | E72: Preces un pakalpojumi | F72: 66475 | G72: 4034
B73: 2026.gadā | E73: 2026.gadā
B74: Resursi izdevumu segšanai | C74: =C75 -> 6364464 | D74: =D75 -> -6735 | E74: Resursi izdevumu segšanai | F74: 66475 | G74: =G75 -> 4034
B75: Dotācija no vispārējiem ieņēmumiem | C75: =C76 -> 6364464 | D75: =D76 -> -6735 | E75: Dotācija no vispārējiem ieņēmumiem | F75: 66475 | G75: =G76 -> 4034
B76: Vispārējā kārtībā sadalāmā dotācija no vispārējiem ieņēmumiem | C76: 6364464 | D76: -6735 | E76: Vispārējā kārtībā sadalāmā dotācija no vispārējiem ieņēmumiem | F76: 66475 | G76: 4034
B77: Izdevumi – kopā | C77: =C78 -> 6364464 | D77: =D78 -> -6735 | E77: Izdevumi – kopā | F77: 66475 | G77: =G78 -> 4034
B78: Uzturēšanas izdevumi | C78: =C79 -> 6364464 | D78: =D79 -> -6735 | E78: Uzturēšanas izdevumi | F78: 66475 | G78: =G79 -> 4034
B79: Kārtējie izdevumi | C79: =C80 -> 6364464 | D79: =D80 -> -6735 | E79: Kārtējie izdevumi | F79: 66475 | G79: =G80 -> 4034
B80: Preces un pakalpojumi | C80: 6364464 | D80: -6735 | E80: Preces un pakalpojumi | F80: 66475 | G80: 4034
B81: Tālākā laika posmā līdz projekta īstenošanai | E81: Tālākā laika posmā līdz projekta īstenošanai
B82: Resursi izdevumu segšanai | C82: =C83 -> 109769325 | D82: =D83 -> -116160 | E82: Resursi izdevumu segšanai | F82: 1146509 | G82: =G83 -> 69575
B83: Dotācija no vispārējiem ieņēmumiem | C83: =C84 -> 109769325 | D83: =D84 -> -116160 | E83: Dotācija no vispārējiem ieņēmumiem | F83: 1146509 | G83: =G84 -> 69575
B84: Vispārējā kārtībā sadalāmā dotācija no vispārējiem ieņēmumiem | C84: 109769325 | D84: -116160 | E84: Vispārējā kārtībā sadalāmā dotācija no vispārējiem ieņēmumiem | F84: 1146509 | G84: 69575
B85: Izdevumi – kopā | C85: =C86 -> 109769325 | D85: =D86 -> -116160 | E85: Izdevumi – kopā | F85: 1146509 | G85: =G86 -> 69575
B86: Uzturēšanas izdevumi | C86: =C87 -> 109769325 | D86: =D87 -> -116160 | E86: Uzturēšanas izdevumi | F86: 1146509 | G86: =G87 -> 69575
B87: Kārtējie izdevumi | C87: =C88 -> 109769325 | D87: =D88 -> -116160 | E87: Kārtējie izdevumi | F87: 1146509 | G87: =G88 -> 69575
B88: Preces un pakalpojumi | C88: 109769325 | D88: -116160 | E88: Preces un pakalpojumi | F88: 1146509 | G88: 69575
E89: 13. Finanšu ministrija
E90: 11. pielikums
E91: 39.02.00 Izložu un azartspēļu organizēšanas un norises uzraudzība
E92: 0600000000 Citas ilgtermiņa saistības
E93: Telpu Rīgā, Talejas ielā 1, nomas maksas izdevumu segšanai | F93: CIS/FM/026
E94: 2023.gadā
E95: Resursi izdevumu segšanai | F95: 0 | G95: =G96 -> 2701
E96: Dotācija no vispārējiem ieņēmumiem | F96: 0 | G96: =G97 -> 2701
E97: Vispārējā kārtībā sadalāmā dotācija no vispārējiem ieņēmumiem | F97: 0 | G97: 2701
E98: Izdevumi – kopā | F98: 0 | G98: =G99 -> 2701
E99: Uzturēšanas izdevumi | F99: 0 | G99: =G100 -> 2701
E100: Kārtējie izdevumi | F100: 0 | G100: =G101 -> 2701
E101: Preces un pakalpojumi | F101: 0 | G101: 2701
E102: 2024.gadā
...

Sheet IeM
A1: Nr.p.k. | C1: Pieņemts pirmajā lasījumā | D1: Priekšlikums par izmaiņām | F1: Pieņemts pirmajā lasījumā | G1: Priekšlikums par izmaiņām | H1: Priekšlikums MK atzinumam
B4: 14. Iekšlietu ministrija
A5: =FM!A136+1 -> 6 | B5: 14. Iekšlietu ministrija | H5: Atbalstīt
B6: 4.pielikums
B7: 38.05.00 Veselības aprūpe un fiziskā sagatavotība
B8: Resursi izdevumu segšanai | C8: 6005649 | D8: =D9+D10 -> 0
B9: Ieņēmumi no maksas pakalpojumiem un citi pašu ieņēmumi – kopā | C9: 26912
B10: Dotācija no vispārējiem ieņēmumiem | C10: 5978737 | D10: =D11 -> 0
B11: Vispārējā kārtībā sadalāmā dotācija no vispārējiem ieņēmumiem | C11: 5978737
B12: Izdevumi – kopā | C12: 6005649 | D12: =D13 -> 0
B13: Uzturēšanas izdevumi | C13: 6000233 | D13: =D14+D17+D20 -> 0
B14: Kārtējie izdevumi | C14: 5924563 | D14: =D15+D16 -> 0
B15: Atlīdzība | C15: 3919713 | D15: -10279
B16: Preces un pakalpojumi | C16: 2004850 | D16: 10279
B17: Subsīdijas, dotācijas, sociālie maksājumi un kompensācijas | C17: 75670
B18: Sociāla rakstura maksājumi un kompensācijas | C18: 75670
B19: Kapitālie izdevumi | C19: 5416
B20: Pamatkapitāla veidošana | C20: 5416
B21: 14. Iekšlietu ministrija
B22: 3.pielikums
B23: I. Valsts pamatfunkciju īstenošana
B24: 2024.gads
B25: Resursi izdevumu segšanai | C25: 528934950 | D25: 0
B26: Ieņēmumi no maksas pakalpojumiem un citi pašu ieņēmumi – kopā | C26: 4089396
B27: Dotācija no vispārējiem ieņēmumiem | C27: 524845554
B28: Vispārējā kārtībā sadalāmā dotācija no vispārējiem ieņēmumiem | C28: 524845554
B29: Izdevumi – kopā | C29: 528934950 | D29: 0
B30: Uzturēšanas izdevumi | C30: 515450877
B31: Kārtējie izdevumi | C31: 483364982
B32: Atlīdzība | C32: 350547191 | D32: -13706
B33: Preces un pakalpojumi | C33: 132817791 | D33: 13706
B34: Subsīdijas, dotācijas, sociālie maksājumi un kompensācijas | C34: 29811493
B35: Subsīdijas un dotācijas | C35: 29550781
B36: Sociāla rakstura maksājumi un kompensācijas | C36: 260712
B37: Kārtējie maksājumi Eiropas Savienības budžetā un starptautiskā sadarbība | C37: 139110
B38: Starptautiskā sadarbība | C38: 139110
B39: Transferti viena budžeta veida ietvaros un uzturēšanas izdevumu transferti starp budžeta veidiem | C39: 2135292
B40: Valsts budžeta transferti un uzturēšanas izdevumu transferti | C40: 751236
B41: Valsts budžeta uzturēšanas izdevumu transferti no valsts pamatbudžeta uz valsts speciālo budžetu | C41: 7776
B42: Valsts budžeta transferti no valsts pamatbudžeta uz valsts pamatbudžetu | C42: 743460
B43: Valsts budžeta transferti no valsts pamatbudžeta dotācijas no vispārējiem ieņēmumiem uz valsts pamatbudžetu | C43: 743460
B44: Pārējie valsts budžeta uzturēšanas izdevumu transferti citiem budžetiem | C44: 1384056
B45: Pārējie valsts budžeta uzturēšanas izdevumu transferti valsts budžeta daļēji finansētām atvasinātām publiskām personām un budžeta nefinansētām iestādēm | C45: 1384056
... B47: Pamatkapitāla veidošana | C47: 13484073
B48: 2025.gads
B49: Resursi izdevumu segšanai | C49: 471593828 | D49: 0
B50: Ieņēmumi no maksas pakalpojumiem un citi pašu ieņēmumi – kopā | C50: 4089396
B51: Dotācija no vispārējiem ieņēmumiem | C51: 467504432
B52: Vispārējā kārtībā sadalāmā dotācija no vispārējiem ieņēmumiem | C52: 467504432
B53: Izdevumi – kopā | C53: 471593828 | D53: =D54 -> 0
B54: Uzturēšanas izdevumi | C54: 458272567 | D54: =D55 -> 0
B55: Kārtējie izdevumi | C55: 448722900 | D55: =D56+D57 -> 0
B56: Atlīdzība | C56: 318133825 | D56: -13706
B57: Preces un pakalpojumi | C57: 130589075 | D57: 13706
B58: Subsīdijas, dotācijas, sociālie maksājumi un kompensācijas | C58: 7765778
B59: Subsīdijas un dotācijas | C59: 7505066
B60: Sociāla rakstura maksājumi un kompensācijas | C60: 260712
B61: Kārtējie maksājumi Eiropas Savienības budžetā un starptautiskā sadarbība | C61: 139110
B62: Starptautiskā sadarbība | C62: 139110
B63: Transferti viena budžeta veida ietvaros un uzturēšanas izdevumu transferti starp budžeta veidiem | C63: 1644779
B64: Valsts budžeta transferti un uzturēšanas izdevumu transferti | C64: 277822
B65: Valsts budžeta uzturēšanas izdevumu transferti no valsts pamatbudžeta uz valsts speciālo budžetu | C65: 7776
B66: Valsts budžeta transferti no valsts pamatbudžeta uz valsts pamatbudžetu | C66: 270046
B67: Valsts budžeta transferti no valsts pamatbudžeta dotācijas no vispārējiem ieņēmumiem uz valsts pamatbudžetu | C67: 270046
B68: Pārējie valsts budžeta uzturēšanas izdevumu transferti citiem budžetiem | C68: 1366957
B69: Pārējie valsts budžeta uzturēšanas izdevumu transferti valsts budžeta daļēji finansētām atvasinātām publiskām personām un budžeta nefinansētām iestādēm | C69: 1366957
... B71: Pamatkapitāla veidošana | C71: 13321261
B72: Budžeta apakšprogrammā 38.05.00 "Veselības aprūpe un fiziskā sagatavotība" veikta izdevumu pārdale starp izdevumu ekonomiskās klasifikācijas kodiem 2023.gadā - 10 279 euro, 2024.gadā un 2025.gadā - 13 706 euro, samazinot izdevumus atlīdzībai un palielinot izdevumus precēm un pakalpojumiem, lai nodrošinātu korektu VSIA “Iekšlietu ministrijas poliklīnika” Centrālās medicīnisko ekspertīžu komisijas ārstniecības personu un ārstniecības atbalsta personu atlīdzības pieauguma izdevumu klasifikāciju atbilstoši normatīvajos aktos noteiktajam. VSIA “Iekšlietu ministrijas poliklīnika” Centrālās medicīniskās ekspertīzes komisijas ārstniecības personām atlīdzības pieaugums ir ietverts amatpersonu ar speciālajām dienesta pakāpēm veselības pārbaudes pakalpojuma cenā, līdz ar to norēķini ar VSIA “Iekšlietu ministrijas poliklīnika” tiek veikti, apmaksājot šos sniegtos pakalpojumus, un nav klasificējami kā izdevumi atlīdzībai.
A74: =A5+1 -> 7 | B74: Valsts budžeta ieņēmumi | E74: 14. Iekšlietu ministrija | H74: Atbalstīt
B75: 2.pielikums | E75: 4.pielikums
B76: Valsts pamatbudžeta ieņēmumi | E76: 40.01.00 Administrēšana
B77: Ieņēmumi no valstij piekritīgās mantas realizācijas pēc citu valsts institūciju pieņemtā lēmuma | C77: 309050 | D77: 143111 | E77: Resursi izdevumu segšanai | F77: =F78 -> 6690963 | G77: =G78 -> 143111
E78: Dotācija no vispārējiem ieņēmumiem | F78: =F79 -> 6690963 | G78: =G79 -> 143111
E79: Vispārējā kārtībā sadalāmā dotācija no vispārējiem ieņēmumiem | F79: 6690963 | G79: 143111
E80: Izdevumi – kopā | F80: =F81 -> 6690963 | G80: =G81 -> 143111
E81: Uzturēšanas izdevumi | F81: =F82 -> 6690963 | G81: =G82 -> 143111
E82: Kārtējie izdevumi | F82: =F83+F84 -> 6690963 | G82: =G83+G84 -> 143111
E83: Atlīdzība | F83: 6633557 | G83: 143111
E84: Preces un pakalpojumi | F84: 57406 | G84: 0
B85: Veikts dotācijas no vispārējiem ieņēmumiem un izdevumu atlīdzībai palielinājums budžeta apakšprogrammā 40.01.00 "Administrēšana" 2023. gadā 143 111 euro (9 mēnešiem), lai nodrošinātu administratīvās kapacitātes stiprināšanu Nodrošinājuma valsts aģentūrā iepirkumu un projektu pārvaldības jomā, ņemot vērā ievērojamo iepirkumu apjomu un plānotos būvniecības projektus. Finansējuma avots - ieņēmumu no valstij piekritīgās mantas realizācijas pēc citu valsts institūciju pieņemtā lēmuma palielinājums (ieņēmumu kods 12190 "Ieņēmumi no valstij piekritīgās mantas realizācijas pēc citu valsts institūciju pieņemtā lēmuma"). Saskaņā ar Ministru Kabineta 2011 .gada 27. decembra noteikumiem Nr.1025 “Noteikumi par rīcību ar lietiskajiem pierādījumiem un arestēto mantu” Nodrošinājuma valsts aģentūra nodrošina, ka līdzekļi, kas gūti, realizējot lietiskos pierādījumus, tiktu ieskaitīti deponēto līdzekļu kontā Valsts kasē. Līdzekļus, kas iegūti, realizējot lietiskos pierādījumus, glabā deponēto līdzekļu kontā līdz galīgā nolēmuma pieņemšanai krimināllietā. Nodrošinājuma valsts aģentūra veic sankciju rezultātā iegūtās mantas pārņemšanas un realizācijas procesu. Nodrošinājuma valsts aģentūra sakarā ar noziedzīgo nodarījumu izdarīšanu, kuri paredzēti Krimināllikuma 84.panta otrajā daļā (par iespējamām darbībām saistībā ar Apvienoto Nāciju Organizācijas, Eiropas Savienības un citu starptautisko organizāciju noteikto sankciju vai par Latvijas Republikas noteikto nacionālo sankciju neievērošanu vai apiešanu) no 2022. gada 7. maija ir saņēmusi izpildei no Valsts ieņēmumu dienesta Nodokļu un muitas policijas pārvaldes (VID) 69 lēmumus par rīcību ar lietiskajiem pierādījumiem (turpmāk – sankcionētā manta). Lielākā daļa no Nodrošinājuma valsts aģentūrai nodotās sankcionētās mantas ir liela apjoma būvizstrādājumi un cietais kurināmais (koksnes granulas, kokogles, koksnes briketes). Turklāt VID turpina nodot Nodrošinājuma valsts aģentūrai liela apjoma sankcionēto mantu. Ņemot vērā, ka šobrīd 2023. gadā ir izpildīti 3 lēmumi par kopējo summu 49 038 euro un realizējamā sankcionētā manta ir liela apjoma, vidēji viena lēmuma realizācijas ieņēmumi sastāda 20000 euro. Tiek prognozēts, ka Nodrošinājuma valsts aģentūra gadā izpilda 25 lēmumus. Līdz ar to, plānotā ieņēmumu prognoze 2023. gadā sastāda 500000 euro. Saskaņā ar Ministru kabineta 2023. gada 13. janvāra protokola Nr.2 1.§ 18.3.apakšpunktu palielināti ieņēmumi no valstij piekritīgās mantas realizācijas pēc citu valsts institūciju pieņemtā lēmuma 2023.–2025. gadā 309 050 euro apmērā ik gadu. Saskaņā ar Ministru kabineta 2023. gada 13. janvāra sēdes protokola Nr.2 1.§ 2. punktu ir atbalstīts Valsts kancelejas starpnozaru prioritārais pasākums “Papildu finansējums Valsts pārvaldes kapacitātes stiprināšanai, nodrošinot stratēģiski svarīgo amata grupu atlīdzību”, tai skaitā paredzot finansējumu Nodrošinājuma valsts aģentūrai. Tomēr, lai novērstu kvalificētu darbinieku aizplūšanu un nodrošinātu administratīvās kapacitātes stiprināšanu Nodrošinājuma valsts aģentūrā iepirkumu un projektu pārvaldības jomā, ņemot vērā ievērojamo iepirkumu apjomu un plānotos būvniecības projektus, atbalstītais finansējums ir nepietiekošs.
A87: =A74+1 -> 8 | B87: 74. Gadskārtējā valsts budžeta izpildes procesā pārdalāmais finansējums | E87: 14. Iekšlietu ministrija | H87: Atbalstīt
B88: 4.pielikums | E88: 4.pielikums
B89: 02.00.00 "Līdzekļi neparedzētiem gadījumiem" | E89: 99.00.00 "Līdzekļu neparedzētiem gadījumiem izlietojums"
B90: Resursi izdevumu segšanai | C90: 80981848 | D90: =D91 -> -1183338 | E90: Resursi izdevumu segšanai | F90: 249679 | G90: =G91 -> 1183338
B91: Dotācija no vispārējiem ieņēmumiem | C91: 80981848 | D91: =D92 -> -1183338 | E91: Dotācija no vispārējiem ieņēmumiem | F91: 249679 | G91: =G92 -> 1183338
B92: Vispārējā kārtībā sadalāmā dotācija no vispārējiem ieņēmumiem | C92: 80981848 | D92: -1183338 | E92: Vispārējā kārtībā sadalāmā dotācija no vispārējiem ieņēmumiem | F92: 249679 | G92: 1183338
B93: Izdevumi – kopā | C93: 80981848 | D93: =D94 -> -1183338 | E93: Izdevumi – kopā | F93: 249679 | G93: =G94 -> 1183338
B94: Uzturēšanas izdevumi | C94: 80981848 | D94: =D95 -> -1183338 | E94: Uzturēšanas izdevumi | F94: 249679 | G94: =G95 -> 1183338
B95: Subsīdijas, dotācijas, sociālie maksājumi un kompensācijas | C95: 80981848 | D95: =D96 -> -1183338 | E95: Kārtējie izdevumi | F95: 249679 | G95: =G96+G97 -> 1183338
B96: Subsīdijas un dotācijas | C96: 80981848 | D96: -1183338 | E96: Atlīdzība | F96: 177488 | G96: 1158143
E97: Preces un pakalpojumi | F97: 72191 | G97: 25195
B98: Saskaņā ar Ministru kabineta rīkojuma projekta "Par finanšu līdzekļu piešķiršanu no valsts budžeta programmas "Līdzekļi neparedzētiem gadījumiem"" (23-TA-13) 2.punktu veikta finansējuma pārdale 2023. gadā no 74. resora "Gadskārtējā valsts budžeta izpildes procesā pārdalāmais finansējums" budžeta programmas 02.00.00 "Līdzekļi neparedzētiem gadījumiem" uz Iekšlietu ministrijas budžeta programmu 99.00.00 "Līdzekļu neparedzētiem gadījumiem izlietojums", lai segtu izdevumus, kas saistībā ar Ministru kabineta 2021.gada 10.augusta rīkojuma Nr. 518 "Par ārkārtējās situācijas izsludināšanu" (turpmāk - rīkojums) izpildei nepieciešamo pasākumu īstenošanu radušies laikposmā no 2022. gada 1. decembra (atsevišķi izdevumi no 2022. gada 1. septembra) līdz 2022. gada 31. decembrim, kā arī, lai kompensētu papildu izdevumus (vidējās izpeļņas pieaugums), kas rodas, nosakot samaksu par virsstundu darbu un piemaksas saistībā ar rīkojuma Nr. 518 izpildei nepieciešamo pasākumu īstenošanu
A100: =A87+1 -> 9 | B100: 74. Gadskārtējā valsts budžeta izpildes procesā pārdalāmais finansējums | E100: 14. Iekšlietu ministrija | H100: Atbalstīt
B101: 4.pielikums | E101: 4.pielikums
B102: 02.00.00 "Līdzekļi neparedzētiem gadījumiem" | E102: 99.00.00 "Līdzekļu neparedzētiem gadījumiem izlietojums"
B103: Resursi izdevumu segšanai | C103: 80981848 | D103: =D104 -> -106840 | E103: Resursi izdevumu segšanai | F103: 249679 | G103: =G104 -> 106840
B104: Dotācija no vispārējiem ieņēmumiem | C104: 80981848 | D104: =D105 -> -106840 | E104: Dotācija no vispārējiem ieņēmumiem | F104: 249679 | G104: =G105 -> 106840
B105: Vispārējā kārtībā sadalāmā dotācija no vispārējiem ieņēmumiem | C105: 80981848 | D105: -106840 | E105: Vispārējā kārtībā sadalāmā dotācija no vispārējiem ieņēmumiem | F105: 249679 | G105: 106840
B106: Izdevumi – kopā | C106: 80981848 | D106: =D107 -> -106840 | E106: Izdevumi – kopā | F106: 249679 | G106: =G107 -> 106840
B107: Uzturēšanas izdevumi | C107: 80981848 | D107: =D108 -> -106840 | E107: Uzturēšanas izdevumi | F107: 249679 | G107: =G108 -> 106840
...

Sheet IZM
A1: Nr.p.k. | C1: Pieņemts pirmajā lasījumā | D1: Priekšlikums par izmaiņām | F1: Pieņemts pirmajā lasījumā | G1: Priekšlikums par izmaiņām | H1: Priekšlikums MK atzinumam
B4: 15. Izglītības un zinātnes ministrija
A5: =IeM!A415+1 -> 18 | B5: Valsts budžeta ieņēmumi | E5: 15. Izglītības un zinātnes ministrija | H5: Atbalstīt
B6: 2.pielikums | E6: 4.pielikums
B7: Valsts pamatbudžeta ieņēmumi | E7: 42.06.00 Valsts izglītības satura centra darbības nodrošināšana | F7: `
B8: Nodeva par valsts valodas prasmes atestāciju profesionālo un amata pienākumu veikšanai | D8: 1040000 | E8: Resursi izdevumu segšanai | F8: 3305784 | G8: 1040000
E9: Dotācija no vispārējiem ieņēmumiem | F9: 3172237 | G9: 1040000
E10: Vispārējā kārtībā sadalāmā dotācija no vispārējiem ieņēmumiem | F10: 3172237 | G10: 1040000
E11: Izdevumi – kopā | F11: 3305784 | G11: 1040000
E12: Uzturēšanas izdevumi | F12: 3284319 | G12: =G13 -> 1016000
E13: Kārtējie izdevumi | F13: 3267245 | G13: =G14+G15 -> 1016000
E14: Atlīdzība | F14: 2763405 | G14: 853503
E15: Preces un pakalpojumi | F15: 503840 | G15: 162497
E16: Kapitālie izdevumi | F16: 21465 | G16: 24000
E17: Pamatkapitāla veidošana | F17: 21465 | G17: 24000
B18: Valsts budžeta ieņēmumi | E18: 15. Izglītības un zinātnes ministrija
B19: 2.pielikums | E19: 3.pielikums
B20: Valsts pamatbudžeta ieņēmumi | E20: I. Valsts pamatfunkciju īstenošana
B21: 2024.gads | E21: 2024.gads
B22: Nodeva par valsts valodas prasmes atestāciju profesionālo un amata pienākumu veikšanai | D22: 152256 | E22: Resursi izdevumu segšanai | F22: 404170068 | G22: 152256
E23: Dotācija no vispārējiem ieņēmumiem | F23: 393961612 | G23: 152256
E24: Vispārējā kārtībā sadalāmā dotācija no vispārējiem ieņēmumiem | F24: 393961612 | G24: 152256
E25: Izdevumi – kopā | F25: 403428610 | G25: 152256
E26: Uzturēšanas izdevumi | F26: 396582860 | G26: 152256
E27: Kārtējie izdevumi | F27: 103823478 | G27: 152256
E28: Atlīdzība | F28: 79044573 | G28: 137559
E29: Preces un pakalpojumi | F29: 24778905 | G29: 14697
B30: 2025.gads | E30: 2025.gads
B31: Nodeva par valsts valodas prasmes atestāciju profesionālo un amata pienākumu veikšanai | D31: 152256 | E31: Resursi izdevumu segšanai | F31: 404103183 | G31: 152256
E32: Dotācija no vispārējiem ieņēmumiem | F32: 397786137 | G32: 152256
E33: Vispārējā kārtībā sadalāmā dotācija no vispārējiem ieņēmumiem | F33: 397786137 | G33: 152256
E34: Izdevumi – kopā | F34: 403391725 | G34: 152256
E35: Uzturēšanas izdevumi | F35: 396803833 | G35: 152256
E36: Kārtējie izdevumi | F36: 103678068 | G36: 152256
E37: Atlīdzība | F37: 78901363 | G37: 137559
E38: Preces un pakalpojumi | F38: 24776705 | G38: 14697
B39: Saskaņā ar Ministru kabineta 2023. gada 24. janvāra sēdes protokola Nr.4, 29.§ 6.punktu tiek palielināti ieņēmumi no valsts nodevas par valsts valodas prasmes pārbaudi un ar to saistītajiem pakalpojumiem 2023. gadā 1 040 000 euro apmērā un turpmāk ik gadu 152 256 euro apmērā, un paredzēti izdevumi no dotācijas no vispārējiem ieņēmumiem budžeta apakšprogrammā 42.06.00 "Valsts izglītības satura centra darbības nodrošināšana" 2023. gadā 1 040 000 euro apmērā un turpmāk ik gadu 152 256 euro apmērā, lai nodrošinātu valsts valodas prasmes pārbaudes procesu.

Sheet SM
A1: Nr.p.k. | C1: Pieņemts pirmajā lasījumā | D1: Priekšlikums par izmaiņām | F1: Pieņemts pirmajā lasījumā | G1: Priekšlikums par izmaiņām | H1: Priekšlikums MK atzinumam
B4: 17. Satiksmes ministrija
A5: =IZM!A5+1 -> 19 | B5: 17 Satiksmes ministrija | H5: Atbalstīt
B6: 4.pielikums
B7: 23.06.00 Valsts autoceļu uzturēšana un atjaunošana
B8: Resursi izdevumu segšanai | C8: 205111062 | D8: 0
B9: Ieņēmumi no maksas pakalpojumiem un citi pašu ieņēmumi | C9: 142287
B10: Dotācija no vispārējiem ieņēmumiem | C10: 204968775
B11: Vispārējā kārtībā sadalāmā dotācija no vispārējiem ieņēmumiem | C11: 204968775
B12: Izdevumi - kopā | C12: 205111062 | D12: 0
B13: Uzturēšanas izdevumi | C13: 69702561
B14: Kārtējie izdevumi | C14: 69702561
B15: Preces un pakalpojumi | C15: 69702561
B16: Kapitālie izdevumi | C16: 135408501
B17: Pamatkapitāla veidošana | C17: 133408501 | D17: -1000000
B18: Kapitālo izdevumu transferti | C18: 2000000
B19: Pārējie valsts budžeta kapitālo izdevumu transferti citiem budžetiem | C19: 2000000
B20: Pārējie valsts budžeta kapitālo izdevumu transferti pašvaldībām | C20: 2000000 | D20: 1000000
B21: 17 Satiksmes ministrija
B22: 3.pielikums
B23: I. Valsts pamatfunkciju īstenošana
B24: 2024. gads
B25: Resursi izdevumu segšanai | C25: 492 560 204 | D25: 0
B26: Ieņēmumi no maksas pakalpojumiem un citi pašu ieņēmumi | C26: 1 099 481
B27: Dotācija no vispārējiem ieņēmumiem | C27: 491 460 723
B28: Vispārējā kārtībā sadalāmā dotācija no vispārējiem ieņēmumiem | C28: 491 460 723
B29: Izdevumi - kopā | C29: 493 011 034 | D29: 0
B30: Uzturēšanas izdevumi | C30: 307 883 640
B31: Kārtējie izdevumi | C31: 93 416 796
B32: Atlīdzība | C32: 5 544 790
B33: Preces un pakalpojumi | C33: 87 872 006
B34: Subsīdijas, dotācijas un sociālie pabalsti | C34: 157 706 655
B35: Subsīdijas un dotācijas | C35: 157 706 655
B36: Kārtējie maksājumi Eiropas Savienības budžetā un starptautiskā sadarbība | C36: 333 220
B37: Starptautiskā sadarbība | C37: 333 220
B38: Transferti viena budžeta veida ietvaros un uzturēšanas izdevumu transferti starp budžeta veidiem | C38: 56 426 969
B39: Valsts budžeta transferti un uzturēšanas izdevumu transferti | C39: 2 400
B40: Valsts budžeta uzturēšanas izdevumu transferti no valsts pamatbudžeta uz valsts speciālo budžetu | C40: 2 400
B41: Pārējie valsts budžeta uzturēšanas izdevumu transferti citiem budžetiem | C41: 56 424 569
... B44: Kapitālie izdevumi | C44: 185 127 394
B45: Pamatkapitāla veidošana | C45: 143 867 233 | D45: -1000000
B46: Kapitālo izdevumu transferti | C46: 41 260 161
B47: Pārējie valsts budžeta kapitālo izdevumu transferti citiem budžetiem | C47: 41 260 161
B48: Pārējie valsts budžeta kapitālo izdevumu transferti pašvaldībām | C48: 41 260 161 | D48: 1000000
B49: Finansiālā bilance | C49: -450 830
B50: Finansēšana | C50: 450 830
B51: Naudas līdzekļi | C51: 450 830
B52: Maksas pakalpojumu un citu pašu ieņēmumu naudas līdzekļu atlikumu izmaiņas palielinājums (-) vai samazinājums (+) | C52: 450 830
B53: 2025. gads
B54: Resursi izdevumu segšanai | C54: 434 274 716 | D54: 0
B55: Ieņēmumi no maksas pakalpojumiem un citi pašu ieņēmumi | C55: 1 099 481
B56: Dotācija no vispārējiem ieņēmumiem | C56: 433 175 235
B57: Vispārējā kārtībā sadalāmā dotācija no vispārējiem ieņēmumiem | C57: 433 175 235
B58: Izdevumi - kopā | C58: 434 543 723 | D58: 0
B59: Uzturēšanas izdevumi | C59: 269 287 439
B60: Kārtējie izdevumi | C60: 92 793 755
B61: Atlīdzība | C61: 5 372 967
B62: Preces un pakalpojumi | C62: 87 420 788
B63: Subsīdijas, dotācijas un sociālie pabalsti | C63: 119 733 495
B64: Subsīdijas un dotācijas | C64: 119 733 495
B65: Kārtējie maksājumi Eiropas Savienības budžetā un starptautiskā sadarbība | C65: 333 220
B66: Starptautiskā sadarbība | C66: 333 220
B67: Transferti viena budžeta veida ietvaros un uzturēšanas izdevumu transferti starp budžeta veidiem | C67: 56 426 969
B68: Valsts budžeta transferti un uzturēšanas izdevumu transferti | C68: 2 400
B69: Valsts budžeta uzturēšanas izdevumu transferti no valsts pamatbudžeta uz valsts speciālo budžetu | C69: 2 400
B70: Pārējie valsts budžeta uzturēšanas izdevumu transferti citiem budžetiem | C70: 56 424 569
... B73: Kapitālie izdevumi | C73: 165 256 284
B74: Pamatkapitāla veidošana | C74: 147 078 623 | D74: -1000000
B75: Kapitālo izdevumu transferti | C75: 18 177 661
B76: Pārējie valsts budžeta kapitālo izdevumu transferti citiem budžetiem | C76: 18 177 661
B77: Pārējie valsts budžeta kapitālo izdevumu transferti pašvaldībām | C77: 18 177 661 | D77: 1000000
B78: Finansiālā bilance | C78: -269 007
B79: Finansēšana | C79: 269 007
B80: Naudas līdzekļi | C80: 269 007
B81: Maksas pakalpojumu un citu pašu ieņēmumu naudas līdzekļu atlikumu izmaiņas palielinājums (-) vai samazinājums (+) | C81: 269 007
B82: Veikta līdzekļu pārdale starp izdevumu kodiem atbilstoši ekonomiskajām kategorijām, palielinot finansējumu pašvaldībām. Tas nepieciešams, jo valsts galveno un reģionālo autoceļu maršrutos jānodrošina tranzīta satiksme, jo pilsētu tranzīta ielas ir valsts autoceļu maršrutu sastāvdaļa. Tādēļ ir būtiski uzlabot to stāvokli un satiksmes drošību, nodrošinot savlaicīgu projektu realizāciju, ņemot vērā ceļu būvniecības sezonu.
A84: =A5+1 -> 20 | B84: 17 Satiksmes ministrija | H84: Atbalstīt
B85: 3.pielikums
B86: I. Valsts pamatfunkciju īstenošana
B87: 2025. gads
B88: Resursi izdevumu segšanai | C88: 434 274 716
B89: Ieņēmumi no maksas pakalpojumiem un citi pašu ieņēmumi | C89: 1 099 481
B90: Dotācija no vispārējiem ieņēmumiem | C90: 433 175 235
B91: Vispārējā kārtībā sadalāmā dotācija no vispārējiem ieņēmumiem | C91: 433 175 235
B92: Izdevumi - kopā | C92: 434 543 723
B93: Uzturēšanas izdevumi | C93: 269 287 439
B94: Kārtējie izdevumi | C94: 92 793 755
B95: Atlīdzība | C95: 5 372 967 | D95: 88995
B96: Preces un pakalpojumi | C96: 87 420 788 | D96: -88995
B97: Subsīdijas, dotācijas un sociālie pabalsti | C97: 119 733 495
B98: Subsīdijas un dotācijas | C98: 119 733 495
B99: Kārtējie maksājumi Eiropas Savienības budžetā un starptautiskā sadarbība | C99: 333 220
B100: Starptautiskā sadarbība | C100: 333 220
B101: Transferti viena budžeta veida ietvaros un uzturēšanas izdevumu transferti starp budžeta veidiem | C101: 56 426 969
B102: Valsts budžeta transferti un uzturēšanas izdevumu transferti | C102: 2 400
B103: Valsts budžeta uzturēšanas izdevumu transferti no valsts pamatbudžeta uz valsts speciālo budžetu | C103: 2 400
B104: Pārējie valsts budžeta uzturēšanas izdevumu transferti citiem budžetiem | C104: 56 424 569
B105: Pārējie valsts budžeta uzturēšanas izdevumu transferti pašvaldībām | C105: 56 159 969
B106: Pārējie valsts budžeta uzturēšanas izdevumu transferti valsts budžeta daļēji finansētām atvasinātajām publiskajām personām un budžeta nefinansētajām iestādēm | C106: 264 600
B107: Kapitālie izdevumi | C107: 165 256 284
...

Sheet LM
A1: Nr.p.k. | C1: Pieņemts pirmajā lasījumā | D1: Priekšlikums par izmaiņām | F1: Pieņemts pirmajā lasījumā | G1: Priekšlikums par izmaiņām | H1: Priekšlikums MK atzinumam
B4: 18. Labklājības ministrija
A5: =SM!A84+1 -> 21 | B5: 74. Gadskārtējā valsts budžeta izpildes procesā pārdalāmais finansējums | E5: 18. Labklājības ministrija | H5: Atbalstīt
B6: 4.pielikums | E6: 4.pielikums
B7: 02.00.00 Līdzekļi neparedzētiem gadījumiem | E7: 99.00.00 Līdzekļu neparedzētiem gadījumiem izlietojums
B8: Resursi izdevumu segšanai | C8: =C9 -> 80981848 | D8: =D9 -> -15000 | E8: Resursi izdevumu segšanai | F8: =F9 -> 0 | G8: =G9 -> 15000
B9: Dotācija no vispārējiem ieņēmumiem | C9: =C10 -> 80981848 | D9: =D10 -> -15000 | E9: Dotācija no vispārējiem ieņēmumiem | F9: =F10 -> 0 | G9: =G10 -> 15000
B10: Vispārējā kārtībā sadalāmā dotācija no vispārējiem ieņēmumiem | C10: =C11 -> 80981848 | D10: =D11 -> -15000 | E10: Vispārējā kārtībā sadalāmā dotācija no vispārējiem ieņēmumiem | F10: =F11 -> 0 | G10: =G11 -> 15000
B11: Izdevumi – kopā | C11: =C12 -> 80981848 | D11: =D12 -> -15000 | E11: Izdevumi – kopā | F11: =F12 -> 0 | G11: =G12 -> 15000
B12: Uzturēšanas izdevumi | C12: =C13 -> 80981848 | D12: =D13 -> -15000 | E12: Uzturēšanas izdevumi | F12: =F13 -> 0 | G12: =G13 -> 15000
B13: Subsīdijas, dotācijas, sociālie maksājumi un kompensācijas | C13: =C14 -> 80981848 | D13: =D14 -> -15000 | E13: Subsīdijas, dotācijas, sociālie maksājumi un kompensācijas | F13: =F14 -> 0 | G13: =G14 -> 15000
B14: Subsīdijas un dotācijas | C14: 80981848 | D14: -15000 | E14: Sociāla rakstura maksājumi un kompensācijas | F14: 0 | G14: 15000
B15: Vienreizēja sociālā pabalsta 15 000 euro apmērā izmaksāšanai Dinai Dabiņai saistībā ar trīnīšu piedzimšanu (atbilstoši Ministru kabineta 2023.gada 7.februāra rīkojumam Nr.68 (prot. Nr.6 24.§) “Par vienreizēja sociālā pabalsta piešķiršanu” un Finanšu ministrijas 2023.gada 9.februāra rīkojumam Nr.39 “Par līdzekļu piešķiršanu”).

Sheet KM
A1: Nr.p.k. | C1: Pieņemts pirmajā lasījumā | D1: Priekšlikums par izmaiņām | F1: Pieņemts pirmajā lasījumā | G1: Priekšlikums par izmaiņām | H1: Priekšlikums MK atzinumam
B4: 22. Kultūras ministrija
A5: =LM!A5+1 -> 22 | B5: 22.Kultūras ministrija | E5: 22.Kultūras ministrija | H5: Atbalstīt
B6: 21.00.00 Kultūras mantojums | E6: 19.07.00 Mākslas un literatūra
B7: 4.pielikums | E7: 4.pielikums
B8: Resursi izdevumu segšanai | C8: 77992542 | D8: -129892 | E8: Resursi izdevumu segšanai | F8: 40972399 | G8: 129892
B9: Ieņēmumi no maksas pakalpojumiem un citi pašu ieņēmumi – kopā | C9: 11173727 | E9: Dotācija no vispārējiem ieņēmumiem | F9: 40972399 | G9: 129892
B10: Transferti | C10: 100000 | E10: Vispārējā kārtībā sadalāmā dotācija no vispārējiem ieņēmumiem | F10: 40972399 | G10: 129892
B11: Valsts budžeta transferti | C11: 100000 | E11: Izdevumi – kopā | F11: 40972399 | G11: 129892
B12: Valsts pamatbudžeta savstarpējie transferti | C12: 100000 | E12: Uzturēšanas izdevumi | F12: 40972399 | G12: 129892
B13: Valsts pamatbudžeta iestāžu saņemtie transferti no valsts pamatbudžeta | C13: 100000 | E13: Kārtējie izdevumi | F13: 47821
B14: Pārējie valsts pamatbudžetā saņemtie transferti no valsts pamatbudžeta | C14: 100000 | E14: Preces un pakalpojumi | F14: 47821
B15: Dotācija no vispārējiem ieņēmumiem | C15: 66718815 | D15: -129892 | E15: Subsīdijas, dotācijas, sociālie maksājumi un kompensācijas | F15: 40924578 | G15: 129892
B16: Vispārējā kārtībā sadalāmā dotācija no vispārējiem ieņēmumiem | C16: 66718815 | D16: -129892 | E16: Subsīdijas un dotācijas | F16: 40816566 | G16: 129892
B17: Izdevumi – kopā | C17: 78257870 | D17: -129892 | E17: Sociāla rakstura maksājumi un kompensācijas | F17: 108012
B18: Uzturēšanas izdevumi | C18: 75048425 | D18: -129892
B19: Kārtējie izdevumi | C19: 60116089 | D19: -129892
B20: Atlīdzība | C20: 35394197
B21: Preces un pakalpojumi | C21: 24721892 | D21: -129892
B22: Subsīdijas, dotācijas, sociālie maksājumi un kompensācijas | C22: 10364441
B23: Subsīdijas un dotācijas | C23: 10360541
B24: Sociāla rakstura maksājumi un kompensācijas | C24: 3900
B25: Kārtējie maksājumi Eiropas Savienības budžetā un starptautiskā sadarbība | C25: 10538
B26: Starptautiskā sadarbība | C26: 10538
B27: Transferti viena budžeta veida ietvaros un uzturēšanas izdevumu transferti starp budžeta veidiem | C27: 4557357
B28: Pārējie valsts budžeta uzturēšanas izdevumu transferti citiem budžetiem | C28: 4557357
B29: Pārējie valsts budžeta uzturēšanas izdevumu transferti pašvaldībām | C29: 4134727
B30: Pārējie valsts budžeta uzturēšanas izdevumu transferti valsts budžeta daļēji finansētām atvasinātām publiskām personām un budžeta nefinansētām iestādēm | C30: 422630
B31: Kapitālie izdevumi | C31: 3209445
B32: Pamatkapitāla veidošana | C32: 3209445
B33: Finansiālā bilance | C33: -265328
... B36: Maksas pakalpojumu un citu pašu ieņēmumu naudas līdzekļu atlikumu izmaiņas palielinājums (-) vai samazinājums (+) | C36: 265328
B37: Pārdalīt izdevumus starp Kultūras ministrijas programmu 21.00.00 “Kultūras mantojums” un apakšprogrammu 19.07.00 “Mākslas un literatūra” saskaņā ar grozījumiem Ministru kabineta 2018. gada 12. jūnija rīkojumā Nr. 267 “Par finansējumu Rīgas pils Konventa Pils laukumā 3, Rīgā, un Muzeju krātuvju kompleksa Pulka ielā 8, Rīgā, būvniecības projekta, nomas maksas, pārcelšanās un aprīkojuma iegādes izdevumu segšanai”, lai daļēji segtu valsts sabiedrībai ar ierobežotu atbildību VSIA “Latvijas Leļļu teātris” pagaidu telpu nomu un uzturēšanās izdevumus 2023.gadā.

Sheet VM
A1: Nr.p.k. | C1: Pieņemts pirmajā lasījumā | D1: Priekšlikums par izmaiņām | F1: Pieņemts pirmajā lasījumā | G1: Priekšlikums par izmaiņām | H1: Priekšlikums MK atzinumam
B4: 29. Veselības ministrija
A5: =KM!A5+1 -> 23 | B5: 74.00.00 Gadskārtējā valsts budžeta izpildes procesā pārdalāmais finansējums | E5: 29. Veselības ministrija | H5: Atbalstīt
B6: 4.pielikums | E6: 4.pielikums
B7: 12.00.00 Finansējums veselības jomas pasākumiem Covid-19 infekcijas izplatības ierobežošanai | E7: 97.00.00 Nozaru vadība un politikas plānošana | F7: `
B8: Resursi izdevumu segšanai | C8: =C10 -> 63402515 | D8: =D10 -> -30000 | E8: Resursi izdevumu segšanai | F8: =F10 -> 5603469 | G8: =G9+G10 -> 30000
B9: Ieņēmumi no maksas pakalpojumiem un citi pašu ieņēmumi – kopā | E9: Ieņēmumi no maksas pakalpojumiem un citi pašu ieņēmumi – kopā
B10: Dotācija no vispārējiem ieņēmumiem | C10: =C11 -> 63402515 | D10: =D11 -> -30000 | E10: Dotācija no vispārējiem ieņēmumiem | F10: =F11 -> 5603469 | G10: =G11 -> 30000
B11: Vispārējā kārtībā sadalāmā dotācija no vispārējiem ieņēmumiem | C11: =C12 -> 63402515 | D11: =D12 -> -30000 | E11: Vispārējā kārtībā sadalāmā dotācija no vispārējiem ieņēmumiem | F11: 5603469 | G11: =G12 -> 30000
B12: Izdevumi – kopā | C12: =C13 -> 63402515 | D12: =D13 -> -30000 | E12: Izdevumi – kopā | F12: =F13+F22 -> 5603469 | G12: =G13 -> 30000
B13: Uzturēšanas izdevumi | C13: =C14 -> 63402515 | D13: =D14 -> -30000 | E13: Uzturēšanas izdevumi | F13: =F14+F17 -> 5597900 | G13: =G17 -> 30000
B14: Subsīdijas, dotācijas, sociālie maksājumi un kompensācijas | C14: 63402515 | D14: -30000 | E14: Kārtējie izdevumi | F14: =F15+F16 -> 5527703
B15: Subsīdijas un dotācijas | C15: 63402515 | D15: -30000 | E15: Atlīdzība | F15: 4334532
E16: Preces un pakalpojumi | F16: 1193171
E17: Transferti viena budžeta veida ietvaros un uzturēšanas izdevumu transferti starp budžeta veidiem | F17: 70197 | G17: =G20 -> 30000
E18: Valsts budžeta transferti un uzturēšanas izdevumu transferti | F18: 1806
E19: Valsts budžeta uzturēšanas izdevumu transferti no valsts pamatbudžeta uz valsts speciālo budžetu | F19: 1806
E20: Pārējie valsts budžeta uzturēšanas izdevumu transferti citiem budžetiem | F20: 68391 | G20: =G21 -> 30000
E21: Pārējie valsts budžeta uzturēšanas izdevumu transferti valsts budžeta daļēji finansētām atvasinātām publiskām personām un budžeta nefinansētām iestādēm | F21: 68391 | G21: 30000
E22: Kapitālie izdevumi | F22: 5569
E23: Pamatkapitāla veidošana | F23: 5569
B24: Palielināti valsts budžeta uzturēšanas izdevumu transferi budžeta nefinansētajai iestādei 30 000 euro apmērā, lai Zāļu valsts aģentūrai kompensētu veiktās izmaksas personām saistībā ar vakcīnas pret Covid-19 infekciju blakusparādību izraisīto smagu vai vidēji smagu kaitējumu pacienta veselībai vai dzīvībai (atbilstoši MK 21.02.2023. sēdē izskatītajam informatīvajam ziņojumam "Par atļauju Zāļu valsts aģentūrai uzņemties saistības" ).
A26: =A5+1 -> 24 | B26: 29. Veselības ministrija | E26: 29. Veselības ministrija | H26: Atbalstīt
B27: 4.pielikums | E27: 4.pielikums
B28: 33.14.00 Primārās ambulatorās veselības aprūpes nodrošināšana | C28: ` | E28: 33.16.00 Pārējo ambulatoro veselības aprūpes pakalpojumu nodrošināšana | F28: `
B29: Resursi izdevumu segšanai | C29: 180988345 | D29: =D31 -> -447613 | E29: Resursi izdevumu segšanai | F29: =F31+F30 -> 309888360 | G29: =G30+G31 -> 447613
B30: Ieņēmumi no maksas pakalpojumiem un citi pašu ieņēmumi – kopā | C30: 13304 | E30: Ieņēmumi no maksas pakalpojumiem un citi pašu ieņēmumi – kopā | F30: 25052
B31: Dotācija no vispārējiem ieņēmumiem | C31: 180975041 | D31: =D32 -> -447613 | E31: Dotācija no vispārējiem ieņēmumiem | F31: =F32 -> 309863308 | G31: =G32 -> 447613
B32: Vispārējā kārtībā sadalāmā dotācija no vispārējiem ieņēmumiem | C32: 180975041 | D32: =D33 -> -447613 | E32: Vispārējā kārtībā sadalāmā dotācija no vispārējiem ieņēmumiem | F32: 309863308 | G32: =G33 -> 447613
B33: Izdevumi – kopā | C33: 180988345 | D33: =D34 -> -447613 | E33: Izdevumi – kopā | F33: =F34 -> 309888360 | G33: =G34 -> 447613
B34: Uzturēšanas izdevumi | C34: 180988345 | D34: =D35 -> -447613 | E34: Uzturēšanas izdevumi | F34: =F35+F37 -> 309888360 | G34: =G35 -> 447613
B35: Subsīdijas, dotācijas, sociālie maksājumi un kompensācijas | C35: 178814569 | D35: =D36 -> -447613 | E35: Subsīdijas, dotācijas, sociālie maksājumi un kompensācijas | F35: =F36 -> 308966412 | G35: =G36 -> 447613
B36: Subsīdijas un dotācijas | C36: 178814569 | D36: -447613 | E36: Subsīdijas un dotācijas | F36: 308966412 | G36: 447613
B37: Transferti viena budžeta veida ietvaros un uzturēšanas izdevumu transferti starp budžeta veidiem | C37: 2173776 | E37: Transferti viena budžeta veida ietvaros un uzturēšanas izdevumu transferti starp budžeta veidiem | F37: =F38 -> 921948
B38: Pārējie valsts budžeta uzturēšanas izdevumu transferti citiem budžetiem | C38: 2173776 | E38: Pārējie valsts budžeta uzturēšanas izdevumu transferti citiem budžetiem | F38: =F39 -> 921948
B39: Pārējie valsts budžeta uzturēšanas izdevumu transferti pašvaldībām | C39: 2173776 | E39: Pārējie valsts budžeta uzturēšanas izdevumu transferti pašvaldībām | F39: 921948
B40: 29. Veselības ministrija | E40: 29. Veselības ministrija
B41: 3.pielikums | E41: 3.pielikums
B42: I. Valsts pamatfunkciju īstenošana | E42: I. Valsts pamatfunkciju īstenošana
B43: 2024. gads | E43: 2024. gads
B44: Resursi izdevumu segšanai | C44: =C45+C46+C48+C53 -> 1603780125 | D44: =D53 -> -447613 | E44: Resursi izdevumu segšanai | F44: =F45+F46+F48+F53 -> 1603780125 | G44: =G53 -> 447613
B45: Ieņēmumi no maksas pakalpojumiem un citi pašu ieņēmumi – kopā | C45: 8377842 | E45: Ieņēmumi no maksas pakalpojumiem un citi pašu ieņēmumi – kopā | F45: 8377842
B46: Ārvalstu finanšu palīdzība iestādes ieņēmumos | E46: Ārvalstu finanšu palīdzība iestādes ieņēmumos
B47: Iestādes ieņēmumi no ārvalstu finanšu palīdzības | E47: Iestādes ieņēmumi no ārvalstu finanšu palīdzības
B48: Transferti | E48: Transferti
B49: Valsts budžeta transferti | E49: Valsts budžeta transferti
B50: Valsts pamatbudžeta savstarpējie transferti | E50: Valsts pamatbudžeta savstarpējie transferti
B51: Valsts pamatbudžeta iestāžu saņemtie transferti no valsts pamatbudžeta | E51: Valsts pamatbudžeta iestāžu saņemtie transferti no valsts pamatbudžeta
B52: Valsts pamatbudžeta iestāžu saņemtie transferti no ārvalstu finanšu palīdzības līdzekļiem | E52: Valsts pamatbudžeta iestāžu saņemtie transferti no ārvalstu finanšu palīdzības līdzekļiem
B53: Dotācija no vispārējiem ieņēmumiem | C53: =C54 -> 1595402283 | D53: =D54 -> -447613 | E53: Dotācija no vispārējiem ieņēmumiem | F53: =F54 -> 1595402283 | G53: =G54 -> 447613
B54: Vispārējā kārtībā sadalāmā dotācija no vispārējiem ieņēmumiem | C54: 1595402283 | D54: =D55 -> -447613 | E54: Vispārējā kārtībā sadalāmā dotācija no vispārējiem ieņēmumiem | F54: 1595402283 | G54: =G55 -> 447613
B55: Izdevumi – kopā | C55: =C56+C71 -> 1603780125 | D55: =D56 -> -447613 | E55: Izdevumi – kopā | F55: =F56+F71 -> 1603780125 | G55: =G56 -> 447613
B56: Uzturēšanas izdevumi | C56: =C57+C60+C63+C65 -> 1599978291 | D56: =D60 -> -447613 | E56: Uzturēšanas izdevumi | F56: =F57+F60+F63+F65 -> 1599978291 | G56: =G60 -> 447613
B57: Kārtējie izdevumi | C57: =C58+C59 -> 153328390 | E57: Kārtējie izdevumi | F57: =F58+F59 -> 153328390
B58: Atlīdzība | C58: 131042533 | E58: Atlīdzība | F58: 131042533
B59: Preces un pakalpojumi | C59: 22285857 | E59: Preces un pakalpojumi | F59: 22285857
B60: Subsīdijas, dotācijas, sociālie maksājumi un kompensācijas | C60: =C61+C62 -> 1382731898 | D60: =D61 -> -447613 | E60: Subsīdijas, dotācijas, sociālie maksājumi un kompensācijas | F60: =F61+F62 -> 1382731898 | G60: =G61 -> 447613
B61: Subsīdijas un dotācijas | C61: 1381310512 | D61: -447613 | E61: Subsīdijas un dotācijas | F61: 1381310512 | G61: 447613
B62: Sociāla rakstura maksājumi un kompensācijas | C62: 1421386 | E62: Sociāla rakstura maksājumi un kompensācijas | F62: 1421386
B63: Kārtējie maksājumi Eiropas Savienības budžetā un starptautiskā sadarbība | C63: =C64 -> 415821 | E63: Kārtējie maksājumi Eiropas Savienības budžetā un starptautiskā sadarbība | F63: =F64 -> 415821
B64: Starptautiskā sadarbība | C64: 415821 | E64: Starptautiskā sadarbība | F64: 415821
B65: Transferti viena budžeta veida ietvaros un uzturēšanas izdevumu transferti starp budžeta veidiem | C65: =C66+C68 -> 63502182 | E65: Transferti viena budžeta veida ietvaros un uzturēšanas izdevumu transferti starp budžeta veidiem | F65: =F66+F68 -> 63502182
B66: Valsts budžeta transferti un uzturēšanas izdevumu transferti | C66: =C67 -> 2408 | E66: Valsts budžeta transferti un uzturēšanas izdevumu transferti | F66: =F67 -> 2408
B67: Valsts budžeta uzturēšanas izdevumu transferti no valsts pamatbudžeta uz valsts speciālo budžetu | C67: 2408 | E67: Valsts budžeta uzturēšanas izdevumu transferti no valsts pamatbudžeta uz valsts speciālo budžetu | F67: 2408
B68: Pārējie valsts budžeta uzturēšanas izdevumu transferti citiem budžetiem | C68: =C69+C70 -> 63499774 | E68: Pārējie valsts budžeta uzturēšanas izdevumu transferti citiem budžetiem | F68: =F69+F70 -> 63499774
B69: Pārējie valsts budžeta uzturēšanas izdevumu transferti pašvaldībām | C69: 2853988 | E69: Pārējie valsts budžeta uzturēšanas izdevumu transferti pašvaldībām | F69: 2853988
B70: Pārējie valsts budžeta uzturēšanas izdevumu transferti valsts budžeta daļēji finansētām atvasinātām publiskām personām un budžeta nefinansētām iestādēm | C70: 60645786 | E70: Pārējie valsts budžeta uzturēšanas izdevumu transferti valsts budžeta daļēji finansētām atvasinātām publiskām personām un budžeta nefinansētām iestādēm | F70: 60645786
B71: Kapitālie izdevumi | C71: =C72 -> 3801834 | E71: Kapitālie izdevumi | F71: =F72 -> 3801834
B72: Pamatkapitāla veidošana | C72: 3801834 | E72: Pamatkapitāla veidošana | F72: 3801834
B73: 2025. gads | E73: 2025. gads
B74: Resursi izdevumu segšanai | C74: =C75+C76+C78+C83 -> 1604971116 | D74: =D83 -> -447613 | E74: Resursi izdevumu segšanai | F74: =F75+F76+F78+F83 -> 1604971116 | G74: =G83 -> 447613
B75: Ieņēmumi no maksas pakalpojumiem un citi pašu ieņēmumi – kopā | C75: 8377842 | E75: Ieņēmumi no maksas pakalpojumiem un citi pašu ieņēmumi – kopā | F75: 8377842
B76: Ārvalstu finanšu palīdzība iestādes ieņēmumos | E76: Ārvalstu finanšu palīdzība iestādes ieņēmumos
B77: Iestādes ieņēmumi no ārvalstu finanšu palīdzības | E77: Iestādes ieņēmumi no ārvalstu finanšu palīdzības
B78: Transferti | E78: Transferti
B79: Valsts budžeta transferti | E79: Valsts budžeta transferti
B80: Valsts pamatbudžeta savstarpējie transferti | E80: Valsts pamatbudžeta savstarpējie transferti
B81: Valsts pamatbudžeta iestāžu saņemtie transferti no valsts pamatbudžeta | E81: Valsts pamatbudžeta iestāžu saņemtie transferti no valsts pamatbudžeta
B82: Valsts pamatbudžeta iestāžu saņemtie transferti no ārvalstu finanšu palīdzības līdzekļiem | E82: Valsts pamatbudžeta iestāžu saņemtie transferti no ārvalstu finanšu palīdzības līdzekļiem
B83: Dotācija no vispārējiem ieņēmumiem | C83: =C84 -> 1596593274 | D83: =D84 -> -447613 | E83: Dotācija no vispārējiem ieņēmumiem | F83: =F84 -> 1596593274 | G83: =G84 -> 447613
B84: Vispārējā kārtībā sadalāmā dotācija no vispārējiem ieņēmumiem | C84: 1596593274 | D84: =D85 -> -447613 | E84: Vispārējā kārtībā sadalāmā dotācija no vispārējiem ieņēmumiem | F84: 1596593274 | G84: =G85 -> 447613
B85: Izdevumi – kopā | C85: =C86+C101 -> 1604971116 | D85: =D86 -> -447613 | E85: Izdevumi – kopā | F85: =F86+F101 -> 1604971116 | G85: =G86 -> 447613
B86: Uzturēšanas izdevumi | C86: =C87+C90+C93+C95 -> 1601169282 | D86: =D90 -> -447613 | E86: Uzturēšanas izdevumi | F86: =F87+F90+F93+F95 -> 1601169282 | G86: =G90 -> 447613
B87: Kārtējie izdevumi | C87: =C88+C89 -> 153336134 | E87: Kārtējie izdevumi | F87: =F88+F89 -> 153336134
B88: Atlīdzība | C88: 131049329 | E88: Atlīdzība | F88: 131049329
B89: Preces un pakalpojumi | C89: 22286805 | E89: Preces un pakalpojumi | F89: 22286805
B90: Subsīdijas, dotācijas, sociālie maksājumi un kompensācijas | C90: =C91+C92 -> 1382731898 | D90: =D91 -> -447613 | E90: Subsīdijas, dotācijas, sociālie maksājumi un kompensācijas | F90: =F91+F92 -> 1382731898 | G90: =G91 -> 447613
B91: Subsīdijas un dotācijas | C91: 1381310512 | D91: -447613 | E91: Subsīdijas un dotācijas | F91: 1381310512 | G91: 447613
B92: Sociāla rakstura maksājumi un kompensācijas | C92: 1421386 | E92: Sociāla rakstura maksājumi un kompensācijas | F92: 1421386
B93: Kārtējie maksājumi Eiropas Savienības budžetā un starptautiskā sadarbība | C93: =C94 -> 415821 | E93: Kārtējie maksājumi Eiropas Savienības budžetā un starptautiskā sadarbība | F93: =F94 -> 415821
B94: Starptautiskā sadarbība | C94: 415821 | E94: Starptautiskā sadarbība | F94: 415821
B95: Transferti viena budžeta veida ietvaros un uzturēšanas izdevumu transferti starp budžeta veidiem | C95: =C96+C98 -> 64685429 | E95: Transferti viena budžeta veida ietvaros un uzturēšanas izdevumu transferti starp budžeta veidiem | F95: =F96+F98 -> 64685429
B96: Valsts budžeta transferti un uzturēšanas izdevumu transferti | C96: =C97 -> 2408 | E96: Valsts budžeta transferti un uzturēšanas izdevumu transferti | F96: =F97 -> 2408
B97: Valsts budžeta uzturēšanas izdevumu transferti no valsts pamatbudžeta uz valsts speciālo budžetu | C97: 2408 | E97: Valsts budžeta uzturēšanas izdevumu transferti no valsts pamatbudžeta uz valsts speciālo budžetu | F97: 2408
B98: Pārējie valsts budžeta uzturēšanas izdevumu transferti citiem budžetiem | C98: =C99+C100 -> 64683021 | E98: Pārējie valsts budžeta uzturēšanas izdevumu transferti citiem budžetiem | F98: =F99+F100 -> 64683021
B99: Pārējie valsts budžeta uzturēšanas izdevumu transferti pašvaldībām | C99: 2853988 | E99: Pārējie valsts budžeta uzturēšanas izdevumu transferti pašvaldībām | F99: 2853988
B100: Pārējie valsts budžeta uzturēšanas izdevumu transferti valsts budžeta daļēji finansētām atvasinātām publiskām personām un budžeta nefinansētām iestādēm | C100: 61829033 | E100: Pārējie valsts budžeta uzturēšanas izdevumu transferti valsts budžeta daļēji finansētām atvasinātām publiskām personām un budžeta nefinansētām iestādēm | F100: 61829033
B101: Kapitālie izdevumi | C101: =C102 -> 3801834 | E101: Kapitālie izdevumi | F101: =F102 -> 3801834
B102: Pamatkapitāla veidošana | C102: 3801834 | E102: Pamatkapitāla veidošana | F102: 3801834
B103: Bērnu klīniskā universitātes slimnīca ir lielākā specializētā bērnu daudzprofilu ārstniecības iestāde Latvijā. Medicīnisko palīdzību stacionārā ik gadu saņem ap 15 000 pacientu, savukārt poliklīnikā tiek nodrošinātas vairāk nekā 300 000 ambulatorās vizītes. Lai gan bērna veselības aprūpe ir noteikta kā prioritāra, tomēr uz veselības aprūpes pakalpojumiem Bērnu klīniskajā universitātes slimnīcā veidojas rindas, kas kavē bērniem savlaicīgi saņemt pakalpojumus. Tā, piemēram, šobrīd Bērnu klīniskajā universitātes slimnīcā, lai saņemtu oftalmologa konsultāciju (plānveida), gaidīšanas laiks ir 180 dienas, savukārt, pie bērnu psihiatra – 147 dienas. Lai uzlabotu veselības aprūpes pakalpojumu pieejamību, mazinātu gaidīšanas laiku, tādējādi uzlabojot bērnu veselību ir nepieciešams novirzīt 447 613 euro Bērnu klīniskai universitātes slimnīcai bērnu veselības aprūpes pilnveidošanai un gaidīšanas laika mazināšanai. Attiecīgi ir nepieciešama finansējuma pārdale no budžeta apakšprogrammas 33.14.00 "Primārās ambulatorās veselības aprūpes nodrošināšana" uz 33.16.00 "Pārējo ambulatoro veselības aprūpes pakalpojumu nodrošināšana", paredzot 2023.-2025.gada prioritārā pasākuma Nr.29_02_P "Pakalpojumu pieejamība bērniem" ietvaros apakšpasākumu precizēšanu, t.i. svītrojot apakšpasākumu "Ģimenes ārstu praksē vakcinēto personu vakcinācijas fakta ievade e-veselībā" un paredzot jaunu apakšpasākumu "Ambulatoro paklapojumu pieejamības uzlabošaba bērniem BKUS".

Sheet 64.res
A1: Nr.p.k. | C1: Pieņemts pirmajā lasījumā | D1: Priekšlikums par izmaiņām | F1: Pieņemts pirmajā lasījumā | G1: Priekšlikums par izmaiņām | H1: Priekšlikums MK atzinumam
B4: 64. Dotācija pašvaldībām (13. Finanšu ministrija)
A5: =VM!A26+1 -> 25 | B5: 74. Gadskārtējā valsts budžeta izpildes procesā pārdalāmais finansējums | E5: 64.resors "Dotācija pašvaldībām" | H5: Atbalstīt
B6: 4.pielikums | E6: 4.pielikums
B7: 02.00.00 "Līdzekļi neparedzētiem gadījumiem" | E7: 01.00.00. "Dotācija pašvaldību finanšu izlīdzināšanas fondam"
B8: Resursi izdevumu segšanai | C8: 80981848 | D8: -945957 | E8: Resursi izdevumu segšanai | F8: 81692732 | G8: 945957
B9: Dotācija no vispārējiem ieņēmumiem | C9: 80981848 | D9: -945957 | E9: Dotācija no vispārējiem ieņēmumiem | F9: 81692732 | G9: 945957
B10: Vispārējā kārtībā sadalāmā dotācija no vispārējiem ieņēmumiem | C10: 80981848 | D10: -945957 | E10: Vispārējā kārtībā sadalāmā dotācija no vispārējiem ieņēmumiem | F10: 81692732 | G10: 945957
B11: Izdevumi – kopā | C11: 80981848 | D11: -945957 | E11: Izdevumi – kopā | F11: 81692732 | G11: 945957
B12: Uzturēšanas izdevumi | C12: 80981848 | D12: -945957 | E12: Uzturēšanas izdevumi | F12: 81692732 | G12: 945957
B13: Subsīdijas, dotācijas, sociālie maksājumi un kompensācijas | C13: 80981848 | D13: -945957 | E13: Transferti viena budžeta veida ietvaros un uzturēšanas izdevumu transferti starp budžeta veidiem | F13: 81692732 | G13: 945957
B14: Subsīdijas un dotācijas | C14: 80981848 | D14: -945957 | E14: Pārējie valsts budžeta uzturēšanas izdevumu transferti citiem budžetiem | F14: 81692732 | G14: 945957
E15: Pārējie valsts budžeta uzturēšanas izdevumu transferti pašvaldībām | F15: 81692732 | G15: 945957
B16: Pamatojoties uz Ministru kabineta 2023. gada 7. februāra sēdes protokollēmumu Nr.6, 27.§. veikta pārdale 945 957 euro apmērā no programmas 02.00.00 "Līdzekļi neparedzētiem gadījumiem" uz 64.resora programmu 01.01.00 "Dotācija pašvaldību finanšu izlīdzināšanas fondam", lai nodrošinātu valsts budžeta dotācijas piešķiršanu pašvaldībām, kurām izlīdzinātie ieņēmumi uz vienu izlīdzināmo vienību ir zemāki par 90 % no vidējiem izlīdzinātiem ieņēmumiem un izlīdzināto ieņēmumu pieaugums ir zemāks par 80 % no pašvaldību vidējā izlīdzināto ieņēmumu pieauguma.
B21: Finanšu ministrs | G21: A. Ašeradens
B28: Siņkovska, 26573078
B29: dace.sinkovska@fm.gov.lv
