Workbook
Name _bkm78: [1]Pielikums39!#REF!

Sheet priekšlikumi_teksta_daļai
B1: Ministriju un citu centrālo valsts iestāžu priekšlikumi
B2: likumprojekta „Par valsts budžetu 2023. gadam un budžeta ietvaru 2023., 2024. un 2025. gadam” izskatīšanai Saeimā otrajā lasījumā
D4: Priekšlikums MK atzinumam
B5: Pieņemts pirmajā lasījumā | C5: Priekšlikumi 2.lasījumam
B7: Par likumprojekta "Par valsts budžetu 2023.gadam un budžeta ietvaru 2023., 2024. un 2025.gadam" teksta daļu:
B9: 13. Finanšu ministrija
A10: =1 -> 1 | B10: 25. pants. Noteikt, ka akciju sabiedrība “Augstsprieguma tīkls” ieskaita valsts pamatbudžeta ieņēmumos dividenžu maksājumu 2024. gadā (par 2023. pārskata gadu) 64 procentu apmērā no pārskata gada peļņas, bet ne mazāk kā 14 014 067 euro un 2025. gadā (par 2024. pārskata gadu) 64 procentu apmērā no pārskata gada peļņas, bet ne mazāk kā 14 676 376 euro, uzņēmumu ienākuma nodokli aprēķinot un nomaksājot uzņēmumu ienākuma nodokli regulējošos normatīvajos aktos noteiktajā kārtībā. | C10: Izteikt likumprojekta 25. pantu šādā redakcijā: "25. pants. Noteikt, ka akciju sabiedrība “Augstsprieguma tīkls” ieskaita valsts pamatbudžeta ieņēmumos dividenžu maksājumu 2024. gadā (par 2023. pārskata gadu) 64 procentu apmērā no pārskata gada peļņas, bet ne mazāk kā 10 117 120 euro un 2025. gadā (par 2024. pārskata gadu) 64 procentu apmērā no pārskata gada peļņas, bet ne mazāk kā 10 391 040 euro, uzņēmumu ienākuma nodokli aprēķinot un nomaksājot uzņēmumu ienākuma nodokli regulējošos normatīvajos aktos noteiktajā kārtībā." | D10: Atbalstīt
B11: Ņemot vērā “Augstsprieguma tīkls”atbilstoši tarifu izmaiņām aktualizēto prognozētās peļņas apmēru, 2024. un 2025.gadā nepieciešams samazināt ieņēmumu prognozi no “Augstsprieguma tīkls” maksājuma par valsts kapitāla izmantošanu atbilstoši tarifu izmaiņām (17.02.2023. vēstule Nr.2.5/2023/858).
B13: 13. Finanšu ministrija
A14: =A10+1 -> 2 | B14: 31. pants. Apstiprināt valsts budžeta dotāciju pašvaldībām 81 692 732 euro apmērā, tai skaitā: | C14: Izteikt likumprojekta 31.pantu šādā redakcijā: "31. pants. Apstiprināt valsts budžeta dotāciju pašvaldībām 82 638 689 euro apmērā, tai skaitā: | D14: Atbalstīt
B15: 1) pašvaldību finanšu izlīdzināšanas fondam 81 088 436 euro apmērā; | C15: 1) pašvaldību finanšu izlīdzināšanas fondam 81 088 436 euro apmērā;
B16: 2) pašvaldībām par iemītniekiem veco ļaužu pansionātos un centros (par vienu iemītnieku 7848 euro), kuri tajos ievietoti līdz 1998. gada 1. janvārim, 604 296 euro apmērā. Ministru kabinets nosaka kārtību, kādā pašvaldībām piešķir valsts budžeta dotāciju. | C16: 2) pašvaldībām par iemītniekiem veco ļaužu pansionātos un centros (par vienu iemītnieku 7848 euro), kuri tajos ievietoti līdz 1998. gada 1. janvārim, 604 296 euro apmērā. Ministru kabinets nosaka kārtību, kādā pašvaldībām piešķir valsts budžeta dotāciju;
C17: 3) budžeta dotāciju 945 957 euro apmērā pamatojoties uz Ministru kabineta rīkojumu piešķiršanai pašvaldībām, kurām izlīdzinātie ieņēmumi uz vienu izlīdzināmo vienību ir zemāki par 90 % no vidējiem izlīdzinātiem ieņēmumiem un izlīdzināto ieņēmumu pieaugums ir zemāks par 80 % no pašvaldību vidējā izlīdzināto ieņēmumu pieauguma."
B19: 13. Finanšu ministrija
A20: =A14+1 -> 3 | C20: Papildināt likumprojekta 58.pantu ar trešo daļu šādā redakcijā: | D20: Atbalstīt
B21: 58. pants. (1) Valsts akciju sabiedrība “Valsts nekustamie īpašumi” vai sabiedrība ar ierobežotu atbildību “Publisko aktīvu pārvaldītājs Possessor” valsts nekustamā īpašuma atsavināšanas rezultātā iegūtos līdzekļus pēc atsavināšanas izdevumu atskaitīšanas izlieto tās pārvaldīšanā esošo valsts nekustamo īpašumu pārvaldīšanai (izņemot netiešo izmaksu segšanai), tajā skaitā valsts nekustamo īpašumu uzlabošanas darbu veikšanai, vidi degradējošo objektu sakārtošanai un energoefektivitātes pasākumu īstenošanai. Minētos līdzekļus, kas 2023. gadā nav izlietoti valsts īpašumā un valsts akciju sabiedrības “Valsts nekustamie īpašumi” vai sabiedrības ar ierobežotu atbildību “Publisko aktīvu pārvaldītājs Possessor” pārvaldīšanā esošo valsts nekustamo īpašumu pārvaldīšanai, līdz 2023. gada 31. decembrim ieskaita valsts budžetā. Valsts akciju sabiedrībai “Valsts nekustamie īpašumi” vai sabiedrībai ar ierobežotu atbildību “Publisko aktīvu pārvaldītājs Possessor” ir tiesības atsavināšanas izdevumu segšanai paredzētos valsts nekustamā īpašuma atsavināšanas rezultātā iegūtos līdzekļus izlietot arī tās pārvaldīšanā esošo valsts nekustamo īpašumu pārvaldīšanai un šajā daļā noteikto pārvaldīšanas darbību, kas tiek segtas no valsts nekustamā īpašuma atsavināšanas rezultātā iegūtajiem līdzekļiem, priekšfinansēšanai.
B22: (2) Ja lēmums par valsts nekustamā īpašuma atsavināšanu, kuru Publiskas personas mantas atsavināšanas likumā noteiktajā kārtībā organizē ministrija vai cita centrālā valsts iestāde, kuras valdījumā ir attiecīgais valsts nekustamais īpašums, pieņemts līdz 2022. gada 31. decembrim, finanšu ministram ir tiesības palielināt attiecīgajai ministrijai vai citai centrālajai valsts iestādei apropriāciju resursiem no dotācijas no vispārējiem ieņēmumiem un izdevumiem 50 procentu apmērā no šāda valsts nekustamā īpašuma atsavināšanas rezultātā valsts budžetā ieskaitītajiem līdzekļiem. Apropriāciju palielina, ja ir pieņemts Ministru kabineta lēmums par finansējuma summu un to, kādam mērķim atsavināšanas rezultātā iegūtie līdzekļi piešķirami apropriācijas palielināšanai resursiem no dotācijas no vispārējiem ieņēmumiem un izdevumiem, un Saeimas Budžeta un finanšu (nodokļu) komisija piecu darba dienu laikā no attiecīgās informācijas saņemšanas dienas ir to izskatījusi un nav iebildusi pret apropriācijas palielinājumu. Apropriāciju atļauts piešķirt kapitālieguldījumiem vai neatliekamiem pasākumiem ar pozitīvu sociālekonomisku efektu.
C23: "(3) Ja lēmums par Veselības ministrijas valdījumā valsts nekustamā īpašuma atsavināšanu, kuru Publiskas personas mantas atsavināšanas likumā noteiktajā kārtībā organizē valsts akciju sabiedrība “Valsts nekustamie īpašumi”, pieņemts līdz 2022. gada 31. decembrim, finanšu ministram ir tiesības palielināt Veselības ministrijai apropriāciju resursiem no dotācijas no vispārējiem ieņēmumiem un izdevumiem 50 procentu apmērā no šāda valsts nekustamā īpašuma atsavināšanas rezultātā valsts budžetā ieskaitītajiem līdzekļiem. Apropriāciju palielina, ja ir pieņemts Ministru kabineta lēmums par finansējuma summu un to, kādam mērķim atsavināšanas rezultātā iegūtie līdzekļi piešķirami apropriācijas palielināšanai resursiem no dotācijas no vispārējiem ieņēmumiem un izdevumiem, un Saeimas Budžeta un finanšu (nodokļu) komisija piecu darba dienu laikā no attiecīgās informācijas saņemšanas dienas ir to izskatījusi un nav iebildusi pret apropriācijas palielinājumu. Apropriāciju atļauts piešķirt kapitālieguldījumiem Veselības ministrijas valdījumā esošo Veselības ministrijas iestāžu funkciju nodrošināšanai izmantoto valsts nekustamo īpašumu attīstīšanai."
B24: Likuma “Par valsts budžetu 2022.gadam” 40.panta piektajā daļā bija noteikts, ka gadījumā, ja Publiskas personas mantas atsavināšanas likumā noteiktajā kārtībā Veselības ministrijas valdījumā esošu valsts nekustamo īpašumu atsavina valsts akciju sabiedrība "Valsts nekustamie īpašumi", šā panta otrajā daļā minētā apropriācija piešķirama kapitālieguldījumiem Veselības ministrijas valdījumā esošo Veselības ministrijas iestāžu funkciju nodrošināšanai izmantoto valsts nekustamo īpašumu attīstīšanai. Ņemot vērā, ka, pamatojoties uz minēto normu 2022.gadā valsts akciju sabiedrība “Valsts nekustamie īpašumi” ir uzsākusi Veselības ministrijas valdījumā esošu nekustamo īpašumu atsavināšanu, nepieciešams nodrošināt pārejas regulējumu likumprojekta “Par valsts budžetu 2023. gadam un budžeta ietvaru 2023., 2024. un 2025. gadam” 58.panta trešajā daļā, lai nodrošinātu minētā procesa rezultātā iegūto līdzekļu novirzīšanai atbilstoši Ministru kabineta pieņemtajam lēmumam.
B26: 13. Finanšu ministrija
A27: =A20+1 -> 4 | C27: Papildināt likumprojektu ar jaunu pantu: | D27: Atbalstīt
C28: "xx. pants. Ja 2023. gadā faktiskie ieņēmumi no budžetā ieskaitāmās valsts nodevas par valsts valodas prasmes atestāciju profesionālo un amata pienākumu veikšanai pārsniedz šajā likumā plānoto apmēru, finanšu ministram ir tiesības palielināt šajā likumā noteikto apropriāciju budžeta resora “74. Gadskārtējā valsts budžeta izpildes procesā pārdalāmais finansējums” programmā 02.00.00 “Līdzekļi neparedzētiem gadījumiem” atbilstoši budžetā ieskaitītajai valsts nodevai par valsts valodas prasmes atestāciju profesionālo un amata pienākumu veikšanai, ja ir pieņemts attiecīgs Ministru kabineta lēmums un Saeimas Budžeta un finanšu (nodokļu) komisija piecu darba dienu laikā no attiecīgās informācijas saņemšanas dienas ir to izskatījusi un nav iebildusi pret apropriācijas palielinājumu."
B29: Pants nepieciešams, lai nodrošinātu 24.01.2023. MK sēdē (prot. Nr.4 29.§) nolemto - Atbalstīt priekšlikumu, ka gadījumā, ja valsts valodas prasmes pārbaudes kārtotāju pieaugums 2023. gadā pārsniegs 20 000 gadījumu skaitu, tad izdevumi var tikt segti no valsts budžeta programmas 02.00.00 "Līdzekļi neparedzētiem gadījumiem"
B31: 13. Finanšu ministrija
A32: =A27+1 -> 5 | C32: Papildināt likumprojektu ar jaunu pantu: | D32: Atbalstīt
C33: "xx. pants. Ja 2023. gadā personu skaita, kuras nav Latvijas pilsonis, Latvijas nepilsonis vai Eiropas Savienības dalībvalsts, Eiropas Ekonomikas zonas valsts vai Šveices Konfederācijas pilsonis, un kurām jākārto valsts valodas prasmes pārbaudes, pieaugums līdz 2023. gada 1. oktobrim nesasniedz 20 000 gadījumu skaitu, finanšu ministram ir tiesības samazināt šajā likumā noteikto apropriāciju Izglītības un zinātnes ministrijas budžeta apakšprogrammā 42.06.00 “Valsts izglītības satura centra darbības nodrošināšana” dotācijai no vispārējiem ieņēmumiem un attiecīgiem izdevumiem, novirzot tos budžeta resora “74. Gadskārtējā valsts budžeta izpildes procesā pārdalāmais finansējums” programmā 02.00.00 “Līdzekļi neparedzētiem gadījumiem”, ja ir pieņemts attiecīgs Ministru kabineta lēmums un Saeimas Budžeta un finanšu (nodokļu) komisija piecu darba dienu laikā no attiecīgās informācijas saņemšanas dienas ir to izskatījusi un nav iebildusi pret apropriācijas izmaiņām."
B34: Ņemot vērā, ka 24.01.2023. MK sēdē (prot. Nr.4 29.§) Izglītības un zinātnes ministrijai uzdots sagatavot un iesniegt priekšlikumu likumprojekta "Par valsts budžetu 2023. gadam un budžeta ietvaru 2023., 2024. un 2025. gadam" izskatīšanai Saeimā otrajā lasījumā, paredzot palielināt ieņēmumus no valsts nodevas par valsts valodas prasmes pārbaudi un ar to saistītajiem pakalpojumiem 2023. gadā 1 040 000 euro apmērā un paredzēt izdevumus no dotācijas no vispārējiem ieņēmumiem budžeta apakšprogrammā 42.06.00 "Valsts izglītības satura centra darbības nodrošināšana" 2023. gadā 1 040 000 euro apmērā, kuri noteikti paredzot valsts valodas prasmes pārbaudes kārtotāju pieaugumu 2023. gadā par 20 000 personām, gadījumā, ja valsts valodas prasmes pārbaudes kārtotāju pieaugums 2023. gadā nesasniegs 20 000 gadījumu skaitu, ir jāparedz iespēja samazināt izdevumus, kurus nesedz plānotie ieņēmumi.
B36: 13. Finanšu ministrija
A37: =A32+1 -> 6 | C37: Papildināt likumprojektu ar jaunu pantu: | D37: Atbalstīt
C38: "xx. pants. No aplikšanas ar iedzīvotāju ienākuma nodokli 2023. taksācijas gadā atbrīvo ar attālinātā darba veikšanu saistītos darbinieka izdevumus, kurus atbilstoši Darba likumam sedz darba devējs, ja to kopējais apmērs mēnesī par pilnas slodzes darbu nepārsniedz 30 euro un ir izpildīti likuma “Par iedzīvotāju ienākuma nodokli” pārejas noteikumu 160. punkta nosacījumi. Atbrīvojumu nepiemēro darbinieka ilgstošas prombūtnes laikā, kas pārsniedz 30 dienas. Minētais atbrīvojums piemērojams, sākot no 2023. gada 1. janvāra."
B39: Ņemot vērā COVID-19 izsludināto ārkārtējo situāciju, kā arī, ņemot vērā tehnoloģiskās iespējas, kas saistītas ar plaši īstenoto attālinātā darba praksi, ar Saeimā 2020. gada 27. novembrī un 2021. gada 16. novembrī pieņemtajiem grozījumiem likumā “Par iedzīvotāju ienākuma nodokli” ir noteikts, ka 2021. un 2022. taksācijas gadā no aplikšanas ar nodokli atbrīvo ar attālinātā darba veikšanu saistītās izdevumu kompensāciju summas, kuras atbilstoši Darba likumam darba ņēmējam sedz darba devējs, ja to kopējais apmērs mēnesī par pilnas slodzes darbu nepārsniedz 30 euro. Veiktā analīze par šīs normas līdzšinējo darbību, kā arī 2022. gadā vērojamās tendences saistībā ar attālināta darba iespēju izmantošanu (piemēram, gan kontekstā ar Covid-19 noteikto ārkārtas situāciju 2022. gada pirmajos mēnešos, gan arī dažādu optimālo darba modeļu izmantošana saistībā ar Krievijas izraisītā kara ietekmi un enerģētisko situāciju pasaulē) un vispārēju plašāku pāreju uz tādu darba organizācijas modeli, kas ietver attālināto darbu, kā arī regulējuma nozīme administratīvā sloga mazināšanā liecina par nepieciešamību pagarināt šī normatīvā regulējuma darbību. Likumprojekts paredz, ka likumā “Par iedzīvotāju ienākuma nodokli” ietvertās normas, kas atbrīvo no aplikšanas ar nodokli kompensācijas par attālināta darba veikšanu darbiniekam 30 euro apmērā, ir piemērojamas arī 2023. taksācijas gadā.
B41: Valsts kanceleja
A42: =A37+1 -> 7 | C42: Papildināt likumprojektu ar jaunu pantu: | D42: Atbalstīt
C43: "xx. pants. Noteikt, ka, gadījumā, ja aprēķinot 2024. vai 2025. gada valsts un pašvaldību institūciju amatpersonu (darbinieku) bāzes mēnešalgu, finanšu un apdrošināšanas jomas bāzes mēnešalgu, elektronisko sakaru un enerģētikas nozares bāzes mēnešalgu vai ostas valdes priekšsēdētāja bāzes mēnešalgu iegūst skaitli, kas ir lielāks par 6, tad kārtējā gada attiecīgo bāzes mēnešalgu indeksē ar skaitli 6."
B44: Likumprojektā "Par valsts budžetu 2023. gadam un budžeta ietvaru 2023., 2024. un 2025. gadam" ietvert regulējumu par bāzes mēnešalgas pieauguma mazinošo mehānismu, nosakot robežvērtību bāzes mēnešalgas apmēra, finanšu un apdrošināšanas jomas bāzes mēnešalgas apmēra, elektronisko sakaru un enerģētikas nozares bāzes mēnešalgas apmēra un ostas valdes priekšsēdētāja bāzes mēnešalgas aprēķinam kā absolūtu skaitli 6, atbilstoši vidējam darba samaksas pieaugumam pēdējos gados. Ievērojot minēto, ja, aprēķinot bāzes mēnešalgas apmēru, finanšu un apdrošināšanas jomas bāzes mēnešalgas apmēru, elektronisko sakaru un enerģētikas nozares bāzes mēnešalgas apmēru vai ostas valdes priekšsēdētāja bāzes mēnešalgas apmēru, tiks iegūts skaitlis (Valsts un pašvaldību institūciju amatpersonu un darbinieku atlīdzības likuma 4. panta otrās daļas 2. punkts, desmitās daļas 2. punkts, vienpadsmitās daļas 2. punkts, Ministru kabineta 2010. gada 10. augusta noteikumu Nr. 741 "Noteikumi par ostas valdes locekļu mēnešalgu un speciālo piemaksu" 5.2. apakšpunkts), kas būs lielāks par “6”, tad kārtējā gada attiecīgo bāzes mēnešalgu indeksēs ar skaitli “6”. Savukārt, ja skaitlis būs mazāks par “6”, tad indeksēs ar iegūto skaitli. Tādējādi, kad valsts kopējā ekonomiskā izaugsme saglabājas ar lēnu pieauguma tempu, tad attiecīgi publiskajam sektoram, kurš tiešā mērā ir atkarīgs no privātā sektora un valsts kopējās izaugsmes, tiek ierobežots kopējais izaugsmes temps, vienlaikus lielāku vērību pievēršot darba ražīgumam, ko raksturo katra darbinieka personīgais sniegums, kas tiek vērtēts kā viens no mēnešalgas tālākajiem individuālajiem noteikšanas kritērijiem.
B46: 13. Finanšu ministrija
A47: =A42+1 -> 8 | C47: Kopsavilkuma skaitļus likumprojekta tekstā un pielikumos precizēt pēc balsojumiem par konkrētām pielikumu pozīcijām. | D47: Atbalstīt

Sheet MK
A1: Nr.p.k. | C1: Pieņemts pirmajā lasījumā | D1: Priekšlikums par izmaiņām | F1: Pieņemts pirmajā lasījumā | G1: Priekšlikums par izmaiņām | H1: Priekšlikums MK atzinumam
B4: Par likumprojekta "Par valsts budžetu 2023.gadam un budžeta ietvaru 2023., 2024. un 2025.gadam" skaitlisko daļu:
B6: Sadalījumā pa budžeta resoriem
B8: 03. Ministru kabinets
A9: =1 -> 1 | B9: 25. Pārresoru koordinācijas centrs | E9: 03.Ministru kabinets | H9: Atbalstīt
B10: 4.pielikums | E10: 4.pielikums
B11: 01.00.00 Pārresoru koordinācijas centra darbības nodrošināšana | E11: 01.00.00 Ministru kabineta darbības nodrošināšana, valsts pārvaldes politika | F11: `
B12: Resursi izdevumu segšanai | C12: 1790780 | D12: =D13 -> -1569018 | E12: Resursi izdevumu segšanai | F12: 10093922 | G12: =G13+G14 -> 1569018
B13: Dotācija no vispārējiem ieņēmumiem | C13: =C14 -> 1790780 | D13: =D14 -> -1569018 | E13: Ieņēmumi no maksas pakalpojumiem un citi pašu ieņēmumi – kopā | F13: 13219 | G13: 0
B14: Vispārējā kārtībā sadalāmā dotācija no vispārējiem ieņēmumiem | C14: 1790780 | D14: -1569018 | E14: Dotācija no vispārējiem ieņēmumiem | F14: 10080703 | G14: =G15 -> 1569018
B15: Izdevumi – kopā | C15: 1790780 | D15: =D20+D16 -> -1569018 | E15: Vispārējā kārtībā sadalāmā dotācija no vispārējiem ieņēmumiem | F15: 10080703 | G15: 1569018
B16: Uzturēšanas izdevumi | C16: 1785780 | D16: =D17 -> -1564018 | E16: Izdevumi – kopā | F16: 10093922 | G16: 1569018
B17: Kārtējie izdevumi | C17: 1785780 | D17: =D18+D19 -> -1564018 | E17: Uzturēšanas izdevumi | F17: 9580685 | G17: 1564018
B18: Atlīdzība | C18: 1170162 | D18: -988928 | E18: Kārtējie izdevumi | F18: 9537995 | G18: 1564018
B19: Preces un pakalpojumi | C19: 615618 | D19: -575090 | E19: Atlīdzība | F19: 6440743 | G19: 988928
B20: Kapitālie izdevumi | C20: 5000 | D20: -5000 | E20: Preces un pakalpojumi | F20: 3097252 | G20: 575090
B21: Pamatkapitāla veidošana | C21: 5000 | D21: -5000 | E21: Subsīdijas, dotācijas, sociālie maksājumi un kompensācijas | F21: 42690 | G21: 0
E22: Sociāla rakstura maksājumi un kompensācijas | F22: 42690 | G22: 0
E23: Kapitālie izdevumi | F23: 513237 | G23: 5000
E24: Pamatkapitāla veidošana | F24: 513237 | G24: 5000
B25: 70.06.00 Latvijas pārstāvju ceļa izdevumu kompensācija, dodoties uz Eiropas Savienības Padomes darba grupu sanāksmēm un Padomes sanāksmēm | E25: 70.07.00 Latvijas pārstāvju ceļa izdevumu kompensācija, dodoties uz Eiropas Savienības Padomes darba grupu sanāksmēm un Padomes sanāksmēm | F25: `
B26: Resursi izdevumu segšanai | C26: 1990 | D26: -1990 | E26: Resursi izdevumu segšanai | F26: 156000 | G26: 1990
B27: Transferti | C27: 1990 | D27: -1990 | E27: Transferti | F27: 156000 | G27: 1990
B28: Valsts budžeta transferti | C28: 1990 | D28: =D30 -> -1990 | E28: Valsts budžeta transferti | F28: 156000 | G28: =G30 -> 1990
B29: Valsts pamatbudžeta savstarpējie transferti | C29: 1990 | D29: -1990 | E29: Valsts pamatbudžeta savstarpējie transferti | F29: 156000 | G29: 1990
B30: Valsts pamatbudžeta iestāžu saņemtie transferti no valsts pamatbudžeta | C30: 1990 | D30: -1990 | E30: Valsts pamatbudžeta iestāžu saņemtie transferti no valsts pamatbudžeta | F30: 156000 | G30: 1990
B31: Valsts pamatbudžeta iestāžu saņemtie transferti no ārvalstu finanšu palīdzības līdzekļiem | C31: 1990 | D31: -1990 | E31: Valsts pamatbudžeta iestāžu saņemtie transferti no ārvalstu finanšu palīdzības līdzekļiem | F31: 156000 | G31: 1990
B32: Izdevumi – kopā | C32: 1990 | D32: -1990 | E32: Izdevumi – kopā | F32: 156000 | G32: 1990
B33: Uzturēšanas izdevumi | C33: 1990 | D33: 1990 | E33: Uzturēšanas izdevumi | F33: 156000 | G33: 1990
B34: Kārtējie izdevumi | C34: 1990 | D34: -1990 | E34: Kārtējie izdevumi | F34: 156000 | G34: 1990
B35: Preces un pakalpojumi | C35: 1990 | D35: -1990 | E35: Preces un pakalpojumi | F35: 156000 | G35: 1990
B36: 25. Pārresoru koordinācijas centrs | E36: 03. Ministru kabinets
B37: 3.pielikums | E37: 3.pielikums
B38: 2024.gads | E38: 2024.gads
B39: I. Valsts pamatfunkciju īstenošana | E39: I. Valsts pamatfunkciju īstenošana
B40: Resursi izdevumu segšanai | C40: 1832070 | D40: =D41 -> -1832070 | E40: Resursi izdevumu segšanai | F40: 10387121 | G40: 1832070
B41: Dotācija no vispārējiem ieņēmumiem | C41: 1832070 | D41: =D42 -> -1832070 | E41: Ieņēmumi no maksas pakalpojumiem un citi pašu ieņēmumi – kopā | F41: 372621 | G41: 0
B42: Vispārējā kārtībā sadalāmā dotācija no vispārējiem ieņēmumiem | C42: 1832070 | D42: -1832070 | E42: Dotācija no vispārējiem ieņēmumiem | F42: 10014500 | G42: 1832070
B43: Izdevumi – kopā | C43: 1832070 | D43: =D48+D44 -> -1832070 | E43: Vispārējā kārtībā sadalāmā dotācija no vispārējiem ieņēmumiem | F43: 10014500 | G43: 1832070
B44: Uzturēšanas izdevumi | C44: 1832070 | D44: =D45 -> -1827070 | E44: Izdevumi – kopā | F44: 10387121 | G44: 1832070
...

Sheet SIF
A1: Nr.p.k. | C1: Pieņemts pirmajā lasījumā | D1: Priekšlikums par izmaiņām | F1: Pieņemts pirmajā lasījumā | G1: Priekšlikums par izmaiņām | H1: Priekšlikums MK atzinumam
B4: 08. Sabiedrības integrācijas fonds
A5: =MK!A9+1 -> 2 | B5: 74.Gadskārtējā valsts budžeta izpildes procesā pārdalāmais finansējums | E5: 08. Sabiedrības integrācijas fonds | H5: Atbalstīt
B6: 4.pielikums | E6: 4.pielikums
B7: 17.00.00 Finansējums Ukrainas civiliedzīvotāju atbalsta likumā noteikto pasākumu īstenošanai | E7: 01.00.00 Sabiedrības integrācijas fonda vadība | F7: `
B8: Resursi izdevumu segšanai | C8: =C9 -> 96125405 | D8: =D9 -> -765925 | E8: Resursi izdevumu segšanai | F8: =F9 -> 2716152 | G8: =G9 -> 765925
B9: Dotācija no vispārējiem ieņēmumiem | C9: =C10 -> 96125405 | D9: =D10 -> -765925 | E9: Dotācija no vispārējiem ieņēmumiem | F9: =F10 -> 2716152 | G9: =G10 -> 765925
B10: Vispārējā kārtībā sadalāmā dotācija no vispārējiem ieņēmumiem | C10: 96125405 | D10: -765925 | E10: Vispārējā kārtībā sadalāmā dotācija no vispārējiem ieņēmumiem | F10: 2716152 | G10: 765925
B11: Izdevumi – kopā | C11: =C12 -> 96125405 | D11: =D12 -> -765925 | E11: Izdevumi – kopā | F11: =F12+F21 -> 2716152 | G11: =G12+G21 -> 765925
B12: Uzturēšanas izdevumi | C12: =C13 -> 96125405 | D12: =D13 -> -765925 | E12: Uzturēšanas izdevumi | F12: =F13+F16+F18 -> 2619241 | G12: =G13+G16+G18 -> 765925
B13: Subsīdijas, dotācijas, sociālie maksājumi un kompensācijas | C13: 96125405 | D13: =D14 -> -765925 | E13: Kārtējie izdevumi | F13: =F14+F15 -> 1830173 | G13: =G14+G15 -> 22925
B14: Subsīdija sun dotācijas | C14: 96125405 | D14: -765925 | E14: Atlīdzība | F14: 783503 | G14: 17297
E15: Preces un pakalpojumi | F15: 1046670 | G15: 5628
E16: Subsīdijas, dotācijas, sociālie maksājumi un kompensācijas | F16: =F17 -> 639068 | G16: =G17 -> 728140
E17: Subsīdijas un dotācijas | F17: 639068 | G17: 728140
E18: Transferti viena budžeta veida ietvaros un uzturēšanas izdevumu transferti starp budžeta veidiem | F18: =F19 -> 150000 | G18: =G19 -> 14860
E19: Pārējie valsts budžeta uzturēšanas izdevumu transferti citiem budžetiem | F19: =F20 -> 150000 | G19: =G20 -> 14860
E20: Pārējie valsts budžeta uzturēšanas izdevumu transferti pašvaldībām | F20: 150000 | G20: 14860
E21: Kapitālie izdevumi | F21: =F22 -> 96911 | G21: =G22 -> 0
E22: Pamatkapitāla veidošana | F22: 96911
B23: Saskaņā ar Ministru kabineta 2023.gada 1.februāra rīkojumu Nr.53 "Par apropriācijas pārdali", pārdalīt finansējumu 765 925 euro apmērā no budžeta resora "74. Gadskārtējā valsts budžeta izpildes procesā pārdalāmais finansējums" programmas 17.00.00 "Finansējums Ukrainas civiliedzīvotāju atbalsta likumā noteikto pasākumu īstenošanai" uz Sabiedrības integrācijas fonda budžeta programmu 01.00.00 "Sabiedrības integrācijas fonda vadība", lai nodrošinātu valsts budžeta finansētās programmas "Latviešu valodas mācības Ukrainas civiliedzīvotājiem" projektu īstenošanu līdz 2023. gada 30. jūnijam.

Sheet AM
A1: Nr.p.k. | C1: Pieņemts pirmajā lasījumā | D1: Priekšlikums par izmaiņām | F1: Pieņemts pirmajā lasījumā | G1: Priekšlikums par izmaiņām | H1: Priekšlikums MK atzinumam
B4: 11. Ārlietu ministrija
A5: =SIF!A5+1 -> 3 | B5: 74. Gadskārtējā valsts budžeta izpildes procesā pārdalāmais finansējums | E5: 11. Ārlietu ministrija | H5: Atbalstīt
B6: 4.pielikums | E6: 4.pielikums
B7: 02.00.00 Līdzekļi neparedzētiem gadījumiem | E7: 01.04.00 Diplomātiskās misijas ārvalstīs
B8: Resursi izdevumu segšanai | C8: 80981848 | D8: -169179 | E8: Resursi izdevumu segšanai | F8: 51506251 | G8: 169179
B9: Dotācija no vispārējiem ieņēmumiem | C9: 80981848 | D9: -169179 | E9: Ieņēmumi no maksas pakalpojumiem un citi pašu ieņēmumi – kopā | F9: 1421257
B10: Vispārējā kārtībā sadalāmā dotācija no vispārējiem ieņēmumiem | C10: 80981848 | D10: -169179 | E10: Dotācija no vispārējiem ieņēmumiem | F10: 50084994 | G10: 169179
B11: Izdevumi – kopā | C11: 80981848 | D11: -169179 | E11: Vispārējā kārtībā sadalāmā dotācija no vispārējiem ieņēmumiem | F11: 50084994 | G11: 169179
B12: Uzturēšanas izdevumi | C12: 80981848 | D12: -169179 | E12: Izdevumi – kopā | F12: 51832651 | G12: 169179
B13: Subsīdijas, dotācijas, sociālie maksājumi un kompensācijas | C13: 80981848 | D13: -169179 | E13: Uzturēšanas izdevumi | F13: 50333679 | G13: 169179
B14: Subsīdijas un dotācijas | C14: 80981848 | D14: =-53467-115712 -> -169179 | E14: Kārtējie izdevumi | F14: 50081933 | G14: 169179
E15: Atlīdzība | F15: 28141341 | G15: 121869
E16: Preces un pakalpojumi | F16: 21940592 | G16: 47310
E17: Subsīdijas, dotācijas, sociālie maksājumi un kompensācijas | F17: 57600
E18: Subsīdijas un dotācijas | F18: 57600
E19: Transferti viena budžeta veida ietvaros un uzturēšanas izdevumu transferti starp budžeta veidiem | F19: 194146
E20: Valsts budžeta transferti un uzturēšanas izdevumu transferti | F20: 194146
E21: Valsts budžeta uzturēšanas izdevumu transferti no valsts pamatbudžeta uz valsts speciālo budžetu | F21: 194146
E22: Kapitālie izdevumi | F22: 1498972
E23: Pamatkapitāla veidošana | F23: 1498972
E24: Finansiālā bilance | F24: -326400
E25: Finansēšana | F25: 326400
E26: Naudas līdzekļi | F26: 326400
E27: Maksas pakalpojumu un citu pašu ieņēmumu naudas līdzekļu atlikumu izmaiņas palielinājums (-) vai samazinājums (+) | F27: 326400
B28: 74. Gadskārtējā valsts budžeta izpildes procesā pārdalāmais finansējums | E28: 11. Ārlietu ministrija
B29: 3.pielikums | E29: 3.pielikums
B30: I. Valsts pamatfunkciju īstenošana | E30: I. Valsts pamatfunkciju īstenošana
B31: 2024.gads | E31: 2024.gads
B32: Resursi izdevumu segšanai | C32: 622579402 | D32: -28226 | E32: Resursi izdevumu segšanai | F32: 86748124 | G32: 28226
B33: Dotācija no vispārējiem ieņēmumiem | C33: 622579402 | D33: -28226 | E33: Ieņēmumi no maksas pakalpojumiem un citi pašu ieņēmumi – kopā | F33: 1645798
B34: Vispārējā kārtībā sadalāmā dotācija no vispārējiem ieņēmumiem | C34: 622579402 | D34: -28226 | E34: Dotācija no vispārējiem ieņēmumiem | F34: 85102326 | G34: 28226
B35: Izdevumi – kopā | C35: 622579402 | D35: -28226 | E35: Vispārējā kārtībā sadalāmā dotācija no vispārējiem ieņēmumiem | F35: 85102326 | G35: 28226
B36: Uzturēšanas izdevumi | C36: 622579402 | D36: -28226 | E36: Izdevumi – kopā | F36: 86748124 | G36: 28226
B37: Subsīdijas, dotācijas, sociālie maksājumi un kompensācijas | C37: 622579402 | D37: -28226 | E37: Uzturēšanas izdevumi | F37: 85382123 | G37: 28226
B38: Subsīdijas un dotācijas | C38: 622579402 | D38: -28226 | E38: Kārtējie izdevumi | F38: 72985228 | G38: 28226
E39: Atlīdzība | F39: 43565391 | G39: 20835
E40: Preces un pakalpojumi | F40: 29419837 | G40: 7391
E41: Subsīdijas, dotācijas, sociālie maksājumi un kompensācijas | F41: 1683495
E42: Subsīdijas un dotācijas | F42: 1669351
...

Sheet FM
A1: Nr.p.k. | C1: Pieņemts pirmajā lasījumā | D1: Priekšlikums par izmaiņām | F1: Pieņemts pirmajā lasījumā | G1: Priekšlikums par izmaiņām | H1: Priekšlikums MK atzinumam
B4: 13. Finanšu ministrija
A5: =AM!A5+1 -> 4 | B5: 13. Finanšu ministrija | E5: 32. Prokuratūra | H5: Atbalstīt
B6: 4. pielikums | E6: 4. pielikums
B7: 33.00.00 Valsts ieņēmumu un muitas politikas nodrošināšana | E7: 01.00.00 Prokuratūras iestāžu uzturēšana
B8: Resursi izdevumu segšanai | C8: 151636480 | D8: -6735 | E8: Resursi izdevumu segšanai | F8: 46355898 | G8: 4034
B9: Dotācija no vispārējiem ieņēmumiem | C9: 151353041 | D9: -6735 | E9: Dotācija no vispārējiem ieņēmumiem | F9: 46355898 | G9: 4034
B10: Vispārējā kārtībā sadalāmā dotācija no vispārējiem ieņēmumiem | C10: 151353041 | D10: -6735 | E10: Vispārējā kārtībā sadalāmā dotācija no vispārējiem ieņēmumiem | F10: 46355898 | G10: 4034
B11: Izdevumi – kopā | C11: 151636480 | D11: -6735 | E11: Izdevumi – kopā | F11: 46355898 | G11: 4034
B12: Uzturēšanas izdevumi | C12: 134533693 | D12: -6735 | E12: Uzturēšanas izdevumi | F12: 45557972 | G12: 4034
B13: Kārtējie izdevumi | C13: 134427693 | D13: -6735 | E13: Kārtējie izdevumi | F13: 45555981 | G13: 4034
B14: Preces un pakalpojumi | C14: 37997563 | D14: -6735 | E14: Preces un pakalpojumi | F14: 7440944 | G14: 4034
E15: 13. Finanšu ministrija
E16: 4. pielikums
E17: 39.02.00 Izložu un azartspēļu organizēšanas un norises uzraudzība
E18: Resursi izdevumu segšanai | F18: 937929 | G18: 2701
E19: Dotācija no vispārējiem ieņēmumiem | F19: 933907 | G19: 2701
E20: Vispārējā kārtībā sadalāmā dotācija no vispārējiem ieņēmumiem | F20: 933907 | G20: 2701
E21: Izdevumi – kopā | F21: 937929 | G21: 2701
E22: Uzturēšanas izdevumi | F22: 929083 | G22: 2701
E23: Kārtējie izdevumi | F23: 929083 | G23: 2701
E24: Preces un pakalpojumi | F24: 173170 | G24: 2701
B25: 13. Finanšu ministrija | E25: 32. Prokuratūra
B26: 3. pielikums | E26: 3. pielikums
B27: I. Valsts pamatfunkciju īstenošana | E27: I. Valsts pamatfunkciju īstenošana
B28: 2024.gadā | E28: 2024.gadā
B29: Resursi izdevumu segšanai | C29: 933798467 | D29: =D31 -> -4034 | E29: Resursi izdevumu segšanai | F29: 46509926 | G29: 4034
B30: Dotācija no vispārējiem ieņēmumiem | C30: 933464006 | D30: -4034 | E30: Dotācija no vispārējiem ieņēmumiem | F30: 46509926 | G30: 4034
B31: Vispārējā kārtībā sadalāmā dotācija no vispārējiem ieņēmumiem | C31: 933464006 | D31: -4034 | E31: Vispārējā kārtībā sadalāmā dotācija no vispārējiem ieņēmumiem | F31: 46509926 | G31: 4034
B32: Izdevumi – kopā | C32: 929385675 | D32: -4034 | E32: Izdevumi – kopā | F32: 46509926 | G32: 4034
B33: Uzturēšanas izdevumi | C33: 889585179 | D33: -4034 | E33: Uzturēšanas izdevumi | F33: 45861984 | G33: 4034
B34: Kārtējie izdevumi | C34: 169345832 | D34: -4034 | E34: Kārtējie izdevumi | F34: 45859392 | G34: 4034
B35: Preces un pakalpojumi | C35: 46756616 | D35: -4034 | E35: Preces un pakalpojumi | F35: 7682214 | G35: 4034
B36: 2025.gadā | E36: 2025.gadā
B37: Resursi izdevumu segšanai | C37: 1109242843 | D37: =D39 -> -4034 | E37: Resursi izdevumu segšanai | F37: 48399214 | G37: 4034
B38: Dotācija no vispārējiem ieņēmumiem | C38: 1108955382 | D38: -4034 | E38: Dotācija no vispārējiem ieņēmumiem | F38: 48399214 | G38: 4034
B39: Vispārējā kārtībā sadalāmā dotācija no vispārējiem ieņēmumiem | C39: 1108955382 | D39: -4034 | E39: Vispārējā kārtībā sadalāmā dotācija no vispārējiem ieņēmumiem | F39: 48399214 | G39: 4034
B40: Izdevumi – kopā | C40: 1105705051 | D40: -4034 | E40: Izdevumi – kopā | F40: 48399214 | G40: 4034
B41: Uzturēšanas izdevumi | C41: 1069130657 | D41: -4034 | E41: Uzturēšanas izdevumi | F41: 46496673 | G41: 4034
B42: Kārtējie izdevumi | C42: 169446810 | D42: -4034 | E42: Kārtējie izdevumi | F42: 46494081 | G42: 4034
...

Sheet IeM
A1: Nr.p.k. | C1: Pieņemts pirmajā lasījumā | D1: Priekšlikums par izmaiņām | F1: Pieņemts pirmajā lasījumā | G1: Priekšlikums par izmaiņām | H1: Priekšlikums MK atzinumam
B4: 14. Iekšlietu ministrija
A5: =FM!A136+1 -> 6 | B5: 14. Iekšlietu ministrija | H5: Atbalstīt
B6: 4.pielikums
B7: 38.05.00 Veselības aprūpe un fiziskā sagatavotība
B8: Resursi izdevumu segšanai | C8: 6005649 | D8: =D9+D10 -> 0
B9: Ieņēmumi no maksas pakalpojumiem un citi pašu ieņēmumi – kopā | C9: 26912
B10: Dotācija no vispārējiem ieņēmumiem | C10: 5978737 | D10: =D11 -> 0
B11: Vispārējā kārtībā sadalāmā dotācija no vispārējiem ieņēmumiem | C11: 5978737
B12: Izdevumi – kopā | C12: 6005649 | D12: =D13 -> 0
B13: Uzturēšanas izdevumi | C13: 6000233 | D13: =D14+D17+D20 -> 0
B14: Kārtējie izdevumi | C14: 5924563 | D14: =D15+D16 -> 0
B15: Atlīdzība | C15: 3919713 | D15: -10279
B16: Preces un pakalpojumi | C16: 2004850 | D16: 10279
B17: Subsīdijas, dotācijas, sociālie maksājumi un kompensācijas | C17: 75670
B18: Sociāla rakstura maksājumi un kompensācijas | C18: 75670
B19: Kapitālie izdevumi | C19: 5416
B20: Pamatkapitāla veidošana | C20: 5416
B21: 14. Iekšlietu ministrija
B22: 3.pielikums
B23: I. Valsts pamatfunkciju īstenošana
B24: 2024.gads
B25: Resursi izdevumu segšanai | C25: 528934950 | D25: 0
B26: Ieņēmumi no maksas pakalpojumiem un citi pašu ieņēmumi – kopā | C26: 4089396
B27: Dotācija no vispārējiem ieņēmumiem | C27: 524845554
B28: Vispārējā kārtībā sadalāmā dotācija no vispārējiem ieņēmumiem | C28: 524845554
B29: Izdevumi – kopā | C29: 528934950 | D29: 0
B30: Uzturēšanas izdevumi | C30: 515450877
B31: Kārtējie izdevumi | C31: 483364982
B32: Atlīdzība | C32: 350547191 | D32: -13706
B33: Preces un pakalpojumi | C33: 132817791 | D33: 13706
B34: Subsīdijas, dotācijas, sociālie maksājumi un kompensācijas | C34: 29811493
B35: Subsīdijas un dotācijas | C35: 29550781
B36: Sociāla rakstura maksājumi un kompensācijas | C36: 260712
B37: Kārtējie maksājumi Eiropas Savienības budžetā un starptautiskā sadarbība | C37: 139110
B38: Starptautiskā sadarbība | C38: 139110
B39: Transferti viena budžeta veida ietvaros un uzturēšanas izdevumu transferti starp budžeta veidiem | C39: 2135292
B40: Valsts budžeta transferti un uzturēšanas izdevumu transferti | C40: 751236
B41: Valsts budžeta uzturēšanas izdevumu transferti no valsts pamatbudžeta uz valsts speciālo budžetu | C41: 7776
B42: Valsts budžeta transferti no valsts pamatbudžeta uz valsts pamatbudžetu | C42: 743460
...

Sheet IZM
A1: Nr.p.k. | C1: Pieņemts pirmajā lasījumā | D1: Priekšlikums par izmaiņām | F1: Pieņemts pirmajā lasījumā | G1: Priekšlikums par izmaiņām | H1: Priekšlikums MK atzinumam
B4: 15. Izglītības un zinātnes ministrija
A5: =IeM!A415+1 -> 18 | B5: Valsts budžeta ieņēmumi | E5: 15. Izglītības un zinātnes ministrija | H5: Atbalstīt
B6: 2.pielikums | E6: 4.pielikums
B7: Valsts pamatbudžeta ieņēmumi | E7: 42.06.00 Valsts izglītības satura centra darbības nodrošināšana | F7: `
B8: Nodeva par valsts valodas prasmes atestāciju profesionālo un amata pienākumu veikšanai | D8: 1040000 | E8: Resursi izdevumu segšanai | F8: 3305784 | G8: 1040000
E9: Dotācija no vispārējiem ieņēmumiem | F9: 3172237 | G9: 1040000
E10: Vispārējā kārtībā sadalāmā dotācija no vispārējiem ieņēmumiem | F10: 3172237 | G10: 1040000
E11: Izdevumi – kopā | F11: 3305784 | G11: 1040000
E12: Uzturēšanas izdevumi | F12: 3284319 | G12: =G13 -> 1016000
E13: Kārtējie izdevumi | F13: 3267245 | G13: =G14+G15 -> 1016000
E14: Atlīdzība | F14: 2763405 | G14: 853503
E15: Preces un pakalpojumi | F15: 503840 | G15: 162497
E16: Kapitālie izdevumi | F16: 21465 | G16: 24000
E17: Pamatkapitāla veidošana | F17: 21465 | G17: 24000
B18: Valsts budžeta ieņēmumi | E18: 15. Izglītības un zinātnes ministrija
B19: 2.pielikums | E19: 3.pielikums
B20: Valsts pamatbudžeta ieņēmumi | E20: I. Valsts pamatfunkciju īstenošana
B21: 2024.gads | E21: 2024.gads
B22: Nodeva par valsts valodas prasmes atestāciju profesionālo un amata pienākumu veikšanai | D22: 152256 | E22: Resursi izdevumu segšanai | F22: 404170068 | G22: 152256
E23: Dotācija no vispārējiem ieņēmumiem | F23: 393961612 | G23: 152256
E24: Vispārējā kārtībā sadalāmā dotācija no vispārējiem ieņēmumiem | F24: 393961612 | G24: 152256
E25: Izdevumi – kopā | F25: 403428610 | G25: 152256
E26: Uzturēšanas izdevumi | F26: 396582860 | G26: 152256
E27: Kārtējie izdevumi | F27: 103823478 | G27: 152256
E28: Atlīdzība | F28: 79044573 | G28: 137559
E29: Preces un pakalpojumi | F29: 24778905 | G29: 14697
B30: 2025.gads | E30: 2025.gads
B31: Nodeva par valsts valodas prasmes atestāciju profesionālo un amata pienākumu veikšanai | D31: 152256 | E31: Resursi izdevumu segšanai | F31: 404103183 | G31: 152256
E32: Dotācija no vispārējiem ieņēmumiem | F32: 397786137 | G32: 152256
E33: Vispārējā kārtībā sadalāmā dotācija no vispārējiem ieņēmumiem | F33: 397786137 | G33: 152256
E34: Izdevumi – kopā | F34: 403391725 | G34: 152256
E35: Uzturēšanas izdevumi | F35: 396803833 | G35: 152256
E36: Kārtējie izdevumi | F36: 103678068 | G36: 152256
E37: Atlīdzība | F37: 78901363 | G37: 137559
E38: Preces un pakalpojumi | F38: 24776705 | G38: 14697
B39: Saskaņā ar Ministru kabineta 2023. gada 24. janvāra sēdes protokola Nr.4, 29.§ 6.punktu tiek palielināti ieņēmumi no valsts nodevas par valsts valodas prasmes pārbaudi un ar to saistītajiem pakalpojumiem 2023. gadā 1 040 000 euro apmērā un turpmāk ik gadu 152 256 euro apmērā, un paredzēti izdevumi no dotācijas no vispārējiem ieņēmumiem budžeta apakšprogrammā 42.06.00 "Valsts izglītības satura centra darbības nodrošināšana" 2023. gadā 1 040 000 euro apmērā un turpmāk ik gadu 152 256 euro apmērā, lai nodrošinātu valsts valodas prasmes pārbaudes procesu.

Sheet SM
A1: Nr.p.k. | C1: Pieņemts pirmajā lasījumā | D1: Priekšlikums par izmaiņām | F1: Pieņemts pirmajā lasījumā | G1: Priekšlikums par izmaiņām | H1: Priekšlikums MK atzinumam
B4: 17. Satiksmes ministrija
A5: =IZM!A5+1 -> 19 | B5: 17 Satiksmes ministrija | H5: Atbalstīt
B6: 4.pielikums
B7: 23.06.00 Valsts autoceļu uzturēšana un atjaunošana
B8: Resursi izdevumu segšanai | C8: 205111062 | D8: 0
B9: Ieņēmumi no maksas pakalpojumiem un citi pašu ieņēmumi | C9: 142287
B10: Dotācija no vispārējiem ieņēmumiem | C10: 204968775
B11: Vispārējā kārtībā sadalāmā dotācija no vispārējiem ieņēmumiem | C11: 204968775
B12: Izdevumi - kopā | C12: 205111062 | D12: 0
B13: Uzturēšanas izdevumi | C13: 69702561
B14: Kārtējie izdevumi | C14: 69702561
B15: Preces un pakalpojumi | C15: 69702561
B16: Kapitālie izdevumi | C16: 135408501
B17: Pamatkapitāla veidošana | C17: 133408501 | D17: -1000000
B18: Kapitālo izdevumu transferti | C18: 2000000
B19: Pārējie valsts budžeta kapitālo izdevumu transferti citiem budžetiem | C19: 2000000
B20: Pārējie valsts budžeta kapitālo izdevumu transferti pašvaldībām | C20: 2000000 | D20: 1000000
B21: 17 Satiksmes ministrija
B22: 3.pielikums
B23: I. Valsts pamatfunkciju īstenošana
B24: 2024. gads
B25: Resursi izdevumu segšanai | C25: 492 560 204 | D25: 0
B26: Ieņēmumi no maksas pakalpojumiem un citi pašu ieņēmumi | C26: 1 099 481
B27: Dotācija no vispārējiem ieņēmumiem | C27: 491 460 723
B28: Vispārējā kārtībā sadalāmā dotācija no vispārējiem ieņēmumiem | C28: 491 460 723
B29: Izdevumi - kopā | C29: 493 011 034 | D29: 0
B30: Uzturēšanas izdevumi | C30: 307 883 640
B31: Kārtējie izdevumi | C31: 93 416 796
B32: Atlīdzība | C32: 5 544 790
B33: Preces un pakalpojumi | C33: 87 872 006
B34: Subsīdijas, dotācijas un sociālie pabalsti | C34: 157 706 655
B35: Subsīdijas un dotācijas | C35: 157 706 655
B36: Kārtējie maksājumi Eiropas Savienības budžetā un starptautiskā sadarbība | C36: 333 220
B37: Starptautiskā sadarbība | C37: 333 220
B38: Transferti viena budžeta veida ietvaros un uzturēšanas izdevumu transferti starp budžeta veidiem | C38: 56 426 969
B39: Valsts budžeta transferti un uzturēšanas izdevumu transferti | C39: 2 400
B40: Valsts budžeta uzturēšanas izdevumu transferti no valsts pamatbudžeta uz valsts speciālo budžetu | C40: 2 400
B41: Pārējie valsts budžeta uzturēšanas izdevumu transferti citiem budžetiem | C41: 56 424 569
... B44: Kapitālie izdevumi | C44: 185 127 394
...

Sheet LM
A1: Nr.p.k. | C1: Pieņemts pirmajā lasījumā | D1: Priekšlikums par izmaiņām | F1: Pieņemts pirmajā lasījumā | G1: Priekšlikums par izmaiņām | H1: Priekšlikums MK atzinumam
B4: 18. Labklājības ministrija
A5: =SM!A84+1 -> 21 | B5: 74. Gadskārtējā valsts budžeta izpildes procesā pārdalāmais finansējums | E5: 18. Labklājības ministrija | H5: Atbalstīt
B6: 4.pielikums | E6: 4.pielikums
B7: 02.00.00 Līdzekļi neparedzētiem gadījumiem | E7: 99.00.00 Līdzekļu neparedzētiem gadījumiem izlietojums
B8: Resursi izdevumu segšanai | C8: =C9 -> 80981848 | D8: =D9 -> -15000 | E8: Resursi izdevumu segšanai | F8: =F9 -> 0 | G8: =G9 -> 15000
B9: Dotācija no vispārējiem ieņēmumiem | C9: =C10 -> 80981848 | D9: =D10 -> -15000 | E9: Dotācija no vispārējiem ieņēmumiem | F9: =F10 -> 0 | G9: =G10 -> 15000
B10: Vispārējā kārtībā sadalāmā dotācija no vispārējiem ieņēmumiem | C10: =C11 -> 80981848 | D10: =D11 -> -15000 | E10: Vispārējā kārtībā sadalāmā dotācija no vispārējiem ieņēmumiem | F10: =F11 -> 0 | G10: =G11 -> 15000
B11: Izdevumi – kopā | C11: =C12 -> 80981848 | D11: =D12 -> -15000 | E11: Izdevumi – kopā | F11: =F12 -> 0 | G11: =G12 -> 15000
B12: Uzturēšanas izdevumi | C12: =C13 -> 80981848 | D12: =D13 -> -15000 | E12: Uzturēšanas izdevumi | F12: =F13 -> 0 | G12: =G13 -> 15000
B13: Subsīdijas, dotācijas, sociālie maksājumi un kompensācijas | C13: =C14 -> 80981848 | D13: =D14 -> -15000 | E13: Subsīdijas, dotācijas, sociālie maksājumi un kompensācijas | F13: =F14 -> 0 | G13: =G14 -> 15000
B14: Subsīdijas un dotācijas | C14: 80981848 | D14: -15000 | E14: Sociāla rakstura maksājumi un kompensācijas | F14: 0 | G14: 15000
B15: Vienreizēja sociālā pabalsta 15 000 euro apmērā izmaksāšanai Dinai Dabiņai saistībā ar trīnīšu piedzimšanu (atbilstoši Ministru kabineta 2023.gada 7.februāra rīkojumam Nr.68 (prot. Nr.6 24.§) “Par vienreizēja sociālā pabalsta piešķiršanu” un Finanšu ministrijas 2023.gada 9.februāra rīkojumam Nr.39 “Par līdzekļu piešķiršanu”).

Sheet KM
A1: Nr.p.k. | C1: Pieņemts pirmajā lasījumā | D1: Priekšlikums par izmaiņām | F1: Pieņemts pirmajā lasījumā | G1: Priekšlikums par izmaiņām | H1: Priekšlikums MK atzinumam
B4: 22. Kultūras ministrija
A5: =LM!A5+1 -> 22 | B5: 22.Kultūras ministrija | E5: 22.Kultūras ministrija | H5: Atbalstīt
B6: 21.00.00 Kultūras mantojums | E6: 19.07.00 Mākslas un literatūra
B7: 4.pielikums | E7: 4.pielikums
B8: Resursi izdevumu segšanai | C8: 77992542 | D8: -129892 | E8: Resursi izdevumu segšanai | F8: 40972399 | G8: 129892
B9: Ieņēmumi no maksas pakalpojumiem un citi pašu ieņēmumi – kopā | C9: 11173727 | E9: Dotācija no vispārējiem ieņēmumiem | F9: 40972399 | G9: 129892
B10: Transferti | C10: 100000 | E10: Vispārējā kārtībā sadalāmā dotācija no vispārējiem ieņēmumiem | F10: 40972399 | G10: 129892
B11: Valsts budžeta transferti | C11: 100000 | E11: Izdevumi – kopā | F11: 40972399 | G11: 129892
B12: Valsts pamatbudžeta savstarpējie transferti | C12: 100000 | E12: Uzturēšanas izdevumi | F12: 40972399 | G12: 129892
B13: Valsts pamatbudžeta iestāžu saņemtie transferti no valsts pamatbudžeta | C13: 100000 | E13: Kārtējie izdevumi | F13: 47821
B14: Pārējie valsts pamatbudžetā saņemtie transferti no valsts pamatbudžeta | C14: 100000 | E14: Preces un pakalpojumi | F14: 47821
B15: Dotācija no vispārējiem ieņēmumiem | C15: 66718815 | D15: -129892 | E15: Subsīdijas, dotācijas, sociālie maksājumi un kompensācijas | F15: 40924578 | G15: 129892
B16: Vispārējā kārtībā sadalāmā dotācija no vispārējiem ieņēmumiem | C16: 66718815 | D16: -129892 | E16: Subsīdijas un dotācijas | F16: 40816566 | G16: 129892
B17: Izdevumi – kopā | C17: 78257870 | D17: -129892 | E17: Sociāla rakstura maksājumi un kompensācijas | F17: 108012
B18: Uzturēšanas izdevumi | C18: 75048425 | D18: -129892
B19: Kārtējie izdevumi | C19: 60116089 | D19: -129892
B20: Atlīdzība | C20: 35394197
B21: Preces un pakalpojumi | C21: 24721892 | D21: -129892
B22: Subsīdijas, dotācijas, sociālie maksājumi un kompensācijas | C22: 10364441
B23: Subsīdijas un dotācijas | C23: 10360541
B24: Sociāla rakstura maksājumi un kompensācijas | C24: 3900
B25: Kārtējie maksājumi Eiropas Savienības budžetā un starptautiskā sadarbība | C25: 10538
B26: Starptautiskā sadarbība | C26: 10538
B27: Transferti viena budžeta veida ietvaros un uzturēšanas izdevumu transferti starp budžeta veidiem | C27: 4557357
B28: Pārējie valsts budžeta uzturēšanas izdevumu transferti citiem budžetiem | C28: 4557357
B29: Pārējie valsts budžeta uzturēšanas izdevumu transferti pašvaldībām | C29: 4134727
B30: Pārējie valsts budžeta uzturēšanas izdevumu transferti valsts budžeta daļēji finansētām atvasinātām publiskām personām un budžeta nefinansētām iestādēm | C30: 422630
B31: Kapitālie izdevumi | C31: 3209445
B32: Pamatkapitāla veidošana | C32: 3209445
B33: Finansiālā bilance | C33: -265328
... B36: Maksas pakalpojumu un citu pašu ieņēmumu naudas līdzekļu atlikumu izmaiņas palielinājums (-) vai samazinājums (+) | C36: 265328
B37: Pārdalīt izdevumus starp Kultūras ministrijas programmu 21.00.00 “Kultūras mantojums” un apakšprogrammu 19.07.00 “Mākslas un literatūra” saskaņā ar grozījumiem Ministru kabineta 2018. gada 12. jūnija rīkojumā Nr. 267 “Par finansējumu Rīgas pils Konventa Pils laukumā 3, Rīgā, un Muzeju krātuvju kompleksa Pulka ielā 8, Rīgā, būvniecības projekta, nomas maksas, pārcelšanās un aprīkojuma iegādes izdevumu segšanai”, lai daļēji segtu valsts sabiedrībai ar ierobežotu atbildību VSIA “Latvijas Leļļu teātris” pagaidu telpu nomu un uzturēšanās izdevumus 2023.gadā.

Sheet VM
A1: Nr.p.k. | C1: Pieņemts pirmajā lasījumā | D1: Priekšlikums par izmaiņām | F1: Pieņemts pirmajā lasījumā | G1: Priekšlikums par izmaiņām | H1: Priekšlikums MK atzinumam
B4: 29. Veselības ministrija
A5: =KM!A5+1 -> 23 | B5: 74.00.00 Gadskārtējā valsts budžeta izpildes procesā pārdalāmais finansējums | E5: 29. Veselības ministrija | H5: Atbalstīt
B6: 4.pielikums | E6: 4.pielikums
B7: 12.00.00 Finansējums veselības jomas pasākumiem Covid-19 infekcijas izplatības ierobežošanai | E7: 97.00.00 Nozaru vadība un politikas plānošana | F7: `
B8: Resursi izdevumu segšanai | C8: =C10 -> 63402515 | D8: =D10 -> -30000 | E8: Resursi izdevumu segšanai | F8: =F10 -> 5603469 | G8: =G9+G10 -> 30000
B9: Ieņēmumi no maksas pakalpojumiem un citi pašu ieņēmumi – kopā | E9: Ieņēmumi no maksas pakalpojumiem un citi pašu ieņēmumi – kopā
B10: Dotācija no vispārējiem ieņēmumiem | C10: =C11 -> 63402515 | D10: =D11 -> -30000 | E10: Dotācija no vispārējiem ieņēmumiem | F10: =F11 -> 5603469 | G10: =G11 -> 30000
B11: Vispārējā kārtībā sadalāmā dotācija no vispārējiem ieņēmumiem | C11: =C12 -> 63402515 | D11: =D12 -> -30000 | E11: Vispārējā kārtībā sadalāmā dotācija no vispārējiem ieņēmumiem | F11: 5603469 | G11: =G12 -> 30000
B12: Izdevumi – kopā | C12: =C13 -> 63402515 | D12: =D13 -> -30000 | E12: Izdevumi – kopā | F12: =F13+F22 -> 5603469 | G12: =G13 -> 30000
B13: Uzturēšanas izdevumi | C13: =C14 -> 63402515 | D13: =D14 -> -30000 | E13: Uzturēšanas izdevumi | F13: =F14+F17 -> 5597900 | G13: =G17 -> 30000
B14: Subsīdijas, dotācijas, sociālie maksājumi un kompensācijas | C14: 63402515 | D14: -30000 | E14: Kārtējie izdevumi | F14: =F15+F16 -> 5527703
B15: Subsīdijas un dotācijas | C15: 63402515 | D15: -30000 | E15: Atlīdzība | F15: 4334532
E16: Preces un pakalpojumi | F16: 1193171
E17: Transferti viena budžeta veida ietvaros un uzturēšanas izdevumu transferti starp budžeta veidiem | F17: 70197 | G17: =G20 -> 30000
E18: Valsts budžeta transferti un uzturēšanas izdevumu transferti | F18: 1806
E19: Valsts budžeta uzturēšanas izdevumu transferti no valsts pamatbudžeta uz valsts speciālo budžetu | F19: 1806
E20: Pārējie valsts budžeta uzturēšanas izdevumu transferti citiem budžetiem | F20: 68391 | G20: =G21 -> 30000
E21: Pārējie valsts budžeta uzturēšanas izdevumu transferti valsts budžeta daļēji finansētām atvasinātām publiskām personām un budžeta nefinansētām iestādēm | F21: 68391 | G21: 30000
E22: Kapitālie izdevumi | F22: 5569
E23: Pamatkapitāla veidošana | F23: 5569
B24: Palielināti valsts budžeta uzturēšanas izdevumu transferi budžeta nefinansētajai iestādei 30 000 euro apmērā, lai Zāļu valsts aģentūrai kompensētu veiktās izmaksas personām saistībā ar vakcīnas pret Covid-19 infekciju blakusparādību izraisīto smagu vai vidēji smagu kaitējumu pacienta veselībai vai dzīvībai (atbilstoši MK 21.02.2023. sēdē izskatītajam informatīvajam ziņojumam "Par atļauju Zāļu valsts aģentūrai uzņemties saistības" ).
A26: =A5+1 -> 24 | B26: 29. Veselības ministrija | E26: 29. Veselības ministrija | H26: Atbalstīt
B27: 4.pielikums | E27: 4.pielikums
B28: 33.14.00 Primārās ambulatorās veselības aprūpes nodrošināšana | C28: ` | E28: 33.16.00 Pārējo ambulatoro veselības aprūpes pakalpojumu nodrošināšana | F28: `
B29: Resursi izdevumu segšanai | C29: 180988345 | D29: =D31 -> -447613 | E29: Resursi izdevumu segšanai | F29: =F31+F30 -> 309888360 | G29: =G30+G31 -> 447613
B30: Ieņēmumi no maksas pakalpojumiem un citi pašu ieņēmumi – kopā | C30: 13304 | E30: Ieņēmumi no maksas pakalpojumiem un citi pašu ieņēmumi – kopā | F30: 25052
B31: Dotācija no vispārējiem ieņēmumiem | C31: 180975041 | D31: =D32 -> -447613 | E31: Dotācija no vispārējiem ieņēmumiem | F31: =F32 -> 309863308 | G31: =G32 -> 447613
B32: Vispārējā kārtībā sadalāmā dotācija no vispārējiem ieņēmumiem | C32: 180975041 | D32: =D33 -> -447613 | E32: Vispārējā kārtībā sadalāmā dotācija no vispārējiem ieņēmumiem | F32: 309863308 | G32: =G33 -> 447613
B33: Izdevumi – kopā | C33: 180988345 | D33: =D34 -> -447613 | E33: Izdevumi – kopā | F33: =F34 -> 309888360 | G33: =G34 -> 447613
B34: Uzturēšanas izdevumi | C34: 180988345 | D34: =D35 -> -447613 | E34: Uzturēšanas izdevumi | F34: =F35+F37 -> 309888360 | G34: =G35 -> 447613
B35: Subsīdijas, dotācijas, sociālie maksājumi un kompensācijas | C35: 178814569 | D35: =D36 -> -447613 | E35: Subsīdijas, dotācijas, sociālie maksājumi un kompensācijas | F35: =F36 -> 308966412 | G35: =G36 -> 447613
B36: Subsīdijas un dotācijas | C36: 178814569 | D36: -447613 | E36: Subsīdijas un dotācijas | F36: 308966412 | G36: 447613
B37: Transferti viena budžeta veida ietvaros un uzturēšanas izdevumu transferti starp budžeta veidiem | C37: 2173776 | E37: Transferti viena budžeta veida ietvaros un uzturēšanas izdevumu transferti starp budžeta veidiem | F37: =F38 -> 921948
B38: Pārējie valsts budžeta uzturēšanas izdevumu transferti citiem budžetiem | C38: 2173776 | E38: Pārējie valsts budžeta uzturēšanas izdevumu transferti citiem budžetiem | F38: =F39 -> 921948
B39: Pārējie valsts budžeta uzturēšanas izdevumu transferti pašvaldībām | C39: 2173776 | E39: Pārējie valsts budžeta uzturēšanas izdevumu transferti pašvaldībām | F39: 921948
B40: 29. Veselības ministrija | E40: 29. Veselības ministrija
B41: 3.pielikums | E41: 3.pielikums
B42: I. Valsts pamatfunkciju īstenošana | E42: I. Valsts pamatfunkciju īstenošana
B43: 2024. gads | E43: 2024. gads
...

Sheet 64.res
A1: Nr.p.k. | C1: Pieņemts pirmajā lasījumā | D1: Priekšlikums par izmaiņām | F1: Pieņemts pirmajā lasījumā | G1: Priekšlikums par izmaiņām | H1: Priekšlikums MK atzinumam
B4: 64. Dotācija pašvaldībām (13. Finanšu ministrija)
A5: =VM!A26+1 -> 25 | B5: 74. Gadskārtējā valsts budžeta izpildes procesā pārdalāmais finansējums | E5: 64.resors "Dotācija pašvaldībām" | H5: Atbalstīt
B6: 4.pielikums | E6: 4.pielikums
B7: 02.00.00 "Līdzekļi neparedzētiem gadījumiem" | E7: 01.00.00. "Dotācija pašvaldību finanšu izlīdzināšanas fondam"
B8: Resursi izdevumu segšanai | C8: 80981848 | D8: -945957 | E8: Resursi izdevumu segšanai | F8: 81692732 | G8: 945957
B9: Dotācija no vispārējiem ieņēmumiem | C9: 80981848 | D9: -945957 | E9: Dotācija no vispārējiem ieņēmumiem | F9: 81692732 | G9: 945957
B10: Vispārējā kārtībā sadalāmā dotācija no vispārējiem ieņēmumiem | C10: 80981848 | D10: -945957 | E10: Vispārējā kārtībā sadalāmā dotācija no vispārējiem ieņēmumiem | F10: 81692732 | G10: 945957
B11: Izdevumi – kopā | C11: 80981848 | D11: -945957 | E11: Izdevumi – kopā | F11: 81692732 | G11: 945957
B12: Uzturēšanas izdevumi | C12: 80981848 | D12: -945957 | E12: Uzturēšanas izdevumi | F12: 81692732 | G12: 945957
B13: Subsīdijas, dotācijas, sociālie maksājumi un kompensācijas | C13: 80981848 | D13: -945957 | E13: Transferti viena budžeta veida ietvaros un uzturēšanas izdevumu transferti starp budžeta veidiem | F13: 81692732 | G13: 945957
B14: Subsīdijas un dotācijas | C14: 80981848 | D14: -945957 | E14: Pārējie valsts budžeta uzturēšanas izdevumu transferti citiem budžetiem | F14: 81692732 | G14: 945957
E15: Pārējie valsts budžeta uzturēšanas izdevumu transferti pašvaldībām | F15: 81692732 | G15: 945957
B16: Pamatojoties uz Ministru kabineta 2023. gada 7. februāra sēdes protokollēmumu Nr.6, 27.§. veikta pārdale 945 957 euro apmērā no programmas 02.00.00 "Līdzekļi neparedzētiem gadījumiem" uz 64.resora programmu 01.01.00 "Dotācija pašvaldību finanšu izlīdzināšanas fondam", lai nodrošinātu valsts budžeta dotācijas piešķiršanu pašvaldībām, kurām izlīdzinātie ieņēmumi uz vienu izlīdzināmo vienību ir zemāki par 90 % no vidējiem izlīdzinātiem ieņēmumiem un izlīdzināto ieņēmumu pieaugums ir zemāks par 80 % no pašvaldību vidējā izlīdzināto ieņēmumu pieauguma.
B21: Finanšu ministrs | G21: A. Ašeradens
B28: Siņkovska, 26573078
B29: dace.sinkovska@fm.gov.lv
