Workbook

Sheet IZM
B2: Energoresursu izmaksu sadārdzinājums
B4: Nr.p.k. | C4: Energoresursu veids | D4: Izdevumu EKK | E4: Izdevumi pēc naudas plūsmas principa par 2021.gadu EUR | J4: Izdevumi pēc naudas plūsmas principa par 2022.gadu EUR | O4: Korekcijas (+/-), lai dati būtu salīdzināmi | P4: Skaidrojums par veiktajām korekcijām | Q4: Energoresursu izmaksu pieaugums 2022.g. janvāris - maijs | R4: Vidējās pieaugums mēnesī | S4: Vidējās pieagums gadā
E5: Janvāris (par decembri) | F5: Februāris (par janvāri) | G5: Marts (par februāri) | H5: Aprīlis (par martu) | I5: Maijs (par aprīli) | J5: Janvāris (par decembri) | K5: Februāris (par janvāri) | L5: Marts (par februāri) | M5: Aprīlis (par martu) | N5: Maijs (par aprīli) | R5: Vid.izm. Menesī | S5: Vid.izm. Menesī
B6: a | C6: b | D6: c | E6: d | F6: e | G6: f | H6: g | I6: h | J6: i | K6: j | L6: k | M6: l | N6: m | O6: n | P6: o | Q6: p=i+j+k+l+m-d-e-f-g-h+n
B7: 97.01.00 Ministrijas centrālā aparāta darbības nodrošināšana
B8: tai skaitā konts:_________________________________ (norēķinu konta numurs)
B9: 1. | C9: Kopā energoresursi: | D9: x | E9: =SUM(E10:E16) -> 8193.5 | F9: =SUM(F10:F16) -> 10132.56 | G9: =SUM(G10:G16) -> 10947.89 | H9: =SUM(H10:H16) -> 8440.11 | I9: =SUM(I10:I16) -> 6081.54 | J9: =SUM(J10:J16) -> 16021.47 | K9: =SUM(K10:K16) -> 11787.68 | L9: =SUM(L10:L16) -> 9068.71 | ... P9: =SUM(P10:P16) -> 0 | Q9: =SUM(Q10:Q11) -> 17875.53 | R9: =SUM(R10) -> 2250.444 | S9: =SUM(S10:S11) -> 37602.624 | T9: =SUM(E9:I9) -> 43795.6 | U9: =SUM(J9:N9) -> 56093.34 | V9: =U9/T9*100-100 -> 28.079853
B10: 1.1. | C10: Elektroenerģija | D10: 2223 | E10: 3418.88 | F10: =7166.26-E10 -> 3747.38 | G10: =11558.13-F10-E10 -> 4391.87 | H10: =15667.08-G10-F10-E10 -> 4108.95 | I10: =19304.22-H10-G10-F10-E10 -> 3637.14 | J10: 9047.81 | K10: =13861.83-J10 -> 4814.02 | L10: =16804.8-J10-K10 -> 2942.97 | M10: =21804.39-J10-K10-L10 -> 4999.59 | N10: =24978.65-M10-L10-K10-J10 -> 3174.26 | O10: 5577.79 | P10: Elektroenerģijas maksas samazinājums no 01.01.2022.-30.04.2022 | Q10: =ROUND(SUM(J10:N10)-SUM(E10:I10)+O10,2) -> 11252.22 | R10: =Q10/5 -> 2250.444 | S10: =R10*12 -> 27005.328 | T10: =T9/5 -> 8759.12 | U10: =T10*0.5+T10 -> 13138.68 | V10: =U10-T10 -> 4379.56 | W10: =V10*12 -> 52554.72
B11: 1.2. | C11: Siltumenerģija apkurei | D11: 2221 | E11: 4774.62 | F11: =11159.8-E11 -> 6385.18 | G11: =17715.82-F11-E11 -> 6556.02 | H11: =22046.98-G11-F11-E11 -> 4331.16 | I11: =24491.38-H11-G11-F11-E11 -> 2444.4 | J11: 6973.66 | K11: 6973.66 | L11: =20073.06-J11-K11 -> 6125.74 | M11: =26471.81-L11-K11-J11 -> 6398.75 | N11: =31114.69-M11-L11-K11-J11 -> 4642.88 | Q11: =ROUND(SUM(J11:N11)-SUM(E11:I11)+O11,2) -> 6623.31 | R11: =Q11/5 -> 1324.662 | S11: =R11*8 -> 10597.296
B12: 1.3. | C12: Dabasgāze | Q12: =ROUND(SUM(J12:N12)-SUM(E12:I12)+O12,2) -> 0
B13: 1.4. | C13: Ogles | Q13: =ROUND(SUM(J13:N13)-SUM(E13:I13)+O13,2) -> 0 | R13: =3575.11*0.2+3575.11 -> 4290.132 | S13: =R13*12 -> 51481.584
B14: 1.5. | C14: Kurināmā koksne | Q14: =ROUND(SUM(J14:N14)-SUM(E14:I14)+O14,2) -> 0
B15: 1.6. | C15: Norādīt citu konkrētu energoresursu veidu | Q15: =ROUND(SUM(J15:N15)-SUM(E15:I15)+O15,2) -> 0
B16: 1.7. | C16: Norādīt citu konkrētu energoresursu veidu | Q16: =ROUND(SUM(J16:N16)-SUM(E16:I16)+O16,2) -> 0
C18: 2022.gada ___.___________
C19: Sagatavotājs:
C20: (Vārds, Uzvārds, telefona nr., epasts)

Sheet KOPĀ
B1: Pieaugums apkurei 2022.gadam | C1: Atbalsts 50% apmērā | D1: Paskaidrojums par oktobra, novembra un decembra prognozētajām izmaksām
A2: Elektronikas un datorzinātņu iznstitūts | B2: =ROUNDUP(EDI!AE8,0) -> 69983 | C2: =ROUNDUP(B2/2,0) -> 34992 | D2: Prognoze sastādīta vadoties pēc iepriekšējā gada patēriņa, ņemot vērā prognozēto samazinājumu, kas rodas ieviešot energotaupības pasākumus un cenas apkurei - ko paziņojis Rīgas Siltums, nākošagad būs par 10% lielāka (Sākot ar 28 novembri).
A3: Latvijas Biomedicīnas pētījumu un studiju centrs | B3: =ROUNDUP(LBPSC!AE10,0) -> 149739 | C3: =ROUNDUP(B3/2,0) -> 74870 | D3: Aprēķini dabasgāzei ir balstīti uz plānoto patēriņu un 2022.gada 20.oktobrī noslēgto iepirkuma līgumu Nr. BMC 2022/25 ar SIA Enefit.
A4: Daugavpils Universitātes aģentūra LATVIJAS HIDROEKOLOĢIJAS INSTITŪTS | B4: =ROUNDUP(DULHI!AE12,0) -> 1973 | C4: =ROUNDUP(B4/2,0) -> 987 | D4: Prognoze apkurei balstīta uz granulu piegādātāja GRANDEG jauno granulu cenu tonnā (izcenojums ļoti mainīgs/granulu cenas mainās pa nedēļām)
A5: Latvijas Universitātes Cietvielu fizikas institūts | B5: =ROUNDUP(LUCFI!AE8,0) -> 16278 | C5: =ROUNDUP(B5/2,0) -> 8139 | D5: Siltumenerģijas prognoze: 1. Tiek ņemti vērā iepriekšējā gada dati. 2. Un šī gada ieviesto taupības pasākumu efekta aprēķinātais koeficents (40% ietaupījums). 3. Novembra (rēķins decembrī) prognoze balstīta uz jau patērēto siltumu par 6 dienām.
A6: LATVIJAS VALSTS KOKSNES ĶĪMIJAS INSTITŪTS | B6: =ROUNDUP(LVKĶI!AE8,0) -> 28626 | C6: =ROUNDUP(B6/2,0) -> 14313 | D6: Pieaugums gan cenas, gan patēriņa pieauguma dēļ. Patēriņš rēķināts, ņemot vērā iepriekšējo gadu pieaugumu pa mēnešiem. (formula dotajā tabulā)
A7: Latvijas Organiskās sintēzes institūts | B7: =ROUNDUP(LOSI!AE8,0) -> 70741 | C7: =ROUNDUP(B7/2,0) -> 35371 | D7: Apkures izmaksu prognozes oktobrim, novembrim un decembrim tika sastādītas, ņemot vērā pieejamo informāciju par tarifiem, pagājušā gada patēriņu, prognozēto samazinājumu no veiktajiem taupības pasākumiem, kā arī jaunā OSI biotehnoloģiju korpusa (pieslēgts š.g. oktobrī) prognozēto patēriņu
A8: Latvijas Universitātes Matemātikas un informātikas institūts | B8: =ROUNDUP(LUMII!AE8,0) -> 14591 | C8: =ROUNDUP(B8/2,0) -> 7296 | D8: Par novembri un decembri prognoze sastādīta ņemot vērā iepriekšējā gada patēriņu, ņemot vērā prognozēto samazinājumu, kas rodas no energotaupības pasākumiem un, ar šā brīža apkures cenām.
A9: KOPĀ | B9: =SUM(B2:B8) -> 351931 | C9: =SUM(C2:C8) -> 175968

Sheet Visas_ZI
B2: ZI Energoresursu izmaksu sadārdzinājums
B4: Nr.p.k. | C4: Energoresursu veids | D4: Izdevumu EKK | E4: Izdevumi pēc naudas plūsmas principa par 2021.gadu EUR | Q4: Izdevumi pēc naudas plūsmas principa par 2022.gadu EUR Faktiskie izdevumi līdz 30.septembrim un prognozētie no 1.oktobra līdz 31.decembrim | AC4: Korekcijas (+/-), lai dati būtu salīdzināmi | AD4: Skaidrojums par veiktajām korekcijām | AE4: Energoresursu izmaksu pieaugums 2022.g. janvāris - decembris | AF4: Vidējās pieaugums mēnesī | AG4: Vidējās pieagums gadā | AI4: Sadārdzinājums - septembrim, oktobrim, novembrim, decembrim
E5: Janvāris (par decembri) | F5: Februāris (par janvāri) | G5: Marts (par februāri) | H5: Aprīlis (par martu) | I5: Maijs (par aprīli) | J5: Jūnijs (par maiju) | K5: Jūlijs (par jūniju) | L5: Augusts(par jūliju) | M5: Septembris (par augustu) | N5: Oktobris (par septembri) | O5: Novembris(par oktobri) | P5: Decembris (par novembri) | Q5: Janvāris (par decembri) | R5: Februāris (par janvāri) | S5: Marts (par februāri) | T5: Aprīlis (par martu) | U5: Maijs (par aprīli) | V5: Jūnijs (par maiju) | W5: Jūlijs (par jūniju) | X5: Augusts(par jūliju) | Y5: Septembris (par augustu) | Z5: Oktobris (par septembri) | AA5: Novembris(par oktobri) | AB5: Decembris (par novembri) | AF5: Vid.izm. Menesī | AG5: Vid.izm. Menesī | AI5: Vid.izm. Menesī
B6: a | C6: b | D6: c | E6: d | F6: e | G6: f | H6: g | I6: h | J6: d | K6: e | L6: f | M6: g | N6: h | O6: g | P6: h | Q6: i | R6: j | S6: k | T6: l | U6: m | V6: i | W6: j | X6: k | Y6: l | Z6: m | AA6: l | AB6: m | AC6: n | AD6: o | AE6: p=i+j+k+l+m-d-e-f-g-h+n
B7: 1. | C7: Kopā energoresursi: | D7: x | E7: =SUM(E8:E14) -> 60177.084 | F7: =SUM(F8:F14) -> 70503.06 | G7: =SUM(G8:G14) -> 65537.032 | H7: =SUM(H8:H14) -> 51311.335 | I7: =SUM(I8:I14) -> 32046.73 | J7: =SUM(J8:J14) -> 12428.266 | K7: =SUM(K8:K14) -> 2816.6191 | L7: =SUM(L8:L14) -> 4039.575 | ... P7: =SUM(P8:P14) -> 65901.695 | Q7: =Q10+Q12+Q13+Q14 -> 8575.2 | R7: =R10+R12+R13+R14 -> 6638.56 | S7: =S10+S12+S13+S14 -> 6373.59 | T7: =T10+T12+T13+T14 -> 5062.01 | U7: =U10+U12+U13+U14 -> 3312.48 | V7: =V10+V12+V13+V14 -> 2090.55 | W7: =W10+W12+W13+W14 -> 4879.34 | X7: =X10+X12+X13+X14 -> 7437.36 | ... AC7: =AC10+AC12+AC13+AC14 -> 0 | AD7: =SUM(AD8:AD14) -> 0 | AE7: =SUM(AE8:AE14) -> 351928.31 | AF7: =SUM(AF8:AF14) -> 16684.786 | AG7: =SUM(AG8:AG14) -> 133478.29 | AJ7: =SUM(E7:P7) -> 424361.1 | AK7: =SUM(Q7:AC7) -> 204046.43 | AL7: =AJ7-AK7 -> 220314.67 | AM7: =AK7/AJ7*100-100 -> -51.916792
B8: 1.2. | C8: Siltumenerģija apkurei (2221) | E8: =EDI!E8+LBPSC!E8+DULHI!E8+LUCFI!E8+LVKĶI!E8+LOSI!E8+LUMII!E8 -> 52640.284 | F8: =EDI!F8+LBPSC!F8+DULHI!F8+LUCFI!F8+LVKĶI!F8+LOSI!F8+LUMII!F8 -> 62098.44 | G8: =EDI!G8+LBPSC!G8+DULHI!G8+LUCFI!G8+LVKĶI!G8+LOSI!G8+LUMII!G8 -> 58587.522 | H8: =EDI!H8+LBPSC!H8+DULHI!H8+LUCFI!H8+LVKĶI!H8+LOSI!H8+LUMII!H8 -> 45967.525 | I8: =EDI!I8+LBPSC!I8+DULHI!I8+LUCFI!I8+LVKĶI!I8+LOSI!I8+LUMII!I8 -> 27837.13 | J8: =EDI!J8+LBPSC!J8+DULHI!J8+LUCFI!J8+LVKĶI!J8+LOSI!J8+LUMII!J8 -> 10126.276 | K8: =EDI!K8+LBPSC!K8+DULHI!K8+LUCFI!K8+LVKĶI!K8+LOSI!K8+LUMII!K8 -> 1738.4992 | L8: =EDI!L8+LBPSC!L8+DULHI!L8+LUCFI!L8+LVKĶI!L8+LOSI!L8+LUMII!L8 -> 1299.405 | ... AB8: =EDI!AB8+LBPSC!AB8+DULHI!AB8+LUCFI!AB8+LVKĶI!AB8+LOSI!AB8+LUMII!AB8 -> 122465.95 | AE8: =ROUND(SUM(Q8:AB8)-SUM(E8:P8)+AC8,2) -> 200217.43 | AF8: =AE8/12 -> 16684.786 | AG8: =AF8*8 -> 133478.29 | AI8: 50% + janvāra mēnesis
C9: Starpība %
B10: 1.3. | C10: Dabasgāze | D10: 2229 | E10: =EDI!E10+LBPSC!E10+DULHI!E10+LUCFI!E10+LVKĶI!E10+LOSI!E10+LUMII!E1 -> 6937.85 | F10: =EDI!F10+LBPSC!F10+DULHI!F10+LUCFI!F10+LVKĶI!F10+LOSI!F10+LUMII!F1 -> 7606.02 | G10: =EDI!G10+LBPSC!G10+DULHI!G10+LUCFI!G10+LVKĶI!G10+LOSI!G10+LUMII!G1 -> 6949.51 | H10: =EDI!H10+LBPSC!H10+DULHI!H10+LUCFI!H10+LVKĶI!H10+LOSI!H10+LUMII!H1 -> 5343.81 | I10: =EDI!I10+LBPSC!I10+DULHI!I10+LUCFI!I10+LVKĶI!I10+LOSI!I10+LUMII!I1 -> 4209.6 | J10: =EDI!J10+LBPSC!J10+DULHI!J10+LUCFI!J10+LVKĶI!J10+LOSI!J10+LUMII!J1 -> 2301.99 | K10: =EDI!K10+LBPSC!K10+DULHI!K10+LUCFI!K10+LVKĶI!K10+LOSI!K10+LUMII!K1 -> 1078.12 | L10: =EDI!L10+LBPSC!L10+DULHI!L10+LUCFI!L10+LVKĶI!L10+LOSI!L10+LUMII!L1 -> 1965.77 | ... AB10: =EDI!AB10+LBPSC!AB10+DULHI!AB10+LUCFI!AB10+LVKĶI!AB10+LOSI!AB10+LUMII!AB1 -> 94733.39 | AE10: =ROUND(SUM(Q10:AB10)-SUM(E10:P10)+AC10,2) -> 149738.58
B11: 1.4. | C11: Ogles | E11: =EDI!E11+LBPSC!E11+DULHI!E11+LUCFI!E11+LVKĶI!E11+LOSI!E11+LUMII!E2 -> 0 | F11: =EDI!F11+LBPSC!F11+DULHI!F11+LUCFI!F11+LVKĶI!F11+LOSI!F11+LUMII!F2 -> 0 | G11: =EDI!G11+LBPSC!G11+DULHI!G11+LUCFI!G11+LVKĶI!G11+LOSI!G11+LUMII!G2 -> 0 | H11: =EDI!H11+LBPSC!H11+DULHI!H11+LUCFI!H11+LVKĶI!H11+LOSI!H11+LUMII!H2 -> 0 | I11: =EDI!I11+LBPSC!I11+DULHI!I11+LUCFI!I11+LVKĶI!I11+LOSI!I11+LUMII!I2 -> 0 | J11: =EDI!J11+LBPSC!J11+DULHI!J11+LUCFI!J11+LVKĶI!J11+LOSI!J11+LUMII!J2 -> 0 | K11: =EDI!K11+LBPSC!K11+DULHI!K11+LUCFI!K11+LVKĶI!K11+LOSI!K11+LUMII!K2 -> 0 | L11: =EDI!L11+LBPSC!L11+DULHI!L11+LUCFI!L11+LVKĶI!L11+LOSI!L11+LUMII!L2 -> 0 | ... AB11: =EDI!AB11+LBPSC!AB11+DULHI!AB11+LUCFI!AB11+LVKĶI!AB11+LOSI!AB11+LUMII!AB2 -> 0 | AE11: =ROUND(SUM(Q11:AB11)-SUM(E11:P11)+AC11,2) -> 0
B12: 1.5. | C12: Kurināmā koksne | E12: =EDI!E12+LBPSC!E12+DULHI!E12+LUCFI!E12+LVKĶI!E12+LOSI!E12+LUMII!E3 -> 598.95 | F12: =EDI!F12+LBPSC!F12+DULHI!F12+LUCFI!F12+LVKĶI!F12+LOSI!F12+LUMII!F3 -> 798.6 | G12: =EDI!G12+LBPSC!G12+DULHI!G12+LUCFI!G12+LVKĶI!G12+LOSI!G12+LUMII!G3 -> 0 | H12: =EDI!H12+LBPSC!H12+DULHI!H12+LUCFI!H12+LVKĶI!H12+LOSI!H12+LUMII!H3 -> 0 | I12: =EDI!I12+LBPSC!I12+DULHI!I12+LUCFI!I12+LVKĶI!I12+LOSI!I12+LUMII!I3 -> 0 | J12: =EDI!J12+LBPSC!J12+DULHI!J12+LUCFI!J12+LVKĶI!J12+LOSI!J12+LUMII!J3 -> 0 | K12: =EDI!K12+LBPSC!K12+DULHI!K12+LUCFI!K12+LVKĶI!K12+LOSI!K12+LUMII!K3 -> 0 | L12: =EDI!L12+LBPSC!L12+DULHI!L12+LUCFI!L12+LVKĶI!L12+LOSI!L12+LUMII!L3 -> 774.4 | ... AB12: =EDI!AB12+LBPSC!AB12+DULHI!AB12+LUCFI!AB12+LVKĶI!AB12+LOSI!AB12+LUMII!AB3 -> 0 | AE12: =ROUND(SUM(Q12:AB12)-SUM(E12:P12)+AC12,2) -> 1972.3
B13: 1.6. | C13: Norādīt citu konkrētu energoresursu veidu | E13: =EDI!E13+LBPSC!E13+DULHI!E13+LUCFI!E13+LVKĶI!E13+LOSI!E13+LUMII!E13 -> 0 | F13: =EDI!F13+LBPSC!F13+DULHI!F13+LUCFI!F13+LVKĶI!F13+LOSI!F13+LUMII!F13 -> 0 | G13: =EDI!G13+LBPSC!G13+DULHI!G13+LUCFI!G13+LVKĶI!G13+LOSI!G13+LUMII!G13 -> 0 | H13: =EDI!H13+LBPSC!H13+DULHI!H13+LUCFI!H13+LVKĶI!H13+LOSI!H13+LUMII!H13 -> 0 | I13: =EDI!I13+LBPSC!I13+DULHI!I13+LUCFI!I13+LVKĶI!I13+LOSI!I13+LUMII!I13 -> 0 | J13: =EDI!J13+LBPSC!J13+DULHI!J13+LUCFI!J13+LVKĶI!J13+LOSI!J13+LUMII!J13 -> 0 | K13: =EDI!K13+LBPSC!K13+DULHI!K13+LUCFI!K13+LVKĶI!K13+LOSI!K13+LUMII!K13 -> 0 | L13: =EDI!L13+LBPSC!L13+DULHI!L13+LUCFI!L13+LVKĶI!L13+LOSI!L13+LUMII!L13 -> 0 | ... AB13: =EDI!AB13+LBPSC!AB13+DULHI!AB13+LUCFI!AB13+LVKĶI!AB13+LOSI!AB13+LUMII!AB13 -> 0 | AE13: =ROUND(SUM(Q13:AB13)-SUM(E13:P13)+AC13,2) -> 0
B14: 1.7. | C14: Norādīt citu konkrētu energoresursu veidu | E14: =EDI!E14+LBPSC!E14+DULHI!E14+LUCFI!E14+LVKĶI!E14+LOSI!E14+LUMII!E14 -> 0 | F14: =EDI!F14+LBPSC!F14+DULHI!F14+LUCFI!F14+LVKĶI!F14+LOSI!F14+LUMII!F14 -> 0 | G14: =EDI!G14+LBPSC!G14+DULHI!G14+LUCFI!G14+LVKĶI!G14+LOSI!G14+LUMII!G14 -> 0 | H14: =EDI!H14+LBPSC!H14+DULHI!H14+LUCFI!H14+LVKĶI!H14+LOSI!H14+LUMII!H14 -> 0 | I14: =EDI!I14+LBPSC!I14+DULHI!I14+LUCFI!I14+LVKĶI!I14+LOSI!I14+LUMII!I14 -> 0 | J14: =EDI!J14+LBPSC!J14+DULHI!J14+LUCFI!J14+LVKĶI!J14+LOSI!J14+LUMII!J14 -> 0 | K14: =EDI!K14+LBPSC!K14+DULHI!K14+LUCFI!K14+LVKĶI!K14+LOSI!K14+LUMII!K14 -> 0 | L14: =EDI!L14+LBPSC!L14+DULHI!L14+LUCFI!L14+LVKĶI!L14+LOSI!L14+LUMII!L14 -> 0 | ... AB14: =EDI!AB14+LBPSC!AB14+DULHI!AB14+LUCFI!AB14+LVKĶI!AB14+LOSI!AB14+LUMII!AB14 -> 0 | AE14: =ROUND(SUM(Q14:AB14)-SUM(E14:P14)+AC14,2) -> 0
C16: 2022.gada 14.septembrī | AE16: =AE8+AE10+AE11+AE12+AE13 -> 351928.31
C17: Sagatavotājs:
C18: Līga Vonda, te. 26395042, liga.vonda@biomed.lu.lv

Sheet EDI
B2: Elektronikas un datorzinātņu iznstitūts (iestādes nosaukums) Energoresursu izmaksu sadārdzinājums
B4: Nr.p.k. | C4: Energoresursu veids | D4: Izdevumu EKK | E4: Izdevumi pēc naudas plūsmas principa par 2021.gadu EUR | Q4: Izdevumi pēc naudas plūsmas principa par 2022.gadu EUR Faktiskie izdevumi līdz 30.septembrim un prognozētie no 1.oktobra līdz 31.decembrim | AC4: Korekcijas (+/-), lai dati būtu salīdzināmi | AD4: Skaidrojums par veiktajām korekcijām | AE4: Energoresursu izmaksu pieaugums 2022.g. janvāris - decembris | AF4: Vidējās pieaugums mēnesī | AG4: Vidējās pieagums gadā | AI4: Sadārdzinājums - septembrim, oktobrim, novembrim, decembrim
E5: Janvāris (par decembri) | F5: Februāris (par janvāri) | G5: Marts (par februāri) | H5: Aprīlis (par martu) | I5: Maijs (par aprīli) | J5: Jūnijs (par maiju) | K5: Jūlijs (par jūniju) | L5: Augusts(par jūliju) | M5: Septembris (par augustu) | N5: Oktobris (par septembri) | O5: Novembris(par oktobri) | P5: Decembris (par novembri) | Q5: Janvāris (par decembri) | R5: Februāris (par janvāri) | S5: Marts (par februāri) | T5: Aprīlis (par martu) | U5: Maijs (par aprīli) | V5: Jūnijs (par maiju) | W5: Jūlijs (par jūniju) | X5: Augusts(par jūliju) | Y5: Septembris (par augustu) | Z5: Oktobris (par septembri) | AA5: Novembris(par oktobri) | AB5: Decembris (par novembri) | AF5: Vid.izm. Menesī | AG5: Vid.izm. Menesī | AI5: Vid.izm. Menesī
B6: a | C6: b | D6: c | E6: d | F6: e | G6: f | H6: g | I6: h | J6: d | K6: e | L6: f | M6: g | N6: h | O6: g | P6: h | Q6: i | R6: j | S6: k | T6: l | U6: m | V6: i | W6: j | X6: k | Y6: l | Z6: m | AA6: l | AB6: m | AC6: n | AD6: o | AE6: p=i+j+k+l+m-d-e-f-g-h+n
B7: 1. | C7: Kopā energoresursi: | D7: x | E7: =SUM(E8:E14) -> 11203 | F7: =SUM(F8:F14) -> 14117 | G7: =SUM(G8:G14) -> 13762 | H7: =SUM(H8:H14) -> 10743 | I7: =SUM(I8:I14) -> 4921 | J7: =SUM(J8:J14) -> 0 | K7: =SUM(K8:K14) -> 0 | L7: =SUM(L8:L14) -> 0 | ... P7: =SUM(P8:P14) -> 11215 | Q7: =Q8 -> 17866 | R7: =R8 -> 16532 | S7: =S8 -> 12950 | T7: =T8 -> 12802 | U7: =U8 -> 6495 | V7: =V8 -> 0 | W7: =W8 -> 0 | X7: =X8 -> 0 | ... AC7: =AC8 -> 0 | AD7: =SUM(AD8:AD14) -> 0 | AE7: =SUM(AE8:AE14) -> 69983 | AF7: =SUM(AF8:AF14) -> 5831.9167 | AG7: =SUM(AG8:AG14) -> 46655.333 | AJ7: =SUM(E7:P7) -> 68482 | AK7: =SUM(Q7:AC7) -> 138465 | AL7: =AJ7-AK7 -> -69983 | AM7: =AK7/AJ7*100-100 -> 102.19182
B8: 1.2. | C8: Siltumenerģija apkurei (2221) | D8: 2221 | E8: 11203 | F8: 14117 | G8: 13762 | H8: 10743 | I8: 4921 | J8: 0 | K8: 0 | L8: 0 | M8: 0 | N8: 0 | O8: 2521 | P8: 11215 | Q8: 17866 | R8: 16532 | S8: 12950 | T8: 12802 | U8: 6495 | V8: 0 | W8: 0 | X8: 0 | Y8: 0 | Z8: 6840 | AA8: 23940 | AB8: 41040 | AE8: =ROUND(SUM(Q8:AB8)-SUM(E8:P8)+AC8,2) -> 69983 | AF8: =AE8/12 -> 5831.9167 | AG8: =AF8*8 -> 46655.333 | AI8: 50% + janvāra mēnesis
C9: Starpība % | Q9: =Q8/E8 -> 1.5947514 | R9: =R8/F8 -> 1.1710703 | S9: =S8/G8 -> 0.94099695 | T9: =T8/H8 -> 1.1916597 | U9: =U8/I8 -> 1.3198537 | AA9: =AA8/O8 -> 9.4962317 | AB9: =AB8/P8 -> 3.6593848
B10: 1.3. | C10: Dabasgāze | AE10: =ROUND(SUM(Q10:AB10)-SUM(E10:P10)+AC10,2) -> 0
B11: 1.4. | C11: Ogles | AE11: =ROUND(SUM(Q11:AB11)-SUM(E11:P11)+AC11,2) -> 0
B12: 1.5. | C12: Kurināmā koksne | AE12: =ROUND(SUM(Q12:AB12)-SUM(E12:P12)+AC12,2) -> 0
B13: 1.6. | C13: Norādīt citu konkrētu energoresursu veidu | AE13: =ROUND(SUM(Q13:AB13)-SUM(E13:P13)+AC13,2) -> 0
B14: 1.7. | C14: Norādīt citu konkrētu energoresursu veidu | AE14: =ROUND(SUM(Q14:AB14)-SUM(E14:P14)+AC14,2) -> 0
C16: 2022.gada20.septembris
C17: Sagatavotājs: Dace Leimane, 67558298, dace.leimane@edi.lv
C18: (Vārds, Uzvārds, telefona nr., epasts)

Sheet LBPSC
B2: APP Latvijas Biomedicīnas pētījumu un studiju centrs Energoresursu izmaksu sadārdzinājums
B4: Nr.p.k. | C4: Energoresursu veids | D4: Izdevumu EKK | E4: Izdevumi pēc naudas plūsmas principa par 2021.gadu EUR | Q4: Izdevumi pēc naudas plūsmas principa par 2022.gadu EUR Faktiskie izdevumi līdz 31.oktobrim un prognozētie no 1.novembra līdz 31.decembrim | AC4: Korekcijas (+/-), lai dati būtu salīdzināmi | AD4: Skaidrojums par veiktajām korekcijām | AE4: Energoresursu izmaksu pieaugums 2022.g. janvāris - decembris | AF4: Vidējās pieaugums mēnesī | AG4: Vidējās pieagums gadā | AI4: Sadārdzinājums - septembrim, oktobrim, novembrim, decembrim
E5: Janvāris (par decembri) | F5: Februāris (par janvāri) | G5: Marts (par februāri) | H5: Aprīlis (par martu) | I5: Maijs (par aprīli) | J5: Jūnijs (par maiju) | K5: Jūlijs (par jūniju) | L5: Augusts(par jūliju) | M5: Septembris (par augustu) | N5: Oktobris (par septembri) | O5: Novembris(par oktobri) | P5: Decembris (par novembri) | Q5: Janvāris (par decembri) | R5: Februāris (par janvāri) | S5: Marts (par februāri) | T5: Aprīlis (par martu) | U5: Maijs (par aprīli) | V5: Jūnijs (par maiju) | W5: Jūlijs (par jūniju) | X5: Augusts(par jūliju) | Y5: Septembris (par augustu) | Z5: Oktobris (par septembri) | AA5: Novembris(par oktobri) | AB5: Decembris (par novembri) | AF5: Vid.izm. Menesī | AG5: Vid.izm. Menesī | AI5: Vid.izm. Menesī
B6: a | C6: b | D6: c | E6: d | F6: e | G6: f | H6: g | I6: h | J6: d | K6: e | L6: f | M6: g | N6: h | O6: g | P6: h | Q6: i | R6: j | S6: k | T6: l | U6: m | V6: i | W6: j | X6: k | Y6: l | Z6: m | AA6: l | AB6: m | AC6: n | AD6: o | AE6: p=i+j+k+l+m-d-e-f-g-h+n
B7: 1. | C7: Kopā energoresursi: | D7: x | E7: =SUM(E8:E14) -> 6937.85 | F7: =SUM(F8:F14) -> 7606.02 | G7: =SUM(G8:G14) -> 6949.51 | H7: =SUM(H8:H14) -> 5343.81 | I7: =SUM(I8:I14) -> 4209.6 | J7: =SUM(J8:J14) -> 2301.99 | K7: =SUM(K8:K14) -> 1078.12 | L7: =SUM(L8:L14) -> 1965.77 | ... P7: =SUM(P8:P14) -> 5214.48 | Q7: =Q10 -> 7831.05 | R7: =R10 -> 6638.56 | S7: =S10 -> 5357.19 | T7: =T10 -> 5062.01 | U7: =U10 -> 3312.48 | V7: =V10 -> 2090.55 | W7: =W10 -> 4879.34 | X7: =X10 -> 5876.46 | ... AC7: =AC10 -> 0 | AD7: =SUM(AD8:AD14) -> 0 | AE7: =SUM(AE8:AE14) -> 149738.58 | AF7: =SUM(AF8:AF14) -> 0 | AG7: =SUM(AG8:AG14) -> 0 | AJ7: =SUM(E7:P7) -> 49292.4 | AK7: =SUM(Q7:AC7) -> 199030.98 | AL7: =AJ7-AK7 -> -149738.58 | AM7: =AK7/AJ7*100-100 -> 303.7762
B8: 1.2. | C8: Siltumenerģija apkurei (2221) | AE8: =ROUND(SUM(Q8:AB8)-SUM(E8:P8)+AC8,2) -> 0 | AF8: =AE8/12 -> 0 | AG8: =AF8*8 -> 0 | AI8: 50% + janvāra mēnesis
C9: Starpība %
B10: 1.3. | C10: Dabasgāze | D10: 2229 | E10: 6937.85 | F10: 7606.02 | G10: 6949.51 | H10: 5343.81 | I10: 4209.6 | J10: 2301.99 | K10: 1078.12 | L10: 1965.77 | M10: 1852.35 | N10: 2193.44 | O10: 3639.46 | P10: 5214.48 | Q10: 7831.05 | R10: 6638.56 | S10: 5357.19 | T10: 5062.01 | U10: 3312.48 | V10: 2090.55 | W10: 4879.34 | X10: 5876.46 | Y10: 9905 | Z10: 9774.21 | AA10: 43570.74 | AB10: 94733.39 | AE10: =ROUND(SUM(Q10:AB10)-SUM(E10:P10)+AC10,2) -> 149738.58
B11: 1.4. | C11: Ogles | AE11: =ROUND(SUM(Q11:AB11)-SUM(E11:P11)+AC11,2) -> 0
B12: 1.5. | C12: Kurināmā koksne | AE12: =ROUND(SUM(Q12:AB12)-SUM(E12:P12)+AC12,2) -> 0
B13: 1.6. | C13: Norādīt citu konkrētu energoresursu veidu | AE13: =ROUND(SUM(Q13:AB13)-SUM(E13:P13)+AC13,2) -> 0
B14: 1.7. | C14: Norādīt citu konkrētu energoresursu veidu | AE14: =ROUND(SUM(Q14:AB14)-SUM(E14:P14)+AC14,2) -> 0
C16: 2022.gada 14.septembrī
C17: Sagatavotājs:
C18: Līga Vonda, te. 26395042, liga.vonda@biomed.lu.lv

Sheet DULHI
B2: __________________________________Daugavpils Universitātes aģentūra LATVIJAS HIDROEKOLOĢIJAS INSTITŪTS Energoresursu izmaksu sadārdzinājums
B4: Nr.p.k. | C4: Energoresursu veids | D4: Izdevumu EKK | E4: Izdevumi pēc naudas plūsmas principa par 2021.gadu EUR | Q4: Izdevumi pēc naudas plūsmas principa par 2022.gadu EUR Faktiskie izdevumi līdz 31.oktobrim un prognozētie no 1.novembra līdz 31.decembrim | AC4: Korekcijas (+/-), lai dati būtu salīdzināmi | AD4: Skaidrojums par veiktajām korekcijām | AE4: Energoresursu izmaksu pieaugums 2022.g. janvāris - decembris | AF4: Vidējās pieaugums mēnesī | AG4: Vidējās pieagums gadā | AI4: Sadārdzinājums - septembrim, oktobrim, novembrim, decembrim
E5: Janvāris (par decembri) | F5: Februāris (par janvāri) | G5: Marts (par februāri) | H5: Aprīlis (par martu) | I5: Maijs (par aprīli) | J5: Jūnijs (par maiju) | K5: Jūlijs (par jūniju) | L5: Augusts(par jūliju) | M5: Septembris (par augustu) | N5: Oktobris (par septembri) | O5: Novembris(par oktobri) | P5: Decembris (par novembri) | Q5: Janvāris (par decembri) | R5: Februāris (par janvāri) | S5: Marts (par februāri) | T5: Aprīlis (par martu) | U5: Maijs (par aprīli) | V5: Jūnijs (par maiju) | W5: Jūlijs (par jūniju) | X5: Augusts(par jūliju) | Y5: Septembris (par augustu) | Z5: Oktobris (par septembri) | AA5: Novembris(par oktobri) | AB5: Decembris (par novembri) | AF5: Vid.izm. Menesī | AG5: Vid.izm. Menesī | AI5: Vid.izm. Menesī
B6: a | C6: b | D6: c | E6: d | F6: e | G6: f | H6: g | I6: h | J6: d | K6: e | L6: f | M6: g | N6: h | O6: g | P6: h | Q6: i | R6: j | S6: k | T6: l | U6: m | V6: i | W6: j | X6: k | Y6: l | Z6: m | AA6: l | AB6: m | AC6: n | AD6: o | AE6: p=i+j+k+l+m-d-e-f-g-h+n
B7: 1. | C7: Kopā energoresursi: | D7: x | E7: =SUM(E8:E14) -> 598.95 | F7: =SUM(F8:F14) -> 798.6 | G7: =SUM(G8:G14) -> 0 | H7: =SUM(H8:H14) -> 0 | I7: =SUM(I8:I14) -> 0 | J7: =SUM(J8:J14) -> 0 | K7: =SUM(K8:K14) -> 0 | L7: =SUM(L8:L14) -> 774.4 | ... P7: =SUM(P8:P14) -> 0 | Q7: =Q12 -> 744.15 | R7: =R12 -> 0 | S7: =S12 -> 1016.4 | T7: =T12 -> 0 | U7: =U12 -> 0 | V7: =V12 -> 0 | W7: =W12 -> 0 | X7: =X12 -> 1560.9 | ... AC7: =AC12 -> 0 | AD7: =SUM(AD8:AD14) -> 0 | AE7: =SUM(AE8:AE14) -> 1972.3 | AF7: =SUM(AF8:AF14) -> 0 | AG7: =SUM(AG8:AG14) -> 0 | AJ7: =SUM(E7:P7) -> 3043.15 | AK7: =SUM(Q7:AC7) -> 5015.45 | AL7: =AJ7-AK7 -> -1972.3 | AM7: =AK7/AJ7*100-100 -> 64.811133
B8: 1.2. | C8: Siltumenerģija apkurei (2221) | AE8: =ROUND(SUM(Q8:AB8)-SUM(E8:P8)+AC8,2) -> 0 | AF8: =AE8/12 -> 0 | AG8: =AF8*8 -> 0 | AI8: 50% + janvāra mēnesis
C9: Starpība %
B10: 1.3. | C10: Dabasgāze | AE10: =ROUND(SUM(Q10:AB10)-SUM(E10:P10)+AC10,2) -> 0
B11: 1.4. | C11: Ogles | AE11: =ROUND(SUM(Q11:AB11)-SUM(E11:P11)+AC11,2) -> 0
B12: 1.5. | C12: Kurināmā koksne | D12: 2321 | E12: 598.95 | F12: 798.6 | L12: 774.4 | M12: 871.2 | Q12: 744.15 | S12: 1016.4 | X12: 1560.9 | AA12: 1694 | AE12: =ROUND(SUM(Q12:AB12)-SUM(E12:P12)+AC12,2) -> 1972.3
B13: 1.6. | C13: Norādīt citu konkrētu energoresursu veidu | AE13: =ROUND(SUM(Q13:AB13)-SUM(E13:P13)+AC13,2) -> 0
B14: 1.7. | C14: Norādīt citu konkrētu energoresursu veidu | AE14: =ROUND(SUM(Q14:AB14)-SUM(E14:P14)+AC14,2) -> 0
C16: 2022.gada 14.septembrī
C17: Sagatavotājs:
C18: Antra Aparniece, 67601995, antra.aparniece@lhei.lv

Sheet LUCFI
B2: Latvijas Universitātes Cietvielu fizikas institūts Energoresursu izmaksu sadārdzinājums
B4: Nr.p.k. | C4: Energoresursu veids | D4: Izdevumu EKK | E4: Izdevumi pēc naudas plūsmas principa par 2021.gadu EUR | Q4: Izdevumi pēc naudas plūsmas principa par 2022.gadu EUR Faktiskie izdevumi līdz 30.septembrim un prognozētie no 1.oktobra līdz 31.decembrim | AC4: Korekcijas (+/-), lai dati būtu salīdzināmi | AD4: Skaidrojums par veiktajām korekcijām | AE4: Energoresursu izmaksu pieaugums 2022.g. janvāris - decembris | AF4: Vidējās pieaugums mēnesī | AG4: Vidējās pieagums gadā | AI4: Sadārdzinājums - septembrim, oktobrim, novembrim, decembrim
E5: Janvāris (par decembri) | F5: Februāris (par janvāri) | G5: Marts (par februāri) | H5: Aprīlis (par martu) | I5: Maijs (par aprīli) | J5: Jūnijs (par maiju) | K5: Jūlijs (par jūniju) | L5: Augusts(par jūliju) | M5: Septembris (par augustu) | N5: Oktobris (par septembri) | O5: Novembris(par oktobri) | P5: Decembris (par novembri) | Q5: Janvāris (par decembri) | R5: Februāris (par janvāri) | S5: Marts (par februāri) | T5: Aprīlis (par martu) | U5: Maijs (par aprīli) | V5: Jūnijs (par maiju) | W5: Jūlijs (par jūniju) | X5: Augusts(par jūliju) | Y5: Septembris (par augustu) | Z5: Oktobris (par septembri) | AA5: Novembris(par oktobri) | AB5: Decembris (par novembri) | AF5: Vid.izm. Menesī | AG5: Vid.izm. Menesī | AI5: Vid.izm. Menesī
B6: a | C6: b | D6: c | E6: d | F6: e | G6: f | H6: g | I6: h | J6: d | K6: e | L6: f | M6: g | N6: h | O6: g | P6: h | Q6: i | R6: j | S6: k | T6: l | U6: m | V6: i | W6: j | X6: k | Y6: l | Z6: m | AA6: l | AB6: m | AC6: n | AD6: o | AE6: p=i+j+k+l+m-d-e-f-g-h+n
B7: 1. | C7: Kopā energoresursi: | D7: x | E7: =SUM(E8:E14) -> 9690.36 | F7: =SUM(F8:F14) -> 11252.24 | G7: =SUM(G8:G14) -> 10091.1 | H7: =SUM(H8:H14) -> 7480.68 | I7: =SUM(I8:I14) -> 4876.13 | J7: =SUM(J8:J14) -> 1530.93 | K7: =SUM(K8:K14) -> 225.71 | L7: =SUM(L8:L14) -> 252.39 | ... P7: =SUM(P8:P14) -> 10281.62 | Q7: =Q8 -> 15749.6 | R7: =R8 -> 12738.13 | S7: =S8 -> 10325.24 | T7: =T8 -> 11175.39 | U7: =U8 -> 6638.5 | V7: =V8 -> 1974.7 | W7: =W8 -> 570.99 | X7: =X8 -> 471.49 | ... AC7: =AC8 -> 0 | AD7: =SUM(AD8:AD14) -> 0 | AE7: =SUM(AE8:AE14) -> 16277.55 | AF7: =SUM(AF8:AF14) -> 1356.4625 | AG7: =SUM(AG8:AG14) -> 10851.7 | AJ7: =SUM(E7:P7) -> 66088.32 | AK7: =SUM(Q7:AC7) -> 82365.87 | AL7: =AJ7-AK7 -> -16277.55 | AM7: =AK7/AJ7*100-100 -> 24.629995
B8: 1.2. | C8: Siltumenerģija apkurei (2221) | D8: 2221 | E8: 9690.36 | F8: 11252.24 | G8: 10091.1 | H8: 7480.68 | I8: 4876.13 | J8: 1530.93 | K8: 225.71 | L8: 252.39 | M8: 436.02 | N8: 3509.56 | O8: 6461.58 | P8: 10281.62 | Q8: 15749.6 | R8: 12738.13 | S8: 10325.24 | T8: 11175.39 | U8: 6638.5 | V8: 1974.7 | W8: 570.99 | X8: 471.49 | Y8: 526.28 | Z8: 1347.23 | AA8: 6636.32 | AB8: 14212 | AE8: =ROUND(SUM(Q8:AB8)-SUM(E8:P8)+AC8,2) -> 16277.55 | AF8: =AE8/12 -> 1356.4625 | AG8: =AF8*8 -> 10851.7 | AI8: 50% + janvāra mēnesis
C9: Starpība % | Q9: =Q8/E8 -> 1.6252853 | R9: =R8/F8 -> 1.1320528 | S9: =S8/G8 -> 1.0232026 | T9: =T8/H8 -> 1.4939003 | U9: =U8/I8 -> 1.361428 | V9: =V8/J8 -> 1.2898696 | W9: =W8/K8 -> 2.5297506 | X9: =X8/L8 -> 1.868101 | ... AB9: =AB8/P8 -> 1.3822724
B10: 1.3. | C10: Dabasgāze | AE10: =ROUND(SUM(Q10:AB10)-SUM(E10:P10)+AC10,2) -> 0
B11: 1.4. | C11: Ogles | AE11: =ROUND(SUM(Q11:AB11)-SUM(E11:P11)+AC11,2) -> 0
B12: 1.5. | C12: Kurināmā koksne | AE12: =ROUND(SUM(Q12:AB12)-SUM(E12:P12)+AC12,2) -> 0
B13: 1.6. | C13: Norādīt citu konkrētu energoresursu veidu | AE13: =ROUND(SUM(Q13:AB13)-SUM(E13:P13)+AC13,2) -> 0
B14: 1.7. | C14: Norādīt citu konkrētu energoresursu veidu | AE14: =ROUND(SUM(Q14:AB14)-SUM(E14:P14)+AC14,2) -> 0
C16: 2022.gada ___.___________
C17: Sagatavotājs:
C18: (Vārds, Uzvārds, telefona nr., epasts)

Sheet LVKĶI
B2: LATVIJAS VALSTS KOKSNES ĶĪMIJAS INSTITŪTA Energoresursu izmaksu sadārdzinājums
B4: Nr.p.k. | C4: Energoresursu veids | D4: Izdevumu EKK | E4: Izdevumi pēc naudas plūsmas principa par 2021.gadu EUR | Q4: Izdevumi pēc naudas plūsmas principa par 2022.gadu EUR Faktiskie izdevumi līdz 31.oktobrim un prognozētie no 1.novembra līdz 31.decembrim | AC4: Korekcijas (+/-), lai dati būtu salīdzināmi | AD4: Skaidrojums par veiktajām korekcijām | AE4: Energoresursu izmaksu pieaugums 2022.g. janvāris - decembris | AF4: Vidējās pieaugums mēnesī | AG4: Vidējās pieagums gadā | AI4: Sadārdzinājums - septembrim, oktobrim, novembrim, decembrim
E5: Janvāris (par decembri) | F5: Februāris (par janvāri) | G5: Marts (par februāri) | H5: Aprīlis (par martu) | I5: Maijs (par aprīli) | J5: Jūnijs (par maiju) | K5: Jūlijs (par jūniju) | L5: Augusts(par jūliju) | M5: Septembris (par augustu) | N5: Oktobris (par septembri) | O5: Novembris(par oktobri) | P5: Decembris (par novembri) | Q5: Janvāris (par decembri) | R5: Februāris (par janvāri) | S5: Marts (par februāri) | T5: Aprīlis (par martu) | U5: Maijs (par aprīli) | V5: Jūnijs (par maiju) | W5: Jūlijs (par jūniju) | X5: Augusts(par jūliju) | Y5: Septembris (par augustu) | Z5: Oktobris (par septembri) | AA5: Novembris(par oktobri) | AB5: Decembris (par novembri) | AF5: Vid.izm. Menesī | AG5: Vid.izm. Menesī | AI5: Vid.izm. Menesī
B6: a | C6: b | D6: c | E6: d | F6: e | G6: f | H6: g | I6: h | J6: d | K6: e | L6: f | M6: g | N6: h | O6: g | P6: h | Q6: i | R6: j | S6: k | T6: l | U6: m | V6: i | W6: j | X6: k | Y6: l | Z6: m | AA6: l | AB6: m | AC6: n | AD6: o | AE6: p=i+j+k+l+m-d-e-f-g-h+n
B7: 1. | C7: Kopā energoresursi: | D7: x | E7: =SUM(E8:E14) -> 6436.4038 | F7: =SUM(F8:F14) -> 6595.4196 | G7: =SUM(G8:G14) -> 4548.4916 | H7: =SUM(H8:H14) -> 3417.6945 | I7: =SUM(I8:I14) -> 984.51045 | J7: =SUM(J8:J14) -> 364.45563 | K7: =SUM(K8:K14) -> 274.80915 | L7: =SUM(L8:L14) -> 312.77496 | ... P7: =SUM(P8:P14) -> 9123.2549 | Q7: =Q8 -> 8165.213 | R7: =R8 -> 6472.0703 | S7: =S8 -> 7488.6295 | T7: =T8 -> 4245.2003 | U7: =U8 -> 864.0973 | V7: =V8 -> 724.5601 | W7: =W8 -> 678.5559 | X7: =X8 -> 740.3869 | ... AC7: =AC8 -> 0 | AD7: =SUM(AD8:AD14) -> 0 | AE7: =SUM(AE8:AE14) -> 28625.49 | AF7: =SUM(AF8:AF14) -> 2385.4575 | AG7: =SUM(AG8:AG14) -> 19083.66 | AJ7: =SUM(E7:P7) -> 40305.757 | AK7: =SUM(Q7:AC7) -> 68931.245 | AL7: =AJ7-AK7 -> -28625.489 | AM7: =AK7/AJ7*100-100 -> 71.020845
B8: 1.2. | C8: Siltumenerģija apkurei (2221) | E8: 6436.4038 | F8: 6595.4196 | G8: 4548.4916 | H8: 3417.6945 | I8: 984.51045 | J8: 364.45563 | K8: 274.80915 | L8: 312.77496 | M8: 470.85323 | N8: 2133.0181 | O8: 5644.0707 | P8: 9123.2549 | Q8: 8165.213 | R8: 6472.0703 | S8: 7488.6295 | T8: 4245.2003 | U8: 864.0973 | V8: 724.5601 | W8: 678.5559 | X8: 740.3869 | Y8: 756.8429 | Z8: 1877.3755 | AA8: 14110.177 | AB8: 22808.137 | AE8: =ROUND(SUM(Q8:AB8)-SUM(E8:P8)+AC8,2) -> 28625.49 | AF8: =AE8/12 -> 2385.4575 | AG8: =AF8*8 -> 19083.66 | AI8: 50% + janvāra mēnesis
C9: Starpība % | Q9: =Q8/E8 -> 1.2685986 | R9: =R8/F8 -> 0.98129773 | S9: =S8/G8 -> 1.6463984 | T9: =T8/H8 -> 1.242124 | U9: =U8/I8 -> 0.87769236 | V9: =V8/J8 -> 1.9880612 | W9: =W8/K8 -> 2.4691896 | X9: =X8/L8 -> 2.3671553 | ... AB9: =AB8/P8 -> 2.5
B10: 1.3. | C10: Dabasgāze | E10: 0 | F10: 0 | G10: 0 | H10: 0 | I10: 0 | J10: 0 | K10: 0 | L10: 0 | M10: 0 | N10: 0 | O10: 0 | P10: 0 | Q10: 0 | R10: 0 | S10: 0 | T10: 0 | U10: 0 | V10: 0 | W10: 0 | X10: 0 | AE10: =ROUND(SUM(Q10:AB10)-SUM(E10:P10)+AC10,2) -> 0
B11: 1.4. | C11: Ogles | E11: 0 | F11: 0 | G11: 0 | H11: 0 | I11: 0 | J11: 0 | K11: 0 | L11: 0 | M11: 0 | N11: 0 | O11: 0 | P11: 0 | Q11: 0 | R11: 0 | S11: 0 | T11: 0 | U11: 0 | V11: 0 | W11: 0 | X11: 0 | AE11: =ROUND(SUM(Q11:AB11)-SUM(E11:P11)+AC11,2) -> 0
B12: 1.5. | C12: Kurināmā koksne | E12: 0 | F12: 0 | G12: 0 | H12: 0 | I12: 0 | J12: 0 | K12: 0 | L12: 0 | M12: 0 | N12: 0 | O12: 0 | P12: 0 | Q12: 0 | R12: 0 | S12: 0 | T12: 0 | U12: 0 | V12: 0 | W12: 0 | X12: 0 | AE12: =ROUND(SUM(Q12:AB12)-SUM(E12:P12)+AC12,2) -> 0
B13: 1.6. | C13: Norādīt citu konkrētu energoresursu veidu | E13: 0 | F13: 0 | G13: 0 | H13: 0 | I13: 0 | J13: 0 | K13: 0 | L13: 0 | M13: 0 | N13: 0 | O13: 0 | P13: 0 | Q13: 0 | R13: 0 | S13: 0 | T13: 0 | U13: 0 | V13: 0 | W13: 0 | X13: 0 | AE13: =ROUND(SUM(Q13:AB13)-SUM(E13:P13)+AC13,2) -> 0
B14: 1.7. | C14: Norādīt citu konkrētu energoresursu veidu | E14: 0 | F14: 0 | G14: 0 | H14: 0 | I14: 0 | J14: 0 | K14: 0 | L14: 0 | M14: 0 | N14: 0 | O14: 0 | P14: 0 | Q14: 0 | R14: 0 | S14: 0 | T14: 0 | U14: 0 | V14: 0 | W14: 0 | X14: 0 | AE14: =ROUND(SUM(Q14:AB14)-SUM(E14:P14)+AC14,2) -> 0
C16: 2022. gada 14.septembrī
C17: Sagatavotājs: Direktore Karīna Orlova, tel. 22496639, e-pasts karina.orlova@kki.lv

Sheet LOSI
B2: Latvijas Organiskās sintēzes institūta Energoresursu izmaksu sadārdzinājums
B4: Nr.p.k. | C4: Energoresursu veids | D4: Izdevumu EKK | E4: Izdevumi pēc naudas plūsmas principa par 2021.gadu EUR | Q4: Izdevumi pēc naudas plūsmas principa par 2022.gadu EUR Faktiskie izdevumi līdz 30.septembrim un prognozētie no 1.oktobra līdz 31.decembrim | AC4: Korekcijas (+/-), lai dati būtu salīdzināmi | AD4: Skaidrojums par veiktajām korekcijām | AE4: Energoresursu izmaksu pieaugums 2022.g. janvāris - decembris | AF4: Vidējās pieaugums mēnesī | AG4: Vidējās pieagums gadā | AI4: Sadārdzinājums - septembrim, oktobrim, novembrim, decembrim
E5: Janvāris (par decembri) | F5: Februāris (par janvāri) | G5: Marts (par februāri) | H5: Aprīlis (par martu) | I5: Maijs (par aprīli) | J5: Jūnijs (par maiju) | K5: Jūlijs (par jūniju) | L5: Augusts(par jūliju) | M5: Septembris (par augustu) | N5: Oktobris (par septembri) | O5: Novembris(par oktobri) | P5: Decembris (par novembri) | Q5: Janvāris (par decembri) | R5: Februāris (par janvāri) | S5: Marts (par februāri) | T5: Aprīlis (par martu) | U5: Maijs (par aprīli) | V5: Jūnijs (par maiju) | W5: Jūlijs (par jūniju) | X5: Augusts(par jūliju) | Y5: Septembris (par augustu) | Z5: Oktobris (par septembri) | AA5: Novembris(par oktobri) | AB5: Decembris (par novembri) | AF5: Vid.izm. Menesī | AG5: Vid.izm. Menesī | AI5: Vid.izm. Menesī
B6: a | C6: b | D6: c | E6: d | F6: e | G6: f | H6: g | I6: h | J6: d | K6: e | L6: f | M6: g | N6: h | O6: g | P6: h | Q6: i | R6: j | S6: k | T6: l | U6: m | V6: i | W6: j | X6: k | Y6: l | Z6: m | AA6: l | AB6: m | AC6: n | AD6: o | AE6: p=i+j+k+l+m-d-e-f-g-h+n
B7: 1. | C7: Kopā energoresursi: | D7: x | E7: =SUM(E8:E14) -> 23204.52 | F7: =SUM(F8:F14) -> 26795.78 | G7: =SUM(G8:G14) -> 26972.93 | H7: =SUM(H8:H14) -> 22015.15 | I7: =SUM(I8:I14) -> 15717.49 | J7: =SUM(J8:J14) -> 7999.89 | K7: =SUM(K8:K14) -> 1237.98 | L7: =SUM(L8:L14) -> 734.24 | ... P7: =SUM(P8:P14) -> 28052.34 | Q7: =Q8 -> 42293.77 | R7: =R8 -> 35939.65 | S7: =S8 -> 29659.85 | T7: =T8 -> 33573.16 | U7: =U8 -> 23064.44 | V7: =V8 -> 11555.98 | W7: =W8 -> 4678.15 | X7: =X8 -> 1564.15 | ... AC7: =AC8 -> 0 | AD7: =SUM(AD8:AD14) -> 0 | AE7: =SUM(AE8:AE14) -> 70740.39 | AF7: =SUM(AF8:AF14) -> 5895.0325 | AG7: =SUM(AG8:AG14) -> 47160.26 | AJ7: =SUM(E7:P7) -> 180906.47 | AK7: =SUM(Q7:AC7) -> 251646.86 | AL7: =AJ7-AK7 -> -70740.387 | AM7: =AK7/AJ7*100-100 -> 39.103293
B8: 1.2. | C8: Siltumenerģija apkurei (2221) | D8: 2221 | E8: 23204.52 | F8: 26795.78 | G8: 26972.93 | H8: 22015.15 | I8: 15717.49 | J8: 7999.89 | K8: 1237.98 | L8: 734.24 | M8: 1359.01 | N8: 9434.41 | O8: 17382.73 | P8: 28052.34 | Q8: 42293.77 | R8: 35939.65 | S8: 29659.85 | T8: 33573.16 | U8: 23064.44 | V8: 11555.98 | W8: 4678.15 | X8: 1564.15 | Y8: 1570.52 | Z8: 5923.48 | AA8: 25917.899 | AB8: 35905.808 | AE8: =ROUND(SUM(Q8:AB8)-SUM(E8:P8)+AC8,2) -> 70740.39 | AF8: =AE8/12 -> 5895.0325 | AG8: =AF8*8 -> 47160.26 | AI8: 50% + janvāra mēnesis
C9: Starpība % | Q9: =Q8/E8 -> 1.8226522 | R9: =R8/F8 -> 1.3412429 | S9: =S8/G8 -> 1.0996154 | T9: =T8/H8 -> 1.5250026 | U9: =U8/I8 -> 1.4674379 | V9: =V8/J8 -> 1.4445174 | W9: =W8/K8 -> 3.7788575 | X9: =X8/L8 -> 2.130298 | ... AB9: =AB8/P8 -> 1.2799577
B10: 1.3. | C10: Dabasgāze | AE10: =ROUND(SUM(Q10:AB10)-SUM(E10:P10)+AC10,2) -> 0
B11: 1.4. | C11: Ogles | AE11: =ROUND(SUM(Q11:AB11)-SUM(E11:P11)+AC11,2) -> 0
B12: 1.5. | C12: Kurināmā koksne | AE12: =ROUND(SUM(Q12:AB12)-SUM(E12:P12)+AC12,2) -> 0
B13: 1.6. | C13: Norādīt citu konkrētu energoresursu veidu | AE13: =ROUND(SUM(Q13:AB13)-SUM(E13:P13)+AC13,2) -> 0
B14: 1.7. | C14: Norādīt citu konkrētu energoresursu veidu | AE14: =ROUND(SUM(Q14:AB14)-SUM(E14:P14)+AC14,2) -> 0
C16: 2022.gada ___.___________
C17: Sagatavotājs:
C18: (Vārds, Uzvārds, telefona nr., epasts)

Sheet LUMII
B2: ____________________________Latvijas Universitātes Matemātikas un informātikas institūts Energoresursu izmaksu sadārdzinājums
B4: Nr.p.k. | C4: Energoresursu veids | D4: Izdevumu EKK | E4: Izdevumi pēc naudas plūsmas principa par 2021.gadu EUR | Q4: Izdevumi pēc naudas plūsmas principa par 2022.gadu EUR Faktiskie izdevumi līdz 31.oktobrim un prognozētie no 1.novembra līdz 31.decembrim | AC4: Korekcijas (+/-), lai dati būtu salīdzināmi | AD4: Skaidrojums par veiktajām korekcijām | AE4: Energoresursu izmaksu pieaugums 2022.g. janvāris - decembris | AF4: Vidējās pieaugums mēnesī | AG4: Vidējās pieagums gadā | AI4: Sadārdzinājums - septembrim, oktobrim, novembrim, decembrim
E5: Janvāris (par decembri) | F5: Februāris (par janvāri) | G5: Marts (par februāri) | H5: Aprīlis (par martu) | I5: Maijs (par aprīli) | J5: Jūnijs (par maiju) | K5: Jūlijs (par jūniju) | L5: Augusts(par jūliju) | M5: Septembris (par augustu) | N5: Oktobris (par septembri) | O5: Novembris(par oktobri) | P5: Decembris (par novembri) | Q5: Janvāris (par decembri) | R5: Februāris (par janvāri) | S5: Marts (par februāri) | T5: Aprīlis (par martu) | U5: Maijs (par aprīli) | V5: Jūnijs (par maiju) | W5: Jūlijs (par jūniju) | X5: Augusts(par jūliju) | Y5: Septembris (par augustu) | Z5: Oktobris (par septembri) | AA5: Novembris(par oktobri) | AB5: Decembris (par novembri) | AF5: Vid.izm. Menesī | AG5: Vid.izm. Menesī | AI5: Vid.izm. Menesī
B6: a | C6: b | D6: c | E6: d | F6: e | G6: f | H6: g | I6: h | J6: d | K6: e | L6: f | M6: g | N6: h | O6: g | P6: h | Q6: i | R6: j | S6: k | T6: l | U6: m | V6: i | W6: j | X6: k | Y6: l | Z6: m | AA6: l | AB6: m | AC6: n | AD6: o | AE6: p=i+j+k+l+m-d-e-f-g-h+n
B7: 1. | C7: Kopā energoresursi: | D7: x | E7: =SUM(E8:E14) -> 2106 | F7: =SUM(F8:F14) -> 3338 | G7: =SUM(G8:G14) -> 3213 | H7: =SUM(H8:H14) -> 2311 | I7: =SUM(I8:I14) -> 1338 | J7: =SUM(J8:J14) -> 231 | K7: =SUM(K8:K14) -> 0 | L7: =SUM(L8:L14) -> 0 | ... P7: =SUM(P8:P14) -> 2015 | Q7: =Q8 -> 4907 | R7: =R8 -> 4077 | S7: =S8 -> 3545 | T7: =T8 -> 3213 | U7: =U8 -> 2224 | V7: =V8 -> 263 | W7: =W8 -> 0 | X7: =X8 -> 0 | ... AC7: =AC8 -> 0 | AD7: =SUM(AD8:AD14) -> 0 | AE7: =SUM(AE8:AE14) -> 14591 | AF7: =SUM(AF8:AF14) -> 1215.9167 | AG7: =SUM(AG8:AG14) -> 9727.3333 | AJ7: =SUM(E7:P7) -> 16243 | AK7: =SUM(Q7:AC7) -> 30834 | AL7: =AJ7-AK7 -> -14591 | AM7: =AK7/AJ7*100-100 -> 89.829465
B8: 1.2. | C8: Siltumenerģija apkurei (2221) | D8: 2221 | E8: 2106 | F8: 3338 | G8: 3213 | H8: 2311 | I8: 1338 | J8: 231 | N8: 336 | O8: 1355 | P8: 2015 | Q8: 4907 | R8: 4077 | S8: 3545 | T8: 3213 | U8: 2224 | V8: 263 | AA8: 4105 | AB8: 8500 | AE8: =ROUND(SUM(Q8:AB8)-SUM(E8:P8)+AC8,2) -> 14591 | AF8: =AE8/12 -> 1215.9167 | AG8: =AF8*8 -> 9727.3333 | AI8: 50% + janvāra mēnesis
C9: Starpība % | Q9: =Q8/E8 -> 2.3300095 | R9: =R8/F8 -> 1.2213901 | S9: =S8/G8 -> 1.1033302 | T9: =T8/H8 -> 1.3903072 | U9: =U8/I8 -> 1.6621824 | V9: =V8/J8 -> 1.1385281 | Z9: =Z8/N8 -> 0 | AA9: =AA8/O8 -> 3.0295203 | AB9: =AB8/P8 -> 4.2183623
B10: 1.3. | C10: Dabasgāze | AE10: =ROUND(SUM(Q10:AB10)-SUM(E10:P10)+AC10,2) -> 0
B11: 1.4. | C11: Ogles | AE11: =ROUND(SUM(Q11:AB11)-SUM(E11:P11)+AC11,2) -> 0
B12: 1.5. | C12: Kurināmā koksne | AE12: =ROUND(SUM(Q12:AB12)-SUM(E12:P12)+AC12,2) -> 0
B13: 1.6. | C13: Norādīt citu konkrētu energoresursu veidu | AE13: =ROUND(SUM(Q13:AB13)-SUM(E13:P13)+AC13,2) -> 0
B14: 1.7. | C14: Norādīt citu konkrētu energoresursu veidu | AE14: =ROUND(SUM(Q14:AB14)-SUM(E14:P14)+AC14,2) -> 0
C16: 2022.gada 16.septembrī
C17: Sagatavotājs:
C18: Rihards Balodis, 29464451, rihards.balodis@lumii.lv | Y18: Janvāris 2023.par decembri
Y20: Elektrība 47630.00 EUR
Y22: Siltumenerģija 11201.00 EUR
Y24: Kopā 58831.00 EUR
